Workbook
Name Article: 'Coût Vêtement'!$A$17:$A$29
Name Désignation: #REF!
Name Designation_Prod: Tableau20[Emplacement]
Name Emplacement: Emplacement!$A$12:$B$33
Name Emplacement_divers: #REF!
Name Nombres: Nombres!$A$2:$A$501
Name Prix: 'Coût Vêtement'!$C$17:$C$29
Name Prix_emplacement: Emplacement!$B$14:$B$30
Name Prix_special: 'Coût spécifications'!$C$15:$C$25
Name Quantité: 'Coût Vêtement'!$B$17:$B$33
Name Spécialité: 'Coût spécifications'!$A$15:$A$25
Name Spécification: 'Coût spécifications'!$A$14:$C$25
Name Spécifications: #REF!
Name Vetement: 'Coût Vêtement'!$A$16:$C$29

Sheet Calcul
A1: Calcul vêtements
A3: Vêtements | B3: Quantité commandée | C3: Coût à la quantitée
A4: Veste Softshell | B4: 0 | C4: =VLOOKUP(A4,Vetement,3,0) -> 0
A6: Spécifications | B6: Nombres | C6: Prix
A7: Transfert Sérigraphie quadri | B7: 0 | C7: =VLOOKUP(A7,Spécification,3,0) -> 0
A9: Emplacement | B9: Nombres | C9: Prix
A10: Bras Droit | B10: 0 | C10: =VLOOKUP(A10,Emplacement,2,0) -> 0
A12: Frais Technique | C12: 0
A14: Frais de compostion maquette | C14: 0
A16: Montant total du devis H.T | C16: =C4+C7+C10+C12+C14 -> 0
A18: Montant total du devis T.T.C | C18: =C16*1.2 -> 0
C20: H.T | D20: T.T.C | E20: % Marge | F20: Frais de Port
A21: Montant total du devis AVEC MARGE | C21: =C16*(E21+1)+F21 -> 0 | D21: =C18*(E21+1)+F21 -> 0 | E21: 0 | F21: 0
C23: sans marge | D23: Avec marge
A24: Montant unitaire du devis H.T | C24: =(C16+F21)/100 -> 0 | D24: =C21/100 -> 0
A26: Montant unitaire du devis T.T.C | C26: =(C18+F21)/100 -> 0 | D26: =D21/100 -> 0

Sheet Coût Vêtement
A1: Coût Vêtements
A2: Quantité | B2: T-shirts blanc col rond | C2: T-shirts blanc col V | D2: T-shirts blanc col rond couleur | E2: T-shirts blanc col V couleur | F2: Tweat blanc | G2: Tweat blanc capuche | H2: Tweat blanc zippé | I2: Tweat blanc capuche zippé | J2: Chemise | K2: Tablier | L2: Blouson | M2: Parka | N2: Veste Softshell
A3: 0 | B3: 0 | C3: 0 | D3: 0 | E3: 0 | F3: 0 | G3: 0 | H3: 0 | I3: 0 | J3: 0 | K3: 0 | L3: 0 | M3: 0 | N3: 0
A4: 1 à 10 | B4: 8.5 | C4: 9.5 | D4: 10.5 | E4: 11.5 | F4: 12.5 | G4: 13.5 | H4: 14.5 | I4: 15.5 | J4: 16.5 | K4: 17.5 | L4: 18.5 | M4: 19.5 | N4: 20.5
A5: 11 à 25 | B5: 8 | C5: 9 | D5: 10 | E5: 11 | F5: 12 | G5: 13 | H5: 14 | I5: 15 | J5: 16 | K5: 17 | L5: 18 | M5: 19 | N5: 20
A6: 26 à 50 | B6: 7.25 | C6: 8.25 | D6: 9.25 | E6: 10.25 | F6: 11.25 | G6: 12.25 | H6: 13.25 | I6: 14.25 | J6: 15.25 | K6: 16.25 | L6: 17.25 | M6: 18.25 | N6: 19.25
A7: 51 à 75 | B7: 6.3 | C7: 7.3 | D7: 8.3 | E7: 9.3 | F7: 10.3 | G7: 11.3 | H7: 12.3 | I7: 13.3 | J7: 14.3 | K7: 15.3 | L7: 16.3 | M7: 17.3 | N7: 18.3
A8: 76 à 100 | B8: 5.25 | C8: 6.25 | D8: 7.25 | E8: 8.25 | F8: 9.25 | G8: 10.25 | H8: 11.25 | I8: 12.25 | J8: 13.25 | K8: 14.25 | L8: 15.25 | M8: 16.25 | N8: 17.25
A9: 101 et plus | B9: 3.95 | C9: 4.95 | D9: 5.95 | E9: 6.95 | F9: 7.95 | G9: 8.95 | H9: 9.95 | I9: 10.95 | J9: 11.95 | K9: 12.95 | L9: 13.95 | M9: 14.95 | N9: 15.95
A16: Vêtements Divers | B16: Chiffre | C16: Prix
A17: Blouson | C17: =Calcul!B4*IF(Calcul!B4>=101,L9,IF(Calcul!B4>=76,L8,IF(Calcul!B4>=51,L7,IF(Calcul!B4>=26,L6, IF(Calcul!B4>=11,L5,IF(Calcul!B4>=1,L4)))))) -> 0
A18: Chemise | C18: =Calcul!B4*IF(Calcul!B4>=101,J9,IF(Calcul!B4>=76,J8,IF(Calcul!B4>=51,J7,IF(Calcul!B4>=26,J6, IF(Calcul!B4>=11,J5,IF(Calcul!B4>=1,J4)))))) -> 0
A19: Parka | C19: =Calcul!B4*IF(Calcul!B4>=101,M9,IF(Calcul!B4>=76,M8,IF(Calcul!B4>=51,M7,IF(Calcul!B4>=26,M6, IF(Calcul!B4>=11,M5,IF(Calcul!B4>=1,M4)))))) -> 0
A20: Tablier | C20: =Calcul!B4*IF(Calcul!B4>=101,K9,IF(Calcul!B4>=76,K8,IF(Calcul!B4>=51,K7,IF(Calcul!B4>=26,K6, IF(Calcul!B4>=11,K5,IF(Calcul!B4>=1,K4)))))) -> 0
A21: T-shirts blanc col rond | C21: =Calcul!B4*IF(Calcul!B4>=101,B9,IF(Calcul!B4>=76,B8,IF(Calcul!B4>=51,B7,IF(Calcul!B4>=26,B6, IF(Calcul!B4>=11,B5,IF(Calcul!B4>=1,B4)))))) -> 0
A22: T-shirts blanc col rond couleur | C22: =Calcul!B4*IF(Calcul!B4>=101,D9,IF(Calcul!B4>=76,D8,IF(Calcul!B4>=51,D7,IF(Calcul!B4>=26,D6, IF(Calcul!B4>=11,D5,IF(Calcul!B4>=1,D4)))))) -> 0
A23: T-shirts blanc col V | C23: =Calcul!B4*IF(Calcul!B4>=101,C9,IF(Calcul!B4>=76,C8,IF(Calcul!B4>=51,C7,IF(Calcul!B4>=26,C6, IF(Calcul!B4>=11,C5,IF(Calcul!B4>=1,C4)))))) -> 0
A24: T-shirts blanc col V couleur | C24: =Calcul!B4*IF(Calcul!B4>=101,E9,IF(Calcul!B4>=76,E8,IF(Calcul!B4>=51,E7,IF(Calcul!B4>=26,E6, IF(Calcul!B4>=11,E5,IF(Calcul!B4>=1,E4)))))) -> 0
A25: Tweat blanc | C25: =Calcul!B4*IF(Calcul!B4>=101,F9,IF(Calcul!B4>=76,F8,IF(Calcul!B4>=51,F7,IF(Calcul!B4>=26,F6, IF(Calcul!B4>=11,F5,IF(Calcul!B4>=1,F4)))))) -> 0
A26: Tweat blanc capuche | C26: =Calcul!B4*IF(Calcul!B4>=101,G9,IF(Calcul!B4>=76,G8,IF(Calcul!B4>=51,G7,IF(Calcul!B4>=26,G6, IF(Calcul!B4>=11,G5,IF(Calcul!B4>=1,G4)))))) -> 0
A27: Tweat blanc capuche zippé | C27: =Calcul!B4*IF(Calcul!B4>=101,I9,IF(Calcul!B4>=76,I8,IF(Calcul!B4>=51,I7,IF(Calcul!B4>=26,I6, IF(Calcul!B4>=11,I5,IF(Calcul!B4>=1,I4)))))) -> 0
A28: Tweat blanc zippé | C28: =Calcul!B4*IF(Calcul!B4>=101,H14,IF(Calcul!B4>=76,H13,IF(Calcul!B4>=51,H12,IF(Calcul!B4>=26,H11, IF(Calcul!B4>=11,H10,IF(Calcul!B4>=1,H9)))))) -> 0
A29: Veste Softshell | C29: =Calcul!B4*IF(Calcul!B4>=101,N9,IF(Calcul!B4>=76,N8,IF(Calcul!B4>=51,N7,IF(Calcul!B4>=26,N6, IF(Calcul!B4>=11,N5,IF(Calcul!B4>=1,N4)))))) -> 0

Sheet Coût  spécifications
A1: Coût Spécifications
A2: Quantité | B2: Broderie | C2: Transfert à Chaud | D2: Flex imprimé | E2: Flex découpe | F2: Sérigraphie 1 couleur | G2: Sérigraphie 2 couleurs | H2: Sérigraphie 3 couleurs | I2: Sérigraphie quadri | J2: Transfert Sérigraphie 1 couleur | K2: Transfert Sérigraphie 2 couleurs | L2: Transfert Sérigraphie quadri
A3: 1 à 10 | B3: 8.5 | C3: 9 | D3: 9.5 | E3: 10 | F3: 10.5 | G3: 11 | H3: 11.5 | I3: 12 | J3: 12.5 | K3: 13 | L3: 13.5
A4: 11 à 25 | B4: 8 | C4: 8 | D4: 8 | E4: 8 | F4: 8 | G4: 8 | H4: 8 | I4: 8 | J4: 8 | K4: 8 | L4: 8
A5: 26 à 50 | B5: 7.25 | C5: 7.25 | D5: 7.25 | E5: 7.25 | F5: 7.25 | G5: 7.25 | H5: 7.25 | I5: 7.25 | J5: 7.25 | K5: 7.25 | L5: 7.25
A6: 51 à 75 | B6: 6.3 | C6: 6.3 | D6: 6.3 | E6: 6.3 | F6: 6.3 | G6: 6.3 | H6: 6.3 | I6: 6.3 | J6: 6.3 | K6: 6.3 | L6: 6.3
A7: 76 à 100 | B7: 5.25 | C7: 5.25 | D7: 5.25 | E7: 5.25 | F7: 5.25 | G7: 5.25 | H7: 5.25 | I7: 5.25 | J7: 5.25 | K7: 5.25 | L7: 5.25
A8: 101 et plus | B8: 3.95 | C8: 3.95 | D8: 3.95 | E8: 3.95 | F8: 3.95 | G8: 3.95 | H8: 3.95 | I8: 3.95 | J8: 3.95 | K8: 3.95 | L8: 3.95
A14: Spécifications | B14: Chiffre | C14: Prix
A15: Broderie | C15: =Calcul!B7*IF(Calcul!B7>=101,B8,IF(Calcul!B7>=76,B7,IF(Calcul!B7>=51,B6,IF(Calcul!B7>=26,B5, IF(Calcul!B7>=11,B4,IF(Calcul!B7>=1,B3)))))) -> 0
A16: Transfert à Chaud | C16: =Calcul!B7*IF(Calcul!B7>=101,C8,IF(Calcul!B7>=76,C7,IF(Calcul!B7>=51,C6,IF(Calcul!B7>=26,C5, IF(Calcul!B7>=11,C4,IF(Calcul!B7>=1,C3)))))) -> 0
A17: Flex imprimé | C17: =Calcul!B7*IF(Calcul!B7>=101,D8,IF(Calcul!B7>=76,D7,IF(Calcul!B7>=51,D6,IF(Calcul!B7>=26,D5, IF(Calcul!B7>=11,D4,IF(Calcul!B7>=1,D3)))))) -> 0
A18: Flex découpe | C18: =Calcul!B7*IF(Calcul!B7>=101,E8,IF(Calcul!B7>=76,E7,IF(Calcul!B7>=51,E6,IF(Calcul!B7>=26,E5, IF(Calcul!B7>=11,E4,IF(Calcul!B7>=1,E3)))))) -> 0
A19: Sérigraphie 1 couleur | C19: =Calcul!B7*IF(Calcul!B7>=101,F8,IF(Calcul!B7>=76,F7,IF(Calcul!B7>=51,F6,IF(Calcul!B7>=26,F5, IF(Calcul!B7>=11,F4,IF(Calcul!B7>=1,F3)))))) -> 0
A20: Sérigraphie 2 couleurs | C20: =Calcul!B7*IF(Calcul!B7>=101,G8,IF(Calcul!B7>=76,G7,IF(Calcul!B7>=51,G6,IF(Calcul!B7>=26,G5, IF(Calcul!B7>=11,G4,IF(Calcul!B7>=1,G3)))))) -> 0
A21: Sérigraphie 3 couleurs | C21: =Calcul!B7*IF(Calcul!B7>=101,H8,IF(Calcul!B7>=76,H7,IF(Calcul!B7>=51,H6,IF(Calcul!B7>=26,H5, IF(Calcul!B7>=11,H4,IF(Calcul!B7>=1,H3)))))) -> 0
A22: Sérigraphie quadri | C22: =Calcul!B7*IF(Calcul!B7>=101,I8,IF(Calcul!B7>=76,I7,IF(Calcul!B7>=51,I6,IF(Calcul!B7>=26,I5, IF(Calcul!B7>=11,I4,IF(Calcul!B7>=1,I3)))))) -> 0
A23: Transfert Sérigraphie 1 couleur | C23: =Calcul!B7*IF(Calcul!B7>=101,J8,IF(Calcul!B7>=76,J7,IF(Calcul!B7>=51,J6,IF(Calcul!B7>=26,J5, IF(Calcul!B7>=11,J4,IF(Calcul!B7>=1,J3)))))) -> 0
A24: Transfert Sérigraphie 2 couleurs | C24: =Calcul!B7*IF(Calcul!B7>=101,K8,IF(Calcul!B7>=76,K7,IF(Calcul!B7>=51,K6,IF(Calcul!B7>=26,K5, IF(Calcul!B7>=11,K4,IF(Calcul!B7>=1,K3)))))) -> 0
A25: Transfert Sérigraphie quadri | C25: =Calcul!B7*IF(Calcul!B7>=101,L8,IF(Calcul!B7>=76,L7,IF(Calcul!B7>=51,L6,IF(Calcul!B7>=26,L5, IF(Calcul!B7>=11,L4,IF(Calcul!B7>=1,L3)))))) -> 0

Sheet Emplacement
A1: Coût Spécifications
A2: Quantité | B2: Cœur | C2: Devant | D2: Dos | E2: Bras Gauche | F2: Bras Droit | G2: Cœur et Dos | H2: Devant et Dos | I2: Cœur + Bras Droit | J2: Cœur + Bras Gauche | K2: Cœur + Bras G. et D. | L2: Devant + Bras Gauche | M2: Devant + Bras Droit | N2: Devant + Bras G. et D. | O2: Dos + Bras Gauche | P2: Dos + Bras Droit | Q2: Dos + Bras G. et D. | R2: Cœur + Dos + Bras G. | S2: Cœur + Dos + Bras G. | T2: Cœur + Dos + Bras G. | U2: Cœur + Dos + Bras G.
A3: 1 à 10 | B3: 1 | C3: 2 | D3: 3 | E3: 4 | F3: 5 | G3: 6 | H3: 7 | I3: 8 | J3: 9 | K3: 10 | L3: 11 | M3: 12 | N3: 13 | O3: 14 | P3: 15 | Q3: 16 | R3: 17 | S3: 18 | T3: 19 | U3: 19
A4: 11 à 25 | B4: 8 | C4: 8 | D4: 8 | E4: 8 | F4: 8 | G4: 8 | H4: 8 | I4: 8 | J4: 8 | K4: 8 | L4: 8 | M4: 8 | N4: 8 | O4: 8 | P4: 8 | Q4: 8 | R4: 8 | S4: 8 | T4: 8 | U4: 8
A5: 26 à 50 | B5: 7.25 | C5: 7.25 | D5: 7.25 | E5: 7.25 | F5: 7.25 | G5: 7.25 | H5: 7.25 | I5: 7.25 | J5: 7.25 | K5: 7.25 | L5: 7.25 | M5: 7.25 | N5: 7.25 | O5: 7.25 | P5: 7.25 | Q5: 7.25 | R5: 7.25 | S5: 7.25 | T5: 7.25 | U5: 7.25
A6: 51 à 75 | B6: 6.3 | C6: 6.3 | D6: 6.3 | E6: 6.3 | F6: 6.3 | G6: 6.3 | H6: 6.3 | I6: 6.3 | J6: 6.3 | K6: 6.3 | L6: 6.3 | M6: 6.3 | N6: 6.3 | O6: 6.3 | P6: 6.3 | Q6: 6.3 | R6: 6.3 | S6: 6.3 | T6: 6.3 | U6: 6.3
A7: 76 à 100 | B7: 5.25 | C7: 5.25 | D7: 5.25 | E7: 5.25 | F7: 5.25 | G7: 5.25 | H7: 5.25 | I7: 5.25 | J7: 5.25 | K7: 5.25 | L7: 5.25 | M7: 5.25 | N7: 5.25 | O7: 5.25 | P7: 5.25 | Q7: 5.25 | R7: 5.25 | S7: 5.25 | T7: 5.25 | U7: 5.25
A8: 101 et plus | B8: 3.95 | C8: 3.95 | D8: 3.95 | E8: 3.95 | F8: 3.95 | G8: 3.95 | H8: 3.95 | I8: 3.95 | J8: 3.95 | K8: 3.95 | L8: 3.95 | M8: 3.95 | N8: 3.95 | O8: 3.95 | P8: 3.95 | Q8: 3.95 | R8: 3.95 | S8: 3.95 | T8: 3.95 | U8: 3.95
A12: Emplacement | B12: Colonne1
A13: Désignation Produit | B13: Prix
A14: Cœur | B14: =Calcul!B10*IF(Calcul!B10>=101,B8,IF(Calcul!B10>=76,B7,IF(Calcul!B10>=51,B6,IF(Calcul!B10>=26,B5, IF(Calcul!B10>=11,B4,IF(Calcul!B10>=1,B3)))))) -> 0
A15: Devant | B15: =Calcul!B10*IF(Calcul!B10>=101,C8,IF(Calcul!B10>=76,C7,IF(Calcul!B10>=51,C6,IF(Calcul!B10>=26,C5, IF(Calcul!B10>=11,C4,IF(Calcul!B10>=1,C3)))))) -> 0
A16: Dos | B16: =Calcul!B10*IF(Calcul!B10>=101,D8,IF(Calcul!B10>=76,D7,IF(Calcul!B10>=51,D6,IF(Calcul!B10>=26,D5, IF(Calcul!B10>=11,D4,IF(Calcul!B10>=1,D3)))))) -> 0
A17: Bras Gauche | B17: =Calcul!B10*IF(Calcul!B10>=101,E8,IF(Calcul!B10>=76,E7,IF(Calcul!B10>=51,E6,IF(Calcul!B10>=26,E5, IF(Calcul!B10>=11,E4,IF(Calcul!B10>=1,E3)))))) -> 0
A18: Bras Droit | B18: =Calcul!B10*IF(Calcul!B10>=101,F8,IF(Calcul!B10>=76,F7,IF(Calcul!B10>=51,F6,IF(Calcul!B10>=26,F5, IF(Calcul!B10>=11,F4,IF(Calcul!B10>=1,F3)))))) -> 0
A19: Cœur et Dos | B19: =Calcul!B10*IF(Calcul!B10>=101,G8,IF(Calcul!B10>=76,G7,IF(Calcul!B10>=51,G6,IF(Calcul!B10>=26,G5, IF(Calcul!B10>=11,G4,IF(Calcul!B10>=1,G3)))))) -> 0
A20: Devant et Dos | B20: =Calcul!B10*IF(Calcul!B10>=101,H8,IF(Calcul!B10>=76,H7,IF(Calcul!B10>=51,H6,IF(Calcul!B10>=26,H5, IF(Calcul!B10>=11,H4,IF(Calcul!B10>=1,H3)))))) -> 0
A21: Cœur + Bras Droit | B21: =Calcul!B10*IF(Calcul!B10>=101,I8,IF(Calcul!B10>=76,I7,IF(Calcul!B10>=51,I6,IF(Calcul!B10>=26,I5, IF(Calcul!B10>=11,I4,IF(Calcul!B10>=1,I3)))))) -> 0
A22: Cœur + Bras Gauche | B22: =Calcul!B10*IF(Calcul!B10>=101,J8,IF(Calcul!B10>=76,J7,IF(Calcul!B10>=51,J6,IF(Calcul!B10>=26,J5, IF(Calcul!B10>=11,J4,IF(Calcul!B10>=1,J3)))))) -> 0
A23: Cœur + Bras G. et D. | B23: =Calcul!B10*IF(Calcul!B10>=101,K8,IF(Calcul!B10>=76,K7,IF(Calcul!B10>=51,K6,IF(Calcul!B10>=26,K5, IF(Calcul!B10>=11,K4,IF(Calcul!B10>=1,K3)))))) -> 0
A24: Devant + Bras Gauche | B24: =Calcul!B10*IF(Calcul!B10>=101,L8,IF(Calcul!B10>=76,L7,IF(Calcul!B10>=51,L6,IF(Calcul!B10>=26,L5, IF(Calcul!B10>=11,L4,IF(Calcul!B10>=1,L3)))))) -> 0
A25: Devant + Bras Droit | B25: =Calcul!B10*IF(Calcul!B10>=101,M8,IF(Calcul!B10>=76,M7,IF(Calcul!B10>=51,M6,IF(Calcul!B10>=26,M5, IF(Calcul!B10>=11,M4,IF(Calcul!B10>=1,M3)))))) -> 0
A26: Devant + Bras G. et D. | B26: =Calcul!B10*IF(Calcul!B10>=101,N8,IF(Calcul!B10>=76,N7,IF(Calcul!B10>=51,N6,IF(Calcul!B10>=26,N5, IF(Calcul!B10>=11,N4,IF(Calcul!B10>=1,N3)))))) -> 0
A27: Dos + Bras Gauche | B27: =Calcul!B10*IF(Calcul!B10>=101,O8,IF(Calcul!B10>=76,O7,IF(Calcul!B10>=51,O6,IF(Calcul!B10>=26,O5, IF(Calcul!B10>=11,O4,IF(Calcul!B10>=1,O3)))))) -> 0
A28: Dos + Bras Droit | B28: =Calcul!B10*IF(Calcul!B10>=101,P8,IF(Calcul!B10>=76,P7,IF(Calcul!B10>=51,P6,IF(Calcul!B10>=26,P5, IF(Calcul!B10>=11,P4,IF(Calcul!B10>=1,P3)))))) -> 0
A29: Dos + Bras G. et D. | B29: =Calcul!B10*IF(Calcul!B10>=101,Q8,IF(Calcul!B10>=76,Q7,IF(Calcul!B10>=51,Q6,IF(Calcul!B10>=26,Q5, IF(Calcul!B10>=11,Q4,IF(Calcul!B10>=1,Q3)))))) -> 0
A30: Cœur + Dos + Bras G.. | B30: =Calcul!B10*IF(Calcul!B10>=101,R8,IF(Calcul!B10>=76,R7,IF(Calcul!B10>=51,R6,IF(Calcul!B10>=26,R5, IF(Calcul!B10>=11,R4,IF(Calcul!B10>=1,R3)))))) -> 0
A31: Cœur + Dos + Bras D. | B31: =Calcul!B10*IF(Calcul!B10>=101,S8,IF(Calcul!B10>=76,S7,IF(Calcul!B10>=51,S6,IF(Calcul!B10>=26,S5, IF(Calcul!B10>=11,S4,IF(Calcul!B10>=1,S3)))))) -> 0
A32: Cœur + Dos + Bras G. et D. | B32: =Calcul!B10*IF(Calcul!B10>=101,T8,IF(Calcul!B10>=76,T7,IF(Calcul!B10>=51,T6,IF(Calcul!B10>=26,T5, IF(Calcul!B10>=11,T4,IF(Calcul!B10>=1,T3)))))) -> 0
A33: Devant + Dos + Bras G. et D. | B33: =Calcul!B10*IF(Calcul!B10>=101,U8,IF(Calcul!B10>=76,U7,IF(Calcul!B10>=51,U6,IF(Calcul!B10>=26,U5, IF(Calcul!B10>=11,U4,IF(Calcul!B10>=1,U3)))))) -> 0

Sheet Nombres
A1: Nombres
A2: 1
A3: 2
A4: 3
A5: 4
A6: 5
A7: 6
A8: 7
A9: 8
A10: 9
A11: 10
A12: 11
A13: 12
... A501: 500
