Workbook

Sheet 24-25
A1: TABLEAU DE PILOTAGE : Sept 24 - Sept 25
AC2: Version 01 07 24
F3: Nombre de têtes à garder par catégorie de vente
A4: Site | B4: Nbre d'œufs | C4: lot | D4: Mois Code lot | E4: Semaine | F4: Destinataire | G4: TG | I4: G | K4: P | M4: Destinataire | N4: TG | P4: G | R4: P | T4: Destinataire | U4: TG | W4: Destinataire | X4: TG | Z4: Destinataire | AA4: TG | AC4: Besoin en nbre/lot | AD4: Nbre d'œufs à entrée par lot | AE4: Quantité commander | AF4: Origine (Fournisseur) | AG4: Génétique | AH4: Taux de réussite obligatoire | AI4: Taux de réussite moyen | AJ4: Surplus Tête
A5: Keramen | B5: =AE5 -> 2000 | C5: 1er lot | D5: 7 | E5: S32 - 2024 | F5: Menaouen | G5: 600 | H5: T1 | I5: 300 | J5: T2 | K5: 200 | L5: T3 | M5: Pont Ar Zall | AC5: =G5+I5+K5+N5+P5+R5+U5+X5+AA5 -> 1100 | AD5: =AC5*$AC$29 -> 1430 | AE5: 2000 | AF5: Aqualande | AG5: Triplo | AH5: =AC5/AE5*100 -> 55 | AI5: 90 | AJ5: =(AI5-AH5)*AE5/100 -> 700
B6: =AE6 -> 2000 | C6: 2ème lot | D6: 11 | E6: S50 - 2024 | G6: 600 | H6: T1 | N6: 600 | O6: T2 | AC6: =G6+I6+K6+N6+P6+R6+U6+X6+AA6 -> 1200 | AD6: =AC6*$AC$29 -> 1560 | AE6: 2000 | AF6: Aqualande | AH6: =AC6/AE6*100 -> 60 | AI6: 90 | AJ6: =(AI6-AH6)*AE6/100 -> 600
B7: =AE7 -> 2000 | C7: 3ème lot | D7: 3 | E7: S09 - 2025 | G7: 600 | H7: T1 | N7: 500 | O7: T2 | AC7: =G7+I7+K7+N7+P7+R7+U7+X7+AA7 -> 1100 | AD7: =AC7*$AC$29 -> 1430 | AE7: 2000 | AF7: Aqualande | AH7: =AC7/AE7*100 -> 55 | AI7: 90 | AJ7: =(AI7-AH7)*AE7/100 -> 700
A9: Moulin Mer | B9: =AE9 -> 2000 | C9: 1er lot | D9: 12 (12 23 | E9: S1 - 2024 | F9: Moulin Mer | G9: 500 | H9: T 1 | M9: St Ségal | N9: 350 | O9: T2 | R9: 150 | AC9: =G9+I9+K9+N9+P9+R9+U9+X9+AA9 -> 1000 | AD9: =AC9*$AC$29 -> 1300 | AE9: 2000 | AF9: Aqualande | AG9: Triplo | AH9: =AC9/AE9*100 -> 50 | AI9: 80 | AJ9: =(AI9-AH9)*AE9/100 -> 600
B10: =AE10 -> 1500 | C10: 2ème lot | D10: 3 (03 24 | E10: S15 - 2024 | F10: Moulin Mer | K10: 100 | L10: Q | N10: 350 | O10: T 1 | R10: 150 | AC10: =G10+I10+K10+N10+P10+R10+U10+X10+AA10 -> 600 | AD10: =AC10*$AC$29 -> 780 | AE10: 1500 | AH10: =AC10/AE10*100 -> 40 | AI10: 80 | AJ10: =(AI10-AH10)*AE10/100 -> 600
B11: =AE11 -> 1500 | C11: 3ème lot | D11: 6 | E11: S28 - 2024 | F11: Moulin Mer | G11: 500 | H11: T1 | N11: 350 | O11: T2 | R11: 150 | AC11: =G11+I11+K11+N11+P11+R11+U11+X11+AA11 -> 1000 | AD11: =AC11*$AC$29 -> 1300 | AE11: 1500 | AH11: =AC11/AE11*100 -> 66.666667 | AI11: 80 | AJ11: =(AI11-AH11)*AE11/100 -> 200
A13: Biville | B13: =AE13 -> 1000 | C13: 1er lot | D13: 2 (01 24 | E13: S8 - 2024 | F13: Biville | G13: 400 | K13: 60 | AC13: =G13+I13+K13+N13+P13+R13+U13+X13+AA13 -> 460 | AD13: =AC13*$AC$29 -> 598 | AE13: 1000 | AF13: Aqualande | AG13: Triplo | AH13: =AC13/AE13*100 -> 46 | AI13: 75 | AJ13: =(AI13-AH13)*AE13/100 -> 290
B14: =AE14 -> 1000 | C14: 2ème lot | D14: 5 (04 24 | E14: S20 - 2024 | G14: 400 | K14: 60 | AC14: =G14+I14+K14+N14+P14+R14+U14+X14+AA14 -> 460 | AD14: =AC14*$AC$29 -> 598 | AE14: 1000 | AH14: =AC14/AE14*100 -> 46 | AI14: 75 | AJ14: =(AI14-AH14)*AE14/100 -> 290
B15: =AE15 -> 1000 | C15: 3ème lot | D15: 8 | E15: S31 - 2024 | G15: 400 | K15: 60 | AC15: =G15+I15+K15+N15+P15+R15+U15+X15+AA15 -> 460 | AD15: =AC15*$AC$29 -> 598 | AE15: 1000 | AH15: =AC15/AE15*100 -> 46 | AI15: 75 | AJ15: =(AI15-AH15)*AE15/100 -> 290
C16: 4ème lot = Bray | D16: 45627 | E16: 1er AOUT 24 | G16: 300 | I16: Origine Bray
A18: Penity | B18: =AE18 -> 1200 | C18: 1er lot | D18: 9 | E18: S37 - 2024 | F18: Penity | G18: 400 | AC18: =G18+I18+K18+N18+P18+R18+U18+X18+AA18 -> 400 | AD18: =AC18*$AC$29 -> 520 | AE18: 1200 | AF18: Margerit | AG18: Diplo | AH18: =AC18/AE18*100 -> 33.333333 | AI18: 75 | AJ18: =(AI18-AH18)*AE18/100 -> 500
B19: =AE19 -> 1500 | C19: 2ème lot | D19: 12 | E19: S48 - 2024 | G19: 350 | I19: 50 | K19: 220 | AC19: =G19+I19+K19+N19+P19+R19+U19+X19+AA19 -> 620 | AD19: =AC19*$AC$29 -> 806 | AE19: 1500 | AF19: Keryas | AG19: Diplo | AH19: =AC19/AE19*100 -> 41.333333 | AI19: 75 | AJ19: =(AI19-AH19)*AE19/100 -> 505
A22: Bray | B22: =AE22 -> 25000 | C22: 1er lot | D22: 02 24 | E22: S8 - 2024 | F22: Bray | G22: lot déjà arrivé = 02 24 : 212 | K22: 15000 | L22: Q | M22: Hodeng | T22: Muchedent | W22: Biville | Z22: St Mathieu | AC22: =K22+N22+U22+X22+AA22 -> 15000 | AD22: =AC22*$AC$29 -> 19500 | AE22: 25000 | AF22: Aqualande | AG22: Stérile | AH22: =AC22/AD22*100 -> 76.923077 | AI22: 85 | AJ22: =(AI22-AH22)*AE22/100 -> 2019.2308
B23: =AE23 -> 25000 | C23: 2ème lot | D23: 04 24 | E23: S16 - 2024 | G23: lot déjà arrivé = 04 24 : 266 | K23: 15000 | L23: Q | U23: 45 | V23: T1 | AC23: =K23+N23+U23+X23+AA23 -> 15045 | AD23: =AC23*$AC$29 -> 19558.5 | AE23: 25000 | AG23: Stérile | AH23: =AC23/AD23*100 -> 76.923077 | AI23: 85 | AJ23: =(AI23-AH23)*AE23/100 -> 2019.2308
B24: =AE24 -> 25000 | C24: 3ème lot | D24: 06 24 | E24: S25 - 2024 | G24: situation le 15/06/24 | K24: 15000 | L24: Q | N24: 60 | U24: 26 | AC24: =K24+N24+U24+X24+AA24 -> 15086 | AD24: =AC24*$AC$29 -> 19611.8 | AE24: 25000 | AF24: Aqualande | AG24: Stérile | AH24: =AC24/AD24*100 -> 76.923077 | AI24: 85 | AJ24: =(AI24-AH24)*AE24/100 -> 2019.2308
B25: =AE25 -> 20000 | C25: 4ème lot | D25: 08 24 | E25: S34 - 2024 | K25: 15000 | L25: Q | N25: 25 | O25: T1 | P25: 184 | Q25: 1er lot | R25: 45478 | U25: 25 | V25: T2 | AC25: =K25+N25+U25+X25+AA25 -> 15050 | AD25: =AC25*$AC$29 -> 19565 | AE25: 20000 | AG25: Stérile | AH25: =AC25/AD25*100 -> 76.923077 | AI25: 85 | AJ25: =(AI25-AH25)*AE25/100 -> 1615.3846
B26: =AE26 -> 25000 | C26: 5ème lot | D26: 10 24 | E26: S42 - 2024 | K26: 15000 | L26: Q | N26: 25 | O26: T1 | P26: 102 | Q26: 2ème lot | R26: 45495 | U26: 22 | AA26: 562 | AB26: T4 | AC26: =K26+N26+U26+X26+AA26 -> 15609 | AD26: =AC26*$AC$29 -> 20291.7 | AE26: 25000 | AF26: Aqualande | AG26: Stérile | AH26: =AC26/AD26*100 -> 76.923077 | AI26: 85 | AJ26: =(AI26-AH26)*AE26/100 -> 2019.2308
B27: =AE27 -> 25000 | C27: 6ème lot | D27: 12 24 | E27: S51 - 2024 | K27: 30000 | L27: Q | N27: 17 | O27: T2 | P27: 36 | Q27: 3ème lot | R27: 45499 | U27: 21 | V27: T1 | W27: Biville | X27: 545 | Y27: T3 | AC27: =K27+N27+U27+X27+AA27 -> 30583 | AD27: =AC27*$AC$29 -> 39757.9 | AE27: 25000 | AG27: Stérile | AH27: =AC27/AD27*100 -> 76.923077 | AI27: 85 | AJ27: =(AI27-AH27)*AE27/100 -> 2019.2308
P28: Pm (gr) | Q28: Date livr Hodeng
Z29: Ratio Œuf / Poisson vendue | AC29: 1.3 | AD29: 1,3 œufs achetés pour 1 poisson produit
C33: Synthèse Production : nombre de têtes par calibre de vente
C34: Sites | D34: Nombre de têtes | I34: Tonnage par catégorie | L34: Tonnage produit /an (avec morta) | N34: Tonnage Arrêté (T/an)
D35: TG | E35: G | F35: P | G35: Nbre de têtes totales | I35: TG | J35: G | K35: P
C36: Menaouen | D36: =G5+G6+G7 -> 1800 | E36: =I5 -> 300 | F36: =K5 -> 200 | G36: =D36+E36+F36 -> 2300 | I36: =D36*$D$47/1000 -> 4.86 | J36: =E36*$D$48/1000 -> 0.3 | K36: =F36*$D$49/1000 -> 0.054 | L36: =(I36+J36+K36)*$H$47 -> 4.4319
C37: St Ségal | D37: =N9+N10+N11 -> 1050 | E37: =P9+P10+P11 -> 0 | F37: =R9+R10+R11 -> 450 | G37: =D37+E37+F37 -> 1500 | I37: =D37*$D$47/1000 -> 2.835 | J37: =E37*$D$48/1000 -> 0 | K37: =F37*$D$49/1000 -> 0.1215 | L37: =(I37+J37+K37)*$H$47 -> 2.513025
C38: Moulin Mer | D38: =G9+G10+G11 -> 1000 | E38: =I9+I10+I11 -> 0 | F38: =K9+K10+K11 -> 100 | G38: =D38+E38+F38 -> 1100 | I38: =D38*$D$47/1000 -> 2.7 | J38: =E38*$D$48/1000 -> 0 | K38: =F38*$D$49/1000 -> 0.027 | L38: =(I38+J38+K38)*$H$47 -> 2.31795
A39: Total Bray fourniture truitelles | B39: T/an | C39: Penity | D39: =G18+G19+G20 -> 750 | E39: =I18+I19+I20 -> 50 | F39: =K18+K19+K20 -> 220 | G39: =D39+E39+F39 -> 1020 | I39: =D39*$D$47/1000 -> 2.025 | J39: =E39*$D$48/1000 -> 0.05 | K39: =F39*$D$49/1000 -> 0.0594 | L39: =(I39+J39+K39)*$H$47 -> 1.81424
A40: Truitelles Biville | B40: =(X27*0.1)/1000 -> 0.0545 | C40: Biville | D40: =G13+G14+G15+G16 -> 1500 | E40: =I13+I14+I15 -> 0 | F40: =K13+K14+K15 -> 180 | G40: =D40+E40+F40 -> 1680 | I40: =D40*$D$47/1000 -> 4.05 | J40: =E40*$D$48/1000 -> 0 | K40: =F40*$D$49/1000 -> 0.0486 | L40: =(I40+J40+K40)*$H$47 -> 3.48381
A41: Truitelles Muchedent | B41: =((U23+U25+U27)*0.135)/1000 -> 0.012285 | C41: Muchedent | D41: =U22+U23+U24+U25+U26+U27 -> 139 | G41: =D41+E41+F41 -> 139 | I41: =D41*$D$47/1000 -> 0.3753 | J41: =E41*$D$48/1000 -> 0 | K41: =F41*$D$49/1000 -> 0 | L41: =(I41+J41+K41)*$H$47 -> 0.319005
A42: Truitelles Hodeng | B42: =(N25*P25+N26*P26+N27*P27)/1000/1000 -> 0.007762 | C42: Hodeng | D42: =N22+N23+N24+N25+N26+N27 -> 127 | G42: =D42+E42+F42 -> 127 | I42: =D42*$D$47/1000 -> 0.3429 | J42: =E42*$D$48/1000 -> 0 | K42: =F42*$D$49/1000 -> 0 | L42: =(I42+J42+K42)*$H$47 -> 0.291465
A43: Truitelles St Mathieu | B43: =AA26*0.25/1000 -> 0.1405 | C43: Bray | D43: =G27 -> 0 | E43: =I22+I23+I24+I25+I26+I27 -> 0 | F43: =K22+K23+K25+K24+K26+K27 -> 105000 | G43: =D43+E43+F43 -> 105000 | I43: =D43*$D$47/1000 -> 0 | J43: =E43*$D$48/1000 -> 0 | K43: =F43*$D$49/1000 -> 28.35 | L43: =(I43+J43+K43)*$H$47 -> 24.0975
B44: =SUM(B40:B43) -> 0.215047
C46: Calibre | D46: Poids de vente (Kg)
C47: Tg | D47: 2.7 | F47: Taux de survie moyen | H47: 0.85
C48: G | D48: 1
C49: P | D49: 0.27

Sheet Recap commande oeuf 
A1: Suivi des Commande Œufs
B2: Keramen Triplo | D2: M Mer | F2: Penity | H2: Biville | J2: Bray les mareuil
D3: Triplo | F3: Diplo | H3: Triplo | J3: Triplo
Q9: Info pour Bray : vente des portions
Q10: Vente de Juillet à Décembre → BT | T10: Balnéation uniquement
Q11: Vente de Janvier à Juin → Guy Pierru | T11: Balnéation + rappel oral à voir selon delai vente et/ou injection
O23: Origine Aqualande Triplo | P23: 91
O24: Origine Plourin Triplo | P24: 1
O25: Origine Aqualande diplo
O26: Origine Viviers de sarrance Triplo | P26: 90
O27: Origine Danoise Troutex | P27: 93
L33: lot 1 | M33: changement lot à partir de janvier 23. Nbre ?
O34: Origine Aqualande Triplo | P34: 91
L35: lot 2 | O35: Origine Plourin Triplo | P35: 1
O36: Origine Aqualande diplo
L37: lot 3 | O37: Origine Viviers de sarrance | P37: 90
O38: Origine Danoise Troutex | P38: 93
L39: lot 4 | O39: Origine Margerit | P39: 92
L41: lot 5
L43: lot 6
L45: lot 1
L47: lot 2
L49: lot 3
L51: lot 4
L53: lot 5
L55: lot 6
A57: 45658 | D57: ='24-25'!AE9 -> 2000 | E57: Réception S2 | O57: Origine Aqualande Triplo | P57: 91
A58: 45689 | H58: ='24-25'!AE13 -> 1000 | I58: reception S8 | K58: Réception S8 | L58: lot 1 | O58: Origine Plourin Triplo | P58: 1
A59: 45717 | B59: ='24-25'!AE5 -> 2000 | C59: Réception S9 | O59: Origine Aqualande diplo
A60: 45748 | D60: ='24-25'!AE10 -> 1500 | E60: Réception S17 | K60: Réception S16 | L60: lot 2 | O60: Origine Viviers de sarrance | P60: 90
A61: 45778 | H61: ='24-25'!AE14 -> 1000 | I61: reception S20 | O61: Origine Danoise Troutex | P61: 93
A62: 45809 | K62: Réception S25 | L62: lot 3 | O62: Origine Margerit | P62: 92
A63: 45839 | D63: ='24-25'!AE11 -> 1500 | E63: Réception S26
A64: 45870 | B64: ='24-25'!AE6 -> 2000 | C64: Réception S32 | H64: ='24-25'!AE15 -> 1000 | I64: réception S31 | K64: Réception S34 | L64: lot 4
A65: 45901
A66: 45931 | K66: Réception S42 | L66: lot 5
A67: 45962 | B67: ='24-25'!AE7 -> 2000 | C67: Réception S46
A68: 45992 | K68: Réception S51 | L68: lot 6
