Workbook
Name Biologie_Pathologie: 'Listes de choix'!$N$1:$N$33
Name Cliniques_Médicales: 'Listes de choix'!$F$1:$F$36
Name Cœur_Poumons: 'Listes de choix'!$O$1:$O$35
Name Département_de_l_Information_Médicale: 'Listes de choix'!$S$1:$S$88
Name Digestif: 'Listes de choix'!$G$1:$G$61
Name Direction_de_la_Coordination_Générale_des_Soins: 'Listes de choix'!$AE$1:$AE$4
Name Direction_de_la_Qualité_et_de_la_Gestion_des_Risques: 'Listes de choix'!$AA$1:$AA$3
Name Direction_de_la_Recherche_et_de_l_Innovation: 'Listes de choix'!$W$1:$W$5
Name Direction_déléguée_CH_de_Millau_et_Hôpital_Maurice_Fenaille: 'Listes de choix'!$AD$1:$AD$13
Name Direction_des_Affaires_Générales_de_la_Communication_et_des_Relations_Internationales: 'Listes de choix'!$AB$1:$AB$6
Name Direction_des_Affaires_Juridiques: 'Listes de choix'!$Y$1:$Y$3
Name Direction_des_Affaires_Médicales_de_la_Stratégies_et_de_la_Coopération: 'Listes de choix'!$X$1:$X$5
Name Direction_des_Finances_et_du_Système_d_Information: 'Listes de choix'!$T$1:$T$7
Name Direction_des_Investissements_et_de_la_Logistique: 'Listes de choix'!$U$2:$U$7
Name Direction_des_Opérations_et_de_la_Performance: 'Listes de choix'!$Z$1:$Z$4
Name Direction_des_Ressources_Humaines_et_Formations: 'Listes de choix'!$V$1:$V$8
Name EMMBRUN: 'Listes de choix'!$J$1:$J$32
Name Enfant: 'Listes de choix'!$M$1:$M$35
Name Gérontologie: 'Listes de choix'!$I$1:$I$32
Name Missions: 'Listes de choix'!$AC$1:$AC$12
Name Naissance_et_Pathologie_de_la_Femme: 'Listes de choix'!$P$1:$P$32
Name NSTC: 'Listes de choix'!$H$1:$H$43
Name Os_et_Articulations: 'Listes de choix'!$L$1:$L$29
Name Pharmacie: 'Listes de choix'!$R$1:$R$82
Name Psychiatrie: 'Listes de choix'!$Q$1:$Q$81
Name Services: Tableau1[#Headers]
Name Urgences: 'Listes de choix'!$K$1:$K$27

Sheet Général
A1: N° de courrier | B1: Nom du réclamant | C1: Prénom du réclamant | D1: Date de naissance | E1: N° de rue | F1: Rue | G1: Ville | H1: Code Postal | I1: Téléphone fixe | J1: Téléphone portable | K1: Adresse électronique | L1: Nom Patient | M1: Prénom Patient | N1: Date de naissance2 | O1: Parenté avec le réclamant | P1: Date réception courrier | Q1: Mois réception courrier | R1: Intention | S1: Pôle | T1: Unité | U1: Verbatim | V1: Motif | W1: Droit du Patient | X1: Date Contact pôle | Y1: Date réponse pôle | Z1: Date retour usager | AA1: Statut | AB1: Délai réponse pôle en j | AC1: Délai réponse usager en j
A2: 202001021 | B2: SORA | C2: Charlotte | D2: 29155 | E2: 14 | F2: Allée de l'horreur | G2: Montpellier | H2: 34090 | I2: 423659874 | J2: 673160921 | K2: qipdhgîh@lkhfh.com | L2: SORA | M2: Lisette | N2: 40689 | O2: Sa fille | P2: 43930 | Q2: avril | R2: 1 | S2: Gérontologie | T2: USLD "L'Espinouse" - 2ième étage | U2: Je suis le verbatim N° 1 | V2: PEC Médicale | W2: PEC Douleur | X2: 43930 | Y2: 43961 | Z2: 44084 | AA2: Clos | AB2: 31 | AC2: 154
A3: 202001021 | B3: SORA | C3: Charlotte | D3: 29155 | E3: 14 | F3: Allée de l'horreur | G3: Montpellier | H3: 34090 | I3: 423569823 | J3: 673160921 | K3: qipdhgîh@lkhfh.com | L3: SORA | M3: Lisette | N3: 40689 | O3: Sa fille | P3: 43930 | Q3: avril | R3: 2 | S3: NSTC | T3: ORL / CMF A HC / Soins continus | U3: Je suis le verbatim N° 2 | V3: Hôtellerie - Restauration | W3: Bien manger | X3: 43930 | AA3: En cours | AB3: En attente | AC3: à traiter
A4: 202001021 | B4: SORA | C4: Charlotte | D4: 29155 | E4: 14 | F4: Allée de l'horreur | G4: Montpellier | H4: 34090 | I4: 421563987 | J4: 673160921 | K4: qipdhgîh@lkhfh.com | L4: SORA | M4: Lisette | N4: 40689 | O4: Sa fille | P4: 43930 | Q4: avril | R4: 3 | S4: Cliniques_Médicales | T4: Dermatologie CS/Plateau Technique/HJ | U4: Je suis le verbatim N° 3 | V4: Hôtellerie - Restauration | W4: Bien manger | X4: 43930 | Y4: 43963 | Z4: 44086 | AA4: Clos | AB4: 33 | AC4: 156
A5: 202001021 | B5: SORA | C5: Charlotte | D5: 29155 | E5: 14 | F5: Allée de l'horreur | G5: Montpellier | H5: 34090 | I5: 421563987 | J5: 673160921 | K5: qipdhgîh@lkhfh.com | L5: SORA | M5: Lisette | N5: 40689 | O5: Sa fille | P5: 43930 | Q5: avril | R5: 4 | S5: Missions | T5: Prise en charge sociale des patients | U5: Je suis le verbatim N° 4 | V5: PEC sous contrainte | W5: Liberté de l'Usager | X5: 43930 | AA5: En cours | AB5: En attente | AC5: à traiter
A6: 202001021 | B6: SORA | C6: Charlotte | D6: 29155 | E6: 14 | F6: Allée de l'horreur | G6: Montpellier | H6: 34090 | I6: 421563987 | J6: 673160921 | K6: qipdhgîh@lkhfh.com | L6: SORA | M6: Lisette | N6: 40689 | O6: Sa fille | P6: 43930 | Q6: avril | R6: 5 | S6: Urgences | T6: Urgences Psychiatrie / SMUR | U6: Je suis le verbatim N° 5 | V6: PEC Médicale | W6: Accès aux soins | X6: 43930 | AA6: En cours | AB6: En attente | AC6: à traiter
A7: 202001021 | B7: SORA | C7: Charlotte | D7: 29155 | E7: 14 | F7: Allée de l'horreur | G7: Montpellier | H7: 34090 | I7: 421563987 | J7: 673160921 | K7: qipdhgîh@lkhfh.com | L7: SORA | M7: Lisette | N7: 40689 | O7: Sa fille | P7: 43930 | Q7: avril | R7: 6 | S7: NSTC | T7: ORL / CMF B HC | U7: Je suis le verbatim N° 6 | V7: Accueil - Attente | W7: Information | X7: 43930 | AA7: En cours | AB7: En attente | AC7: à traiter
A8: 202001021 | B8: SORA | C8: Charlotte | D8: 29155 | E8: 14 | F8: Allée de l'horreur | G8: Montpellier | H8: 34090 | I8: 421563987 | J8: 673160921 | K8: qipdhgîh@lkhfh.com | L8: SORA | M8: Lisette | N8: 40689 | O8: Sa fille | P8: 43930 | Q8: avril | R8: 7 | S8: NSTC | T8: Ophtalmo / Neuroradio HC | U8: Je suis le verbatim N° 7 | V8: Accueil - relationel | W8: Respect du patient | X8: 43930 | AA8: En cours | AB8: En attente | AC8: à traiter
A9: 202001021 | B9: SORA | C9: Charlotte | D9: 29155 | E9: 14 | F9: Allée de l'horreur | G9: Montpellier | H9: 34090 | I9: 421563987 | J9: 673160921 | K9: qipdhgîh@lkhfh.com | L9: SORA | M9: Lisette | N9: 40689 | O9: Sa fille | P9: 43930 | Q9: avril | R9: 8 | S9: Urgences | T9: Unité Sanitaire de Villeneuve les Maguelones | U9: Je suis le verbatim N° 8 | V9: Accueil - Attente | W9: Information | X9: 43930 | AA9: En cours | AB9: En attente | AC9: à traiter
A10: 202001022 | B10: RICHARD | C10: Clara | D10: 28105 | E10: 12 | F10: rue baraquée | G10: Lyon | H10: 69403 | I10: 232659875 | J10: 652365236 | K10: jsqdgpoh@iig.com | L10: RICHARD | M10: Paul | N10: 25702 | O10: Son Epoux | P10: 43929 | Q10: avril | R10: 1 | S10: Naissance_et_Pathologie_de_la_Femme | T10: CROP | U10: Ouch ! | V10: PEC médicamenteuse | W10: PEC Douleur | X10: 43929 | AA10: En cours | AB10: En attente | AC10: à traiter
A11: 202001022 | B11: RICHARD | C11: Clara | D11: 28105 | E11: 12 | F11: rue baraquée | G11: Lyon | H11: 69403 | I11: 123654879 | J11: 652365236 | K11: jsqdgpoh@iig.com | L11: RICHARD | M11: Paul | N11: 25702 | O11: Son Epoux | P11: 43929 | Q11: avril | R11: 2 | S11: Naissance_et_Pathologie_de_la_Femme | T11: Bloc Opératoire / Régulation | U11: Ouch ! | V11: PEC Médicale - Relationnelle | W11: Information | X11: 43929 | Y11: 43995 | Z11: 44087 | AA11: Clos | AB11: 66 | AC11: 158
A12: 202001022 | B12: RICHARD | C12: Clara | D12: 28105 | E12: 12 | F12: rue baraquée | G12: Lyon | H12: 69403 | I12: 456321475 | J12: 652365236 | K12: jsqdgpoh@iig.com | L12: RICHARD | M12: Paul | N12: 25702 | O12: Son Epoux | P12: 43929 | Q12: avril | R12: 3 | S12: Urgences | T12: Urgences Adultes Lapeyronie | U12: Pas d'info | V12: Accueil - Attente | W12: Information | X12: 43929 | Y12: 43996 | Z12: 44088 | AA12: Clos | AB12: 67 | AC12: 159
A13: 202001023 | B13: VALLE | C13: Judith | D13: 30181 | E13: 101 | F13: rue des Roissys | G13: Baillargues | H13: 34970 | I13: 456932587 | J13: 685698547 | K13: ldhgoih@lkdqhglh.com | L13: VALLE | M13: Judith | N13: 30181 | O13: Soi | P13: 43929 | Q13: avril | R13: 1 | S13: Urgences | T13: Urgences | U13: Pas d'ambulance | V13: PEC Médicale | W13: Accès aux soins | X13: 43929 | Y13: 43997 | Z13: 44089 | AA13: Clos | AB13: 68 | AC13: 160
A14: 202001023 | B14: VALLE | C14: Judith | D14: 30181 | E14: 101 | F14: rue des Roissys | G14: Baillargues | H14: 34970 | I14: 236598544 | J14: 685698547 | K14: ldhgoih@lkdqhglh.com | L14: VALLE | M14: Judith | N14: 30181 | O14: Soi | P14: 43929 | Q14: avril | R14: 2 | S14: Urgences | T14: SAMU-Centre 15 | U14: Doc n'a pas prévenu mes proches | V14: Accueil- Autres | W14: Place des proches | X14: 43929 | Y14: 44028 | Z14: 44090 | AA14: Clos | AB14: 99 | AC14: 161
A15: 202001024 | B15: LELOUCHE | C15: Obscur | D15: 11047 | E15: 265 | F15: Chemin des vaches | G15: Vendargues | H15: 34956 | I15: 478585965 | J15: 625698563 | K15: lihsvlm@lhv.com | L15: LELOUCHE | M15: Obscur | N15: 11047 | O15: Soi | P15: 43929 | Q15: avril | R15: 1 | S15: NSTC | T15: Ophtalmologie CS / HJ | U15: Mes affaires ont disparu | V15: Accueil- Autres | W15: Sécurité des biens | X15: 43930 | Y15: 44030 | Z15: 44091 | AA15: Clos | AB15: 100 | AC15: 162
A16: 202001025 | B16: PIQUE | C16: Jacques | D16: 16822 | E16: 32 | F16: rue de la chouette | G16: PARIS | H16: 75006 | I16: 452365236 | J16: 654782521 | K16: !lwdiiqhg@Lkohi.fr | L16: PIQUE | M16: Jacques | N16: 16822 | O16: Soi | P16: 43929 | Q16: avril | R16: 1 | S16: NSTC | T16: Ophtalmologie CS / HJ | U16: accueil peu aimable | V16: Accueil- Autres | W16: Respect du patient | X16: 43930 | AA16: En cours | AB16: En attente | AC16: à traiter
A17: 202001025 | B17: PIQUE | C17: Jacques | D17: 16822 | E17: 32 | F17: rue de la chouette | G17: PARIS | H17: 75006 | I17: 441254125 | J17: 654782521 | K17: !lwdiiqhg@Lkohi.fr | L17: PIQUE | M17: Jacques | N17: 16822 | O17: Soi | P17: 43929 | Q17: avril | R17: 2 | S17: Cœur_Poumons | T17: Plateau Technique des Maladies Respiratoires | U17: Piqué plusieurs fois pour prise de sang et ouille | V17: PEC Paramédicale - soins | W17: PEC Douleur | X17: 43930 | AA17: En cours | AB17: En attente | AC17: à traiter
A18: 202001025 | B18: PIQUE | C18: Jacques | D18: 16822 | E18: 32 | F18: rue de la chouette | G18: PARIS | H18: 75006 | I18: 412545852 | J18: 654782521 | K18: !lwdiiqhg@Lkohi.fr | L18: PIQUE | M18: Jacques | N18: 16822 | O18: Soi | P18: 43929 | Q18: avril | R18: 3 | S18: Cœur_Poumons | T18: Plateau Technique des Maladies Respiratoires | U18: Ambulance pourries | V18: Accueil - relationel | W18: Respect du patient | X18: 43930 | Y18: 43972 | Z18: 44094 | AA18: Clos | AB18: 42 | AC18: 165
A19: 202001026 | B19: LARHUNE | C19: Xavier | D19: 33660 | E19: 45 | F19: Wabash avenue | G19: NY City | H19: NY 545 | I19: 559472563 | J19: 601020203 | K19: lqiegl@lkh.com | P19: 43891 | Q19: mars | R19: 1 | S19: Urgences | T19: Urgences | U19: Doc n'a pas prévenu mes proches | V19: Accueil- Autres | W19: Place des proches | X19: 43892 | Y19: 43936 | Z19: 44057 | AA19: Clos | AB19: 44 | AC19: 166
A20: 202001027 | B20: CAMILLE | C20: Gaelle | D20: 29779 | E20: 663 | F20: rue des notaires | G20: Montpellier | H20: 34090 | I20: 425336395 | J20: 6012025030 | K20: camile@gaelle.com | P20: 43889 | Q20: février | R20: 1 | S20: Gérontologie | T20: Soins Palliatifs | U20: blajiegi poupg ovup | V20: PEC Médicale | W20: PEC Douleur | X20: 43892 | Y20: 43967 | Z20: 44087 | AA20: Clos | AB20: 75 | AC20: 198
A21: 202001028 | B21: DUPONT | C21: Marcel | D21: 23082 | E21: 22 | F21: rue de la table | G21: Montpellier | H21: 34090 | I21: 452365236 | J21: 612032023 | K21: mail@mail.com | P21: 43889 | Q21: février | R21: 1 | S21: Cliniques_Médicales | T21: Dermatologie HC | V21: PEC Médicale | W21: Respect du patient | X21: 43889 | Y21: 43964 | Z21: 44057 | AA21: Clos | AB21: 75 | AC21: 168
A22: 202001028 | B22: DUPONT | C22: Marcel | D22: 23082 | E22: 22 | F22: rue de la table | G22: Montpellier | H22: 34090 | I22: 452365236 | J22: 612032023 | K22: mail@mail.com | P22: 43890 | Q22: février | R22: 2 | S22: Cliniques_Médicales | T22: Dermatologie HC | V22: Accueil - relationel | W22: Place des proches | X22: 43890 | AA22: En cours | AB22: En attente | AC22: à traiter
A23: 202001029 | B23: DURAND | C23: Pierre | D23: 35065 | E23: 31 | F23: rue de la Saint Sylvestre | G23: Montpellier | H23: 34090 | I23: 456325632 | J23: 612547896 | K23: mail2@gmail.Com | P23: 43891 | Q23: mars | R23: 1 | S23: Cliniques_Médicales | T23: Dermatologie HC | U23: Aie | V23: Accueil - attente | W23: PEC Douleur | X23: 43891 | Y23: 43939 | Z23: 44061 | AA23: Clos | AB23: 48 | AC23: 170
A24: 202001030 | B24: MARTIN | C24: Jérôme | D24: 35066 | E24: 24 | F24: rue de l'Ubac | G24: Montpellier | H24: 34090 | I24: 452365987 | J24: 612975365 | K24: mail3@gmail.com | P24: 43892 | Q24: mars | R24: 1 | S24: NSTC | T24: NSTC | U24: Ouille7 | V24: Accueil - autres | W24: PEC Douleur | X24: 43892 | Y24: 43941 | Z24: 44094 | AA24: Clos | AB24: 49 | AC24: 202
A25: 202001031 | B25: PETIT | C25: Mauriette | D25: 19727 | E25: 32 | F25: rue de l'abbé Pierre | G25: Montpellier | H25: 34090 | I25: 414252365 | J25: 698745254 | K25: Mauriette@gmail.com | P25: 43893 | Q25: mars | R25: 1 | S25: NSTC | T25: NSTC | U25: va pas bien | V25: PEC Paramédicale - soins | W25: Droit à l'information | X25: 43893 | Y25: 43943 | Z25: 44065 | AA25: Clos | AB25: 50 | AC25: 172
A26: 202001031 | B26: PETIT | C26: Mauriette | D26: 19727 | E26: 32 | F26: rue de l'abbé Pierre | G26: Montpellier | H26: 34090 | I26: 414252365 | J26: 698745254 | K26: Mauriette@gmail.com | P26: 43893 | Q26: mars | R26: 2 | S26: Gérontologie | T26: Gestion des projets "Convention tripartite" / Animation / Agents de nuit | U26: non, pas du tout | V26: Accueil- Autres | W26: Droit à l'information | X26: 43893 | Y26: 43974 | Z26: 44097 | AA26: Clos | AB26: 81 | AC26: 204
A27: 202001032 | B27: LEDOUX | C27: Martine | D27: 20458 | E27: 18 | F27: rue victoire | G27: Montpellier | H27: 34090 | I27: 236524521 | J27: 625325986 | K27: victoire@lapyrus.com | P27: 43894 | Q27: mars | R27: 1 | S27: EMMBRUN | T27: Réanimation Métabolique | U27: moi non plus | V27: PEC Paramédicale - soins | W27: PEC Coutneuvier | X27: 43894 | AA27: En cours | AB27: En attente | AC27: à traiter
A28: 202001032 | B28: LEDOUX | C28: Martine | D28: 20458 | E28: 18 | F28: rue victoire | G28: Montpellier | H28: 34090 | I28: 236524522 | J28: 625325987 | K28: victoire@lapyrus.com | P28: 43894 | Q28: mars | R28: 2 | S28: Urgences | T28: SAMU-Centre 15 | U28: erf ! Zut ! | V28: Accueil - relationel | W28: PEC Coutneuvier | X28: 43894 | Y28: 43957 | Z28: 44049 | AA28: Clos | AB28: 63 | AC28: 155
A29: 202001033 | B29: LAMERE | C29: Marthe | D29: 20459 | E29: 19 | F29: rue victoire | G29: Montpellier | H29: 34090 | I29: 236524523 | J29: 625325988 | K29: lamere@hotmail.com | P29: 43895 | Q29: mars | R29: 1 | S29: Urgences | T29: Urgences Adultes Lapeyronie | U29: Incompétents | V29: Accueil- Autres | W29: PEC Douteur | X29: 43895 | Y29: 43929 | Z29: 44082 | AA29: Clos | AB29: 34 | AC29: 187
A30: 202001034 | B30: LEPERE | C30: Dodu | D30: 20460 | E30: 20 | F30: rue victoire | G30: Montpellier | H30: 34090 | I30: 236524524 | J30: 625325989 | K30: lepere@hotdoil.com | P30: 43896 | Q30: mars | R30: 1 | S30: Urgences | T30: Unité Sanitaire de Villeneuve les Maguelones | U30: Incapables | V30: PEC Médicale | W30: Droit à rue victoire'inforvetion | X30: 43896 | Y30: 43961 | Z30: 44053 | AA30: Clos | AB30: 65 | AC30: 157
A31: 202001035 | B31: LESSIEUR | C31: Marc | D31: 20461 | E31: 21 | F31: rue victoire | G31: Montpellier | H31: 34090 | I31: 236524525 | J31: 625325990 | K31: lessieur@hotmail.com | P31: 43897 | Q31: mars | R31: 1 | S31: Urgences | T31: Unité Sanitaire de Villeneuve les Maguelones | U31: Crétins | V31: PEC Médicale | W31: Droit à rue victoire'inforsation | X31: 43897 | Y31: 43933 | Z31: 44086 | AA31: Clos | AB31: 36 | AC31: 189
A32: 202001036 | B32: COMTE | C32: Claude | D32: 20462 | E32: 22 | F32: rue victoire | G32: Montpellier | H32: 34090 | I32: 236524526 | J32: 625325991 | K32: comte@hotclil.com | P32: 43898 | Q32: mars | R32: 1 | S32: Os_et_Articulations | T32: Rhumatologie HS + Médecine Physique et Réadapttaion HS | U32: Insolents | V32: Accueil - relationel | W32: Droit à rue victoire'infordition | X32: 43898 | AA32: En cours | AB32: En attente | AC32: à traiter
A33: 202001037 | B33: QUATRE | C33: Henri | D33: 20463 | E33: 23 | F33: rue victoire | G33: Montpellier | H33: 34090 | I33: 236524527 | J33: 625325992 | K33: quatre@hotheil.com | P33: 43899 | Q33: mars | R33: 1 | S33: Enfant | T33: Neuropédiatrie GDC HC | U33: innocent | V33: PEC Soin | W33: PEC Doutur | X33: 43899 | Y33: 43967 | Z33: 44028 | AA33: Clos | AB33: 68 | AC33: 129
A34: 202001037 | B34: QUATRE | C34: Henri | D34: 20464 | E34: 24 | F34: rue victoire | G34: Montpellier | H34: 34090 | I34: 236524528 | J34: 625325993 | K34: quatre@hotheil.com | P34: 43899 | Q34: mars | R34: 2 | S34: Enfant | T34: Surveillance continue Chirurgicale consultation chirurgie infantile | U34: association d'idée | V34: PEC Soin | W34: PEC Doutuer | X34: 43899 | Y34: 43999 | Z34: 43999 | AA34: Clos | AB34: 100 | AC34: 100
A35: 202001037 | B35: QUATRE | C35: Henri | D35: 20465 | E35: 25 | F35: rue victoire | G35: Montpellier | H35: 34090 | I35: 236524529 | J35: 625325994 | K35: quatre@hotheil.com | P35: 43899 | Q35: mars | R35: 3 | S35: Cliniques_Médicales | T35: Dermatologie HC | U35: bleu | V35: PEC oin | W35: PEC Coutunvier | X35: 43899 | Y35: 44000 | Z35: 44061 | AA35: Clos | AB35: 101 | AC35: 162
A36: 202001038 | B36: PREMIER | C36: François | D36: 20466 | E36: 26 | F36: rue victoire | G36: Montpellier | H36: 34090 | I36: 236524530 | J36: 625325995 | K36: premier@hotfril.com | P36: 43900 | Q36: mars | R36: 1 | S36: Cœur_Poumons | T36: Allergologie CS et HJ | U36: les idées au logie | V36: PEC V.oia | W36: Droit à rue victoire'information | X36: 43900 | Y36: 44002 | Z36: 44094 | AA36: Clos | AB36: 102 | AC36: 194
A37: 202001039 | B37: QUATORZE | C37: Louis | D37: 20467 | E37: 27 | F37: rue victoire | G37: Montpellier | H37: 34090 | I37: 236524531 | J37: 625325996 | K37: quatorze@hotloil.com | P37: 43901 | Q37: mars | R37: 1 | S37: Cœur_Poumons | T37: Plateau Technique des Maladies Respiratoires | U37: infractus de la mie carde | V37: PEC cardiolooiu | W37: Droit à rue victoire'informetion | X37: 43901 | Y37: 43943 | Z37: 44065 | AA37: Clos | AB37: 42 | AC37: 164
A38: 202001040 | B38: TREIZE | C38: Louis | D38: 20468 | E38: 28 | F38: rue victoire | G38: Montpellier | H38: 34090 | I38: 236524532 | J38: 625325997 | K38: treize@hotloil.com | P38: 43902 | Q38: mars | R38: 1 | S38: Cœur_Poumons | T38: Pneumologie HS & SOTAM | U38: pan ! Non ! | V38: PEC cardiolooiu | W38: Droit à rue victoire'inforjetion | X38: 43902 | Y38: 43975 | Z38: 44098 | AA38: Clos | AB38: 73 | AC38: 196
A39: 202001041 | B39: ONZE | C39: Louis | D39: 20469 | E39: 29 | F39: rue victoire | G39: Montpellier | H39: 34090 | I39: 236524533 | J39: 625325998 | K39: onze@hotloil.com | P39: 43903 | Q39: mars | R39: 1 | S39: NSTC | T39: Ophtalmologie CS / HJ | U39: et pourtant elle tourne | V39: PEC Neurovasculairoiu | W39: Rejanvierpec on pie envictoir | X39: 43903 | Y39: 43977 | Z39: 44069 | AA39: Clos | AB39: 74 | AC39: 166
A40: 202001041 | B40: ONZE | C40: Louis | D40: 20470 | E40: 30 | F40: rue victoire | G40: Montpellier | H40: 34090 | I40: 236524534 | J40: 625325999 | K40: onze@hotloil.com | P40: 43903 | Q40: mars | R40: 2 | S40: Digestif | T40: Digestif | U40: ou pas.. On ne sait | V40: PEC Digesoiu | W40: PE Doutuer | X40: 43903 | Y40: 43948 | Z40: 44101 | AA40: Clos | AB40: 45 | AC40: 198
A41: 202001041 | B41: ONZE | C41: Louis | D41: 20471 | E41: 31 | F41: rue victoire | G41: Montpellier | H41: 34090 | I41: 236524535 | J41: 625326000 | K41: onze@hotloil.com | P41: 43903 | Q41: mars | R41: 3 | S41: Direction_de_la_Qualité_et_de_la_Gestion_des_Risques | T41: Qualité et Gestion des Risques | U41: pas du tout et vlan ! | V41: PEC Risqueoiu | W41: Revierpec on puesenvictoir | X41: 43903 | Y41: 43979 | Z41: 44040 | AA41: Clos | AB41: 76 | AC41: 137
A42: 202001042 | B42: SAINT | C42: Louis | D42: 20472 | E42: 32 | F42: rue victoire | G42: Montpellier | H42: 34090 | I42: 236524536 | J42: 625326001 | K42: saint@hotloil.com | P42: 43906 | Q42: mars | R42: 1 | S42: Psychiatrie | T42: HJ - Pav. J. Minvielle (Pav. 14) | U42: bref, j'ai mal | V42: PEC Clartoiu | W42: PEC Coutunvier | X42: 43906 | Y42: 44014 | Z42: 44105 | AA42: Clos | AB42: 108 | AC42: 199
A43: 202001043 | B43: CAPET | C43: Hugues | D43: 20473 | E43: 33 | F43: rue victoire | G43: Montpellier | H43: 34090 | I43: 236524537 | J43: 625326002 | K43: capet@hothuil.com | P43: 43907 | Q43: mars | R43: 1 | S43: Urgences | T43: SAMU-Centre 15 | U43: j'ai beau être matinal j'ai mal | V43: PEC Psychiatriquoig | W43: Droit à rue victoire'information | X43: 43907 | Y43: 44016 | Z43: 44107 | AA43: Clos | AB43: 109 | AC43: 200
A44: 202001044 | B44: LE CONQUERANT | C44: Guillaume | D44: 20474 | E44: 34 | F44: rue victoire | G44: Montpellier | H44: 34090 | I44: 236524538 | J44: 625326003 | K44: le conquerant@hotguil.com | P44: 43908 | Q44: mars | R44: 1 | S44: Biologie_Pathologie | T44: Biochimie Hormonologie Lapeyronie | U44: tous pourris | V44: PEC tumeuroii | W44: Rejanvierpecomie et le pytoervictoir | X44: 43908 | Y44: 43957 | Z44: 44109 | AA44: Clos | AB44: 49 | AC44: 201
... A46: 202001044 | B46: LE CONQUERANT | C46: Guillaume | D46: 20476 | E46: 36 | F46: rue victoire | G46: Montpellier | H46: 34090 | I46: 236524540 | J46: 625326005 | K46: le conquerant@hotguil.com | P46: 43910 | Q46: mars | R46: 3 | S46: Cliniques_Médicales | T46: Dermatologie HC | U46: insoumis révolés | V46: PEC Hoii | W46: Rejanvierpecaladies le pultenvictoir | X46: 43910 | Y46: 43991 | Z46: 44113 | AA46: Clos | AB46: 81 | AC46: 203
A47: 202001045 | B47: GAUGUIN | C47: Paul | D47: 20477 | E47: 37 | F47: rue victoire | G47: Montpellier | H47: 34090 | I47: 236524541 | J47: 625326006 | K47: gauguin@hotmail.com | P47: 43862 | Q47: février | R47: 1 | S47: NSTC | T47: Ophtalmologie CS / HJ | U47: mangeur de bounty | V47: PEC Hoiu | W47: PEC Doutluer | X47: 43862 | AA47: En cours | AB47: En attente | AC47: à traiter
A48: 202001045 | B48: GAUGUIN | C48: Paul | D48: 20478 | E48: 38 | F48: rue victoire | G48: Montpellier | H48: 34090 | I48: 236524542 | J48: 625326007 | K48: gauguin@hotmail.com | P48: 43862 | Q48: février | R48: 2 | S48: EMMBRUN | T48: Maladies métaboliques HS+HJ | U48: 2 doigts coupent faim | V48: PEC Coiu | W48: Droit à rue victoire'inforsation | X48: 43862 | Y48: 43913 | Z48: 44046 | AA48: Clos | AB48: 51 | AC48: 184
A49: 202001046 | B49: COURBET | C49: Gustave | D49: 20479 | E49: 39 | F49: rue victoire | G49: Montpellier | H49: 34090 | I49: 236524543 | J49: 625326008 | K49: courbet@hotmail.com | P49: 43864 | Q49: février | R49: 1 | S49: Gérontologie | T49: SSR Bellevue | U49: comté et fromages périmés | V49: PEC Palliatifois | W49: Droit à rue victoire'inforlution | X49: 43864 | Y49: 43947 | Z49: 44080 | AA49: Clos | AB49: 83 | AC49: 216
A50: 202001046 | B50: COURBET | C50: Gustave | D50: 20480 | E50: 40 | F50: rue victoire | G50: Montpellier | H50: 34090 | I50: 236524544 | J50: 625326009 | K50: courbet@hotmail.com | P50: 43864 | Q50: février | R50: 2 | S50: Os_et_Articulations | T50: Rhumatologie HS + Médecine Physique et Réadapttaion HS | U50: non mais franchement vous y croyez, vous ? | V50: PEC Urologiois | W50: PEC Doutveuer | X50: 43864 | Y50: 43948 | AA50: En cours | AB50: 84 | AC50: à traiter
A51: 202001047 | B51: VAN GOGH | C51: Vincent | D51: 20481 | E51: 41 | F51: rue victoire | G51: Montpellier | H51: 34090 | I51: 236524545 | J51: 625326010 | K51: van gogh@hotmail.com | P51: 43866 | Q51: février | R51: 1 | S51: Enfant | T51: Neuropédiatrie GDC HC | U51: Mais que faire ? | V51: PEC HJoin | W51: PEC Doutntunvier | X51: 43866 | Y51: 43920 | Z51: 44084 | AA51: Clos | AB51: 54 | AC51: 218
A52: 202001047 | B52: VAN GOGH | C52: Vincent | D52: 20482 | E52: 42 | F52: rue victoire | G52: Montpellier | H52: 34090 | I52: 236524546 | J52: 625326011 | K52: van gogh@hotmail.com | P52: 43866 | Q52: février | R52: 2 | S52: Enfant | T52: Neuropédiatrie GDC HC | U52: Qu'allait-il faire dans cette galère | V52: PEC Greffeoin | W52: Renvierpecédiatrique va pe :ervictoir | X52: 43866 | Y52: 43896 | Z52: 44054 | AA52: Clos | AB52: 30 | AC52: 188
A53: 202001048 | B53: MILLET | C53: François | D53: 20483 | E53: 43 | F53: rue victoire | G53: Montpellier | H53: 34090 | I53: 236524547 | J53: 625326012 | K53: millet@hotmail.com | P53: 43868 | Q53: février | R53: 1 | S53: Urgences | T53: Urgences Adultes Lapeyronie | U53: Elle est muette de ce qu'elle ne parle pas | V53: PEC Centre 1oia | W53: Droit à rue victoire'inforvetion | X53: 43868 | AA53: En cours | AB53: En attente | AC53: à traiter
A54: 202001048 | B54: MILLET | C54: François | D54: 20484 | E54: 44 | F54: rue victoire | G54: Montpellier | H54: 34090 | I54: 236524548 | J54: 625326013 | K54: millet@hotmail.com | P54: 43868 | Q54: février | R54: 2 | S54: Urgences | T54: Urgences Adultes Lapeyronie | U54: Vos beaux yeux, Marquise, me font rougir d'amour | V54: PEC Centre 1oia | W54: Droit à rue victoire'inforvetion | X54: 43868 | Y54: 43900 | Z54: 44058 | AA54: Clos | AB54: 32 | AC54: 190
A55: 202001049 | B55: SEURA | C55: Mamère | D55: 20485 | E55: 45 | F55: rue victoire | G55: Montpellier | H55: 34090 | I55: 236524549 | J55: 625326014 | K55: seura@hotmail.com | P55: 43870 | Q55: février | R55: 1 | S55: Département_de_l_Information_Médicale | T55: Département de l'Information Médicale | U55: comme vous l'avez dit la première fois | V55: PEC Médicaloim | W55: Ncvierpecnformation se pn Mimvictoir | X55: 43870 | Y55: 43934 | Z55: 44061 | AA55: Clos | AB55: 64 | AC55: 191
A56: 202001049 | B56: SEURA | C56: Mamère | D56: 20486 | E56: 46 | F56: rue victoire | G56: Montpellier | H56: 34090 | I56: 236524550 | J56: 625326015 | K56: seura@hotmail.com | P56: 43870 | Q56: février | R56: 2 | S56: Cœur_Poumons | T56: Pneumologie HS & SOTAM | U56: Comme je te dis, mon vieux ! | V56: PEC Noroim | W56: PEC Couteurier | X56: 43870 | Y56: 43904 | Z56: 44062 | AA56: Clos | AB56: 34 | AC56: 192
A57: 202001049 | B57: SEURA | C57: Mamère | D57: 20487 | E57: 47 | F57: rue victoire | G57: Montpellier | H57: 34090 | I57: 236524551 | J57: 625326016 | K57: seura@hotmail.com | P57: 43870 | Q57: février | R57: 3 | S57: Biologie_Pathologie | T57: Service de Pharmacologie médicale et toxico-pharmacologie + Parasitologie | U57: un vieux, vaut mieux que deux tu l'auras | V57: PEC DPoim | W57: Ncierpeclogie se pla imvictoir | X57: 43870 | Y57: 43936 | AA57: En cours | AB57: 66 | AC57: à traiter
A58: 202001049 | B58: SEURA | C58: Mamère | D58: 20488 | E58: 48 | F58: rue victoire | G58: Montpellier | H58: 34090 | I58: 236524552 | J58: 625326017 | K58: seura@hotmail.com | P58: 43870 | Q58: février | R58: 4 | S58: Naissance_et_Pathologie_de_la_Femme | T58: Bloc Opératoire / Régulation | U58: laisser aller ses doigts sur le clavier | V58: PEC Foetopathologioim | W58: Ncévrierpecique : se pladimvictoir | X58: 43870 | Y58: 43906 | Z58: 44033 | AA58: Clos | AB58: 36 | AC58: 163
A59: 202001050 | B59: MAERE | C59: Noelle | D59: 20489 | E59: 49 | F59: rue victoire | G59: Montpellier | H59: 34090 | I59: 236524553 | J59: 625326018 | K59: maere@hotmail.com | P59: 43874 | Q59: février | R59: 1 | S59: NSTC | T59: NSTC | U59: et continuer d'associer les idées | V59: PEC étagoie | W59: I rierpec Adultes ma p4èmeuvictoir | X59: 43874 | Y59: 43942 | Z59: 44038 | AA59: Clos | AB59: 68 | AC59: 164
A60: 202001051 | B60: Mitrand | C60: François | D60: 20490 | E60: 50 | F60: rue victoire | G60: Montpellier | H60: 34090 | I60: 236524554 | J60: 625326019 | K60: mitrand@hotmail.com | P60: 43875 | Q60: février | R60: 1 | S60: Urgences | T60: SAMU-Centre 15 | U60: utiliser ma compétence de zèbre | V60: PEC Centre 1oia | W60: Droit à rue victoire'inforvetion | X60: 43875 | Y60: 43913 | AA60: En cours | AB60: 38 | AC60: à traiter
A61: 202001051 | B61: Mitrand | C61: François | D61: 20491 | E61: 51 | F61: rue victoire | G61: Montpellier | H61: 34090 | I61: 236524555 | J61: 625326020 | K61: mitrand@hotmail.com | P61: 43875 | Q61: février | R61: 2 | S61: Missions | T61: Services aux Patients et Santé Publique | U61: pour dire n'importe quoi | V61: PEC Biolooia | W61: PEC Doutoisur | X61: 43875 | Y61: 43945 | Z61: 44041 | AA61: Clos | AB61: 70 | AC61: 166
A62: 202001051 | B62: Mitrand | C62: François | D62: 20492 | E62: 52 | F62: rue victoire | G62: Montpellier | H62: 34090 | I62: 236524556 | J62: 625326021 | K62: mitrand@hotmail.com | P62: 43875 | Q62: février | R62: 3 | S62: Cliniques_Médicales | T62: Dermatologie CS/Plateau Technique/HJ | U62: je ne vais pas m'en tirer | V62: PEC Hoia | W62: PEC Doutoisur | X62: 43875 | Y62: 43946 | Z62: 44075 | AA62: Clos | AB62: 71 | AC62: 200
A63: 202001052 | B63: Chiraque | C63: Jacquot | D63: 20493 | E63: 53 | F63: rue victoire | G63: Montpellier | H63: 34090 | I63: 236524557 | J63: 625326022 | K63: chiraque@hotmail.com | P63: 43878 | Q63: février | R63: 1 | S63: Cliniques_Médicales | T63: Cliniques_Médicales | U63: je vas m'en tirer | V63: PEC oic | W63: PEC Coutoturier | X63: 43878 | Y63: 43939 | Z63: 44079 | AA63: Clos | AB63: 61 | AC63: 201
A64: 202001053 | B64: Hollande | C64: Flamby | D64: 20494 | E64: 54 | F64: rue victoire | G64: Montpellier | H64: 34090 | I64: 236524558 | J64: 625326023 | K64: hollande@hotmail.com | P64: 43879 | Q64: février | R64: 1 | S64: NSTC | T64: Ophtalmo / Neuroradio HC | U64: je suis malade, complètement malade | V64: PEC ADoia | W64: I ierpecliho pDC/arvictoir | X64: 43879 | Y64: 43941 | Z64: 44081 | AA64: Clos | AB64: 62 | AC64: 202
A65: 202001053 | B65: Hollande | C65: Flamby | D65: 20495 | E65: 55 | F65: rue victoire | G65: Montpellier | H65: 34090 | I65: 236524559 | J65: 625326024 | K65: hollande@hotmail.com | P65: 43879 | Q65: février | R65: 2 | S65: Urgences | T65: SAMU-Centre 15 | U65: une maladie d'amour | V65: PEC Centre 1oia | W65: Droit à rue victoire'information | X65: 43879 | Y65: 43942 | Z65: 44082 | AA65: Clos | AB65: 63 | AC65: 203
A66: 202001054 | B66: Makron | C66: Manu | D66: 20496 | E66: 56 | F66: rue victoire | G66: Montpellier | H66: 34090 | I66: 236524560 | J66: 625326025 | K66: makron@hotmail.com | P66: 43881 | Q66: février | R66: 1 | S66: Urgences | T66: Unité Sanitaire de Villeneuve les Maguelones | U66: qui unit dans son lit | V66: PEC Lapeoin | W66: PEC Eoutuuier | X66: 43881 | Y66: 43914 | Z66: 44023 | AA66: Clos | AB66: 33 | AC66: 142
A67: 202001055 | B67: Deschanel | C67: Jacques | D67: 20497 | E67: 57 | F67: rue victoire | G67: Montpellier | H67: 34090 | I67: 236524561 | J67: 625326026 | K67: deschanel@hotmail.com | P67: 43882 | Q67: février | R67: 1 | S67: Os_et_Articulations | T67: Rhumatologie HS + Médecine Physique et Réadapttaion HS | U67: les petits et les grands | V67: PEC Coic | W67: Droit à rue victoire'inforvetion | X67: 43882 | Y67: 43947 | Z67: 43943 | AA67: Clos | AB67: 65 | AC67: 61
A68: 202001055 | B68: Deschanel | C68: Jacques | D68: 20498 | E68: 58 | F68: rue victoire | G68: Montpellier | H68: 34090 | I68: 236524562 | J68: 625326027 | K68: deschanel@hotmail.com | P68: 43882 | Q68: février | R68: 2 | S68: Enfant | T68: Chirurgie pédiatrique HC et HS | U68: Petit écolier, ce n'est que pour les enfants | V68: PEC HCoic | W68: PEC Doutesuer | X68: 43882 | AA68: En cours | AB68: En attente | AC68: à traiter
A69: 202001056 | B69: Voltaire | C69: Thibaut | D69: 20499 | E69: 59 | F69: rue victoire | G69: Montpellier | H69: 34090 | I69: 236524563 | J69: 625326028 | K69: voltaire@hotmail.com | P69: 43884 | Q69: février | R69: 1 | S69: Cœur_Poumons | T69: Pneumologie HS & SOTAM | U69: ça commence à ressembler à quelques chose | V69: PEC Sudoii | W69: PEC Doututuer | X69: 43884 | Y69: 43951 | Z69: 43947 | AA69: Clos | AB69: 67 | AC69: 63
A70: 202001056 | B70: Voltaire | C70: Thibaut | D70: 20500 | E70: 60 | F70: rue victoire | G70: Montpellier | H70: 34090 | I70: 236524564 | J70: 625326029 | K70: voltaire@hotmail.com | P70: 43884 | Q70: février | R70: 2 | S70: Naissance_et_Pathologie_de_la_Femme | T70: CROP | U70: c'est plein de fautes d'orthographe, mais on s'en fout | V70: PEC Gynécologiquoii | W70: Droit à rue victoire'infordition | X70: 43884 | Y70: 43982 | Z70: 44009 | AA70: Clos | AB70: 98 | AC70: 125
A71: 202001056 | B71: Voltaire | C71: Thibaut | D71: 20501 | E71: 61 | F71: rue victoire | G71: Montpellier | H71: 34090 | I71: 236524565 | J71: 625326030 | K71: voltaire@hotmail.com | P71: 43884 | Q71: février | R71: 3 | S71: Cœur_Poumons | T71: Pneumologie HC | U71: comment faire une fiche ? | V71: PEC V.oii | W71: Droit à rue victoire'infordition | X71: 43884 | Y71: 43983 | Z71: 44040 | AA71: Clos | AB71: 99 | AC71: 156
A72: 202001057 | B72: Rousseau | C72: Jean-Jacques | D72: 20502 | E72: 62 | F72: rue victoire | G72: Montpellier | H72: 34090 | I72: 236524566 | J72: 625326031 | K72: rousseau@hotmail.com | P72: 43887 | Q72: février | R72: 1 | S72: Direction_des_Opérations_et_de_la_Performance | T72: Direction_des_Opérations_et_de_la_Performance | U72: trouver le moyen de faire une fiche cliquable | V72: PEC Performaoia | W72: PEC DoutJacquesuvrier | X72: 43887 | Y72: 43987 | Z72: 44046 | AA72: Clos | AB72: 100 | AC72: 159
A73: 202001057 | B73: Rousseau | C73: Jean-Jacques | D73: 20503 | E73: 63 | F73: rue victoire | G73: Montpellier | H73: 34090 | I73: 236524567 | J73: 625326032 | K73: rousseau@hotmail.com | P73: 43887 | Q73: février | R73: 2 | S73: Gérontologie | T73: SSR Bellevue | U73: simplifier la vie des usagers | V73: PEC Clairoia | W73: Revrierpec ro pairervictoir | X73: 43887 | Y73: 43927 | Z73: 44078 | AA73: Clos | AB73: 40 | AC73: 191
A74: 202001058 | B74: Gary | C74: Romain | D74: 20504 | E74: 64 | F74: rue victoire | G74: Montpellier | H74: 34090 | I74: 236524568 | J74: 625326033 | K74: gary@hotmail.com | P74: 43889 | Q74: février | R74: 1 | S74: Cliniques_Médicales | T74: Cliniques_Médicales | U74: simplifier la vie des gestionnaires | V74: PEC Hoim | W74: Refévrierpecaladies ga pultenvictoir | X74: 43889 | Y74: 43961 | Z74: 44081 | AA74: Clos | AB74: 72 | AC74: 192
A75: 202001059 | B75: Mousse | C75: Papier | D75: 20505 | E75: 65 | F75: rue victoire | G75: Montpellier | H75: 34090 | I75: 236524569 | J75: 625326034 | K75: mousse@hotmail.com | P75: 43890 | Q75: février | R75: 1 | S75: Urgences | T75: Urgences | U75: je dois aider camille | V75: PEC Centre 1oip | W75: Droit à rue victoire'inforsation | X75: 43890 | Y75: 43932 | AA75: En cours | AB75: 42 | AC75: à traiter
A76: 202001060 | B76: Pierre | C76: Feuille | D76: 20506 | E76: 66 | F76: rue victoire | G76: Montpellier | H76: 34090 | I76: 236524570 | J76: 625326035 | K76: pierre@hotmail.com | P76: 43891 | Q76: mars | R76: 1 | S76: Digestif | T76: Digestif | U76: J'aime camille, si si j'vous jure ! | V76: PEC continueoiu | W76: Droit à rue victoire'infordition | X76: 43891 | Y76: 43997 | Z76: 44146 | AA76: Clos | AB76: 106 | AC76: 255
A77: 202001061 | B77: Ciseaux | C77: Puis | D77: 20507 | E77: 67 | F77: rue victoire | G77: Montpellier | H77: 34090 | I77: 236524571 | J77: 625326036 | K77: ciseaux@hotmail.com | P77: 43892 | Q77: mars | R77: 1 | S77: Os_et_Articulations | T77: Os_et_Articulations | U77: pourquoi se poser tant de questions et foncer ? | V77: PEC Urologioii | W77: PEC Coutsuvrier | X77: 43892 | Y77: 43968 | Z77: 44148 | AA77: Clos | AB77: 76 | AC77: 256
A78: 202001062 | B78: Etienne | C78: Thibaut | D78: 20508 | E78: 68 | F78: rue victoire | G78: Montpellier | H78: 34090 | I78: 236524572 | J78: 625326037 | K78: etienne@hotmail.com | P78: 43893 | Q78: mars | R78: 1 | S78: Cliniques_Médicales | T78: Hématologie SI et Greffes | U78: Aller, plus que 4 | V78: PEC Hoii | W78: PEC Doututuer | X78: 43893 | Y78: 43970 | Z78: 44089 | AA78: Clos | AB78: 77 | AC78: 196
A79: 202001063 | B79: Robuchon | C79: Joel | D79: 20509 | E79: 69 | F79: rue victoire | G79: Montpellier | H79: 34090 | I79: 236524573 | J79: 625326038 | K79: robuchon@hotmail.com | P79: 43894 | Q79: mars | R79: 1 | S79: NSTC | T79: Accueil Ophtalmologie | U79: Aller, plus que 3 | V79: PEC continuoie | W79: Refévrierpecoiro pinuervictoir | X79: 43894 | Y79: 43942 | Z79: 44091 | AA79: Clos | AB79: 48 | AC79: 197
A80: 202001064 | B80: Lignac | C80: Cyril | D80: 20510 | E80: 70 | F80: rue victoire | G80: Montpellier | H80: 34090 | I80: 236524574 | J80: 625326039 | K80: lignac@hotmail.com | P80: 43895 | Q80: mars | R80: 1 | S80: Biologie_Pathologie | T80: CGEB + IURC + MAI + missions qualité sur le Dpt de biochimie / Hormonologie | U80: plus que 2 | V80: PEC DPoir | W80: I vrierpecOSli pNETeuvictoir | X80: 43895 | Y80: 43944 | Z80: 44093 | AA80: Clos | AB80: 49 | AC80: 198
A81: 202001064 | B81: Lignac | C81: Cyril | D81: 20511 | E81: 71 | F81: rue victoire | G81: Montpellier | H81: 34090 | I81: 236524575 | J81: 625326040 | K81: lignac@hotmail.com | P81: 43895 | Q81: mars | R81: 2 | S81: Cœur_Poumons | T81: Pneumologie HS & SOTAM | U81: C'est bientôt le dernier | V81: PEC Sudoir | W81: PEC Aoutuvrier | X81: 43895 | Y81: 43945 | Z81: 44094 | AA81: Clos | AB81: 50 | AC81: 199
A82: 202001064 | B82: Lignac | C82: Cyril | D82: 20512 | E82: 72 | F82: rue victoire | G82: Montpellier | H82: 34090 | I82: 236524576 | J82: 625326041 | K82: lignac@hotmail.com | P82: 43895 | Q82: mars | R82: 3 | S82: Pharmacie | T82: Pharmacie LAP | U82: The last (but not least) | V82: PEC LAoir | W82: Droit à rue victoire'inforjetion | X82: 43895 | Y82: 43946 | AA82: En cours | AB82: 51 | AC82: à traiter
A83: 202001065 | B83: EPEZY | C83: Guillaume | D83: 27/10/1979 | E83: 229 | F83: route impériale | G83: Baillargues | H83: 34670 | I83: 147412588 | J83: 673160921 | K83: epezy.guillaume@gmail.com | L83: EPEZY | M83: Laura | N83: 40750 | O83: Fille | P83: 43842 | Q83: janvier | R83: 1 | S83: Enfant | T83: Urgences Accueil pédiatrique UHCDE | U83: Hippothyroidie non constatée à la naissance. Un test de glutrie a été nécessaire dans un autre hôpital. 10 jours après la naissance, Necker nous a appelé en urgence sans nous dire vraiment pourquoi. | V83: PEC médicale | W83: Droit à un bon diagnostic | X83: 43842 | AA83: En cours | AB83: En attente | AC83: à traiter
A84: 202001066 | B84: Moreau | C84: Camille | D84: 12 juillet 1981 | E84: 663 | F84: rue du pré aux clercs | G84: Montpellier | H84: 34000 | I84: 404030201 | J84: 601020304 | K84: kmi@dtc.fr | R84: 1 | S84: Digestif | T84: Digestif | U84: Je suis malade aussi.. Mon zebronours me rend folle. | X84: 0 | AA84: En cours | AB84: En attente | AC84: à traiter
A85: 202001067 | B85: Zebrounours | C85: Licorne | D85: 28 juin 2019 | E85: 7 | F85: rue des planètes | G85: Alignées | H85: 34512 | I85: 0405060230 | J85: 0708090605 | K85: zebronours@licorne.fr | R85: 1 | S85: Os_et_Articulations | T85: Rhumatologie - Médecine Physique et Réadaptation CS | U85: @guimauve | X85: 0 | AA85: En cours | AB85: En attente | AC85: à traiter
A86: 202001067 | B86: Zebrounours | C86: Licorne | D86: 28 juin 2019 | E86: 7 | F86: rue des planètes | G86: Alignées | H86: 34512 | I86: 0203020105 | J86: 0708090605 | K86: zebronours@licorne.fr | R86: 2 | S86: NSTC | T86: CS et explo. fonctionnelles d'ORL et CS CMF | U86: @guimauve | X86: 0 | AA86: En cours | AB86: En attente | AC86: à traiter
A87: 202001068 | B87: Machin | C87: Truc | D87: 21/01/2020 | E87: 6 | F87: doihg | G87: SGHgpishp | H87: SIG | I87: PSGIIPs | J87: sgh | K87: PIGYpig | R87: 1 | T87: USLD "L'Espinouse" - 2ième étage | U87: PGIIPGEP | X87: 0 | AA87: En cours | AB87: En attente | AC87: à traiter
A88: 202001069 | B88: Bureau | C88: Table | D88: 25/04/2013 | E88: 6 | F88: lsifhg | G88: lsifgpiusfp | H88: 38040 | I88: 0147412588 | J88: 0102030600 | K88: klhqGH@LAEJHG.com | R88: 1 | S88: Cliniques_Médicales | T88: Hématologie SI et Greffes | U88: wfishgpsbspbhfphvpbih | X88: 0 | AA88: En cours | AB88: En attente | AC88: à traiter
A89: 202001069 | B89: Bureau | C89: Table | D89: 25/04/2013 | E89: 6 | F89: lsifhg | G89: lsifgpiusfp | H89: 38040 | I89: 0147412588 | J89: 0102030600 | K89: klhqGH@LAEJHG.com | R89: 2 | S89: NSTC | T89: Accueil Ophtalmologie | U89: Salut !! | X89: 0 | AA89: En cours | AB89: En attente | AC89: à traiter
A90: 202001070 | B90: Nom | C90: Prénom | D90: Birth | E90: 7 | F90: rue Frédéric Clément | G90: Garches | H90: 92380 | I90: 0147412588 | J90: 0673160921 | K90: garches@point.com | R90: 1 | S90: Urgences | T90: Unité Sanitaire de Villeneuve les Maguelones | U90: Verbatim | X90: 0 | AA90: En cours | AB90: En attente | AC90: à traiter
A91: 202001071 | B91: Nom2 | C91: Prénom2 | R91: 1 | T91: USLD "L'Espinouse" - 2ième étage | X91: 0 | AA91: En cours | AB91: En attente | AC91: à traiter
A92: 202001072 | B92: Nam | C92: Surname | D92: Birth | F92: Street | G92: Town | H92: Zip Code | I92: Hard | J92: Port | K92: mail | R92: 1 | T92: USLD "L'Espinouse" - 2ième étage | X92: 0 | AA92: En cours | AB92: En attente | AC92: à traiter
A93: 202001073 | B93: Renom | C93: Reprénom | D93: 27/10/2013 | E93: 12 | F93: adressedemerde | G93: villepourrie | H93: 923652 | I93: 0302020102 | J93: 0102030202 | K93: mail1@mail.com | R93: 1 | S93: Os_et_Articulations | T93: Rhumatologie - Médecine Physique et Réadaptation CS | U93: essai verbe | X93: 0 | AA93: En cours | AB93: En attente | AC93: à traiter
A94: 202001074 | B94: EssaiIntention | C94: FormIntention | R94: 1 | S94: Gérontologie | T94: Gestion des projets "Convention tripartite" / Animation / Agents de nuit | U94: Intention 1 | X94: 0 | AA94: En cours | AB94: En attente | AC94: à traiter
A95: 202001075 | B95: Adulte | C95: FormIntention | R95: 1 | S95: Enfant | T95: Neuropédiatrie GDC HC | U95: Intention 2 | X95: 0 | AA95: En cours | AB95: En attente | AC95: à traiter
A96: 202001076 | B96: POUET | C96: Guillaume | D96: 27/10/1979 | E96: 229 | F96: route impériale | G96: Baillargues | H96: 34670 | I96: 147412588 | J96: 602320023 | K96: POUET.guillaume@gmail.com | L96: POUET | M96: Laura | N96: 40750 | O96: Fille | P96: 43933 | Q96: avril | R96: 1 | S96: Direction_des_Affaires_Juridiques | T96: USLD "L'Espinouse" - 2ième étage | U96: Courrier de janvier jamais répondu | V96: Manque d'information | W96: Droit de réponse | X96: 43933 | AA96: En cours | AB96: En attente | AC96: à traiter
A97: 202001076 | B97: POUET | C97: Guillaume | D97: 27/10/1979 | E97: 229 | F97: route impériale | G97: Baillargues | H97: 34670 | I97: 147412588 | J97: 602320023 | K97: POUET.guillaume@gmail.com | L97: POUET | M97: Laura | N97: 40750 | O97: Fille | P97: 43933 | Q97: avril | R97: 2 | S97: Enfant | T97: Neuropédiatrie GDC HJ | U97: Ils ne surveillent rien du tout | V97: PEC médicale | W97: Droit à un bon traitement | X97: 43933 | AA97: En cours | AB97: En attente | AC97: à traiter
A98: 202001076 | B98: POUET | C98: Guillaume | D98: 27/10/1979 | E98: 229 | F98: route impériale | G98: Baillargues | H98: 34670 | I98: 147412588 | J98: 602320023 | K98: POUET.guillaume@gmail.com | L98: POUET | M98: Laura | N98: 40750 | O98: Fille | P98: 43933 | Q98: avril | R98: 3 | S98: Enfant | T98: Chirurgie pédiatrique HC et HS | U98: Ils ne sont pas gentils | V98: Accueil | W98: Droit au respect | X98: 43933 | AA98: En cours | AB98: En attente | AC98: à traiter
A99: 202001076 | B99: POUET | C99: Guillaume | D99: 27/10/1979 | E99: 229 | F99: route impériale | G99: Baillargues | H99: 34670 | I99: 147412588 | J99: 602320023 | K99: POUET.guillaume@gmail.com | L99: POUET | M99: Laura | N99: 40750 | O99: Fille | P99: 43933 | Q99: avril | R99: 4 | S99: Enfant | T99: Neuropédiatrie GDC HC | U99: Hippothyroidie non constatée à la naissance. Un test de glutrie a été nécessaire dans un autre hôpital. 10 jours après la naissance, Necker nous a appelé en urgence sans nous dire vraiment pourquoi. | V99: Accueil - Information | W99: Droit à un bon diagnostic | X99: 43933 | AA99: En cours | AB99: En attente | AC99: à traiter
A100: 202001076 | B100: POUET | C100: Guillaume | D100: 27/10/1979 | E100: 229 | F100: route impériale | G100: Baillargues | H100: 34670 | I100: 147412588 | J100: 602320023 | K100: POUET.guillaume@gmail.com | L100: POUET | M100: Laura | N100: 40750 | O100: Fille | P100: 43933 | Q100: avril | R100: 5 | S100: Enfant | T100: Surveillance continue Chirurgicale consultation chirurgie infantile | U100: Incapables de faire une prise de sang en une seule fois. Elle a le bras tout bleu ! | V100: PEC médicale | W100: Droit au respect de son intégrité | X100: 43933 | AA100: En cours | AB100: En attente | AC100: à traiter
A101: 202001076 | B101: POUET | C101: Guillaume | D101: 27/10/1979 | E101: 229 | F101: route impériale | G101: Baillargues | H101: 34670 | I101: 147412588 | J101: 602320023 | K101: POUET.guillaume@gmail.com | L101: POUET | M101: Laura | N101: 40750 | O101: Fille | P101: 43933 | Q101: avril | R101: 6 | S101: Enfant | T101: Surveillance continue Chirurgicale consultation chirurgie infantile | U101: Ma fille est musulmane et aurait dû être reçue par une femme | V101: Accueil - Autres | W101: Droit au respect de son obédience religieuse | X101: 43933 | AA101: En cours | AB101: En attente | AC101: à traiter
...

Sheet Listes de choix
A1: Cliniques Médicales | B1: Cliniques médicales | C1: Numéro d'intention | F1: Cliniques_Médicales | G1: Digestif | H1: NSTC | I1: Gérontologie | J1: EMMBRUN | K1: Urgences | L1: Os_et_Articulations | M1: Enfant | N1: Biologie_Pathologie | O1: Cœur_Poumons | P1: Naissance_et_Pathologie_de_la_Femme | Q1: Psychiatrie | R1: Pharmacie | S1: Département_de_l_Information_Médicale | T1: Direction_des_Finances_et_du_Système_d_Information | U1: Colonne1 | V1: Direction_des_Ressources_Humaines_et_Formations | W1: Direction_de_la_Recherche_et_de_l_Innovation | X1: Direction_des_Affaires_Médicales_de_la_Stratégies_et_de_la_Coopération | Y1: Direction_des_Affaires_Juridiques | Z1: Direction_des_Opérations_et_de_la_Performance | AA1: Direction_de_la_Qualité_et_de_la_Gestion_des_Risques | AB1: Direction_des_Affaires_Générales_de_la_Communication_et_des_Relations_Internationales | AC1: Missions | AD1: Direction_déléguée_CH_de_Millau_et_Hôpital_Maurice_Fenaille | AE1: Direction_de_la_Coordination_Générale_des_Soins
A2: Dermatologie | B2: Dermatologie HC | C2: 1 | F2: Dermatologie HC | G2: HGET A | H2: Ophtalmologie CS / HJ | I2: Court séjour "Mont Caroux" - 1er Etage Sud | J2: Endocrinologie Diabète CS | K2: SAMU-Centre 15 | L2: Immuno-Rhumatologie HC | M2: Urgences Accueil pédiatrique UHCDE | N2: Biochimie Hormonologie Lapeyronie | O2: Plateau Technique des Maladies Respiratoires | P2: Bloc Opératoire / Régulation | Q2: HJ - Pav. J. Minvielle (Pav. 14) | R2: Pharmacie STE | S2: Département de l'Information Médicale | T2: Finances | U2: Direction_des_Investissements_et_de_la_Logistique | V2: Ressources Humaines | W2: Recherche et Innovation | X2: Affaires Médicales, Statégie et Coopération | Y2: Affaires Juridiques | Z2: Opération et Performance | AA2: Qualité et Gestion des Risques | AB2: Affaires Générales, Communication et Relations Internationales | AC2: Cancérologie et Biologie | AD2: CHU de Millau et hôpital Maurice Fenaille | AE2: Coordination Générale des Soins
B3: Dermatologie CS/Plateau Technique/HJ | C3: 2 | F3: Dermatologie CS/Plateau Technique/HJ | G3: HGET B | H3: Ophtalmo / Neuroradio HC | I3: Court séjour "Mont Saint Clair" | J3: Maladies métaboliques HS+HJ | K3: Urgences Adultes Lapeyronie | L3: Rhumatologie HS + Médecine Physique et Réadapttaion HS | M3: Chirurgie pédiatrique HC et HS | N3: Bactériologie | O3: Pneumologie HS & SOTAM | P3: Bloc de naissances et Urgences obstétricales | Q3: Clinique Euzières - Unité d'admission, d'évaluation et d'orientation | R3: Pharmacie LAP | T3: Système d'Information | U3: Achat et Approvisionnements | V3: Formations et Développement Professionnel | AC3: Services aux Patients et Santé Publique
A4: Hématologie Clinique | B4: Hématologie SI et Greffes | C4: 3 | F4: Hématologie SI et Greffes | G4: HGET HS | H4: Accueil Ophtalmologie | I4: Unité Mobile Gériatrique | J4: Maladies endocriniennes HC | K4: Unité Sanitaire de Villeneuve les Maguelones | L4: Rhumatologie - Médecine Physique et Réadaptation CS | M4: Surveillance continue Chirurgicale consultation chirurgie infantile | N4: Service de Pharmacologie médicale et toxico-pharmacologie + Parasitologie | O4: Pneumologie HC | P4: CROP | Q4: Clinique Mairet | R4: Stérilisation GDC | T4: Projets Régionaux du Système d'Information | U4: Achats groupés GCS RESAH-LR | AC4: Culte
B5: Hématologie Clinique HC | C5: 4 | F5: Hématologie Clinique HC | G5: Plateau technique d'endoscopie digestive | H5: CS et explo. fonctionnelles d'ORL et CS CMF | I5: Unité de Soins Longue Durée "L'Aigoual" - RDC | J5: Urologie IA HS+HJ+SC+SI | K5: Urgences Psychiatrie / SMUR | L5: Rhumatologie HJ | M5: Neuropédiatrie GDC HC | N5: CGEB + IURC + MAI + missions qualité sur le Dpt de biochimie / Hormonologie | O5: Allergologie CS et HJ | P5: Urgences Gynécologiques | Q5: Unités Intersectorielles Nord - Les Hauts de Massane : | R5: Stérilisation /Désinfection LAP | T5: Accueil Facturations CIV | U5: Logistique et Transports | AC5: Prise en charge sociale des patients
B6: Hématologie Générale HC | C6: 5 | F6: Hématologie Générale HC | G6: HGET CS | H6: ORL / CMF B HC | I6: Unité de Soins Longue Durée "La Seranne" - 1er étage | J6: Plaies et cicatrisation HC | K6: Urgences Tête et Cou (UTEC) | L6: Médecine Physique et de Réadaptation HC et HJ | M6: Neuropédiatrie GDC HJ | N6: Laboratoire de Virologie (Lapeyronie) + Virologie (St Eloi) + CIC (St Eloi) | O6: Unité Soins Intensifs Pneumo (USIP) | P6: Consult. Ext. gynéco obst. | Q6: HJ Les Hauts de Massane | U6: Travaux et Biomédical | AC6: Protection des Majeurs
B7: Hémato. CS./ HJ/ Aphérèse Thér. | C7: 6 | F7: Hémato. CS./ HJ/ Aphérèse Thér. | G7: Chirurgie Digestive B HC | H7: ORL / CMF A HC / Soins continus | I7: Unité de Soins de Suite et Réadaptation B | J7: Urologie IB HC | K7: CESU | L7: Médecine Physique et de Réadaptation HS | M7: Neuropédiatrie GDC CS | N7: Biopathologie Cellulaire et Tissulaire des tumeurs + Cytogénétique | O7: Chirurgie Thoracique & Vasculaire HC Secteur Surveillance Continue | P7: HJ Orthogénie | Q7: CATTP Les Hauts de Massane | U7: Sécurité Incendie et sûreté | AC7: Remplacement des secrétariats médicaux
A8: Oncologie Médicale | B8: Oncologie Médicale CS/ HJ | C8: 7 | F8: Oncologie Médicale CS/ HJ | G8: Chirurgie Digestive B HS | H8: Explor. et consultations de Neurologie | I8: Gériatrie CS - HJ | J8: Réanimation Métabolique | K8: Plateau d'Imagerie Médicale secteur Urgences | L8: Orthopédie membres inférieurs et Rachis | M8: Centre Action Médico Sociale Précoce (CAMSP) Saint Eloi | N8: Immunologie (St Eloi) + Pool | O8: Chirurgie Cardiaque et Vasculaire HC (secteur HC et Soins Continus) | P8: Consult gynécologie obstétrique | Q8: C.M.P. Les Hauts de Massane | AC8: Service des Dossiers Médicaux
B9: Oncologie / Hématologie HC | C9: 8 | F9: Oncologie / Hématologie HC | G9: Chirurgie Digestive CS | H9: Neurophysiologie clinique GDC/ADV | I9: Hôpital de Jour Gériatrique | J9: Réanimation Médicale Assistance Respiratoire Réa (GDC) | K9: Scanner | L9: Orthopédie membres supérieurs SC | M9: Pédiatrie spécialisée Néphro Endocrino Diabéto | N9: Hématologie biologique + CRTH (St Eloi) | O9: Bloc C.T.C.V. | P9: Centre de Prélèvements | Q9: Diagnostic et thérapeutique + sismothérapie | AC9: Standard CHU
A10: Maladies infectieuses et Tropicale (MIT) | B10: MIT HC | C10: 9 | F10: MIT HC | G10: DAR B | H10: Stroke-center (neurologie, urgence, neurovasculaires - soins intensifs) | I10: USLD "Pic St Loup" - 1er étage | J10: UARP | K10: IRM Sénologie | L10: Orthopédie membres inférieurs Pieds | M10: Pédiatrie spécialisée Cardiologie - Pneumologie | N10: Banque de tissus + UTC + Laboratoire d'hygiène | O10: Régulation suppléante | P10: HC Gynéco Obst Chir (2ème Et) : Salle de soins et CS d'orthogénie | Q10: Clinique Guilhem I - Bât B3 | AC10: Service des Soins Sans Consentement et de la Banque des Malades
B11: MIT CS / HJ | C11: 10 | H11: Clinique du motoneurone et pathologies neuromusculaires | J11: Clinique du Pied Diabète HJ | M11: Pédiatrie spécialisée gastro-entérologie HC
A12: Médecine interne | B12: Médecine interne maladies multi-organiques de l'adulte HC | F12: MIT CS / HJ | G12: Anesthésie CS | H12: Neurologie Générale - HC Neurologie vasculaire - HC | I12: USLD "L'Espinouse" - 2ième étage | J12: Brûlés HC | K12: Accueil + Radiologie conventionnelle | L12: Orthopédie Traumatologie | M12: Pédiatrie spécialisée Dialyse | N12: EFR/CERAMM+BDR/CECOS CYTOGENETIQUE DPI | O12: Cardiologie "Aile Nord" | P12: HC Grossesses à Hauts Risques (4eme) : SdS Sage Femme HAD | Q12: CMP le "Point de Repère"
B13: Médecine interne et maladies vasculaires HC | F13: Médecine interne maladies multi-organiques de l'adulte HC | G13: HJ | H13: HS de Neurologie et des Troubles du Sommeil et de l'éveil | I13: SSR Bellevue | J13: Policlinique-CS (Uro/Néphro/Méd. Int./MME) | K13: DAR A | L13: Orthopédie CS | M13: Pédiatrie Néonatale SI | N13: Service des Transports d'Analyses Biologiques hors pôle (STAB) | O13: Cardiologie "Aile Sud" | P13: Post Accouchement HC (3ème & 4ème) : SdS et unité soins en berceaux | Q13: Hôpital de Jour "Les Arceaux"
B14: Médecine interne et complications somatiques des addictions HC | F14: Médecine interne et maladies vasculaires HC | G14: Surveillance continue | H14: HJ de Neurologie | I14: Soins Palliatifs | J14: Néphrologie HC | K14: Urgences Psychiatriques | L14: UCAA Chirurgie Ambulatoire | M14: Pédiatrie Néonatale CROP | N14: Laboratoire d'anatomie et cytologie pathologiques GDC + démarche qualité transversale sur le département biopathologie cellulaire et tissulaire des tumeurs | O14: Consultation cardiologique | P14: HJ gynécologie | Q14: HJ La Clarté
B15: DIAGORA | F15: Médecine interne et complications somatiques des addictions HC | G15: Coord. Prélèvements d'organes | H15: Soins intensifs de Neurologie et Neurovasculaire | I15: Gestion des projets "Convention tripartite" / Animation / Agents de nuit | J15: Néphrologie SI | K15: Chambre mortuaire | L15: Bloc II Urologie | M15: Pédiatrie Néonatale et Réanimations : Réa. Néonatale | N15: Génétique Médicale Clinique CS | O15: Consultation C.T.C.V. | P15: Médecine & Biologie de la reproduction | Q15: Clinique du Vidourle - Bât B2
B16: Médecine interne Consult / Explo. angiologiques et cardiologiques | F16: DIAGORA | G16: Imagerie Médicale STE | H16: Consultations de Neurochirurgie | I16: SSR unité Cognitivo-Comportementale HC Balmès | J16: Médecine Interne HC+HS | K16: Médecine Légale | L16: Bloc II Chirurgie Orthopédique, Plastique et Viscérale Pédiatrique | M16: Pédiatrie Néonatale et Réanimations :Réa Pédiatrique | N16: Laboratoire de Biologie de la reproduction AMP / DPI | O16: Consultation Anesthésie | P16: CECOS | Q16: C.M.P. La Pompignane
B17: Médecine interne HJ | F17: Médecine interne Consult / Explo. angiologiques et cardiologiques | G17: Bloc oprétaoire Digestif | H17: Hospitalisation NC Adultes 3ième étage | J17: Plaies et cicatrisation CS | K17: Urgences Adultes UHCD | L17: Anesthésie SSPI I et II | M17: Pédiatrie Lactarium | O17: Exploration Cardio vasc. non invasives | P17: Consultation génétique | Q17: CATTP Carré Ste Anne
B18: PASS | F18: Médecine interne HJ | G18: Anesthésie Bloc opératoire Digestif | H18: Hospitalisation NC Adultes 4ème étage | J18: Brûlés CS | M18: Pédiatrie Générale, Infectiologie et Immuno clinique : Gastro Entérologie | O18: Exploration Cardio vasc. invasives | P18: Biopathologie cellulaire ADV + plateau de séquençage haut débit + cytogénétique | Q18: Hôpital de Jour de Lunel
B19: Sourds et Malentendants | F19: PASS | G19: Chirurgie Digestive A HC | H19: Hospit. et SI de NC Pédiatriques | J19: Nutrition et Diabète HC | L19: Bloc I Orthopédie (Pôle Os et Articulations) | M19: Pédiatrie Générale, Infectiologie et Immuno clinique : Maladies Infectieuses | O19: Réadaptation cardiaque & éducation thérapeutique | Q19: C.M.P. Lunel
B20: HAD | F20: Sourds et Malentendants | H20: Surveillance continue de NC | J20: Chirurgie plastique reconstructrice et esthétique | M20: Onco hématologie pédiatrique : HDJ et Réso LR | O20: Unité Soins Intensifs Cardio (USIC) | Q20: C.A.T.T.P. Lunel
A21: Soins Palliatifs | B21: Unité de soins palliatifs HC | F21: HAD | H21: CS d'anesthésie | M21: Onco hématologie pédiatrique : Hématologie Onco Péd SI | O21: UMCA (Unité Médico-Chirurgicale Ambulatoire) | Q21: Clinique Henry Ey - Pav.- Bât B3
B22: Unité mobile de soins palliatifs | F22: Unité de soins palliatifs HC | H22: Réanimation Hospitalisation DAR GDC | M22: Onco hématologie pédiatrique | O22: DAR Réanimation CTCV | Q22: Hôpital de Jour J.B. Pussin- Lodève
A23: Douleur, Psychosomatique Maladies fonctionnelles | B23: Algologie HS | F23: Unité mobile de soins palliatifs | H23: UCCA | M23: Consultations Médicales | O23: D.A.R. Anesthésie | Q23: C.A.T.T.P. "rencontre" - Lodève
B24: Algologie CS | F24: Algologie HS | H24: CSERD | M24: Algologie pédiatrique et soins palliatifs (LAP) | O24: Imagerie Médicale Centrale / IRM | Q24: Hôpital de jour CMP Gignac
B25: Psychosomatique CS et HJ | F25: Algologie CS | H25: Neuroradiologie et Radiologie IRM GDC | M25: Ludothèque | O25: Radiologie Vasculaire | Q25: CMP de Gignac
A26: Addictologie | B26: Unité d'addictologie HC | F26: Psychosomatique CS et HJ | H26: Médecine Nucléaire GDC | M26: Imagerie secteur Radiopédiatrie | O26: Cardiologie CS | Q26: CATTP - CMP Clermont L'Hérault
B27: Centre de soins d'accompagnement et de prévention en addictologie | F27: Unité d'addictologie HC | H27: Bloc | M27: Anesthésie Réanimation | O27: Chirurgie Thoracique & Vasculaire HC | Q27: Clinique du Littoral - Bât. B2
B28: Equipe de liaison et de soutien en addictologie | F28: Centre de soins d'accompagnement et de prévention en addictologie | H28: UCAA | M28: Chirurgie Infantile Viscérale CS | O28: Pneumologie CS | Q28: HJ Eurydice - chemin de Moularès
A29: Hygiène Hospitalière | B29: UHHP STE / GDC | F29: Equipe de liaison et de soutien en addictologie | H29: Neurologie CS | Q29: HJ Lattes St Exupéry
B30: UHHP ADV | F30: UHHP STE / GDC | Q30: CMP Champollion
B31: UHHP LAP | F31: UHHP ADV | Q31: CMP + HJ Moularès
B32: UHHP Coordination | F32: UHHP LAP | Q32: CMP la Gde Motte
B33: UHHP COL / BAL / BEL | F33: UHHP Coordination | Q33: Bureau des cadres extra PC médical
B34: UHHP | F34: UHHP COL / BAL / BEL | Q34: la Traversière - Bât C
A35: Digestif | B35: Digestif | F35: UHHP | Q35: Hôpital de Jour Nord Est
A36: Hépato-gastroentérologie | B36: HGET A | F36: CeGIDD | Q36: Clinique "Les Tilleuls 1"
B37: HGET B | Q37: Hôpital de jour l'Oasis - pav 3
B38: HGET HS | Q38: C.M.P. de Mèze
B39: Plateau technique d'endoscopie digestive | Q39: Hôpital de jour de Mèze
B40: HGET CS | Q40: Sce ambulatoire + CATTP "Le Grand Chemin"
A41: Chirurgie Digestive et transplantation hépatique | B41: Chirurgie Digestive B HC | Q41: Les Sophoras URP I - Bât B1
B42: Chirurgie Digestive HS | Q42: Equipe mobile de réhabilitation psychiatrique
B43: Chirurgie Digestive CS | Q43: U.Soins Intensifs Psy (USIP- Bât A)
A44: Anesthésie-Réanimation | B44: DAR B | Q44: EDIT (réinsertion par le travail)
B45: Anesthésie CS | Q45: Atelier thérapeutique La Maïre
A46: Structures communes | B46: HJ | Q46: UTTAD (anxieux dépressif)
B47: Surveillance continue | Q47: Equipe mobile autisme adulte à Jacou
A48: Coordination des prélèvements d'organes | B48: Coord. Prélèvements d'organes | Q48: HJ New Fresco à Jacou
A49: Imagerie Médicale | B49: Imagerie Médicale STE | Q49: Unité adolescents USGA
A50: Bloc opératoire | B50: Bloc oprétaoire Digestif | Q50: Unité Jeunes Adultes USJA
B51: Anesthésie Bloc opératoire Digestif | Q51: Réseau PHILADO et périnatalité
A52: NSTC | B52: NSTC | Q52: psychiatrie de liaison enfants / ados
A53: Ophtalmologie / Neuroradiologie | B53: Ophtalmologie CS / HJ | Q53: UMIPPP (Précarité)
B54: Ophtalmo / Neuroradio HC | Q54: Salon de coiffure femmes
B55: Accueil Ophtalmologie | Q55: Salon d'esthétique
A56: ORL et Chirurgie cervico-faciale | B56: CS et explo. fonctionnelles d'ORL et CS CMF | Q56: Cafétéria "Le Club"
B57: ORL / CMF B HC | Q57: service des sports
B58: ORL / CMF A HC / Soins continus | Q58: CMP Les Hauts de Massane
A59: Neurologie | B59: Explor. et consultations de Neurologie | Q59: Unité tps complet adolescents
B60: Neurophysiologie clinique GDC/ADV | Q60: Hôpital de jour Jeunes enfants
B61: Stroke-center (neurologie, urgence, neurovasculaires - soins intensifs) | Q61: Hôpital de jour enfants - UPP (Unité Prévention Pédopsychiatrie)
B62: Neurologie Générale - HC Neurologie vasculaire - HC | Q62: Hôpital de jour UDS (Unité Diagnostic et Soins) 6-12 ans
B63: HS de Neurologie et des Troubles du Sommeil et de l'éveil | Q63: CS MPEA St Eloi
B64: HJ de Neurologie | Q64: Enfants - Consultations Lunel
B65: Soins intensifs de Neurologie et Neurovasculaire | Q65: Villa des 2 Ruisseaux - Av. Père Soulas
A66: Neurochirurgie | B66: Consultations de Neurochirurgie | Q66: HJ UDS (Unité Diagnostic et Soins) Lunel
B67: Hospitalisation NC Adultes 3ième étage | Q67: Unité Enfance - Villa St Georges
B68: Hospitalisation NC Adultes 4ème étage | Q68: CMP Gignac
B69: Hospit. et SI de NC Pédiatriques | Q69: Unité Adolescents - Peyre Plantade
B70: Surveillance continue de NC | Q70: Unité Petite Enfance
A71: Anesthésie-Réanimation GDC" | B71: CS d'anesthésie | Q71: Unité d'évaluation
B72: Réanimation Hospitalisation DAR GDC | Q72: Centre de Ressources Autisme
A73: Unité de Chirurgie et d'Anesthésie Ambulatoire | B73: UCCA | Q73: Consultations MPEA Peyre Plantade
A74: Centre de Soins, d'enseignement et de recherche dentaires | B74: CSERD | Q74: unité de Diagnostic et de Soins de l'Autisme Adulte
A75: Neuroradiologie et Médecine Nucléaire | B75: Neuroradiologie et Radiologie IRM GDC
B76: Médecine Nucléaire GDC
A77: Blocs Opératoires DIG / TC | B77: Bloc
B78: Anesthésie
A79: Gérontologie
A80: Centre Antonin Balmès | B80: Court séjour "Mont Caroux" - 1er Etage Sud
B81: Court séjour "Mont Saint Clair"
B82: Unité Mobile Gériatrique
B83: Unité de Soins Longue Durée "L'Aigoual" - RDC
B84: Unité de Soins Longue Durée "La Seranne" - 1er étage
B85: Unité de Soins de Suite et Réadaptation B
B86: CS - HJ
B87: Hôpital de Jour Gériatrique
A88: Centre Bellevue | B88: USLD "Pic St Loup" - 1er étage
B89: USLD "L'Espinouse" - 2ième étage
B90: SSR Bellevue
A91: Centre Antonin Balmès / Bellevue | B91: Soins Palliatifs
B92: Gestion des projets "Convention tripartite" / Animation / Agents de nuit
A93: EMMBRUN
A94: Département d'endocrinologie- diabétologie- nutrition | B94: Endocrinologie Diabète CS
B95: Maladies métaboliques HS+HJ
B96: Maladies endocriniennes HC
A97: Département de chirurgie | B97: Urologie IA HS+HJ+SC+SI
B98: Plaies et cicatrisation HC
B99: Urologie IB HC
A100: Département de réanimation | B100: Réanimation Métabolique
...

Sheet Fiche réclamation
A1: Fiche réclamation d'un Usager
A4: N° du courrier | C4: 202001076
A5: Date de réception | C5: =VLOOKUP($C$4,Général!$A$2:$AC$106,16) -> 43933
A6: Coordonnées du Contact
A7: Nom | C7: =VLOOKUP($C$4,Général!$A$2:$AC$106,2) -> POUET
A8: Prénom | C8: =VLOOKUP($C$4,Général!$A$2:$AC$106,3) -> Guillaume
A9: N° rue | C9: =VLOOKUP($C$4,Général!$A$2:$AC$106,5) -> 229
A10: Adresse | C10: =VLOOKUP($C$4,Général!$A$2:$AC$106,6) -> route impériale
A11: Complément
A12: Ville | C12: =VLOOKUP($C$4,Général!$A$2:$AC$106,7) -> Baillargues
A13: Code Postal | C13: =VLOOKUP($C$4,Général!$A$2:$AC$106,8) -> 34670
A14: N° tel fixe | C14: =VLOOKUP($C$4,Général!$A$2:$AC$106,9) -> 147412588
A15: N° tel portable | C15: =VLOOKUP($C$4,Général!$A$2:$AC$106,10) -> 602320023
A16: adresse mail | C16: =VLOOKUP($C$4,Général!$A$2:$AC$106,11) -> POUET.guillaume@gmail.com
A18: Identité de la personne concernée
A19: Nom | C19: =VLOOKUP($C$4,Général!$A$2:$AC$106,12) -> POUET
A20: Prénom | C20: =VLOOKUP($C$4,Général!$A$2:$AC$106,13) -> Laura
A21: Date de naissance | C21: =VLOOKUP($C$4,Général!$A$2:$AC$106,14) -> 40750
A22: Lien de parenté avec le réclamant | C22: =VLOOKUP($C$4,Général!$A$2:$AC$106,15) -> Fille
A24: Intention | C24: =VLOOKUP($C$4,Général!$A$2:$AC$106,18) -> 9
A25: Pôle concerné | C25: =VLOOKUP($C$4,Général!$A$2:$AC$106,19) -> Enfant
A26: Unité Concernée | C26: =VLOOKUP($C$4,Général!$A$2:$AC$106,20) -> Neuropédiatrie GDC HC
A27: Motif | C27: =VLOOKUP($C$4,Général!$A$2:$AC$106,22) -> Accueil
A28: Droit du patient | C28: =VLOOKUP($C$4,Général!$A$2:$AC$106,23) -> Droit à un coup dans les parties
A29: Verbatim | C29: =VLOOKUP($C$4,Général!$A$2:$AC$106,21) -> Comment ? La téloche est pas gratuite ! ??
A32: Intention | C32: =VLOOKUP($C$4,Général!$A$2:$AC$106,18) -> 9
A33: Pôle concerné | C33: =VLOOKUP($C$4,Général!$A$2:$AC$106,19) -> Enfant
A34: Unité Concernée | C34: =VLOOKUP($C$4,Général!$A$2:$AC$106,20) -> Neuropédiatrie GDC HC
A35: Motif | C35: =VLOOKUP($C$4,Général!$A$2:$AC$106,22) -> Accueil
A36: Droit du patient | C36: =VLOOKUP($C$4,Général!$A$2:$AC$106,23) -> Droit à un coup dans les parties
A37: Verbatim | C37: =VLOOKUP($C$4,Général!$A$2:$AC$106,21) -> Comment ? La téloche est pas gratuite ! ??
A40: Intention | C40: =VLOOKUP($C$4,Général!$A$2:$AC$106,18) -> 9
A41: Pôle concerné | C41: =VLOOKUP($C$4,Général!$A$2:$AC$106,19) -> Enfant
A42: Unité Concernée | C42: =VLOOKUP($C$4,Général!$A$2:$AC$106,20) -> Neuropédiatrie GDC HC
A43: Motif | C43: =VLOOKUP($C$4,Général!$A$2:$AC$106,22) -> Accueil
A44: Droit du patient | C44: =VLOOKUP($C$4,Général!$A$2:$AC$106,23) -> Droit à un coup dans les parties
A45: Verbatim | C45: =VLOOKUP($C$4,Général!$A$2:$AC$106,21) -> Comment ? La téloche est pas gratuite ! ??
A48: Intention | C48: =VLOOKUP($C$4,Général!$A$2:$AC$106,18) -> 9
A49: Pôle concerné | C49: =VLOOKUP($C$4,Général!$A$2:$AC$106,19) -> Enfant
A50: Unité Concernée | C50: =VLOOKUP($C$4,Général!$A$2:$AC$106,20) -> Neuropédiatrie GDC HC
A51: Motif | C51: =VLOOKUP($C$4,Général!$A$2:$AC$106,22) -> Accueil
A52: Droit du patient | C52: =VLOOKUP($C$4,Général!$A$2:$AC$106,23) -> Droit à un coup dans les parties
A53: Verbatim | C53: =VLOOKUP($C$4,Général!$A$2:$AC$106,21) -> Comment ? La téloche est pas gratuite ! ??
A56: Intention | C56: =VLOOKUP($C$4,Général!$A$2:$AC$106,18) -> 9
A57: Pôle concerné | C57: =VLOOKUP($C$4,Général!$A$2:$AC$106,19) -> Enfant
A58: Unité Concernée | C58: =VLOOKUP($C$4,Général!$A$2:$AC$106,20) -> Neuropédiatrie GDC HC
A59: Motif | C59: =VLOOKUP($C$4,Général!$A$2:$AC$106,22) -> Accueil
A60: Droit du patient | C60: =VLOOKUP($C$4,Général!$A$2:$AC$106,23) -> Droit à un coup dans les parties
A61: Verbatim | C61: =VLOOKUP($C$4,Général!$A$2:$AC$106,21) -> Comment ? La téloche est pas gratuite ! ??
A64: Intention | C64: =VLOOKUP($C$4,Général!$A$2:$AC$106,18) -> 9
A65: Pôle concerné | C65: =VLOOKUP($C$4,Général!$A$2:$AC$106,19) -> Enfant
A66: Unité Concernée | C66: =VLOOKUP($C$4,Général!$A$2:$AC$106,20) -> Neuropédiatrie GDC HC
A67: Motif | C67: =VLOOKUP($C$4,Général!$A$2:$AC$106,22) -> Accueil
A68: Droit du patient | C68: =VLOOKUP($C$4,Général!$A$2:$AC$106,23) -> Droit à un coup dans les parties
A69: Verbatim | C69: =VLOOKUP($C$4,Général!$A$2:$AC$106,21) -> Comment ? La téloche est pas gratuite ! ??
A72: Intention | C72: =VLOOKUP($C$4,Général!$A$2:$AC$106,18) -> 9
A73: Pôle concerné | C73: =VLOOKUP($C$4,Général!$A$2:$AC$106,19) -> Enfant
A74: Unité Concernée | C74: =VLOOKUP($C$4,Général!$A$2:$AC$106,20) -> Neuropédiatrie GDC HC
A75: Motif | C75: =VLOOKUP($C$4,Général!$A$2:$AC$106,22) -> Accueil
A76: Droit du patient | C76: =VLOOKUP($C$4,Général!$A$2:$AC$106,23) -> Droit à un coup dans les parties
A77: Verbatim | C77: =VLOOKUP($C$4,Général!$A$2:$AC$106,21) -> Comment ? La téloche est pas gratuite ! ??
A80: Intention | C80: =VLOOKUP($C$4,Général!$A$2:$AC$106,18) -> 9
A81: Pôle concerné | C81: =VLOOKUP($C$4,Général!$A$2:$AC$106,19) -> Enfant
A82: Unité Concernée | C82: =VLOOKUP($C$4,Général!$A$2:$AC$106,20) -> Neuropédiatrie GDC HC
A83: Motif | C83: =VLOOKUP($C$4,Général!$A$2:$AC$106,22) -> Accueil
A84: Droit du patient | C84: =VLOOKUP($C$4,Général!$A$2:$AC$106,23) -> Droit à un coup dans les parties
A85: Verbatim | C85: =VLOOKUP($C$4,Général!$A$2:$AC$106,21) -> Comment ? La téloche est pas gratuite ! ??
A88: Intention | C88: =VLOOKUP($C$4,Général!$A$2:$AC$106,18) -> 9
A89: Pôle concerné | C89: =VLOOKUP($C$4,Général!$A$2:$AC$106,19) -> Enfant
A90: Unité Concernée | C90: =VLOOKUP($C$4,Général!$A$2:$AC$106,20) -> Neuropédiatrie GDC HC
A91: Motif | C91: =VLOOKUP($C$4,Général!$A$2:$AC$106,22) -> Accueil
A92: Droit du patient | C92: =VLOOKUP($C$4,Général!$A$2:$AC$106,23) -> Droit à un coup dans les parties
A93: Verbatim | C93: =VLOOKUP($C$4,Général!$A$2:$AC$106,21) -> Comment ? La téloche est pas gratuite ! ??
A96: Intention | C96: =VLOOKUP($C$4,Général!$A$2:$AC$106,18) -> 9
A97: Pôle concerné | C97: =VLOOKUP($C$4,Général!$A$2:$AC$106,19) -> Enfant
A98: Unité Concernée | C98: =VLOOKUP($C$4,Général!$A$2:$AC$106,20) -> Neuropédiatrie GDC HC
A99: Motif | C99: =VLOOKUP($C$4,Général!$A$2:$AC$106,22) -> Accueil
A100: Droit du patient | C100: =VLOOKUP($C$4,Général!$A$2:$AC$106,23) -> Droit à un coup dans les parties
A101: Verbatim | C101: =VLOOKUP($C$4,Général!$A$2:$AC$106,21) -> Comment ? La téloche est pas gratuite ! ??
