Workbook
Name Biologie_Pathologie: 'Listes de choix'!$N$1:$N$33
Name Cliniques_Médicales: 'Listes de choix'!$F$1:$F$36
Name Cœur_Poumons: 'Listes de choix'!$O$1:$O$35
Name Département_de_l_Information_Médicale: 'Listes de choix'!$S$1:$S$88
Name Digestif: 'Listes de choix'!$G$1:$G$61
Name Direction_de_la_Coordination_Générale_des_Soins: 'Listes de choix'!$AE$1:$AE$4
Name Direction_de_la_Qualité_et_de_la_Gestion_des_Risques: 'Listes de choix'!$AA$1:$AA$3
Name Direction_de_la_Recherche_et_de_l_Innovation: 'Listes de choix'!$W$1:$W$5
Name Direction_déléguée_CH_de_Millau_et_Hôpital_Maurice_Fenaille: 'Listes de choix'!$AD$1:$AD$13
Name Direction_des_Affaires_Générales_de_la_Communication_et_des_Relations_Internationales: 'Listes de choix'!$AB$1:$AB$6
Name Direction_des_Affaires_Juridiques: 'Listes de choix'!$Y$1:$Y$3
Name Direction_des_Affaires_Médicales_de_la_Stratégies_et_de_la_Coopération: 'Listes de choix'!$X$1:$X$5
Name Direction_des_Finances_et_du_Système_d_Information: 'Listes de choix'!$T$1:$T$7
Name Direction_des_Investissements_et_de_la_Logistique: 'Listes de choix'!$U$2:$U$7
Name Direction_des_Opérations_et_de_la_Performance: 'Listes de choix'!$Z$1:$Z$4
Name Direction_des_Ressources_Humaines_et_Formations: 'Listes de choix'!$V$1:$V$8
Name EMMBRUN: 'Listes de choix'!$J$1:$J$32
Name Enfant: 'Listes de choix'!$M$1:$M$35
Name Gérontologie: 'Listes de choix'!$I$1:$I$32
Name Missions: 'Listes de choix'!$AC$1:$AC$12
Name Naissance_et_Pathologie_de_la_Femme: 'Listes de choix'!$P$1:$P$32
Name NSTC: 'Listes de choix'!$H$1:$H$43
Name Os_et_Articulations: 'Listes de choix'!$L$1:$L$29
Name Pharmacie: 'Listes de choix'!$R$1:$R$82
Name Psychiatrie: 'Listes de choix'!$Q$1:$Q$81
Name Services: Tableau1[#Headers]
Name Urgences: 'Listes de choix'!$K$1:$K$27

Sheet Général
A1: N° de courrier | B1: Nom du réclamant | C1: Prénom du réclamant | D1: Date de naissance | E1: N° de rue | F1: Rue | G1: Ville | H1: Code Postal | I1: Téléphone fixe | J1: Téléphone portable | K1: Adresse électronique | L1: Nom Patient | M1: Prénom Patient | N1: Date de naissance2 | O1: Parenté avec le réclamant | P1: Date réception courrier | Q1: Mois réception courrier | R1: Intention | S1: Pôle | T1: Unité | U1: Verbatim | V1: Motif | W1: Droit du Patient | X1: Date Contact pôle | Y1: Date réponse pôle | Z1: Date retour usager | AA1: Statut | AB1: Délai réponse pôle en j | AC1: Délai réponse usager en j
A2: 202001021 | B2: SORA | C2: Charlotte | D2: 29155 | E2: 14 | F2: Allée de l'horreur | G2: Montpellier | H2: 34090 | I2: 423659874 | J2: 673160921 | K2: qipdhgîh@lkhfh.com | L2: SORA | M2: Lisette | N2: 40689 | O2: Sa fille | P2: 43930 | Q2: avril | R2: 1 | S2: Gérontologie | T2: USLD "L'Espinouse" - 2ième étage | U2: Je suis le verbatim N° 1 | V2: PEC Médicale | W2: PEC Douleur | X2: 43930 | Y2: 43961 | Z2: 44084 | AA2: Clos | AB2: 31 | AC2: 154
A3: 202001021 | B3: SORA | C3: Charlotte | D3: 29155 | E3: 14 | F3: Allée de l'horreur | G3: Montpellier | H3: 34090 | I3: 423569823 | J3: 673160921 | K3: qipdhgîh@lkhfh.com | L3: SORA | M3: Lisette | N3: 40689 | O3: Sa fille | P3: 43930 | Q3: avril | R3: 2 | S3: NSTC | T3: ORL / CMF A HC / Soins continus | U3: Je suis le verbatim N° 2 | V3: Hôtellerie - Restauration | W3: Bien manger | X3: 43930 | AA3: En cours | AB3: En attente | AC3: à traiter
A4: 202001021 | B4: SORA | C4: Charlotte | D4: 29155 | E4: 14 | F4: Allée de l'horreur | G4: Montpellier | H4: 34090 | I4: 421563987 | J4: 673160921 | K4: qipdhgîh@lkhfh.com | L4: SORA | M4: Lisette | N4: 40689 | O4: Sa fille | P4: 43930 | Q4: avril | R4: 3 | S4: Cliniques_Médicales | T4: Dermatologie CS/Plateau Technique/HJ | U4: Je suis le verbatim N° 3 | V4: Hôtellerie - Restauration | W4: Bien manger | X4: 43930 | Y4: 43963 | Z4: 44086 | AA4: Clos | AB4: 33 | AC4: 156
A5: 202001021 | B5: SORA | C5: Charlotte | D5: 29155 | E5: 14 | F5: Allée de l'horreur | G5: Montpellier | H5: 34090 | I5: 421563987 | J5: 673160921 | K5: qipdhgîh@lkhfh.com | L5: SORA | M5: Lisette | N5: 40689 | O5: Sa fille | P5: 43930 | Q5: avril | R5: 4 | S5: Missions | T5: Prise en charge sociale des patients | U5: Je suis le verbatim N° 4 | V5: PEC sous contrainte | W5: Liberté de l'Usager | X5: 43930 | AA5: En cours | AB5: En attente | AC5: à traiter
A6: 202001021 | B6: SORA | C6: Charlotte | D6: 29155 | E6: 14 | F6: Allée de l'horreur | G6: Montpellier | H6: 34090 | I6: 421563987 | J6: 673160921 | K6: qipdhgîh@lkhfh.com | L6: SORA | M6: Lisette | N6: 40689 | O6: Sa fille | P6: 43930 | Q6: avril | R6: 5 | S6: Urgences | T6: Urgences Psychiatrie / SMUR | U6: Je suis le verbatim N° 5 | V6: PEC Médicale | W6: Accès aux soins | X6: 43930 | AA6: En cours | AB6: En attente | AC6: à traiter
A7: 202001021 | B7: SORA | C7: Charlotte | D7: 29155 | E7: 14 | F7: Allée de l'horreur | G7: Montpellier | H7: 34090 | I7: 421563987 | J7: 673160921 | K7: qipdhgîh@lkhfh.com | L7: SORA | M7: Lisette | N7: 40689 | O7: Sa fille | P7: 43930 | Q7: avril | R7: 6 | S7: NSTC | T7: ORL / CMF B HC | U7: Je suis le verbatim N° 6 | V7: Accueil - Attente | W7: Information | X7: 43930 | AA7: En cours | AB7: En attente | AC7: à traiter
A8: 202001021 | B8: SORA | C8: Charlotte | D8: 29155 | E8: 14 | F8: Allée de l'horreur | G8: Montpellier | H8: 34090 | I8: 421563987 | J8: 673160921 | K8: qipdhgîh@lkhfh.com | L8: SORA | M8: Lisette | N8: 40689 | O8: Sa fille | P8: 43930 | Q8: avril | R8: 7 | S8: NSTC | T8: Ophtalmo / Neuroradio HC | U8: Je suis le verbatim N° 7 | V8: Accueil - relationel | W8: Respect du patient | X8: 43930 | AA8: En cours | AB8: En attente | AC8: à traiter
A9: 202001021 | B9: SORA | C9: Charlotte | D9: 29155 | E9: 14 | F9: Allée de l'horreur | G9: Montpellier | H9: 34090 | I9: 421563987 | J9: 673160921 | K9: qipdhgîh@lkhfh.com | L9: SORA | M9: Lisette | N9: 40689 | O9: Sa fille | P9: 43930 | Q9: avril | R9: 8 | S9: Urgences | T9: Unité Sanitaire de Villeneuve les Maguelones | U9: Je suis le verbatim N° 8 | V9: Accueil - Attente | W9: Information | X9: 43930 | AA9: En cours | AB9: En attente | AC9: à traiter
A10: 202001022 | B10: RICHARD | C10: Clara | D10: 28105 | E10: 12 | F10: rue baraquée | G10: Lyon | H10: 69403 | I10: 232659875 | J10: 652365236 | K10: jsqdgpoh@iig.com | L10: RICHARD | M10: Paul | N10: 25702 | O10: Son Epoux | P10: 43929 | Q10: avril | R10: 1 | S10: Naissance_et_Pathologie_de_la_Femme | T10: CROP | U10: Ouch ! | V10: PEC médicamenteuse | W10: PEC Douleur | X10: 43929 | AA10: En cours | AB10: En attente | AC10: à traiter
A11: 202001022 | B11: RICHARD | C11: Clara | D11: 28105 | E11: 12 | F11: rue baraquée | G11: Lyon | H11: 69403 | I11: 123654879 | J11: 652365236 | K11: jsqdgpoh@iig.com | L11: RICHARD | M11: Paul | N11: 25702 | O11: Son Epoux | P11: 43929 | Q11: avril | R11: 2 | S11: Naissance_et_Pathologie_de_la_Femme | T11: Bloc Opératoire / Régulation | U11: Ouch ! | V11: PEC Médicale - Relationnelle | W11: Information | X11: 43929 | Y11: 43995 | Z11: 44087 | AA11: Clos | AB11: 66 | AC11: 158
A12: 202001022 | B12: RICHARD | C12: Clara | D12: 28105 | E12: 12 | F12: rue baraquée | G12: Lyon | H12: 69403 | I12: 456321475 | J12: 652365236 | K12: jsqdgpoh@iig.com | L12: RICHARD | M12: Paul | N12: 25702 | O12: Son Epoux | P12: 43929 | Q12: avril | R12: 3 | S12: Urgences | T12: Urgences Adultes Lapeyronie | U12: Pas d'info | V12: Accueil - Attente | W12: Information | X12: 43929 | Y12: 43996 | Z12: 44088 | AA12: Clos | AB12: 67 | AC12: 159
A13: 202001023 | B13: VALLE | C13: Judith | D13: 30181 | E13: 101 | F13: rue des Roissys | G13: Baillargues | H13: 34970 | I13: 456932587 | J13: 685698547 | K13: ldhgoih@lkdqhglh.com | L13: VALLE | M13: Judith | N13: 30181 | O13: Soi | P13: 43929 | Q13: avril | R13: 1 | S13: Urgences | T13: Urgences | U13: Pas d'ambulance | V13: PEC Médicale | W13: Accès aux soins | X13: 43929 | Y13: 43997 | Z13: 44089 | AA13: Clos | AB13: 68 | AC13: 160
A14: 202001023 | B14: VALLE | C14: Judith | D14: 30181 | E14: 101 | F14: rue des Roissys | G14: Baillargues | H14: 34970 | I14: 236598544 | J14: 685698547 | K14: ldhgoih@lkdqhglh.com | L14: VALLE | M14: Judith | N14: 30181 | O14: Soi | P14: 43929 | Q14: avril | R14: 2 | S14: Urgences | T14: SAMU-Centre 15 | U14: Doc n'a pas prévenu mes proches | V14: Accueil- Autres | W14: Place des proches | X14: 43929 | Y14: 44028 | Z14: 44090 | AA14: Clos | AB14: 99 | AC14: 161
A15: 202001024 | B15: LELOUCHE | C15: Obscur | D15: 11047 | E15: 265 | F15: Chemin des vaches | G15: Vendargues | H15: 34956 | I15: 478585965 | J15: 625698563 | K15: lihsvlm@lhv.com | L15: LELOUCHE | M15: Obscur | N15: 11047 | O15: Soi | P15: 43929 | Q15: avril | R15: 1 | S15: NSTC | T15: Ophtalmologie CS / HJ | U15: Mes affaires ont disparu | V15: Accueil- Autres | W15: Sécurité des biens | X15: 43930 | Y15: 44030 | Z15: 44091 | AA15: Clos | AB15: 100 | AC15: 162
A16: 202001025 | B16: PIQUE | C16: Jacques | D16: 16822 | E16: 32 | F16: rue de la chouette | G16: PARIS | H16: 75006 | I16: 452365236 | J16: 654782521 | K16: !lwdiiqhg@Lkohi.fr | L16: PIQUE | M16: Jacques | N16: 16822 | O16: Soi | P16: 43929 | Q16: avril | R16: 1 | S16: NSTC | T16: Ophtalmologie CS / HJ | U16: accueil peu aimable | V16: Accueil- Autres | W16: Respect du patient | X16: 43930 | AA16: En cours | AB16: En attente | AC16: à traiter
A17: 202001025 | B17: PIQUE | C17: Jacques | D17: 16822 | E17: 32 | F17: rue de la chouette | G17: PARIS | H17: 75006 | I17: 441254125 | J17: 654782521 | K17: !lwdiiqhg@Lkohi.fr | L17: PIQUE | M17: Jacques | N17: 16822 | O17: Soi | P17: 43929 | Q17: avril | R17: 2 | S17: Cœur_Poumons | T17: Plateau Technique des Maladies Respiratoires | U17: Piqué plusieurs fois pour prise de sang et ouille | V17: PEC Paramédicale - soins | W17: PEC Douleur | X17: 43930 | AA17: En cours | AB17: En attente | AC17: à traiter
A18: 202001025 | B18: PIQUE | C18: Jacques | D18: 16822 | E18: 32 | F18: rue de la chouette | G18: PARIS | H18: 75006 | I18: 412545852 | J18: 654782521 | K18: !lwdiiqhg@Lkohi.fr | L18: PIQUE | M18: Jacques | N18: 16822 | O18: Soi | P18: 43929 | Q18: avril | R18: 3 | S18: Cœur_Poumons | T18: Plateau Technique des Maladies Respiratoires | U18: Ambulance pourries | V18: Accueil - relationel | W18: Respect du patient | X18: 43930 | Y18: 43972 | Z18: 44094 | AA18: Clos | AB18: 42 | AC18: 165
A19: 202001026 | B19: LARHUNE | C19: Xavier | D19: 33660 | E19: 45 | F19: Wabash avenue | G19: NY City | H19: NY 545 | I19: 559472563 | J19: 601020203 | K19: lqiegl@lkh.com | P19: 43891 | Q19: mars | R19: 1 | S19: Urgences | T19: Urgences | U19: Doc n'a pas prévenu mes proches | V19: Accueil- Autres | W19: Place des proches | X19: 43892 | Y19: 43936 | Z19: 44057 | AA19: Clos | AB19: 44 | AC19: 166
A20: 202001027 | B20: CAMILLE | C20: Gaelle | D20: 29779 | E20: 663 | F20: rue des notaires | G20: Montpellier | H20: 34090 | I20: 425336395 | J20: 6012025030 | K20: camile@gaelle.com | P20: 43889 | Q20: février | R20: 1 | S20: Gérontologie | T20: Soins Palliatifs | U20: blajiegi poupg ovup | V20: PEC Médicale | W20: PEC Douleur | X20: 43892 | Y20: 43967 | Z20: 44087 | AA20: Clos | AB20: 75 | AC20: 198
A21: 202001028 | B21: DUPONT | C21: Marcel | D21: 23082 | E21: 22 | F21: rue de la table | G21: Montpellier | H21: 34090 | I21: 452365236 | J21: 612032023 | K21: mail@mail.com | P21: 43889 | Q21: février | R21: 1 | S21: Cliniques_Médicales | T21: Dermatologie HC | V21: PEC Médicale | W21: Respect du patient | X21: 43889 | Y21: 43964 | Z21: 44057 | AA21: Clos | AB21: 75 | AC21: 168
A22: 202001028 | B22: DUPONT | C22: Marcel | D22: 23082 | E22: 22 | F22: rue de la table | G22: Montpellier | H22: 34090 | I22: 452365236 | J22: 612032023 | K22: mail@mail.com | P22: 43890 | Q22: février | R22: 2 | S22: Cliniques_Médicales | T22: Dermatologie HC | V22: Accueil - relationel | W22: Place des proches | X22: 43890 | AA22: En cours | AB22: En attente | AC22: à traiter
A23: 202001029 | B23: DURAND | C23: Pierre | D23: 35065 | E23: 31 | F23: rue de la Saint Sylvestre | G23: Montpellier | H23: 34090 | I23: 456325632 | J23: 612547896 | K23: mail2@gmail.Com | P23: 43891 | Q23: mars | R23: 1 | S23: Cliniques_Médicales | T23: Dermatologie HC | U23: Aie | V23: Accueil - attente | W23: PEC Douleur | X23: 43891 | Y23: 43939 | Z23: 44061 | AA23: Clos | AB23: 48 | AC23: 170
A24: 202001030 | B24: MARTIN | C24: Jérôme | D24: 35066 | E24: 24 | F24: rue de l'Ubac | G24: Montpellier | H24: 34090 | I24: 452365987 | J24: 612975365 | K24: mail3@gmail.com | P24: 43892 | Q24: mars | R24: 1 | S24: NSTC | T24: NSTC | U24: Ouille7 | V24: Accueil - autres | W24: PEC Douleur | X24: 43892 | Y24: 43941 | Z24: 44094 | AA24: Clos | AB24: 49 | AC24: 202
A25: 202001031 | B25: PETIT | C25: Mauriette | D25: 19727 | E25: 32 | F25: rue de l'abbé Pierre | G25: Montpellier | H25: 34090 | I25: 414252365 | J25: 698745254 | K25: Mauriette@gmail.com | P25: 43893 | Q25: mars | R25: 1 | S25: NSTC | T25: NSTC | U25: va pas bien | V25: PEC Paramédicale - soins | W25: Droit à l'information | X25: 43893 | Y25: 43943 | Z25: 44065 | AA25: Clos | AB25: 50 | AC25: 172
A26: 202001031 | B26: PETIT | C26: Mauriette | D26: 19727 | E26: 32 | F26: rue de l'abbé Pierre | G26: Montpellier | H26: 34090 | I26: 414252365 | J26: 698745254 | K26: Mauriette@gmail.com | P26: 43893 | Q26: mars | R26: 2 | S26: Gérontologie | T26: Gestion des projets "Convention tripartite" / Animation / Agents de nuit | U26: non, pas du tout | V26: Accueil- Autres | W26: Droit à l'information | X26: 43893 | Y26: 43974 | Z26: 44097 | AA26: Clos | AB26: 81 | AC26: 204
A27: 202001032 | B27: LEDOUX | C27: Martine | D27: 20458 | E27: 18 | F27: rue victoire | G27: Montpellier | H27: 34090 | I27: 236524521 | J27: 625325986 | K27: victoire@lapyrus.com | P27: 43894 | Q27: mars | R27: 1 | S27: EMMBRUN | T27: Réanimation Métabolique | U27: moi non plus | V27: PEC Paramédicale - soins | W27: PEC Coutneuvier | X27: 43894 | AA27: En cours | AB27: En attente | AC27: à traiter
A28: 202001032 | B28: LEDOUX | C28: Martine | D28: 20458 | E28: 18 | F28: rue victoire | G28: Montpellier | H28: 34090 | I28: 236524522 | J28: 625325987 | K28: victoire@lapyrus.com | P28: 43894 | Q28: mars | R28: 2 | S28: Urgences | T28: SAMU-Centre 15 | U28: erf ! Zut ! | V28: Accueil - relationel | W28: PEC Coutneuvier | X28: 43894 | Y28: 43957 | Z28: 44049 | AA28: Clos | AB28: 63 | AC28: 155
A29: 202001033 | B29: LAMERE | C29: Marthe | D29: 20459 | E29: 19 | F29: rue victoire | G29: Montpellier | H29: 34090 | I29: 236524523 | J29: 625325988 | K29: lamere@hotmail.com | P29: 43895 | Q29: mars | R29: 1 | S29: Urgences | T29: Urgences Adultes Lapeyronie | U29: Incompétents | V29: Accueil- Autres | W29: PEC Douteur | X29: 43895 | Y29: 43929 | Z29: 44082 | AA29: Clos | AB29: 34 | AC29: 187
A30: 202001034 | B30: LEPERE | C30: Dodu | D30: 20460 | E30: 20 | F30: rue victoire | G30: Montpellier | H30: 34090 | I30: 236524524 | J30: 625325989 | K30: lepere@hotdoil.com | P30: 43896 | Q30: mars | R30: 1 | S30: Urgences | T30: Unité Sanitaire de Villeneuve les Maguelones | U30: Incapables | V30: PEC Médicale | W30: Droit à rue victoire'inforvetion | X30: 43896 | Y30: 43961 | Z30: 44053 | AA30: Clos | AB30: 65 | AC30: 157
A31: 202001035 | B31: LESSIEUR | C31: Marc | D31: 20461 | E31: 21 | F31: rue victoire | G31: Montpellier | H31: 34090 | I31: 236524525 | J31: 625325990 | K31: lessieur@hotmail.com | P31: 43897 | Q31: mars | R31: 1 | S31: Urgences | T31: Unité Sanitaire de Villeneuve les Maguelones | U31: Crétins | V31: PEC Médicale | W31: Droit à rue victoire'inforsation | X31: 43897 | Y31: 43933 | Z31: 44086 | AA31: Clos | AB31: 36 | AC31: 189
A32: 202001036 | B32: COMTE | C32: Claude | D32: 20462 | E32: 22 | F32: rue victoire | G32: Montpellier | H32: 34090 | I32: 236524526 | J32: 625325991 | K32: comte@hotclil.com | P32: 43898 | Q32: mars | R32: 1 | S32: Os_et_Articulations | T32: Rhumatologie HS + Médecine Physique et Réadapttaion HS | U32: Insolents | V32: Accueil - relationel | W32: Droit à rue victoire'infordition | X32: 43898 | AA32: En cours | AB32: En attente | AC32: à traiter
A33: 202001037 | B33: QUATRE | C33: Henri | D33: 20463 | E33: 23 | F33: rue victoire | G33: Montpellier | H33: 34090 | I33: 236524527 | J33: 625325992 | K33: quatre@hotheil.com | P33: 43899 | Q33: mars | R33: 1 | S33: Enfant | T33: Neuropédiatrie GDC HC | U33: innocent | V33: PEC Soin | W33: PEC Doutur | X33: 43899 | Y33: 43967 | Z33: 44028 | AA33: Clos | AB33: 68 | AC33: 129
A34: 202001037 | B34: QUATRE | C34: Henri | D34: 20464 | E34: 24 | F34: rue victoire | G34: Montpellier | H34: 34090 | I34: 236524528 | J34: 625325993 | K34: quatre@hotheil.com | P34: 43899 | Q34: mars | R34: 2 | S34: Enfant | T34: Surveillance continue Chirurgicale consultation chirurgie infantile | U34: association d'idée | V34: PEC Soin | W34: PEC Doutuer | X34: 43899 | Y34: 43999 | Z34: 43999 | AA34: Clos | AB34: 100 | AC34: 100
A35: 202001037 | B35: QUATRE | C35: Henri | D35: 20465 | E35: 25 | F35: rue victoire | G35: Montpellier | H35: 34090 | I35: 236524529 | J35: 625325994 | K35: quatre@hotheil.com | P35: 43899 | Q35: mars | R35: 3 | S35: Cliniques_Médicales | T35: Dermatologie HC | U35: bleu | V35: PEC oin | W35: PEC Coutunvier | X35: 43899 | Y35: 44000 | Z35: 44061 | AA35: Clos | AB35: 101 | AC35: 162
A36: 202001038 | B36: PREMIER | C36: François | D36: 20466 | E36: 26 | F36: rue victoire | G36: Montpellier | H36: 34090 | I36: 236524530 | J36: 625325995 | K36: premier@hotfril.com | P36: 43900 | Q36: mars | R36: 1 | S36: Cœur_Poumons | T36: Allergologie CS et HJ | U36: les idées au logie | V36: PEC V.oia | W36: Droit à rue victoire'information | X36: 43900 | Y36: 44002 | Z36: 44094 | AA36: Clos | AB36: 102 | AC36: 194
A37: 202001039 | B37: QUATORZE | C37: Louis | D37: 20467 | E37: 27 | F37: rue victoire | G37: Montpellier | H37: 34090 | I37: 236524531 | J37: 625325996 | K37: quatorze@hotloil.com | P37: 43901 | Q37: mars | R37: 1 | S37: Cœur_Poumons | T37: Plateau Technique des Maladies Respiratoires | U37: infractus de la mie carde | V37: PEC cardiolooiu | W37: Droit à rue victoire'informetion | X37: 43901 | Y37: 43943 | Z37: 44065 | AA37: Clos | AB37: 42 | AC37: 164
A38: 202001040 | B38: TREIZE | C38: Louis | D38: 20468 | E38: 28 | F38: rue victoire | G38: Montpellier | H38: 34090 | I38: 236524532 | J38: 625325997 | K38: treize@hotloil.com | P38: 43902 | Q38: mars | R38: 1 | S38: Cœur_Poumons | T38: Pneumologie HS & SOTAM | U38: pan ! Non ! | V38: PEC cardiolooiu | W38: Droit à rue victoire'inforjetion | X38: 43902 | Y38: 43975 | Z38: 44098 | AA38: Clos | AB38: 73 | AC38: 196
A39: 202001041 | B39: ONZE | C39: Louis | D39: 20469 | E39: 29 | F39: rue victoire | G39: Montpellier | H39: 34090 | I39: 236524533 | J39: 625325998 | K39: onze@hotloil.com | P39: 43903 | Q39: mars | R39: 1 | S39: NSTC | T39: Ophtalmologie CS / HJ | U39: et pourtant elle tourne | V39: PEC Neurovasculairoiu | W39: Rejanvierpec on pie envictoir | X39: 43903 | Y39: 43977 | Z39: 44069 | AA39: Clos | AB39: 74 | AC39: 166
A40: 202001041 | B40: ONZE | C40: Louis | D40: 20470 | E40: 30 | F40: rue victoire | G40: Montpellier | H40: 34090 | I40: 236524534 | J40: 625325999 | K40: onze@hotloil.com | P40: 43903 | Q40: mars | R40: 2 | S40: Digestif | T40: Digestif | U40: ou pas.. On ne sait | V40: PEC Digesoiu | W40: PE Doutuer | X40: 43903 | Y40: 43948 | Z40: 44101 | AA40: Clos | AB40: 45 | AC40: 198
...

Sheet Listes de choix
A1: Cliniques Médicales | B1: Cliniques médicales | C1: Numéro d'intention | F1: Cliniques_Médicales | G1: Digestif | H1: NSTC | I1: Gérontologie | J1: EMMBRUN | K1: Urgences | L1: Os_et_Articulations | M1: Enfant | N1: Biologie_Pathologie | O1: Cœur_Poumons | P1: Naissance_et_Pathologie_de_la_Femme | Q1: Psychiatrie | R1: Pharmacie | S1: Département_de_l_Information_Médicale | T1: Direction_des_Finances_et_du_Système_d_Information | U1: Colonne1 | V1: Direction_des_Ressources_Humaines_et_Formations | W1: Direction_de_la_Recherche_et_de_l_Innovation | X1: Direction_des_Affaires_Médicales_de_la_Stratégies_et_de_la_Coopération | Y1: Direction_des_Affaires_Juridiques | Z1: Direction_des_Opérations_et_de_la_Performance | AA1: Direction_de_la_Qualité_et_de_la_Gestion_des_Risques | AB1: Direction_des_Affaires_Générales_de_la_Communication_et_des_Relations_Internationales | AC1: Missions | AD1: Direction_déléguée_CH_de_Millau_et_Hôpital_Maurice_Fenaille | AE1: Direction_de_la_Coordination_Générale_des_Soins
A2: Dermatologie | B2: Dermatologie HC | C2: 1 | F2: Dermatologie HC | G2: HGET A | H2: Ophtalmologie CS / HJ | I2: Court séjour "Mont Caroux" - 1er Etage Sud | J2: Endocrinologie Diabète CS | K2: SAMU-Centre 15 | L2: Immuno-Rhumatologie HC | M2: Urgences Accueil pédiatrique UHCDE | N2: Biochimie Hormonologie Lapeyronie | O2: Plateau Technique des Maladies Respiratoires | P2: Bloc Opératoire / Régulation | Q2: HJ - Pav. J. Minvielle (Pav. 14) | R2: Pharmacie STE | S2: Département de l'Information Médicale | T2: Finances | U2: Direction_des_Investissements_et_de_la_Logistique | V2: Ressources Humaines | W2: Recherche et Innovation | X2: Affaires Médicales, Statégie et Coopération | Y2: Affaires Juridiques | Z2: Opération et Performance | AA2: Qualité et Gestion des Risques | AB2: Affaires Générales, Communication et Relations Internationales | AC2: Cancérologie et Biologie | AD2: CHU de Millau et hôpital Maurice Fenaille | AE2: Coordination Générale des Soins
B3: Dermatologie CS/Plateau Technique/HJ | C3: 2 | F3: Dermatologie CS/Plateau Technique/HJ | G3: HGET B | H3: Ophtalmo / Neuroradio HC | I3: Court séjour "Mont Saint Clair" | J3: Maladies métaboliques HS+HJ | K3: Urgences Adultes Lapeyronie | L3: Rhumatologie HS + Médecine Physique et Réadapttaion HS | M3: Chirurgie pédiatrique HC et HS | N3: Bactériologie | O3: Pneumologie HS & SOTAM | P3: Bloc de naissances et Urgences obstétricales | Q3: Clinique Euzières - Unité d'admission, d'évaluation et d'orientation | R3: Pharmacie LAP | T3: Système d'Information | U3: Achat et Approvisionnements | V3: Formations et Développement Professionnel | AC3: Services aux Patients et Santé Publique
A4: Hématologie Clinique | B4: Hématologie SI et Greffes | C4: 3 | F4: Hématologie SI et Greffes | G4: HGET HS | H4: Accueil Ophtalmologie | I4: Unité Mobile Gériatrique | J4: Maladies endocriniennes HC | K4: Unité Sanitaire de Villeneuve les Maguelones | L4: Rhumatologie - Médecine Physique et Réadaptation CS | M4: Surveillance continue Chirurgicale consultation chirurgie infantile | N4: Service de Pharmacologie médicale et toxico-pharmacologie + Parasitologie | O4: Pneumologie HC | P4: CROP | Q4: Clinique Mairet | R4: Stérilisation GDC | T4: Projets Régionaux du Système d'Information | U4: Achats groupés GCS RESAH-LR | AC4: Culte
B5: Hématologie Clinique HC | C5: 4 | F5: Hématologie Clinique HC | G5: Plateau technique d'endoscopie digestive | H5: CS et explo. fonctionnelles d'ORL et CS CMF | I5: Unité de Soins Longue Durée "L'Aigoual" - RDC | J5: Urologie IA HS+HJ+SC+SI | K5: Urgences Psychiatrie / SMUR | L5: Rhumatologie HJ | M5: Neuropédiatrie GDC HC | N5: CGEB + IURC + MAI + missions qualité sur le Dpt de biochimie / Hormonologie | O5: Allergologie CS et HJ | P5: Urgences Gynécologiques | Q5: Unités Intersectorielles Nord - Les Hauts de Massane : | R5: Stérilisation /Désinfection LAP | T5: Accueil Facturations CIV | U5: Logistique et Transports | AC5: Prise en charge sociale des patients
B6: Hématologie Générale HC | C6: 5 | F6: Hématologie Générale HC | G6: HGET CS | H6: ORL / CMF B HC | I6: Unité de Soins Longue Durée "La Seranne" - 1er étage | J6: Plaies et cicatrisation HC | K6: Urgences Tête et Cou (UTEC) | L6: Médecine Physique et de Réadaptation HC et HJ | M6: Neuropédiatrie GDC HJ | N6: Laboratoire de Virologie (Lapeyronie) + Virologie (St Eloi) + CIC (St Eloi) | O6: Unité Soins Intensifs Pneumo (USIP) | P6: Consult. Ext. gynéco obst. | Q6: HJ Les Hauts de Massane | U6: Travaux et Biomédical | AC6: Protection des Majeurs
B7: Hémato. CS./ HJ/ Aphérèse Thér. | C7: 6 | F7: Hémato. CS./ HJ/ Aphérèse Thér. | G7: Chirurgie Digestive B HC | H7: ORL / CMF A HC / Soins continus | I7: Unité de Soins de Suite et Réadaptation B | J7: Urologie IB HC | K7: CESU | L7: Médecine Physique et de Réadaptation HS | M7: Neuropédiatrie GDC CS | N7: Biopathologie Cellulaire et Tissulaire des tumeurs + Cytogénétique | O7: Chirurgie Thoracique & Vasculaire HC Secteur Surveillance Continue | P7: HJ Orthogénie | Q7: CATTP Les Hauts de Massane | U7: Sécurité Incendie et sûreté | AC7: Remplacement des secrétariats médicaux
A8: Oncologie Médicale | B8: Oncologie Médicale CS/ HJ | C8: 7 | F8: Oncologie Médicale CS/ HJ | G8: Chirurgie Digestive B HS | H8: Explor. et consultations de Neurologie | I8: Gériatrie CS - HJ | J8: Réanimation Métabolique | K8: Plateau d'Imagerie Médicale secteur Urgences | L8: Orthopédie membres inférieurs et Rachis | M8: Centre Action Médico Sociale Précoce (CAMSP) Saint Eloi | N8: Immunologie (St Eloi) + Pool | O8: Chirurgie Cardiaque et Vasculaire HC (secteur HC et Soins Continus) | P8: Consult gynécologie obstétrique | Q8: C.M.P. Les Hauts de Massane | AC8: Service des Dossiers Médicaux
B9: Oncologie / Hématologie HC | C9: 8 | F9: Oncologie / Hématologie HC | G9: Chirurgie Digestive CS | H9: Neurophysiologie clinique GDC/ADV | I9: Hôpital de Jour Gériatrique | J9: Réanimation Médicale Assistance Respiratoire Réa (GDC) | K9: Scanner | L9: Orthopédie membres supérieurs SC | M9: Pédiatrie spécialisée Néphro Endocrino Diabéto | N9: Hématologie biologique + CRTH (St Eloi) | O9: Bloc C.T.C.V. | P9: Centre de Prélèvements | Q9: Diagnostic et thérapeutique + sismothérapie | AC9: Standard CHU
A10: Maladies infectieuses et Tropicale (MIT) | B10: MIT HC | C10: 9 | F10: MIT HC | G10: DAR B | H10: Stroke-center (neurologie, urgence, neurovasculaires - soins intensifs) | I10: USLD "Pic St Loup" - 1er étage | J10: UARP | K10: IRM Sénologie | L10: Orthopédie membres inférieurs Pieds | M10: Pédiatrie spécialisée Cardiologie - Pneumologie | N10: Banque de tissus + UTC + Laboratoire d'hygiène | O10: Régulation suppléante | P10: HC Gynéco Obst Chir (2ème Et) : Salle de soins et CS d'orthogénie | Q10: Clinique Guilhem I - Bât B3 | AC10: Service des Soins Sans Consentement et de la Banque des Malades
B11: MIT CS / HJ | C11: 10 | H11: Clinique du motoneurone et pathologies neuromusculaires | J11: Clinique du Pied Diabète HJ | M11: Pédiatrie spécialisée gastro-entérologie HC
A12: Médecine interne | B12: Médecine interne maladies multi-organiques de l'adulte HC | F12: MIT CS / HJ | G12: Anesthésie CS | H12: Neurologie Générale - HC Neurologie vasculaire - HC | I12: USLD "L'Espinouse" - 2ième étage | J12: Brûlés HC | K12: Accueil + Radiologie conventionnelle | L12: Orthopédie Traumatologie | M12: Pédiatrie spécialisée Dialyse | N12: EFR/CERAMM+BDR/CECOS CYTOGENETIQUE DPI | O12: Cardiologie "Aile Nord" | P12: HC Grossesses à Hauts Risques (4eme) : SdS Sage Femme HAD | Q12: CMP le "Point de Repère"
B13: Médecine interne et maladies vasculaires HC | F13: Médecine interne maladies multi-organiques de l'adulte HC | G13: HJ | H13: HS de Neurologie et des Troubles du Sommeil et de l'éveil | I13: SSR Bellevue | J13: Policlinique-CS (Uro/Néphro/Méd. Int./MME) | K13: DAR A | L13: Orthopédie CS | M13: Pédiatrie Néonatale SI | N13: Service des Transports d'Analyses Biologiques hors pôle (STAB) | O13: Cardiologie "Aile Sud" | P13: Post Accouchement HC (3ème & 4ème) : SdS et unité soins en berceaux | Q13: Hôpital de Jour "Les Arceaux"
B14: Médecine interne et complications somatiques des addictions HC | F14: Médecine interne et maladies vasculaires HC | G14: Surveillance continue | H14: HJ de Neurologie | I14: Soins Palliatifs | J14: Néphrologie HC | K14: Urgences Psychiatriques | L14: UCAA Chirurgie Ambulatoire | M14: Pédiatrie Néonatale CROP | N14: Laboratoire d'anatomie et cytologie pathologiques GDC + démarche qualité transversale sur le département biopathologie cellulaire et tissulaire des tumeurs | O14: Consultation cardiologique | P14: HJ gynécologie | Q14: HJ La Clarté
B15: DIAGORA | F15: Médecine interne et complications somatiques des addictions HC | G15: Coord. Prélèvements d'organes | H15: Soins intensifs de Neurologie et Neurovasculaire | I15: Gestion des projets "Convention tripartite" / Animation / Agents de nuit | J15: Néphrologie SI | K15: Chambre mortuaire | L15: Bloc II Urologie | M15: Pédiatrie Néonatale et Réanimations : Réa. Néonatale | N15: Génétique Médicale Clinique CS | O15: Consultation C.T.C.V. | P15: Médecine & Biologie de la reproduction | Q15: Clinique du Vidourle - Bât B2
B16: Médecine interne Consult / Explo. angiologiques et cardiologiques | F16: DIAGORA | G16: Imagerie Médicale STE | H16: Consultations de Neurochirurgie | I16: SSR unité Cognitivo-Comportementale HC Balmès | J16: Médecine Interne HC+HS | K16: Médecine Légale | L16: Bloc II Chirurgie Orthopédique, Plastique et Viscérale Pédiatrique | M16: Pédiatrie Néonatale et Réanimations :Réa Pédiatrique | N16: Laboratoire de Biologie de la reproduction AMP / DPI | O16: Consultation Anesthésie | P16: CECOS | Q16: C.M.P. La Pompignane
B17: Médecine interne HJ | F17: Médecine interne Consult / Explo. angiologiques et cardiologiques | G17: Bloc oprétaoire Digestif | H17: Hospitalisation NC Adultes 3ième étage | J17: Plaies et cicatrisation CS | K17: Urgences Adultes UHCD | L17: Anesthésie SSPI I et II | M17: Pédiatrie Lactarium | O17: Exploration Cardio vasc. non invasives | P17: Consultation génétique | Q17: CATTP Carré Ste Anne
B18: PASS | F18: Médecine interne HJ | G18: Anesthésie Bloc opératoire Digestif | H18: Hospitalisation NC Adultes 4ème étage | J18: Brûlés CS | M18: Pédiatrie Générale, Infectiologie et Immuno clinique : Gastro Entérologie | O18: Exploration Cardio vasc. invasives | P18: Biopathologie cellulaire ADV + plateau de séquençage haut débit + cytogénétique | Q18: Hôpital de Jour de Lunel
B19: Sourds et Malentendants | F19: PASS | G19: Chirurgie Digestive A HC | H19: Hospit. et SI de NC Pédiatriques | J19: Nutrition et Diabète HC | L19: Bloc I Orthopédie (Pôle Os et Articulations) | M19: Pédiatrie Générale, Infectiologie et Immuno clinique : Maladies Infectieuses | O19: Réadaptation cardiaque & éducation thérapeutique | Q19: C.M.P. Lunel
B20: HAD | F20: Sourds et Malentendants | H20: Surveillance continue de NC | J20: Chirurgie plastique reconstructrice et esthétique | M20: Onco hématologie pédiatrique : HDJ et Réso LR | O20: Unité Soins Intensifs Cardio (USIC) | Q20: C.A.T.T.P. Lunel
A21: Soins Palliatifs | B21: Unité de soins palliatifs HC | F21: HAD | H21: CS d'anesthésie | M21: Onco hématologie pédiatrique : Hématologie Onco Péd SI | O21: UMCA (Unité Médico-Chirurgicale Ambulatoire) | Q21: Clinique Henry Ey - Pav.- Bât B3
B22: Unité mobile de soins palliatifs | F22: Unité de soins palliatifs HC | H22: Réanimation Hospitalisation DAR GDC | M22: Onco hématologie pédiatrique | O22: DAR Réanimation CTCV | Q22: Hôpital de Jour J.B. Pussin- Lodève
A23: Douleur, Psychosomatique Maladies fonctionnelles | B23: Algologie HS | F23: Unité mobile de soins palliatifs | H23: UCCA | M23: Consultations Médicales | O23: D.A.R. Anesthésie | Q23: C.A.T.T.P. "rencontre" - Lodève
B24: Algologie CS | F24: Algologie HS | H24: CSERD | M24: Algologie pédiatrique et soins palliatifs (LAP) | O24: Imagerie Médicale Centrale / IRM | Q24: Hôpital de jour CMP Gignac
B25: Psychosomatique CS et HJ | F25: Algologie CS | H25: Neuroradiologie et Radiologie IRM GDC | M25: Ludothèque | O25: Radiologie Vasculaire | Q25: CMP de Gignac
A26: Addictologie | B26: Unité d'addictologie HC | F26: Psychosomatique CS et HJ | H26: Médecine Nucléaire GDC | M26: Imagerie secteur Radiopédiatrie | O26: Cardiologie CS | Q26: CATTP - CMP Clermont L'Hérault
B27: Centre de soins d'accompagnement et de prévention en addictologie | F27: Unité d'addictologie HC | H27: Bloc | M27: Anesthésie Réanimation | O27: Chirurgie Thoracique & Vasculaire HC | Q27: Clinique du Littoral - Bât. B2
B28: Equipe de liaison et de soutien en addictologie | F28: Centre de soins d'accompagnement et de prévention en addictologie | H28: UCAA | M28: Chirurgie Infantile Viscérale CS | O28: Pneumologie CS | Q28: HJ Eurydice - chemin de Moularès
A29: Hygiène Hospitalière | B29: UHHP STE / GDC | F29: Equipe de liaison et de soutien en addictologie | H29: Neurologie CS | Q29: HJ Lattes St Exupéry
B30: UHHP ADV | F30: UHHP STE / GDC | Q30: CMP Champollion
B31: UHHP LAP | F31: UHHP ADV | Q31: CMP + HJ Moularès
B32: UHHP Coordination | F32: UHHP LAP | Q32: CMP la Gde Motte
B33: UHHP COL / BAL / BEL | F33: UHHP Coordination | Q33: Bureau des cadres extra PC médical
B34: UHHP | F34: UHHP COL / BAL / BEL | Q34: la Traversière - Bât C
A35: Digestif | B35: Digestif | F35: UHHP | Q35: Hôpital de Jour Nord Est
A36: Hépato-gastroentérologie | B36: HGET A | F36: CeGIDD | Q36: Clinique "Les Tilleuls 1"
B37: HGET B | Q37: Hôpital de jour l'Oasis - pav 3
B38: HGET HS | Q38: C.M.P. de Mèze
B39: Plateau technique d'endoscopie digestive | Q39: Hôpital de jour de Mèze
B40: HGET CS | Q40: Sce ambulatoire + CATTP "Le Grand Chemin"
...

Sheet Fiche réclamation
A1: Fiche réclamation d'un Usager
A4: N° du courrier | C4: 202001076
A5: Date de réception | C5: =VLOOKUP($C$4,Général!$A$2:$AC$106,16) -> 43933
A6: Coordonnées du Contact
A7: Nom | C7: =VLOOKUP($C$4,Général!$A$2:$AC$106,2) -> POUET
A8: Prénom | C8: =VLOOKUP($C$4,Général!$A$2:$AC$106,3) -> Guillaume
A9: N° rue | C9: =VLOOKUP($C$4,Général!$A$2:$AC$106,5) -> 229
A10: Adresse | C10: =VLOOKUP($C$4,Général!$A$2:$AC$106,6) -> route impériale
A11: Complément
A12: Ville | C12: =VLOOKUP($C$4,Général!$A$2:$AC$106,7) -> Baillargues
A13: Code Postal | C13: =VLOOKUP($C$4,Général!$A$2:$AC$106,8) -> 34670
A14: N° tel fixe | C14: =VLOOKUP($C$4,Général!$A$2:$AC$106,9) -> 147412588
A15: N° tel portable | C15: =VLOOKUP($C$4,Général!$A$2:$AC$106,10) -> 602320023
A16: adresse mail | C16: =VLOOKUP($C$4,Général!$A$2:$AC$106,11) -> POUET.guillaume@gmail.com
A18: Identité de la personne concernée
A19: Nom | C19: =VLOOKUP($C$4,Général!$A$2:$AC$106,12) -> POUET
A20: Prénom | C20: =VLOOKUP($C$4,Général!$A$2:$AC$106,13) -> Laura
A21: Date de naissance | C21: =VLOOKUP($C$4,Général!$A$2:$AC$106,14) -> 40750
A22: Lien de parenté avec le réclamant | C22: =VLOOKUP($C$4,Général!$A$2:$AC$106,15) -> Fille
A24: Intention | C24: =VLOOKUP($C$4,Général!$A$2:$AC$106,18) -> 9
A25: Pôle concerné | C25: =VLOOKUP($C$4,Général!$A$2:$AC$106,19) -> Enfant
A26: Unité Concernée | C26: =VLOOKUP($C$4,Général!$A$2:$AC$106,20) -> Neuropédiatrie GDC HC
A27: Motif | C27: =VLOOKUP($C$4,Général!$A$2:$AC$106,22) -> Accueil
A28: Droit du patient | C28: =VLOOKUP($C$4,Général!$A$2:$AC$106,23) -> Droit à un coup dans les parties
A29: Verbatim | C29: =VLOOKUP($C$4,Général!$A$2:$AC$106,21) -> Comment ? La téloche est pas gratuite ! ??
A32: Intention | C32: =VLOOKUP($C$4,Général!$A$2:$AC$106,18) -> 9
A33: Pôle concerné | C33: =VLOOKUP($C$4,Général!$A$2:$AC$106,19) -> Enfant
A34: Unité Concernée | C34: =VLOOKUP($C$4,Général!$A$2:$AC$106,20) -> Neuropédiatrie GDC HC
A35: Motif | C35: =VLOOKUP($C$4,Général!$A$2:$AC$106,22) -> Accueil
A36: Droit du patient | C36: =VLOOKUP($C$4,Général!$A$2:$AC$106,23) -> Droit à un coup dans les parties
A37: Verbatim | C37: =VLOOKUP($C$4,Général!$A$2:$AC$106,21) -> Comment ? La téloche est pas gratuite ! ??
A40: Intention | C40: =VLOOKUP($C$4,Général!$A$2:$AC$106,18) -> 9
A41: Pôle concerné | C41: =VLOOKUP($C$4,Général!$A$2:$AC$106,19) -> Enfant
A42: Unité Concernée | C42: =VLOOKUP($C$4,Général!$A$2:$AC$106,20) -> Neuropédiatrie GDC HC
A43: Motif | C43: =VLOOKUP($C$4,Général!$A$2:$AC$106,22) -> Accueil
A44: Droit du patient | C44: =VLOOKUP($C$4,Général!$A$2:$AC$106,23) -> Droit à un coup dans les parties
A45: Verbatim | C45: =VLOOKUP($C$4,Général!$A$2:$AC$106,21) -> Comment ? La téloche est pas gratuite ! ??
A48: Intention | C48: =VLOOKUP($C$4,Général!$A$2:$AC$106,18) -> 9
A49: Pôle concerné | C49: =VLOOKUP($C$4,Général!$A$2:$AC$106,19) -> Enfant
A50: Unité Concernée | C50: =VLOOKUP($C$4,Général!$A$2:$AC$106,20) -> Neuropédiatrie GDC HC
...
