Workbook

Sheet Suivi des commandes
A1: Typologie | B1: Demandeur commande | C1: Fournisseur | D1: Nom du contact | E1: Mail du contact | F1: Date du devis | G1: N° de devis | H1: Prix du devis HT | I1: Date réalisation du BDC | J1: N° BDC | K1: BDC réalisé par | L1: Date d'envoi BDC | M1: Date estimée de livraison | N1: Réception de commande | O1: Date de réception | P1: Communication au service de gestion pour Facturation | Q1: identifiant
A2: Materiel | B2: Nicolas | C2: LOXAM | D2: Marie | E2: agencelille@kiloutou-module.fr | F2: 43791 | G2: 991150006148 | H2: 1000 | I2: 43795 | J2: A33448497438 | K2: Christophe | L2: 43795 | M2: 43836 | N2: OUI | O2: 43836 | P2: OUI | Q2: =IF(AND(C2="",I2=""),"",C2&I2) -> LOXAM43795
A3: Materiel | B3: Bob | C3: KILOUTOU | D3: Alexandre DARCE | F3: 43852 | G3: 27298705 | H3: 500 | I3: 43853 | J3: B123445556 | K3: Christophe | M3: 43853 | N3: OUI | O3: 43853 | Q3: =IF(AND(C3="",I3=""),"",C3&I3) -> KILOUTOU43853
Q4: =IF(AND(C4="",I4=""),"",C4&I4)
Q5: =IF(AND(C5="",I5=""),"",C5&I5)
Q6: =IF(AND(C6="",I6=""),"",C6&I6)
Q7: =IF(AND(C7="",I7=""),"",C7&I7)
Q8: =IF(AND(C8="",I8=""),"",C8&I8)
Q9: =IF(AND(C9="",I9=""),"",C9&I9)
Q10: =IF(AND(C10="",I10=""),"",C10&I10)
Q11: =IF(AND(C11="",I11=""),"",C11&I11)
Q12: =IF(AND(C12="",I12=""),"",C12&I12)
Q13: =IF(AND(C13="",I13=""),"",C13&I13)
Q14: =IF(AND(C14="",I14=""),"",C14&I14)
Q15: =IF(AND(C15="",I15=""),"",C15&I15)

Sheet information
A1: DATE DE COMMANDE | B1: FOURNISSEUR | C1: INTITULE | D1: QUANTITE | E1: DATE DE LIVRAISON | F1: PRIX HT | G1: FACTURE/ AVOIR | H1: INFO | I1: COMMANDE TOTAL / PARTIEL | J1: N° Du BDC
A2: 43853 | B2: KILOUTOU | C2: Goupe électrogène | D2: 1 | E2: 43853 | F2: -500 | G2: FACTURE | H2: aide | J2: =IF(AND(A2="",B2=""),"",INDEX('Suivi des commandes'!$J$2:$J$100,MATCH(B2&A2,'Suivi des commandes'!$Q$2:$Q$100,0),1)) -> B123445556
A3: 43795 | B3: LOXAM | C3: Conteneur | D3: 1 | E3: 43836 | F3: -799 | G3: FACTURE | H3: aide | J3: =IF(AND(A3="",B3=""),"",INDEX('Suivi des commandes'!$J$2:$J$100,MATCH(B3&A3,'Suivi des commandes'!$Q$2:$Q$100,0),1)) -> A33448497438
A4: 43795 | B4: LOXAM | C4: Livraison | D4: 1 | E4: 43836 | F4: -201 | G4: FACTURE | H4: aide | J4: =IF(AND(A4="",B4=""),"",INDEX('Suivi des commandes'!$J$2:$J$100,MATCH(B4&A4,'Suivi des commandes'!$Q$2:$Q$100,0),1)) -> A33448497438
J5: =IF(AND(A5="",B5=""),"",INDEX('Suivi des commandes'!$J$2:$J$100,MATCH(B5&A5,'Suivi des commandes'!$Q$2:$Q$100,0),1))
J6: =IF(AND(A6="",B6=""),"",INDEX('Suivi des commandes'!$J$2:$J$100,MATCH(B6&A6,'Suivi des commandes'!$Q$2:$Q$100,0),1))
J7: =IF(AND(A7="",B7=""),"",INDEX('Suivi des commandes'!$J$2:$J$100,MATCH(B7&A7,'Suivi des commandes'!$Q$2:$Q$100,0),1))
J8: =IF(AND(A8="",B8=""),"",INDEX('Suivi des commandes'!$J$2:$J$100,MATCH(B8&A8,'Suivi des commandes'!$Q$2:$Q$100,0),1))
J9: =IF(AND(A9="",B9=""),"",INDEX('Suivi des commandes'!$J$2:$J$100,MATCH(B9&A9,'Suivi des commandes'!$Q$2:$Q$100,0),1))
J10: =IF(AND(A10="",B10=""),"",INDEX('Suivi des commandes'!$J$2:$J$100,MATCH(B10&A10,'Suivi des commandes'!$Q$2:$Q$100,0),1))
J11: =IF(AND(A11="",B11=""),"",INDEX('Suivi des commandes'!$J$2:$J$100,MATCH(B11&A11,'Suivi des commandes'!$Q$2:$Q$100,0),1))
J12: =IF(AND(A12="",B12=""),"",INDEX('Suivi des commandes'!$J$2:$J$100,MATCH(B12&A12,'Suivi des commandes'!$Q$2:$Q$100,0),1))
J13: =IF(AND(A13="",B13=""),"",INDEX('Suivi des commandes'!$J$2:$J$100,MATCH(B13&A13,'Suivi des commandes'!$Q$2:$Q$100,0),1))
J14: =IF(AND(A14="",B14=""),"",INDEX('Suivi des commandes'!$J$2:$J$100,MATCH(B14&A14,'Suivi des commandes'!$Q$2:$Q$100,0),1))
J15: =IF(AND(A15="",B15=""),"",INDEX('Suivi des commandes'!$J$2:$J$100,MATCH(B15&A15,'Suivi des commandes'!$Q$2:$Q$100,0),1))
J16: =IF(AND(A16="",B16=""),"",INDEX('Suivi des commandes'!$J$2:$J$100,MATCH(B16&A16,'Suivi des commandes'!$Q$2:$Q$100,0),1))
... J24: =IF(AND(A24="",B24=""),"",INDEX('Suivi des commandes'!$J$2:$J$100,MATCH(B24&A24,'Suivi des commandes'!$Q$2:$Q$100,0),1))
