Workbook
Name Acoua: divers!$I$3:$I$4
Name Bandraboua: divers!$I$7:$I$12
Name Bandrélé: divers!$M$21:$M$26
Name Bouéni: divers!$M$31:$M$36
Name Chiconi: divers!$O$21:$O$22
Name Chirongui: divers!$O$11:$O$16
Name Communes: divers!$F$11:$F$27
Name Dembéni: divers!$M$13:$M$17
Name departements: divers!$Q$2:$R$109
Name Dzaoudzi_Labattoir: divers!$K$14:$K$15
Name KaniKéli: divers!$O$27:$O$32
Name Koungou: divers!$M$2:$M$8
Name Mamoudzou: divers!$K$2:$K$10
Name Mtsamboro: divers!$I$27:$I$29
Name MTsangamouji: divers!$K$29:$K$31
Name Ouangani: divers!$O$3:$O$6
Name Pamandzi: divers!$K$18
Name Sada: divers!$K$23:$K$24
Name Tsingoni: divers!$I$18:$I$21

Sheet Fiche 01
C1: Fiche professionnelle de renseignements
A5: INFORMATIONS PERSONNELLES
C6: Monsieur : | D6: FALSE | E6: Madame: | F6: FALSE | K6: =IF($D$6=TRUE,"Mr",IF(F6=TRUE,"Mme",""))
B7: NOM: | E7: Prénom :
B8: Né(e) le : | E8: à :
B9: =IF($C$8="","","Âge:") | C9: =IF(C8="","",DATEDIF($C$8,TODAY(),"Y")) | D9: Département naissance: | G9: =IFERROR(IF($F$9="","",VLOOKUP($F$9,departements,2,FALSE)),"département non valide")
D10: Nationalité française: | F10: FALSE | G10: FALSE | K10: =IF($F$10=TRUE,"OUI",IF($G$10=TRUE,"NON",""))
B11: Adresse: | K11: =IF($K$10="NON","0","")
B12: Commune : | C12: M'tsamboro | D12: Code postal: | E12: =IF($C$12="","",VLOOKUP($C$12,divers!$F$11:$G$27,2,FALSE)) -> 97630 | F12: Ville/ village : | G12: M'tsamboro
B14: N° téléphone portable valide :
B15: 2ème n° téléphone :
B16: Email professionnel :

Sheet Fiche 02
C1: Fiche professionnelle de renseignements
A5: INFORMATIONS PERSONNELLES
C6: Monsieur : | D6: FALSE | E6: Madame: | F6: FALSE | K6: =IF($D$6=TRUE,"Mr",IF(F6=TRUE,"Mme",""))
B7: NOM: | E7: Prénom :
B8: Né(e) le : | E8: à :
B9: =IF($C$8="","","Âge:") | C9: =IF(C8="","",DATEDIF($C$8,TODAY(),"Y")) | D9: Département naissance: | G9: =IFERROR(IF($F$9="","",VLOOKUP($F$9,departements,2,FALSE)),"département non valide")
D10: Nationalité française: | F10: TRUE | G10: FALSE | K10: =IF($F$10=TRUE,"OUI",IF($G$10=TRUE,"NON","")) -> OUI
B11: Adresse: | K11: =IF($K$10="NON","0","")
B12: Commune : | C12: Bouéni | D12: Code postal: | F12: Ville/ village : | G12: Bouéni
B14: N° téléphone portable valide :
B15: 2ème n° téléphone :
B16: Email professionnel :

Sheet Fiche 03
C1: Fiche professionnelle de renseignements
A5: INFORMATIONS PERSONNELLES
C6: Monsieur : | D6: FALSE | E6: Madame: | F6: FALSE | K6: =IF($D$6=TRUE,"Mr",IF(F6=TRUE,"Mme",""))
B7: NOM: | E7: Prénom :
B8: Né(e) le : | E8: à :
B9: =IF($C$8="","","Âge:") | C9: =IF(C8="","",DATEDIF($C$8,TODAY(),"Y")) | D9: Département naissance: | F9: 976 | G9: =IFERROR(IF($F$9="","",VLOOKUP($F$9,departements,2,FALSE)),"département non valide") -> Mayotte
D10: Nationalité française: | F10: FALSE | G10: FALSE | K10: =IF($F$10=TRUE,"OUI",IF($G$10=TRUE,"NON",""))
B11: Adresse: | K11: =IF($K$10="NON","0","")
B12: Commune : | D12: Code postal: | F12: Ville/ village :
B14: N° téléphone portable valide :
B15: 2ème n° téléphone :
B16: Email professionnel :
A18: SITUATION PROFESSIONNELLE

Sheet Fiche 04
C1: Fiche professionnelle de renseignements
G2: ='Fiche 01'!$G$2 -> 0
A5: INFORMATIONS PERSONNELLES
C6: Monsieur : | D6: FALSE | E6: Madame: | F6: FALSE | K6: =IF($D$6=TRUE,"Mr",IF(F6=TRUE,"Mme",""))
B7: NOM: | E7: Prénom :
B8: Né(e) le : | E8: à :
B9: =IF($C$8="","","Âge:") | C9: =IF(C8="","",DATEDIF($C$8,TODAY(),"Y")) | D9: Département naissance: | G9: =IFERROR(IF($F$9="","",VLOOKUP($F$9,departements,2,FALSE)),"département non valide")
D10: Nationalité française: | F10: FALSE | G10: FALSE | K10: =IF($F$10=TRUE,"OUI",IF($G$10=TRUE,"NON",""))
B11: Adresse: | K11: =IF($K$10="NON","0","")
B12: Commune : | C12: Dzaoudzi_Labattoir | D12: Code postal: | E12: =IF($C$12="","",VLOOKUP($C$12,divers!$F$11:$G$27,2,FALSE)) -> 97615 | F12: Ville/ village : | G12: Dzaoudzi
B14: N° téléphone portable valide :
B15: 2ème n° téléphone :
B16: Email professionnel :
A18: SITUATION PROFESSIONNELLE

Sheet divers
K1: 97600 | M1: 97600 | O1: 97670 | Q1: n° | R1: Département | T1: M'tsamboro | U1: Mtsamboro
I2: 97630 | K2: Mamoudzou | M2: Koungou | O2: Ouangani | Q2: 01 | R2: Ain | T2: M'tsangamouji | U2: Mtsangamouji
I3: Acoua | K3: Kawéni | M3: Majicavo Koropa | O3: Ouangani | Q3: 02 | R3: Aisne | T3: Kani-Kéli | U3: KaniKéli
I4: M'tsangadoua | K4: M'tsapéré | M4: Majicavo Lamir | O4: Barakani | Q4: 03 | R4: Allier | T4: Dzaoudzi_Labattoir | U4: DzaoudziLabattoir
K5: Kavani | M5: Koungou | O5: Kahani | Q5: 04 | R5: Alpes-de-Haute-Provence
I6: 97650 | K6: Passamainty | M6: Trévani | O6: Coconi | Q6: 05 | R6: Hautes-Alpes
I7: Bandraboua | K7: Mamoudzou | M7: Longoni | Q7: 06 | R7: Alpes-Maritimes
I8: Dzoumogné | K8: Vahibé | M8: Kangani | Q8: 07 | R8: Ardèche
I9: Bandraboua | K9: Tsoundzou I | O9: 97620 | Q9: 08 | R9: Ardennes
F10: Communes | G10: Code Postal | I10: Handrema | K10: Tsoundzou II | O10: Chirongui | Q10: 09 | R10: Ariège
F11: Acoua | G11: 97630 | I11: Bouyouni | M11: 97660 | O11: Chirongui | Q11: 10 | R11: Aube
F12: M'tsamboro | G12: 97630 | I12: M'tsangamboua | K12: 97615 | M12: Demb'ni | O12: Tsimkoura | Q12: 11 | R12: Aude
F13: Bandrélé | G13: 97660 | K13: Dzaoudzi_Labattoir | M13: Dembéni | O13: Poroani | Q13: 12 | R13: Aveyron
F14: Bouéni | G14: 97620 | K14: Dzaoudzi | M14: Tsararano | O14: Miréréni | Q14: 13 | R14: Bouches-du-Rhône
F15: Chirongui | G15: 97620 | K15: Labattoir | M15: Iloni | O15: M'ramadoudou | Q15: 14 | R15: Calvados
F16: Dembéni | G16: 97660 | I16: 97680 | M16: Hajangoua | O16: Malamani | Q16: 15 | R16: Cantal
F17: Kani-Kéli | G17: 97625 | I17: Tsingoni | M17: Ongoujou | Q17: 16 | R17: Charente
F18: Bandraboua | G18: 97650 | I18: Tsingoni | K18: Pamandzi | Q18: 17 | R18: Charente-Maritime
C19: Convertion pour recherche tableau | F19: M'tsangamouji | G19: 97650 | I19: Combani | M19: 97660 | O19: 97670 | Q19: 18 | R19: Cher
B20: Fiche 01 | C20: =IFERROR(INDIRECT("'"&B20&"'!$C$12"),"") -> M'tsamboro | D20: =IF(C20="","",IFERROR(VLOOKUP(C20,$T$1:$U$4,2,FALSE),C20)) -> Mtsamboro | F20: Mamoudzou | G20: 97600 | I20: Miréréni | M20: Bandrele | O20: Chiconi | Q20: 19 | R20: Corrèze
B21: Fiche 02 | C21: =IFERROR(INDIRECT("'"&B21&"'!$C$12"),"") -> Bouéni | D21: =IF(C21="","",IFERROR(VLOOKUP(C21,$T$1:$U$4,2,FALSE),C21)) -> Bouéni | F21: Koungou | G21: 97600 | I21: M'roalé | K21: 97640 | M21: Bandrélé | O21: Chiconi | Q21: 2A | R21: Corse-du-Sud
B22: Fiche 03 | C22: =IFERROR(INDIRECT("'"&B22&"'!$C$12"),"") -> 0 | D22: =IF(C22="","",IFERROR(VLOOKUP(C22,$T$1:$U$4,2,FALSE),C22)) -> 0 | F22: Ouangani | G22: 97670 | K22: Sada | M22: M'tsamoudou | O22: Sohoa | Q22: 2B | R22: Haute-Corse
B23: Fiche 04 | C23: =IFERROR(INDIRECT("'"&B23&"'!$C$12"),"") -> Dzaoudzi_Labattoir | D23: =IF(C23="","",IFERROR(VLOOKUP(C23,$T$1:$U$4,2,FALSE),C23)) -> DzaoudziLabattoir | F23: Chiconi | G23: 97670 | K23: Sada | M23: Nyambadao | Q23: 21 | R23: Côte-d'Or
B24: Fiche 05 | C24: =IFERROR(INDIRECT("'"&B24&"'!$C$12"),"") | D24: =IF(C24="","",IFERROR(VLOOKUP(C24,$T$1:$U$4,2,FALSE),C24)) | F24: Sada | G24: 97640 | K24: Manjagou | M24: Dapani | Q24: 22 | R24: Côtes-d'Armor
B25: Fiche 06 | C25: =IFERROR(INDIRECT("'"&B25&"'!$C$12"),"") | D25: =IF(C25="","",IFERROR(VLOOKUP(C25,$T$1:$U$4,2,FALSE),C25)) | F25: Tsingoni | G25: 97680 | I25: 97630 | M25: Hamouro | O25: 97625 | Q25: 23 | R25: Creuse
B26: Fiche 07 | C26: =IFERROR(INDIRECT("'"&B26&"'!$C$12"),"") | D26: =IF(C26="","",IFERROR(VLOOKUP(C26,$T$1:$U$4,2,FALSE),C26)) | F26: Dzaoudzi_Labattoir | G26: 97615 | I26: Mtsamboro | M26: Bambo-Est | O26: KaniKéli | Q26: 24 | R26: Dordogne
B27: Fiche 08 | C27: =IFERROR(INDIRECT("'"&B27&"'!$C$12"),"") | D27: =IF(C27="","",IFERROR(VLOOKUP(C27,$T$1:$U$4,2,FALSE),C27)) | F27: Pamandzi | G27: 97615 | I27: M'tsamboro | K27: 97650 | O27: Kani-Kéli | Q27: 25 | R27: Doubs
B28: Fiche 09 | C28: =IFERROR(INDIRECT("'"&B28&"'!$C$12"),"") | D28: =IF(C28="","",IFERROR(VLOOKUP(C28,$T$1:$U$4,2,FALSE),C28)) | I28: M'tsahara | K28: M'Tsangamouji | O28: Choungui | Q28: 26 | R28: Drôme
B29: Fiche 10 | C29: =IFERROR(INDIRECT("'"&B29&"'!$C$12"),"") | D29: =IF(C29="","",IFERROR(VLOOKUP(C29,$T$1:$U$4,2,FALSE),C29)) | I29: Hamjago | K29: M'Tsangamouji | M29: 97620 | O29: Kani bé | Q29: 27 | R29: Eure
B30: Fiche 11 | C30: =IFERROR(INDIRECT("'"&B30&"'!$C$12"),"") | D30: =IF(C30="","",IFERROR(VLOOKUP(C30,$T$1:$U$4,2,FALSE),C30)) | K30: Chembényoumba | M30: Bouéni | O30: M'bouini | Q30: 28 | R30: Eure-et-Loir
B31: Fiche 12 | C31: =IFERROR(INDIRECT("'"&B31&"'!$C$12"),"") | D31: =IF(C31="","",IFERROR(VLOOKUP(C31,$T$1:$U$4,2,FALSE),C31)) | K31: M'liha | M31: Bouéni | O31: M'ronabéja | Q31: 29 | R31: Finistère
B32: Fiche 13 | C32: =IFERROR(INDIRECT("'"&B32&"'!$C$12"),"") | D32: =IF(C32="","",IFERROR(VLOOKUP(C32,$T$1:$U$4,2,FALSE),C32)) | M32: M'zouazia | O32: Passy-Kéli | Q32: 30 | R32: Gard
B33: Fiche 14 | C33: =IFERROR(INDIRECT("'"&B33&"'!$C$12"),"") | D33: =IF(C33="","",IFERROR(VLOOKUP(C33,$T$1:$U$4,2,FALSE),C33)) | M33: Moinatrindi | Q33: 31 | R33: Haute-Garonne
B34: Fiche 15 | C34: =IFERROR(INDIRECT("'"&B34&"'!$C$12"),"") | D34: =IF(C34="","",IFERROR(VLOOKUP(C34,$T$1:$U$4,2,FALSE),C34)) | M34: Hagnoundrou | Q34: 32 | R34: Gers
B35: Fiche 16 | C35: =IFERROR(INDIRECT("'"&B35&"'!$C$12"),"") | D35: =IF(C35="","",IFERROR(VLOOKUP(C35,$T$1:$U$4,2,FALSE),C35)) | M35: Bambo-Ouest | Q35: 33 | R35: Gironde
B36: Fiche 17 | C36: =IFERROR(INDIRECT("'"&B36&"'!$C$12"),"") | D36: =IF(C36="","",IFERROR(VLOOKUP(C36,$T$1:$U$4,2,FALSE),C36)) | M36: M'bouanatsa | Q36: 34 | R36: Hérault
B37: Fiche 18 | C37: =IFERROR(INDIRECT("'"&B37&"'!$C$12"),"") | D37: =IF(C37="","",IFERROR(VLOOKUP(C37,$T$1:$U$4,2,FALSE),C37)) | Q37: 35 | R37: Ille-et-Vilaine
B38: Fiche 19 | C38: =IFERROR(INDIRECT("'"&B38&"'!$C$12"),"") | D38: =IF(C38="","",IFERROR(VLOOKUP(C38,$T$1:$U$4,2,FALSE),C38)) | Q38: 36 | R38: Indre
B39: Fiche 20 | C39: =IFERROR(INDIRECT("'"&B39&"'!$C$12"),"") | D39: =IF(C39="","",IFERROR(VLOOKUP(C39,$T$1:$U$4,2,FALSE),C39)) | Q39: 37 | R39: Indre-et-Loire
B40: Fiche 21 | C40: =IFERROR(INDIRECT("'"&B40&"'!$C$12"),"") | D40: =IF(C40="","",IFERROR(VLOOKUP(C40,$T$1:$U$4,2,FALSE),C40)) | Q40: 38 | R40: Isère
B41: Fiche 22 | C41: =IFERROR(INDIRECT("'"&B41&"'!$C$12"),"") | D41: =IF(C41="","",IFERROR(VLOOKUP(C41,$T$1:$U$4,2,FALSE),C41)) | Q41: 39 | R41: Jura
B42: Fiche 23 | C42: =IFERROR(INDIRECT("'"&B42&"'!$C$12"),"") | D42: =IF(C42="","",IFERROR(VLOOKUP(C42,$T$1:$U$4,2,FALSE),C42)) | Q42: 40 | R42: Landes
B43: Fiche 24 | C43: =IFERROR(INDIRECT("'"&B43&"'!$C$12"),"") | D43: =IF(C43="","",IFERROR(VLOOKUP(C43,$T$1:$U$4,2,FALSE),C43)) | Q43: 41 | R43: Loir-et-Cher
B44: Fiche 25 | C44: =IFERROR(INDIRECT("'"&B44&"'!$C$12"),"") | D44: =IF(C44="","",IFERROR(VLOOKUP(C44,$T$1:$U$4,2,FALSE),C44)) | Q44: 42 | R44: Loire
B45: Fiche 26 | C45: =IFERROR(INDIRECT("'"&B45&"'!$C$12"),"") | D45: =IF(C45="","",IFERROR(VLOOKUP(C45,$T$1:$U$4,2,FALSE),C45)) | Q45: 43 | R45: Haute-Loire
B46: Fiche 27 | C46: =IFERROR(INDIRECT("'"&B46&"'!$C$12"),"") | D46: =IF(C46="","",IFERROR(VLOOKUP(C46,$T$1:$U$4,2,FALSE),C46)) | Q46: 44 | R46: Loire-Atlantique
B47: Fiche 28 | C47: =IFERROR(INDIRECT("'"&B47&"'!$C$12"),"") | D47: =IF(C47="","",IFERROR(VLOOKUP(C47,$T$1:$U$4,2,FALSE),C47)) | Q47: 45 | R47: Loiret
Q48: 46 | R48: Lot
Q49: 47 | R49: Lot-et-Garonne
Q50: 48 | R50: Lozère
Q51: 49 | R51: Maine-et-Loire
Q52: 50 | R52: Manche
Q53: 51 | R53: Marne
Q54: 52 | R54: Haute-Marne
Q55: 53 | R55: Mayenne
Q56: 54 | R56: Meurthe-et-Moselle
Q57: 55 | R57: Meuse
Q58: 56 | R58: Morbihan
Q59: 57 | R59: Moselle
... Q109: 000 | R109: Autre

Sheet synthese
A4: N° de la fiche | B4: civilité | C4: Enseignants | E4: Téléphone 1 | F4: Téléphone 2 | G4: Email pro. | H4: Autre domaine de compétence
C5: Nom | D5: Prénom
A6: Fiche n°1 | B6: ='Fiche 01'!$K$6 | C6: =IF('Fiche 01'!$C$7="","",'Fiche 01'!$C$7) | D6: =IF('Fiche 01'!$F$7="","",'Fiche 01'!$F$7) | E6: =IF('Fiche 01'!$D$14="","",'Fiche 01'!$D$14) | F6: =IF('Fiche 01'!$D$15="","",'Fiche 01'!$D$15) | G6: =IF('Fiche 01'!$D$16="","",'Fiche 01'!$D$16) | H6: =IF('Fiche 01'!#REF!="","",'Fiche 01'!#REF!) -> #REF!
A7: Fiche n°2 | B7: ='Fiche 02'!$K$6 | C7: =IF('Fiche 02'!$C$7="","",'Fiche 02'!$C$7) | D7: =IF('Fiche 02'!$F$7="","",'Fiche 02'!$F$7) | E7: =IF('Fiche 02'!$D$14="","",'Fiche 02'!$D$14) | F7: =IF('Fiche 02'!$D$15="","",'Fiche 02'!$D$15) | G7: =IF('Fiche 02'!$D$16="","",'Fiche 02'!$D$16) | H7: =IF('Fiche 02'!#REF!="","",'Fiche 02'!#REF!) -> #REF!
A8: Fiche n°3 | B8: ='Fiche 03'!$K$6 | C8: =IF('Fiche 03'!$C$7="","",'Fiche 03'!$C$7) | D8: =IF('Fiche 03'!$F$7="","",'Fiche 03'!$F$7) | E8: =IF('Fiche 03'!$D$14="","",'Fiche 03'!$D$14) | F8: =IF('Fiche 03'!$D$15="","",'Fiche 03'!$D$15) | G8: =IF('Fiche 03'!$D$16="","",'Fiche 03'!$D$16) | H8: =IF('Fiche 03'!#REF!="","",'Fiche 03'!#REF!) -> #REF!
A9: Fiche n°4 | B9: ='Fiche 03'!$K$6 | C9: =IF('Fiche 03'!$C$7="","",'Fiche 03'!$C$7) | D9: =IF('Fiche 03'!$F$7="","",'Fiche 03'!$F$7) | E9: =IF('Fiche 03'!$D$14="","",'Fiche 03'!$D$14) | F9: =IF('Fiche 03'!$D$15="","",'Fiche 03'!$D$15) | G9: =IF('Fiche 03'!$D$16="","",'Fiche 03'!$D$16) | H9: =IF('Fiche 03'!#REF!="","",'Fiche 03'!#REF!) -> #REF!
