Workbook

Sheet données
A1: Co2 | B1: Tarif pour véhicule WLTP (A partir de 01/03/2020) | C1: Tarif pour véhicule NEDC (DMEC > 01/06/2004, possédés ou loués depuis 01/01/2006)
A2: -200 | B2: -1 | C2: 133 | E2: en dessous de 0
A3: 0 | B3: 1 | C3: 16 | E3: ="de "&A3&" à "&A4 -> de 0 à 20
A4: 20 | B4: 2 | C4: 17 | E4: ="de "&A4&" à "&A5 -> de 20 à 50
A5: 50 | B5: 3 | C5: 18 | E5: ="de "&A5&" à "&A6 -> de 50 à 60
A6: 60 | B6: 4 | C6: 19 | E6: ="de "&A6&" à "&A7 -> de 60 à 100
A7: 100 | B7: 5 | C7: 20 | E7: ="de "&A7&" à "&A8 -> de 100 à 120
A8: 120 | B8: 6 | C8: 21 | E8: ="de "&A8&" à "&A9 -> de 120 à 140
A9: 140 | B9: 7 | C9: 22 | E9: ="de "&A9&" à "&A10 -> de 140 à 150
A10: 150 | B10: 8 | C10: 23 | E10: ="de "&A10&" à "&A11 -> de 150 à 160
A11: 160 | B11: 9 | C11: 24 | E11: ="de "&A11&" à "&A12 -> de 160 à 170
A12: 170 | B12: 10 | C12: 25 | E12: ="de "&A12&" à "&A13 -> de 170 à 190
A13: 190 | B13: 11 | C13: 26 | E13: ="de "&A13&" à "&A14 -> de 190 à 200
A14: 200 | B14: 12 | C14: 27 | E14: ="de "&A14&" à "&A15 -> de 200 à 230
... A16: 250 | B16: 14 | C16: 29 | E16: ="de "&A16&" à "&A17 -> de 250 à 270
A17: 270 | B17: 15 | C17: 30 | E17: au-delà

Sheet datas
A1: Date d'immatriculation (I) | B1: avant ou apres 01/03/2020 | C1: Date de 1ere mise en circulation (B) | D1: Taux de CO2 (v7 sur carte grise) | E1: Taux taxation Co2
A2: 43922 | B2: =IF(A2>DATE(2020,3,1),"vrai",FALSE) -> vrai | C2: 42485 | D2: 10 | E2: =IF(B2="VRAI",VLOOKUP(D2,données!$A$2:$C$17,2,TRUE),VLOOKUP(D2,données!$A$2:$C$17,3,TRUE)) -> 1
A3: 43905 | B3: =IF(A3>DATE(2020,3,1),"VRAI",FALSE) -> VRAI | D3: 20 | E3: =IF(B3="VRAI",VLOOKUP(D3,données!$A$2:$C$17,2,TRUE),VLOOKUP(D3,données!$A$2:$C$17,3,TRUE)) -> 2
A4: 40178 | B4: =IF(A4>DATE(2020,3,1),"vrai",FALSE) -> FALSE | C4: 42485 | D4: 20 | E4: =IF(B4="VRAI",VLOOKUP(D4,données!$A$2:$C$17,2,TRUE),VLOOKUP(D4,données!$A$2:$C$17,3,TRUE)) -> 17
A5: 43905 | B5: =IF(A5>DATE(2020,3,1),"VRAI",FALSE) -> VRAI | D5: 20 | E5: =IF(B5="VRAI",VLOOKUP(D5,données!$A$2:$C$17,2,TRUE),VLOOKUP(D5,données!$A$2:$C$17,3,TRUE)) -> 2
A6: 43905 | B6: =IF(A6>DATE(2020,3,1),"VRAI",FALSE) -> VRAI | D6: 45 | E6: =IF(B6="VRAI",VLOOKUP(D6,données!$A$2:$C$17,2,TRUE),VLOOKUP(D6,données!$A$2:$C$17,3,TRUE)) -> 2 | F6: devrait etre 2
A7: 43905 | B7: =IF(A7>DATE(2020,3,1),"VRAI",FALSE) -> VRAI | D7: 45 | E7: =IF(B7="VRAI",VLOOKUP(D7,données!$A$2:$C$17,2,TRUE),VLOOKUP(D7,données!$A$2:$C$17,3,TRUE)) -> 2 | F7: devrait etre 2
A8: 40178 | B8: =IF(A8>DATE(2020,3,1),"vrai",FALSE) -> FALSE | C8: 42485 | D8: 20 | E8: =IF(B8="VRAI",VLOOKUP(D8,données!$A$2:$C$17,2,TRUE),VLOOKUP(D8,données!$A$2:$C$17,3,TRUE)) -> 17
A10: 40178 | B10: =IF(A10>DATE(2020,3,1),"VRAI",FALSE) -> FALSE | D10: 156 | E10: =IF(B10="VRAI",VLOOKUP(D10,données!$A$2:$C$17,2,TRUE),VLOOKUP(D10,données!$A$2:$C$17,3,TRUE)) -> 23 | F10: devrai etre 23

Sheet Feuil3
