Workbook

Sheet planning gantt M1
B2: Choix ecart temps | C2: =0.5/24 -> 0.020833333
B3: Date début plannif | C3: 43472
B4: Heure d'ouverture | C4: 0.20833333
B5: Heure de fermeture | C5: 0.91666667
I6: ="S"&WEEKNUM(I7,2) -> S2 | J6: ="S"&WEEKNUM(J7,2) -> S2 | K6: ="S"&WEEKNUM(K7,2) -> S2 | L6: ="S"&WEEKNUM(L7,2) -> S2 | M6: ="S"&WEEKNUM(M7,2) -> S2 | N6: ="S"&WEEKNUM(N7,2) -> S2 | O6: ="S"&WEEKNUM(O7,2) -> S2 | P6: ="S"&WEEKNUM(P7,2) -> S2 | ... AE6: ="S"&WEEKNUM(AE7,2) -> S2
I7: =C3 -> 43472 | J7: =I7 -> 43472 | K7: =J7 -> 43472 | L7: =K7 -> 43472 | M7: =L7 -> 43472 | N7: =M7 -> 43472 | O7: =N7 -> 43472 | P7: =O7 -> 43472 | Q7: =P7 -> 43472 | ... AE7: =AD7 -> 43472
I8: =PROPER(TEXT(I7,"jjjj")) -> Lundi | J8: =PROPER(TEXT(J7,"jjjj")) -> Lundi | K8: =PROPER(TEXT(K7,"jjjj")) -> Lundi | L8: =PROPER(TEXT(L7,"jjjj")) -> Lundi | M8: =PROPER(TEXT(M7,"jjjj")) -> Lundi | N8: =PROPER(TEXT(N7,"jjjj")) -> Lundi | O8: =PROPER(TEXT(O7,"jjjj")) -> Lundi | P8: =PROPER(TEXT(P7,"jjjj")) -> Lundi | ... AE8: =PROPER(TEXT(AE7,"jjjj")) -> Lundi
C9: Client | D9: Temps de gamme | E9: Temps de réglage | F9: Date_Heure de début | G9: Date de fin hors WE et JF | I9: =I7+C4 -> 43472.208 | J9: =+I9+$C$2 -> 43472.229 | K9: =+J9+$C$2 -> 43472.25 | L9: =+K9+$C$2 -> 43472.271 | M9: =+L9+$C$2 -> 43472.292 | N9: =+M9+$C$2 -> 43472.313 | O9: =+N9+$C$2 -> 43472.333 | P9: =+O9+$C$2 -> 43472.354 | Q9: =+P9+$C$2 -> 43472.375 | ... AE9: =+AD9+$C$2 -> 43472.667
B10: marchine 1 | C10: =TR.liste!A2 -> a | D10: =TR.liste!B2/24-E10 -> 0.125 | E10: =2/24 -> 0.083333333 | F10: =C3+C4 -> 43472.208 | G10: =+D10+F10+E10 -> 43472.417 | I10: =IF(AND(I$9>=$F10,I$9<($F10+$E10)),1,IF(AND(I$9>=$F10,I$9<$G10),2,0)) -> 1 | J10: =IF(AND(J$9>=$F10,J$9<($F10+$E10)),1,IF(AND(J$9>=$F10,J$9<$G10),2,0)) -> 1 | K10: =IF(AND(K$9>=$F10,K$9<($F10+$E10)),1,IF(AND(K$9>=$F10,K$9<$G10),2,0)) -> 1 | L10: =IF(AND(L$9>=$F10,L$9<($F10+$E10)),1,IF(AND(L$9>=$F10,L$9<$G10),2,0)) -> 1 | M10: =IF(AND(M$9>=$F10,M$9<($F10+$E10)),1,IF(AND(M$9>=$F10,M$9<$G10),2,0)) -> 2 | N10: =IF(AND(N$9>=$F10,N$9<($F10+$E10)),1,IF(AND(N$9>=$F10,N$9<$G10),2,0)) -> 2 | O10: =IF(AND(O$9>=$F10,O$9<($F10+$E10)),1,IF(AND(O$9>=$F10,O$9<$G10),2,0)) -> 2 | P10: =IF(AND(P$9>=$F10,P$9<($F10+$E10)),1,IF(AND(P$9>=$F10,P$9<$G10),2,0)) -> 2 | ... AE10: =IF(AND(AE$9>=$F10,AE$9<($F10+$E10)),1,IF(AND(AE$9>=$F10,AE$9<$G10),2,0)) -> 0
B11: marchine 1 | C11: =TR.liste!A3 -> b | D11: =TR.liste!B3/24-E11 -> 0.20833333 | E11: =1/24 -> 0.041666667 | F11: =G10 -> 43472.417 | G11: =+D11+F11+E11 -> 43472.667 | I11: =IF(AND(I$9>=$F11,I$9<($F11+$E11)),1,IF(AND(I$9>=$F11,I$9<$G11),2,0)) -> 0 | J11: =IF(AND(J$9>=$F11,J$9<($F11+$E11)),1,IF(AND(J$9>=$F11,J$9<$G11),2,0)) -> 0 | K11: =IF(AND(K$9>=$F11,K$9<($F11+$E11)),1,IF(AND(K$9>=$F11,K$9<$G11),2,0)) -> 0 | L11: =IF(AND(L$9>=$F11,L$9<($F11+$E11)),1,IF(AND(L$9>=$F11,L$9<$G11),2,0)) -> 0 | M11: =IF(AND(M$9>=$F11,M$9<($F11+$E11)),1,IF(AND(M$9>=$F11,M$9<$G11),2,0)) -> 0 | N11: =IF(AND(N$9>=$F11,N$9<($F11+$E11)),1,IF(AND(N$9>=$F11,N$9<$G11),2,0)) -> 0 | O11: =IF(AND(O$9>=$F11,O$9<($F11+$E11)),1,IF(AND(O$9>=$F11,O$9<$G11),2,0)) -> 0 | P11: =IF(AND(P$9>=$F11,P$9<($F11+$E11)),1,IF(AND(P$9>=$F11,P$9<$G11),2,0)) -> 0 | ... AE11: =IF(AND(AE$9>=$F11,AE$9<($F11+$E11)),1,IF(AND(AE$9>=$F11,AE$9<$G11),2,0)) -> 0
I12: =IF(AND(I$9>=$F12,I$9<($F12+$E12)),1,IF(AND(I$9>=$F12,I$9<$G12),2,0)) -> 0 | J12: =IF(AND(J$9>=$F12,J$9<($F12+$E12)),1,IF(AND(J$9>=$F12,J$9<$G12),2,0)) -> 0 | K12: =IF(AND(K$9>=$F12,K$9<($F12+$E12)),1,IF(AND(K$9>=$F12,K$9<$G12),2,0)) -> 0 | L12: =IF(AND(L$9>=$F12,L$9<($F12+$E12)),1,IF(AND(L$9>=$F12,L$9<$G12),2,0)) -> 0 | M12: =IF(AND(M$9>=$F12,M$9<($F12+$E12)),1,IF(AND(M$9>=$F12,M$9<$G12),2,0)) -> 0 | N12: =IF(AND(N$9>=$F12,N$9<($F12+$E12)),1,IF(AND(N$9>=$F12,N$9<$G12),2,0)) -> 0 | O12: =IF(AND(O$9>=$F12,O$9<($F12+$E12)),1,IF(AND(O$9>=$F12,O$9<$G12),2,0)) -> 0 | P12: =IF(AND(P$9>=$F12,P$9<($F12+$E12)),1,IF(AND(P$9>=$F12,P$9<$G12),2,0)) -> 0 | ... AE12: =IF(AND(AE$9>=$F12,AE$9<($F12+$E12)),1,IF(AND(AE$9>=$F12,AE$9<$G12),2,0)) -> 0
I13: =IF(AND(I$9>=$F13,I$9<($F13+$E13)),1,IF(AND(I$9>=$F13,I$9<$G13),2,0)) -> 0 | J13: =IF(AND(J$9>=$F13,J$9<($F13+$E13)),1,IF(AND(J$9>=$F13,J$9<$G13),2,0)) -> 0 | K13: =IF(AND(K$9>=$F13,K$9<($F13+$E13)),1,IF(AND(K$9>=$F13,K$9<$G13),2,0)) -> 0 | L13: =IF(AND(L$9>=$F13,L$9<($F13+$E13)),1,IF(AND(L$9>=$F13,L$9<$G13),2,0)) -> 0 | M13: =IF(AND(M$9>=$F13,M$9<($F13+$E13)),1,IF(AND(M$9>=$F13,M$9<$G13),2,0)) -> 0 | N13: =IF(AND(N$9>=$F13,N$9<($F13+$E13)),1,IF(AND(N$9>=$F13,N$9<$G13),2,0)) -> 0 | O13: =IF(AND(O$9>=$F13,O$9<($F13+$E13)),1,IF(AND(O$9>=$F13,O$9<$G13),2,0)) -> 0 | P13: =IF(AND(P$9>=$F13,P$9<($F13+$E13)),1,IF(AND(P$9>=$F13,P$9<$G13),2,0)) -> 0 | ... AE13: =IF(AND(AE$9>=$F13,AE$9<($F13+$E13)),1,IF(AND(AE$9>=$F13,AE$9<$G13),2,0)) -> 0
I14: =IF(AND(I$9>=$F14,I$9<($F14+$E14)),1,IF(AND(I$9>=$F14,I$9<$G14),2,0)) -> 0 | J14: =IF(AND(J$9>=$F14,J$9<($F14+$E14)),1,IF(AND(J$9>=$F14,J$9<$G14),2,0)) -> 0 | K14: =IF(AND(K$9>=$F14,K$9<($F14+$E14)),1,IF(AND(K$9>=$F14,K$9<$G14),2,0)) -> 0 | L14: =IF(AND(L$9>=$F14,L$9<($F14+$E14)),1,IF(AND(L$9>=$F14,L$9<$G14),2,0)) -> 0 | M14: =IF(AND(M$9>=$F14,M$9<($F14+$E14)),1,IF(AND(M$9>=$F14,M$9<$G14),2,0)) -> 0 | N14: =IF(AND(N$9>=$F14,N$9<($F14+$E14)),1,IF(AND(N$9>=$F14,N$9<$G14),2,0)) -> 0 | O14: =IF(AND(O$9>=$F14,O$9<($F14+$E14)),1,IF(AND(O$9>=$F14,O$9<$G14),2,0)) -> 0 | P14: =IF(AND(P$9>=$F14,P$9<($F14+$E14)),1,IF(AND(P$9>=$F14,P$9<$G14),2,0)) -> 0 | ... AE14: =IF(AND(AE$9>=$F14,AE$9<($F14+$E14)),1,IF(AND(AE$9>=$F14,AE$9<$G14),2,0)) -> 0
I15: =IF(AND(I$9>=$F15,I$9<($F15+$E15)),1,IF(AND(I$9>=$F15,I$9<$G15),2,0)) -> 0 | J15: =IF(AND(J$9>=$F15,J$9<($F15+$E15)),1,IF(AND(J$9>=$F15,J$9<$G15),2,0)) -> 0 | K15: =IF(AND(K$9>=$F15,K$9<($F15+$E15)),1,IF(AND(K$9>=$F15,K$9<$G15),2,0)) -> 0 | L15: =IF(AND(L$9>=$F15,L$9<($F15+$E15)),1,IF(AND(L$9>=$F15,L$9<$G15),2,0)) -> 0 | M15: =IF(AND(M$9>=$F15,M$9<($F15+$E15)),1,IF(AND(M$9>=$F15,M$9<$G15),2,0)) -> 0 | N15: =IF(AND(N$9>=$F15,N$9<($F15+$E15)),1,IF(AND(N$9>=$F15,N$9<$G15),2,0)) -> 0 | O15: =IF(AND(O$9>=$F15,O$9<($F15+$E15)),1,IF(AND(O$9>=$F15,O$9<$G15),2,0)) -> 0 | P15: =IF(AND(P$9>=$F15,P$9<($F15+$E15)),1,IF(AND(P$9>=$F15,P$9<$G15),2,0)) -> 0 | ... AE15: =IF(AND(AE$9>=$F15,AE$9<($F15+$E15)),1,IF(AND(AE$9>=$F15,AE$9<$G15),2,0)) -> 0
I16: =IF(AND(I$9>=$F16,I$9<($F16+$E16)),1,IF(AND(I$9>=$F16,I$9<$G16),2,0)) -> 0 | J16: =IF(AND(J$9>=$F16,J$9<($F16+$E16)),1,IF(AND(J$9>=$F16,J$9<$G16),2,0)) -> 0 | K16: =IF(AND(K$9>=$F16,K$9<($F16+$E16)),1,IF(AND(K$9>=$F16,K$9<$G16),2,0)) -> 0 | L16: =IF(AND(L$9>=$F16,L$9<($F16+$E16)),1,IF(AND(L$9>=$F16,L$9<$G16),2,0)) -> 0 | M16: =IF(AND(M$9>=$F16,M$9<($F16+$E16)),1,IF(AND(M$9>=$F16,M$9<$G16),2,0)) -> 0 | N16: =IF(AND(N$9>=$F16,N$9<($F16+$E16)),1,IF(AND(N$9>=$F16,N$9<$G16),2,0)) -> 0 | O16: =IF(AND(O$9>=$F16,O$9<($F16+$E16)),1,IF(AND(O$9>=$F16,O$9<$G16),2,0)) -> 0 | P16: =IF(AND(P$9>=$F16,P$9<($F16+$E16)),1,IF(AND(P$9>=$F16,P$9<$G16),2,0)) -> 0 | ... AE16: =IF(AND(AE$9>=$F16,AE$9<($F16+$E16)),1,IF(AND(AE$9>=$F16,AE$9<$G16),2,0)) -> 0
I17: =IF(AND(I$9>=$F17,I$9<($F17+$E17)),1,IF(AND(I$9>=$F17,I$9<$G17),2,0)) -> 0 | J17: =IF(AND(J$9>=$F17,J$9<($F17+$E17)),1,IF(AND(J$9>=$F17,J$9<$G17),2,0)) -> 0 | K17: =IF(AND(K$9>=$F17,K$9<($F17+$E17)),1,IF(AND(K$9>=$F17,K$9<$G17),2,0)) -> 0 | L17: =IF(AND(L$9>=$F17,L$9<($F17+$E17)),1,IF(AND(L$9>=$F17,L$9<$G17),2,0)) -> 0 | M17: =IF(AND(M$9>=$F17,M$9<($F17+$E17)),1,IF(AND(M$9>=$F17,M$9<$G17),2,0)) -> 0 | N17: =IF(AND(N$9>=$F17,N$9<($F17+$E17)),1,IF(AND(N$9>=$F17,N$9<$G17),2,0)) -> 0 | O17: =IF(AND(O$9>=$F17,O$9<($F17+$E17)),1,IF(AND(O$9>=$F17,O$9<$G17),2,0)) -> 0 | P17: =IF(AND(P$9>=$F17,P$9<($F17+$E17)),1,IF(AND(P$9>=$F17,P$9<$G17),2,0)) -> 0 | ... AE17: =IF(AND(AE$9>=$F17,AE$9<($F17+$E17)),1,IF(AND(AE$9>=$F17,AE$9<$G17),2,0)) -> 0
I18: =IF(AND(I$9>=$F18,I$9<($F18+$E18)),1,IF(AND(I$9>=$F18,I$9<$G18),2,0)) -> 0 | J18: =IF(AND(J$9>=$F18,J$9<($F18+$E18)),1,IF(AND(J$9>=$F18,J$9<$G18),2,0)) -> 0 | K18: =IF(AND(K$9>=$F18,K$9<($F18+$E18)),1,IF(AND(K$9>=$F18,K$9<$G18),2,0)) -> 0 | L18: =IF(AND(L$9>=$F18,L$9<($F18+$E18)),1,IF(AND(L$9>=$F18,L$9<$G18),2,0)) -> 0 | M18: =IF(AND(M$9>=$F18,M$9<($F18+$E18)),1,IF(AND(M$9>=$F18,M$9<$G18),2,0)) -> 0 | N18: =IF(AND(N$9>=$F18,N$9<($F18+$E18)),1,IF(AND(N$9>=$F18,N$9<$G18),2,0)) -> 0 | O18: =IF(AND(O$9>=$F18,O$9<($F18+$E18)),1,IF(AND(O$9>=$F18,O$9<$G18),2,0)) -> 0 | P18: =IF(AND(P$9>=$F18,P$9<($F18+$E18)),1,IF(AND(P$9>=$F18,P$9<$G18),2,0)) -> 0 | ... AE18: =IF(AND(AE$9>=$F18,AE$9<($F18+$E18)),1,IF(AND(AE$9>=$F18,AE$9<$G18),2,0)) -> 0
I19: =IF(AND(I$9>=$F19,I$9<($F19+$E19)),1,IF(AND(I$9>=$F19,I$9<$G19),2,0)) -> 0 | J19: =IF(AND(J$9>=$F19,J$9<($F19+$E19)),1,IF(AND(J$9>=$F19,J$9<$G19),2,0)) -> 0 | K19: =IF(AND(K$9>=$F19,K$9<($F19+$E19)),1,IF(AND(K$9>=$F19,K$9<$G19),2,0)) -> 0 | L19: =IF(AND(L$9>=$F19,L$9<($F19+$E19)),1,IF(AND(L$9>=$F19,L$9<$G19),2,0)) -> 0 | M19: =IF(AND(M$9>=$F19,M$9<($F19+$E19)),1,IF(AND(M$9>=$F19,M$9<$G19),2,0)) -> 0 | N19: =IF(AND(N$9>=$F19,N$9<($F19+$E19)),1,IF(AND(N$9>=$F19,N$9<$G19),2,0)) -> 0 | O19: =IF(AND(O$9>=$F19,O$9<($F19+$E19)),1,IF(AND(O$9>=$F19,O$9<$G19),2,0)) -> 0 | P19: =IF(AND(P$9>=$F19,P$9<($F19+$E19)),1,IF(AND(P$9>=$F19,P$9<$G19),2,0)) -> 0 | ... AE19: =IF(AND(AE$9>=$F19,AE$9<($F19+$E19)),1,IF(AND(AE$9>=$F19,AE$9<$G19),2,0)) -> 0
I20: =IF(AND(I$9>=$F20,I$9<($F20+$E20)),1,IF(AND(I$9>=$F20,I$9<$G20),2,0)) -> 0 | J20: =IF(AND(J$9>=$F20,J$9<($F20+$E20)),1,IF(AND(J$9>=$F20,J$9<$G20),2,0)) -> 0 | K20: =IF(AND(K$9>=$F20,K$9<($F20+$E20)),1,IF(AND(K$9>=$F20,K$9<$G20),2,0)) -> 0 | L20: =IF(AND(L$9>=$F20,L$9<($F20+$E20)),1,IF(AND(L$9>=$F20,L$9<$G20),2,0)) -> 0 | M20: =IF(AND(M$9>=$F20,M$9<($F20+$E20)),1,IF(AND(M$9>=$F20,M$9<$G20),2,0)) -> 0 | N20: =IF(AND(N$9>=$F20,N$9<($F20+$E20)),1,IF(AND(N$9>=$F20,N$9<$G20),2,0)) -> 0 | O20: =IF(AND(O$9>=$F20,O$9<($F20+$E20)),1,IF(AND(O$9>=$F20,O$9<$G20),2,0)) -> 0 | P20: =IF(AND(P$9>=$F20,P$9<($F20+$E20)),1,IF(AND(P$9>=$F20,P$9<$G20),2,0)) -> 0 | ... AE20: =IF(AND(AE$9>=$F20,AE$9<($F20+$E20)),1,IF(AND(AE$9>=$F20,AE$9<$G20),2,0)) -> 0
I21: =IF(AND(I$9>=$F21,I$9<($F21+$E21)),1,IF(AND(I$9>=$F21,I$9<$G21),2,0)) -> 0 | J21: =IF(AND(J$9>=$F21,J$9<($F21+$E21)),1,IF(AND(J$9>=$F21,J$9<$G21),2,0)) -> 0 | K21: =IF(AND(K$9>=$F21,K$9<($F21+$E21)),1,IF(AND(K$9>=$F21,K$9<$G21),2,0)) -> 0 | L21: =IF(AND(L$9>=$F21,L$9<($F21+$E21)),1,IF(AND(L$9>=$F21,L$9<$G21),2,0)) -> 0 | M21: =IF(AND(M$9>=$F21,M$9<($F21+$E21)),1,IF(AND(M$9>=$F21,M$9<$G21),2,0)) -> 0 | N21: =IF(AND(N$9>=$F21,N$9<($F21+$E21)),1,IF(AND(N$9>=$F21,N$9<$G21),2,0)) -> 0 | O21: =IF(AND(O$9>=$F21,O$9<($F21+$E21)),1,IF(AND(O$9>=$F21,O$9<$G21),2,0)) -> 0 | P21: =IF(AND(P$9>=$F21,P$9<($F21+$E21)),1,IF(AND(P$9>=$F21,P$9<$G21),2,0)) -> 0 | ... AE21: =IF(AND(AE$9>=$F21,AE$9<($F21+$E21)),1,IF(AND(AE$9>=$F21,AE$9<$G21),2,0)) -> 0
I22: =IF(AND(I$9>=$F22,I$9<($F22+$E22)),1,IF(AND(I$9>=$F22,I$9<$G22),2,0)) -> 0 | J22: =IF(AND(J$9>=$F22,J$9<($F22+$E22)),1,IF(AND(J$9>=$F22,J$9<$G22),2,0)) -> 0 | K22: =IF(AND(K$9>=$F22,K$9<($F22+$E22)),1,IF(AND(K$9>=$F22,K$9<$G22),2,0)) -> 0 | L22: =IF(AND(L$9>=$F22,L$9<($F22+$E22)),1,IF(AND(L$9>=$F22,L$9<$G22),2,0)) -> 0 | M22: =IF(AND(M$9>=$F22,M$9<($F22+$E22)),1,IF(AND(M$9>=$F22,M$9<$G22),2,0)) -> 0 | N22: =IF(AND(N$9>=$F22,N$9<($F22+$E22)),1,IF(AND(N$9>=$F22,N$9<$G22),2,0)) -> 0 | O22: =IF(AND(O$9>=$F22,O$9<($F22+$E22)),1,IF(AND(O$9>=$F22,O$9<$G22),2,0)) -> 0 | P22: =IF(AND(P$9>=$F22,P$9<($F22+$E22)),1,IF(AND(P$9>=$F22,P$9<$G22),2,0)) -> 0 | ... AE22: =IF(AND(AE$9>=$F22,AE$9<($F22+$E22)),1,IF(AND(AE$9>=$F22,AE$9<$G22),2,0)) -> 0
I23: =IF(AND(I$9>=$F23,I$9<($F23+$E23)),1,IF(AND(I$9>=$F23,I$9<$G23),2,0)) -> 0 | J23: =IF(AND(J$9>=$F23,J$9<($F23+$E23)),1,IF(AND(J$9>=$F23,J$9<$G23),2,0)) -> 0 | K23: =IF(AND(K$9>=$F23,K$9<($F23+$E23)),1,IF(AND(K$9>=$F23,K$9<$G23),2,0)) -> 0 | L23: =IF(AND(L$9>=$F23,L$9<($F23+$E23)),1,IF(AND(L$9>=$F23,L$9<$G23),2,0)) -> 0 | M23: =IF(AND(M$9>=$F23,M$9<($F23+$E23)),1,IF(AND(M$9>=$F23,M$9<$G23),2,0)) -> 0 | N23: =IF(AND(N$9>=$F23,N$9<($F23+$E23)),1,IF(AND(N$9>=$F23,N$9<$G23),2,0)) -> 0 | O23: =IF(AND(O$9>=$F23,O$9<($F23+$E23)),1,IF(AND(O$9>=$F23,O$9<$G23),2,0)) -> 0 | P23: =IF(AND(P$9>=$F23,P$9<($F23+$E23)),1,IF(AND(P$9>=$F23,P$9<$G23),2,0)) -> 0 | ... AE23: =IF(AND(AE$9>=$F23,AE$9<($F23+$E23)),1,IF(AND(AE$9>=$F23,AE$9<$G23),2,0)) -> 0

Sheet heures à la suite M1
B2: Choix ecart temps | C2: =0.5/24 -> 0.020833333
B3: Date début plannif | C3: 43472
B4: Heure d'ouverture | C4: 0.20833333
B5: Heure de fermeture | C5: 0.91666667
I6: ="S"&WEEKNUM(I7,2) -> S2 | J6: ="S"&WEEKNUM(J7,2) -> S2 | K6: ="S"&WEEKNUM(K7,2) -> S2 | L6: ="S"&WEEKNUM(L7,2) -> S2 | M6: ="S"&WEEKNUM(M7,2) -> S2 | N6: ="S"&WEEKNUM(N7,2) -> S2 | O6: ="S"&WEEKNUM(O7,2) -> S2 | P6: ="S"&WEEKNUM(P7,2) -> S2 | ... AE6: ="S"&WEEKNUM(AE7,2) -> S2
I7: =C3 -> 43472 | J7: =I7 -> 43472 | K7: =J7 -> 43472 | L7: =K7 -> 43472 | M7: =L7 -> 43472 | N7: =M7 -> 43472 | O7: =N7 -> 43472 | P7: =O7 -> 43472 | Q7: =P7 -> 43472 | ... AE7: =AD7 -> 43472
I8: =PROPER(TEXT(I7,"jjjj")) -> Lundi | J8: =PROPER(TEXT(J7,"jjjj")) -> Lundi | K8: =PROPER(TEXT(K7,"jjjj")) -> Lundi | L8: =PROPER(TEXT(L7,"jjjj")) -> Lundi | M8: =PROPER(TEXT(M7,"jjjj")) -> Lundi | N8: =PROPER(TEXT(N7,"jjjj")) -> Lundi | O8: =PROPER(TEXT(O7,"jjjj")) -> Lundi | P8: =PROPER(TEXT(P7,"jjjj")) -> Lundi | ... AE8: =PROPER(TEXT(AE7,"jjjj")) -> Lundi
C9: Client | D9: Temps de gamme | E9: Temps de réglage | F9: Date_Heure de début | G9: Date de fin hors WE et JF | I9: =I7+C4 -> 43472.208 | J9: =+I9+$C$2 -> 43472.229 | K9: =+J9+$C$2 -> 43472.25 | L9: =+K9+$C$2 -> 43472.271 | M9: =+L9+$C$2 -> 43472.292 | N9: =+M9+$C$2 -> 43472.313 | O9: =+N9+$C$2 -> 43472.333 | P9: =+O9+$C$2 -> 43472.354 | Q9: =+P9+$C$2 -> 43472.375 | ... AE9: =+AD9+$C$2 -> 43472.667
B10: souhait :
B11: marchine 1 | I11: =SUMIFS('planning gantt M1'!I$10:I$40,'planning gantt M1'!$B$10:$B$40,$B11) -> 1 | J11: =SUMIFS('planning gantt M1'!J$10:J$40,'planning gantt M1'!$B$10:$B$40,$B11) -> 1 | K11: =SUMIFS('planning gantt M1'!K$10:K$40,'planning gantt M1'!$B$10:$B$40,$B11) -> 1 | L11: =SUMIFS('planning gantt M1'!L$10:L$40,'planning gantt M1'!$B$10:$B$40,$B11) -> 1 | M11: =SUMIFS('planning gantt M1'!M$10:M$40,'planning gantt M1'!$B$10:$B$40,$B11) -> 2 | N11: =SUMIFS('planning gantt M1'!N$10:N$40,'planning gantt M1'!$B$10:$B$40,$B11) -> 2 | O11: =SUMIFS('planning gantt M1'!O$10:O$40,'planning gantt M1'!$B$10:$B$40,$B11) -> 2 | P11: =SUMIFS('planning gantt M1'!P$10:P$40,'planning gantt M1'!$B$10:$B$40,$B11) -> 2 | ... AE11: =SUMIFS('planning gantt M1'!AE$10:AE$40,'planning gantt M1'!$B$10:$B$40,$B11) -> 0
I12: =SUMIFS('planning gantt M1'!I$10:I$40,'planning gantt M1'!$B$10:$B$40,$B12) -> 0 | J12: =SUMIFS('planning gantt M1'!J$10:J$40,'planning gantt M1'!$B$10:$B$40,$B12) -> 0 | K12: =SUMIFS('planning gantt M1'!K$10:K$40,'planning gantt M1'!$B$10:$B$40,$B12) -> 0 | L12: =SUMIFS('planning gantt M1'!L$10:L$40,'planning gantt M1'!$B$10:$B$40,$B12) -> 0 | M12: =SUMIFS('planning gantt M1'!M$10:M$40,'planning gantt M1'!$B$10:$B$40,$B12) -> 0 | N12: =SUMIFS('planning gantt M1'!N$10:N$40,'planning gantt M1'!$B$10:$B$40,$B12) -> 0 | O12: =SUMIFS('planning gantt M1'!O$10:O$40,'planning gantt M1'!$B$10:$B$40,$B12) -> 0 | P12: =SUMIFS('planning gantt M1'!P$10:P$40,'planning gantt M1'!$B$10:$B$40,$B12) -> 0 | ... AE12: =SUMIFS('planning gantt M1'!AE$10:AE$40,'planning gantt M1'!$B$10:$B$40,$B12) -> 0
I13: =SUMIFS('planning gantt M1'!I$10:I$40,'planning gantt M1'!$B$10:$B$40,$B13) -> 0 | J13: =SUMIFS('planning gantt M1'!J$10:J$40,'planning gantt M1'!$B$10:$B$40,$B13) -> 0 | K13: =SUMIFS('planning gantt M1'!K$10:K$40,'planning gantt M1'!$B$10:$B$40,$B13) -> 0 | L13: =SUMIFS('planning gantt M1'!L$10:L$40,'planning gantt M1'!$B$10:$B$40,$B13) -> 0 | M13: =SUMIFS('planning gantt M1'!M$10:M$40,'planning gantt M1'!$B$10:$B$40,$B13) -> 0 | N13: =SUMIFS('planning gantt M1'!N$10:N$40,'planning gantt M1'!$B$10:$B$40,$B13) -> 0 | O13: =SUMIFS('planning gantt M1'!O$10:O$40,'planning gantt M1'!$B$10:$B$40,$B13) -> 0 | P13: =SUMIFS('planning gantt M1'!P$10:P$40,'planning gantt M1'!$B$10:$B$40,$B13) -> 0 | ... AE13: =SUMIFS('planning gantt M1'!AE$10:AE$40,'planning gantt M1'!$B$10:$B$40,$B13) -> 0
I14: =SUMIFS('planning gantt M1'!I$10:I$40,'planning gantt M1'!$B$10:$B$40,$B14) -> 0 | J14: =SUMIFS('planning gantt M1'!J$10:J$40,'planning gantt M1'!$B$10:$B$40,$B14) -> 0 | K14: =SUMIFS('planning gantt M1'!K$10:K$40,'planning gantt M1'!$B$10:$B$40,$B14) -> 0 | L14: =SUMIFS('planning gantt M1'!L$10:L$40,'planning gantt M1'!$B$10:$B$40,$B14) -> 0 | M14: =SUMIFS('planning gantt M1'!M$10:M$40,'planning gantt M1'!$B$10:$B$40,$B14) -> 0 | N14: =SUMIFS('planning gantt M1'!N$10:N$40,'planning gantt M1'!$B$10:$B$40,$B14) -> 0 | O14: =SUMIFS('planning gantt M1'!O$10:O$40,'planning gantt M1'!$B$10:$B$40,$B14) -> 0 | P14: =SUMIFS('planning gantt M1'!P$10:P$40,'planning gantt M1'!$B$10:$B$40,$B14) -> 0 | ... AE14: =SUMIFS('planning gantt M1'!AE$10:AE$40,'planning gantt M1'!$B$10:$B$40,$B14) -> 0
I15: =SUMIFS('planning gantt M1'!I$10:I$40,'planning gantt M1'!$B$10:$B$40,$B15) -> 0 | J15: =SUMIFS('planning gantt M1'!J$10:J$40,'planning gantt M1'!$B$10:$B$40,$B15) -> 0 | K15: =SUMIFS('planning gantt M1'!K$10:K$40,'planning gantt M1'!$B$10:$B$40,$B15) -> 0 | L15: =SUMIFS('planning gantt M1'!L$10:L$40,'planning gantt M1'!$B$10:$B$40,$B15) -> 0 | M15: =SUMIFS('planning gantt M1'!M$10:M$40,'planning gantt M1'!$B$10:$B$40,$B15) -> 0 | N15: =SUMIFS('planning gantt M1'!N$10:N$40,'planning gantt M1'!$B$10:$B$40,$B15) -> 0 | O15: =SUMIFS('planning gantt M1'!O$10:O$40,'planning gantt M1'!$B$10:$B$40,$B15) -> 0 | P15: =SUMIFS('planning gantt M1'!P$10:P$40,'planning gantt M1'!$B$10:$B$40,$B15) -> 0 | ... AE15: =SUMIFS('planning gantt M1'!AE$10:AE$40,'planning gantt M1'!$B$10:$B$40,$B15) -> 0

Sheet TR.liste
A1: client | B1: tmp gamme
A2: a | B2: 5
A3: b | B3: 6
A4: c | B4: 9
A5: c | B5: 13
A6: d | B6: 33
A7: f | B7: 5
A8: e | B8: 8
A9: f | B9: 4
A10: h | B10: 2
A11: q | B11: 1
A12: d | B12: 3
A13: n | B13: 7
A14: f | B14: 10

Sheet jour férié
A1: jour férié 2019-fermeture machine
A2: 43466 | B2: mardi
A3: 43577 | B3: lundi
A4: 43586 | B4: mercredi
A5: 43593 | B5: mercredi
A6: 43615 | B6: jeudi
A7: 43626 | B7: lundi
A8: 43660 | B8: dimanche
A9: 43692 | B9: jeudi
A10: 43770 | B10: vendredi
A11: 43780 | B11: lundi
A12: 43824 | B12: mercredi
