Workbook

Sheet Feuil1
A1: Type | B1: Noms | C1: Prénon | D1: Date | E1: N° d'acte | F1: Période | G1: Commune | H1: Cote | I1: Département
A2: n | B2: perin | C2: pauline louise | D2: 19061873 | F2: 1873-1879 | G2: Charleville
A3: n | B3: perin | C3: odette marie louise | D3: 28121904 | F3: 1901-1912 | G3: Charleville
A4: n | B4: perin | C4: henri | D4: 01091910 | F4: 1901-1912 | G4: Charleville
A5: r | B5: dupont | C5: robert jean paul pierre jacques | D5: 01011903 | F5: 1901-1912 | G5: sedan

Sheet Feuil2
A1: Type | B1: Noms | C1: Prénon | D1: Date | E1: N° d'acte | F1: Période | G1: Commune | H1: Cote | I1: Département
A2: =UPPER(Feuil1!$A2) -> N | B2: =UPPER(Feuil1!B2) -> PERIN | C2: =PROPER(Feuil1!C2) -> Pauline Louise | D2: =IF(Feuil1!D2="","",LEFT(Feuil1!D2,2)&"/"&MID(Feuil1!D2,3,2)&"/"&RIGHT(Feuil1!D2,4)) -> 19/06/1873 | E2: =IF(Feuil1!E2="","",Feuil1!E2) | F2: =IF(Feuil1!F2="","",Feuil1!F2) -> 1873-1879 | G2: =IF(Feuil1!G2="","",UPPER(Feuil1!G2)) -> CHARLEVILLE | H2: =IF(Feuil1!H2="","",Feuil1!H2) | I2: =IF(Feuil1!I2="","",Feuil1!I2)
A3: =UPPER(Feuil1!$A3) -> N | B3: =UPPER(Feuil1!B3) -> PERIN | C3: =PROPER(Feuil1!C3) -> Odette Marie Louise | D3: =IF(Feuil1!D3="","",LEFT(Feuil1!D3,2)&"/"&MID(Feuil1!D3,3,2)&"/"&RIGHT(Feuil1!D3,4)) -> 28/12/1904 | E3: =IF(Feuil1!E3="","",Feuil1!E3) | F3: =IF(Feuil1!F3="","",Feuil1!F3) -> 1901-1912 | G3: =IF(Feuil1!G3="","",UPPER(Feuil1!G3)) -> CHARLEVILLE | H3: =IF(Feuil1!H3="","",Feuil1!H3) | I3: =IF(Feuil1!I3="","",Feuil1!I3)
A4: =UPPER(Feuil1!$A4) -> N | B4: =UPPER(Feuil1!B4) -> PERIN | C4: =PROPER(Feuil1!C4) -> Henri | D4: =IF(Feuil1!D4="","",LEFT(Feuil1!D4,2)&"/"&MID(Feuil1!D4,3,2)&"/"&RIGHT(Feuil1!D4,4)) -> 01/09/1910 | E4: =IF(Feuil1!E4="","",Feuil1!E4) | F4: =IF(Feuil1!F4="","",Feuil1!F4) -> 1901-1912 | G4: =IF(Feuil1!G4="","",UPPER(Feuil1!G4)) -> CHARLEVILLE | H4: =IF(Feuil1!H4="","",Feuil1!H4) | I4: =IF(Feuil1!I4="","",Feuil1!I4)
A5: =UPPER(Feuil1!$A5) -> R | B5: =UPPER(Feuil1!B5) -> DUPONT | C5: =PROPER(Feuil1!C5) -> Robert Jean Paul Pierre Jacques | D5: =IF(Feuil1!D5="","",LEFT(Feuil1!D5,2)&"/"&MID(Feuil1!D5,3,2)&"/"&RIGHT(Feuil1!D5,4)) -> 01/01/1903 | E5: =IF(Feuil1!E5="","",Feuil1!E5) | F5: =IF(Feuil1!F5="","",Feuil1!F5) -> 1901-1912 | G5: =IF(Feuil1!G5="","",UPPER(Feuil1!G5)) -> SEDAN | H5: =IF(Feuil1!H5="","",Feuil1!H5) | I5: =IF(Feuil1!I5="","",Feuil1!I5)
A6: =UPPER(Feuil1!$A6) | B6: =UPPER(Feuil1!B6) | C6: =PROPER(Feuil1!C6) | D6: =IF(Feuil1!D6="","",LEFT(Feuil1!D6,2)&"/"&MID(Feuil1!D6,3,2)&"/"&RIGHT(Feuil1!D6,4)) | E6: =IF(Feuil1!E6="","",Feuil1!E6) | F6: =IF(Feuil1!F6="","",Feuil1!F6) | G6: =IF(Feuil1!G6="","",UPPER(Feuil1!G6)) | H6: =IF(Feuil1!H6="","",Feuil1!H6) | I6: =IF(Feuil1!I6="","",Feuil1!I6)
A7: =UPPER(Feuil1!$A7) | B7: =UPPER(Feuil1!B7) | C7: =PROPER(Feuil1!C7) | D7: =IF(Feuil1!D7="","",LEFT(Feuil1!D7,2)&"/"&MID(Feuil1!D7,3,2)&"/"&RIGHT(Feuil1!D7,4)) | E7: =IF(Feuil1!E7="","",Feuil1!E7) | F7: =IF(Feuil1!F7="","",Feuil1!F7) | G7: =IF(Feuil1!G7="","",UPPER(Feuil1!G7)) | H7: =IF(Feuil1!H7="","",Feuil1!H7) | I7: =IF(Feuil1!I7="","",Feuil1!I7)
A8: =UPPER(Feuil1!$A8) | B8: =UPPER(Feuil1!B8) | C8: =PROPER(Feuil1!C8) | D8: =IF(Feuil1!D8="","",LEFT(Feuil1!D8,2)&"/"&MID(Feuil1!D8,3,2)&"/"&RIGHT(Feuil1!D8,4)) | E8: =IF(Feuil1!E8="","",Feuil1!E8) | F8: =IF(Feuil1!F8="","",Feuil1!F8) | G8: =IF(Feuil1!G8="","",UPPER(Feuil1!G8)) | H8: =IF(Feuil1!H8="","",Feuil1!H8) | I8: =IF(Feuil1!I8="","",Feuil1!I8)
A9: =UPPER(Feuil1!$A9) | B9: =UPPER(Feuil1!B9) | C9: =PROPER(Feuil1!C9) | D9: =IF(Feuil1!D9="","",LEFT(Feuil1!D9,2)&"/"&MID(Feuil1!D9,3,2)&"/"&RIGHT(Feuil1!D9,4)) | E9: =IF(Feuil1!E9="","",Feuil1!E9) | F9: =IF(Feuil1!F9="","",Feuil1!F9) | G9: =IF(Feuil1!G9="","",UPPER(Feuil1!G9)) | H9: =IF(Feuil1!H9="","",Feuil1!H9) | I9: =IF(Feuil1!I9="","",Feuil1!I9)
A10: =UPPER(Feuil1!$A10) | B10: =UPPER(Feuil1!B10) | C10: =PROPER(Feuil1!C10) | D10: =IF(Feuil1!D10="","",LEFT(Feuil1!D10,2)&"/"&MID(Feuil1!D10,3,2)&"/"&RIGHT(Feuil1!D10,4)) | E10: =IF(Feuil1!E10="","",Feuil1!E10) | F10: =IF(Feuil1!F10="","",Feuil1!F10) | G10: =IF(Feuil1!G10="","",UPPER(Feuil1!G10)) | H10: =IF(Feuil1!H10="","",Feuil1!H10) | I10: =IF(Feuil1!I10="","",Feuil1!I10)
A11: =UPPER(Feuil1!$A11) | B11: =UPPER(Feuil1!B11) | C11: =PROPER(Feuil1!C11) | D11: =IF(Feuil1!D11="","",LEFT(Feuil1!D11,2)&"/"&MID(Feuil1!D11,3,2)&"/"&RIGHT(Feuil1!D11,4)) | E11: =IF(Feuil1!E11="","",Feuil1!E11) | F11: =IF(Feuil1!F11="","",Feuil1!F11) | G11: =IF(Feuil1!G11="","",UPPER(Feuil1!G11)) | H11: =IF(Feuil1!H11="","",Feuil1!H11) | I11: =IF(Feuil1!I11="","",Feuil1!I11)
A12: =UPPER(Feuil1!$A12) | B12: =UPPER(Feuil1!B12) | C12: =PROPER(Feuil1!C12) | D12: =IF(Feuil1!D12="","",LEFT(Feuil1!D12,2)&"/"&MID(Feuil1!D12,3,2)&"/"&RIGHT(Feuil1!D12,4)) | E12: =IF(Feuil1!E12="","",Feuil1!E12) | F12: =IF(Feuil1!F12="","",Feuil1!F12) | G12: =IF(Feuil1!G12="","",UPPER(Feuil1!G12)) | H12: =IF(Feuil1!H12="","",Feuil1!H12) | I12: =IF(Feuil1!I12="","",Feuil1!I12)
A13: =UPPER(Feuil1!$A13) | B13: =UPPER(Feuil1!B13) | C13: =PROPER(Feuil1!C13) | D13: =IF(Feuil1!D13="","",LEFT(Feuil1!D13,2)&"/"&MID(Feuil1!D13,3,2)&"/"&RIGHT(Feuil1!D13,4)) | E13: =IF(Feuil1!E13="","",Feuil1!E13) | F13: =IF(Feuil1!F13="","",Feuil1!F13) | G13: =IF(Feuil1!G13="","",UPPER(Feuil1!G13)) | H13: =IF(Feuil1!H13="","",Feuil1!H13) | I13: =IF(Feuil1!I13="","",Feuil1!I13)
... A23: =UPPER(Feuil1!$A23) | B23: =UPPER(Feuil1!B23) | C23: =PROPER(Feuil1!C23) | D23: =IF(Feuil1!D23="","",LEFT(Feuil1!D23,2)&"/"&MID(Feuil1!D23,3,2)&"/"&RIGHT(Feuil1!D23,4)) | E23: =IF(Feuil1!E23="","",Feuil1!E23) | F23: =IF(Feuil1!F23="","",Feuil1!F23) | G23: =IF(Feuil1!G23="","",UPPER(Feuil1!G23)) | H23: =IF(Feuil1!H23="","",Feuil1!H23) | I23: =IF(Feuil1!I23="","",Feuil1!I23)

Sheet Feuil3
