Workbook

Sheet paramètres
A1: U 14 | B1: 2007 | C1: =B1+1 -> 2008
A2: U 12 | B2: =B1+2 -> 2009 | C2: =B2+1 -> 2010 | E2: en jaune on choisi une année les autres cellules se remplissent automatiquement
A3: U 10 | B3: =B2+2 -> 2011 | C3: =B3+1 -> 2012
A4: U 8 | B4: =B3+2 -> 2013 | C4: =B4+1 -> 2014 | E4: A savoir qu'une catégorie comprend 2 années
A5: U 6 | B5: =B4+2 -> 2015 | C5: =B5+1 -> 2016
A6: BABY | B6: =B5+2 -> 2017 | C6: =B6+1 -> 2018

Sheet BD
A1: STAFF | B1: U 14 | C1: U 12 | D1: U 10 | E1: U 8 | F1: U 6 | G1: BABY | H1: Prénom de l'enfant | I1: Nom de l'enfant | J1: E-mail de l'enfant | K1: N° portable de l'enfant | L1: date de naissance | M1: Rue | N1: Code postal | O1: Ville | P1: Prénom 1 Tuteur | Q1: Nom 1 Tuteur | R1: E-mail 1 Tuteur | S1: Portable 1 Tuteur | T1: Prénom 2 Tuteur | U1: Nom 2 Tuteur | V1: E-mail 2 Tuteur | W1: Portable 2 Tuteur | X1: licence | Y1: N° licence | Z1: retour certif MED | AA1: licence payé | AB1: BF | AC1: DC4 | AD1: Soi | AE1: Taille bas | AF1: Taille Haut | AG1: Taille chaussette
A2: =SUM(A3:A5) -> 0 | B2: =SUM(B3:B14) -> 2 | C2: =SUM(C3:C14) -> 2 | D2: =SUM(D3:D14) -> 2 | E2: =SUM(E3:E14) -> 2 | F2: =SUM(F3:F14) -> 2 | G2: =SUM(G3:G14) -> 2 | X2: licence | Y2: N° licence | Z2: retour certif MED | AA2: licence payé | AB2: A soins | AC2: A transport | AD2: A image | AE2: Taille bas | AF2: Taille Haut | AG2: Taille chaussette
B3: =IF(INDEX(paramètres!$A$1:$A$6,MATCH(VALUE(LEFT($Y3,4)),paramètres!$B$1:$B$6,1))=B$1,1,"") -> 1 | C3: =IF(INDEX(paramètres!$A$1:$A$6,MATCH(VALUE(LEFT($Y3,4)),paramètres!$B$1:$B$6,1))=C$1,1,"") | D3: =IF(INDEX(paramètres!$A$1:$A$6,MATCH(VALUE(LEFT($Y3,4)),paramètres!$B$1:$B$6,1))=D$1,1,"") | E3: =IF(INDEX(paramètres!$A$1:$A$6,MATCH(VALUE(LEFT($Y3,4)),paramètres!$B$1:$B$6,1))=E$1,1,"") | F3: =IF(INDEX(paramètres!$A$1:$A$6,MATCH(VALUE(LEFT($Y3,4)),paramètres!$B$1:$B$6,1))=F$1,1,"") | G3: =IF(INDEX(paramètres!$A$1:$A$6,MATCH(VALUE(LEFT($Y3,4)),paramètres!$B$1:$B$6,1))=G$1,1,"") | H3: AA | I3: AAA | X3: oui | Y3: 2008 05 1 949 339 | Z3: oui | AA3: oui | AB3: oui | AC3: oui | AD3: oui
B4: =IF(INDEX(paramètres!$A$1:$A$6,MATCH(VALUE(LEFT($Y4,4)),paramètres!$B$1:$B$6,1))=B$1,1,"") -> 1 | C4: =IF(INDEX(paramètres!$A$1:$A$6,MATCH(VALUE(LEFT($Y4,4)),paramètres!$B$1:$B$6,1))=C$1,1,"") | D4: =IF(INDEX(paramètres!$A$1:$A$6,MATCH(VALUE(LEFT($Y4,4)),paramètres!$B$1:$B$6,1))=D$1,1,"") | E4: =IF(INDEX(paramètres!$A$1:$A$6,MATCH(VALUE(LEFT($Y4,4)),paramètres!$B$1:$B$6,1))=E$1,1,"") | F4: =IF(INDEX(paramètres!$A$1:$A$6,MATCH(VALUE(LEFT($Y4,4)),paramètres!$B$1:$B$6,1))=F$1,1,"") | G4: =IF(INDEX(paramètres!$A$1:$A$6,MATCH(VALUE(LEFT($Y4,4)),paramètres!$B$1:$B$6,1))=G$1,1,"") | H4: BB | I4: BBB | X4: oui | Y4: 2007 02 1 862 400
B5: =IF(INDEX(paramètres!$A$1:$A$6,MATCH(VALUE(LEFT($Y5,4)),paramètres!$B$1:$B$6,1))=B$1,1,"") | C5: =IF(INDEX(paramètres!$A$1:$A$6,MATCH(VALUE(LEFT($Y5,4)),paramètres!$B$1:$B$6,1))=C$1,1,"") -> 1 | D5: =IF(INDEX(paramètres!$A$1:$A$6,MATCH(VALUE(LEFT($Y5,4)),paramètres!$B$1:$B$6,1))=D$1,1,"") | E5: =IF(INDEX(paramètres!$A$1:$A$6,MATCH(VALUE(LEFT($Y5,4)),paramètres!$B$1:$B$6,1))=E$1,1,"") | F5: =IF(INDEX(paramètres!$A$1:$A$6,MATCH(VALUE(LEFT($Y5,4)),paramètres!$B$1:$B$6,1))=F$1,1,"") | G5: =IF(INDEX(paramètres!$A$1:$A$6,MATCH(VALUE(LEFT($Y5,4)),paramètres!$B$1:$B$6,1))=G$1,1,"") | H5: CC | I5: CCC | X5: oui | Y5: 2009 02 1 060 941
B6: =IF(INDEX(paramètres!$A$1:$A$6,MATCH(VALUE(LEFT($Y6,4)),paramètres!$B$1:$B$6,1))=B$1,1,"") | C6: =IF(INDEX(paramètres!$A$1:$A$6,MATCH(VALUE(LEFT($Y6,4)),paramètres!$B$1:$B$6,1))=C$1,1,"") -> 1 | D6: =IF(INDEX(paramètres!$A$1:$A$6,MATCH(VALUE(LEFT($Y6,4)),paramètres!$B$1:$B$6,1))=D$1,1,"") | E6: =IF(INDEX(paramètres!$A$1:$A$6,MATCH(VALUE(LEFT($Y6,4)),paramètres!$B$1:$B$6,1))=E$1,1,"") | F6: =IF(INDEX(paramètres!$A$1:$A$6,MATCH(VALUE(LEFT($Y6,4)),paramètres!$B$1:$B$6,1))=F$1,1,"") | G6: =IF(INDEX(paramètres!$A$1:$A$6,MATCH(VALUE(LEFT($Y6,4)),paramètres!$B$1:$B$6,1))=G$1,1,"") | H6: DD | I6: DDD | X6: oui | Y6: 2010 01 1 111 111
B7: =IF(INDEX(paramètres!$A$1:$A$6,MATCH(VALUE(LEFT($Y7,4)),paramètres!$B$1:$B$6,1))=B$1,1,"") | C7: =IF(INDEX(paramètres!$A$1:$A$6,MATCH(VALUE(LEFT($Y7,4)),paramètres!$B$1:$B$6,1))=C$1,1,"") | D7: =IF(INDEX(paramètres!$A$1:$A$6,MATCH(VALUE(LEFT($Y7,4)),paramètres!$B$1:$B$6,1))=D$1,1,"") -> 1 | E7: =IF(INDEX(paramètres!$A$1:$A$6,MATCH(VALUE(LEFT($Y7,4)),paramètres!$B$1:$B$6,1))=E$1,1,"") | F7: =IF(INDEX(paramètres!$A$1:$A$6,MATCH(VALUE(LEFT($Y7,4)),paramètres!$B$1:$B$6,1))=F$1,1,"") | G7: =IF(INDEX(paramètres!$A$1:$A$6,MATCH(VALUE(LEFT($Y7,4)),paramètres!$B$1:$B$6,1))=G$1,1,"") | H7: EE | I7: EEE | X7: oui | Y7: 2011 02 1 111 111
B8: =IF(INDEX(paramètres!$A$1:$A$6,MATCH(VALUE(LEFT($Y8,4)),paramètres!$B$1:$B$6,1))=B$1,1,"") | C8: =IF(INDEX(paramètres!$A$1:$A$6,MATCH(VALUE(LEFT($Y8,4)),paramètres!$B$1:$B$6,1))=C$1,1,"") | D8: =IF(INDEX(paramètres!$A$1:$A$6,MATCH(VALUE(LEFT($Y8,4)),paramètres!$B$1:$B$6,1))=D$1,1,"") -> 1 | E8: =IF(INDEX(paramètres!$A$1:$A$6,MATCH(VALUE(LEFT($Y8,4)),paramètres!$B$1:$B$6,1))=E$1,1,"") | F8: =IF(INDEX(paramètres!$A$1:$A$6,MATCH(VALUE(LEFT($Y8,4)),paramètres!$B$1:$B$6,1))=F$1,1,"") | G8: =IF(INDEX(paramètres!$A$1:$A$6,MATCH(VALUE(LEFT($Y8,4)),paramètres!$B$1:$B$6,1))=G$1,1,"") | H8: FF | I8: FFF | X8: oui | Y8: 2012 03 1 111 111
B9: =IF(INDEX(paramètres!$A$1:$A$6,MATCH(VALUE(LEFT($Y9,4)),paramètres!$B$1:$B$6,1))=B$1,1,"") | C9: =IF(INDEX(paramètres!$A$1:$A$6,MATCH(VALUE(LEFT($Y9,4)),paramètres!$B$1:$B$6,1))=C$1,1,"") | D9: =IF(INDEX(paramètres!$A$1:$A$6,MATCH(VALUE(LEFT($Y9,4)),paramètres!$B$1:$B$6,1))=D$1,1,"") | E9: =IF(INDEX(paramètres!$A$1:$A$6,MATCH(VALUE(LEFT($Y9,4)),paramètres!$B$1:$B$6,1))=E$1,1,"") -> 1 | F9: =IF(INDEX(paramètres!$A$1:$A$6,MATCH(VALUE(LEFT($Y9,4)),paramètres!$B$1:$B$6,1))=F$1,1,"") | G9: =IF(INDEX(paramètres!$A$1:$A$6,MATCH(VALUE(LEFT($Y9,4)),paramètres!$B$1:$B$6,1))=G$1,1,"") | H9: GG | I9: GGG | X9: oui | Y9: 2013 04 2 111 111
B10: =IF(INDEX(paramètres!$A$1:$A$6,MATCH(VALUE(LEFT($Y10,4)),paramètres!$B$1:$B$6,1))=B$1,1,"") | C10: =IF(INDEX(paramètres!$A$1:$A$6,MATCH(VALUE(LEFT($Y10,4)),paramètres!$B$1:$B$6,1))=C$1,1,"") | D10: =IF(INDEX(paramètres!$A$1:$A$6,MATCH(VALUE(LEFT($Y10,4)),paramètres!$B$1:$B$6,1))=D$1,1,"") | E10: =IF(INDEX(paramètres!$A$1:$A$6,MATCH(VALUE(LEFT($Y10,4)),paramètres!$B$1:$B$6,1))=E$1,1,"") -> 1 | F10: =IF(INDEX(paramètres!$A$1:$A$6,MATCH(VALUE(LEFT($Y10,4)),paramètres!$B$1:$B$6,1))=F$1,1,"") | G10: =IF(INDEX(paramètres!$A$1:$A$6,MATCH(VALUE(LEFT($Y10,4)),paramètres!$B$1:$B$6,1))=G$1,1,"") | H10: HH | I10: HHH | X10: oui | Y10: 2014 05 1 111 111
B11: =IF(INDEX(paramètres!$A$1:$A$6,MATCH(VALUE(LEFT($Y11,4)),paramètres!$B$1:$B$6,1))=B$1,1,"") | C11: =IF(INDEX(paramètres!$A$1:$A$6,MATCH(VALUE(LEFT($Y11,4)),paramètres!$B$1:$B$6,1))=C$1,1,"") | D11: =IF(INDEX(paramètres!$A$1:$A$6,MATCH(VALUE(LEFT($Y11,4)),paramètres!$B$1:$B$6,1))=D$1,1,"") | E11: =IF(INDEX(paramètres!$A$1:$A$6,MATCH(VALUE(LEFT($Y11,4)),paramètres!$B$1:$B$6,1))=E$1,1,"") | F11: =IF(INDEX(paramètres!$A$1:$A$6,MATCH(VALUE(LEFT($Y11,4)),paramètres!$B$1:$B$6,1))=F$1,1,"") -> 1 | G11: =IF(INDEX(paramètres!$A$1:$A$6,MATCH(VALUE(LEFT($Y11,4)),paramètres!$B$1:$B$6,1))=G$1,1,"") | H11: II | I11: III | X11: oui | Y11: 2015 01 1 111 111
B12: =IF(INDEX(paramètres!$A$1:$A$6,MATCH(VALUE(LEFT($Y12,4)),paramètres!$B$1:$B$6,1))=B$1,1,"") | C12: =IF(INDEX(paramètres!$A$1:$A$6,MATCH(VALUE(LEFT($Y12,4)),paramètres!$B$1:$B$6,1))=C$1,1,"") | D12: =IF(INDEX(paramètres!$A$1:$A$6,MATCH(VALUE(LEFT($Y12,4)),paramètres!$B$1:$B$6,1))=D$1,1,"") | E12: =IF(INDEX(paramètres!$A$1:$A$6,MATCH(VALUE(LEFT($Y12,4)),paramètres!$B$1:$B$6,1))=E$1,1,"") | F12: =IF(INDEX(paramètres!$A$1:$A$6,MATCH(VALUE(LEFT($Y12,4)),paramètres!$B$1:$B$6,1))=F$1,1,"") -> 1 | G12: =IF(INDEX(paramètres!$A$1:$A$6,MATCH(VALUE(LEFT($Y12,4)),paramètres!$B$1:$B$6,1))=G$1,1,"") | H12: JJ | I12: JJJ | X12: oui | Y12: 2016 02 1 111 111
B13: =IF(INDEX(paramètres!$A$1:$A$6,MATCH(VALUE(LEFT($Y13,4)),paramètres!$B$1:$B$6,1))=B$1,1,"") | C13: =IF(INDEX(paramètres!$A$1:$A$6,MATCH(VALUE(LEFT($Y13,4)),paramètres!$B$1:$B$6,1))=C$1,1,"") | D13: =IF(INDEX(paramètres!$A$1:$A$6,MATCH(VALUE(LEFT($Y13,4)),paramètres!$B$1:$B$6,1))=D$1,1,"") | E13: =IF(INDEX(paramètres!$A$1:$A$6,MATCH(VALUE(LEFT($Y13,4)),paramètres!$B$1:$B$6,1))=E$1,1,"") | F13: =IF(INDEX(paramètres!$A$1:$A$6,MATCH(VALUE(LEFT($Y13,4)),paramètres!$B$1:$B$6,1))=F$1,1,"") | G13: =IF(INDEX(paramètres!$A$1:$A$6,MATCH(VALUE(LEFT($Y13,4)),paramètres!$B$1:$B$6,1))=G$1,1,"") -> 1 | H13: KK | I13: KKK | X13: oui | Y13: 2017 01 1 111 111
B14: =IF(INDEX(paramètres!$A$1:$A$6,MATCH(VALUE(LEFT($Y14,4)),paramètres!$B$1:$B$6,1))=B$1,1,"") | C14: =IF(INDEX(paramètres!$A$1:$A$6,MATCH(VALUE(LEFT($Y14,4)),paramètres!$B$1:$B$6,1))=C$1,1,"") | D14: =IF(INDEX(paramètres!$A$1:$A$6,MATCH(VALUE(LEFT($Y14,4)),paramètres!$B$1:$B$6,1))=D$1,1,"") | E14: =IF(INDEX(paramètres!$A$1:$A$6,MATCH(VALUE(LEFT($Y14,4)),paramètres!$B$1:$B$6,1))=E$1,1,"") | F14: =IF(INDEX(paramètres!$A$1:$A$6,MATCH(VALUE(LEFT($Y14,4)),paramètres!$B$1:$B$6,1))=F$1,1,"") | G14: =IF(INDEX(paramètres!$A$1:$A$6,MATCH(VALUE(LEFT($Y14,4)),paramètres!$B$1:$B$6,1))=G$1,1,"") -> 1 | H14: LL | I14: LLL | X14: oui | Y14: 2018 02 1 111 111
B18: Je veux que B3 = 1 si Y3 commence par paramètres!B1 ou paramètres!C1 sinon rien ne s'affiche dans la cellule B3
