Workbook

Sheet Feuille 1
A2: PS | B2: FTA | C2: CAT | D2: ABO | E2: PRIX A | F2: PRIX B | G2: PRIX C
A3: 18 | B3: A | C3: A | D3: =IFERROR(INDEX('Feuille 2'!$D$2:$G$28,MATCH($C3&$A3&$B3,'Feuille 2'!$H$2:$H$28,0),MATCH(D$2,'Feuille 2'!$D$1:$G$1,0)),"n'existe pas") -> 20 | E3: =IFERROR(IF($C3="A",INDEX('Feuille 2'!$D$2:$G$28,MATCH($C3&$A3&$B3,'Feuille 2'!$H$2:$H$28,0),MATCH(E$2,'Feuille 2'!$D$1:$G$1,0)),""),"n'existe pas") -> 68.99 | F3: =IFERROR(IF($C3<>"A",INDEX('Feuille 2'!$D$2:$G$28,MATCH($C3&$A3&$B3,'Feuille 2'!$H$2:$H$28,0),MATCH(F$2,'Feuille 2'!$D$1:$G$1,0)),""),"n'existe pas") | G3: =IFERROR(IF($C3<>"A",INDEX('Feuille 2'!$D$2:$G$28,MATCH($C3&$A3&$B3,'Feuille 2'!$H$2:$H$28,0),MATCH(G$2,'Feuille 2'!$D$1:$G$1,0)),""),"n'existe pas")
A4: 24 | B4: BC | C4: B | D4: =IFERROR(INDEX('Feuille 2'!$D$2:$G$28,MATCH($C4&$A4&$B4,'Feuille 2'!$H$2:$H$28,0),MATCH(D$2,'Feuille 2'!$D$1:$G$1,0)),"n'existe pas") -> n'existe pas | E4: =IFERROR(IF($C4="A",INDEX('Feuille 2'!$D$2:$G$28,MATCH($C4&$A4&$B4,'Feuille 2'!$H$2:$H$28,0),MATCH(E$2,'Feuille 2'!$D$1:$G$1,0)),""),"n'existe pas") | F4: =IFERROR(IF($C4<>"A",INDEX('Feuille 2'!$D$2:$G$28,MATCH($C4&$A4&$B4,'Feuille 2'!$H$2:$H$28,0),MATCH(F$2,'Feuille 2'!$D$1:$G$1,0)),""),"n'existe pas") -> n'existe pas | G4: =IFERROR(IF($C4<>"A",INDEX('Feuille 2'!$D$2:$G$28,MATCH($C4&$A4&$B4,'Feuille 2'!$H$2:$H$28,0),MATCH(G$2,'Feuille 2'!$D$1:$G$1,0)),""),"n'existe pas") -> n'existe pas
A5: 36 | B5: A | C5: C | D5: =IFERROR(INDEX('Feuille 2'!$D$2:$G$28,MATCH($C5&$A5&$B5,'Feuille 2'!$H$2:$H$28,0),MATCH(D$2,'Feuille 2'!$D$1:$G$1,0)),"n'existe pas") -> 10 | E5: =IFERROR(IF($C5="A",INDEX('Feuille 2'!$D$2:$G$28,MATCH($C5&$A5&$B5,'Feuille 2'!$H$2:$H$28,0),MATCH(E$2,'Feuille 2'!$D$1:$G$1,0)),""),"n'existe pas") | F5: =IFERROR(IF($C5<>"A",INDEX('Feuille 2'!$D$2:$G$28,MATCH($C5&$A5&$B5,'Feuille 2'!$H$2:$H$28,0),MATCH(F$2,'Feuille 2'!$D$1:$G$1,0)),""),"n'existe pas") -> 67.57 | G5: =IFERROR(IF($C5<>"A",INDEX('Feuille 2'!$D$2:$G$28,MATCH($C5&$A5&$B5,'Feuille 2'!$H$2:$H$28,0),MATCH(G$2,'Feuille 2'!$D$1:$G$1,0)),""),"n'existe pas") -> 49.07

Sheet Feuille 2
A1: CAT | C1: FTA | D1: ABO | E1: PRIX A | F1: PRIX B | G1: PRIX C | H1: clé | U1: CAT | V1: PS | W1: FTA
A2: A | B2: 3 | C2: A | D2: 10 | E2: 68.99 | F2: 76.57 | G2: 55.35 | H2: =A2&B2&C2 -> A3A | U2: A | V2: 3 | W2: A
A3: A | B3: 6 | C3: A | D3: 10 | E3: 68.99 | F3: 76.57 | G3: 55.35 | H3: =A3&B3&C3 -> A6A | U3: B | V3: 6 | W3: BC
A4: A | B4: 9 | C4: BC | D4: 10 | E4: 68.99 | F4: 76.57 | G4: 55.35 | H4: =A4&B4&C4 -> A9BC | U4: C | V4: 9
A5: A | B5: 12 | C5: BC | D5: 10 | E5: 68.99 | F5: 76.57 | G5: 55.35 | H5: =A5&B5&C5 -> A12BC | V5: 12
A6: A | B6: 15 | C6: A | D6: 10 | E6: 68.99 | F6: 76.57 | G6: 55.35 | H6: =A6&B6&C6 -> A15A | V6: 15
A7: A | B7: 18 | C7: A | D7: 20 | E7: 68.99 | F7: 76.57 | G7: 55.35 | H7: =A7&B7&C7 -> A18A | V7: 18
A8: A | B8: 24 | C8: BC | D8: 20 | E8: 68.99 | F8: 76.57 | G8: 55.35 | H8: =A8&B8&C8 -> A24BC | V8: 24
A9: A | B9: 30 | C9: BC | D9: 20 | E9: 68.99 | F9: 76.57 | G9: 55.35 | H9: =A9&B9&C9 -> A30BC | V9: 30
A10: A | B10: 36 | C10: A | D10: 20 | E10: 68.99 | F10: 76.57 | G10: 55.35 | H10: =A10&B10&C10 -> A36A | V10: 36
A11: B | B11: 3 | C11: A | D11: 10 | E11: 63.8 | F11: 70.95 | G11: 51.43 | H11: =A11&B11&C11 -> B3A
A12: B | B12: 6 | C12: A | D12: 10 | E12: 63.8 | F12: 70.95 | G12: 51.43 | H12: =A12&B12&C12 -> B6A
A13: B | B13: 9 | C13: BC | D13: 10 | E13: 63.8 | F13: 70.95 | G13: 51.43 | H13: =A13&B13&C13 -> B9BC
A14: B | B14: 12 | C14: BC | D14: 10 | E14: 63.8 | F14: 70.95 | G14: 51.43 | H14: =A14&B14&C14 -> B12BC
A15: B | B15: 15 | C15: BC | D15: 10 | E15: 63.8 | F15: 70.95 | G15: 51.43 | H15: =A15&B15&C15 -> B15BC
A16: B | B16: 18 | C16: A | D16: 20 | E16: 63.8 | F16: 70.95 | G16: 51.43 | H16: =A16&B16&C16 -> B18A
A17: B | B17: 24 | C17: A | D17: 20 | E17: 63.8 | F17: 70.95 | G17: 51.43 | H17: =A17&B17&C17 -> B24A
A18: B | B18: 30 | C18: BC | D18: 20 | E18: 63.8 | F18: 70.95 | G18: 51.43 | H18: =A18&B18&C18 -> B30BC
A19: B | B19: 36 | C19: A | D19: 20 | E19: 63.8 | F19: 70.95 | G19: 51.43 | H19: =A19&B19&C19 -> B36A
A20: C | B20: 3 | C20: A | D20: 5 | E20: 60.69 | F20: 67.57 | G20: 49.07 | H20: =A20&B20&C20 -> C3A
A21: C | B21: 6 | C21: BC | D21: 5 | E21: 60.69 | F21: 67.57 | G21: 49.07 | H21: =A21&B21&C21 -> C6BC
A22: C | B22: 9 | C22: BC | D22: 5 | E22: 60.69 | F22: 67.57 | G22: 49.07 | H22: =A22&B22&C22 -> C9BC
... A28: C | B28: 36 | C28: A | D28: 10 | E28: 60.69 | F28: 67.57 | G28: 49.07 | H28: =A28&B28&C28 -> C36A
