Workbook
Name Charpente: [1]!Tableau4[LOT N°4 : Charpente / Couverture / Zingerie]
Name Chauffage: [1]!Tableau12[LOT N°11 : Chauffage]
Name Démolition: [1]!Tableau2[LOT N°1 : Démolition ]
Name Electricité: [1]!Tableau10[LOT N°9 : Electricité]
Name f_terre: OFFSET('LOT 2 Terassement VRD'!p_terr,0,0,COUNTA('LOT 2 Terassement VRD'!l_terr),1)
Name l_terr: [1]Feuil1!$E:$E
Name Maçonnerie: [1]!Tableau3[LOT N°3 : Maçonnerie]
Name Mensuiseries_ext: [1]!Tableau6[LOT N°5 : Menuiseries extérieures]
Name Menuiseries_int: [1]!Tableau8[LOT N°7 : Menuiseries intérieures]
Name p_terr: [1]Feuil1!$E$7
Name Peintures: [1]!Tableau13[LOT N°12 : Peintures]
Name Platrerie: [1]!Tableau7[LOT N°6 : Plâtrerie / Isolation]
Name Plomberie: [1]!Tableau11[LOT N°10 : Plomberie]
Name Sol: [1]!Tableau9[LOT N°8 : Sols / Carrelage]
Name Terrassement: [1]!Tableau1[LOT N°2 : Terrassement / VRD]

Sheet LOT 1 Démolition
A1: Mettre le nom de ton client et l'adresse chantier
A2: LOT N°1 - DEMOLITION
A4: N° | B4: Désignation | C4: Unité | D4: Quantité | E4: Prix Unitaire HT | F4: Montant HT
C6: =IF(ISBLANK(B6),"",VLOOKUP(B6,[1]!Tableau2[#Data],2,FALSE))
C8: =IF(ISBLANK(B8),"",VLOOKUP(B8,[1]!Tableau2[#Data],2,FALSE))
C9: =IF(ISBLANK(B9),"",VLOOKUP(B9,[1]!Tableau2[#Data],2,FALSE))
C10: =IF(ISBLANK(B10),"",VLOOKUP(B10,[1]!Tableau2[#Data],2,FALSE))
C11: =IF(ISBLANK(B11),"",VLOOKUP(B11,[1]!Tableau2[#Data],2,FALSE))
C12: =IF(ISBLANK(B12),"",VLOOKUP(B12,[1]!Tableau2[#Data],2,FALSE))
C13: =IF(ISBLANK(B13),"",VLOOKUP(B13,[1]!Tableau2[#Data],2,FALSE))
C14: =IF(ISBLANK(B14),"",VLOOKUP(B14,[1]!Tableau2[#Data],2,FALSE))
C15: =IF(ISBLANK(B15),"",VLOOKUP(B15,[1]!Tableau2[#Data],2,FALSE))
C16: =IF(ISBLANK(B16),"",VLOOKUP(B16,[1]!Tableau2[#Data],2,FALSE))
C17: =IF(ISBLANK(B17),"",VLOOKUP(B17,[1]!Tableau2[#Data],2,FALSE))
C18: =IF(ISBLANK(B18),"",VLOOKUP(B18,[1]!Tableau2[#Data],2,FALSE))
... C31: =IF(ISBLANK(B31),"",VLOOKUP(B31,[1]!Tableau2[#Data],2,FALSE))
C33: =IF(ISBLANK(B33),"",VLOOKUP(B33,#REF!,2,FALSE)) | D33: TOTAL
C34: =IF(ISBLANK(B34),"",VLOOKUP(B34,#REF!,2,FALSE))
C35: =IF(ISBLANK(B35),"",VLOOKUP(B35,#REF!,2,FALSE))
C36: =IF(ISBLANK(B36),"",VLOOKUP(B36,#REF!,2,FALSE))
C37: =IF(ISBLANK(B37),"",VLOOKUP(B37,#REF!,2,FALSE))

Sheet LOT 2 Terassement VRD
A1: ='LOT 1 Démolition'!A1:F1 -> Mettre le nom de ton client et l'adresse chantier
A2: LOT N°2 - TERRASSEMENT / VRD
A4: N° | B4: Désignation | C4: Unité | D4: Quantité | E4: Prix Unitaire HT | F4: Montant HT
B6: Fouilles en profondeur de 0.50 x 0.80 x 0.60ml ht pour réalisation de plots béton. | C6: =IF(ISBLANK(B6),"",VLOOKUP(B6,[1]!Tableau1[#Data],2,FALSE)) -> u
C7: =IF(ISBLANK(B7),"",VLOOKUP(B7,[1]!Tableau1[#Data],2,FALSE))
C8: =IF(ISBLANK(B8),"",VLOOKUP(B8,[1]!Tableau1[#Data],2,FALSE))
C9: =IF(ISBLANK(B9),"",VLOOKUP(B9,[1]!Tableau1[#Data],2,FALSE))
C10: =IF(ISBLANK(B10),"",VLOOKUP(B10,[1]!Tableau1[#Data],2,FALSE))
C11: =IF(ISBLANK(B11),"",VLOOKUP(B11,[1]!Tableau1[#Data],2,FALSE))
C12: =IF(ISBLANK(B12),"",VLOOKUP(B12,[1]!Tableau1[#Data],2,FALSE))
C13: =IF(ISBLANK(B13),"",VLOOKUP(B13,[1]!Tableau1[#Data],2,FALSE))
C14: =IF(ISBLANK(B14),"",VLOOKUP(B14,[1]!Tableau1[#Data],2,FALSE))
C15: =IF(ISBLANK(B15),"",VLOOKUP(B15,[1]!Tableau1[#Data],2,FALSE))
C16: =IF(ISBLANK(B16),"",VLOOKUP(B16,[1]!Tableau1[#Data],2,FALSE))
C17: =IF(ISBLANK(B17),"",VLOOKUP(B17,[1]!Tableau1[#Data],2,FALSE))
C18: =IF(ISBLANK(B18),"",VLOOKUP(B18,[1]!Tableau1[#Data],2,FALSE))
... C31: =IF(ISBLANK(B31),"",VLOOKUP(B31,[1]!Tableau1[#Data],2,FALSE))
C32: =IF(ISBLANK(B32),"",VLOOKUP(B32,#REF!,2,FALSE))
C33: =IF(ISBLANK(B33),"",VLOOKUP(B33,#REF!,2,FALSE)) | D33: TOTAL
C34: =IF(ISBLANK(B34),"",VLOOKUP(B34,#REF!,2,FALSE))
C35: =IF(ISBLANK(B35),"",VLOOKUP(B35,#REF!,2,FALSE))
C36: =IF(ISBLANK(B36),"",VLOOKUP(B36,#REF!,2,FALSE))
C37: =IF(ISBLANK(B37),"",VLOOKUP(B37,#REF!,2,FALSE))
C38: =IF(ISBLANK(B38),"",VLOOKUP(B38,#REF!,2,FALSE))
C39: =IF(ISBLANK(B39),"",VLOOKUP(B39,#REF!,2,FALSE))
C40: =IF(ISBLANK(B40),"",VLOOKUP(B40,#REF!,2,FALSE))
C41: =IF(ISBLANK(B41),"",VLOOKUP(B41,#REF!,2,FALSE))

Sheet LOT 3 Maçonnerie
A1: ='LOT 1 Démolition'!A1:F1 -> Mettre le nom de ton client et l'adresse chantier
A2: LOT N°3 - MACONNERIE
A4: N° | B4: Désignation | C4: Unité | D4: Quantité | E4: Prix Unitaire HT | F4: Montant HT
C6: =IF(ISBLANK(B6),"",VLOOKUP(B6,[1]!Tableau3[#Data],2,FALSE))
C7: =IF(ISBLANK(B7),"",VLOOKUP(B7,[1]!Tableau3[#Data],2,FALSE))
C8: =IF(ISBLANK(B8),"",VLOOKUP(B8,[1]!Tableau3[#Data],2,FALSE))
C9: =IF(ISBLANK(B9),"",VLOOKUP(B9,[1]!Tableau3[#Data],2,FALSE))
C10: =IF(ISBLANK(B10),"",VLOOKUP(B10,[1]!Tableau3[#Data],2,FALSE))
C11: =IF(ISBLANK(B11),"",VLOOKUP(B11,[1]!Tableau3[#Data],2,FALSE))
C12: =IF(ISBLANK(B12),"",VLOOKUP(B12,[1]!Tableau3[#Data],2,FALSE))
C13: =IF(ISBLANK(B13),"",VLOOKUP(B13,[1]!Tableau3[#Data],2,FALSE))
C14: =IF(ISBLANK(B14),"",VLOOKUP(B14,[1]!Tableau3[#Data],2,FALSE))
C15: =IF(ISBLANK(B15),"",VLOOKUP(B15,[1]!Tableau3[#Data],2,FALSE))
C16: =IF(ISBLANK(B16),"",VLOOKUP(B16,[1]!Tableau3[#Data],2,FALSE))
C17: =IF(ISBLANK(B17),"",VLOOKUP(B17,[1]!Tableau3[#Data],2,FALSE))
... C30: =IF(ISBLANK(B30),"",VLOOKUP(B30,[1]!Tableau3[#Data],2,FALSE))
C31: =IF(ISBLANK(B31),"",VLOOKUP(B31,#REF!,2,FALSE))
C32: =IF(ISBLANK(B32),"",VLOOKUP(B32,#REF!,2,FALSE)) | D32: TOTAL
C33: =IF(ISBLANK(B33),"",VLOOKUP(B33,#REF!,2,FALSE))
C34: =IF(ISBLANK(B34),"",VLOOKUP(B34,#REF!,2,FALSE))
C35: =IF(ISBLANK(B35),"",VLOOKUP(B35,#REF!,2,FALSE))
C36: =IF(ISBLANK(B36),"",VLOOKUP(B36,#REF!,2,FALSE))
C37: =IF(ISBLANK(B37),"",VLOOKUP(B37,#REF!,2,FALSE))
C38: =IF(ISBLANK(B38),"",VLOOKUP(B38,#REF!,2,FALSE))
C39: =IF(ISBLANK(B39),"",VLOOKUP(B39,#REF!,2,FALSE))
C40: =IF(ISBLANK(B40),"",VLOOKUP(B40,#REF!,2,FALSE))

Sheet LOT 4 Charp. Couv. Zing
A1: ='LOT 1 Démolition'!A1:F1 -> Mettre le nom de ton client et l'adresse chantier
A2: LOT N°4 - CHARPENTE / COUVERTURE / ZINGERIE
A4: N° | B4: Désignation | C4: Unité | D4: Quantité | E4: Prix Unitaire HT | F4: Montant HT
C6: =IF(ISBLANK(B6),"",VLOOKUP(B6,[1]!Tableau4[#Data],2,FALSE))
C7: =IF(ISBLANK(B7),"",VLOOKUP(B7,[1]!Tableau4[#Data],2,FALSE))
C8: =IF(ISBLANK(B8),"",VLOOKUP(B8,[1]!Tableau4[#Data],2,FALSE))
C9: =IF(ISBLANK(B9),"",VLOOKUP(B9,[1]!Tableau4[#Data],2,FALSE))
C10: =IF(ISBLANK(B10),"",VLOOKUP(B10,[1]!Tableau4[#Data],2,FALSE))
C11: =IF(ISBLANK(B11),"",VLOOKUP(B11,[1]!Tableau4[#Data],2,FALSE))
C12: =IF(ISBLANK(B12),"",VLOOKUP(B12,[1]!Tableau4[#Data],2,FALSE))
C13: =IF(ISBLANK(B13),"",VLOOKUP(B13,[1]!Tableau4[#Data],2,FALSE))
C14: =IF(ISBLANK(B14),"",VLOOKUP(B14,[1]!Tableau4[#Data],2,FALSE))
C15: =IF(ISBLANK(B15),"",VLOOKUP(B15,[1]!Tableau4[#Data],2,FALSE))
C16: =IF(ISBLANK(B16),"",VLOOKUP(B16,[1]!Tableau4[#Data],2,FALSE))
C17: =IF(ISBLANK(B17),"",VLOOKUP(B17,[1]!Tableau4[#Data],2,FALSE))
... C30: =IF(ISBLANK(B30),"",VLOOKUP(B30,[1]!Tableau4[#Data],2,FALSE))
C31: =IF(ISBLANK(B31),"",VLOOKUP(B31,#REF!,2,FALSE))
C32: =IF(ISBLANK(B32),"",VLOOKUP(B32,#REF!,2,FALSE)) | D32: TOTAL
C33: =IF(ISBLANK(B33),"",VLOOKUP(B33,#REF!,2,FALSE))
C34: =IF(ISBLANK(B34),"",VLOOKUP(B34,#REF!,2,FALSE))
C35: =IF(ISBLANK(B35),"",VLOOKUP(B35,#REF!,2,FALSE))
C36: =IF(ISBLANK(B36),"",VLOOKUP(B36,#REF!,2,FALSE))
C37: =IF(ISBLANK(B37),"",VLOOKUP(B37,#REF!,2,FALSE))
C38: =IF(ISBLANK(B38),"",VLOOKUP(B38,#REF!,2,FALSE))
C39: =IF(ISBLANK(B39),"",VLOOKUP(B39,#REF!,2,FALSE))
C40: =IF(ISBLANK(B40),"",VLOOKUP(B40,#REF!,2,FALSE))

Sheet LOT 5 Menuiseries ext
A1: ='LOT 1 Démolition'!A1:F1 -> Mettre le nom de ton client et l'adresse chantier
A2: LOT N°5 - MENUISERIES EXTERIEURES
A4: N° | B4: Désignation | C4: Unité | D4: Quantité | E4: Prix Unitaire HT | F4: Montant HT
C6: =IF(ISBLANK(B6),"",VLOOKUP(B6,[1]!Tableau6[#Data],2,FALSE))
C7: =IF(ISBLANK(B7),"",VLOOKUP(B7,[1]!Tableau6[#Data],2,FALSE))
C8: =IF(ISBLANK(B8),"",VLOOKUP(B8,[1]!Tableau6[#Data],2,FALSE))
C9: =IF(ISBLANK(B9),"",VLOOKUP(B9,[1]!Tableau6[#Data],2,FALSE))
C10: =IF(ISBLANK(B10),"",VLOOKUP(B10,[1]!Tableau6[#Data],2,FALSE))
C11: =IF(ISBLANK(B11),"",VLOOKUP(B11,[1]!Tableau6[#Data],2,FALSE))
C12: =IF(ISBLANK(B12),"",VLOOKUP(B12,[1]!Tableau6[#Data],2,FALSE))
C13: =IF(ISBLANK(B13),"",VLOOKUP(B13,[1]!Tableau6[#Data],2,FALSE))
C14: =IF(ISBLANK(B14),"",VLOOKUP(B14,[1]!Tableau6[#Data],2,FALSE))
C15: =IF(ISBLANK(B15),"",VLOOKUP(B15,[1]!Tableau6[#Data],2,FALSE))
C16: =IF(ISBLANK(B16),"",VLOOKUP(B16,[1]!Tableau6[#Data],2,FALSE))
C17: =IF(ISBLANK(B17),"",VLOOKUP(B17,[1]!Tableau6[#Data],2,FALSE))
... C30: =IF(ISBLANK(B30),"",VLOOKUP(B30,[1]!Tableau6[#Data],2,FALSE))
C31: =IF(ISBLANK(B31),"",VLOOKUP(B31,#REF!,2,FALSE))
C32: =IF(ISBLANK(B32),"",VLOOKUP(B32,#REF!,2,FALSE)) | D32: TOTAL
C33: =IF(ISBLANK(B33),"",VLOOKUP(B33,#REF!,2,FALSE))
C34: =IF(ISBLANK(B34),"",VLOOKUP(B34,#REF!,2,FALSE))
C35: =IF(ISBLANK(B35),"",VLOOKUP(B35,#REF!,2,FALSE))
C36: =IF(ISBLANK(B36),"",VLOOKUP(B36,#REF!,2,FALSE))
C37: =IF(ISBLANK(B37),"",VLOOKUP(B37,#REF!,2,FALSE))
C38: =IF(ISBLANK(B38),"",VLOOKUP(B38,#REF!,2,FALSE))
C39: =IF(ISBLANK(B39),"",VLOOKUP(B39,#REF!,2,FALSE))
C40: =IF(ISBLANK(B40),"",VLOOKUP(B40,#REF!,2,FALSE))

Sheet LOT 6 Plâtrerie Isol.
A1: ='LOT 1 Démolition'!A1:F1 -> Mettre le nom de ton client et l'adresse chantier
A2: LOT N°6 - PLÂTRERIE / ISOLATION
A4: N° | B4: Désignation | C4: Unité | D4: Quantité | E4: Prix Unitaire HT | F4: Montant HT
C6: =IF(ISBLANK(B6),"",VLOOKUP(B6,[1]!Tableau7[#Data],2,FALSE))
C7: =IF(ISBLANK(B7),"",VLOOKUP(B7,[1]!Tableau7[#Data],2,FALSE))
C8: =IF(ISBLANK(B8),"",VLOOKUP(B8,[1]!Tableau7[#Data],2,FALSE))
C9: =IF(ISBLANK(B9),"",VLOOKUP(B9,[1]!Tableau7[#Data],2,FALSE))
C10: =IF(ISBLANK(B10),"",VLOOKUP(B10,[1]!Tableau7[#Data],2,FALSE))
C11: =IF(ISBLANK(B11),"",VLOOKUP(B11,[1]!Tableau7[#Data],2,FALSE))
C12: =IF(ISBLANK(B12),"",VLOOKUP(B12,[1]!Tableau7[#Data],2,FALSE))
C13: =IF(ISBLANK(B13),"",VLOOKUP(B13,[1]!Tableau7[#Data],2,FALSE))
C14: =IF(ISBLANK(B14),"",VLOOKUP(B14,[1]!Tableau7[#Data],2,FALSE))
C15: =IF(ISBLANK(B15),"",VLOOKUP(B15,[1]!Tableau7[#Data],2,FALSE))
C16: =IF(ISBLANK(B16),"",VLOOKUP(B16,[1]!Tableau7[#Data],2,FALSE))
C17: =IF(ISBLANK(B17),"",VLOOKUP(B17,[1]!Tableau7[#Data],2,FALSE))
... C30: =IF(ISBLANK(B30),"",VLOOKUP(B30,[1]!Tableau7[#Data],2,FALSE))
C31: =IF(ISBLANK(B31),"",VLOOKUP(B31,#REF!,2,FALSE))
C32: =IF(ISBLANK(B32),"",VLOOKUP(B32,#REF!,2,FALSE)) | D32: TOTAL
C33: =IF(ISBLANK(B33),"",VLOOKUP(B33,#REF!,2,FALSE))
C34: =IF(ISBLANK(B34),"",VLOOKUP(B34,#REF!,2,FALSE))
C35: =IF(ISBLANK(B35),"",VLOOKUP(B35,#REF!,2,FALSE))
C36: =IF(ISBLANK(B36),"",VLOOKUP(B36,#REF!,2,FALSE))
C37: =IF(ISBLANK(B37),"",VLOOKUP(B37,#REF!,2,FALSE))
C38: =IF(ISBLANK(B38),"",VLOOKUP(B38,#REF!,2,FALSE))
C39: =IF(ISBLANK(B39),"",VLOOKUP(B39,#REF!,2,FALSE))
C40: =IF(ISBLANK(B40),"",VLOOKUP(B40,#REF!,2,FALSE))

Sheet LOT 7 Menuiseries int.
A1: ='LOT 1 Démolition'!A1:F1 -> Mettre le nom de ton client et l'adresse chantier
A2: LOT N°7 - MENUISERIES INTERIEURES
A4: N° | B4: Désignation | C4: Unité | D4: Quantité | E4: Prix Unitaire HT | F4: Montant HT
C6: =IF(ISBLANK(B6),"",VLOOKUP(B6,[1]!Tableau8[#Data],2,FALSE))
C7: =IF(ISBLANK(B7),"",VLOOKUP(B7,[1]!Tableau8[#Data],2,FALSE))
C8: =IF(ISBLANK(B8),"",VLOOKUP(B8,[1]!Tableau8[#Data],2,FALSE))
C9: =IF(ISBLANK(B9),"",VLOOKUP(B9,[1]!Tableau8[#Data],2,FALSE))
C10: =IF(ISBLANK(B10),"",VLOOKUP(B10,[1]!Tableau8[#Data],2,FALSE))
C11: =IF(ISBLANK(B11),"",VLOOKUP(B11,[1]!Tableau8[#Data],2,FALSE))
C12: =IF(ISBLANK(B12),"",VLOOKUP(B12,[1]!Tableau8[#Data],2,FALSE))
C13: =IF(ISBLANK(B13),"",VLOOKUP(B13,[1]!Tableau8[#Data],2,FALSE))
C14: =IF(ISBLANK(B14),"",VLOOKUP(B14,[1]!Tableau8[#Data],2,FALSE))
C15: =IF(ISBLANK(B15),"",VLOOKUP(B15,[1]!Tableau8[#Data],2,FALSE))
C16: =IF(ISBLANK(B16),"",VLOOKUP(B16,[1]!Tableau8[#Data],2,FALSE))
C17: =IF(ISBLANK(B17),"",VLOOKUP(B17,[1]!Tableau8[#Data],2,FALSE))
... C29: =IF(ISBLANK(B29),"",VLOOKUP(B29,[1]!Tableau8[#Data],2,FALSE))
C30: =IF(ISBLANK(B30),"",VLOOKUP(B30,#REF!,2,FALSE))
C31: =IF(ISBLANK(B31),"",VLOOKUP(B31,#REF!,2,FALSE)) | D31: TOTAL
C32: =IF(ISBLANK(B32),"",VLOOKUP(B32,#REF!,2,FALSE))
C33: =IF(ISBLANK(B33),"",VLOOKUP(B33,#REF!,2,FALSE))
C34: =IF(ISBLANK(B34),"",VLOOKUP(B34,#REF!,2,FALSE))
C35: =IF(ISBLANK(B35),"",VLOOKUP(B35,#REF!,2,FALSE))
C36: =IF(ISBLANK(B36),"",VLOOKUP(B36,#REF!,2,FALSE))
C37: =IF(ISBLANK(B37),"",VLOOKUP(B37,#REF!,2,FALSE))
C38: =IF(ISBLANK(B38),"",VLOOKUP(B38,#REF!,2,FALSE))
C39: =IF(ISBLANK(B39),"",VLOOKUP(B39,#REF!,2,FALSE))
C40: =IF(ISBLANK(B40),"",VLOOKUP(B40,#REF!,2,FALSE))

Sheet LOT 8 Sol Carrelage 
A1: ='LOT 1 Démolition'!A1:F1 -> Mettre le nom de ton client et l'adresse chantier
A2: LOT N°8 - SOLS / CARRELAGE
A4: N° | B4: Désignation | C4: Unité | D4: Quantité | E4: Prix Unitaire HT | F4: Montant HT
C6: =IF(ISBLANK(B6),"",VLOOKUP(B6,[1]!Tableau9[#Data],2,FALSE))
C7: =IF(ISBLANK(B7),"",VLOOKUP(B7,[1]!Tableau9[#Data],2,FALSE))
C8: =IF(ISBLANK(B8),"",VLOOKUP(B8,[1]!Tableau9[#Data],2,FALSE))
C9: =IF(ISBLANK(B9),"",VLOOKUP(B9,[1]!Tableau9[#Data],2,FALSE))
C10: =IF(ISBLANK(B10),"",VLOOKUP(B10,[1]!Tableau9[#Data],2,FALSE))
C11: =IF(ISBLANK(B11),"",VLOOKUP(B11,[1]!Tableau9[#Data],2,FALSE))
C12: =IF(ISBLANK(B12),"",VLOOKUP(B12,[1]!Tableau9[#Data],2,FALSE))
C13: =IF(ISBLANK(B13),"",VLOOKUP(B13,[1]!Tableau9[#Data],2,FALSE))
C14: =IF(ISBLANK(B14),"",VLOOKUP(B14,[1]!Tableau9[#Data],2,FALSE))
C15: =IF(ISBLANK(B15),"",VLOOKUP(B15,[1]!Tableau9[#Data],2,FALSE))
C16: =IF(ISBLANK(B16),"",VLOOKUP(B16,[1]!Tableau9[#Data],2,FALSE))
C17: =IF(ISBLANK(B17),"",VLOOKUP(B17,[1]!Tableau9[#Data],2,FALSE))
... C30: =IF(ISBLANK(B30),"",VLOOKUP(B30,[1]!Tableau9[#Data],2,FALSE))
C31: =IF(ISBLANK(B31),"",VLOOKUP(B31,#REF!,2,FALSE))
C32: =IF(ISBLANK(B32),"",VLOOKUP(B32,#REF!,2,FALSE)) | D32: TOTAL
C33: =IF(ISBLANK(B33),"",VLOOKUP(B33,#REF!,2,FALSE))
C34: =IF(ISBLANK(B34),"",VLOOKUP(B34,#REF!,2,FALSE))
C35: =IF(ISBLANK(B35),"",VLOOKUP(B35,#REF!,2,FALSE))
C36: =IF(ISBLANK(B36),"",VLOOKUP(B36,#REF!,2,FALSE))
C37: =IF(ISBLANK(B37),"",VLOOKUP(B37,#REF!,2,FALSE))
C38: =IF(ISBLANK(B38),"",VLOOKUP(B38,#REF!,2,FALSE))
C39: =IF(ISBLANK(B39),"",VLOOKUP(B39,#REF!,2,FALSE))
C40: =IF(ISBLANK(B40),"",VLOOKUP(B40,#REF!,2,FALSE))

Sheet LOT 9 Electricité
A1: ='LOT 1 Démolition'!A1:F1 -> Mettre le nom de ton client et l'adresse chantier
A2: LOT N°9 - ELECTRICITE
A4: N° | B4: Désignation | C4: Unité | D4: Quantité | E4: Prix Unitaire HT | F4: Montant HT
C6: =IF(ISBLANK(B6),"",VLOOKUP(B6,[1]!Tableau10[#Data],2,FALSE))
C7: =IF(ISBLANK(B7),"",VLOOKUP(B7,[1]!Tableau10[#Data],2,FALSE))
C8: =IF(ISBLANK(B8),"",VLOOKUP(B8,[1]!Tableau10[#Data],2,FALSE))
C9: =IF(ISBLANK(B9),"",VLOOKUP(B9,[1]!Tableau10[#Data],2,FALSE))
C10: =IF(ISBLANK(B10),"",VLOOKUP(B10,[1]!Tableau10[#Data],2,FALSE))
C11: =IF(ISBLANK(B11),"",VLOOKUP(B11,[1]!Tableau10[#Data],2,FALSE))
C12: =IF(ISBLANK(B12),"",VLOOKUP(B12,[1]!Tableau10[#Data],2,FALSE))
C13: =IF(ISBLANK(B13),"",VLOOKUP(B13,[1]!Tableau10[#Data],2,FALSE))
C14: =IF(ISBLANK(B14),"",VLOOKUP(B14,[1]!Tableau10[#Data],2,FALSE))
C15: =IF(ISBLANK(B15),"",VLOOKUP(B15,[1]!Tableau10[#Data],2,FALSE))
C16: =IF(ISBLANK(B16),"",VLOOKUP(B16,[1]!Tableau10[#Data],2,FALSE))
C17: =IF(ISBLANK(B17),"",VLOOKUP(B17,[1]!Tableau10[#Data],2,FALSE))
... C30: =IF(ISBLANK(B30),"",VLOOKUP(B30,[1]!Tableau10[#Data],2,FALSE))
C31: =IF(ISBLANK(B31),"",VLOOKUP(B31,#REF!,2,FALSE))
C32: =IF(ISBLANK(B32),"",VLOOKUP(B32,#REF!,2,FALSE)) | D32: TOTAL
C33: =IF(ISBLANK(B33),"",VLOOKUP(B33,#REF!,2,FALSE))
C34: =IF(ISBLANK(B34),"",VLOOKUP(B34,#REF!,2,FALSE))
C35: =IF(ISBLANK(B35),"",VLOOKUP(B35,#REF!,2,FALSE))
C36: =IF(ISBLANK(B36),"",VLOOKUP(B36,#REF!,2,FALSE))
C37: =IF(ISBLANK(B37),"",VLOOKUP(B37,#REF!,2,FALSE))
C38: =IF(ISBLANK(B38),"",VLOOKUP(B38,#REF!,2,FALSE))
C39: =IF(ISBLANK(B39),"",VLOOKUP(B39,#REF!,2,FALSE))
C40: =IF(ISBLANK(B40),"",VLOOKUP(B40,#REF!,2,FALSE))

Sheet LOT 10 Plomberie
A1: ='LOT 1 Démolition'!A1:F1 -> Mettre le nom de ton client et l'adresse chantier
A2: LOT N°10 - PLOMBERIE
A4: N° | B4: Désignation | C4: Unité | D4: Quantité | E4: Prix Unitaire HT | F4: Montant HT
C6: =IF(ISBLANK(B6),"",VLOOKUP(B6,[1]!Tableau11[#Data],2,FALSE))
C8: =IF(ISBLANK(B8),"",VLOOKUP(B8,[1]!Tableau11[#Data],2,FALSE))
C9: =IF(ISBLANK(B9),"",VLOOKUP(B9,[1]!Tableau11[#Data],2,FALSE))
C10: =IF(ISBLANK(B10),"",VLOOKUP(B10,[1]!Tableau11[#Data],2,FALSE))
C11: =IF(ISBLANK(B11),"",VLOOKUP(B11,[1]!Tableau11[#Data],2,FALSE))
C12: =IF(ISBLANK(B12),"",VLOOKUP(B12,[1]!Tableau11[#Data],2,FALSE))
C13: =IF(ISBLANK(B13),"",VLOOKUP(B13,[1]!Tableau11[#Data],2,FALSE))
C14: =IF(ISBLANK(B14),"",VLOOKUP(B14,[1]!Tableau11[#Data],2,FALSE))
C15: =IF(ISBLANK(B15),"",VLOOKUP(B15,[1]!Tableau11[#Data],2,FALSE))
C16: =IF(ISBLANK(B16),"",VLOOKUP(B16,[1]!Tableau11[#Data],2,FALSE))
C17: =IF(ISBLANK(B17),"",VLOOKUP(B17,[1]!Tableau11[#Data],2,FALSE))
C18: =IF(ISBLANK(B18),"",VLOOKUP(B18,[1]!Tableau11[#Data],2,FALSE))
... C32: =IF(ISBLANK(B32),"",VLOOKUP(B32,[1]!Tableau11[#Data],2,FALSE))
C33: =IF(ISBLANK(B33),"",VLOOKUP(B33,#REF!,2,FALSE))
C34: =IF(ISBLANK(B34),"",VLOOKUP(B34,#REF!,2,FALSE)) | D34: TOTAL
C35: =IF(ISBLANK(B35),"",VLOOKUP(B35,#REF!,2,FALSE))
C36: =IF(ISBLANK(B36),"",VLOOKUP(B36,#REF!,2,FALSE))
C37: =IF(ISBLANK(B37),"",VLOOKUP(B37,#REF!,2,FALSE))
C38: =IF(ISBLANK(B38),"",VLOOKUP(B38,#REF!,2,FALSE))
C39: =IF(ISBLANK(B39),"",VLOOKUP(B39,#REF!,2,FALSE))
C40: =IF(ISBLANK(B40),"",VLOOKUP(B40,#REF!,2,FALSE))
C41: =IF(ISBLANK(B41),"",VLOOKUP(B41,#REF!,2,FALSE))
C42: =IF(ISBLANK(B42),"",VLOOKUP(B42,#REF!,2,FALSE))

Sheet LOT 11 Chauffage
A1: ='LOT 1 Démolition'!A1:F1 -> Mettre le nom de ton client et l'adresse chantier
A2: LOT N°11 - CHAUFFAGE
A4: N° | B4: Désignation | C4: Unité | D4: Quantité | E4: Prix Unitaire HT | F4: Montant HT
C6: =IF(ISBLANK(B6),"",VLOOKUP(B6,[1]!Tableau12[#Data],2,FALSE))
C7: =IF(ISBLANK(B7),"",VLOOKUP(B7,[1]!Tableau12[#Data],2,FALSE))
C8: =IF(ISBLANK(B8),"",VLOOKUP(B8,[1]!Tableau12[#Data],2,FALSE))
C9: =IF(ISBLANK(B9),"",VLOOKUP(B9,[1]!Tableau12[#Data],2,FALSE))
C10: =IF(ISBLANK(B10),"",VLOOKUP(B10,[1]!Tableau12[#Data],2,FALSE))
C11: =IF(ISBLANK(B11),"",VLOOKUP(B11,[1]!Tableau12[#Data],2,FALSE))
C12: =IF(ISBLANK(B12),"",VLOOKUP(B12,[1]!Tableau12[#Data],2,FALSE))
C13: =IF(ISBLANK(B13),"",VLOOKUP(B13,[1]!Tableau12[#Data],2,FALSE))
C14: =IF(ISBLANK(B14),"",VLOOKUP(B14,[1]!Tableau12[#Data],2,FALSE))
C15: =IF(ISBLANK(B15),"",VLOOKUP(B15,[1]!Tableau12[#Data],2,FALSE))
C16: =IF(ISBLANK(B16),"",VLOOKUP(B16,[1]!Tableau12[#Data],2,FALSE))
C17: =IF(ISBLANK(B17),"",VLOOKUP(B17,[1]!Tableau12[#Data],2,FALSE))
... C30: =IF(ISBLANK(B30),"",VLOOKUP(B30,[1]!Tableau12[#Data],2,FALSE))
C31: =IF(ISBLANK(B31),"",VLOOKUP(B31,#REF!,2,FALSE))
C32: =IF(ISBLANK(B32),"",VLOOKUP(B32,#REF!,2,FALSE)) | D32: TOTAL
C33: =IF(ISBLANK(B33),"",VLOOKUP(B33,#REF!,2,FALSE))
C34: =IF(ISBLANK(B34),"",VLOOKUP(B34,#REF!,2,FALSE))
C35: =IF(ISBLANK(B35),"",VLOOKUP(B35,#REF!,2,FALSE))
C36: =IF(ISBLANK(B36),"",VLOOKUP(B36,#REF!,2,FALSE))
C37: =IF(ISBLANK(B37),"",VLOOKUP(B37,#REF!,2,FALSE))
C38: =IF(ISBLANK(B38),"",VLOOKUP(B38,#REF!,2,FALSE))
C39: =IF(ISBLANK(B39),"",VLOOKUP(B39,#REF!,2,FALSE))
C40: =IF(ISBLANK(B40),"",VLOOKUP(B40,#REF!,2,FALSE))

Sheet LOT 12 Peintures
A1: ='LOT 1 Démolition'!A1:F1 -> Mettre le nom de ton client et l'adresse chantier
A2: LOT N°12 - PEINTURES
A4: N° | B4: Désignation | C4: Unité | D4: Quantité | E4: Prix Unitaire HT | F4: Montant HT
C6: =IF(ISBLANK(B6),"",VLOOKUP(B6,[1]!Tableau13[#Data],2,FALSE))
C7: =IF(ISBLANK(B7),"",VLOOKUP(B7,[1]!Tableau13[#Data],2,FALSE))
C8: =IF(ISBLANK(B8),"",VLOOKUP(B8,[1]!Tableau13[#Data],2,FALSE))
C9: =IF(ISBLANK(B9),"",VLOOKUP(B9,[1]!Tableau13[#Data],2,FALSE))
C10: =IF(ISBLANK(B10),"",VLOOKUP(B10,[1]!Tableau13[#Data],2,FALSE))
C11: =IF(ISBLANK(B11),"",VLOOKUP(B11,[1]!Tableau13[#Data],2,FALSE))
C12: =IF(ISBLANK(B12),"",VLOOKUP(B12,[1]!Tableau13[#Data],2,FALSE))
C13: =IF(ISBLANK(B13),"",VLOOKUP(B13,[1]!Tableau13[#Data],2,FALSE))
C14: =IF(ISBLANK(B14),"",VLOOKUP(B14,[1]!Tableau13[#Data],2,FALSE))
C15: =IF(ISBLANK(B15),"",VLOOKUP(B15,[1]!Tableau13[#Data],2,FALSE))
C16: =IF(ISBLANK(B16),"",VLOOKUP(B16,[1]!Tableau13[#Data],2,FALSE))
C17: =IF(ISBLANK(B17),"",VLOOKUP(B17,[1]!Tableau13[#Data],2,FALSE))
... C34: =IF(ISBLANK(B34),"",VLOOKUP(B34,[1]!Tableau13[#Data],2,FALSE))
C35: =IF(ISBLANK(B35),"",VLOOKUP(B35,#REF!,2,FALSE))
C36: =IF(ISBLANK(B36),"",VLOOKUP(B36,#REF!,2,FALSE)) | D36: TOTAL
C37: =IF(ISBLANK(B37),"",VLOOKUP(B37,#REF!,2,FALSE))
C38: =IF(ISBLANK(B38),"",VLOOKUP(B38,#REF!,2,FALSE))
C39: =IF(ISBLANK(B39),"",VLOOKUP(B39,#REF!,2,FALSE))
C40: =IF(ISBLANK(B40),"",VLOOKUP(B40,#REF!,2,FALSE))
C41: =IF(ISBLANK(B41),"",VLOOKUP(B41,#REF!,2,FALSE))
C42: =IF(ISBLANK(B42),"",VLOOKUP(B42,#REF!,2,FALSE))
C43: =IF(ISBLANK(B43),"",VLOOKUP(B43,#REF!,2,FALSE))
C44: =IF(ISBLANK(B44),"",VLOOKUP(B44,#REF!,2,FALSE))

Sheet Notice explicative Excel
B3: Notice d'explication de la feuille Excel : | D3: 1 | E3: Remplir les nouvelles données si elles n'apparaissent pas dans la liste déroulante de choix. NE PAS OUBLIER LES UNITES !
D5: 2 | E5: Une fois les nouvelles données d'un LOT entré, mettre à jour le tri alphabétique.
Q25: Aller dans l'onglet DONNEES dans la barre de tâche du haut et cliquer sur "Réappliquer"
E40: En rouge la (les) nouvelle(s) donnée(s) d'un LOT | J40: Sélectionner une des nouvelles données ajoutées (encadré vert) | AA40: La mise à jour du tri alphabétique s'est faite automatiquement
D43: 3 | E43: Réitérer l'opération pour un autre lot
D45: 4 | E45: Les nouvelles données sont disponibles dans la liste déroulante de choix du lot en question
