Workbook

Sheet plan
A1: Plan de plaque MIC
A3: Plate N° | B3: =IF(OR(A4=" - ",C7=0)," ",COUNT(B1:B2)+1) -> 1
A4: Souche 1 | B4: =IF(OR(A4=" - ",C7=0),"NE PAS FAIRE CETTE PLAQUE"," ")
C6: N° Produits | D6: 1 | E6: 2 | F6: 3 | G6: 4 | H6: 5 | I6: 6 | J6: 7 | K6: 8 | L6: 9 | M6: 10 | N6: 11 | O6: 12
B7: A | C7: Produit 1 | D7: T- | E7: 64 | F7: 32 | G7: 16 | H7: 8 | I7: 4 | J7: 2 | K7: 1 | L7: 0.5 | M7: 0.25 | N7: 0.125 | O7: T+
B8: B | D8: T- | E8: 64 | F8: 32 | G8: 16 | H8: 8 | I8: 4 | J8: 2 | K8: 1 | L8: 0.5 | M8: 0.25 | N8: 0.125 | O8: T+
B9: C | C9: Produit 2 | D9: T- | E9: 0.0625 | F9: 0.03125 | G9: 0.015625 | H9: 0.00781 | I9: 0.00391 | J9: 0.00195 | K9: 0.00098 | L9: 0.00048 | M9: 0.00024 | N9: 0.00012 | O9: T+
B10: D | D10: T- | E10: 0.0625 | F10: 0.03125 | G10: 0.015625 | H10: 0.00781 | I10: 0.00391 | J10: 0.00195 | K10: 0.00098 | L10: 0.00048 | M10: 0.00024 | N10: 0.00012 | O10: T+
B11: E | C11: Produit 3 | D11: T- | E11: 64 | F11: 32 | G11: 16 | H11: 8 | I11: 4 | J11: 2 | K11: 1 | L11: 0.5 | M11: 0.25 | N11: 0.125 | O11: T+
B12: F | D12: T- | E12: 64 | F12: 32 | G12: 16 | H12: 8 | I12: 4 | J12: 2 | K12: 1 | L12: 0.5 | M12: 0.25 | N12: 0.125 | O12: T+
B13: G | C13: Produit 4 | D13: T- | E13: 64 | F13: 32 | G13: 16 | H13: 8 | I13: 4 | J13: 2 | K13: 1 | L13: 0.5 | M13: 0.25 | N13: 0.125 | O13: T+
B14: H | D14: T- | E14: 64 | F14: 32 | G14: 16 | H14: 8 | I14: 4 | J14: 2 | K14: 1 | L14: 0.5 | M14: 0.25 | N14: 0.125 | O14: T+
A17: Plate N° | B17: =IF(OR(A18=" - ",C21=0)," ",COUNT(B1:B16)+1) -> 2
A18: Souche 1 | B18: =IF(OR(A18=" - ",C21=0),"NE PAS FAIRE CETTE PLAQUE"," ")
C20: N° Produits | D20: 1 | E20: 2 | F20: 3 | G20: 4 | H20: 5 | I20: 6 | J20: 7 | K20: 8 | L20: 9 | M20: 10 | N20: 11 | O20: 12
B21: A | C21: Produit 5 | D21: T- | E21: 64 | F21: 32 | G21: 16 | H21: 8 | I21: 4 | J21: 2 | K21: 1 | L21: 0.5 | M21: 0.25 | N21: 0.125 | O21: T+
B22: B | D22: T- | E22: 64 | F22: 32 | G22: 16 | H22: 8 | I22: 4 | J22: 2 | K22: 1 | L22: 0.5 | M22: 0.25 | N22: 0.125 | O22: T+
B23: C | C23: Produit 6 | D23: T- | E23: 64 | F23: 32 | G23: 16 | H23: 8 | I23: 4 | J23: 2 | K23: 1 | L23: 0.5 | M23: 0.25 | N23: 0.125 | O23: T+
B24: D | D24: T- | E24: 64 | F24: 32 | G24: 16 | H24: 8 | I24: 4 | J24: 2 | K24: 1 | L24: 0.5 | M24: 0.25 | N24: 0.125 | O24: T+
B25: E | D25: T- | O25: T+
B26: F | D26: T- | O26: T+
B27: G | D27: T- | O27: T+
B28: H | D28: T- | O28: T+
A31: Plate N° | B31: =IF(OR(A32=" - ",C35=0)," ",COUNT(B1:B30)+1)
A32: Souche 1 | B32: =IF(OR(A32=" - ",C35=0),"NE PAS FAIRE CETTE PLAQUE"," ") -> NE PAS FAIRE CETTE PLAQUE
C34: N° Produits | D34: 1 | E34: 2 | F34: 3 | G34: 4 | H34: 5 | I34: 6 | J34: 7 | K34: 8 | L34: 9 | M34: 10 | N34: 11 | O34: 12
B35: A | D35: T- | O35: T+
B36: B | D36: T- | O36: T+
B37: C | D37: T- | O37: T+
B38: D | D38: T- | O38: T+
B39: E | D39: T- | O39: T+
B40: F | D40: T- | O40: T+
B41: G | D41: T- | O41: T+
B42: H | D42: T- | O42: T+
A45: Plate N° | B45: =IF(OR(A46=" - ",C49=0)," ",COUNT(B1:B44)+1) -> 3
A46: Souche 2 | B46: =IF(OR(A46=" - ",C49=0),"NE PAS FAIRE CETTE PLAQUE"," ")
C48: N° Produits | D48: 1 | E48: 2 | F48: 3 | G48: 4 | H48: 5 | I48: 6 | J48: 7 | K48: 8 | L48: 9 | M48: 10 | N48: 11 | O48: 12
B49: A | C49: Produit 1 | D49: T- | E49: 64 | F49: 32 | G49: 16 | H49: 8 | I49: 4 | J49: 2 | K49: 1 | L49: 0.5 | M49: 0.25 | N49: 0.125 | O49: T+
B50: B | D50: T- | E50: 64 | F50: 32 | G50: 16 | H50: 8 | I50: 4 | J50: 2 | K50: 1 | L50: 0.5 | M50: 0.25 | N50: 0.125 | O50: T+
B51: C | C51: Produit 2 | D51: T- | E51: 0.0625 | F51: 0.03125 | G51: 0.015625 | H51: 0.00781 | I51: 0.00391 | J51: 0.00195 | K51: 0.00098 | L51: 0.00048 | M51: 0.00024 | N51: 0.00012 | O51: T+
...

Sheet raw data
A2: Plate | B2: 1
B3: <> | C3: 1 | D3: 2 | E3: 3 | F3: 4 | G3: 5 | H3: 6 | I3: 7 | J3: 8 | K3: 9 | L3: 10 | M3: 11 | N3: 12
B4: A | C4: 1_A1 | N4: 1_A12
B5: B
B6: C
B7: D
B8: E
B9: F
B10: G
B11: H | C11: 1_H1 | N11: 1_H12
A15: Plate | B15: =B2+1 -> 2
B16: <>
B17: A | C17: 2_A1 | N17: 2_A12
B18: B
B19: C
B20: D
B21: E
B22: F
B23: G
B24: H | C24: 2_H1 | N24: 2_H12
A28: Plate | B28: =B15+1 -> 3
B29: <>
B30: A | C30: 3_A1 | N30: 3_A12
B31: B
B32: C
B33: D
B34: E
B35: F
B36: G
B37: H | C37: 3_H1 | N37: 3_H12
A41: Plate | B41: =B28+1 -> 4
B42: <>
B43: A | C43: 4_A1 | N43: 4_A12
B44: B
B45: C
B46: D
B47: E
B48: F
B49: G
B50: H | C50: 4_H1 | N50: 4_H12

Sheet results
A1: Plate N° | B1: =[1]plan_plaque!B3 -> 1
A2: =plan!A4 -> Souche 1 | B2: =IF(OR(A2=" - ",(ISNUMBER(D5))),"NE PAS COPIER CETTE PLAQUE "," ")
D3: A | E3: B | F3: C | G3: D | H3: E | I3: F | J3: G | K3: H
C5: [C] µg/ml | D5: =plan!C49 -> Produit 1 | F5: =plan!C51 -> Produit 2 | H5: =plan!C53 -> Produit 3 | J5: =plan!C55 -> Produit 4
B6: 1 | D6: 1_A1 | K6: 1_H1
B7: 2
B8: 3
B9: 4
B10: 5
B11: 6
B12: 7
B13: 8
B14: 9
B15: 10
B16: 11
B17: 12 | D17: 1_A12 | K17: 1_H12
A20: Plate N° | B20: =[1]plan_plaque!B17 -> 2
A21: =plan!A18 -> Souche 1 | B21: =IF(OR(A21=" - ",(ISNUMBER(D24))),"NE PAS COPIER CETTE PLAQUE"," ")
D22: A | E22: B | F22: C | G22: D | H22: E | I22: F | J22: G | K22: H
C24: [C] µg/ml | D24: =plan!C63 -> Produit 5 | F24: =plan!C65 -> Produit 6 | H24: =plan!C67 -> 0 | J24: =plan!C69 -> 0
B25: 1 | C25: =[1]plan_plaque!$D21 -> T-
B26: 2 | C26: =[1]plan_plaque!$E21 -> 64
B27: 3 | C27: =[1]plan_plaque!$F21 -> 32
B28: 4 | C28: =[1]plan_plaque!$G21 -> 16
B29: 5 | C29: =[1]plan_plaque!$H21 -> 8
B30: 6 | C30: =[1]plan_plaque!$I21 -> 4
B31: 7 | C31: =[1]plan_plaque!$J21 -> 2
B32: 8 | C32: =[1]plan_plaque!$K21 -> 1
B33: 9 | C33: =[1]plan_plaque!$L21 -> 0.5
B34: 10 | C34: =[1]plan_plaque!$M21 -> 0.25
B35: 11 | C35: =[1]plan_plaque!$N21 -> 0.125
B36: 12 | C36: =[1]plan_plaque!$O21 -> T+
A39: Plate N° | B39: =[1]plan_plaque!B31 -> 3
A40: =plan!A32 -> Souche 1 | B40: =IF(OR(A40=" - ",(ISNUMBER(D43))),"NE PAS COPIER CETTE PLAQUE "," ")
D41: A | E41: B | F41: C | G41: D | H41: E | I41: F | J41: G | K41: H
C43: [C] µg/ml
B44: 1 | C44: =[1]plan_plaque!$D35 -> T-
B45: 2 | C45: =[1]plan_plaque!$E35 -> 64
B46: 3 | C46: =[1]plan_plaque!$F35 -> 32
B47: 4 | C47: =[1]plan_plaque!$G35 -> 16
...
