Workbook

Sheet BASE DE DONNÉES
A1: EMPLOYÉS | E1: MACHINERIE | F1: VOITURES | G1: CARBURANT | J1: RÉSERVOIRS | L1: CONTRATS
A3: # | B3: NOM | C3: TAUX HORAIRE | D3: % VAC | G3: TYPES | H3: VILLE DE LIVRAISON | I3: TAUX TAXE ROUTIERE | J3: # | K3: CAPACITÉ (L) | L3: # PROJET | M3: CLIENT | N3: DESCRIPTION | O3: SECTEUR | P3: DATE DÉBUT | Q3: DATE FIN
B5: A | E5: JD | G5: Diesel | J5: 1 | K5: 449 | L5: P01-19
B6: B | E6: CAT | G6: Essence | J6: 2 | K6: 650 | L6: P02-19
B7: C | E7: KOM | J7: 3 | K7: 650 | L7: P03-19
B8: D | J8: 4 | K8: 590 | L8: P04-19
B9: E | J9: 5 | K9: 590 | L9: P05-19
B10: F | J10: 6 | K10: 449
J11: 8 | K11: 590
J12: 9 | K12: 590
J13: 10 | K13: 790
J14: 12 | K14: 4965
J15: 13 | K15: 2985
J16: 14 | K16: 2985
J17: 15 | K17: 449

Sheet DONNÉES OPÉRATIONS
E1: FUEL | H1: DÉTAIL DES HEURES
A2: DATE | B2: OPÉRATEUR | C2: CONTRAT | D2: MACHINERIE | E2: RÉSERVOIR | F2: QUANTITÉ (L) | G2: HRS BAVARD | H2: OPÉRATION | I2: ENTRETIEN | J2: MÉCANIQUE | K2: FARDIER | L2: TRACTION | M2: DÉPLACEMENT | N2: FÉRIÉ | O2: TOTAL | P2: SALAIRE HORAIRE | Q2: TAUX CSST | R2: REPAS | S2: PENSION
A4: 43622 | B4: A | C4: P01-19 | D4: JD | E4: 1 | F4: 180 | O4: =SUM(H4:N4) -> 0 | P4: =VLOOKUP(B4,'BASE DE DONNÉES'!B4:C200,2,FALSE) -> 0
A5: 43654 | B5: B | C5: P01-19 | D5: CAT | E5: 2 | F5: 200
A6: 43803 | B6: D | C6: P01-19 | D6: JD | E6: 3 | F6: 150
A7: 43589 | B7: B | C7: P02-19 | D7: KO | E7: 2 | F7: 130
A8: 43499 | B8: A | C8: P03-19 | D8: JD | E8: 1 | F8: 280
A9: 43783 | B9: D | C9: P03-19 | D9: KO | E9: 3 | F9: 175

Sheet ACHATS CARBURANT
A1: RÉSERVOIR | B1: VÉHICULE | C1: CARBURANT | D1: FACTURE | K1: PAIEMENT
A2: # | C2: TYPE | D2: DATE | E2: FOURNISSEUR | F2: VILLE DE LIVRAISON | G2: TAUX TX | H2: # | I2: QUANTITÉ (L) | J2: MONTANT | K2: DATE | L2: MÉTHODE
A4: 1 | C4: Diesel | D4: 43395 | E4: Z | G4: 0.202 | H4: 786225 | I4: 70.082 | J4: 98.05
A5: 3 | C5: Diesel | D5: 43495 | E5: X | G5: 0.202 | H5: B64504 | I5: 2204.9 | J5: 2735.35
A6: 2 | C6: Diesel | D6: 43502 | E6: Y | G6: 0.192 | H6: B64867 | I6: 1363 | J6: 1631.36
A7: 1 | C7: Diesel | D7: 43511 | E7: W | G7: 0.202 | H7: B64959 | I7: 3465.1 | J7: 4187.18
A8: 3 | C8: Diesel | D8: 43528 | E8: X | G8: 0.202 | H8: B64572 | I8: 2031.8 | J8: 2543.96
A9: 2 | C9: Diesel | D9: 43501 | E9: Y | G9: 0.1638 | H9: 272591 | I9: 550.071 | J9: 709.04
A10: 1 | C10: Diesel | D10: 43500 | E10: Z | G10: =ROUND(77.16/381.971,4) -> 0.202 | H10: 1293801 | I10: 703.722 | J10: 907.1
L122: Visa #2012
L123: Visa #2012
L136: Visa #2012
L137: Visa #2012
L138: Visa #2012
L139: Visa #2012
L140: Visa #2012
L141: Visa #2012

Sheet VALIDATION CARBURANT
A1: # RÉSERVOIR | B1: 1 | C1: CAPACITÉ | D1: =VLOOKUP(B1,'BASE DE DONNÉES'!$J$4:$K$2000,2) -> 449 | E1: # RÉSERVOIR | F1: 2 | G1: CAPACITÉ | H1: =VLOOKUP(F1,'BASE DE DONNÉES'!$J$4:$K$2000,2) -> 650 | I1: # RÉSERVOIR | J1: 3 | K1: CAPACITÉ | L1: =VLOOKUP(J1,'BASE DE DONNÉES'!$J$4:$K$2000,2) -> 650 | M1: # RÉSERVOIR | N1: 4 | O1: CAPACITÉ | P1: =VLOOKUP(N1,'BASE DE DONNÉES'!$J$4:$K$2000,2) -> 590 | Q1: # RÉSERVOIR | R1: 5 | S1: CAPACITÉ | T1: =VLOOKUP(R1,'BASE DE DONNÉES'!$J$4:$K$2000,2) -> 590 | U1: # RÉSERVOIR | V1: 6 | W1: CAPACITÉ | X1: =VLOOKUP(V1,'BASE DE DONNÉES'!$J$4:$K$2000,2) -> 449 | Y1: # RÉSERVOIR | Z1: 8 | AA1: CAPACITÉ | AB1: =VLOOKUP(Z1,'BASE DE DONNÉES'!$J$4:$K$2000,2) -> 590 | AC1: # RÉSERVOIR | AD1: 9 | AE1: CAPACITÉ | AF1: =VLOOKUP(AD1,'BASE DE DONNÉES'!$J$4:$K$2000,2) -> 590 | AG1: # RÉSERVOIR | AH1: 10 | AI1: CAPACITÉ | AJ1: =VLOOKUP(AH1,'BASE DE DONNÉES'!$J$4:$K$2000,2) -> 790 | AK1: # RÉSERVOIR | AL1: 12 | AM1: CAPACITÉ | AN1: =VLOOKUP(AL1,'BASE DE DONNÉES'!$J$4:$K$2000,2) -> 4965 | AO1: # RÉSERVOIR | AP1: 13 | AQ1: CAPACITÉ | AR1: =VLOOKUP(AP1,'BASE DE DONNÉES'!$J$4:$K$2000,2) -> 2985 | AS1: # RÉSERVOIR | AT1: 14 | AU1: CAPACITÉ | AV1: =VLOOKUP(AT1,'BASE DE DONNÉES'!$J$4:$K$2000,2) -> 2985 | AW1: # RÉSERVOIR | AX1: 15 | AY1: CAPACITÉ | AZ1: =VLOOKUP(AX1,'BASE DE DONNÉES'!$J$4:$K$2000,2) -> 449 | BA1: # RÉSERVOIR | BC1: CAPACITÉ | BD1: =VLOOKUP(BB1,'BASE DE DONNÉES'!$J$4:$K$2000,2) -> #N/A | BE1: # RÉSERVOIR | BG1: CAPACITÉ | BH1: =VLOOKUP(BF1,'BASE DE DONNÉES'!$J$4:$K$2000,2) -> #N/A
A2: TYPE CARBURANT | B2: Diesel | C2: STOCK DÉBUT | E2: TYPE CARBURANT | F2: Diesel | G2: STOCK DÉBUT | I2: TYPE CARBURANT | J2: Diesel | K2: STOCK DÉBUT | M2: TYPE CARBURANT | N2: Diesel | O2: STOCK DÉBUT | Q2: TYPE CARBURANT | R2: Diesel | S2: STOCK DÉBUT | U2: TYPE CARBURANT | V2: Diesel | W2: STOCK DÉBUT | Y2: TYPE CARBURANT | Z2: Diesel | AA2: STOCK DÉBUT | AC2: TYPE CARBURANT | AD2: Diesel | AE2: STOCK DÉBUT | AG2: TYPE CARBURANT | AH2: Diesel | AI2: STOCK DÉBUT | AK2: TYPE CARBURANT | AL2: Diesel | AM2: STOCK DÉBUT | AO2: TYPE CARBURANT | AP2: Diesel | AQ2: STOCK DÉBUT | AS2: TYPE CARBURANT | AT2: Diesel | AU2: STOCK DÉBUT | AW2: TYPE CARBURANT | AX2: Diesel | AY2: STOCK DÉBUT | BA2: TYPE CARBURANT | BB2: Diesel | BC2: STOCK DÉBUT | BE2: TYPE CARBURANT | BF2: Diesel | BG2: STOCK DÉBUT
A4: DATE | B4: AJOUT (L) | C4: RETRAIT (L) | D4: STOCK COURANT (L) | E4: DATE | F4: AJOUT (L) | G4: RETRAIT (L) | H4: STOCK COURANT (L) | I4: DATE | J4: AJOUT (L) | K4: RETRAIT (L) | L4: STOCK COURANT (L) | M4: DATE | N4: AJOUT (L) | O4: RETRAIT (L) | P4: STOCK COURANT (L) | Q4: DATE | R4: AJOUT (L) | S4: RETRAIT (L) | T4: STOCK COURANT (L) | U4: DATE | V4: AJOUT (L) | W4: RETRAIT (L) | X4: STOCK COURANT (L) | Y4: DATE | Z4: AJOUT (L) | AA4: RETRAIT (L) | AB4: STOCK COURANT (L) | AC4: DATE | AD4: AJOUT (L) | AE4: RETRAIT (L) | AF4: STOCK COURANT (L) | AG4: DATE | AH4: AJOUT (L) | AI4: RETRAIT (L) | AJ4: STOCK COURANT (L) | AK4: DATE | AL4: AJOUT (L) | AM4: RETRAIT (L) | AN4: STOCK COURANT (L) | AO4: DATE | AP4: AJOUT (L) | AQ4: RETRAIT (L) | AR4: STOCK COURANT (L) | AS4: DATE | AT4: AJOUT (L) | AU4: RETRAIT (L) | AV4: STOCK COURANT (L) | AW4: DATE | AX4: AJOUT (L) | AY4: RETRAIT (L) | AZ4: STOCK COURANT (L) | BA4: DATE | BB4: AJOUT (L) | BC4: RETRAIT (L) | BD4: STOCK COURANT (L) | BE4: DATE | BF4: AJOUT (L) | BG4: RETRAIT (L) | BH4: STOCK COURANT (L)
D5: =D2+B5-C5 -> 0 | H5: =H2+F5-G5 -> 0 | L5: =L2+J5-K5 -> 0 | P5: =P2+N5-O5 -> 0 | T5: =T2+R5-S5 -> 0 | X5: =X2+V5-W5 -> 0 | AB5: =AB2+Z5-AA5 -> 0 | AF5: =AF2+AD5-AE5 -> 0 | AJ5: =AJ2+AH5-AI5 -> 0 | AN5: =AN2+AL5-AM5 -> 0 | AR5: =AR2+AP5-AQ5 -> 0 | AV5: =AV2+AT5-AU5 -> 0 | AZ5: =AZ2+AX5-AY5 -> 0 | BD5: =BD2+BB5-BC5 -> 0 | BH5: =BH2+BF5-BG5 -> 0
D6: =D5+B6-C6 -> 0 | H6: =H5+F6-G6 -> 0 | L6: =L5+J6-K6 -> 0 | P6: =P5+N6-O6 -> 0 | T6: =T5+R6-S6 -> 0 | X6: =X5+V6-W6 -> 0 | AB6: =AB5+Z6-AA6 -> 0 | AF6: =AF5+AD6-AE6 -> 0 | AJ6: =AJ5+AH6-AI6 -> 0 | AN6: =AN5+AL6-AM6 -> 0 | AR6: =AR5+AP6-AQ6 -> 0 | AV6: =AV5+AT6-AU6 -> 0 | AZ6: =AZ5+AX6-AY6 -> 0 | BD6: =BD5+BB6-BC6 -> 0 | BH6: =BH5+BF6-BG6 -> 0
D7: =D6+B7-C7 -> 0 | H7: =H6+F7-G7 -> 0 | L7: =L6+J7-K7 -> 0 | P7: =P6+N7-O7 -> 0 | T7: =T6+R7-S7 -> 0 | X7: =X6+V7-W7 -> 0 | AB7: =AB6+Z7-AA7 -> 0 | AF7: =AF6+AD7-AE7 -> 0 | AJ7: =AJ6+AH7-AI7 -> 0 | AN7: =AN6+AL7-AM7 -> 0 | AR7: =AR6+AP7-AQ7 -> 0 | AV7: =AV6+AT7-AU7 -> 0 | AZ7: =AZ6+AX7-AY7 -> 0 | BD7: =BD6+BB7-BC7 -> 0 | BH7: =BH6+BF7-BG7 -> 0
D8: =D7+B8-C8 -> 0 | H8: =H7+F8-G8 -> 0 | L8: =L7+J8-K8 -> 0 | P8: =P7+N8-O8 -> 0 | T8: =T7+R8-S8 -> 0 | X8: =X7+V8-W8 -> 0 | AB8: =AB7+Z8-AA8 -> 0 | AF8: =AF7+AD8-AE8 -> 0 | AJ8: =AJ7+AH8-AI8 -> 0 | AN8: =AN7+AL8-AM8 -> 0 | AR8: =AR7+AP8-AQ8 -> 0 | AV8: =AV7+AT8-AU8 -> 0 | AZ8: =AZ7+AX8-AY8 -> 0 | BD8: =BD7+BB8-BC8 -> 0 | BH8: =BH7+BF8-BG8 -> 0
D9: =D8+B9-C9 -> 0 | H9: =H8+F9-G9 -> 0 | L9: =L8+J9-K9 -> 0 | P9: =P8+N9-O9 -> 0 | T9: =T8+R9-S9 -> 0 | X9: =X8+V9-W9 -> 0 | AB9: =AB8+Z9-AA9 -> 0 | AF9: =AF8+AD9-AE9 -> 0 | AJ9: =AJ8+AH9-AI9 -> 0 | AN9: =AN8+AL9-AM9 -> 0 | AR9: =AR8+AP9-AQ9 -> 0 | AV9: =AV8+AT9-AU9 -> 0 | AZ9: =AZ8+AX9-AY9 -> 0 | BD9: =BD8+BB9-BC9 -> 0 | BH9: =BH8+BF9-BG9 -> 0
D10: =D9+B10-C10 -> 0 | H10: =H9+F10-G10 -> 0 | L10: =L9+J10-K10 -> 0 | P10: =P9+N10-O10 -> 0 | T10: =T9+R10-S10 -> 0 | X10: =X9+V10-W10 -> 0 | AB10: =AB9+Z10-AA10 -> 0 | AF10: =AF9+AD10-AE10 -> 0 | AJ10: =AJ9+AH10-AI10 -> 0 | AN10: =AN9+AL10-AM10 -> 0 | AR10: =AR9+AP10-AQ10 -> 0 | AV10: =AV9+AT10-AU10 -> 0 | AZ10: =AZ9+AX10-AY10 -> 0 | BD10: =BD9+BB10-BC10 -> 0 | BH10: =BH9+BF10-BG10 -> 0
D11: =D10+B11-C11 -> 0 | H11: =H10+F11-G11 -> 0 | L11: =L10+J11-K11 -> 0 | P11: =P10+N11-O11 -> 0 | T11: =T10+R11-S11 -> 0 | X11: =X10+V11-W11 -> 0 | AB11: =AB10+Z11-AA11 -> 0 | AF11: =AF10+AD11-AE11 -> 0 | AJ11: =AJ10+AH11-AI11 -> 0 | AN11: =AN10+AL11-AM11 -> 0 | AR11: =AR10+AP11-AQ11 -> 0 | AV11: =AV10+AT11-AU11 -> 0 | AZ11: =AZ10+AX11-AY11 -> 0 | BD11: =BD10+BB11-BC11 -> 0 | BH11: =BH10+BF11-BG11 -> 0
D12: =D11+B12-C12 -> 0 | H12: =H11+F12-G12 -> 0 | L12: =L11+J12-K12 -> 0 | P12: =P11+N12-O12 -> 0 | T12: =T11+R12-S12 -> 0 | X12: =X11+V12-W12 -> 0 | AB12: =AB11+Z12-AA12 -> 0 | AF12: =AF11+AD12-AE12 -> 0 | AJ12: =AJ11+AH12-AI12 -> 0 | AN12: =AN11+AL12-AM12 -> 0 | AR12: =AR11+AP12-AQ12 -> 0 | AV12: =AV11+AT12-AU12 -> 0 | AZ12: =AZ11+AX12-AY12 -> 0 | BD12: =BD11+BB12-BC12 -> 0 | BH12: =BH11+BF12-BG12 -> 0
D13: =D12+B13-C13 -> 0 | H13: =H12+F13-G13 -> 0 | L13: =L12+J13-K13 -> 0 | P13: =P12+N13-O13 -> 0 | T13: =T12+R13-S13 -> 0 | X13: =X12+V13-W13 -> 0 | AB13: =AB12+Z13-AA13 -> 0 | AF13: =AF12+AD13-AE13 -> 0 | AJ13: =AJ12+AH13-AI13 -> 0 | AN13: =AN12+AL13-AM13 -> 0 | AR13: =AR12+AP13-AQ13 -> 0 | AV13: =AV12+AT13-AU13 -> 0 | AZ13: =AZ12+AX13-AY13 -> 0 | BD13: =BD12+BB13-BC13 -> 0 | BH13: =BH12+BF13-BG13 -> 0
D14: =D13+B14-C14 -> 0 | H14: =H13+F14-G14 -> 0 | L14: =L13+J14-K14 -> 0 | P14: =P13+N14-O14 -> 0 | T14: =T13+R14-S14 -> 0 | X14: =X13+V14-W14 -> 0 | AB14: =AB13+Z14-AA14 -> 0 | AF14: =AF13+AD14-AE14 -> 0 | AJ14: =AJ13+AH14-AI14 -> 0 | AN14: =AN13+AL14-AM14 -> 0 | AR14: =AR13+AP14-AQ14 -> 0 | AV14: =AV13+AT14-AU14 -> 0 | AZ14: =AZ13+AX14-AY14 -> 0 | BD14: =BD13+BB14-BC14 -> 0 | BH14: =BH13+BF14-BG14 -> 0
D15: =D14+B15-C15 -> 0 | H15: =H14+F15-G15 -> 0 | L15: =L14+J15-K15 -> 0 | P15: =P14+N15-O15 -> 0 | T15: =T14+R15-S15 -> 0 | X15: =X14+V15-W15 -> 0 | AB15: =AB14+Z15-AA15 -> 0 | AF15: =AF14+AD15-AE15 -> 0 | AJ15: =AJ14+AH15-AI15 -> 0 | AN15: =AN14+AL15-AM15 -> 0 | AR15: =AR14+AP15-AQ15 -> 0 | AV15: =AV14+AT15-AU15 -> 0 | AZ15: =AZ14+AX15-AY15 -> 0 | BD15: =BD14+BB15-BC15 -> 0 | BH15: =BH14+BF15-BG15 -> 0
D16: =D15+B16-C16 -> 0 | H16: =H15+F16-G16 -> 0 | L16: =L15+J16-K16 -> 0 | P16: =P15+N16-O16 -> 0 | T16: =T15+R16-S16 -> 0 | X16: =X15+V16-W16 -> 0 | AB16: =AB15+Z16-AA16 -> 0 | AF16: =AF15+AD16-AE16 -> 0 | AJ16: =AJ15+AH16-AI16 -> 0 | AN16: =AN15+AL16-AM16 -> 0 | AR16: =AR15+AP16-AQ16 -> 0 | AV16: =AV15+AT16-AU16 -> 0 | AZ16: =AZ15+AX16-AY16 -> 0 | BD16: =BD15+BB16-BC16 -> 0 | BH16: =BH15+BF16-BG16 -> 0
D17: =D16+B17-C17 -> 0 | H17: =H16+F17-G17 -> 0 | L17: =L16+J17-K17 -> 0 | P17: =P16+N17-O17 -> 0 | T17: =T16+R17-S17 -> 0 | X17: =X16+V17-W17 -> 0 | AB17: =AB16+Z17-AA17 -> 0 | AF17: =AF16+AD17-AE17 -> 0 | AJ17: =AJ16+AH17-AI17 -> 0 | AN17: =AN16+AL17-AM17 -> 0 | AR17: =AR16+AP17-AQ17 -> 0 | AV17: =AV16+AT17-AU17 -> 0 | AZ17: =AZ16+AX17-AY17 -> 0 | BD17: =BD16+BB17-BC17 -> 0 | BH17: =BH16+BF17-BG17 -> 0
... D2000: =D1999+B2000-C2000 -> 0 | H2000: =H1999+F2000-G2000 -> 0 | L2000: =L1999+J2000-K2000 -> 0 | P2000: =P1999+N2000-O2000 -> 0 | T2000: =T1999+R2000-S2000 -> 0 | X2000: =X1999+V2000-W2000 -> 0 | AB2000: =AB1999+Z2000-AA2000 -> 0 | AF2000: =AF1999+AD2000-AE2000 -> 0 | AJ2000: =AJ1999+AH2000-AI2000 -> 0 | AN2000: =AN1999+AL2000-AM2000 -> 0 | AR2000: =AR1999+AP2000-AQ2000 -> 0 | AV2000: =AV1999+AT2000-AU2000 -> 0 | AZ2000: =AZ1999+AX2000-AY2000 -> 0 | BD2000: =BD1999+BB2000-BC2000 -> 0 | BH2000: =BH1999+BF2000-BG2000 -> 0
