Workbook
Name format: OFFSET(images!$B$5:$I$5,1,'Détail du travail'!#REF!,1,1)
Name ftdimpression: Listes!$C$1
Name hauteur: OFFSET(images!$A$2:$O$3,0,'produits en croix'!$C$22,1,1)
Name Inthauteur: OFFSET(images!$A$2:$O$3,0,'produits en croix'!$U$22,1,1)
Name Intlargeur: OFFSET(images!$A$3:$O$3,0,'produits en croix'!$W$22,1,1)
Name largeur: OFFSET(images!$A$3:$O$3,0,'produits en croix'!$E$22,1,1)
Name Pli: OFFSET(images!$A$9,0,'Détail du travail'!$C$7,1,1)
Name Selection_pose: OFFSET(images!$B$5:$I$5,1,'Détail du travail'!$W$5,1,1)
Name taille: #REF!

Sheet Détail du travail
P1: IMPRESSION | Q1: =IF(C12="numérique","Non","Oui") -> Oui | S1: 7500 | T1: heures | V1: Orientation | W1: =IF(F2="Paysage/Italienne",1,0) -> 0
B2: Format du document fini : | C2: 210 | D2: X | E2: 297 | F2: =IF(C2>=E2,"Paysage/Italienne","Portrait/Française") -> Portrait/Française | J2: COUVERTURE | M2: =IF('Détail du travail'!E18="R°V°",2,1) -> 2 | P2: impression passe variable : | Q2: =IF(Q1="oui","3%",0) -> 3% | V2: Débords avec ou sans | W2: =IF(C6>=1,"1","0") -> 1
B3: Format brut | C3: =IF('Détail du travail'!C4="non",C2*C8+(C6*2),(C2*2)+(C6*2)) -> 216 | D3: X | E3: =E2+(C6*2) -> 303 | J3: Format d'impression couv | K3: 450 | L3: X | M3: =VLOOKUP(K3,Listes!C2:E19,3,0) -> 640 | P3: impression passe fixe : | Q3: =IF(Q1="oui","200",0) -> 200 | R3: Pinces : | S3: =C13 -> 9 | V3: Brochure avec ou sans debord | W3: =IF('Détail du travail'!C4="oui",4,0) -> 0
B4: Brochure | C4: Non | J4: Grammage | K4: 115 | M4: Mat | V4: Orientation avec ou sans debords | W4: =IF(C6>=1,"1","0") -> 1
B5: Nombres exemplaire | C5: 10000 | D5: ex | P5: IMPRESSION NUMERIQUE | Q5: =IF(C12="numérique","Oui","Non") -> Non | S5: 7500 | T5: heures | W5: =W1+W2+W3+W4 -> 2
B6: Débords | C6: 3 | J6: DOCUMENT(S)/INTERIEUR | M6: =IF('Détail du travail'!E19="R°V°",2,1) -> 1 | P6: impression passe variable : | Q6: =IF(Q5="oui","3%",0) -> 0
C7: =HLOOKUP(C10,images!A7:H8,2,0) -> 2 | J7: Format d'impression intérieur | K7: 630 | L7: X | M7: =VLOOKUP(K7,Listes!C2:E19,3,0) -> 880 | P7: impression passe fixe : | Q7: =IF(Q5="oui","200",0) -> 0
B8: Volets | C8: 1 | J8: Grammage | K8: 115 | M8: Mat
B9: Document(s) nb pli/s : | C9: =IF('Détail du travail'!C4="non",C8-1,"non") -> 0 | P9: PLIEUSE | Q9: Non | R9: =IF(Q9="oui","7500",0) -> 0 | S9: Document : | T9: =IF(C4="non",C9,0) -> 0
B10: Style de pli : | C10: Accordéon | J10: Brochure | P10: Plieuse passe V | Q10: =IF(Q9="oui","1%",0) -> 0 | S10: Couv : | T10: =IF(C4="oui",K12,0) -> 0
P11: Plieuse passe F | Q11: =IF(Q9="oui","25",0) -> 0 | R11: X | S11: Intérieur : | T11: =IF(C4="Oui",K13+M13,0) -> 0
B12: impression : | C12: Traditionnelle | J12: Couv | K12: =IF(C4="oui",'produits en croix'!L7,0) -> 0 | M12: =IF(C4="oui",'produits en croix'!F24,0) -> 0 | N12: =IF('Détail du travail'!E18="R°V°","R°V°","V°") -> R°V°
B13: Pinces : | C13: 9 | J13: Cahiers intérieur + basculé | K13: =ROUNDUP('produits en croix'!O10,0) -> 0 | L13: + | M13: =IF(C4="oui",'produits en croix'!Q10,0) -> 0 | N13: =IF(E19="R°V°","R°V°","R°") -> R° | P13: ENCARTEUSE | Q13: Non | R13: 11000 | S13: h
J14: cahier(s) de : | K14: =IF(C4="oui",'produits en croix'!Z6,0) -> 0 | L14: x | M14: Cahier(s) de : | P14: encarteuse/piqueuse passe V | Q14: =IF(Q13="oui","0,50%",0) -> 0 | R14: Temps réglage | S14: 0.25
B15: Couv nb de couleur/s | C15: 4 | D15: + | E15: 0 | F15: Teinte | P15: encarteuse piqueuse passe F | Q15: =IF(Q13="oui","15",0) -> 0 | R15: X | S15: ='produits en croix'!O10+'produits en croix'!Q10 -> 0 | T15: =Q15*S15 -> 0
B16: Int nb de couleur/s | C16: 7 | D16: + | E16: 0 | F16: Teinte | J16: Document(s)
P17: RAINEUSE | Q17: Oui | R17: 3500 | S17: ex/h
B18: pages de couv | C18: 0 | E18: R°V° | J18: Cahiers + basculé | K18: =ROUND('produits en croix'!O18,1) -> 15 | L18: + | M18: =IF(C4="oui",0,'produits en croix'!Q18) -> 0 | N18: =IF('Détail du travail'!E19="R°V°","R°V°","R°") -> R° | P18: raineuse passe V | Q18: =IF(Q17="oui","0,50%",0) -> 0,50% | R18: plis | S18: =C9 -> 0
B19: Pages intérieur ou Document(s) | C19: 120 | E19: R° | J19: ='produits en croix'!Z6 -> 8 | K19: poses | M19: Cahier(s) de : | P19: passe F | Q19: =IF(Q17="oui","2",0) -> 2 | R19: X | S19: =C9 -> 0
B21: Feuilles d'impression par paquets de : | C21: 250 | P21: Massicot | Q21: Oui
B22: Conditionnement par : | C22: 500 | J22: Nb ex à int 1 | K22: =IF(C4="oui",'produits en croix'!M13,'produits en croix'!Q21) -> 0 | P22: temps de coupe : | Q22: 0.01
J23: =IF(C4="oui",'produits en croix'!O13,'produits en croix'!O21) -> 0 | K23: x | L23: =IF(C4="oui",'produits en croix'!Q13,'produits en croix'!Q21) -> 0 | M23: poses
J24: Nb ex à int 2 | K24: =IF(C4="oui",'produits en croix'!M15,'produits en croix'!Q23) -> 0 | P24: Conditionnement | Q24: Oui | S24: =IF(Q24="oui",C5/C22,0) -> 20 | T24: ex par carton
J25: =IF(C4="oui",'produits en croix'!O15,'produits en croix'!O23) -> 0 | K25: x | L25: =IF(C4="oui",'produits en croix'!Q15,'produits en croix'!Q23) -> 0 | M25: poses
Q26: Calculs
B27: Feuille a commander : | E27: Paquets | F27: total :
B28: Couv : | C28: =IF(C4="oui",'commande papier'!H31,0) -> 0 | D28: f | E28: =ROUNDUP((C28/C21),0) -> 0 | F28: =C21*E28 -> 0 | G28: f | P28: Pages | Q28: =IF(C18="4",'Détail du travail'!C19,'Détail du travail'!C19+C18) -> 120
B29: Int/Documents/même grammage : | C29: ='commande papier'!Q55 -> 0 | D29: f | E29: =ROUNDUP((C29/C21),0) -> 0 | F29: =E29*C21 -> 0 | G29: f | P29: Temps par pages : | Q29: =0.02 -> 0.02
P30: Total centiheure = | Q30: =(C18+'Détail du travail'!C19)*Q29 -> 2.4 | S30: Heure : | T30: =Q30*60/100 -> 1.44
B31: Couv Poids : | C31: =F28*(K3/1000*M3/1000*K4)/1000 -> 0 | D31: kg
B32: Autre Poids : | C32: =F29*(K7/1000*M7/1000*K8/1000) -> 0 | D32: kg | P32: Traceur(s) | Q32: =Q1 -> Oui
P33: Temps parTraceur : | Q33: =IF(Q32="oui","0,15",0) -> 0,15 | R33: Traceur(s) = | S33: =(K12*M2)+((K13+M13)*M6) -> 0
B34: Poids total exemplaires : | F34: Conditionnement : | P34: Total centiheure = | Q34: =S33*Q33 -> 0 | S34: Heure : | T34: =Q34*60/100 -> 0
B35: Couv : | C35: =IF(C4="oui",((C2/1000)*(E2/1000)*(K4)/1000)*C5,0) -> 0 | D35: kg | E35: 1 = | F35: =(C37/C5)*Q120 -> 3.586275 | G35: kg
B36: Pages ou Document(s) : | C36: =((C2/1000)*(E2/1000)*(K8)/1000)*C5 -> 71.7255 | D36: kg | E36: =S119 -> 20 | F36: =F35*E36 -> 71.7255 | G36: kg | P36: CTP | Q36: =Q1 -> Oui | R36: Nb Couv/int | S36: =C15+E15 -> 4 | T36: =((K13*M6)*C16)+((M13+E16)*C16) -> 0
B37: Total = | C37: =IF(C4="oui",C35+C36,C36) -> 71.7255 | D37: Kg | P37: Temps par Plaque : | Q37: =IF(Q36="oui","0,20",0) -> 0,20 | R37: total plaques = | S37: =S36+T36 -> 4
P38: Total centiheure = | Q38: =S37*Q37 -> 0.8 | S38: Heure : | T38: =Q38*60/100 -> 0.48
P40: Impression brochure | Q40: =IF(C4="oui","oui","non") -> non | V40: Impression document | W40: =IF(C4="non","oui","non") -> oui
P41: Couverture | V41: Intérieur(s)
P42: Calage | Q42: =IF(Q40="oui","0,15",0) -> 0 | R42: Nb calage = | S42: =K12 -> 0 | V42: Calages | W42: =IF(W40="oui","0,15",0) -> 0,15 | X42: Nb calage = | Y42: =K18*(C16+E16) -> 105
...

Sheet produits en croix
D1: COUVERTURE | V1: Intérieur
D2: Format document client (mm) | V2: Format document client (mm)
D4: ='Détail du travail'!C3 -> 216 | E4: ='Détail du travail'!E3 -> 303 | F4: NB de poses | G4: Superficie | K4: Nb de pages | L4: ='Détail du travail'!C19+'Détail du travail'!C18 -> 120 | V4: ='Détail du travail'!C3 -> 216 | W4: ='Détail du travail'!E3 -> 303 | X4: NB de poses | Y4: Superficie
B5: Format feuille d'impression (mm) | C5: =D10-D11 -> 441 | D5: =QUOTIENT(C5,D4) -> 2 | E5: =QUOTIENT(C5,E4) -> 1 | F5: =D6*E5 -> 2 | G5: =D4*E4*F5 -> 130896 | K5: Poses de couv | L5: =H6 -> 4 | T5: Format feuille d'impression (mm) | U5: =V10-V11 -> 621 | V5: =QUOTIENT(U5,V4) -> 2 | W5: =QUOTIENT(U5,W4) -> 2 | X5: =V6*W5 -> 8 | Y5: =V4*W4*X5 -> 523584
C6: =F10 -> 640 | D6: =QUOTIENT(C6,D4) -> 2 | E6: =QUOTIENT(C6,E4) -> 2 | F6: =D5*E6 -> 4 | G6: =D4*E4*F6 -> 261792 | H6: =MAX(F5:F6) -> 4 | I6: Poses | K6: Poses Intérieurs | L6: ='Détail du travail'!C19/4 -> 30 | U6: =X10 -> 880 | V6: =QUOTIENT(U6,V4) -> 4 | W6: =QUOTIENT(U6,W4) -> 2 | X6: =V5*W6 -> 4 | Y6: =V4*W4*X6 -> 261792 | Z6: =MAX(X5:X6) -> 8 | AA6: Poses
K7: Cahier couv | L7: =IF('Détail du travail'!C18=0, 0, 1) -> 0
B8: Format document : | D8: 640 | E8: X | F8: ='Détail du travail'!E3 -> 303 | T8: Format document : | V8: ='Détail du travail'!C3 -> 216 | W8: X | X8: ='Détail du travail'!E3 -> 303
B9: Débords : | D9: ='Détail du travail'!C6 -> 3 | L9: Nb de 4 pages : | M9: =IF('Détail du travail'!C4="oui",L6,0) -> 0 | T9: Débords : | V9: ='Détail du travail'!C6 -> 3
B10: Format feuille : | D10: ='Détail du travail'!K3 -> 450 | E10: X | F10: ='Détail du travail'!M3 -> 640 | G10: =D10*F10 -> 288000 | L10: Cahiers Int : | M10: =IF('Détail du travail'!E19="R°V°",(M9/Z6),(M9/Z6)*2) -> 0 | N10: = | O10: =ROUNDDOWN(M10,0) -> 0 | P10: + | Q10: =IF('Détail du travail'!C4="oui",R13+R15,0) -> 0 | R10: Basculé | T10: Format feuille : | V10: ='Détail du travail'!K7 -> 630 | W10: X | X10: ='Détail du travail'!M7 -> 880 | Y10: =V10*X10 -> 554400
B11: Pinces : | D11: ='Détail du travail'!C13 -> 9 | L11: /poses x cahiers = | M11: =IF('Détail du travail'!E19="R°V°",Z6*O10,(Z6*O10)/2) -> 0 | T11: Pinces : | V11: ='Détail du travail'!C13 -> 9
L12: reste = | M12: =M9-M11 -> 0
D13: =F10 -> 640 | L13: Nb ex basculé 1 : | M13: =IFERROR(ROUNDDOWN(Z6/Q13,0),0) -> 0 | N13: = | O13: =M13 -> 0 | P13: x | Q13: =IF(ISODD(M12)=TRUE,M12-1,M12) -> 0 | R13: =IF(O13=0,0,1) -> 0 | V13: =X10 -> 880
O14: fois | Q14: ex | R14: +
L15: Nb ex basculé 2 : | M15: =IFERROR(Z6/O15,0) -> 0 | N15: = | O15: =IFERROR(ROUNDDOWN(M12-Q13,0),0) -> 0 | P15: x | Q15: =M15 -> 0 | R15: =IF(O15=0,0,1) -> 0
O16: fois | Q16: ex
G17: =D10 -> 450 | L17: Documents : | M17: =IF('Détail du travail'!C4="non",'Détail du travail'!C19,0) -> 120 | Y17: =V10 -> 630
L18: doc/poses | M18: =M17/Z6 -> 15 | N18: = | O18: =ROUNDDOWN((M18),0) -> 15 | P18: + | Q18: =IF('Détail du travail'!C4="oui",0,R21+R23) -> 0 | R18: Basculé
M19: =O18 -> 15 | N19: = | O19: =IFERROR((Z6/Q19),0) -> 8 | P19: x | Q19: =IFERROR(ROUNDDOWN((M19/Z6),0),0) -> 1 | R19: =O18 -> 15
L20: Reste : | M20: =M17-((O19*Q19)*R19) -> 0 | N20: ex | O20: fois | Q20: ex
M21: =IFERROR(MOD(Z6,M20),0) -> 0 | N21: = | O21: =M21 -> 0 | P21: x | Q21: =IFERROR(ROUNDDOWN((Z6/M21),0),0) -> 0 | R21: =IF(M21=0,0,1) -> 0
B22: hauteur : | C22: =IF(F5>=F6,E5,D5) -> 2 | D22: largeur : | E22: =IF(F6>=F5,E6,D6) -> 2 | L22: Reste : | M22: =M20-M21 -> 0 | N22: ex | O22: fois | Q22: ex | R22: + | T22: hauteur : | U22: =IF(X5>=X6,W5,V5) -> 2 | V22: largeur : | W22: =IF(X6>=X5,W6,V6) -> 4
M23: =IFERROR((M20-O21),0) -> 0 | N23: = | O23: =IFERROR(Z6/Q23,0) -> 0 | P23: x | Q23: =IFERROR(ROUNDDOWN((Z6/M23),0),0) -> 0 | R23: =IF(O23=0,0,1) -> 0
E24: Nb de couv à la feuilles : | F24: =H6 -> 4 | O24: fois | Q24: ex

Sheet commande papier
C2: COUVERTURE | L2: INTERIEUR/DOCUMENT/MEME GRAMMAGE
B4: Raineuse | E4: Passe variable | K4: Raineuse | N4: Passe variable
C5: =IF('Détail du travail'!C18=0, 0,'Détail du travail'!C5) -> 0 | D5: + | E5: ='Détail du travail'!Q18 -> 0,50% | F5: = | G5: =C5*E5+SUM(C5,E5) -> 0 | L5: ='Détail du travail'!C5 -> 10000 | M5: + | N5: ='Détail du travail'!Q18 -> 0,50% | O5: = | P5: =L5*N5+SUM(L5,N5) -> 10050
E6: arrondi | F6: = | G6: =ROUNDUP(G5,0) -> 0 | N6: arrondi | O6: = | P6: =ROUNDUP(P5,0) -> 10050
E7: Passe fixe | N7: Passe fixe
D8: + | E8: ='Détail du travail'!Q19 -> 2 | F8: = | G8: =SUM(G6,E8) -> 0 | L8: =P6 -> 10050 | M8: + | N8: ='Détail du travail'!Q19 -> 2 | O8: = | P8: =SUM(L8,N8) -> 10050
B10: Plieuse | E10: Passe variable | K10: Encarteuse | N10: Passe variable
C11: =G8 -> 0 | D11: + | E11: ='Détail du travail'!Q10 -> 0 | F11: = | G11: =C11*E11+SUM(C11,E11) -> 0 | L11: =IF(P8=0, 0,P8) -> 10050 | M11: + | N11: ='Détail du travail'!Q14 -> 0 | O11: = | P11: =L11*N11+SUM(L11,N11) -> 10050
E12: arrondi | F12: = | G12: =ROUNDUP(G11,0) -> 0 | N12: arrondi | O12: = | P12: =ROUNDUP(P11,0) -> 10050
E13: Passe fixe | N13: Passe fixe
C14: =G11 -> 0 | D14: + | E14: ='Détail du travail'!Q11*'Détail du travail'!T10 -> 0 | F14: = | G14: =C14+E14 -> 0 | L14: =P11 -> 10050 | M14: + | N14: ='Détail du travail'!T105 -> 0 | O14: = | P14: =L14+N14 -> 10050
E15: arrondi | F15: = | G15: =ROUNDUP(G14,0) -> 0 | N15: arrondi | O15: = | P15: =ROUNDUP(P14,0) -> 10050
B17: couverture | E17: Passe variable | K17: Plieuse | N17: Passe variable
B18: 1 passage | C18: =IFERROR((G14/'produits en croix'!L5),0) -> 0 | D18: + | E18: =IF(C18=0, 0,'Détail du travail'!Q2) -> 0 | F18: = | G18: =C18*E18+SUM(C18,E18) -> 0 | L18: =P8 -> 10050 | M18: + | N18: ='Détail du travail'!Q10 -> 0 | O18: = | P18: =L18*N18+SUM(L18,N18) -> 10050
E19: arrondi | F19: = | G19: =ROUNDUP(G18,0) -> 0 | N19: arrondi | O19: = | P19: =ROUNDUP(P18,0) -> 10050
E20: Passe fixe | N20: Passe fixe
C21: =G19 -> 0 | D21: + | E21: =IF(C18=0, 0,'Détail du travail'!Q3) -> 0 | F21: = | G21: =C21+E21 -> 0 | L21: =P18 -> 10050 | M21: + | N21: ='Détail du travail'!Q11*'Détail du travail'!T11 -> 0 | O21: = | P21: =L21+N21 -> 10050
E22: arrondi | F22: = | G22: =ROUNDUP(G21,0) -> 0 | N22: arrondi | O22: = | P22: =ROUNDUP(P21,0) -> 10050
E23: Passe variable
B24: 2 passage | C24: =IF('Détail du travail'!E19="R°V°",G21,0) -> 0 | D24: + | E24: =IF(C24=0,0,'Détail du travail'!Q2) -> 0 | F24: = | G24: =C24*E24+SUM(C24,E24) -> 0 | K24: impo | N24: Passe variable
E25: arrondi | F25: = | G25: =ROUNDUP(G24,0) -> 0 | K25: 1 passage | L25: =IFERROR(IF('Détail du travail'!K13+'Détail du travail'!K18=0,0,P22/'produits en croix'!Z6),0) -> 1256.25 | M25: + | N25: =IF('Détail du travail'!K13+'Détail du travail'!K18=0, 0,'Détail du travail'!Q2) -> 3% | O25: = | P25: =L25*N25+SUM(L25,N25) -> 1293.9375
E26: Passe fixe | N26: arrondi | O26: = | P26: =ROUNDUP(P25,0) -> 1294
C27: =G25 -> 0 | D27: + | E27: =IF('Détail du travail'!E18="R°V°",0,0) -> 0 | F27: = | G27: =C27+E27 -> 0 | N27: Passe fixe
E28: arrondi | F28: = | G28: =ROUNDUP(G27,0) -> 0 | L28: =P26 -> 1294 | M28: + | N28: =IF('produits en croix'!O10+'produits en croix'!O18=0, 0,'Détail du travail'!Q3) -> 200 | O28: = | P28: =L28+N28 -> 1494
B29: Nb de tours | F29: = | G29: =IF('Détail du travail'!E18="R°V°",G28*'Détail du travail'!M2,G28) -> 0 | N29: arrondi | O29: = | P29: =ROUNDUP(P28,0) -> 1494
N30: Passe variable
H31: =G28 -> 0 | I31: Feuilles | K31: 2 passage | L31: =IF('Détail du travail'!E19="R°V°",P29,0) -> 0 | M31: + | N31: =IF('Détail du travail'!E19="R°V°",N25,0) -> 0 | O31: = | P31: =L31*N31+SUM(L31,N31) -> 0
B32: Commande de Paquets de feuille | E32: Nb de feuilles par paquets | H32: =G29 -> 0 | I32: Tours | N32: arrondi | O32: = | P32: =ROUNDUP(P31,0) -> 0
C33: =G28 -> 0 | D33: : | E33: ='Détail du travail'!C21 -> 250 | F33: = | G33: =C33/E33 -> 0 | N33: Passe fixe
E34: arrondi | F34: = | G34: =ROUNDUP(G33,0) -> 0 | L34: =P32 -> 0 | M34: + | N34: =IF('Détail du travail'!E19="R°V°",N28,0) -> 0 | O34: = | P34: =L34+N34 -> 0
N35: arrondi | O35: = | P35: =ROUNDUP(P34,0) -> 0
K36: Nb de cahiers | L36: =P35 -> 0 | M36: X | N36: =IF('Détail du travail'!C4="oui",'Détail du travail'!K13,'Détail du travail'!K18) -> 15 | O36: = | P36: =IF(N36=0,L36,L36*N36) -> 0
K37: Nb de tours | O37: = | P37: =IF('Détail du travail'!E19="R°V°",P36*2,P36) -> 0
K39: impo 1 | N39: Passe variable
K40: 1 passage | L40: =IF('Détail du travail'!K22=0, 0, 'Détail du travail'!C5/'Détail du travail'!K22) -> 0 | M40: + | N40: =IF(L40=0, 0,'Détail du travail'!Q2) -> 0 | O40: = | P40: =L40*N40+SUM(L40,N40) -> 0
N41: arrondi | O41: = | P41: =ROUNDUP(P40,0) -> 0
N42: Passe fixe
L43: =P41 -> 0 | M43: + | N43: =IF(L40=0, 0,'Détail du travail'!Q3) -> 0 | O43: = | P43: =L43+N43 -> 0
N44: arrondi | O44: = | P44: =ROUNDUP(P43,0) -> 0
N45: Passe variable
...

Sheet Recherche de format
D3: ='produits en croix'!V2 -> Format document client (mm) | J3: =D3 -> Format document client (mm) | P3: =D3 -> Format document client (mm) | V3: =D3 -> Format document client (mm) | AB3: =D3 -> Format document client (mm)
B4: 32x45 | H4: 45x64 | N4: 51x70 | T4: 70x100 | Z4: 63x88
D5: ='produits en croix'!V4 -> 216 | E5: ='produits en croix'!W4 -> 303 | F5: ='produits en croix'!X4 -> NB de poses | J5: =D5 -> 216 | K5: =E5 -> 303 | L5: =F5 -> NB de poses | P5: =D5 -> 216 | Q5: =E5 -> 303 | R5: =F5 -> NB de poses | V5: =D5 -> 216 | W5: =E5 -> 303 | X5: =F5 -> NB de poses | AB5: =D5 -> 216 | AC5: =E5 -> 303 | AD5: =F5 -> NB de poses
B6: ='produits en croix'!T5 -> Format feuille d'impression (mm) | C6: =Listes!C2-'Détail du travail'!C13 -> 311 | D6: =QUOTIENT(C6,D5) -> 1 | E6: =QUOTIENT(C6,E5) -> 1 | F6: =D7*E6 -> 2 | H6: =B6 -> Format feuille d'impression (mm) | I6: =Listes!C3-'Détail du travail'!C13 -> 441 | J6: =QUOTIENT(I6,J5) -> 2 | K6: =QUOTIENT(I6,K5) -> 1 | L6: =J7*K6 -> 2 | N6: =B6 -> Format feuille d'impression (mm) | O6: =Listes!C5-'Détail du travail'!C13 -> 501 | P6: =QUOTIENT(O6,P5) -> 2 | Q6: =QUOTIENT(O6,Q5) -> 1 | R6: =P7*Q6 -> 3 | T6: =B6 -> Format feuille d'impression (mm) | U6: =Listes!C10-'Détail du travail'!C13 -> 691 | V6: =QUOTIENT(U6,V5) -> 3 | W6: =QUOTIENT(U6,W5) -> 2 | X6: =V7*W6 -> 8 | Z6: =B6 -> Format feuille d'impression (mm) | AA6: =Listes!C7-'Détail du travail'!C13 -> 621 | AB6: =QUOTIENT(AA6,AB5) -> 2 | AC6: =QUOTIENT(AA6,AC5) -> 2 | AD6: =AB7*AC6 -> 8
C7: =Listes!E2 -> 450 | D7: =QUOTIENT(C7,D5) -> 2 | E7: =QUOTIENT(C7,E5) -> 1 | F7: =D6*E7 -> 1 | I7: =Listes!E3 -> 640 | J7: =QUOTIENT(I7,J5) -> 2 | K7: =QUOTIENT(I7,K5) -> 2 | L7: =J6*K7 -> 4 | O7: =Listes!E5 -> 700 | P7: =QUOTIENT(O7,P5) -> 3 | Q7: =QUOTIENT(O7,Q5) -> 2 | R7: =P6*Q7 -> 4 | U7: =Listes!E10 -> 1000 | V7: =QUOTIENT(U7,V5) -> 4 | W7: =QUOTIENT(U7,W5) -> 3 | X7: =V6*W7 -> 9 | AA7: =Listes!E7 -> 880 | AB7: =QUOTIENT(AA7,AB5) -> 4 | AC7: =QUOTIENT(AA7,AC5) -> 2 | AD7: =AB6*AC7 -> 4
J9: =D3 -> Format document client (mm) | P9: =J3 -> Format document client (mm) | V9: =J3 -> Format document client (mm) | AB9: =D3 -> Format document client (mm)
H10: 46x65 | N10: 52x72 | T10: 72x102 | Z10: 65x90
J11: =D5 -> 216 | K11: =E5 -> 303 | L11: =F5 -> NB de poses | P11: =J5 -> 216 | Q11: =K5 -> 303 | R11: =L5 -> NB de poses | V11: =J5 -> 216 | W11: =K5 -> 303 | X11: =L5 -> NB de poses | AB11: =D5 -> 216 | AC11: =E5 -> 303 | AD11: =F5 -> NB de poses
H12: =B6 -> Format feuille d'impression (mm) | I12: =Listes!C4-'Détail du travail'!C13 -> 451 | J12: =QUOTIENT(I12,J11) -> 2 | K12: =QUOTIENT(I12,K11) -> 1 | L12: =J13*K12 -> 3 | N12: =H6 -> Format feuille d'impression (mm) | O12: =Listes!C6-'Détail du travail'!C13 -> 511 | P12: =QUOTIENT(O12,P11) -> 2 | Q12: =QUOTIENT(O12,Q11) -> 1 | R12: =P13*Q12 -> 3 | T12: =H6 -> Format feuille d'impression (mm) | U12: =Listes!C11-'Détail du travail'!C13 -> 691 | V12: =QUOTIENT(U12,V11) -> 3 | W12: =QUOTIENT(U12,W11) -> 2 | X12: =V13*W12 -> 8 | Z12: =B6 -> Format feuille d'impression (mm) | AA12: =Listes!C8-'Détail du travail'!C13 -> 631 | AB12: =QUOTIENT(AA12,AB11) -> 2 | AC12: =QUOTIENT(AA12,AC11) -> 2 | AD12: =AB13*AC12 -> 8
I13: =Listes!E4 -> 650 | J13: =QUOTIENT(I13,J11) -> 3 | K13: =QUOTIENT(I13,K11) -> 2 | L13: =J12*K13 -> 4 | O13: =Listes!E6 -> 720 | P13: =QUOTIENT(O13,P11) -> 3 | Q13: =QUOTIENT(O13,Q11) -> 2 | R13: =P12*Q13 -> 4 | U13: =Listes!E11 -> 1020 | V13: =QUOTIENT(U13,V11) -> 4 | W13: =QUOTIENT(U13,W11) -> 3 | X13: =V12*W13 -> 9 | AA13: =Listes!E8 -> 900 | AB13: =QUOTIENT(AA13,AB11) -> 4 | AC13: =QUOTIENT(AA13,AC11) -> 2 | AD13: =AB12*AC13 -> 4
AB15: =D3 -> Format document client (mm)
Z16: 65x92
AB17: =D5 -> 216 | AC17: =E5 -> 303 | AD17: =F5 -> NB de poses
Z18: =B6 -> Format feuille d'impression (mm) | AA18: =Listes!C9-'Détail du travail'!C13 -> 641 | AB18: =QUOTIENT(AA18,AB17) -> 2 | AC18: =QUOTIENT(AA18,AC17) -> 2 | AD18: =AB19*AC18 -> 8
AA19: =Listes!E9 -> 920 | AB19: =QUOTIENT(AA19,AB17) -> 4 | AC19: =QUOTIENT(AA19,AC17) -> 3 | AD19: =AB18*AC19 -> 6

Sheet Listes
A1: grammage | C1: Ft impression | F1: 0 | G1: Oui | H1: R° | I1: Française/portrait | J1: 1 | L1: impression | O1: Papier :
A2: 70 | C2: 320 | D2: X | E2: 450 | F2: 1 | G2: Non | H2: R°V° | I2: Italienne/paysage | J2: 2 | L2: Numérique | O2: Mat
A3: 80 | C3: 450 | D3: X | E3: 640 | F3: 2 | J3: 3 | L3: Traditionnelle | O3: Brillant
A4: 90 | C4: 460 | D4: X | E4: 650 | F4: 3 | J4: 4 | O4: Satin
A5: 100 | C5: 510 | D5: X | E5: 700 | F5: 4 | J5: 5 | O5: Laser
A6: 110 | C6: 520 | D6: X | E6: 720 | F6: 5 | J6: 6
A7: 115 | C7: 630 | D7: X | E7: 880 | F7: 6 | J7: 7
A8: 120 | C8: 640 | D8: X | E8: 900 | F8: 7 | J8: 8
A9: 130 | C9: 650 | D9: X | E9: 920 | F9: 8
A10: 140 | C10: 700 | D10: X | E10: 1000 | F10: 9
A11: 150 | C11: 700 | D11: X | E11: 1020 | F11: 10
A12: 160 | C12: 720 | D12: X | E12: 1020
A13: 170 | C13: 740 | D13: X | E13: 1020
A14: 180 | C14: 0 | E14: 0
A15: 190 | C15: 0 | E15: 0
A16: 200 | C16: 0 | E16: 0
A17: 210 | C17: 0 | E17: 0
A18: 220 | C18: 0 | E18: 0
A19: 230 | C19: 0 | E19: 0
A20: 240
A21: 250
A22: 0
A23: 0
A24: 0
A25: 0
A26: 0

Sheet images
A1: 0 | B1: 1 | D1: 3 | E1: 4 | F1: 5 | G1: 6 | H1: 7 | I1: 8 | J1: 9 | K1: 10 | L1: 11 | M1: 12 | N1: 13 | O1: 14 | P1: 15
A4: Ft fini | B4: ft brut | C4: italienne Ft fini | D4: Ft brut | E4: italienne It brut | F4: Ft ouvert | G4: Ft italienne ouvert | H4: Ft ouvert brut | I4: Ft italienne ouvert brut
A5: 0 | B5: 1 | C5: 2 | D5: 3 | E5: 4 | F5: 5 | G5: 6 | H5: 7 | I5: 8
B6: Ft fini | C6: ft brut | D6: Française Ft fini | E6: italienne Ft brut | F6: Ft ouvert | G6: Ft ouvert | H6: Ft ouvert brut | I6: Ft italienne ouvert brut
A7: Aucun | B7: simple | C7: Accordéon | D7: roulé | E7: fenêtre | F7: portefeuille | G7: paralèlle | H7: croisé
B8: 1 | C8: 2 | D8: 3 | E8: 4 | F8: 5 | G8: 6 | H8: 7
B9: Pli simple | C9: Accordéon | D9: roulé | E9: fenêtre | F9: portefeuille | G9: paralèlle | H9: croisé
