Workbook
Name format: OFFSET(images!$B$5,0,'Détail du travail'!$E$4,1,1)
Name Format_d_impression: OFFSET(images!$A$1,0,'produits en croix'!$H$7,1,1)
Name Interieur: OFFSET(images!$A$1,0,'produits en croix'!$Z$7,1,1)

Sheet Détail du travail
B3: Format du document fini : | C3: 210 | D3: X | E3: 297
B4: format ouvert/fini/brut | C4: Ft ouvert brut | E4: =HLOOKUP(C4,images!A3:H4,2,FALSE) -> 5
B5: Nombres exemplaire | C5: 30000
B6: Debords | C6: 3
B7: Quadri | C7: X
B8: pages de couv | C8: 4 | D8: p
B9: Nombre de pages interieur | C9: 56 | D9: p
B11: COUVERTURE | C11: R°V° | E11: =IF(C11="","",HLOOKUP(C11,'produits en croix'!O10:P11,2,0)) -> 2
B12: Format d'impression couv | C12: 450 | D12: X | E12: 640
B13: Grammage | C13: 140
B15: INTERIEUR | C15: R°V° | E15: =IF(C15="","",HLOOKUP(C15,'produits en croix'!O10:P11,2,0)) -> 2
B16: Format d'impression intérieur | C16: 650 | D16: X | E16: 920
B17: Grammage | C17: 115
B20: Nombres de cahiers intérieur | C20: =ROUNDDOWN('produits en croix'!N8,0) -> 3
B21: Paquet de : | C21: 250
B23: IMPRESSION
B24: impression passe variable : | C24: 0.03
B25: impression passe fixe : | C25: 150
B27: PLIEUSE
B28: Plieuse passe variable | C28: 0 | E28: Nb de plis
B29: Plieuse passe fixe | C29: 0 | D29: X | E29: 0
B30: nombre de pli | C30: 0
B32: ENCARTEUSE | E32: Nb poches
B33: encarteuse piqueuse passe variable | C33: 0.005
B34: encarteuse piqueuse passe fixe | C34: 15 | D34: X | E34: 12
B35: nombre poste
B37: RAINEUSE
B38: raineuse passe variable | C38: 0
B39: passe fixe | C39: 0

Sheet produits en croix
D1: COUVERTURE | V1: Intérieur
D2: Format document client (mm) | V2: Format document client (mm)
D4: =D8+D9*2 -> 216 | E4: =F8+D9*2 -> 303 | F4: NB de poses | G4: Superficie | J4: Nb de pages : | N4: ='Détail du travail'!C9+'Détail du travail'!C8 -> 60 | V4: =V8+V9*2 -> 216 | W4: =X8+V9*2 -> 303 | X4: NB de poses | Y4: Superficie
B5: Format feuille d'impression (mm) | C5: =D10-D11 -> 440 | D5: =QUOTIENT(C5,D4) -> 2 | E5: =QUOTIENT(C5,E4) -> 1 | F5: =D6*E5 -> 2 | G5: =D4*E4*F5 -> 130896 | L5: Pages de couv : | N5: ='Détail du travail'!C8 -> 4 | T5: Format feuille d'impression (mm) | U5: =V10-V11 -> 640 | V5: =QUOTIENT(U5,V4) -> 2 | W5: =QUOTIENT(U5,W4) -> 2 | X5: =V6*W5 -> 8 | Y5: =V4*W4*X5 -> 523584
C6: =F10 -> 640 | D6: =QUOTIENT(C6,D4) -> 2 | E6: =QUOTIENT(C6,E4) -> 2 | F6: =D5*E6 -> 4 | G6: =D4*E4*F6 -> 261792 | H6: =MAX(F5:F6) -> 4 | I6: Poses | K6: Pages Intérieurs : | N6: ='Détail du travail'!C9 -> 56 | U6: =X10 -> 920 | V6: =QUOTIENT(U6,V4) -> 4 | W6: =QUOTIENT(U6,W4) -> 3 | X6: =V5*W6 -> 6 | Y6: =V4*W4*X6 -> 392688 | Z6: =MAX(X5:X6) -> 8 | AA6: Poses
H7: =H6 -> 4 | K7: Cahier couv : | N7: =IF('Détail du travail'!C8=0, 0, 1) -> 1 | Z7: =Z6 -> 8
B8: Format document : | D8: ='Détail du travail'!C3 -> 210 | E8: X | F8: ='Détail du travail'!E3 -> 297 | K8: Cahiers Intérieurs : | N8: =(N6/Z6)/'Détail du travail'!E15 -> 3.5 | O8: = | P8: =ROUNDDOWN(N8,0) -> 3 | Q8: + | R8: =N8-P8 -> 0.5 | T8: Format document : | V8: ='Détail du travail'!C3 -> 210 | W8: X | X8: ='Détail du travail'!E3 -> 297
B9: Débords : | D9: ='Détail du travail'!C6 -> 3 | K9: nb de poses du cahier à Basculer : | N9: =Z6/(N16/'Détail du travail'!E15)*'Détail du travail'!E15 -> 4 | T9: Débords : | V9: ='Détail du travail'!C6 -> 3
B10: Format feuille : | D10: ='Détail du travail'!C12 -> 450 | E10: X | F10: ='Détail du travail'!E12 -> 640 | G10: =D10*F10 -> 288000 | J10: NB de couv à la feuilles : | O10: R° | P10: R°V° | T10: Format feuille : | V10: ='Détail du travail'!C16 -> 650 | W10: X | X10: ='Détail du travail'!E16 -> 920 | Y10: =V10*X10 -> 598000
B11: Pinces : | D11: 10 | O11: 1 | P11: =O11*2 -> 2 | T11: Pinces : | V11: 10
D13: =F10 -> 640 | V13: =X10 -> 920
M14: pages | N14: =N6 -> 56 | O14: p
M15: poses x cahiers | N15: =(Z6*P8)*'Détail du travail'!E15 -> 48 | O15: p
M16: reste | N16: =N14-N15 -> 8 | O16: pages
G20: =F10 -> 640 | Y20: =V10 -> 650

Sheet couv comprise
B4: Raineuse | E4: Passe variable
C5: ='Détail du travail'!C5 -> 30000 | D5: + | E5: ='Détail du travail'!C38 -> 0 | F5: = | G5: =C5*E5+SUM(C5,E5) -> 30000
E6: arrondi | F6: = | G6: =ROUNDUP(G5,0) -> 30000
E8: Passe fixe
D9: + | E9: ='Détail du travail'!C39 -> 0 | F9: = | G9: =SUM(G6,E9) -> 30000
B11: Encarteuse | E11: Passe variable
C12: =G9 -> 30000 | D12: + | E12: ='Détail du travail'!C33 -> 0.005 | F12: = | G12: =C12*E12+SUM(C12,E12) -> 30150.005
E13: arrondi | F13: = | G13: =ROUNDUP(G12,0) -> 30151
E15: Passe fixe
C16: =G12 -> 30150.005 | D16: + | E16: ='Détail du travail'!C34*'Détail du travail'!E34 -> 180 | F16: = | G16: =C16+E16 -> 30330.005
E17: arrondi | F17: = | G17: =ROUNDUP(G16,0) -> 30331
B19: Plieuse | E19: Passe variable
C20: =G9 -> 30000 | D20: + | E20: ='Détail du travail'!C28 -> 0 | F20: = | G20: =C20*E20+SUM(C20,E20) -> 30000
E21: arrondi | F21: = | G21: =ROUNDUP(G20,0) -> 30000
E23: Passe fixe
C24: =G20 -> 30000 | D24: + | E24: ='Détail du travail'!C29*'Détail du travail'!E29 -> 0 | F24: = | G24: =C24+E24 -> 30000
E25: arrondi | F25: = | G25: =ROUNDUP(G24,0) -> 30000
B27: Impression | E27: Passe variable
B28: 1 passage | C28: =G25 -> 30000 | D28: + | E28: ='Détail du travail'!C24 -> 0.03 | F28: = | G28: =C28*E28+SUM(C28,E28) -> 30900.03
E29: arrondi | F29: = | G29: =ROUNDUP(G28,0) -> 30901
E31: Passe fixe
C32: =G29 -> 30901 | D32: + | E32: ='Détail du travail'!C25 -> 150 | F32: = | G32: =C32+E32 -> 31051
E33: arrondi | F33: = | G33: =ROUNDUP(G32,0) -> 31051
E34: Passe variable
B35: 2 passage | C35: =G33 -> 31051 | D35: + | E35: ='Détail du travail'!C24 -> 0.03 | F35: = | G35: =C35*E35+SUM(C35,E35) -> 31982.56
E36: arrondi | F36: = | G36: =ROUNDUP(G35,0) -> 31983
E38: Passe fixe
C39: =G36 -> 31983 | D39: + | E39: ='Détail du travail'!C25 -> 150 | F39: = | G39: =C39+E39 -> 32133
E40: arrondi | F40: = | G40: =ROUNDUP(G39,0) -> 32133
B41: Nb de cahiers | C41: =G40 -> 32133 | D41: X | E41: ='Détail du travail'!C20+'produits en croix'!N7 -> 4 | F41: = | G41: =C41*E41 -> 128532
B42: Nb de tours | F42: = | G42: =G41*2 -> 257064
B44: basculé | E44: Passe variable
B45: 1 passage | C45: =IF('produits en croix'!F33=0, 0, 'Détail du travail'!#REF!) -> 0 | D45: + | E45: =IF(C45=0, 0,'Détail du travail'!#REF!) -> 0 | F45: = | G45: =C45*E45+SUM(C45,E45) -> 0
E46: arrondi | F46: = | G46: =ROUNDUP(G45,0) -> 0
E48: Passe fixe
C49: =G46 -> 0 | D49: + | E49: =IF(C45=0, 0,'Détail du travail'!#REF!) -> 0 | F49: = | G49: =C49+E49 -> 0
E50: arrondi | F50: = | G50: =ROUNDUP(G49,0) -> 0
E51: Passe variable
B52: 2 passage | C52: =G50 -> 0 | D52: + | E52: =IF(C45=0, 0,'Détail du travail'!#REF!) -> 0 | F52: = | G52: =C52*E52+SUM(C52,E52) -> 0
E53: arrondi | F53: = | G53: =ROUNDUP(G52,0) -> 0
...

Sheet couv a part
C2: COUVERTURE | K2: INTERIEUR
B4: Raineuse | E4: Passe variable | J4: Raineuse | M4: Passe variable
C5: ='Détail du travail'!C5 -> 30000 | D5: + | E5: ='Détail du travail'!C38 -> 0 | F5: = | G5: =C5*E5+SUM(C5,E5) -> 30000 | K5: ='Détail du travail'!C5 -> 30000 | L5: + | M5: ='Détail du travail'!C38 -> 0 | N5: = | O5: =K5*M5+SUM(K5,M5) -> 30000
E6: arrondi | F6: = | G6: =ROUNDUP(G5,0) -> 30000 | M6: arrondi | N6: = | O6: =ROUNDUP(O5,0) -> 30000
E8: Passe fixe | M8: Passe fixe
D9: + | E9: ='Détail du travail'!C39 -> 0 | F9: = | G9: =SUM(G6,E9) -> 30000 | L9: + | M9: ='Détail du travail'!C39 -> 0 | N9: = | O9: =SUM(O6,M9) -> 30000
B11: Plieuse | E11: Passe variable | J11: Encarteuse | M11: Passe variable
C12: =G9 -> 30000 | D12: + | E12: ='Détail du travail'!C28 -> 0 | F12: = | G12: =C12*E12+SUM(C12,E12) -> 30000 | K12: =O9 -> 30000 | L12: + | M12: ='Détail du travail'!C33 -> 0.005 | N12: = | O12: =K12*M12+SUM(K12,M12) -> 30150.005
E13: arrondi | F13: = | G13: =ROUNDUP(G12,0) -> 30000 | M13: arrondi | N13: = | O13: =ROUNDUP(O12,0) -> 30151
E15: Passe fixe | M15: Passe fixe
C16: =G12 -> 30000 | D16: + | E16: ='Détail du travail'!C29*'Détail du travail'!E29 -> 0 | F16: = | G16: =C16+E16 -> 30000 | K16: =O12 -> 30150.005 | L16: + | M16: ='Détail du travail'!C34*'Détail du travail'!E34 -> 180 | N16: = | O16: =K16+M16 -> 30330.005
E17: arrondi | F17: = | G17: =ROUNDUP(G16,0) -> 30000 | M17: arrondi | N17: = | O17: =ROUNDUP(O16,0) -> 30331
B19: couverture | E19: Passe variable | J19: Plieuse | M19: Passe variable
B20: 1 passage | C20: =G17/'produits en croix'!H6 -> 7500 | D20: + | E20: ='Détail du travail'!C24 -> 0.03 | F20: = | G20: =C20*E20+SUM(C20,E20) -> 7725.03 | K20: =O9 -> 30000 | L20: + | M20: ='Détail du travail'!C28 -> 0 | N20: = | O20: =K20*M20+SUM(K20,M20) -> 30000
E21: arrondi | F21: = | G21: =ROUNDUP(G20,0) -> 7726 | M21: arrondi | N21: = | O21: =ROUNDUP(O20,0) -> 30000
E23: Passe fixe | M23: Passe fixe
C24: =G21 -> 7726 | D24: + | E24: ='Détail du travail'!C25 -> 150 | F24: = | G24: =C24+E24 -> 7876 | K24: =O20 -> 30000 | L24: + | M24: ='Détail du travail'!C29*'Détail du travail'!E29 -> 0 | N24: = | O24: =K24+M24 -> 30000
E25: arrondi | F25: = | G25: =ROUNDUP(G24,0) -> 7876 | M25: arrondi | N25: = | O25: =ROUNDUP(O24,0) -> 30000
E26: Passe variable
B27: 2 passage | C27: =G25 -> 7876 | D27: + | E27: ='Détail du travail'!C24 -> 0.03 | F27: = | G27: =C27*E27+SUM(C27,E27) -> 8112.31 | J27: interieur | M27: Passe variable
E28: arrondi | F28: = | G28: =ROUNDUP(G27,0) -> 8113 | J28: 1 passage | K28: =O25 -> 30000 | L28: + | M28: ='Détail du travail'!C24 -> 0.03 | N28: = | O28: =K28*M28+SUM(K28,M28) -> 30900.03
M29: arrondi | N29: = | O29: =ROUNDUP(O28,0) -> 30901
E30: Passe fixe
C31: =G28 -> 8113 | D31: + | E31: ='Détail du travail'!C25 -> 150 | F31: = | G31: =C31+E31 -> 8263 | M31: Passe fixe
E32: arrondi | F32: = | G32: =ROUNDUP(G31,0) -> 8263 | K32: =O29 -> 30901 | L32: + | M32: ='Détail du travail'!C25 -> 150 | N32: = | O32: =K32+M32 -> 31051
B33: Nb de tours | F33: = | G33: =G32*2 -> 16526 | M33: arrondi | N33: = | O33: =ROUNDUP(O32,0) -> 31051
M34: Passe variable
J35: 2 passage | K35: =O33 -> 31051 | L35: + | M35: ='Détail du travail'!C24 -> 0.03 | N35: = | O35: =K35*M35+SUM(K35,M35) -> 31982.56
B36: Commande de Paquets de feuille | E36: Nb de feuilles par paquets | M36: arrondi | N36: = | O36: =ROUNDUP(O35,0) -> 31983
C37: =G33 -> 16526 | D37: : | E37: ='Détail du travail'!C21 -> 250 | F37: = | G37: =C37/E37 -> 66.104
E38: arrondi | F38: = | G38: =ROUNDUP(G37,0) -> 67 | M38: Passe fixe
K39: =O36 -> 31983 | L39: + | M39: ='Détail du travail'!C25 -> 150 | N39: = | O39: =K39+M39 -> 32133
M40: arrondi | N40: = | O40: =ROUNDUP(O39,0) -> 32133
J41: Nb de cahiers | K41: =O40 -> 32133 | L41: X | M41: ='Détail du travail'!C20 -> 3 | N41: = | O41: =K41*M41 -> 96399
J42: Nb de tours | N42: = | O42: =O41*2 -> 192798
J44: basculé | M44: Passe variable
J45: 1 passage | K45: =IF('produits en croix'!N9=0, 0, 'Détail du travail'!C5/('produits en croix'!N9*2)) -> 3750 | L45: + | M45: =IF(K45=0, 0,'Détail du travail'!C24) -> 0.03 | N45: = | O45: =K45*M45+SUM(K45,M45) -> 3862.53
M46: arrondi | N46: = | O46: =ROUNDUP(O45,0) -> 3863
M48: Passe fixe
K49: =O46 -> 3863 | L49: + | M49: =IF(K45=0, 0,'Détail du travail'!C25) -> 150 | N49: = | O49: =K49+M49 -> 4013
...

Sheet images
A1: Format d'impression | B1: 1 poses Recto | C1: 2 poses Recto | E1: 4 poses Recto | G1: 6 poses Recto | I1: 8 poses Recto | J1: 9 poses Recto | K1: 10 poses recto | Q1: 16 poses Recto | R1: 17 poses recto | U1: 20p Recto
A3: Ft fini | B3: ft brut | C3: italienne Ft fini | D3: italienne Ft brut | E3: Ft ouvert | F3: Ft ouvert brut | G3: Ft italienne ouvert | H3: Ft italienne ouvert brut
B4: 1 | C4: 2 | D4: 3 | E4: 4 | F4: 5 | G4: 5 | H4: 6 | I4: 7
B5: Ft fini | C5: ft brut | D5: italienne Ft fini | E5: italienne Ft brut | F5: Ft ouvert | G5: Ft ouvert brut | H5: Ft italienne ouvert | I5: Ft italienne ouvert brut

Sheet divers
A1: grammage | C1: Ft impression | G1: Italienne | H1: Française
A2: 70 | C2: 320 | D2: X | E2: 450
A3: 80 | C3: 450 | D3: X | E3: 640
A4: 90 | C4: 510 | D4: X | E4: 720
A5: 100 | C5: 520 | D5: X | E5: 720
A6: 110 | C6: 630 | D6: X | E6: 880
A7: 115 | C7: 640 | D7: X | E7: 900
A8: 120 | C8: 700 | D8: X | E8: 1000
A9: 130 | C9: 700 | D9: X | E9: 1020
A10: 140 | C10: 720 | D10: X | E10: 1020
A11: 150
A12: 160
A13: 170
A14: 180
A15: 190
A16: 200
A17: 210
A18: 220
A19: 230
A20: 240
A21: 250
