Workbook
Name Liste_hauteur: Feuil2!$K$2:$K$10
Name Liste_largeur: Feuil2!$J$2:$J$16

Sheet Feuil1
A1: Société | B1: Fournisseur | C1: Largeur | D1: Hauteur | E1: Couleur | F1: Nature | G1: Type d'ouverture | H1: Prix | I1: Colonne1 | M1: SOMMEPROD((Feuil2!E3:G3=Feuil1!A4)*(Feuil2!C4:C30=C4)*(Feuil2!D4:D30=D4)*Feuil2!E4:G30)
A2: ENT 1 | B2: =VLOOKUP(A2,'Feuil2 (2)'!A1:B3,2,0) -> FOU 1 | C2: 0.6 | D2: 1.05 | E2: RAL 9016 | F2: Aluminium | G2: OAF | H2: {=SUMPRODUCT((Feuil2!F2:H2=Tableau2[[#This Row],[Société]])*(Tableau9[[LARGEUR ]]=Tableau2[[#This Row],[Largeur]])*(Tableau9[LONGUEUR]=Tableau2[[#This Row],[Hauteur]])*Tableau9[[ENT 1]:[ENT 3]])} -> #VALUE! | I2: {=SUMPRODUCT((Feuil2!F2:H2=Tableau2[[#This Row],[Société]])*(Tableau9[[LARGEUR ]]=Tableau2[[#This Row],[Largeur]])*(Tableau9[LONGUEUR]=Tableau2[[#This Row],[Hauteur]])*(Tableau9[COULEUR]=Tableau2[[#This Row],[Couleur]])*(Tableau9[NATURE]=Tableau2[[#This Row],[Nature]])*(Tableau9[TYPE D''OUVERTURE]=Tableau2[Type d''ouverture])*Tableau9[[ENT 1]:[ENT 3]])} -> #VALUE!

Sheet Feuil2
F1: PRIX
A2: LARGEUR | B2: LONGUEUR | C2: COULEUR | D2: NATURE | E2: TYPE D'OUVERTURE | F2: ENT 1 | G2: ENT 2 | H2: ENT 3
A3: =Feuil4!D2 -> 0.4 | B3: =Feuil4!E2 -> 1.05 | C3: =Feuil4!C2 -> RAL 7016 | D3: =Feuil4!A2 -> ALU | E3: =Feuil4!B2 -> OAF | F3: {=_xlfn.IFS(Tableau13[Vérif 1]=1,Tableau13[1 Prix Couleur/PVC/OAF],Tableau13[Vérif 2]=1,Tableau13[2 Prix Blanc/PVC/OAF],Tableau13[Vérif 3]=1,Tableau13[3 Prix Couleur/Aluminium/OAF],Tableau13[Vérif 4]=1,Tableau13[4 Prix Blanc/Aluminium/OAF],Tableau13[Vérif 5]=1,Tableau13[5 Prix Couleur/Aluminium/Coulissant],Tableau13[Vérif 6]=1,Tableau13[6 Prix Blanc/Aluminium/Coulissant],Tableau13[Vérif 7]=1,Tableau13[7 Prix Blanc/PVC/VR],Tableau13[Vérif 8]=1,Tableau13[8 Prix Blanc/Aluminium/VR],Tableau13[Vérif 9]=1,Tableau13[9 Prix Couleur/Aluminium/VR])} -> #VALUE!
A4: =Feuil4!D3 -> 1 | B4: =Feuil4!E3 -> 1.05 | C4: =Feuil4!C3 -> RAL 7016 | D4: =Feuil4!A3 -> ALU | E4: =Feuil4!B3 -> OAF | F4: {=_xlfn.IFS(Tableau13[Vérif 1]=1,Tableau13[1 Prix Couleur/PVC/OAF],Tableau13[Vérif 2]=1,Tableau13[2 Prix Blanc/PVC/OAF],Tableau13[Vérif 3]=1,Tableau13[3 Prix Couleur/Aluminium/OAF],Tableau13[Vérif 4]=1,Tableau13[4 Prix Blanc/Aluminium/OAF],Tableau13[Vérif 5]=1,Tableau13[5 Prix Couleur/Aluminium/Coulissant],Tableau13[Vérif 6]=1,Tableau13[6 Prix Blanc/Aluminium/Coulissant],Tableau13[Vérif 7]=1,Tableau13[7 Prix Blanc/PVC/VR],Tableau13[Vérif 8]=1,Tableau13[8 Prix Blanc/Aluminium/VR],Tableau13[Vérif 9]=1,Tableau13[9 Prix Couleur/Aluminium/VR])} -> #VALUE!
A5: =Feuil4!D4 -> 0.8 | B5: =Feuil4!E4 -> 1 | C5: =Feuil4!C4 -> RAL 7016 | D5: =Feuil4!A4 -> ALU | E5: =Feuil4!B4 -> OAF | F5: {=_xlfn.IFS(Tableau13[Vérif 1]=1,Tableau13[1 Prix Couleur/PVC/OAF],Tableau13[Vérif 2]=1,Tableau13[2 Prix Blanc/PVC/OAF],Tableau13[Vérif 3]=1,Tableau13[3 Prix Couleur/Aluminium/OAF],Tableau13[Vérif 4]=1,Tableau13[4 Prix Blanc/Aluminium/OAF],Tableau13[Vérif 5]=1,Tableau13[5 Prix Couleur/Aluminium/Coulissant],Tableau13[Vérif 6]=1,Tableau13[6 Prix Blanc/Aluminium/Coulissant],Tableau13[Vérif 7]=1,Tableau13[7 Prix Blanc/PVC/VR],Tableau13[Vérif 8]=1,Tableau13[8 Prix Blanc/Aluminium/VR],Tableau13[Vérif 9]=1,Tableau13[9 Prix Couleur/Aluminium/VR])} -> #VALUE!
A6: =Feuil4!D5 -> 0.6 | B6: =Feuil4!E5 -> 2.25 | C6: =Feuil4!C5 -> RAL 7016 | D6: =Feuil4!A5 -> ALU | E6: =Feuil4!B5 -> OAF | F6: {=_xlfn.IFS(Tableau13[Vérif 1]=1,Tableau13[1 Prix Couleur/PVC/OAF],Tableau13[Vérif 2]=1,Tableau13[2 Prix Blanc/PVC/OAF],Tableau13[Vérif 3]=1,Tableau13[3 Prix Couleur/Aluminium/OAF],Tableau13[Vérif 4]=1,Tableau13[4 Prix Blanc/Aluminium/OAF],Tableau13[Vérif 5]=1,Tableau13[5 Prix Couleur/Aluminium/Coulissant],Tableau13[Vérif 6]=1,Tableau13[6 Prix Blanc/Aluminium/Coulissant],Tableau13[Vérif 7]=1,Tableau13[7 Prix Blanc/PVC/VR],Tableau13[Vérif 8]=1,Tableau13[8 Prix Blanc/Aluminium/VR],Tableau13[Vérif 9]=1,Tableau13[9 Prix Couleur/Aluminium/VR])} -> #VALUE!
A7: =Feuil4!D6 -> 0.4 | B7: =Feuil4!E6 -> 2.25 | C7: =Feuil4!C6 -> RAL 7016 | D7: =Feuil4!A6 -> ALU | E7: =Feuil4!B6 -> OAF | F7: {=_xlfn.IFS(Tableau13[Vérif 1]=1,Tableau13[1 Prix Couleur/PVC/OAF],Tableau13[Vérif 2]=1,Tableau13[2 Prix Blanc/PVC/OAF],Tableau13[Vérif 3]=1,Tableau13[3 Prix Couleur/Aluminium/OAF],Tableau13[Vérif 4]=1,Tableau13[4 Prix Blanc/Aluminium/OAF],Tableau13[Vérif 5]=1,Tableau13[5 Prix Couleur/Aluminium/Coulissant],Tableau13[Vérif 6]=1,Tableau13[6 Prix Blanc/Aluminium/Coulissant],Tableau13[Vérif 7]=1,Tableau13[7 Prix Blanc/PVC/VR],Tableau13[Vérif 8]=1,Tableau13[8 Prix Blanc/Aluminium/VR],Tableau13[Vérif 9]=1,Tableau13[9 Prix Couleur/Aluminium/VR])} -> #VALUE!
A8: =Feuil4!D7 -> 0.8 | B8: =Feuil4!E7 -> 2.25 | C8: =Feuil4!C7 -> RAL 7016 | D8: =Feuil4!A7 -> ALU | E8: =Feuil4!B7 -> OAF | F8: {=_xlfn.IFS(Tableau13[Vérif 1]=1,Tableau13[1 Prix Couleur/PVC/OAF],Tableau13[Vérif 2]=1,Tableau13[2 Prix Blanc/PVC/OAF],Tableau13[Vérif 3]=1,Tableau13[3 Prix Couleur/Aluminium/OAF],Tableau13[Vérif 4]=1,Tableau13[4 Prix Blanc/Aluminium/OAF],Tableau13[Vérif 5]=1,Tableau13[5 Prix Couleur/Aluminium/Coulissant],Tableau13[Vérif 6]=1,Tableau13[6 Prix Blanc/Aluminium/Coulissant],Tableau13[Vérif 7]=1,Tableau13[7 Prix Blanc/PVC/VR],Tableau13[Vérif 8]=1,Tableau13[8 Prix Blanc/Aluminium/VR],Tableau13[Vérif 9]=1,Tableau13[9 Prix Couleur/Aluminium/VR])} -> #VALUE! | K8: ici même formule mais le résultat n'y est pas
A9: =Feuil4!D8 -> 0.9 | B9: =Feuil4!E8 -> 2.25 | C9: =Feuil4!C8 -> RAL 7016 | D9: =Feuil4!A8 -> ALU | E9: =Feuil4!B8 -> OAF | F9: {=_xlfn.IFS(Tableau13[Vérif 1]=1,Tableau13[1 Prix Couleur/PVC/OAF],Tableau13[Vérif 2]=1,Tableau13[2 Prix Blanc/PVC/OAF],Tableau13[Vérif 3]=1,Tableau13[3 Prix Couleur/Aluminium/OAF],Tableau13[Vérif 4]=1,Tableau13[4 Prix Blanc/Aluminium/OAF],Tableau13[Vérif 5]=1,Tableau13[5 Prix Couleur/Aluminium/Coulissant],Tableau13[Vérif 6]=1,Tableau13[6 Prix Blanc/Aluminium/Coulissant],Tableau13[Vérif 7]=1,Tableau13[7 Prix Blanc/PVC/VR],Tableau13[Vérif 8]=1,Tableau13[8 Prix Blanc/Aluminium/VR],Tableau13[Vérif 9]=1,Tableau13[9 Prix Couleur/Aluminium/VR])} -> #VALUE!
A10: =Feuil4!D9 -> 0.9 | B10: =Feuil4!E9 -> 2.25 | C10: =Feuil4!C9 -> RAL 7016 | D10: =Feuil4!A9 -> ALU | E10: =Feuil4!B9 -> OAF | F10: {=_xlfn.IFS(Tableau13[Vérif 1]=1,Tableau13[1 Prix Couleur/PVC/OAF],Tableau13[Vérif 2]=1,Tableau13[2 Prix Blanc/PVC/OAF],Tableau13[Vérif 3]=1,Tableau13[3 Prix Couleur/Aluminium/OAF],Tableau13[Vérif 4]=1,Tableau13[4 Prix Blanc/Aluminium/OAF],Tableau13[Vérif 5]=1,Tableau13[5 Prix Couleur/Aluminium/Coulissant],Tableau13[Vérif 6]=1,Tableau13[6 Prix Blanc/Aluminium/Coulissant],Tableau13[Vérif 7]=1,Tableau13[7 Prix Blanc/PVC/VR],Tableau13[Vérif 8]=1,Tableau13[8 Prix Blanc/Aluminium/VR],Tableau13[Vérif 9]=1,Tableau13[9 Prix Couleur/Aluminium/VR])} -> #VALUE!
A11: =Feuil4!D10 -> 1.8 | B11: =Feuil4!E10 -> 2.25 | C11: =Feuil4!C10 -> RAL 7016 | D11: =Feuil4!A10 -> ALU | E11: =Feuil4!B10 -> Coulissant | F11: {=_xlfn.IFS(Tableau13[Vérif 1]=1,Tableau13[1 Prix Couleur/PVC/OAF],Tableau13[Vérif 2]=1,Tableau13[2 Prix Blanc/PVC/OAF],Tableau13[Vérif 3]=1,Tableau13[3 Prix Couleur/Aluminium/OAF],Tableau13[Vérif 4]=1,Tableau13[4 Prix Blanc/Aluminium/OAF],Tableau13[Vérif 5]=1,Tableau13[5 Prix Couleur/Aluminium/Coulissant],Tableau13[Vérif 6]=1,Tableau13[6 Prix Blanc/Aluminium/Coulissant],Tableau13[Vérif 7]=1,Tableau13[7 Prix Blanc/PVC/VR],Tableau13[Vérif 8]=1,Tableau13[8 Prix Blanc/Aluminium/VR],Tableau13[Vérif 9]=1,Tableau13[9 Prix Couleur/Aluminium/VR])} -> #VALUE!
A12: =Feuil4!D11 -> 2.4 | B12: =Feuil4!E11 -> 0.95 | C12: =Feuil4!C11 -> RAL 7016 | D12: =Feuil4!A11 -> ALU | E12: =Feuil4!B11 -> Coulissant | F12: {=_xlfn.IFS(Tableau13[Vérif 1]=1,Tableau13[1 Prix Couleur/PVC/OAF],Tableau13[Vérif 2]=1,Tableau13[2 Prix Blanc/PVC/OAF],Tableau13[Vérif 3]=1,Tableau13[3 Prix Couleur/Aluminium/OAF],Tableau13[Vérif 4]=1,Tableau13[4 Prix Blanc/Aluminium/OAF],Tableau13[Vérif 5]=1,Tableau13[5 Prix Couleur/Aluminium/Coulissant],Tableau13[Vérif 6]=1,Tableau13[6 Prix Blanc/Aluminium/Coulissant],Tableau13[Vérif 7]=1,Tableau13[7 Prix Blanc/PVC/VR],Tableau13[Vérif 8]=1,Tableau13[8 Prix Blanc/Aluminium/VR],Tableau13[Vérif 9]=1,Tableau13[9 Prix Couleur/Aluminium/VR])} -> #VALUE!
A13: =Feuil4!D12 -> 2 | B13: =Feuil4!E12 -> 2.25 | C13: =Feuil4!C12 -> RAL 7016 | D13: =Feuil4!A12 -> ALU | E13: =Feuil4!B12 -> Coulissant | F13: {=_xlfn.IFS(Tableau13[Vérif 1]=1,Tableau13[1 Prix Couleur/PVC/OAF],Tableau13[Vérif 2]=1,Tableau13[2 Prix Blanc/PVC/OAF],Tableau13[Vérif 3]=1,Tableau13[3 Prix Couleur/Aluminium/OAF],Tableau13[Vérif 4]=1,Tableau13[4 Prix Blanc/Aluminium/OAF],Tableau13[Vérif 5]=1,Tableau13[5 Prix Couleur/Aluminium/Coulissant],Tableau13[Vérif 6]=1,Tableau13[6 Prix Blanc/Aluminium/Coulissant],Tableau13[Vérif 7]=1,Tableau13[7 Prix Blanc/PVC/VR],Tableau13[Vérif 8]=1,Tableau13[8 Prix Blanc/Aluminium/VR],Tableau13[Vérif 9]=1,Tableau13[9 Prix Couleur/Aluminium/VR])} -> #VALUE!
A14: =Feuil4!D13 -> 4 | B14: =Feuil4!E13 -> 2.25 | C14: =Feuil4!C13 -> RAL 7016 | D14: =Feuil4!A13 -> ALU | E14: =Feuil4!B13 -> Coulissant | F14: {=_xlfn.IFS(Tableau13[Vérif 1]=1,Tableau13[1 Prix Couleur/PVC/OAF],Tableau13[Vérif 2]=1,Tableau13[2 Prix Blanc/PVC/OAF],Tableau13[Vérif 3]=1,Tableau13[3 Prix Couleur/Aluminium/OAF],Tableau13[Vérif 4]=1,Tableau13[4 Prix Blanc/Aluminium/OAF],Tableau13[Vérif 5]=1,Tableau13[5 Prix Couleur/Aluminium/Coulissant],Tableau13[Vérif 6]=1,Tableau13[6 Prix Blanc/Aluminium/Coulissant],Tableau13[Vérif 7]=1,Tableau13[7 Prix Blanc/PVC/VR],Tableau13[Vérif 8]=1,Tableau13[8 Prix Blanc/Aluminium/VR],Tableau13[Vérif 9]=1,Tableau13[9 Prix Couleur/Aluminium/VR])} -> #VALUE!
A15: =Feuil4!D14 -> 0.6 | B15: =Feuil4!E14 -> 2.25 | C15: =Feuil4!C14 -> RAL 7016 | D15: =Feuil4!A14 -> ALU | E15: =Feuil4!B14 -> VR | F15: {=_xlfn.IFS(Tableau13[Vérif 1]=1,Tableau13[1 Prix Couleur/PVC/OAF],Tableau13[Vérif 2]=1,Tableau13[2 Prix Blanc/PVC/OAF],Tableau13[Vérif 3]=1,Tableau13[3 Prix Couleur/Aluminium/OAF],Tableau13[Vérif 4]=1,Tableau13[4 Prix Blanc/Aluminium/OAF],Tableau13[Vérif 5]=1,Tableau13[5 Prix Couleur/Aluminium/Coulissant],Tableau13[Vérif 6]=1,Tableau13[6 Prix Blanc/Aluminium/Coulissant],Tableau13[Vérif 7]=1,Tableau13[7 Prix Blanc/PVC/VR],Tableau13[Vérif 8]=1,Tableau13[8 Prix Blanc/Aluminium/VR],Tableau13[Vérif 9]=1,Tableau13[9 Prix Couleur/Aluminium/VR])} -> #VALUE!
A16: =Feuil4!D15 -> 0.9 | B16: =Feuil4!E15 -> 2.25 | C16: =Feuil4!C15 -> RAL 7016 | D16: =Feuil4!A15 -> ALU | E16: =Feuil4!B15 -> VR | F16: {=_xlfn.IFS(Tableau13[Vérif 1]=1,Tableau13[1 Prix Couleur/PVC/OAF],Tableau13[Vérif 2]=1,Tableau13[2 Prix Blanc/PVC/OAF],Tableau13[Vérif 3]=1,Tableau13[3 Prix Couleur/Aluminium/OAF],Tableau13[Vérif 4]=1,Tableau13[4 Prix Blanc/Aluminium/OAF],Tableau13[Vérif 5]=1,Tableau13[5 Prix Couleur/Aluminium/Coulissant],Tableau13[Vérif 6]=1,Tableau13[6 Prix Blanc/Aluminium/Coulissant],Tableau13[Vérif 7]=1,Tableau13[7 Prix Blanc/PVC/VR],Tableau13[Vérif 8]=1,Tableau13[8 Prix Blanc/Aluminium/VR],Tableau13[Vérif 9]=1,Tableau13[9 Prix Couleur/Aluminium/VR])} -> #VALUE!
A17: =Feuil4!D16 -> 0.9 | B17: =Feuil4!E16 -> 2.14 | C17: =Feuil4!C16 -> RAL 7016 | D17: =Feuil4!A16 -> ALU | E17: =Feuil4!B16 -> VR | F17: {=_xlfn.IFS(Tableau13[Vérif 1]=1,Tableau13[1 Prix Couleur/PVC/OAF],Tableau13[Vérif 2]=1,Tableau13[2 Prix Blanc/PVC/OAF],Tableau13[Vérif 3]=1,Tableau13[3 Prix Couleur/Aluminium/OAF],Tableau13[Vérif 4]=1,Tableau13[4 Prix Blanc/Aluminium/OAF],Tableau13[Vérif 5]=1,Tableau13[5 Prix Couleur/Aluminium/Coulissant],Tableau13[Vérif 6]=1,Tableau13[6 Prix Blanc/Aluminium/Coulissant],Tableau13[Vérif 7]=1,Tableau13[7 Prix Blanc/PVC/VR],Tableau13[Vérif 8]=1,Tableau13[8 Prix Blanc/Aluminium/VR],Tableau13[Vérif 9]=1,Tableau13[9 Prix Couleur/Aluminium/VR])} -> #VALUE!
A18: =Feuil4!D17 -> 0.8 | B18: =Feuil4!E17 -> 2.25 | C18: =Feuil4!C17 -> RAL 7016 | D18: =Feuil4!A17 -> ALU | E18: =Feuil4!B17 -> VR | F18: {=_xlfn.IFS(Tableau13[Vérif 1]=1,Tableau13[1 Prix Couleur/PVC/OAF],Tableau13[Vérif 2]=1,Tableau13[2 Prix Blanc/PVC/OAF],Tableau13[Vérif 3]=1,Tableau13[3 Prix Couleur/Aluminium/OAF],Tableau13[Vérif 4]=1,Tableau13[4 Prix Blanc/Aluminium/OAF],Tableau13[Vérif 5]=1,Tableau13[5 Prix Couleur/Aluminium/Coulissant],Tableau13[Vérif 6]=1,Tableau13[6 Prix Blanc/Aluminium/Coulissant],Tableau13[Vérif 7]=1,Tableau13[7 Prix Blanc/PVC/VR],Tableau13[Vérif 8]=1,Tableau13[8 Prix Blanc/Aluminium/VR],Tableau13[Vérif 9]=1,Tableau13[9 Prix Couleur/Aluminium/VR])} -> #VALUE!
A19: =Feuil4!D18 -> 2.4 | B19: =Feuil4!E18 -> 0.95 | C19: =Feuil4!C18 -> RAL 7016 | D19: =Feuil4!A18 -> ALU | E19: =Feuil4!B18 -> VR | F19: {=_xlfn.IFS(Tableau13[Vérif 1]=1,Tableau13[1 Prix Couleur/PVC/OAF],Tableau13[Vérif 2]=1,Tableau13[2 Prix Blanc/PVC/OAF],Tableau13[Vérif 3]=1,Tableau13[3 Prix Couleur/Aluminium/OAF],Tableau13[Vérif 4]=1,Tableau13[4 Prix Blanc/Aluminium/OAF],Tableau13[Vérif 5]=1,Tableau13[5 Prix Couleur/Aluminium/Coulissant],Tableau13[Vérif 6]=1,Tableau13[6 Prix Blanc/Aluminium/Coulissant],Tableau13[Vérif 7]=1,Tableau13[7 Prix Blanc/PVC/VR],Tableau13[Vérif 8]=1,Tableau13[8 Prix Blanc/Aluminium/VR],Tableau13[Vérif 9]=1,Tableau13[9 Prix Couleur/Aluminium/VR])} -> #VALUE!
A20: =Feuil4!D19 -> 1.8 | B20: =Feuil4!E19 -> 2.25 | C20: =Feuil4!C19 -> RAL 7016 | D20: =Feuil4!A19 -> ALU | E20: =Feuil4!B19 -> VR | F20: {=_xlfn.IFS(Tableau13[Vérif 1]=1,Tableau13[1 Prix Couleur/PVC/OAF],Tableau13[Vérif 2]=1,Tableau13[2 Prix Blanc/PVC/OAF],Tableau13[Vérif 3]=1,Tableau13[3 Prix Couleur/Aluminium/OAF],Tableau13[Vérif 4]=1,Tableau13[4 Prix Blanc/Aluminium/OAF],Tableau13[Vérif 5]=1,Tableau13[5 Prix Couleur/Aluminium/Coulissant],Tableau13[Vérif 6]=1,Tableau13[6 Prix Blanc/Aluminium/Coulissant],Tableau13[Vérif 7]=1,Tableau13[7 Prix Blanc/PVC/VR],Tableau13[Vérif 8]=1,Tableau13[8 Prix Blanc/Aluminium/VR],Tableau13[Vérif 9]=1,Tableau13[9 Prix Couleur/Aluminium/VR])} -> #VALUE!
... A22: =Feuil4!D21 -> 1.6 | B22: =Feuil4!E21 -> 0.95 | C22: =Feuil4!C21 -> RAL 7016 | D22: =Feuil4!A21 -> ALU | E22: =Feuil4!B21 -> VR | F22: {=_xlfn.IFS(Tableau13[Vérif 1]=1,Tableau13[1 Prix Couleur/PVC/OAF],Tableau13[Vérif 2]=1,Tableau13[2 Prix Blanc/PVC/OAF],Tableau13[Vérif 3]=1,Tableau13[3 Prix Couleur/Aluminium/OAF],Tableau13[Vérif 4]=1,Tableau13[4 Prix Blanc/Aluminium/OAF],Tableau13[Vérif 5]=1,Tableau13[5 Prix Couleur/Aluminium/Coulissant],Tableau13[Vérif 6]=1,Tableau13[6 Prix Blanc/Aluminium/Coulissant],Tableau13[Vérif 7]=1,Tableau13[7 Prix Blanc/PVC/VR],Tableau13[Vérif 8]=1,Tableau13[8 Prix Blanc/Aluminium/VR],Tableau13[Vérif 9]=1,Tableau13[9 Prix Couleur/Aluminium/VR])} -> #VALUE!
G25: {=_xlfn.IFS(Tableau13[Vérif 1]=1,Tableau13[1 Prix Couleur/PVC/OAF],Tableau13[Vérif 2]=1,Tableau13[2 Prix Blanc/PVC/OAF],Tableau13[Vérif 3]=1,Tableau13[3 Prix Couleur/Aluminium/OAF],Tableau13[Vérif 4]=1,Tableau13[4 Prix Blanc/Aluminium/OAF],Tableau13[Vérif 5]=1,Tableau13[5 Prix Couleur/Aluminium/Coulissant],Tableau13[Vérif 6]=1,Tableau13[6 Prix Blanc/Aluminium/Coulissant],Tableau13[Vérif 7]=1,Tableau13[7 Prix Blanc/PVC/VR],Tableau13[Vérif 8]=1,Tableau13[8 Prix Blanc/Aluminium/VR],Tableau13[Vérif 9]=1,Tableau13[9 Prix Couleur/Aluminium/VR])} -> 39
G26: 58
G27: 78
G28: 96
G29: 104
G30: 126
G31: 141
G32: 180
G33: 211
G34: 205
G35: 242
G36: 304
G37: 155
... G44: 234

Sheet Feuil3
A1: largeur | B1: hauteur
A2: 0.4 | B2: 0.65
A3: 0.6 | B3: 0.95
A4: 0.8 | B4: 1.05
A5: 1 | B5: 1.15
A6: 1.2 | B6: 1.25
A7: 1.4 | B7: 1.35
A8: 1.6 | B8: 1.45
A9: 1.8 | B9: 1.55
A10: 2 | B10: 2.15
A11: 2.2 | B11: 2.25
A12: 2.4
A13: 2.6
A14: 2.8
A15: 3
A16: 3.2

Sheet Feuil4
A1: Nature | B1: Type Ouverture | C1: Couleur | D1: Largeur | E1: Hauteur | F1: Prix base | G1: PV couleur (%) ou (€/m2) | H1: Mortaise | I1: Vitrage ARGON | J1: Vitrage 44/2 | K1: Pose VR dans coffre | L1: Poignée | M1: 1 Prix Couleur/PVC/OAF | N1: 2 Prix Blanc/PVC/OAF | O1: 3 Prix Couleur/Aluminium/OAF | P1: 4 Prix Blanc/Aluminium/OAF | Q1: 5 Prix Couleur/Aluminium/Coulissant | R1: 6 Prix Blanc/Aluminium/Coulissant | S1: 7 Prix Blanc/PVC/VR | T1: 8 Prix Blanc/Aluminium/VR | U1: 9 Prix Couleur/Aluminium/VR | V1: Vérif 1 | W1: Vérif 2 | X1: Vérif 3 | Y1: Vérif 4 | Z1: Vérif 5 | AA1: Vérif 6 | AB1: Vérif 7 | AC1: Vérif 8 | AD1: Vérif 9
A2: ALU | B2: OAF | C2: RAL 7016 | D2: 0.4 | E2: 1.05 | F2: 10 | G2: {=SUMPRODUCT(((Tableau4[Nature]=Tableau13[[#This Row],[Nature]])*(Tableau4[Couleur]=Tableau13[[#This Row],[Couleur]])*(_xlfn.IFS(Tableau4[[#Headers],[Coulissant]]=Tableau13[[#This Row],[Type Ouverture]],Tableau4[Coulissant],Tableau4[[#Headers],[OAF]]=Tableau13[[#This Row],[Type Ouverture]],Tableau4[OAF],Tableau4[[#Headers],[Ensemble composé]]=Tableau13[[#This Row],[Type Ouverture]],Tableau4[Ensemble composé],Tableau4[[#Headers],[VR]]=Tableau13[[#This Row],[Type Ouverture]],Tableau4[VR]))))} -> 0.18 | I2: =D2*E2*(6.2+4.3) -> 4.41 | L2: 20 | M2: {=ROUNDUP((_xlfn.IFS(Tableau13[[#This Row],[Vérif 1]]=1,Tableau13[[#This Row],[Prix base]])+(Tableau13[[#This Row],[PV couleur (%) ou (€/m2)]]*Tableau13[[#This Row],[Prix base]])+Tableau13[[#This Row],[Mortaise]]+Tableau13[[#This Row],[Vitrage ARGON]]+Tableau13[[#This Row],[Vitrage 44/2]]+Tableau13[[#This Row],[Pose VR dans coffre]]+Tableau13[[#This Row],[Poignée]])*1.05,0)} -> #N/A | N2: {=ROUNDUP((_xlfn.IFS(Tableau13[[#This Row],[Vérif 2]]=1,Tableau13[[#This Row],[Prix base]])+(Tableau13[[#This Row],[PV couleur (%) ou (€/m2)]]*Tableau13[[#This Row],[Prix base]])+Tableau13[[#This Row],[Mortaise]]+Tableau13[[#This Row],[Vitrage ARGON]]+Tableau13[[#This Row],[Vitrage 44/2]]+Tableau13[[#This Row],[Pose VR dans coffre]]+Tableau13[[#This Row],[Poignée]])*1.05,0)} -> #N/A | O2: {=ROUNDUP((_xlfn.IFS(Tableau13[[#This Row],[Vérif 3]]=1,Tableau13[[#This Row],[Prix base]])+(Tableau13[[#This Row],[PV couleur (%) ou (€/m2)]]*Tableau13[[#This Row],[Prix base]])+Tableau13[[#This Row],[Mortaise]]+Tableau13[[#This Row],[Vitrage ARGON]]+Tableau13[[#This Row],[Vitrage 44/2]]+Tableau13[[#This Row],[Pose VR dans coffre]]+Tableau13[[#This Row],[Poignée]])*1.05,0)} -> 39 | P2: {=ROUNDUP((_xlfn.IFS(Tableau13[[#This Row],[Vérif 4]]=1,Tableau13[[#This Row],[Prix base]])+(Tableau13[[#This Row],[PV couleur (%) ou (€/m2)]]*Tableau13[[#This Row],[Prix base]])+Tableau13[[#This Row],[Mortaise]]+Tableau13[[#This Row],[Vitrage ARGON]]+Tableau13[[#This Row],[Vitrage 44/2]]+Tableau13[[#This Row],[Pose VR dans coffre]]+Tableau13[[#This Row],[Poignée]])*1.05,0)} -> #N/A | Q2: {=ROUNDUP((_xlfn.IFS(Tableau13[[#This Row],[Vérif 5]]=1,Tableau13[[#This Row],[Prix base]])+(Tableau13[[#This Row],[PV couleur (%) ou (€/m2)]]*Tableau13[[#This Row],[Prix base]])+Tableau13[[#This Row],[Mortaise]]+Tableau13[[#This Row],[Vitrage ARGON]]+Tableau13[[#This Row],[Vitrage 44/2]]+Tableau13[[#This Row],[Pose VR dans coffre]]+Tableau13[[#This Row],[Poignée]])*1.05,0)} -> #N/A | R2: {=ROUNDUP((_xlfn.IFS(Tableau13[[#This Row],[Vérif 6]]=1,Tableau13[[#This Row],[Prix base]])+(Tableau13[[#This Row],[PV couleur (%) ou (€/m2)]]*Tableau13[[#This Row],[Prix base]])+Tableau13[[#This Row],[Mortaise]]+Tableau13[[#This Row],[Vitrage ARGON]]+Tableau13[[#This Row],[Vitrage 44/2]]+Tableau13[[#This Row],[Pose VR dans coffre]]+Tableau13[[#This Row],[Poignée]])*1.05,0)} -> #N/A | S2: {=ROUNDUP((_xlfn.IFS(Tableau13[[#This Row],[Vérif 7]]=1,Tableau13[[#This Row],[Prix base]])+(Tableau13[[#This Row],[PV couleur (%) ou (€/m2)]]*Tableau13[[#This Row],[Largeur]]*Tableau13[[#This Row],[Hauteur]])+Tableau13[[#This Row],[Mortaise]]+Tableau13[[#This Row],[Vitrage ARGON]]+Tableau13[[#This Row],[Vitrage 44/2]]+Tableau13[[#This Row],[Pose VR dans coffre]]+Tableau13[[#This Row],[Poignée]])*1.05,0)} -> #N/A | T2: {=ROUNDUP((_xlfn.IFS(Tableau13[[#This Row],[Vérif 8]]=1,Tableau13[[#This Row],[Prix base]])+(Tableau13[[#This Row],[PV couleur (%) ou (€/m2)]]*Tableau13[[#This Row],[Largeur]]*Tableau13[[#This Row],[Hauteur]])+Tableau13[[#This Row],[Mortaise]]+Tableau13[[#This Row],[Vitrage ARGON]]+Tableau13[[#This Row],[Vitrage 44/2]]+Tableau13[[#This Row],[Pose VR dans coffre]]+Tableau13[[#This Row],[Poignée]])*1.05,0)} -> #N/A | U2: {=ROUNDUP((_xlfn.IFS(Tableau13[[#This Row],[Vérif 9]]=1,Tableau13[[#This Row],[Prix base]])+(Tableau13[[#This Row],[PV couleur (%) ou (€/m2)]]*Tableau13[[#This Row],[Largeur]]*Tableau13[[#This Row],[Hauteur]])+Tableau13[[#This Row],[Mortaise]]+Tableau13[[#This Row],[Vitrage ARGON]]+Tableau13[[#This Row],[Vitrage 44/2]]+Tableau13[[#This Row],[Pose VR dans coffre]]+Tableau13[[#This Row],[Poignée]])*1.05,0)} -> #N/A | V2: {=SUMPRODUCT((Tableau13[Nature]="pvc")*(Tableau13[Type Ouverture]="OAF")*(Tableau13[Couleur]<>"RAL 9016")*(Tableau13[Largeur]=Tableau13[[#This Row],[Largeur]])*(Tableau13[Hauteur]=Tableau13[[#This Row],[Hauteur]])*(Tableau13[Prix base]=Tableau13[[#This Row],[Prix base]]))} -> 0 | W2: {=SUMPRODUCT((Tableau13[Nature]="pvc")*(Tableau13[Type Ouverture]="OAF")*(Tableau13[Couleur]="RAL 9016")*(Tableau13[Largeur]=Tableau13[[#This Row],[Largeur]])*(Tableau13[Hauteur]=Tableau13[[#This Row],[Hauteur]])*(Tableau13[Prix base]=Tableau13[[#This Row],[Prix base]]))} -> 0 | X2: {=SUMPRODUCT((Tableau13[Nature]="alu")*(Tableau13[Type Ouverture]="OAF")*(Tableau13[Couleur]<>"RAL 9016")*(Tableau13[Largeur]=Tableau13[[#This Row],[Largeur]])*(Tableau13[Hauteur]=Tableau13[[#This Row],[Hauteur]])*(Tableau13[Prix base]=Tableau13[[#This Row],[Prix base]]))} -> 1 | Y2: {=SUMPRODUCT((Tableau13[Nature]="alu")*(Tableau13[Type Ouverture]="OAF")*(Tableau13[Couleur]="RAL 9016")*(Tableau13[Largeur]=Tableau13[[#This Row],[Largeur]])*(Tableau13[Hauteur]=Tableau13[[#This Row],[Hauteur]])*(Tableau13[Prix base]=Tableau13[[#This Row],[Prix base]]))} -> 0 | Z2: {=SUMPRODUCT((Tableau13[Nature]="alu")*(Tableau13[Type Ouverture]="coulissant")*(Tableau13[Couleur]<>"RAL 9016")*(Tableau13[Largeur]=Tableau13[[#This Row],[Largeur]])*(Tableau13[Hauteur]=Tableau13[[#This Row],[Hauteur]])*(Tableau13[Prix base]=Tableau13[[#This Row],[Prix base]]))} -> 0 | AA2: {=SUMPRODUCT((Tableau13[Nature]="alu")*(Tableau13[Type Ouverture]="coulissant")*(Tableau13[Couleur]="RAL 9016")*(Tableau13[Largeur]=Tableau13[[#This Row],[Largeur]])*(Tableau13[Hauteur]=Tableau13[[#This Row],[Hauteur]])*(Tableau13[Prix base]=Tableau13[[#This Row],[Prix base]]))} -> 0 | AB2: {=SUMPRODUCT((Tableau13[Nature]="pvc")*(Tableau13[Type Ouverture]="vr")*(Tableau13[Couleur]="RAL 9016")*(Tableau13[Largeur]=Tableau13[[#This Row],[Largeur]])*(Tableau13[Hauteur]=Tableau13[[#This Row],[Hauteur]])*(Tableau13[Prix base]=Tableau13[[#This Row],[Prix base]]))} -> 0 | AC2: {=SUMPRODUCT((Tableau13[Nature]="alu")*(Tableau13[Type Ouverture]="vr")*(Tableau13[Couleur]="RAL 9016")*(Tableau13[Largeur]=Tableau13[[#This Row],[Largeur]])*(Tableau13[Hauteur]=Tableau13[[#This Row],[Hauteur]])*(Tableau13[Prix base]=Tableau13[[#This Row],[Prix base]]))} -> 0 | AD2: {=SUMPRODUCT((Tableau13[Nature]="alu")*(Tableau13[Type Ouverture]="vr")*(Tableau13[Couleur]<>"RAL 9016")*(Tableau13[Largeur]=Tableau13[[#This Row],[Largeur]])*(Tableau13[Hauteur]=Tableau13[[#This Row],[Hauteur]])*(Tableau13[Prix base]=Tableau13[[#This Row],[Prix base]]))} -> 0
A3: ALU | B3: OAF | C3: RAL 7016 | D3: 1 | E3: 1.05 | F3: 20 | G3: {=SUMPRODUCT(((Tableau4[Nature]=Tableau13[[#This Row],[Nature]])*(Tableau4[Couleur]=Tableau13[[#This Row],[Couleur]])*(_xlfn.IFS(Tableau4[[#Headers],[Coulissant]]=Tableau13[[#This Row],[Type Ouverture]],Tableau4[Coulissant],Tableau4[[#Headers],[OAF]]=Tableau13[[#This Row],[Type Ouverture]],Tableau4[OAF],Tableau4[[#Headers],[Ensemble composé]]=Tableau13[[#This Row],[Type Ouverture]],Tableau4[Ensemble composé],Tableau4[[#Headers],[VR]]=Tableau13[[#This Row],[Type Ouverture]],Tableau4[VR]))))} -> 0.18 | I3: =D3*E3*(6.2+4.3) -> 11.025 | L3: 20 | M3: {=ROUNDUP((_xlfn.IFS(Tableau13[[#This Row],[Vérif 1]]=1,Tableau13[[#This Row],[Prix base]])+(Tableau13[[#This Row],[PV couleur (%) ou (€/m2)]]*Tableau13[[#This Row],[Prix base]])+Tableau13[[#This Row],[Mortaise]]+Tableau13[[#This Row],[Vitrage ARGON]]+Tableau13[[#This Row],[Vitrage 44/2]]+Tableau13[[#This Row],[Pose VR dans coffre]]+Tableau13[[#This Row],[Poignée]])*1.05,0)} -> #N/A | N3: {=ROUNDUP((_xlfn.IFS(Tableau13[[#This Row],[Vérif 2]]=1,Tableau13[[#This Row],[Prix base]])+(Tableau13[[#This Row],[PV couleur (%) ou (€/m2)]]*Tableau13[[#This Row],[Prix base]])+Tableau13[[#This Row],[Mortaise]]+Tableau13[[#This Row],[Vitrage ARGON]]+Tableau13[[#This Row],[Vitrage 44/2]]+Tableau13[[#This Row],[Pose VR dans coffre]]+Tableau13[[#This Row],[Poignée]])*1.05,0)} -> #N/A | O3: {=ROUNDUP((_xlfn.IFS(Tableau13[[#This Row],[Vérif 3]]=1,Tableau13[[#This Row],[Prix base]])+(Tableau13[[#This Row],[PV couleur (%) ou (€/m2)]]*Tableau13[[#This Row],[Prix base]])+Tableau13[[#This Row],[Mortaise]]+Tableau13[[#This Row],[Vitrage ARGON]]+Tableau13[[#This Row],[Vitrage 44/2]]+Tableau13[[#This Row],[Pose VR dans coffre]]+Tableau13[[#This Row],[Poignée]])*1.05,0)} -> 58 | P3: {=ROUNDUP((_xlfn.IFS(Tableau13[[#This Row],[Vérif 4]]=1,Tableau13[[#This Row],[Prix base]])+(Tableau13[[#This Row],[PV couleur (%) ou (€/m2)]]*Tableau13[[#This Row],[Prix base]])+Tableau13[[#This Row],[Mortaise]]+Tableau13[[#This Row],[Vitrage ARGON]]+Tableau13[[#This Row],[Vitrage 44/2]]+Tableau13[[#This Row],[Pose VR dans coffre]]+Tableau13[[#This Row],[Poignée]])*1.05,0)} -> #N/A | Q3: {=ROUNDUP((_xlfn.IFS(Tableau13[[#This Row],[Vérif 5]]=1,Tableau13[[#This Row],[Prix base]])+(Tableau13[[#This Row],[PV couleur (%) ou (€/m2)]]*Tableau13[[#This Row],[Prix base]])+Tableau13[[#This Row],[Mortaise]]+Tableau13[[#This Row],[Vitrage ARGON]]+Tableau13[[#This Row],[Vitrage 44/2]]+Tableau13[[#This Row],[Pose VR dans coffre]]+Tableau13[[#This Row],[Poignée]])*1.05,0)} -> #N/A | R3: {=ROUNDUP((_xlfn.IFS(Tableau13[[#This Row],[Vérif 6]]=1,Tableau13[[#This Row],[Prix base]])+(Tableau13[[#This Row],[PV couleur (%) ou (€/m2)]]*Tableau13[[#This Row],[Prix base]])+Tableau13[[#This Row],[Mortaise]]+Tableau13[[#This Row],[Vitrage ARGON]]+Tableau13[[#This Row],[Vitrage 44/2]]+Tableau13[[#This Row],[Pose VR dans coffre]]+Tableau13[[#This Row],[Poignée]])*1.05,0)} -> #N/A | S3: {=ROUNDUP((_xlfn.IFS(Tableau13[[#This Row],[Vérif 7]]=1,Tableau13[[#This Row],[Prix base]])+(Tableau13[[#This Row],[PV couleur (%) ou (€/m2)]]*Tableau13[[#This Row],[Largeur]]*Tableau13[[#This Row],[Hauteur]])+Tableau13[[#This Row],[Mortaise]]+Tableau13[[#This Row],[Vitrage ARGON]]+Tableau13[[#This Row],[Vitrage 44/2]]+Tableau13[[#This Row],[Pose VR dans coffre]]+Tableau13[[#This Row],[Poignée]])*1.05,0)} -> #N/A | T3: {=ROUNDUP((_xlfn.IFS(Tableau13[[#This Row],[Vérif 8]]=1,Tableau13[[#This Row],[Prix base]])+(Tableau13[[#This Row],[PV couleur (%) ou (€/m2)]]*Tableau13[[#This Row],[Largeur]]*Tableau13[[#This Row],[Hauteur]])+Tableau13[[#This Row],[Mortaise]]+Tableau13[[#This Row],[Vitrage ARGON]]+Tableau13[[#This Row],[Vitrage 44/2]]+Tableau13[[#This Row],[Pose VR dans coffre]]+Tableau13[[#This Row],[Poignée]])*1.05,0)} -> #N/A | U3: {=ROUNDUP((_xlfn.IFS(Tableau13[[#This Row],[Vérif 9]]=1,Tableau13[[#This Row],[Prix base]])+(Tableau13[[#This Row],[PV couleur (%) ou (€/m2)]]*Tableau13[[#This Row],[Largeur]]*Tableau13[[#This Row],[Hauteur]])+Tableau13[[#This Row],[Mortaise]]+Tableau13[[#This Row],[Vitrage ARGON]]+Tableau13[[#This Row],[Vitrage 44/2]]+Tableau13[[#This Row],[Pose VR dans coffre]]+Tableau13[[#This Row],[Poignée]])*1.05,0)} -> #N/A | V3: {=SUMPRODUCT((Tableau13[Nature]="pvc")*(Tableau13[Type Ouverture]="OAF")*(Tableau13[Couleur]<>"RAL 9016")*(Tableau13[Largeur]=Tableau13[[#This Row],[Largeur]])*(Tableau13[Hauteur]=Tableau13[[#This Row],[Hauteur]])*(Tableau13[Prix base]=Tableau13[[#This Row],[Prix base]]))} -> 0 | W3: {=SUMPRODUCT((Tableau13[Nature]="pvc")*(Tableau13[Type Ouverture]="OAF")*(Tableau13[Couleur]="RAL 9016")*(Tableau13[Largeur]=Tableau13[[#This Row],[Largeur]])*(Tableau13[Hauteur]=Tableau13[[#This Row],[Hauteur]])*(Tableau13[Prix base]=Tableau13[[#This Row],[Prix base]]))} -> 0 | X3: {=SUMPRODUCT((Tableau13[Nature]="alu")*(Tableau13[Type Ouverture]="OAF")*(Tableau13[Couleur]<>"RAL 9016")*(Tableau13[Largeur]=Tableau13[[#This Row],[Largeur]])*(Tableau13[Hauteur]=Tableau13[[#This Row],[Hauteur]])*(Tableau13[Prix base]=Tableau13[[#This Row],[Prix base]]))} -> 1 | Y3: {=SUMPRODUCT((Tableau13[Nature]="alu")*(Tableau13[Type Ouverture]="OAF")*(Tableau13[Couleur]="RAL 9016")*(Tableau13[Largeur]=Tableau13[[#This Row],[Largeur]])*(Tableau13[Hauteur]=Tableau13[[#This Row],[Hauteur]])*(Tableau13[Prix base]=Tableau13[[#This Row],[Prix base]]))} -> 0 | Z3: {=SUMPRODUCT((Tableau13[Nature]="alu")*(Tableau13[Type Ouverture]="coulissant")*(Tableau13[Couleur]<>"RAL 9016")*(Tableau13[Largeur]=Tableau13[[#This Row],[Largeur]])*(Tableau13[Hauteur]=Tableau13[[#This Row],[Hauteur]])*(Tableau13[Prix base]=Tableau13[[#This Row],[Prix base]]))} -> 0 | AA3: {=SUMPRODUCT((Tableau13[Nature]="alu")*(Tableau13[Type Ouverture]="coulissant")*(Tableau13[Couleur]="RAL 9016")*(Tableau13[Largeur]=Tableau13[[#This Row],[Largeur]])*(Tableau13[Hauteur]=Tableau13[[#This Row],[Hauteur]])*(Tableau13[Prix base]=Tableau13[[#This Row],[Prix base]]))} -> 0 | AB3: {=SUMPRODUCT((Tableau13[Nature]="pvc")*(Tableau13[Type Ouverture]="vr")*(Tableau13[Couleur]="RAL 9016")*(Tableau13[Largeur]=Tableau13[[#This Row],[Largeur]])*(Tableau13[Hauteur]=Tableau13[[#This Row],[Hauteur]])*(Tableau13[Prix base]=Tableau13[[#This Row],[Prix base]]))} -> 0 | AC3: {=SUMPRODUCT((Tableau13[Nature]="alu")*(Tableau13[Type Ouverture]="vr")*(Tableau13[Couleur]="RAL 9016")*(Tableau13[Largeur]=Tableau13[[#This Row],[Largeur]])*(Tableau13[Hauteur]=Tableau13[[#This Row],[Hauteur]])*(Tableau13[Prix base]=Tableau13[[#This Row],[Prix base]]))} -> 0 | AD3: {=SUMPRODUCT((Tableau13[Nature]="alu")*(Tableau13[Type Ouverture]="vr")*(Tableau13[Couleur]<>"RAL 9016")*(Tableau13[Largeur]=Tableau13[[#This Row],[Largeur]])*(Tableau13[Hauteur]=Tableau13[[#This Row],[Hauteur]])*(Tableau13[Prix base]=Tableau13[[#This Row],[Prix base]]))} -> 0
A4: ALU | B4: OAF | C4: RAL 7016 | D4: 0.8 | E4: 1 | F4: 30 | G4: {=SUMPRODUCT(((Tableau4[Nature]=Tableau13[[#This Row],[Nature]])*(Tableau4[Couleur]=Tableau13[[#This Row],[Couleur]])*(_xlfn.IFS(Tableau4[[#Headers],[Coulissant]]=Tableau13[[#This Row],[Type Ouverture]],Tableau4[Coulissant],Tableau4[[#Headers],[OAF]]=Tableau13[[#This Row],[Type Ouverture]],Tableau4[OAF],Tableau4[[#Headers],[Ensemble composé]]=Tableau13[[#This Row],[Type Ouverture]],Tableau4[Ensemble composé],Tableau4[[#Headers],[VR]]=Tableau13[[#This Row],[Type Ouverture]],Tableau4[VR]))))} -> 0.18 | H4: 30 | I4: =D4*E4*(6.2+4.3) -> 8.4 | M4: {=ROUNDUP((_xlfn.IFS(Tableau13[[#This Row],[Vérif 1]]=1,Tableau13[[#This Row],[Prix base]])+(Tableau13[[#This Row],[PV couleur (%) ou (€/m2)]]*Tableau13[[#This Row],[Prix base]])+Tableau13[[#This Row],[Mortaise]]+Tableau13[[#This Row],[Vitrage ARGON]]+Tableau13[[#This Row],[Vitrage 44/2]]+Tableau13[[#This Row],[Pose VR dans coffre]]+Tableau13[[#This Row],[Poignée]])*1.05,0)} -> #N/A | N4: {=ROUNDUP((_xlfn.IFS(Tableau13[[#This Row],[Vérif 2]]=1,Tableau13[[#This Row],[Prix base]])+(Tableau13[[#This Row],[PV couleur (%) ou (€/m2)]]*Tableau13[[#This Row],[Prix base]])+Tableau13[[#This Row],[Mortaise]]+Tableau13[[#This Row],[Vitrage ARGON]]+Tableau13[[#This Row],[Vitrage 44/2]]+Tableau13[[#This Row],[Pose VR dans coffre]]+Tableau13[[#This Row],[Poignée]])*1.05,0)} -> #N/A | O4: {=ROUNDUP((_xlfn.IFS(Tableau13[[#This Row],[Vérif 3]]=1,Tableau13[[#This Row],[Prix base]])+(Tableau13[[#This Row],[PV couleur (%) ou (€/m2)]]*Tableau13[[#This Row],[Prix base]])+Tableau13[[#This Row],[Mortaise]]+Tableau13[[#This Row],[Vitrage ARGON]]+Tableau13[[#This Row],[Vitrage 44/2]]+Tableau13[[#This Row],[Pose VR dans coffre]]+Tableau13[[#This Row],[Poignée]])*1.05,0)} -> 78 | P4: {=ROUNDUP((_xlfn.IFS(Tableau13[[#This Row],[Vérif 4]]=1,Tableau13[[#This Row],[Prix base]])+(Tableau13[[#This Row],[PV couleur (%) ou (€/m2)]]*Tableau13[[#This Row],[Prix base]])+Tableau13[[#This Row],[Mortaise]]+Tableau13[[#This Row],[Vitrage ARGON]]+Tableau13[[#This Row],[Vitrage 44/2]]+Tableau13[[#This Row],[Pose VR dans coffre]]+Tableau13[[#This Row],[Poignée]])*1.05,0)} -> #N/A | Q4: {=ROUNDUP((_xlfn.IFS(Tableau13[[#This Row],[Vérif 5]]=1,Tableau13[[#This Row],[Prix base]])+(Tableau13[[#This Row],[PV couleur (%) ou (€/m2)]]*Tableau13[[#This Row],[Prix base]])+Tableau13[[#This Row],[Mortaise]]+Tableau13[[#This Row],[Vitrage ARGON]]+Tableau13[[#This Row],[Vitrage 44/2]]+Tableau13[[#This Row],[Pose VR dans coffre]]+Tableau13[[#This Row],[Poignée]])*1.05,0)} -> #N/A | R4: {=ROUNDUP((_xlfn.IFS(Tableau13[[#This Row],[Vérif 6]]=1,Tableau13[[#This Row],[Prix base]])+(Tableau13[[#This Row],[PV couleur (%) ou (€/m2)]]*Tableau13[[#This Row],[Prix base]])+Tableau13[[#This Row],[Mortaise]]+Tableau13[[#This Row],[Vitrage ARGON]]+Tableau13[[#This Row],[Vitrage 44/2]]+Tableau13[[#This Row],[Pose VR dans coffre]]+Tableau13[[#This Row],[Poignée]])*1.05,0)} -> #N/A | S4: {=ROUNDUP((_xlfn.IFS(Tableau13[[#This Row],[Vérif 7]]=1,Tableau13[[#This Row],[Prix base]])+(Tableau13[[#This Row],[PV couleur (%) ou (€/m2)]]*Tableau13[[#This Row],[Largeur]]*Tableau13[[#This Row],[Hauteur]])+Tableau13[[#This Row],[Mortaise]]+Tableau13[[#This Row],[Vitrage ARGON]]+Tableau13[[#This Row],[Vitrage 44/2]]+Tableau13[[#This Row],[Pose VR dans coffre]]+Tableau13[[#This Row],[Poignée]])*1.05,0)} -> #N/A | T4: {=ROUNDUP((_xlfn.IFS(Tableau13[[#This Row],[Vérif 8]]=1,Tableau13[[#This Row],[Prix base]])+(Tableau13[[#This Row],[PV couleur (%) ou (€/m2)]]*Tableau13[[#This Row],[Largeur]]*Tableau13[[#This Row],[Hauteur]])+Tableau13[[#This Row],[Mortaise]]+Tableau13[[#This Row],[Vitrage ARGON]]+Tableau13[[#This Row],[Vitrage 44/2]]+Tableau13[[#This Row],[Pose VR dans coffre]]+Tableau13[[#This Row],[Poignée]])*1.05,0)} -> #N/A | U4: {=ROUNDUP((_xlfn.IFS(Tableau13[[#This Row],[Vérif 9]]=1,Tableau13[[#This Row],[Prix base]])+(Tableau13[[#This Row],[PV couleur (%) ou (€/m2)]]*Tableau13[[#This Row],[Largeur]]*Tableau13[[#This Row],[Hauteur]])+Tableau13[[#This Row],[Mortaise]]+Tableau13[[#This Row],[Vitrage ARGON]]+Tableau13[[#This Row],[Vitrage 44/2]]+Tableau13[[#This Row],[Pose VR dans coffre]]+Tableau13[[#This Row],[Poignée]])*1.05,0)} -> #N/A | V4: {=SUMPRODUCT((Tableau13[Nature]="pvc")*(Tableau13[Type Ouverture]="OAF")*(Tableau13[Couleur]<>"RAL 9016")*(Tableau13[Largeur]=Tableau13[[#This Row],[Largeur]])*(Tableau13[Hauteur]=Tableau13[[#This Row],[Hauteur]])*(Tableau13[Prix base]=Tableau13[[#This Row],[Prix base]]))} -> 0 | W4: {=SUMPRODUCT((Tableau13[Nature]="pvc")*(Tableau13[Type Ouverture]="OAF")*(Tableau13[Couleur]="RAL 9016")*(Tableau13[Largeur]=Tableau13[[#This Row],[Largeur]])*(Tableau13[Hauteur]=Tableau13[[#This Row],[Hauteur]])*(Tableau13[Prix base]=Tableau13[[#This Row],[Prix base]]))} -> 0 | X4: {=SUMPRODUCT((Tableau13[Nature]="alu")*(Tableau13[Type Ouverture]="OAF")*(Tableau13[Couleur]<>"RAL 9016")*(Tableau13[Largeur]=Tableau13[[#This Row],[Largeur]])*(Tableau13[Hauteur]=Tableau13[[#This Row],[Hauteur]])*(Tableau13[Prix base]=Tableau13[[#This Row],[Prix base]]))} -> 1 | Y4: {=SUMPRODUCT((Tableau13[Nature]="alu")*(Tableau13[Type Ouverture]="OAF")*(Tableau13[Couleur]="RAL 9016")*(Tableau13[Largeur]=Tableau13[[#This Row],[Largeur]])*(Tableau13[Hauteur]=Tableau13[[#This Row],[Hauteur]])*(Tableau13[Prix base]=Tableau13[[#This Row],[Prix base]]))} -> 0 | Z4: {=SUMPRODUCT((Tableau13[Nature]="alu")*(Tableau13[Type Ouverture]="coulissant")*(Tableau13[Couleur]<>"RAL 9016")*(Tableau13[Largeur]=Tableau13[[#This Row],[Largeur]])*(Tableau13[Hauteur]=Tableau13[[#This Row],[Hauteur]])*(Tableau13[Prix base]=Tableau13[[#This Row],[Prix base]]))} -> 0 | AA4: {=SUMPRODUCT((Tableau13[Nature]="alu")*(Tableau13[Type Ouverture]="coulissant")*(Tableau13[Couleur]="RAL 9016")*(Tableau13[Largeur]=Tableau13[[#This Row],[Largeur]])*(Tableau13[Hauteur]=Tableau13[[#This Row],[Hauteur]])*(Tableau13[Prix base]=Tableau13[[#This Row],[Prix base]]))} -> 0 | AB4: {=SUMPRODUCT((Tableau13[Nature]="pvc")*(Tableau13[Type Ouverture]="vr")*(Tableau13[Couleur]="RAL 9016")*(Tableau13[Largeur]=Tableau13[[#This Row],[Largeur]])*(Tableau13[Hauteur]=Tableau13[[#This Row],[Hauteur]])*(Tableau13[Prix base]=Tableau13[[#This Row],[Prix base]]))} -> 0 | AC4: {=SUMPRODUCT((Tableau13[Nature]="alu")*(Tableau13[Type Ouverture]="vr")*(Tableau13[Couleur]="RAL 9016")*(Tableau13[Largeur]=Tableau13[[#This Row],[Largeur]])*(Tableau13[Hauteur]=Tableau13[[#This Row],[Hauteur]])*(Tableau13[Prix base]=Tableau13[[#This Row],[Prix base]]))} -> 0 | AD4: {=SUMPRODUCT((Tableau13[Nature]="alu")*(Tableau13[Type Ouverture]="vr")*(Tableau13[Couleur]<>"RAL 9016")*(Tableau13[Largeur]=Tableau13[[#This Row],[Largeur]])*(Tableau13[Hauteur]=Tableau13[[#This Row],[Hauteur]])*(Tableau13[Prix base]=Tableau13[[#This Row],[Prix base]]))} -> 0
A5: ALU | B5: OAF | C5: RAL 7016 | D5: 0.6 | E5: 2.25 | F5: 40 | G5: {=SUMPRODUCT(((Tableau4[Nature]=Tableau13[[#This Row],[Nature]])*(Tableau4[Couleur]=Tableau13[[#This Row],[Couleur]])*(_xlfn.IFS(Tableau4[[#Headers],[Coulissant]]=Tableau13[[#This Row],[Type Ouverture]],Tableau4[Coulissant],Tableau4[[#Headers],[OAF]]=Tableau13[[#This Row],[Type Ouverture]],Tableau4[OAF],Tableau4[[#Headers],[Ensemble composé]]=Tableau13[[#This Row],[Type Ouverture]],Tableau4[Ensemble composé],Tableau4[[#Headers],[VR]]=Tableau13[[#This Row],[Type Ouverture]],Tableau4[VR]))))} -> 0.18 | H5: 30 | I5: =D5*E5*(6.2+4.3) -> 14.175 | M5: {=ROUNDUP((_xlfn.IFS(Tableau13[[#This Row],[Vérif 1]]=1,Tableau13[[#This Row],[Prix base]])+(Tableau13[[#This Row],[PV couleur (%) ou (€/m2)]]*Tableau13[[#This Row],[Prix base]])+Tableau13[[#This Row],[Mortaise]]+Tableau13[[#This Row],[Vitrage ARGON]]+Tableau13[[#This Row],[Vitrage 44/2]]+Tableau13[[#This Row],[Pose VR dans coffre]]+Tableau13[[#This Row],[Poignée]])*1.05,0)} -> #N/A | N5: {=ROUNDUP((_xlfn.IFS(Tableau13[[#This Row],[Vérif 2]]=1,Tableau13[[#This Row],[Prix base]])+(Tableau13[[#This Row],[PV couleur (%) ou (€/m2)]]*Tableau13[[#This Row],[Prix base]])+Tableau13[[#This Row],[Mortaise]]+Tableau13[[#This Row],[Vitrage ARGON]]+Tableau13[[#This Row],[Vitrage 44/2]]+Tableau13[[#This Row],[Pose VR dans coffre]]+Tableau13[[#This Row],[Poignée]])*1.05,0)} -> #N/A | O5: {=ROUNDUP((_xlfn.IFS(Tableau13[[#This Row],[Vérif 3]]=1,Tableau13[[#This Row],[Prix base]])+(Tableau13[[#This Row],[PV couleur (%) ou (€/m2)]]*Tableau13[[#This Row],[Prix base]])+Tableau13[[#This Row],[Mortaise]]+Tableau13[[#This Row],[Vitrage ARGON]]+Tableau13[[#This Row],[Vitrage 44/2]]+Tableau13[[#This Row],[Pose VR dans coffre]]+Tableau13[[#This Row],[Poignée]])*1.05,0)} -> 96 | P5: {=ROUNDUP((_xlfn.IFS(Tableau13[[#This Row],[Vérif 4]]=1,Tableau13[[#This Row],[Prix base]])+(Tableau13[[#This Row],[PV couleur (%) ou (€/m2)]]*Tableau13[[#This Row],[Prix base]])+Tableau13[[#This Row],[Mortaise]]+Tableau13[[#This Row],[Vitrage ARGON]]+Tableau13[[#This Row],[Vitrage 44/2]]+Tableau13[[#This Row],[Pose VR dans coffre]]+Tableau13[[#This Row],[Poignée]])*1.05,0)} -> #N/A | Q5: {=ROUNDUP((_xlfn.IFS(Tableau13[[#This Row],[Vérif 5]]=1,Tableau13[[#This Row],[Prix base]])+(Tableau13[[#This Row],[PV couleur (%) ou (€/m2)]]*Tableau13[[#This Row],[Prix base]])+Tableau13[[#This Row],[Mortaise]]+Tableau13[[#This Row],[Vitrage ARGON]]+Tableau13[[#This Row],[Vitrage 44/2]]+Tableau13[[#This Row],[Pose VR dans coffre]]+Tableau13[[#This Row],[Poignée]])*1.05,0)} -> #N/A | R5: {=ROUNDUP((_xlfn.IFS(Tableau13[[#This Row],[Vérif 6]]=1,Tableau13[[#This Row],[Prix base]])+(Tableau13[[#This Row],[PV couleur (%) ou (€/m2)]]*Tableau13[[#This Row],[Prix base]])+Tableau13[[#This Row],[Mortaise]]+Tableau13[[#This Row],[Vitrage ARGON]]+Tableau13[[#This Row],[Vitrage 44/2]]+Tableau13[[#This Row],[Pose VR dans coffre]]+Tableau13[[#This Row],[Poignée]])*1.05,0)} -> #N/A | S5: {=ROUNDUP((_xlfn.IFS(Tableau13[[#This Row],[Vérif 7]]=1,Tableau13[[#This Row],[Prix base]])+(Tableau13[[#This Row],[PV couleur (%) ou (€/m2)]]*Tableau13[[#This Row],[Largeur]]*Tableau13[[#This Row],[Hauteur]])+Tableau13[[#This Row],[Mortaise]]+Tableau13[[#This Row],[Vitrage ARGON]]+Tableau13[[#This Row],[Vitrage 44/2]]+Tableau13[[#This Row],[Pose VR dans coffre]]+Tableau13[[#This Row],[Poignée]])*1.05,0)} -> #N/A | T5: {=ROUNDUP((_xlfn.IFS(Tableau13[[#This Row],[Vérif 8]]=1,Tableau13[[#This Row],[Prix base]])+(Tableau13[[#This Row],[PV couleur (%) ou (€/m2)]]*Tableau13[[#This Row],[Largeur]]*Tableau13[[#This Row],[Hauteur]])+Tableau13[[#This Row],[Mortaise]]+Tableau13[[#This Row],[Vitrage ARGON]]+Tableau13[[#This Row],[Vitrage 44/2]]+Tableau13[[#This Row],[Pose VR dans coffre]]+Tableau13[[#This Row],[Poignée]])*1.05,0)} -> #N/A | U5: {=ROUNDUP((_xlfn.IFS(Tableau13[[#This Row],[Vérif 9]]=1,Tableau13[[#This Row],[Prix base]])+(Tableau13[[#This Row],[PV couleur (%) ou (€/m2)]]*Tableau13[[#This Row],[Largeur]]*Tableau13[[#This Row],[Hauteur]])+Tableau13[[#This Row],[Mortaise]]+Tableau13[[#This Row],[Vitrage ARGON]]+Tableau13[[#This Row],[Vitrage 44/2]]+Tableau13[[#This Row],[Pose VR dans coffre]]+Tableau13[[#This Row],[Poignée]])*1.05,0)} -> #N/A | V5: {=SUMPRODUCT((Tableau13[Nature]="pvc")*(Tableau13[Type Ouverture]="OAF")*(Tableau13[Couleur]<>"RAL 9016")*(Tableau13[Largeur]=Tableau13[[#This Row],[Largeur]])*(Tableau13[Hauteur]=Tableau13[[#This Row],[Hauteur]])*(Tableau13[Prix base]=Tableau13[[#This Row],[Prix base]]))} -> 0 | W5: {=SUMPRODUCT((Tableau13[Nature]="pvc")*(Tableau13[Type Ouverture]="OAF")*(Tableau13[Couleur]="RAL 9016")*(Tableau13[Largeur]=Tableau13[[#This Row],[Largeur]])*(Tableau13[Hauteur]=Tableau13[[#This Row],[Hauteur]])*(Tableau13[Prix base]=Tableau13[[#This Row],[Prix base]]))} -> 0 | X5: {=SUMPRODUCT((Tableau13[Nature]="alu")*(Tableau13[Type Ouverture]="OAF")*(Tableau13[Couleur]<>"RAL 9016")*(Tableau13[Largeur]=Tableau13[[#This Row],[Largeur]])*(Tableau13[Hauteur]=Tableau13[[#This Row],[Hauteur]])*(Tableau13[Prix base]=Tableau13[[#This Row],[Prix base]]))} -> 1 | Y5: {=SUMPRODUCT((Tableau13[Nature]="alu")*(Tableau13[Type Ouverture]="OAF")*(Tableau13[Couleur]="RAL 9016")*(Tableau13[Largeur]=Tableau13[[#This Row],[Largeur]])*(Tableau13[Hauteur]=Tableau13[[#This Row],[Hauteur]])*(Tableau13[Prix base]=Tableau13[[#This Row],[Prix base]]))} -> 0 | Z5: {=SUMPRODUCT((Tableau13[Nature]="alu")*(Tableau13[Type Ouverture]="coulissant")*(Tableau13[Couleur]<>"RAL 9016")*(Tableau13[Largeur]=Tableau13[[#This Row],[Largeur]])*(Tableau13[Hauteur]=Tableau13[[#This Row],[Hauteur]])*(Tableau13[Prix base]=Tableau13[[#This Row],[Prix base]]))} -> 0 | AA5: {=SUMPRODUCT((Tableau13[Nature]="alu")*(Tableau13[Type Ouverture]="coulissant")*(Tableau13[Couleur]="RAL 9016")*(Tableau13[Largeur]=Tableau13[[#This Row],[Largeur]])*(Tableau13[Hauteur]=Tableau13[[#This Row],[Hauteur]])*(Tableau13[Prix base]=Tableau13[[#This Row],[Prix base]]))} -> 0 | AB5: {=SUMPRODUCT((Tableau13[Nature]="pvc")*(Tableau13[Type Ouverture]="vr")*(Tableau13[Couleur]="RAL 9016")*(Tableau13[Largeur]=Tableau13[[#This Row],[Largeur]])*(Tableau13[Hauteur]=Tableau13[[#This Row],[Hauteur]])*(Tableau13[Prix base]=Tableau13[[#This Row],[Prix base]]))} -> 0 | AC5: {=SUMPRODUCT((Tableau13[Nature]="alu")*(Tableau13[Type Ouverture]="vr")*(Tableau13[Couleur]="RAL 9016")*(Tableau13[Largeur]=Tableau13[[#This Row],[Largeur]])*(Tableau13[Hauteur]=Tableau13[[#This Row],[Hauteur]])*(Tableau13[Prix base]=Tableau13[[#This Row],[Prix base]]))} -> 0 | AD5: {=SUMPRODUCT((Tableau13[Nature]="alu")*(Tableau13[Type Ouverture]="vr")*(Tableau13[Couleur]<>"RAL 9016")*(Tableau13[Largeur]=Tableau13[[#This Row],[Largeur]])*(Tableau13[Hauteur]=Tableau13[[#This Row],[Hauteur]])*(Tableau13[Prix base]=Tableau13[[#This Row],[Prix base]]))} -> 0
A6: ALU | B6: OAF | C6: RAL 7016 | D6: 0.4 | E6: 2.25 | F6: 50 | G6: {=SUMPRODUCT(((Tableau4[Nature]=Tableau13[[#This Row],[Nature]])*(Tableau4[Couleur]=Tableau13[[#This Row],[Couleur]])*(_xlfn.IFS(Tableau4[[#Headers],[Coulissant]]=Tableau13[[#This Row],[Type Ouverture]],Tableau4[Coulissant],Tableau4[[#Headers],[OAF]]=Tableau13[[#This Row],[Type Ouverture]],Tableau4[OAF],Tableau4[[#Headers],[Ensemble composé]]=Tableau13[[#This Row],[Type Ouverture]],Tableau4[Ensemble composé],Tableau4[[#Headers],[VR]]=Tableau13[[#This Row],[Type Ouverture]],Tableau4[VR]))))} -> 0.18 | H6: 30 | I6: =D6*E6*(6.2+4.3) -> 9.45 | M6: {=ROUNDUP((_xlfn.IFS(Tableau13[[#This Row],[Vérif 1]]=1,Tableau13[[#This Row],[Prix base]])+(Tableau13[[#This Row],[PV couleur (%) ou (€/m2)]]*Tableau13[[#This Row],[Prix base]])+Tableau13[[#This Row],[Mortaise]]+Tableau13[[#This Row],[Vitrage ARGON]]+Tableau13[[#This Row],[Vitrage 44/2]]+Tableau13[[#This Row],[Pose VR dans coffre]]+Tableau13[[#This Row],[Poignée]])*1.05,0)} -> #N/A | N6: {=ROUNDUP((_xlfn.IFS(Tableau13[[#This Row],[Vérif 2]]=1,Tableau13[[#This Row],[Prix base]])+(Tableau13[[#This Row],[PV couleur (%) ou (€/m2)]]*Tableau13[[#This Row],[Prix base]])+Tableau13[[#This Row],[Mortaise]]+Tableau13[[#This Row],[Vitrage ARGON]]+Tableau13[[#This Row],[Vitrage 44/2]]+Tableau13[[#This Row],[Pose VR dans coffre]]+Tableau13[[#This Row],[Poignée]])*1.05,0)} -> #N/A | O6: {=ROUNDUP((_xlfn.IFS(Tableau13[[#This Row],[Vérif 3]]=1,Tableau13[[#This Row],[Prix base]])+(Tableau13[[#This Row],[PV couleur (%) ou (€/m2)]]*Tableau13[[#This Row],[Prix base]])+Tableau13[[#This Row],[Mortaise]]+Tableau13[[#This Row],[Vitrage ARGON]]+Tableau13[[#This Row],[Vitrage 44/2]]+Tableau13[[#This Row],[Pose VR dans coffre]]+Tableau13[[#This Row],[Poignée]])*1.05,0)} -> 104 | P6: {=ROUNDUP((_xlfn.IFS(Tableau13[[#This Row],[Vérif 4]]=1,Tableau13[[#This Row],[Prix base]])+(Tableau13[[#This Row],[PV couleur (%) ou (€/m2)]]*Tableau13[[#This Row],[Prix base]])+Tableau13[[#This Row],[Mortaise]]+Tableau13[[#This Row],[Vitrage ARGON]]+Tableau13[[#This Row],[Vitrage 44/2]]+Tableau13[[#This Row],[Pose VR dans coffre]]+Tableau13[[#This Row],[Poignée]])*1.05,0)} -> #N/A | Q6: {=ROUNDUP((_xlfn.IFS(Tableau13[[#This Row],[Vérif 5]]=1,Tableau13[[#This Row],[Prix base]])+(Tableau13[[#This Row],[PV couleur (%) ou (€/m2)]]*Tableau13[[#This Row],[Prix base]])+Tableau13[[#This Row],[Mortaise]]+Tableau13[[#This Row],[Vitrage ARGON]]+Tableau13[[#This Row],[Vitrage 44/2]]+Tableau13[[#This Row],[Pose VR dans coffre]]+Tableau13[[#This Row],[Poignée]])*1.05,0)} -> #N/A | R6: {=ROUNDUP((_xlfn.IFS(Tableau13[[#This Row],[Vérif 6]]=1,Tableau13[[#This Row],[Prix base]])+(Tableau13[[#This Row],[PV couleur (%) ou (€/m2)]]*Tableau13[[#This Row],[Prix base]])+Tableau13[[#This Row],[Mortaise]]+Tableau13[[#This Row],[Vitrage ARGON]]+Tableau13[[#This Row],[Vitrage 44/2]]+Tableau13[[#This Row],[Pose VR dans coffre]]+Tableau13[[#This Row],[Poignée]])*1.05,0)} -> #N/A | S6: {=ROUNDUP((_xlfn.IFS(Tableau13[[#This Row],[Vérif 7]]=1,Tableau13[[#This Row],[Prix base]])+(Tableau13[[#This Row],[PV couleur (%) ou (€/m2)]]*Tableau13[[#This Row],[Largeur]]*Tableau13[[#This Row],[Hauteur]])+Tableau13[[#This Row],[Mortaise]]+Tableau13[[#This Row],[Vitrage ARGON]]+Tableau13[[#This Row],[Vitrage 44/2]]+Tableau13[[#This Row],[Pose VR dans coffre]]+Tableau13[[#This Row],[Poignée]])*1.05,0)} -> #N/A | T6: {=ROUNDUP((_xlfn.IFS(Tableau13[[#This Row],[Vérif 8]]=1,Tableau13[[#This Row],[Prix base]])+(Tableau13[[#This Row],[PV couleur (%) ou (€/m2)]]*Tableau13[[#This Row],[Largeur]]*Tableau13[[#This Row],[Hauteur]])+Tableau13[[#This Row],[Mortaise]]+Tableau13[[#This Row],[Vitrage ARGON]]+Tableau13[[#This Row],[Vitrage 44/2]]+Tableau13[[#This Row],[Pose VR dans coffre]]+Tableau13[[#This Row],[Poignée]])*1.05,0)} -> #N/A | U6: {=ROUNDUP((_xlfn.IFS(Tableau13[[#This Row],[Vérif 9]]=1,Tableau13[[#This Row],[Prix base]])+(Tableau13[[#This Row],[PV couleur (%) ou (€/m2)]]*Tableau13[[#This Row],[Largeur]]*Tableau13[[#This Row],[Hauteur]])+Tableau13[[#This Row],[Mortaise]]+Tableau13[[#This Row],[Vitrage ARGON]]+Tableau13[[#This Row],[Vitrage 44/2]]+Tableau13[[#This Row],[Pose VR dans coffre]]+Tableau13[[#This Row],[Poignée]])*1.05,0)} -> #N/A | V6: {=SUMPRODUCT((Tableau13[Nature]="pvc")*(Tableau13[Type Ouverture]="OAF")*(Tableau13[Couleur]<>"RAL 9016")*(Tableau13[Largeur]=Tableau13[[#This Row],[Largeur]])*(Tableau13[Hauteur]=Tableau13[[#This Row],[Hauteur]])*(Tableau13[Prix base]=Tableau13[[#This Row],[Prix base]]))} -> 0 | W6: {=SUMPRODUCT((Tableau13[Nature]="pvc")*(Tableau13[Type Ouverture]="OAF")*(Tableau13[Couleur]="RAL 9016")*(Tableau13[Largeur]=Tableau13[[#This Row],[Largeur]])*(Tableau13[Hauteur]=Tableau13[[#This Row],[Hauteur]])*(Tableau13[Prix base]=Tableau13[[#This Row],[Prix base]]))} -> 0 | X6: {=SUMPRODUCT((Tableau13[Nature]="alu")*(Tableau13[Type Ouverture]="OAF")*(Tableau13[Couleur]<>"RAL 9016")*(Tableau13[Largeur]=Tableau13[[#This Row],[Largeur]])*(Tableau13[Hauteur]=Tableau13[[#This Row],[Hauteur]])*(Tableau13[Prix base]=Tableau13[[#This Row],[Prix base]]))} -> 1 | Y6: {=SUMPRODUCT((Tableau13[Nature]="alu")*(Tableau13[Type Ouverture]="OAF")*(Tableau13[Couleur]="RAL 9016")*(Tableau13[Largeur]=Tableau13[[#This Row],[Largeur]])*(Tableau13[Hauteur]=Tableau13[[#This Row],[Hauteur]])*(Tableau13[Prix base]=Tableau13[[#This Row],[Prix base]]))} -> 0 | Z6: {=SUMPRODUCT((Tableau13[Nature]="alu")*(Tableau13[Type Ouverture]="coulissant")*(Tableau13[Couleur]<>"RAL 9016")*(Tableau13[Largeur]=Tableau13[[#This Row],[Largeur]])*(Tableau13[Hauteur]=Tableau13[[#This Row],[Hauteur]])*(Tableau13[Prix base]=Tableau13[[#This Row],[Prix base]]))} -> 0 | AA6: {=SUMPRODUCT((Tableau13[Nature]="alu")*(Tableau13[Type Ouverture]="coulissant")*(Tableau13[Couleur]="RAL 9016")*(Tableau13[Largeur]=Tableau13[[#This Row],[Largeur]])*(Tableau13[Hauteur]=Tableau13[[#This Row],[Hauteur]])*(Tableau13[Prix base]=Tableau13[[#This Row],[Prix base]]))} -> 0 | AB6: {=SUMPRODUCT((Tableau13[Nature]="pvc")*(Tableau13[Type Ouverture]="vr")*(Tableau13[Couleur]="RAL 9016")*(Tableau13[Largeur]=Tableau13[[#This Row],[Largeur]])*(Tableau13[Hauteur]=Tableau13[[#This Row],[Hauteur]])*(Tableau13[Prix base]=Tableau13[[#This Row],[Prix base]]))} -> 0 | AC6: {=SUMPRODUCT((Tableau13[Nature]="alu")*(Tableau13[Type Ouverture]="vr")*(Tableau13[Couleur]="RAL 9016")*(Tableau13[Largeur]=Tableau13[[#This Row],[Largeur]])*(Tableau13[Hauteur]=Tableau13[[#This Row],[Hauteur]])*(Tableau13[Prix base]=Tableau13[[#This Row],[Prix base]]))} -> 0 | AD6: {=SUMPRODUCT((Tableau13[Nature]="alu")*(Tableau13[Type Ouverture]="vr")*(Tableau13[Couleur]<>"RAL 9016")*(Tableau13[Largeur]=Tableau13[[#This Row],[Largeur]])*(Tableau13[Hauteur]=Tableau13[[#This Row],[Hauteur]])*(Tableau13[Prix base]=Tableau13[[#This Row],[Prix base]]))} -> 0
A7: ALU | B7: OAF | C7: RAL 7016 | D7: 0.8 | E7: 2.25 | F7: 60 | G7: {=SUMPRODUCT(((Tableau4[Nature]=Tableau13[[#This Row],[Nature]])*(Tableau4[Couleur]=Tableau13[[#This Row],[Couleur]])*(_xlfn.IFS(Tableau4[[#Headers],[Coulissant]]=Tableau13[[#This Row],[Type Ouverture]],Tableau4[Coulissant],Tableau4[[#Headers],[OAF]]=Tableau13[[#This Row],[Type Ouverture]],Tableau4[OAF],Tableau4[[#Headers],[Ensemble composé]]=Tableau13[[#This Row],[Type Ouverture]],Tableau4[Ensemble composé],Tableau4[[#Headers],[VR]]=Tableau13[[#This Row],[Type Ouverture]],Tableau4[VR]))))} -> 0.18 | H7: 30 | I7: =D7*E7*(6.2+4.3) -> 18.9 | M7: {=ROUNDUP((_xlfn.IFS(Tableau13[[#This Row],[Vérif 1]]=1,Tableau13[[#This Row],[Prix base]])+(Tableau13[[#This Row],[PV couleur (%) ou (€/m2)]]*Tableau13[[#This Row],[Prix base]])+Tableau13[[#This Row],[Mortaise]]+Tableau13[[#This Row],[Vitrage ARGON]]+Tableau13[[#This Row],[Vitrage 44/2]]+Tableau13[[#This Row],[Pose VR dans coffre]]+Tableau13[[#This Row],[Poignée]])*1.05,0)} -> #N/A | N7: {=ROUNDUP((_xlfn.IFS(Tableau13[[#This Row],[Vérif 2]]=1,Tableau13[[#This Row],[Prix base]])+(Tableau13[[#This Row],[PV couleur (%) ou (€/m2)]]*Tableau13[[#This Row],[Prix base]])+Tableau13[[#This Row],[Mortaise]]+Tableau13[[#This Row],[Vitrage ARGON]]+Tableau13[[#This Row],[Vitrage 44/2]]+Tableau13[[#This Row],[Pose VR dans coffre]]+Tableau13[[#This Row],[Poignée]])*1.05,0)} -> #N/A | O7: {=ROUNDUP((_xlfn.IFS(Tableau13[[#This Row],[Vérif 3]]=1,Tableau13[[#This Row],[Prix base]])+(Tableau13[[#This Row],[PV couleur (%) ou (€/m2)]]*Tableau13[[#This Row],[Prix base]])+Tableau13[[#This Row],[Mortaise]]+Tableau13[[#This Row],[Vitrage ARGON]]+Tableau13[[#This Row],[Vitrage 44/2]]+Tableau13[[#This Row],[Pose VR dans coffre]]+Tableau13[[#This Row],[Poignée]])*1.05,0)} -> 126 | P7: {=ROUNDUP((_xlfn.IFS(Tableau13[[#This Row],[Vérif 4]]=1,Tableau13[[#This Row],[Prix base]])+(Tableau13[[#This Row],[PV couleur (%) ou (€/m2)]]*Tableau13[[#This Row],[Prix base]])+Tableau13[[#This Row],[Mortaise]]+Tableau13[[#This Row],[Vitrage ARGON]]+Tableau13[[#This Row],[Vitrage 44/2]]+Tableau13[[#This Row],[Pose VR dans coffre]]+Tableau13[[#This Row],[Poignée]])*1.05,0)} -> #N/A | Q7: {=ROUNDUP((_xlfn.IFS(Tableau13[[#This Row],[Vérif 5]]=1,Tableau13[[#This Row],[Prix base]])+(Tableau13[[#This Row],[PV couleur (%) ou (€/m2)]]*Tableau13[[#This Row],[Prix base]])+Tableau13[[#This Row],[Mortaise]]+Tableau13[[#This Row],[Vitrage ARGON]]+Tableau13[[#This Row],[Vitrage 44/2]]+Tableau13[[#This Row],[Pose VR dans coffre]]+Tableau13[[#This Row],[Poignée]])*1.05,0)} -> #N/A | R7: {=ROUNDUP((_xlfn.IFS(Tableau13[[#This Row],[Vérif 6]]=1,Tableau13[[#This Row],[Prix base]])+(Tableau13[[#This Row],[PV couleur (%) ou (€/m2)]]*Tableau13[[#This Row],[Prix base]])+Tableau13[[#This Row],[Mortaise]]+Tableau13[[#This Row],[Vitrage ARGON]]+Tableau13[[#This Row],[Vitrage 44/2]]+Tableau13[[#This Row],[Pose VR dans coffre]]+Tableau13[[#This Row],[Poignée]])*1.05,0)} -> #N/A | S7: {=ROUNDUP((_xlfn.IFS(Tableau13[[#This Row],[Vérif 7]]=1,Tableau13[[#This Row],[Prix base]])+(Tableau13[[#This Row],[PV couleur (%) ou (€/m2)]]*Tableau13[[#This Row],[Largeur]]*Tableau13[[#This Row],[Hauteur]])+Tableau13[[#This Row],[Mortaise]]+Tableau13[[#This Row],[Vitrage ARGON]]+Tableau13[[#This Row],[Vitrage 44/2]]+Tableau13[[#This Row],[Pose VR dans coffre]]+Tableau13[[#This Row],[Poignée]])*1.05,0)} -> #N/A | T7: {=ROUNDUP((_xlfn.IFS(Tableau13[[#This Row],[Vérif 8]]=1,Tableau13[[#This Row],[Prix base]])+(Tableau13[[#This Row],[PV couleur (%) ou (€/m2)]]*Tableau13[[#This Row],[Largeur]]*Tableau13[[#This Row],[Hauteur]])+Tableau13[[#This Row],[Mortaise]]+Tableau13[[#This Row],[Vitrage ARGON]]+Tableau13[[#This Row],[Vitrage 44/2]]+Tableau13[[#This Row],[Pose VR dans coffre]]+Tableau13[[#This Row],[Poignée]])*1.05,0)} -> #N/A | U7: {=ROUNDUP((_xlfn.IFS(Tableau13[[#This Row],[Vérif 9]]=1,Tableau13[[#This Row],[Prix base]])+(Tableau13[[#This Row],[PV couleur (%) ou (€/m2)]]*Tableau13[[#This Row],[Largeur]]*Tableau13[[#This Row],[Hauteur]])+Tableau13[[#This Row],[Mortaise]]+Tableau13[[#This Row],[Vitrage ARGON]]+Tableau13[[#This Row],[Vitrage 44/2]]+Tableau13[[#This Row],[Pose VR dans coffre]]+Tableau13[[#This Row],[Poignée]])*1.05,0)} -> #N/A | V7: {=SUMPRODUCT((Tableau13[Nature]="pvc")*(Tableau13[Type Ouverture]="OAF")*(Tableau13[Couleur]<>"RAL 9016")*(Tableau13[Largeur]=Tableau13[[#This Row],[Largeur]])*(Tableau13[Hauteur]=Tableau13[[#This Row],[Hauteur]])*(Tableau13[Prix base]=Tableau13[[#This Row],[Prix base]]))} -> 0 | W7: {=SUMPRODUCT((Tableau13[Nature]="pvc")*(Tableau13[Type Ouverture]="OAF")*(Tableau13[Couleur]="RAL 9016")*(Tableau13[Largeur]=Tableau13[[#This Row],[Largeur]])*(Tableau13[Hauteur]=Tableau13[[#This Row],[Hauteur]])*(Tableau13[Prix base]=Tableau13[[#This Row],[Prix base]]))} -> 0 | X7: {=SUMPRODUCT((Tableau13[Nature]="alu")*(Tableau13[Type Ouverture]="OAF")*(Tableau13[Couleur]<>"RAL 9016")*(Tableau13[Largeur]=Tableau13[[#This Row],[Largeur]])*(Tableau13[Hauteur]=Tableau13[[#This Row],[Hauteur]])*(Tableau13[Prix base]=Tableau13[[#This Row],[Prix base]]))} -> 1 | Y7: {=SUMPRODUCT((Tableau13[Nature]="alu")*(Tableau13[Type Ouverture]="OAF")*(Tableau13[Couleur]="RAL 9016")*(Tableau13[Largeur]=Tableau13[[#This Row],[Largeur]])*(Tableau13[Hauteur]=Tableau13[[#This Row],[Hauteur]])*(Tableau13[Prix base]=Tableau13[[#This Row],[Prix base]]))} -> 0 | Z7: {=SUMPRODUCT((Tableau13[Nature]="alu")*(Tableau13[Type Ouverture]="coulissant")*(Tableau13[Couleur]<>"RAL 9016")*(Tableau13[Largeur]=Tableau13[[#This Row],[Largeur]])*(Tableau13[Hauteur]=Tableau13[[#This Row],[Hauteur]])*(Tableau13[Prix base]=Tableau13[[#This Row],[Prix base]]))} -> 0 | AA7: {=SUMPRODUCT((Tableau13[Nature]="alu")*(Tableau13[Type Ouverture]="coulissant")*(Tableau13[Couleur]="RAL 9016")*(Tableau13[Largeur]=Tableau13[[#This Row],[Largeur]])*(Tableau13[Hauteur]=Tableau13[[#This Row],[Hauteur]])*(Tableau13[Prix base]=Tableau13[[#This Row],[Prix base]]))} -> 0 | AB7: {=SUMPRODUCT((Tableau13[Nature]="pvc")*(Tableau13[Type Ouverture]="vr")*(Tableau13[Couleur]="RAL 9016")*(Tableau13[Largeur]=Tableau13[[#This Row],[Largeur]])*(Tableau13[Hauteur]=Tableau13[[#This Row],[Hauteur]])*(Tableau13[Prix base]=Tableau13[[#This Row],[Prix base]]))} -> 0 | AC7: {=SUMPRODUCT((Tableau13[Nature]="alu")*(Tableau13[Type Ouverture]="vr")*(Tableau13[Couleur]="RAL 9016")*(Tableau13[Largeur]=Tableau13[[#This Row],[Largeur]])*(Tableau13[Hauteur]=Tableau13[[#This Row],[Hauteur]])*(Tableau13[Prix base]=Tableau13[[#This Row],[Prix base]]))} -> 0 | AD7: {=SUMPRODUCT((Tableau13[Nature]="alu")*(Tableau13[Type Ouverture]="vr")*(Tableau13[Couleur]<>"RAL 9016")*(Tableau13[Largeur]=Tableau13[[#This Row],[Largeur]])*(Tableau13[Hauteur]=Tableau13[[#This Row],[Hauteur]])*(Tableau13[Prix base]=Tableau13[[#This Row],[Prix base]]))} -> 0
