Workbook
Name Liste_hauteur: Feuil2!$K$2:$K$10
Name Liste_largeur: Feuil2!$J$2:$J$16

Sheet Feuil1
A1: Société | B1: Fournisseur | C1: Largeur | D1: Hauteur | E1: Couleur | F1: Nature | G1: Type d'ouverture | H1: Prix | I1: Colonne1 | M1: SOMMEPROD((Feuil2!E3:G3=Feuil1!A4)*(Feuil2!C4:C30=C4)*(Feuil2!D4:D30=D4)*Feuil2!E4:G30)
A2: ENT 1 | B2: =VLOOKUP(A2,'Feuil2 (2)'!A1:B3,2,0) -> FOU 1 | C2: 0.6 | D2: 1.05 | E2: RAL 9016 | F2: Aluminium | G2: OAF | H2: {=SUMPRODUCT((Feuil2!F2:H2=Tableau2[[#This Row],[Société]])*(Tableau9[[LARGEUR ]]=Tableau2[[#This Row],[Largeur]])*(Tableau9[LONGUEUR]=Tableau2[[#This Row],[Hauteur]])*Tableau9[[ENT 1]:[ENT 3]])} -> #VALUE! | I2: {=SUMPRODUCT((Feuil2!F2:H2=Tableau2[[#This Row],[Société]])*(Tableau9[[LARGEUR ]]=Tableau2[[#This Row],[Largeur]])*(Tableau9[LONGUEUR]=Tableau2[[#This Row],[Hauteur]])*(Tableau9[COULEUR]=Tableau2[[#This Row],[Couleur]])*(Tableau9[NATURE]=Tableau2[[#This Row],[Nature]])*(Tableau9[TYPE D''OUVERTURE]=Tableau2[Type d''ouverture])*Tableau9[[ENT 1]:[ENT 3]])} -> #VALUE!

Sheet Feuil2
F1: PRIX
A2: LARGEUR | B2: LONGUEUR | C2: COULEUR | D2: NATURE | E2: TYPE D'OUVERTURE | F2: ENT 1 | G2: ENT 2 | H2: ENT 3
A3: =Feuil4!D2 -> 0.4 | B3: =Feuil4!E2 -> 1.05 | C3: =Feuil4!C2 -> RAL 7016 | D3: =Feuil4!A2 -> ALU | E3: =Feuil4!B2 -> OAF | F3: {=_xlfn.IFS(Tableau13[Vérif 1]=1,Tableau13[1 Prix Couleur/PVC/OAF],Tableau13[Vérif 2]=1,Tableau13[2 Prix Blanc/PVC/OAF],Tableau13[Vérif 3]=1,Tableau13[3 Prix Couleur/Aluminium/OAF],Tableau13[Vérif 4]=1,Tableau13[4 Prix Blanc/Aluminium/OAF],Tableau13[Vérif 5]=1,Tableau13[5 Prix Couleur/Aluminium/Coulissant],Tableau13[Vérif 6]=1,Tableau13[6 Prix Blanc/Aluminium/Coulissant],Tableau13[Vérif 7]=1,Tableau13[7 Prix Blanc/PVC/VR],Tableau13[Vérif 8]=1,Tableau13[8 Prix Blanc/Aluminium/VR],Tableau13[Vérif 9]=1,Tableau13[9 Prix Couleur/Aluminium/VR])} -> #VALUE!
A4: =Feuil4!D3 -> 1 | B4: =Feuil4!E3 -> 1.05 | C4: =Feuil4!C3 -> RAL 7016 | D4: =Feuil4!A3 -> ALU | E4: =Feuil4!B3 -> OAF | F4: {=_xlfn.IFS(Tableau13[Vérif 1]=1,Tableau13[1 Prix Couleur/PVC/OAF],Tableau13[Vérif 2]=1,Tableau13[2 Prix Blanc/PVC/OAF],Tableau13[Vérif 3]=1,Tableau13[3 Prix Couleur/Aluminium/OAF],Tableau13[Vérif 4]=1,Tableau13[4 Prix Blanc/Aluminium/OAF],Tableau13[Vérif 5]=1,Tableau13[5 Prix Couleur/Aluminium/Coulissant],Tableau13[Vérif 6]=1,Tableau13[6 Prix Blanc/Aluminium/Coulissant],Tableau13[Vérif 7]=1,Tableau13[7 Prix Blanc/PVC/VR],Tableau13[Vérif 8]=1,Tableau13[8 Prix Blanc/Aluminium/VR],Tableau13[Vérif 9]=1,Tableau13[9 Prix Couleur/Aluminium/VR])} -> #VALUE!
A5: =Feuil4!D4 -> 0.8 | B5: =Feuil4!E4 -> 1 | C5: =Feuil4!C4 -> RAL 7016 | D5: =Feuil4!A4 -> ALU | E5: =Feuil4!B4 -> OAF | F5: {=_xlfn.IFS(Tableau13[Vérif 1]=1,Tableau13[1 Prix Couleur/PVC/OAF],Tableau13[Vérif 2]=1,Tableau13[2 Prix Blanc/PVC/OAF],Tableau13[Vérif 3]=1,Tableau13[3 Prix Couleur/Aluminium/OAF],Tableau13[Vérif 4]=1,Tableau13[4 Prix Blanc/Aluminium/OAF],Tableau13[Vérif 5]=1,Tableau13[5 Prix Couleur/Aluminium/Coulissant],Tableau13[Vérif 6]=1,Tableau13[6 Prix Blanc/Aluminium/Coulissant],Tableau13[Vérif 7]=1,Tableau13[7 Prix Blanc/PVC/VR],Tableau13[Vérif 8]=1,Tableau13[8 Prix Blanc/Aluminium/VR],Tableau13[Vérif 9]=1,Tableau13[9 Prix Couleur/Aluminium/VR])} -> #VALUE!
A6: =Feuil4!D5 -> 0.6 | B6: =Feuil4!E5 -> 2.25 | C6: =Feuil4!C5 -> RAL 7016 | D6: =Feuil4!A5 -> ALU | E6: =Feuil4!B5 -> OAF | F6: {=_xlfn.IFS(Tableau13[Vérif 1]=1,Tableau13[1 Prix Couleur/PVC/OAF],Tableau13[Vérif 2]=1,Tableau13[2 Prix Blanc/PVC/OAF],Tableau13[Vérif 3]=1,Tableau13[3 Prix Couleur/Aluminium/OAF],Tableau13[Vérif 4]=1,Tableau13[4 Prix Blanc/Aluminium/OAF],Tableau13[Vérif 5]=1,Tableau13[5 Prix Couleur/Aluminium/Coulissant],Tableau13[Vérif 6]=1,Tableau13[6 Prix Blanc/Aluminium/Coulissant],Tableau13[Vérif 7]=1,Tableau13[7 Prix Blanc/PVC/VR],Tableau13[Vérif 8]=1,Tableau13[8 Prix Blanc/Aluminium/VR],Tableau13[Vérif 9]=1,Tableau13[9 Prix Couleur/Aluminium/VR])} -> #VALUE!
A7: =Feuil4!D6 -> 0.4 | B7: =Feuil4!E6 -> 2.25 | C7: =Feuil4!C6 -> RAL 7016 | D7: =Feuil4!A6 -> ALU | E7: =Feuil4!B6 -> OAF | F7: {=_xlfn.IFS(Tableau13[Vérif 1]=1,Tableau13[1 Prix Couleur/PVC/OAF],Tableau13[Vérif 2]=1,Tableau13[2 Prix Blanc/PVC/OAF],Tableau13[Vérif 3]=1,Tableau13[3 Prix Couleur/Aluminium/OAF],Tableau13[Vérif 4]=1,Tableau13[4 Prix Blanc/Aluminium/OAF],Tableau13[Vérif 5]=1,Tableau13[5 Prix Couleur/Aluminium/Coulissant],Tableau13[Vérif 6]=1,Tableau13[6 Prix Blanc/Aluminium/Coulissant],Tableau13[Vérif 7]=1,Tableau13[7 Prix Blanc/PVC/VR],Tableau13[Vérif 8]=1,Tableau13[8 Prix Blanc/Aluminium/VR],Tableau13[Vérif 9]=1,Tableau13[9 Prix Couleur/Aluminium/VR])} -> #VALUE!
A8: =Feuil4!D7 -> 0.8 | B8: =Feuil4!E7 -> 2.25 | C8: =Feuil4!C7 -> RAL 7016 | D8: =Feuil4!A7 -> ALU | E8: =Feuil4!B7 -> OAF | F8: {=_xlfn.IFS(Tableau13[Vérif 1]=1,Tableau13[1 Prix Couleur/PVC/OAF],Tableau13[Vérif 2]=1,Tableau13[2 Prix Blanc/PVC/OAF],Tableau13[Vérif 3]=1,Tableau13[3 Prix Couleur/Aluminium/OAF],Tableau13[Vérif 4]=1,Tableau13[4 Prix Blanc/Aluminium/OAF],Tableau13[Vérif 5]=1,Tableau13[5 Prix Couleur/Aluminium/Coulissant],Tableau13[Vérif 6]=1,Tableau13[6 Prix Blanc/Aluminium/Coulissant],Tableau13[Vérif 7]=1,Tableau13[7 Prix Blanc/PVC/VR],Tableau13[Vérif 8]=1,Tableau13[8 Prix Blanc/Aluminium/VR],Tableau13[Vérif 9]=1,Tableau13[9 Prix Couleur/Aluminium/VR])} -> #VALUE! | K8: ici même formule mais le résultat n'y est pas
A9: =Feuil4!D8 -> 0.9 | B9: =Feuil4!E8 -> 2.25 | C9: =Feuil4!C8 -> RAL 7016 | D9: =Feuil4!A8 -> ALU | E9: =Feuil4!B8 -> OAF | F9: {=_xlfn.IFS(Tableau13[Vérif 1]=1,Tableau13[1 Prix Couleur/PVC/OAF],Tableau13[Vérif 2]=1,Tableau13[2 Prix Blanc/PVC/OAF],Tableau13[Vérif 3]=1,Tableau13[3 Prix Couleur/Aluminium/OAF],Tableau13[Vérif 4]=1,Tableau13[4 Prix Blanc/Aluminium/OAF],Tableau13[Vérif 5]=1,Tableau13[5 Prix Couleur/Aluminium/Coulissant],Tableau13[Vérif 6]=1,Tableau13[6 Prix Blanc/Aluminium/Coulissant],Tableau13[Vérif 7]=1,Tableau13[7 Prix Blanc/PVC/VR],Tableau13[Vérif 8]=1,Tableau13[8 Prix Blanc/Aluminium/VR],Tableau13[Vérif 9]=1,Tableau13[9 Prix Couleur/Aluminium/VR])} -> #VALUE!
A10: =Feuil4!D9 -> 0.9 | B10: =Feuil4!E9 -> 2.25 | C10: =Feuil4!C9 -> RAL 7016 | D10: =Feuil4!A9 -> ALU | E10: =Feuil4!B9 -> OAF | F10: {=_xlfn.IFS(Tableau13[Vérif 1]=1,Tableau13[1 Prix Couleur/PVC/OAF],Tableau13[Vérif 2]=1,Tableau13[2 Prix Blanc/PVC/OAF],Tableau13[Vérif 3]=1,Tableau13[3 Prix Couleur/Aluminium/OAF],Tableau13[Vérif 4]=1,Tableau13[4 Prix Blanc/Aluminium/OAF],Tableau13[Vérif 5]=1,Tableau13[5 Prix Couleur/Aluminium/Coulissant],Tableau13[Vérif 6]=1,Tableau13[6 Prix Blanc/Aluminium/Coulissant],Tableau13[Vérif 7]=1,Tableau13[7 Prix Blanc/PVC/VR],Tableau13[Vérif 8]=1,Tableau13[8 Prix Blanc/Aluminium/VR],Tableau13[Vérif 9]=1,Tableau13[9 Prix Couleur/Aluminium/VR])} -> #VALUE!
A11: =Feuil4!D10 -> 1.8 | B11: =Feuil4!E10 -> 2.25 | C11: =Feuil4!C10 -> RAL 7016 | D11: =Feuil4!A10 -> ALU | E11: =Feuil4!B10 -> Coulissant | F11: {=_xlfn.IFS(Tableau13[Vérif 1]=1,Tableau13[1 Prix Couleur/PVC/OAF],Tableau13[Vérif 2]=1,Tableau13[2 Prix Blanc/PVC/OAF],Tableau13[Vérif 3]=1,Tableau13[3 Prix Couleur/Aluminium/OAF],Tableau13[Vérif 4]=1,Tableau13[4 Prix Blanc/Aluminium/OAF],Tableau13[Vérif 5]=1,Tableau13[5 Prix Couleur/Aluminium/Coulissant],Tableau13[Vérif 6]=1,Tableau13[6 Prix Blanc/Aluminium/Coulissant],Tableau13[Vérif 7]=1,Tableau13[7 Prix Blanc/PVC/VR],Tableau13[Vérif 8]=1,Tableau13[8 Prix Blanc/Aluminium/VR],Tableau13[Vérif 9]=1,Tableau13[9 Prix Couleur/Aluminium/VR])} -> #VALUE!
A12: =Feuil4!D11 -> 2.4 | B12: =Feuil4!E11 -> 0.95 | C12: =Feuil4!C11 -> RAL 7016 | D12: =Feuil4!A11 -> ALU | E12: =Feuil4!B11 -> Coulissant | F12: {=_xlfn.IFS(Tableau13[Vérif 1]=1,Tableau13[1 Prix Couleur/PVC/OAF],Tableau13[Vérif 2]=1,Tableau13[2 Prix Blanc/PVC/OAF],Tableau13[Vérif 3]=1,Tableau13[3 Prix Couleur/Aluminium/OAF],Tableau13[Vérif 4]=1,Tableau13[4 Prix Blanc/Aluminium/OAF],Tableau13[Vérif 5]=1,Tableau13[5 Prix Couleur/Aluminium/Coulissant],Tableau13[Vérif 6]=1,Tableau13[6 Prix Blanc/Aluminium/Coulissant],Tableau13[Vérif 7]=1,Tableau13[7 Prix Blanc/PVC/VR],Tableau13[Vérif 8]=1,Tableau13[8 Prix Blanc/Aluminium/VR],Tableau13[Vérif 9]=1,Tableau13[9 Prix Couleur/Aluminium/VR])} -> #VALUE!
A13: =Feuil4!D12 -> 2 | B13: =Feuil4!E12 -> 2.25 | C13: =Feuil4!C12 -> RAL 7016 | D13: =Feuil4!A12 -> ALU | E13: =Feuil4!B12 -> Coulissant | F13: {=_xlfn.IFS(Tableau13[Vérif 1]=1,Tableau13[1 Prix Couleur/PVC/OAF],Tableau13[Vérif 2]=1,Tableau13[2 Prix Blanc/PVC/OAF],Tableau13[Vérif 3]=1,Tableau13[3 Prix Couleur/Aluminium/OAF],Tableau13[Vérif 4]=1,Tableau13[4 Prix Blanc/Aluminium/OAF],Tableau13[Vérif 5]=1,Tableau13[5 Prix Couleur/Aluminium/Coulissant],Tableau13[Vérif 6]=1,Tableau13[6 Prix Blanc/Aluminium/Coulissant],Tableau13[Vérif 7]=1,Tableau13[7 Prix Blanc/PVC/VR],Tableau13[Vérif 8]=1,Tableau13[8 Prix Blanc/Aluminium/VR],Tableau13[Vérif 9]=1,Tableau13[9 Prix Couleur/Aluminium/VR])} -> #VALUE!
A14: =Feuil4!D13 -> 4 | B14: =Feuil4!E13 -> 2.25 | C14: =Feuil4!C13 -> RAL 7016 | D14: =Feuil4!A13 -> ALU | E14: =Feuil4!B13 -> Coulissant | F14: {=_xlfn.IFS(Tableau13[Vérif 1]=1,Tableau13[1 Prix Couleur/PVC/OAF],Tableau13[Vérif 2]=1,Tableau13[2 Prix Blanc/PVC/OAF],Tableau13[Vérif 3]=1,Tableau13[3 Prix Couleur/Aluminium/OAF],Tableau13[Vérif 4]=1,Tableau13[4 Prix Blanc/Aluminium/OAF],Tableau13[Vérif 5]=1,Tableau13[5 Prix Couleur/Aluminium/Coulissant],Tableau13[Vérif 6]=1,Tableau13[6 Prix Blanc/Aluminium/Coulissant],Tableau13[Vérif 7]=1,Tableau13[7 Prix Blanc/PVC/VR],Tableau13[Vérif 8]=1,Tableau13[8 Prix Blanc/Aluminium/VR],Tableau13[Vérif 9]=1,Tableau13[9 Prix Couleur/Aluminium/VR])} -> #VALUE!
A15: =Feuil4!D14 -> 0.6 | B15: =Feuil4!E14 -> 2.25 | C15: =Feuil4!C14 -> RAL 7016 | D15: =Feuil4!A14 -> ALU | E15: =Feuil4!B14 -> VR | F15: {=_xlfn.IFS(Tableau13[Vérif 1]=1,Tableau13[1 Prix Couleur/PVC/OAF],Tableau13[Vérif 2]=1,Tableau13[2 Prix Blanc/PVC/OAF],Tableau13[Vérif 3]=1,Tableau13[3 Prix Couleur/Aluminium/OAF],Tableau13[Vérif 4]=1,Tableau13[4 Prix Blanc/Aluminium/OAF],Tableau13[Vérif 5]=1,Tableau13[5 Prix Couleur/Aluminium/Coulissant],Tableau13[Vérif 6]=1,Tableau13[6 Prix Blanc/Aluminium/Coulissant],Tableau13[Vérif 7]=1,Tableau13[7 Prix Blanc/PVC/VR],Tableau13[Vérif 8]=1,Tableau13[8 Prix Blanc/Aluminium/VR],Tableau13[Vérif 9]=1,Tableau13[9 Prix Couleur/Aluminium/VR])} -> #VALUE!
A16: =Feuil4!D15 -> 0.9 | B16: =Feuil4!E15 -> 2.25 | C16: =Feuil4!C15 -> RAL 7016 | D16: =Feuil4!A15 -> ALU | E16: =Feuil4!B15 -> VR | F16: {=_xlfn.IFS(Tableau13[Vérif 1]=1,Tableau13[1 Prix Couleur/PVC/OAF],Tableau13[Vérif 2]=1,Tableau13[2 Prix Blanc/PVC/OAF],Tableau13[Vérif 3]=1,Tableau13[3 Prix Couleur/Aluminium/OAF],Tableau13[Vérif 4]=1,Tableau13[4 Prix Blanc/Aluminium/OAF],Tableau13[Vérif 5]=1,Tableau13[5 Prix Couleur/Aluminium/Coulissant],Tableau13[Vérif 6]=1,Tableau13[6 Prix Blanc/Aluminium/Coulissant],Tableau13[Vérif 7]=1,Tableau13[7 Prix Blanc/PVC/VR],Tableau13[Vérif 8]=1,Tableau13[8 Prix Blanc/Aluminium/VR],Tableau13[Vérif 9]=1,Tableau13[9 Prix Couleur/Aluminium/VR])} -> #VALUE!
A17: =Feuil4!D16 -> 0.9 | B17: =Feuil4!E16 -> 2.14 | C17: =Feuil4!C16 -> RAL 7016 | D17: =Feuil4!A16 -> ALU | E17: =Feuil4!B16 -> VR | F17: {=_xlfn.IFS(Tableau13[Vérif 1]=1,Tableau13[1 Prix Couleur/PVC/OAF],Tableau13[Vérif 2]=1,Tableau13[2 Prix Blanc/PVC/OAF],Tableau13[Vérif 3]=1,Tableau13[3 Prix Couleur/Aluminium/OAF],Tableau13[Vérif 4]=1,Tableau13[4 Prix Blanc/Aluminium/OAF],Tableau13[Vérif 5]=1,Tableau13[5 Prix Couleur/Aluminium/Coulissant],Tableau13[Vérif 6]=1,Tableau13[6 Prix Blanc/Aluminium/Coulissant],Tableau13[Vérif 7]=1,Tableau13[7 Prix Blanc/PVC/VR],Tableau13[Vérif 8]=1,Tableau13[8 Prix Blanc/Aluminium/VR],Tableau13[Vérif 9]=1,Tableau13[9 Prix Couleur/Aluminium/VR])} -> #VALUE!
A18: =Feuil4!D17 -> 0.8 | B18: =Feuil4!E17 -> 2.25 | C18: =Feuil4!C17 -> RAL 7016 | D18: =Feuil4!A17 -> ALU | E18: =Feuil4!B17 -> VR | F18: {=_xlfn.IFS(Tableau13[Vérif 1]=1,Tableau13[1 Prix Couleur/PVC/OAF],Tableau13[Vérif 2]=1,Tableau13[2 Prix Blanc/PVC/OAF],Tableau13[Vérif 3]=1,Tableau13[3 Prix Couleur/Aluminium/OAF],Tableau13[Vérif 4]=1,Tableau13[4 Prix Blanc/Aluminium/OAF],Tableau13[Vérif 5]=1,Tableau13[5 Prix Couleur/Aluminium/Coulissant],Tableau13[Vérif 6]=1,Tableau13[6 Prix Blanc/Aluminium/Coulissant],Tableau13[Vérif 7]=1,Tableau13[7 Prix Blanc/PVC/VR],Tableau13[Vérif 8]=1,Tableau13[8 Prix Blanc/Aluminium/VR],Tableau13[Vérif 9]=1,Tableau13[9 Prix Couleur/Aluminium/VR])} -> #VALUE!
A19: =Feuil4!D18 -> 2.4 | B19: =Feuil4!E18 -> 0.95 | C19: =Feuil4!C18 -> RAL 7016 | D19: =Feuil4!A18 -> ALU | E19: =Feuil4!B18 -> VR | F19: {=_xlfn.IFS(Tableau13[Vérif 1]=1,Tableau13[1 Prix Couleur/PVC/OAF],Tableau13[Vérif 2]=1,Tableau13[2 Prix Blanc/PVC/OAF],Tableau13[Vérif 3]=1,Tableau13[3 Prix Couleur/Aluminium/OAF],Tableau13[Vérif 4]=1,Tableau13[4 Prix Blanc/Aluminium/OAF],Tableau13[Vérif 5]=1,Tableau13[5 Prix Couleur/Aluminium/Coulissant],Tableau13[Vérif 6]=1,Tableau13[6 Prix Blanc/Aluminium/Coulissant],Tableau13[Vérif 7]=1,Tableau13[7 Prix Blanc/PVC/VR],Tableau13[Vérif 8]=1,Tableau13[8 Prix Blanc/Aluminium/VR],Tableau13[Vérif 9]=1,Tableau13[9 Prix Couleur/Aluminium/VR])} -> #VALUE!
A20: =Feuil4!D19 -> 1.8 | B20: =Feuil4!E19 -> 2.25 | C20: =Feuil4!C19 -> RAL 7016 | D20: =Feuil4!A19 -> ALU | E20: =Feuil4!B19 -> VR | F20: {=_xlfn.IFS(Tableau13[Vérif 1]=1,Tableau13[1 Prix Couleur/PVC/OAF],Tableau13[Vérif 2]=1,Tableau13[2 Prix Blanc/PVC/OAF],Tableau13[Vérif 3]=1,Tableau13[3 Prix Couleur/Aluminium/OAF],Tableau13[Vérif 4]=1,Tableau13[4 Prix Blanc/Aluminium/OAF],Tableau13[Vérif 5]=1,Tableau13[5 Prix Couleur/Aluminium/Coulissant],Tableau13[Vérif 6]=1,Tableau13[6 Prix Blanc/Aluminium/Coulissant],Tableau13[Vérif 7]=1,Tableau13[7 Prix Blanc/PVC/VR],Tableau13[Vérif 8]=1,Tableau13[8 Prix Blanc/Aluminium/VR],Tableau13[Vérif 9]=1,Tableau13[9 Prix Couleur/Aluminium/VR])} -> #VALUE!
... A22: =Feuil4!D21 -> 1.6 | B22: =Feuil4!E21 -> 0.95 | C22: =Feuil4!C21 -> RAL 7016 | D22: =Feuil4!A21 -> ALU | E22: =Feuil4!B21 -> VR | F22: {=_xlfn.IFS(Tableau13[Vérif 1]=1,Tableau13[1 Prix Couleur/PVC/OAF],Tableau13[Vérif 2]=1,Tableau13[2 Prix Blanc/PVC/OAF],Tableau13[Vérif 3]=1,Tableau13[3 Prix Couleur/Aluminium/OAF],Tableau13[Vérif 4]=1,Tableau13[4 Prix Blanc/Aluminium/OAF],Tableau13[Vérif 5]=1,Tableau13[5 Prix Couleur/Aluminium/Coulissant],Tableau13[Vérif 6]=1,Tableau13[6 Prix Blanc/Aluminium/Coulissant],Tableau13[Vérif 7]=1,Tableau13[7 Prix Blanc/PVC/VR],Tableau13[Vérif 8]=1,Tableau13[8 Prix Blanc/Aluminium/VR],Tableau13[Vérif 9]=1,Tableau13[9 Prix Couleur/Aluminium/VR])} -> #VALUE!
G25: {=_xlfn.IFS(Tableau13[Vérif 1]=1,Tableau13[1 Prix Couleur/PVC/OAF],Tableau13[Vérif 2]=1,Tableau13[2 Prix Blanc/PVC/OAF],Tableau13[Vérif 3]=1,Tableau13[3 Prix Couleur/Aluminium/OAF],Tableau13[Vérif 4]=1,Tableau13[4 Prix Blanc/Aluminium/OAF],Tableau13[Vérif 5]=1,Tableau13[5 Prix Couleur/Aluminium/Coulissant],Tableau13[Vérif 6]=1,Tableau13[6 Prix Blanc/Aluminium/Coulissant],Tableau13[Vérif 7]=1,Tableau13[7 Prix Blanc/PVC/VR],Tableau13[Vérif 8]=1,Tableau13[8 Prix Blanc/Aluminium/VR],Tableau13[Vérif 9]=1,Tableau13[9 Prix Couleur/Aluminium/VR])} -> 39
G26: 58
G27: 78
G28: 96
G29: 104
G30: 126
G31: 141
G32: 180
G33: 211
G34: 205
G35: 242
G36: 304
G37: 155
... G44: 234

Sheet Feuil3
A1: largeur | B1: hauteur
A2: 0.4 | B2: 0.65
A3: 0.6 | B3: 0.95
A4: 0.8 | B4: 1.05
A5: 1 | B5: 1.15
A6: 1.2 | B6: 1.25
A7: 1.4 | B7: 1.35
A8: 1.6 | B8: 1.45
A9: 1.8 | B9: 1.55
A10: 2 | B10: 2.15
A11: 2.2 | B11: 2.25
A12: 2.4
A13: 2.6
A14: 2.8
A15: 3
A16: 3.2

Sheet Feuil4
A1: Nature | B1: Type Ouverture | C1: Couleur | D1: Largeur | E1: Hauteur | F1: Prix base | G1: PV couleur (%) ou (€/m2) | H1: Mortaise | I1: Vitrage ARGON | J1: Vitrage 44/2 | K1: Pose VR dans coffre | L1: Poignée | M1: 1 Prix Couleur/PVC/OAF | N1: 2 Prix Blanc/PVC/OAF | O1: 3 Prix Couleur/Aluminium/OAF | P1: 4 Prix Blanc/Aluminium/OAF | Q1: 5 Prix Couleur/Aluminium/Coulissant | R1: 6 Prix Blanc/Aluminium/Coulissant | S1: 7 Prix Blanc/PVC/VR | T1: 8 Prix Blanc/Aluminium/VR | U1: 9 Prix Couleur/Aluminium/VR | V1: Vérif 1 | W1: Vérif 2 | X1: Vérif 3 | Y1: Vérif 4 | Z1: Vérif 5 | AA1: Vérif 6 | AB1: Vérif 7 | AC1: Vérif 8 | AD1: Vérif 9
A2: ALU | B2: OAF | C2: RAL 7016 | D2: 0.4 | E2: 1.05 | F2: 10 | G2: {=SUMPRODUCT(((Tableau4[Nature]=Tableau13[[#This Row],[Nature]])*(Tableau4[Couleur]=Tableau13[[#This Row],[Couleur]])*(_xlfn.IFS(Tableau4[[#Headers],[Coulissant]]=Tableau13[[#This Row],[Type Ouverture]],Tableau4[Coulissant],Tableau4[[#Headers],[OAF]]=Tableau13[[#This Row],[Type Ouverture]],Tableau4[OAF],Tableau4[[#Headers],[Ensemble composé]]=Tableau13[[#This Row],[Type Ouverture]],Tableau4[Ensemble composé],Tableau4[[#Headers],[VR]]=Tableau13[[#This Row],[Type Ouverture]],Tableau4[VR]))))} -> 0.18 | I2: =D2*E2*(6.2+4.3) -> 4.41 | L2: 20 | M2: {=ROUNDUP((_xlfn.IFS(Tableau13[[#This Row],[Vérif 1]]=1,Tableau13[[#This Row],[Prix base]])+(Tableau13[[#This Row],[PV couleur (%) ou (€/m2)]]*Tableau13[[#This Row],[Prix base]])+Tableau13[[#This Row],[Mortaise]]+Tableau13[[#This Row],[Vitrage ARGON]]+Tableau13[[#This Row],[Vitrage 44/2]]+Tableau13[[#This Row],[Pose VR dans coffre]]+Tableau13[[#This Row],[Poignée]])*1.05,0)} -> #N/A | N2: {=ROUNDUP((_xlfn.IFS(Tableau13[[#This Row],[Vérif 2]]=1,Tableau13[[#This Row],[Prix base]])+(Tableau13[[#This Row],[PV couleur (%) ou (€/m2)]]*Tableau13[[#This Row],[Prix base]])+Tableau13[[#This Row],[Mortaise]]+Tableau13[[#This Row],[Vitrage ARGON]]+Tableau13[[#This Row],[Vitrage 44/2]]+Tableau13[[#This Row],[Pose VR dans coffre]]+Tableau13[[#This Row],[Poignée]])*1.05,0)} -> #N/A | O2: {=ROUNDUP((_xlfn.IFS(Tableau13[[#This Row],[Vérif 3]]=1,Tableau13[[#This Row],[Prix base]])+(Tableau13[[#This Row],[PV couleur (%) ou (€/m2)]]*Tableau13[[#This Row],[Prix base]])+Tableau13[[#This Row],[Mortaise]]+Tableau13[[#This Row],[Vitrage ARGON]]+Tableau13[[#This Row],[Vitrage 44/2]]+Tableau13[[#This Row],[Pose VR dans coffre]]+Tableau13[[#This Row],[Poignée]])*1.05,0)} -> 39 | P2: {=ROUNDUP((_xlfn.IFS(Tableau13[[#This Row],[Vérif 4]]=1,Tableau13[[#This Row],[Prix base]])+(Tableau13[[#This Row],[PV couleur (%) ou (€/m2)]]*Tableau13[[#This Row],[Prix base]])+Tableau13[[#This Row],[Mortaise]]+Tableau13[[#This Row],[Vitrage ARGON]]+Tableau13[[#This Row],[Vitrage 44/2]]+Tableau13[[#This Row],[Pose VR dans coffre]]+Tableau13[[#This Row],[Poignée]])*1.05,0)} -> #N/A | Q2: {=ROUNDUP((_xlfn.IFS(Tableau13[[#This Row],[Vérif 5]]=1,Tableau13[[#This Row],[Prix base]])+(Tableau13[[#This Row],[PV couleur (%) ou (€/m2)]]*Tableau13[[#This Row],[Prix base]])+Tableau13[[#This Row],[Mortaise]]+Tableau13[[#This Row],[Vitrage ARGON]]+Tableau13[[#This Row],[Vitrage 44/2]]+Tableau13[[#This Row],[Pose VR dans coffre]]+Tableau13[[#This Row],[Poignée]])*1.05,0)} -> #N/A | R2: {=ROUNDUP((_xlfn.IFS(Tableau13[[#This Row],[Vérif 6]]=1,Tableau13[[#This Row],[Prix base]])+(Tableau13[[#This Row],[PV couleur (%) ou (€/m2)]]*Tableau13[[#This Row],[Prix base]])+Tableau13[[#This Row],[Mortaise]]+Tableau13[[#This Row],[Vitrage ARGON]]+Tableau13[[#This Row],[Vitrage 44/2]]+Tableau13[[#This Row],[Pose VR dans coffre]]+Tableau13[[#This Row],[Poignée]])*1.05,0)} -> #N/A | S2: {=ROUNDUP((_xlfn.IFS(Tableau13[[#This Row],[Vérif 7]]=1,Tableau13[[#This Row],[Prix base]])+(Tableau13[[#This Row],[PV couleur (%) ou (€/m2)]]*Tableau13[[#This Row],[Largeur]]*Tableau13[[#This Row],[Hauteur]])+Tableau13[[#This Row],[Mortaise]]+Tableau13[[#This Row],[Vitrage ARGON]]+Tableau13[[#This Row],[Vitrage 44/2]]+Tableau13[[#This Row],[Pose VR dans coffre]]+Tableau13[[#This Row],[Poignée]])*1.05,0)} -> #N/A | T2: {=ROUNDUP((_xlfn.IFS(Tableau13[[#This Row],[Vérif 8]]=1,Tableau13[[#This Row],[Prix base]])+(Tableau13[[#This Row],[PV couleur (%) ou (€/m2)]]*Tableau13[[#This Row],[Largeur]]*Tableau13[[#This Row],[Hauteur]])+Tableau13[[#This Row],[Mortaise]]+Tableau13[[#This Row],[Vitrage ARGON]]+Tableau13[[#This Row],[Vitrage 44/2]]+Tableau13[[#This Row],[Pose VR dans coffre]]+Tableau13[[#This Row],[Poignée]])*1.05,0)} -> #N/A | U2: {=ROUNDUP((_xlfn.IFS(Tableau13[[#This Row],[Vérif 9]]=1,Tableau13[[#This Row],[Prix base]])+(Tableau13[[#This Row],[PV couleur (%) ou (€/m2)]]*Tableau13[[#This Row],[Largeur]]*Tableau13[[#This Row],[Hauteur]])+Tableau13[[#This Row],[Mortaise]]+Tableau13[[#This Row],[Vitrage ARGON]]+Tableau13[[#This Row],[Vitrage 44/2]]+Tableau13[[#This Row],[Pose VR dans coffre]]+Tableau13[[#This Row],[Poignée]])*1.05,0)} -> #N/A | V2: {=SUMPRODUCT((Tableau13[Nature]="pvc")*(Tableau13[Type Ouverture]="OAF")*(Tableau13[Couleur]<>"RAL 9016")*(Tableau13[Largeur]=Tableau13[[#This Row],[Largeur]])*(Tableau13[Hauteur]=Tableau13[[#This Row],[Hauteur]])*(Tableau13[Prix base]=Tableau13[[#This Row],[Prix base]]))} -> 0 | W2: {=SUMPRODUCT((Tableau13[Nature]="pvc")*(Tableau13[Type Ouverture]="OAF")*(Tableau13[Couleur]="RAL 9016")*(Tableau13[Largeur]=Tableau13[[#This Row],[Largeur]])*(Tableau13[Hauteur]=Tableau13[[#This Row],[Hauteur]])*(Tableau13[Prix base]=Tableau13[[#This Row],[Prix base]]))} -> 0 | X2: {=SUMPRODUCT((Tableau13[Nature]="alu")*(Tableau13[Type Ouverture]="OAF")*(Tableau13[Couleur]<>"RAL 9016")*(Tableau13[Largeur]=Tableau13[[#This Row],[Largeur]])*(Tableau13[Hauteur]=Tableau13[[#This Row],[Hauteur]])*(Tableau13[Prix base]=Tableau13[[#This Row],[Prix base]]))} -> 1 | Y2: {=SUMPRODUCT((Tableau13[Nature]="alu")*(Tableau13[Type Ouverture]="OAF")*(Tableau13[Couleur]="RAL 9016")*(Tableau13[Largeur]=Tableau13[[#This Row],[Largeur]])*(Tableau13[Hauteur]=Tableau13[[#This Row],[Hauteur]])*(Tableau13[Prix base]=Tableau13[[#This Row],[Prix base]]))} -> 0 | Z2: {=SUMPRODUCT((Tableau13[Nature]="alu")*(Tableau13[Type Ouverture]="coulissant")*(Tableau13[Couleur]<>"RAL 9016")*(Tableau13[Largeur]=Tableau13[[#This Row],[Largeur]])*(Tableau13[Hauteur]=Tableau13[[#This Row],[Hauteur]])*(Tableau13[Prix base]=Tableau13[[#This Row],[Prix base]]))} -> 0 | AA2: {=SUMPRODUCT((Tableau13[Nature]="alu")*(Tableau13[Type Ouverture]="coulissant")*(Tableau13[Couleur]="RAL 9016")*(Tableau13[Largeur]=Tableau13[[#This Row],[Largeur]])*(Tableau13[Hauteur]=Tableau13[[#This Row],[Hauteur]])*(Tableau13[Prix base]=Tableau13[[#This Row],[Prix base]]))} -> 0 | AB2: {=SUMPRODUCT((Tableau13[Nature]="pvc")*(Tableau13[Type Ouverture]="vr")*(Tableau13[Couleur]="RAL 9016")*(Tableau13[Largeur]=Tableau13[[#This Row],[Largeur]])*(Tableau13[Hauteur]=Tableau13[[#This Row],[Hauteur]])*(Tableau13[Prix base]=Tableau13[[#This Row],[Prix base]]))} -> 0 | AC2: {=SUMPRODUCT((Tableau13[Nature]="alu")*(Tableau13[Type Ouverture]="vr")*(Tableau13[Couleur]="RAL 9016")*(Tableau13[Largeur]=Tableau13[[#This Row],[Largeur]])*(Tableau13[Hauteur]=Tableau13[[#This Row],[Hauteur]])*(Tableau13[Prix base]=Tableau13[[#This Row],[Prix base]]))} -> 0 | AD2: {=SUMPRODUCT((Tableau13[Nature]="alu")*(Tableau13[Type Ouverture]="vr")*(Tableau13[Couleur]<>"RAL 9016")*(Tableau13[Largeur]=Tableau13[[#This Row],[Largeur]])*(Tableau13[Hauteur]=Tableau13[[#This Row],[Hauteur]])*(Tableau13[Prix base]=Tableau13[[#This Row],[Prix base]]))} -> 0
A3: ALU | B3: OAF | C3: RAL 7016 | D3: 1 | E3: 1.05 | F3: 20 | G3: {=SUMPRODUCT(((Tableau4[Nature]=Tableau13[[#This Row],[Nature]])*(Tableau4[Couleur]=Tableau13[[#This Row],[Couleur]])*(_xlfn.IFS(Tableau4[[#Headers],[Coulissant]]=Tableau13[[#This Row],[Type Ouverture]],Tableau4[Coulissant],Tableau4[[#Headers],[OAF]]=Tableau13[[#This Row],[Type Ouverture]],Tableau4[OAF],Tableau4[[#Headers],[Ensemble composé]]=Tableau13[[#This Row],[Type Ouverture]],Tableau4[Ensemble composé],Tableau4[[#Headers],[VR]]=Tableau13[[#This Row],[Type Ouverture]],Tableau4[VR]))))} -> 0.18 | I3: =D3*E3*(6.2+4.3) -> 11.025 | L3: 20 | M3: {=ROUNDUP((_xlfn.IFS(Tableau13[[#This Row],[Vérif 1]]=1,Tableau13[[#This Row],[Prix base]])+(Tableau13[[#This Row],[PV couleur (%) ou (€/m2)]]*Tableau13[[#This Row],[Prix base]])+Tableau13[[#This Row],[Mortaise]]+Tableau13[[#This Row],[Vitrage ARGON]]+Tableau13[[#This Row],[Vitrage 44/2]]+Tableau13[[#This Row],[Pose VR dans coffre]]+Tableau13[[#This Row],[Poignée]])*1.05,0)} -> #N/A | N3: {=ROUNDUP((_xlfn.IFS(Tableau13[[#This Row],[Vérif 2]]=1,Tableau13[[#This Row],[Prix base]])+(Tableau13[[#This Row],[PV couleur (%) ou (€/m2)]]*Tableau13[[#This Row],[Prix base]])+Tableau13[[#This Row],[Mortaise]]+Tableau13[[#This Row],[Vitrage ARGON]]+Tableau13[[#This Row],[Vitrage 44/2]]+Tableau13[[#This Row],[Pose VR dans coffre]]+Tableau13[[#This Row],[Poignée]])*1.05,0)} -> #N/A | O3: {=ROUNDUP((_xlfn.IFS(Tableau13[[#This Row],[Vérif 3]]=1,Tableau13[[#This Row],[Prix base]])+(Tableau13[[#This Row],[PV couleur (%) ou (€/m2)]]*Tableau13[[#This Row],[Prix base]])+Tableau13[[#This Row],[Mortaise]]+Tableau13[[#This Row],[Vitrage ARGON]]+Tableau13[[#This Row],[Vitrage 44/2]]+Tableau13[[#This Row],[Pose VR dans coffre]]+Tableau13[[#This Row],[Poignée]])*1.05,0)} -> 58 | P3: {=ROUNDUP((_xlfn.IFS(Tableau13[[#This Row],[Vérif 4]]=1,Tableau13[[#This Row],[Prix base]])+(Tableau13[[#This Row],[PV couleur (%) ou (€/m2)]]*Tableau13[[#This Row],[Prix base]])+Tableau13[[#This Row],[Mortaise]]+Tableau13[[#This Row],[Vitrage ARGON]]+Tableau13[[#This Row],[Vitrage 44/2]]+Tableau13[[#This Row],[Pose VR dans coffre]]+Tableau13[[#This Row],[Poignée]])*1.05,0)} -> #N/A | Q3: {=ROUNDUP((_xlfn.IFS(Tableau13[[#This Row],[Vérif 5]]=1,Tableau13[[#This Row],[Prix base]])+(Tableau13[[#This Row],[PV couleur (%) ou (€/m2)]]*Tableau13[[#This Row],[Prix base]])+Tableau13[[#This Row],[Mortaise]]+Tableau13[[#This Row],[Vitrage ARGON]]+Tableau13[[#This Row],[Vitrage 44/2]]+Tableau13[[#This Row],[Pose VR dans coffre]]+Tableau13[[#This Row],[Poignée]])*1.05,0)} -> #N/A | R3: {=ROUNDUP((_xlfn.IFS(Tableau13[[#This Row],[Vérif 6]]=1,Tableau13[[#This Row],[Prix base]])+(Tableau13[[#This Row],[PV couleur (%) ou (€/m2)]]*Tableau13[[#This Row],[Prix base]])+Tableau13[[#This Row],[Mortaise]]+Tableau13[[#This Row],[Vitrage ARGON]]+Tableau13[[#This Row],[Vitrage 44/2]]+Tableau13[[#This Row],[Pose VR dans coffre]]+Tableau13[[#This Row],[Poignée]])*1.05,0)} -> #N/A | S3: {=ROUNDUP((_xlfn.IFS(Tableau13[[#This Row],[Vérif 7]]=1,Tableau13[[#This Row],[Prix base]])+(Tableau13[[#This Row],[PV couleur (%) ou (€/m2)]]*Tableau13[[#This Row],[Largeur]]*Tableau13[[#This Row],[Hauteur]])+Tableau13[[#This Row],[Mortaise]]+Tableau13[[#This Row],[Vitrage ARGON]]+Tableau13[[#This Row],[Vitrage 44/2]]+Tableau13[[#This Row],[Pose VR dans coffre]]+Tableau13[[#This Row],[Poignée]])*1.05,0)} -> #N/A | T3: {=ROUNDUP((_xlfn.IFS(Tableau13[[#This Row],[Vérif 8]]=1,Tableau13[[#This Row],[Prix base]])+(Tableau13[[#This Row],[PV couleur (%) ou (€/m2)]]*Tableau13[[#This Row],[Largeur]]*Tableau13[[#This Row],[Hauteur]])+Tableau13[[#This Row],[Mortaise]]+Tableau13[[#This Row],[Vitrage ARGON]]+Tableau13[[#This Row],[Vitrage 44/2]]+Tableau13[[#This Row],[Pose VR dans coffre]]+Tableau13[[#This Row],[Poignée]])*1.05,0)} -> #N/A | U3: {=ROUNDUP((_xlfn.IFS(Tableau13[[#This Row],[Vérif 9]]=1,Tableau13[[#This Row],[Prix base]])+(Tableau13[[#This Row],[PV couleur (%) ou (€/m2)]]*Tableau13[[#This Row],[Largeur]]*Tableau13[[#This Row],[Hauteur]])+Tableau13[[#This Row],[Mortaise]]+Tableau13[[#This Row],[Vitrage ARGON]]+Tableau13[[#This Row],[Vitrage 44/2]]+Tableau13[[#This Row],[Pose VR dans coffre]]+Tableau13[[#This Row],[Poignée]])*1.05,0)} -> #N/A | V3: {=SUMPRODUCT((Tableau13[Nature]="pvc")*(Tableau13[Type Ouverture]="OAF")*(Tableau13[Couleur]<>"RAL 9016")*(Tableau13[Largeur]=Tableau13[[#This Row],[Largeur]])*(Tableau13[Hauteur]=Tableau13[[#This Row],[Hauteur]])*(Tableau13[Prix base]=Tableau13[[#This Row],[Prix base]]))} -> 0 | W3: {=SUMPRODUCT((Tableau13[Nature]="pvc")*(Tableau13[Type Ouverture]="OAF")*(Tableau13[Couleur]="RAL 9016")*(Tableau13[Largeur]=Tableau13[[#This Row],[Largeur]])*(Tableau13[Hauteur]=Tableau13[[#This Row],[Hauteur]])*(Tableau13[Prix base]=Tableau13[[#This Row],[Prix base]]))} -> 0 | X3: {=SUMPRODUCT((Tableau13[Nature]="alu")*(Tableau13[Type Ouverture]="OAF")*(Tableau13[Couleur]<>"RAL 9016")*(Tableau13[Largeur]=Tableau13[[#This Row],[Largeur]])*(Tableau13[Hauteur]=Tableau13[[#This Row],[Hauteur]])*(Tableau13[Prix base]=Tableau13[[#This Row],[Prix base]]))} -> 1 | Y3: {=SUMPRODUCT((Tableau13[Nature]="alu")*(Tableau13[Type Ouverture]="OAF")*(Tableau13[Couleur]="RAL 9016")*(Tableau13[Largeur]=Tableau13[[#This Row],[Largeur]])*(Tableau13[Hauteur]=Tableau13[[#This Row],[Hauteur]])*(Tableau13[Prix base]=Tableau13[[#This Row],[Prix base]]))} -> 0 | Z3: {=SUMPRODUCT((Tableau13[Nature]="alu")*(Tableau13[Type Ouverture]="coulissant")*(Tableau13[Couleur]<>"RAL 9016")*(Tableau13[Largeur]=Tableau13[[#This Row],[Largeur]])*(Tableau13[Hauteur]=Tableau13[[#This Row],[Hauteur]])*(Tableau13[Prix base]=Tableau13[[#This Row],[Prix base]]))} -> 0 | AA3: {=SUMPRODUCT((Tableau13[Nature]="alu")*(Tableau13[Type Ouverture]="coulissant")*(Tableau13[Couleur]="RAL 9016")*(Tableau13[Largeur]=Tableau13[[#This Row],[Largeur]])*(Tableau13[Hauteur]=Tableau13[[#This Row],[Hauteur]])*(Tableau13[Prix base]=Tableau13[[#This Row],[Prix base]]))} -> 0 | AB3: {=SUMPRODUCT((Tableau13[Nature]="pvc")*(Tableau13[Type Ouverture]="vr")*(Tableau13[Couleur]="RAL 9016")*(Tableau13[Largeur]=Tableau13[[#This Row],[Largeur]])*(Tableau13[Hauteur]=Tableau13[[#This Row],[Hauteur]])*(Tableau13[Prix base]=Tableau13[[#This Row],[Prix base]]))} -> 0 | AC3: {=SUMPRODUCT((Tableau13[Nature]="alu")*(Tableau13[Type Ouverture]="vr")*(Tableau13[Couleur]="RAL 9016")*(Tableau13[Largeur]=Tableau13[[#This Row],[Largeur]])*(Tableau13[Hauteur]=Tableau13[[#This Row],[Hauteur]])*(Tableau13[Prix base]=Tableau13[[#This Row],[Prix base]]))} -> 0 | AD3: {=SUMPRODUCT((Tableau13[Nature]="alu")*(Tableau13[Type Ouverture]="vr")*(Tableau13[Couleur]<>"RAL 9016")*(Tableau13[Largeur]=Tableau13[[#This Row],[Largeur]])*(Tableau13[Hauteur]=Tableau13[[#This Row],[Hauteur]])*(Tableau13[Prix base]=Tableau13[[#This Row],[Prix base]]))} -> 0
A4: ALU | B4: OAF | C4: RAL 7016 | D4: 0.8 | E4: 1 | F4: 30 | G4: {=SUMPRODUCT(((Tableau4[Nature]=Tableau13[[#This Row],[Nature]])*(Tableau4[Couleur]=Tableau13[[#This Row],[Couleur]])*(_xlfn.IFS(Tableau4[[#Headers],[Coulissant]]=Tableau13[[#This Row],[Type Ouverture]],Tableau4[Coulissant],Tableau4[[#Headers],[OAF]]=Tableau13[[#This Row],[Type Ouverture]],Tableau4[OAF],Tableau4[[#Headers],[Ensemble composé]]=Tableau13[[#This Row],[Type Ouverture]],Tableau4[Ensemble composé],Tableau4[[#Headers],[VR]]=Tableau13[[#This Row],[Type Ouverture]],Tableau4[VR]))))} -> 0.18 | H4: 30 | I4: =D4*E4*(6.2+4.3) -> 8.4 | M4: {=ROUNDUP((_xlfn.IFS(Tableau13[[#This Row],[Vérif 1]]=1,Tableau13[[#This Row],[Prix base]])+(Tableau13[[#This Row],[PV couleur (%) ou (€/m2)]]*Tableau13[[#This Row],[Prix base]])+Tableau13[[#This Row],[Mortaise]]+Tableau13[[#This Row],[Vitrage ARGON]]+Tableau13[[#This Row],[Vitrage 44/2]]+Tableau13[[#This Row],[Pose VR dans coffre]]+Tableau13[[#This Row],[Poignée]])*1.05,0)} -> #N/A | N4: {=ROUNDUP((_xlfn.IFS(Tableau13[[#This Row],[Vérif 2]]=1,Tableau13[[#This Row],[Prix base]])+(Tableau13[[#This Row],[PV couleur (%) ou (€/m2)]]*Tableau13[[#This Row],[Prix base]])+Tableau13[[#This Row],[Mortaise]]+Tableau13[[#This Row],[Vitrage ARGON]]+Tableau13[[#This Row],[Vitrage 44/2]]+Tableau13[[#This Row],[Pose VR dans coffre]]+Tableau13[[#This Row],[Poignée]])*1.05,0)} -> #N/A | O4: {=ROUNDUP((_xlfn.IFS(Tableau13[[#This Row],[Vérif 3]]=1,Tableau13[[#This Row],[Prix base]])+(Tableau13[[#This Row],[PV couleur (%) ou (€/m2)]]*Tableau13[[#This Row],[Prix base]])+Tableau13[[#This Row],[Mortaise]]+Tableau13[[#This Row],[Vitrage ARGON]]+Tableau13[[#This Row],[Vitrage 44/2]]+Tableau13[[#This Row],[Pose VR dans coffre]]+Tableau13[[#This Row],[Poignée]])*1.05,0)} -> 78 | P4: {=ROUNDUP((_xlfn.IFS(Tableau13[[#This Row],[Vérif 4]]=1,Tableau13[[#This Row],[Prix base]])+(Tableau13[[#This Row],[PV couleur (%) ou (€/m2)]]*Tableau13[[#This Row],[Prix base]])+Tableau13[[#This Row],[Mortaise]]+Tableau13[[#This Row],[Vitrage ARGON]]+Tableau13[[#This Row],[Vitrage 44/2]]+Tableau13[[#This Row],[Pose VR dans coffre]]+Tableau13[[#This Row],[Poignée]])*1.05,0)} -> #N/A | Q4: {=ROUNDUP((_xlfn.IFS(Tableau13[[#This Row],[Vérif 5]]=1,Tableau13[[#This Row],[Prix base]])+(Tableau13[[#This Row],[PV couleur (%) ou (€/m2)]]*Tableau13[[#This Row],[Prix base]])+Tableau13[[#This Row],[Mortaise]]+Tableau13[[#This Row],[Vitrage ARGON]]+Tableau13[[#This Row],[Vitrage 44/2]]+Tableau13[[#This Row],[Pose VR dans coffre]]+Tableau13[[#This Row],[Poignée]])*1.05,0)} -> #N/A | R4: {=ROUNDUP((_xlfn.IFS(Tableau13[[#This Row],[Vérif 6]]=1,Tableau13[[#This Row],[Prix base]])+(Tableau13[[#This Row],[PV couleur (%) ou (€/m2)]]*Tableau13[[#This Row],[Prix base]])+Tableau13[[#This Row],[Mortaise]]+Tableau13[[#This Row],[Vitrage ARGON]]+Tableau13[[#This Row],[Vitrage 44/2]]+Tableau13[[#This Row],[Pose VR dans coffre]]+Tableau13[[#This Row],[Poignée]])*1.05,0)} -> #N/A | S4: {=ROUNDUP((_xlfn.IFS(Tableau13[[#This Row],[Vérif 7]]=1,Tableau13[[#This Row],[Prix base]])+(Tableau13[[#This Row],[PV couleur (%) ou (€/m2)]]*Tableau13[[#This Row],[Largeur]]*Tableau13[[#This Row],[Hauteur]])+Tableau13[[#This Row],[Mortaise]]+Tableau13[[#This Row],[Vitrage ARGON]]+Tableau13[[#This Row],[Vitrage 44/2]]+Tableau13[[#This Row],[Pose VR dans coffre]]+Tableau13[[#This Row],[Poignée]])*1.05,0)} -> #N/A | T4: {=ROUNDUP((_xlfn.IFS(Tableau13[[#This Row],[Vérif 8]]=1,Tableau13[[#This Row],[Prix base]])+(Tableau13[[#This Row],[PV couleur (%) ou (€/m2)]]*Tableau13[[#This Row],[Largeur]]*Tableau13[[#This Row],[Hauteur]])+Tableau13[[#This Row],[Mortaise]]+Tableau13[[#This Row],[Vitrage ARGON]]+Tableau13[[#This Row],[Vitrage 44/2]]+Tableau13[[#This Row],[Pose VR dans coffre]]+Tableau13[[#This Row],[Poignée]])*1.05,0)} -> #N/A | U4: {=ROUNDUP((_xlfn.IFS(Tableau13[[#This Row],[Vérif 9]]=1,Tableau13[[#This Row],[Prix base]])+(Tableau13[[#This Row],[PV couleur (%) ou (€/m2)]]*Tableau13[[#This Row],[Largeur]]*Tableau13[[#This Row],[Hauteur]])+Tableau13[[#This Row],[Mortaise]]+Tableau13[[#This Row],[Vitrage ARGON]]+Tableau13[[#This Row],[Vitrage 44/2]]+Tableau13[[#This Row],[Pose VR dans coffre]]+Tableau13[[#This Row],[Poignée]])*1.05,0)} -> #N/A | V4: {=SUMPRODUCT((Tableau13[Nature]="pvc")*(Tableau13[Type Ouverture]="OAF")*(Tableau13[Couleur]<>"RAL 9016")*(Tableau13[Largeur]=Tableau13[[#This Row],[Largeur]])*(Tableau13[Hauteur]=Tableau13[[#This Row],[Hauteur]])*(Tableau13[Prix base]=Tableau13[[#This Row],[Prix base]]))} -> 0 | W4: {=SUMPRODUCT((Tableau13[Nature]="pvc")*(Tableau13[Type Ouverture]="OAF")*(Tableau13[Couleur]="RAL 9016")*(Tableau13[Largeur]=Tableau13[[#This Row],[Largeur]])*(Tableau13[Hauteur]=Tableau13[[#This Row],[Hauteur]])*(Tableau13[Prix base]=Tableau13[[#This Row],[Prix base]]))} -> 0 | X4: {=SUMPRODUCT((Tableau13[Nature]="alu")*(Tableau13[Type Ouverture]="OAF")*(Tableau13[Couleur]<>"RAL 9016")*(Tableau13[Largeur]=Tableau13[[#This Row],[Largeur]])*(Tableau13[Hauteur]=Tableau13[[#This Row],[Hauteur]])*(Tableau13[Prix base]=Tableau13[[#This Row],[Prix base]]))} -> 1 | Y4: {=SUMPRODUCT((Tableau13[Nature]="alu")*(Tableau13[Type Ouverture]="OAF")*(Tableau13[Couleur]="RAL 9016")*(Tableau13[Largeur]=Tableau13[[#This Row],[Largeur]])*(Tableau13[Hauteur]=Tableau13[[#This Row],[Hauteur]])*(Tableau13[Prix base]=Tableau13[[#This Row],[Prix base]]))} -> 0 | Z4: {=SUMPRODUCT((Tableau13[Nature]="alu")*(Tableau13[Type Ouverture]="coulissant")*(Tableau13[Couleur]<>"RAL 9016")*(Tableau13[Largeur]=Tableau13[[#This Row],[Largeur]])*(Tableau13[Hauteur]=Tableau13[[#This Row],[Hauteur]])*(Tableau13[Prix base]=Tableau13[[#This Row],[Prix base]]))} -> 0 | AA4: {=SUMPRODUCT((Tableau13[Nature]="alu")*(Tableau13[Type Ouverture]="coulissant")*(Tableau13[Couleur]="RAL 9016")*(Tableau13[Largeur]=Tableau13[[#This Row],[Largeur]])*(Tableau13[Hauteur]=Tableau13[[#This Row],[Hauteur]])*(Tableau13[Prix base]=Tableau13[[#This Row],[Prix base]]))} -> 0 | AB4: {=SUMPRODUCT((Tableau13[Nature]="pvc")*(Tableau13[Type Ouverture]="vr")*(Tableau13[Couleur]="RAL 9016")*(Tableau13[Largeur]=Tableau13[[#This Row],[Largeur]])*(Tableau13[Hauteur]=Tableau13[[#This Row],[Hauteur]])*(Tableau13[Prix base]=Tableau13[[#This Row],[Prix base]]))} -> 0 | AC4: {=SUMPRODUCT((Tableau13[Nature]="alu")*(Tableau13[Type Ouverture]="vr")*(Tableau13[Couleur]="RAL 9016")*(Tableau13[Largeur]=Tableau13[[#This Row],[Largeur]])*(Tableau13[Hauteur]=Tableau13[[#This Row],[Hauteur]])*(Tableau13[Prix base]=Tableau13[[#This Row],[Prix base]]))} -> 0 | AD4: {=SUMPRODUCT((Tableau13[Nature]="alu")*(Tableau13[Type Ouverture]="vr")*(Tableau13[Couleur]<>"RAL 9016")*(Tableau13[Largeur]=Tableau13[[#This Row],[Largeur]])*(Tableau13[Hauteur]=Tableau13[[#This Row],[Hauteur]])*(Tableau13[Prix base]=Tableau13[[#This Row],[Prix base]]))} -> 0
A5: ALU | B5: OAF | C5: RAL 7016 | D5: 0.6 | E5: 2.25 | F5: 40 | G5: {=SUMPRODUCT(((Tableau4[Nature]=Tableau13[[#This Row],[Nature]])*(Tableau4[Couleur]=Tableau13[[#This Row],[Couleur]])*(_xlfn.IFS(Tableau4[[#Headers],[Coulissant]]=Tableau13[[#This Row],[Type Ouverture]],Tableau4[Coulissant],Tableau4[[#Headers],[OAF]]=Tableau13[[#This Row],[Type Ouverture]],Tableau4[OAF],Tableau4[[#Headers],[Ensemble composé]]=Tableau13[[#This Row],[Type Ouverture]],Tableau4[Ensemble composé],Tableau4[[#Headers],[VR]]=Tableau13[[#This Row],[Type Ouverture]],Tableau4[VR]))))} -> 0.18 | H5: 30 | I5: =D5*E5*(6.2+4.3) -> 14.175 | M5: {=ROUNDUP((_xlfn.IFS(Tableau13[[#This Row],[Vérif 1]]=1,Tableau13[[#This Row],[Prix base]])+(Tableau13[[#This Row],[PV couleur (%) ou (€/m2)]]*Tableau13[[#This Row],[Prix base]])+Tableau13[[#This Row],[Mortaise]]+Tableau13[[#This Row],[Vitrage ARGON]]+Tableau13[[#This Row],[Vitrage 44/2]]+Tableau13[[#This Row],[Pose VR dans coffre]]+Tableau13[[#This Row],[Poignée]])*1.05,0)} -> #N/A | N5: {=ROUNDUP((_xlfn.IFS(Tableau13[[#This Row],[Vérif 2]]=1,Tableau13[[#This Row],[Prix base]])+(Tableau13[[#This Row],[PV couleur (%) ou (€/m2)]]*Tableau13[[#This Row],[Prix base]])+Tableau13[[#This Row],[Mortaise]]+Tableau13[[#This Row],[Vitrage ARGON]]+Tableau13[[#This Row],[Vitrage 44/2]]+Tableau13[[#This Row],[Pose VR dans coffre]]+Tableau13[[#This Row],[Poignée]])*1.05,0)} -> #N/A | O5: {=ROUNDUP((_xlfn.IFS(Tableau13[[#This Row],[Vérif 3]]=1,Tableau13[[#This Row],[Prix base]])+(Tableau13[[#This Row],[PV couleur (%) ou (€/m2)]]*Tableau13[[#This Row],[Prix base]])+Tableau13[[#This Row],[Mortaise]]+Tableau13[[#This Row],[Vitrage ARGON]]+Tableau13[[#This Row],[Vitrage 44/2]]+Tableau13[[#This Row],[Pose VR dans coffre]]+Tableau13[[#This Row],[Poignée]])*1.05,0)} -> 96 | P5: {=ROUNDUP((_xlfn.IFS(Tableau13[[#This Row],[Vérif 4]]=1,Tableau13[[#This Row],[Prix base]])+(Tableau13[[#This Row],[PV couleur (%) ou (€/m2)]]*Tableau13[[#This Row],[Prix base]])+Tableau13[[#This Row],[Mortaise]]+Tableau13[[#This Row],[Vitrage ARGON]]+Tableau13[[#This Row],[Vitrage 44/2]]+Tableau13[[#This Row],[Pose VR dans coffre]]+Tableau13[[#This Row],[Poignée]])*1.05,0)} -> #N/A | Q5: {=ROUNDUP((_xlfn.IFS(Tableau13[[#This Row],[Vérif 5]]=1,Tableau13[[#This Row],[Prix base]])+(Tableau13[[#This Row],[PV couleur (%) ou (€/m2)]]*Tableau13[[#This Row],[Prix base]])+Tableau13[[#This Row],[Mortaise]]+Tableau13[[#This Row],[Vitrage ARGON]]+Tableau13[[#This Row],[Vitrage 44/2]]+Tableau13[[#This Row],[Pose VR dans coffre]]+Tableau13[[#This Row],[Poignée]])*1.05,0)} -> #N/A | R5: {=ROUNDUP((_xlfn.IFS(Tableau13[[#This Row],[Vérif 6]]=1,Tableau13[[#This Row],[Prix base]])+(Tableau13[[#This Row],[PV couleur (%) ou (€/m2)]]*Tableau13[[#This Row],[Prix base]])+Tableau13[[#This Row],[Mortaise]]+Tableau13[[#This Row],[Vitrage ARGON]]+Tableau13[[#This Row],[Vitrage 44/2]]+Tableau13[[#This Row],[Pose VR dans coffre]]+Tableau13[[#This Row],[Poignée]])*1.05,0)} -> #N/A | S5: {=ROUNDUP((_xlfn.IFS(Tableau13[[#This Row],[Vérif 7]]=1,Tableau13[[#This Row],[Prix base]])+(Tableau13[[#This Row],[PV couleur (%) ou (€/m2)]]*Tableau13[[#This Row],[Largeur]]*Tableau13[[#This Row],[Hauteur]])+Tableau13[[#This Row],[Mortaise]]+Tableau13[[#This Row],[Vitrage ARGON]]+Tableau13[[#This Row],[Vitrage 44/2]]+Tableau13[[#This Row],[Pose VR dans coffre]]+Tableau13[[#This Row],[Poignée]])*1.05,0)} -> #N/A | T5: {=ROUNDUP((_xlfn.IFS(Tableau13[[#This Row],[Vérif 8]]=1,Tableau13[[#This Row],[Prix base]])+(Tableau13[[#This Row],[PV couleur (%) ou (€/m2)]]*Tableau13[[#This Row],[Largeur]]*Tableau13[[#This Row],[Hauteur]])+Tableau13[[#This Row],[Mortaise]]+Tableau13[[#This Row],[Vitrage ARGON]]+Tableau13[[#This Row],[Vitrage 44/2]]+Tableau13[[#This Row],[Pose VR dans coffre]]+Tableau13[[#This Row],[Poignée]])*1.05,0)} -> #N/A | U5: {=ROUNDUP((_xlfn.IFS(Tableau13[[#This Row],[Vérif 9]]=1,Tableau13[[#This Row],[Prix base]])+(Tableau13[[#This Row],[PV couleur (%) ou (€/m2)]]*Tableau13[[#This Row],[Largeur]]*Tableau13[[#This Row],[Hauteur]])+Tableau13[[#This Row],[Mortaise]]+Tableau13[[#This Row],[Vitrage ARGON]]+Tableau13[[#This Row],[Vitrage 44/2]]+Tableau13[[#This Row],[Pose VR dans coffre]]+Tableau13[[#This Row],[Poignée]])*1.05,0)} -> #N/A | V5: {=SUMPRODUCT((Tableau13[Nature]="pvc")*(Tableau13[Type Ouverture]="OAF")*(Tableau13[Couleur]<>"RAL 9016")*(Tableau13[Largeur]=Tableau13[[#This Row],[Largeur]])*(Tableau13[Hauteur]=Tableau13[[#This Row],[Hauteur]])*(Tableau13[Prix base]=Tableau13[[#This Row],[Prix base]]))} -> 0 | W5: {=SUMPRODUCT((Tableau13[Nature]="pvc")*(Tableau13[Type Ouverture]="OAF")*(Tableau13[Couleur]="RAL 9016")*(Tableau13[Largeur]=Tableau13[[#This Row],[Largeur]])*(Tableau13[Hauteur]=Tableau13[[#This Row],[Hauteur]])*(Tableau13[Prix base]=Tableau13[[#This Row],[Prix base]]))} -> 0 | X5: {=SUMPRODUCT((Tableau13[Nature]="alu")*(Tableau13[Type Ouverture]="OAF")*(Tableau13[Couleur]<>"RAL 9016")*(Tableau13[Largeur]=Tableau13[[#This Row],[Largeur]])*(Tableau13[Hauteur]=Tableau13[[#This Row],[Hauteur]])*(Tableau13[Prix base]=Tableau13[[#This Row],[Prix base]]))} -> 1 | Y5: {=SUMPRODUCT((Tableau13[Nature]="alu")*(Tableau13[Type Ouverture]="OAF")*(Tableau13[Couleur]="RAL 9016")*(Tableau13[Largeur]=Tableau13[[#This Row],[Largeur]])*(Tableau13[Hauteur]=Tableau13[[#This Row],[Hauteur]])*(Tableau13[Prix base]=Tableau13[[#This Row],[Prix base]]))} -> 0 | Z5: {=SUMPRODUCT((Tableau13[Nature]="alu")*(Tableau13[Type Ouverture]="coulissant")*(Tableau13[Couleur]<>"RAL 9016")*(Tableau13[Largeur]=Tableau13[[#This Row],[Largeur]])*(Tableau13[Hauteur]=Tableau13[[#This Row],[Hauteur]])*(Tableau13[Prix base]=Tableau13[[#This Row],[Prix base]]))} -> 0 | AA5: {=SUMPRODUCT((Tableau13[Nature]="alu")*(Tableau13[Type Ouverture]="coulissant")*(Tableau13[Couleur]="RAL 9016")*(Tableau13[Largeur]=Tableau13[[#This Row],[Largeur]])*(Tableau13[Hauteur]=Tableau13[[#This Row],[Hauteur]])*(Tableau13[Prix base]=Tableau13[[#This Row],[Prix base]]))} -> 0 | AB5: {=SUMPRODUCT((Tableau13[Nature]="pvc")*(Tableau13[Type Ouverture]="vr")*(Tableau13[Couleur]="RAL 9016")*(Tableau13[Largeur]=Tableau13[[#This Row],[Largeur]])*(Tableau13[Hauteur]=Tableau13[[#This Row],[Hauteur]])*(Tableau13[Prix base]=Tableau13[[#This Row],[Prix base]]))} -> 0 | AC5: {=SUMPRODUCT((Tableau13[Nature]="alu")*(Tableau13[Type Ouverture]="vr")*(Tableau13[Couleur]="RAL 9016")*(Tableau13[Largeur]=Tableau13[[#This Row],[Largeur]])*(Tableau13[Hauteur]=Tableau13[[#This Row],[Hauteur]])*(Tableau13[Prix base]=Tableau13[[#This Row],[Prix base]]))} -> 0 | AD5: {=SUMPRODUCT((Tableau13[Nature]="alu")*(Tableau13[Type Ouverture]="vr")*(Tableau13[Couleur]<>"RAL 9016")*(Tableau13[Largeur]=Tableau13[[#This Row],[Largeur]])*(Tableau13[Hauteur]=Tableau13[[#This Row],[Hauteur]])*(Tableau13[Prix base]=Tableau13[[#This Row],[Prix base]]))} -> 0
A6: ALU | B6: OAF | C6: RAL 7016 | D6: 0.4 | E6: 2.25 | F6: 50 | G6: {=SUMPRODUCT(((Tableau4[Nature]=Tableau13[[#This Row],[Nature]])*(Tableau4[Couleur]=Tableau13[[#This Row],[Couleur]])*(_xlfn.IFS(Tableau4[[#Headers],[Coulissant]]=Tableau13[[#This Row],[Type Ouverture]],Tableau4[Coulissant],Tableau4[[#Headers],[OAF]]=Tableau13[[#This Row],[Type Ouverture]],Tableau4[OAF],Tableau4[[#Headers],[Ensemble composé]]=Tableau13[[#This Row],[Type Ouverture]],Tableau4[Ensemble composé],Tableau4[[#Headers],[VR]]=Tableau13[[#This Row],[Type Ouverture]],Tableau4[VR]))))} -> 0.18 | H6: 30 | I6: =D6*E6*(6.2+4.3) -> 9.45 | M6: {=ROUNDUP((_xlfn.IFS(Tableau13[[#This Row],[Vérif 1]]=1,Tableau13[[#This Row],[Prix base]])+(Tableau13[[#This Row],[PV couleur (%) ou (€/m2)]]*Tableau13[[#This Row],[Prix base]])+Tableau13[[#This Row],[Mortaise]]+Tableau13[[#This Row],[Vitrage ARGON]]+Tableau13[[#This Row],[Vitrage 44/2]]+Tableau13[[#This Row],[Pose VR dans coffre]]+Tableau13[[#This Row],[Poignée]])*1.05,0)} -> #N/A | N6: {=ROUNDUP((_xlfn.IFS(Tableau13[[#This Row],[Vérif 2]]=1,Tableau13[[#This Row],[Prix base]])+(Tableau13[[#This Row],[PV couleur (%) ou (€/m2)]]*Tableau13[[#This Row],[Prix base]])+Tableau13[[#This Row],[Mortaise]]+Tableau13[[#This Row],[Vitrage ARGON]]+Tableau13[[#This Row],[Vitrage 44/2]]+Tableau13[[#This Row],[Pose VR dans coffre]]+Tableau13[[#This Row],[Poignée]])*1.05,0)} -> #N/A | O6: {=ROUNDUP((_xlfn.IFS(Tableau13[[#This Row],[Vérif 3]]=1,Tableau13[[#This Row],[Prix base]])+(Tableau13[[#This Row],[PV couleur (%) ou (€/m2)]]*Tableau13[[#This Row],[Prix base]])+Tableau13[[#This Row],[Mortaise]]+Tableau13[[#This Row],[Vitrage ARGON]]+Tableau13[[#This Row],[Vitrage 44/2]]+Tableau13[[#This Row],[Pose VR dans coffre]]+Tableau13[[#This Row],[Poignée]])*1.05,0)} -> 104 | P6: {=ROUNDUP((_xlfn.IFS(Tableau13[[#This Row],[Vérif 4]]=1,Tableau13[[#This Row],[Prix base]])+(Tableau13[[#This Row],[PV couleur (%) ou (€/m2)]]*Tableau13[[#This Row],[Prix base]])+Tableau13[[#This Row],[Mortaise]]+Tableau13[[#This Row],[Vitrage ARGON]]+Tableau13[[#This Row],[Vitrage 44/2]]+Tableau13[[#This Row],[Pose VR dans coffre]]+Tableau13[[#This Row],[Poignée]])*1.05,0)} -> #N/A | Q6: {=ROUNDUP((_xlfn.IFS(Tableau13[[#This Row],[Vérif 5]]=1,Tableau13[[#This Row],[Prix base]])+(Tableau13[[#This Row],[PV couleur (%) ou (€/m2)]]*Tableau13[[#This Row],[Prix base]])+Tableau13[[#This Row],[Mortaise]]+Tableau13[[#This Row],[Vitrage ARGON]]+Tableau13[[#This Row],[Vitrage 44/2]]+Tableau13[[#This Row],[Pose VR dans coffre]]+Tableau13[[#This Row],[Poignée]])*1.05,0)} -> #N/A | R6: {=ROUNDUP((_xlfn.IFS(Tableau13[[#This Row],[Vérif 6]]=1,Tableau13[[#This Row],[Prix base]])+(Tableau13[[#This Row],[PV couleur (%) ou (€/m2)]]*Tableau13[[#This Row],[Prix base]])+Tableau13[[#This Row],[Mortaise]]+Tableau13[[#This Row],[Vitrage ARGON]]+Tableau13[[#This Row],[Vitrage 44/2]]+Tableau13[[#This Row],[Pose VR dans coffre]]+Tableau13[[#This Row],[Poignée]])*1.05,0)} -> #N/A | S6: {=ROUNDUP((_xlfn.IFS(Tableau13[[#This Row],[Vérif 7]]=1,Tableau13[[#This Row],[Prix base]])+(Tableau13[[#This Row],[PV couleur (%) ou (€/m2)]]*Tableau13[[#This Row],[Largeur]]*Tableau13[[#This Row],[Hauteur]])+Tableau13[[#This Row],[Mortaise]]+Tableau13[[#This Row],[Vitrage ARGON]]+Tableau13[[#This Row],[Vitrage 44/2]]+Tableau13[[#This Row],[Pose VR dans coffre]]+Tableau13[[#This Row],[Poignée]])*1.05,0)} -> #N/A | T6: {=ROUNDUP((_xlfn.IFS(Tableau13[[#This Row],[Vérif 8]]=1,Tableau13[[#This Row],[Prix base]])+(Tableau13[[#This Row],[PV couleur (%) ou (€/m2)]]*Tableau13[[#This Row],[Largeur]]*Tableau13[[#This Row],[Hauteur]])+Tableau13[[#This Row],[Mortaise]]+Tableau13[[#This Row],[Vitrage ARGON]]+Tableau13[[#This Row],[Vitrage 44/2]]+Tableau13[[#This Row],[Pose VR dans coffre]]+Tableau13[[#This Row],[Poignée]])*1.05,0)} -> #N/A | U6: {=ROUNDUP((_xlfn.IFS(Tableau13[[#This Row],[Vérif 9]]=1,Tableau13[[#This Row],[Prix base]])+(Tableau13[[#This Row],[PV couleur (%) ou (€/m2)]]*Tableau13[[#This Row],[Largeur]]*Tableau13[[#This Row],[Hauteur]])+Tableau13[[#This Row],[Mortaise]]+Tableau13[[#This Row],[Vitrage ARGON]]+Tableau13[[#This Row],[Vitrage 44/2]]+Tableau13[[#This Row],[Pose VR dans coffre]]+Tableau13[[#This Row],[Poignée]])*1.05,0)} -> #N/A | V6: {=SUMPRODUCT((Tableau13[Nature]="pvc")*(Tableau13[Type Ouverture]="OAF")*(Tableau13[Couleur]<>"RAL 9016")*(Tableau13[Largeur]=Tableau13[[#This Row],[Largeur]])*(Tableau13[Hauteur]=Tableau13[[#This Row],[Hauteur]])*(Tableau13[Prix base]=Tableau13[[#This Row],[Prix base]]))} -> 0 | W6: {=SUMPRODUCT((Tableau13[Nature]="pvc")*(Tableau13[Type Ouverture]="OAF")*(Tableau13[Couleur]="RAL 9016")*(Tableau13[Largeur]=Tableau13[[#This Row],[Largeur]])*(Tableau13[Hauteur]=Tableau13[[#This Row],[Hauteur]])*(Tableau13[Prix base]=Tableau13[[#This Row],[Prix base]]))} -> 0 | X6: {=SUMPRODUCT((Tableau13[Nature]="alu")*(Tableau13[Type Ouverture]="OAF")*(Tableau13[Couleur]<>"RAL 9016")*(Tableau13[Largeur]=Tableau13[[#This Row],[Largeur]])*(Tableau13[Hauteur]=Tableau13[[#This Row],[Hauteur]])*(Tableau13[Prix base]=Tableau13[[#This Row],[Prix base]]))} -> 1 | Y6: {=SUMPRODUCT((Tableau13[Nature]="alu")*(Tableau13[Type Ouverture]="OAF")*(Tableau13[Couleur]="RAL 9016")*(Tableau13[Largeur]=Tableau13[[#This Row],[Largeur]])*(Tableau13[Hauteur]=Tableau13[[#This Row],[Hauteur]])*(Tableau13[Prix base]=Tableau13[[#This Row],[Prix base]]))} -> 0 | Z6: {=SUMPRODUCT((Tableau13[Nature]="alu")*(Tableau13[Type Ouverture]="coulissant")*(Tableau13[Couleur]<>"RAL 9016")*(Tableau13[Largeur]=Tableau13[[#This Row],[Largeur]])*(Tableau13[Hauteur]=Tableau13[[#This Row],[Hauteur]])*(Tableau13[Prix base]=Tableau13[[#This Row],[Prix base]]))} -> 0 | AA6: {=SUMPRODUCT((Tableau13[Nature]="alu")*(Tableau13[Type Ouverture]="coulissant")*(Tableau13[Couleur]="RAL 9016")*(Tableau13[Largeur]=Tableau13[[#This Row],[Largeur]])*(Tableau13[Hauteur]=Tableau13[[#This Row],[Hauteur]])*(Tableau13[Prix base]=Tableau13[[#This Row],[Prix base]]))} -> 0 | AB6: {=SUMPRODUCT((Tableau13[Nature]="pvc")*(Tableau13[Type Ouverture]="vr")*(Tableau13[Couleur]="RAL 9016")*(Tableau13[Largeur]=Tableau13[[#This Row],[Largeur]])*(Tableau13[Hauteur]=Tableau13[[#This Row],[Hauteur]])*(Tableau13[Prix base]=Tableau13[[#This Row],[Prix base]]))} -> 0 | AC6: {=SUMPRODUCT((Tableau13[Nature]="alu")*(Tableau13[Type Ouverture]="vr")*(Tableau13[Couleur]="RAL 9016")*(Tableau13[Largeur]=Tableau13[[#This Row],[Largeur]])*(Tableau13[Hauteur]=Tableau13[[#This Row],[Hauteur]])*(Tableau13[Prix base]=Tableau13[[#This Row],[Prix base]]))} -> 0 | AD6: {=SUMPRODUCT((Tableau13[Nature]="alu")*(Tableau13[Type Ouverture]="vr")*(Tableau13[Couleur]<>"RAL 9016")*(Tableau13[Largeur]=Tableau13[[#This Row],[Largeur]])*(Tableau13[Hauteur]=Tableau13[[#This Row],[Hauteur]])*(Tableau13[Prix base]=Tableau13[[#This Row],[Prix base]]))} -> 0
A7: ALU | B7: OAF | C7: RAL 7016 | D7: 0.8 | E7: 2.25 | F7: 60 | G7: {=SUMPRODUCT(((Tableau4[Nature]=Tableau13[[#This Row],[Nature]])*(Tableau4[Couleur]=Tableau13[[#This Row],[Couleur]])*(_xlfn.IFS(Tableau4[[#Headers],[Coulissant]]=Tableau13[[#This Row],[Type Ouverture]],Tableau4[Coulissant],Tableau4[[#Headers],[OAF]]=Tableau13[[#This Row],[Type Ouverture]],Tableau4[OAF],Tableau4[[#Headers],[Ensemble composé]]=Tableau13[[#This Row],[Type Ouverture]],Tableau4[Ensemble composé],Tableau4[[#Headers],[VR]]=Tableau13[[#This Row],[Type Ouverture]],Tableau4[VR]))))} -> 0.18 | H7: 30 | I7: =D7*E7*(6.2+4.3) -> 18.9 | M7: {=ROUNDUP((_xlfn.IFS(Tableau13[[#This Row],[Vérif 1]]=1,Tableau13[[#This Row],[Prix base]])+(Tableau13[[#This Row],[PV couleur (%) ou (€/m2)]]*Tableau13[[#This Row],[Prix base]])+Tableau13[[#This Row],[Mortaise]]+Tableau13[[#This Row],[Vitrage ARGON]]+Tableau13[[#This Row],[Vitrage 44/2]]+Tableau13[[#This Row],[Pose VR dans coffre]]+Tableau13[[#This Row],[Poignée]])*1.05,0)} -> #N/A | N7: {=ROUNDUP((_xlfn.IFS(Tableau13[[#This Row],[Vérif 2]]=1,Tableau13[[#This Row],[Prix base]])+(Tableau13[[#This Row],[PV couleur (%) ou (€/m2)]]*Tableau13[[#This Row],[Prix base]])+Tableau13[[#This Row],[Mortaise]]+Tableau13[[#This Row],[Vitrage ARGON]]+Tableau13[[#This Row],[Vitrage 44/2]]+Tableau13[[#This Row],[Pose VR dans coffre]]+Tableau13[[#This Row],[Poignée]])*1.05,0)} -> #N/A | O7: {=ROUNDUP((_xlfn.IFS(Tableau13[[#This Row],[Vérif 3]]=1,Tableau13[[#This Row],[Prix base]])+(Tableau13[[#This Row],[PV couleur (%) ou (€/m2)]]*Tableau13[[#This Row],[Prix base]])+Tableau13[[#This Row],[Mortaise]]+Tableau13[[#This Row],[Vitrage ARGON]]+Tableau13[[#This Row],[Vitrage 44/2]]+Tableau13[[#This Row],[Pose VR dans coffre]]+Tableau13[[#This Row],[Poignée]])*1.05,0)} -> 126 | P7: {=ROUNDUP((_xlfn.IFS(Tableau13[[#This Row],[Vérif 4]]=1,Tableau13[[#This Row],[Prix base]])+(Tableau13[[#This Row],[PV couleur (%) ou (€/m2)]]*Tableau13[[#This Row],[Prix base]])+Tableau13[[#This Row],[Mortaise]]+Tableau13[[#This Row],[Vitrage ARGON]]+Tableau13[[#This Row],[Vitrage 44/2]]+Tableau13[[#This Row],[Pose VR dans coffre]]+Tableau13[[#This Row],[Poignée]])*1.05,0)} -> #N/A | Q7: {=ROUNDUP((_xlfn.IFS(Tableau13[[#This Row],[Vérif 5]]=1,Tableau13[[#This Row],[Prix base]])+(Tableau13[[#This Row],[PV couleur (%) ou (€/m2)]]*Tableau13[[#This Row],[Prix base]])+Tableau13[[#This Row],[Mortaise]]+Tableau13[[#This Row],[Vitrage ARGON]]+Tableau13[[#This Row],[Vitrage 44/2]]+Tableau13[[#This Row],[Pose VR dans coffre]]+Tableau13[[#This Row],[Poignée]])*1.05,0)} -> #N/A | R7: {=ROUNDUP((_xlfn.IFS(Tableau13[[#This Row],[Vérif 6]]=1,Tableau13[[#This Row],[Prix base]])+(Tableau13[[#This Row],[PV couleur (%) ou (€/m2)]]*Tableau13[[#This Row],[Prix base]])+Tableau13[[#This Row],[Mortaise]]+Tableau13[[#This Row],[Vitrage ARGON]]+Tableau13[[#This Row],[Vitrage 44/2]]+Tableau13[[#This Row],[Pose VR dans coffre]]+Tableau13[[#This Row],[Poignée]])*1.05,0)} -> #N/A | S7: {=ROUNDUP((_xlfn.IFS(Tableau13[[#This Row],[Vérif 7]]=1,Tableau13[[#This Row],[Prix base]])+(Tableau13[[#This Row],[PV couleur (%) ou (€/m2)]]*Tableau13[[#This Row],[Largeur]]*Tableau13[[#This Row],[Hauteur]])+Tableau13[[#This Row],[Mortaise]]+Tableau13[[#This Row],[Vitrage ARGON]]+Tableau13[[#This Row],[Vitrage 44/2]]+Tableau13[[#This Row],[Pose VR dans coffre]]+Tableau13[[#This Row],[Poignée]])*1.05,0)} -> #N/A | T7: {=ROUNDUP((_xlfn.IFS(Tableau13[[#This Row],[Vérif 8]]=1,Tableau13[[#This Row],[Prix base]])+(Tableau13[[#This Row],[PV couleur (%) ou (€/m2)]]*Tableau13[[#This Row],[Largeur]]*Tableau13[[#This Row],[Hauteur]])+Tableau13[[#This Row],[Mortaise]]+Tableau13[[#This Row],[Vitrage ARGON]]+Tableau13[[#This Row],[Vitrage 44/2]]+Tableau13[[#This Row],[Pose VR dans coffre]]+Tableau13[[#This Row],[Poignée]])*1.05,0)} -> #N/A | U7: {=ROUNDUP((_xlfn.IFS(Tableau13[[#This Row],[Vérif 9]]=1,Tableau13[[#This Row],[Prix base]])+(Tableau13[[#This Row],[PV couleur (%) ou (€/m2)]]*Tableau13[[#This Row],[Largeur]]*Tableau13[[#This Row],[Hauteur]])+Tableau13[[#This Row],[Mortaise]]+Tableau13[[#This Row],[Vitrage ARGON]]+Tableau13[[#This Row],[Vitrage 44/2]]+Tableau13[[#This Row],[Pose VR dans coffre]]+Tableau13[[#This Row],[Poignée]])*1.05,0)} -> #N/A | V7: {=SUMPRODUCT((Tableau13[Nature]="pvc")*(Tableau13[Type Ouverture]="OAF")*(Tableau13[Couleur]<>"RAL 9016")*(Tableau13[Largeur]=Tableau13[[#This Row],[Largeur]])*(Tableau13[Hauteur]=Tableau13[[#This Row],[Hauteur]])*(Tableau13[Prix base]=Tableau13[[#This Row],[Prix base]]))} -> 0 | W7: {=SUMPRODUCT((Tableau13[Nature]="pvc")*(Tableau13[Type Ouverture]="OAF")*(Tableau13[Couleur]="RAL 9016")*(Tableau13[Largeur]=Tableau13[[#This Row],[Largeur]])*(Tableau13[Hauteur]=Tableau13[[#This Row],[Hauteur]])*(Tableau13[Prix base]=Tableau13[[#This Row],[Prix base]]))} -> 0 | X7: {=SUMPRODUCT((Tableau13[Nature]="alu")*(Tableau13[Type Ouverture]="OAF")*(Tableau13[Couleur]<>"RAL 9016")*(Tableau13[Largeur]=Tableau13[[#This Row],[Largeur]])*(Tableau13[Hauteur]=Tableau13[[#This Row],[Hauteur]])*(Tableau13[Prix base]=Tableau13[[#This Row],[Prix base]]))} -> 1 | Y7: {=SUMPRODUCT((Tableau13[Nature]="alu")*(Tableau13[Type Ouverture]="OAF")*(Tableau13[Couleur]="RAL 9016")*(Tableau13[Largeur]=Tableau13[[#This Row],[Largeur]])*(Tableau13[Hauteur]=Tableau13[[#This Row],[Hauteur]])*(Tableau13[Prix base]=Tableau13[[#This Row],[Prix base]]))} -> 0 | Z7: {=SUMPRODUCT((Tableau13[Nature]="alu")*(Tableau13[Type Ouverture]="coulissant")*(Tableau13[Couleur]<>"RAL 9016")*(Tableau13[Largeur]=Tableau13[[#This Row],[Largeur]])*(Tableau13[Hauteur]=Tableau13[[#This Row],[Hauteur]])*(Tableau13[Prix base]=Tableau13[[#This Row],[Prix base]]))} -> 0 | AA7: {=SUMPRODUCT((Tableau13[Nature]="alu")*(Tableau13[Type Ouverture]="coulissant")*(Tableau13[Couleur]="RAL 9016")*(Tableau13[Largeur]=Tableau13[[#This Row],[Largeur]])*(Tableau13[Hauteur]=Tableau13[[#This Row],[Hauteur]])*(Tableau13[Prix base]=Tableau13[[#This Row],[Prix base]]))} -> 0 | AB7: {=SUMPRODUCT((Tableau13[Nature]="pvc")*(Tableau13[Type Ouverture]="vr")*(Tableau13[Couleur]="RAL 9016")*(Tableau13[Largeur]=Tableau13[[#This Row],[Largeur]])*(Tableau13[Hauteur]=Tableau13[[#This Row],[Hauteur]])*(Tableau13[Prix base]=Tableau13[[#This Row],[Prix base]]))} -> 0 | AC7: {=SUMPRODUCT((Tableau13[Nature]="alu")*(Tableau13[Type Ouverture]="vr")*(Tableau13[Couleur]="RAL 9016")*(Tableau13[Largeur]=Tableau13[[#This Row],[Largeur]])*(Tableau13[Hauteur]=Tableau13[[#This Row],[Hauteur]])*(Tableau13[Prix base]=Tableau13[[#This Row],[Prix base]]))} -> 0 | AD7: {=SUMPRODUCT((Tableau13[Nature]="alu")*(Tableau13[Type Ouverture]="vr")*(Tableau13[Couleur]<>"RAL 9016")*(Tableau13[Largeur]=Tableau13[[#This Row],[Largeur]])*(Tableau13[Hauteur]=Tableau13[[#This Row],[Hauteur]])*(Tableau13[Prix base]=Tableau13[[#This Row],[Prix base]]))} -> 0
A8: ALU | B8: OAF | C8: RAL 7016 | D8: 0.9 | E8: 2.25 | F8: 70 | G8: {=SUMPRODUCT(((Tableau4[Nature]=Tableau13[[#This Row],[Nature]])*(Tableau4[Couleur]=Tableau13[[#This Row],[Couleur]])*(_xlfn.IFS(Tableau4[[#Headers],[Coulissant]]=Tableau13[[#This Row],[Type Ouverture]],Tableau4[Coulissant],Tableau4[[#Headers],[OAF]]=Tableau13[[#This Row],[Type Ouverture]],Tableau4[OAF],Tableau4[[#Headers],[Ensemble composé]]=Tableau13[[#This Row],[Type Ouverture]],Tableau4[Ensemble composé],Tableau4[[#Headers],[VR]]=Tableau13[[#This Row],[Type Ouverture]],Tableau4[VR]))))} -> 0.18 | H8: 30 | I8: =D8*E8*(6.2+4.3) -> 21.2625 | M8: {=ROUNDUP((_xlfn.IFS(Tableau13[[#This Row],[Vérif 1]]=1,Tableau13[[#This Row],[Prix base]])+(Tableau13[[#This Row],[PV couleur (%) ou (€/m2)]]*Tableau13[[#This Row],[Prix base]])+Tableau13[[#This Row],[Mortaise]]+Tableau13[[#This Row],[Vitrage ARGON]]+Tableau13[[#This Row],[Vitrage 44/2]]+Tableau13[[#This Row],[Pose VR dans coffre]]+Tableau13[[#This Row],[Poignée]])*1.05,0)} -> #N/A | N8: {=ROUNDUP((_xlfn.IFS(Tableau13[[#This Row],[Vérif 2]]=1,Tableau13[[#This Row],[Prix base]])+(Tableau13[[#This Row],[PV couleur (%) ou (€/m2)]]*Tableau13[[#This Row],[Prix base]])+Tableau13[[#This Row],[Mortaise]]+Tableau13[[#This Row],[Vitrage ARGON]]+Tableau13[[#This Row],[Vitrage 44/2]]+Tableau13[[#This Row],[Pose VR dans coffre]]+Tableau13[[#This Row],[Poignée]])*1.05,0)} -> #N/A | O8: {=ROUNDUP((_xlfn.IFS(Tableau13[[#This Row],[Vérif 3]]=1,Tableau13[[#This Row],[Prix base]])+(Tableau13[[#This Row],[PV couleur (%) ou (€/m2)]]*Tableau13[[#This Row],[Prix base]])+Tableau13[[#This Row],[Mortaise]]+Tableau13[[#This Row],[Vitrage ARGON]]+Tableau13[[#This Row],[Vitrage 44/2]]+Tableau13[[#This Row],[Pose VR dans coffre]]+Tableau13[[#This Row],[Poignée]])*1.05,0)} -> 141 | P8: {=ROUNDUP((_xlfn.IFS(Tableau13[[#This Row],[Vérif 4]]=1,Tableau13[[#This Row],[Prix base]])+(Tableau13[[#This Row],[PV couleur (%) ou (€/m2)]]*Tableau13[[#This Row],[Prix base]])+Tableau13[[#This Row],[Mortaise]]+Tableau13[[#This Row],[Vitrage ARGON]]+Tableau13[[#This Row],[Vitrage 44/2]]+Tableau13[[#This Row],[Pose VR dans coffre]]+Tableau13[[#This Row],[Poignée]])*1.05,0)} -> #N/A | Q8: {=ROUNDUP((_xlfn.IFS(Tableau13[[#This Row],[Vérif 5]]=1,Tableau13[[#This Row],[Prix base]])+(Tableau13[[#This Row],[PV couleur (%) ou (€/m2)]]*Tableau13[[#This Row],[Prix base]])+Tableau13[[#This Row],[Mortaise]]+Tableau13[[#This Row],[Vitrage ARGON]]+Tableau13[[#This Row],[Vitrage 44/2]]+Tableau13[[#This Row],[Pose VR dans coffre]]+Tableau13[[#This Row],[Poignée]])*1.05,0)} -> #N/A | R8: {=ROUNDUP((_xlfn.IFS(Tableau13[[#This Row],[Vérif 6]]=1,Tableau13[[#This Row],[Prix base]])+(Tableau13[[#This Row],[PV couleur (%) ou (€/m2)]]*Tableau13[[#This Row],[Prix base]])+Tableau13[[#This Row],[Mortaise]]+Tableau13[[#This Row],[Vitrage ARGON]]+Tableau13[[#This Row],[Vitrage 44/2]]+Tableau13[[#This Row],[Pose VR dans coffre]]+Tableau13[[#This Row],[Poignée]])*1.05,0)} -> #N/A | S8: {=ROUNDUP((_xlfn.IFS(Tableau13[[#This Row],[Vérif 7]]=1,Tableau13[[#This Row],[Prix base]])+(Tableau13[[#This Row],[PV couleur (%) ou (€/m2)]]*Tableau13[[#This Row],[Largeur]]*Tableau13[[#This Row],[Hauteur]])+Tableau13[[#This Row],[Mortaise]]+Tableau13[[#This Row],[Vitrage ARGON]]+Tableau13[[#This Row],[Vitrage 44/2]]+Tableau13[[#This Row],[Pose VR dans coffre]]+Tableau13[[#This Row],[Poignée]])*1.05,0)} -> #N/A | T8: {=ROUNDUP((_xlfn.IFS(Tableau13[[#This Row],[Vérif 8]]=1,Tableau13[[#This Row],[Prix base]])+(Tableau13[[#This Row],[PV couleur (%) ou (€/m2)]]*Tableau13[[#This Row],[Largeur]]*Tableau13[[#This Row],[Hauteur]])+Tableau13[[#This Row],[Mortaise]]+Tableau13[[#This Row],[Vitrage ARGON]]+Tableau13[[#This Row],[Vitrage 44/2]]+Tableau13[[#This Row],[Pose VR dans coffre]]+Tableau13[[#This Row],[Poignée]])*1.05,0)} -> #N/A | U8: {=ROUNDUP((_xlfn.IFS(Tableau13[[#This Row],[Vérif 9]]=1,Tableau13[[#This Row],[Prix base]])+(Tableau13[[#This Row],[PV couleur (%) ou (€/m2)]]*Tableau13[[#This Row],[Largeur]]*Tableau13[[#This Row],[Hauteur]])+Tableau13[[#This Row],[Mortaise]]+Tableau13[[#This Row],[Vitrage ARGON]]+Tableau13[[#This Row],[Vitrage 44/2]]+Tableau13[[#This Row],[Pose VR dans coffre]]+Tableau13[[#This Row],[Poignée]])*1.05,0)} -> #N/A | V8: {=SUMPRODUCT((Tableau13[Nature]="pvc")*(Tableau13[Type Ouverture]="OAF")*(Tableau13[Couleur]<>"RAL 9016")*(Tableau13[Largeur]=Tableau13[[#This Row],[Largeur]])*(Tableau13[Hauteur]=Tableau13[[#This Row],[Hauteur]])*(Tableau13[Prix base]=Tableau13[[#This Row],[Prix base]]))} -> 0 | W8: {=SUMPRODUCT((Tableau13[Nature]="pvc")*(Tableau13[Type Ouverture]="OAF")*(Tableau13[Couleur]="RAL 9016")*(Tableau13[Largeur]=Tableau13[[#This Row],[Largeur]])*(Tableau13[Hauteur]=Tableau13[[#This Row],[Hauteur]])*(Tableau13[Prix base]=Tableau13[[#This Row],[Prix base]]))} -> 0 | X8: {=SUMPRODUCT((Tableau13[Nature]="alu")*(Tableau13[Type Ouverture]="OAF")*(Tableau13[Couleur]<>"RAL 9016")*(Tableau13[Largeur]=Tableau13[[#This Row],[Largeur]])*(Tableau13[Hauteur]=Tableau13[[#This Row],[Hauteur]])*(Tableau13[Prix base]=Tableau13[[#This Row],[Prix base]]))} -> 1 | Y8: {=SUMPRODUCT((Tableau13[Nature]="alu")*(Tableau13[Type Ouverture]="OAF")*(Tableau13[Couleur]="RAL 9016")*(Tableau13[Largeur]=Tableau13[[#This Row],[Largeur]])*(Tableau13[Hauteur]=Tableau13[[#This Row],[Hauteur]])*(Tableau13[Prix base]=Tableau13[[#This Row],[Prix base]]))} -> 0 | Z8: {=SUMPRODUCT((Tableau13[Nature]="alu")*(Tableau13[Type Ouverture]="coulissant")*(Tableau13[Couleur]<>"RAL 9016")*(Tableau13[Largeur]=Tableau13[[#This Row],[Largeur]])*(Tableau13[Hauteur]=Tableau13[[#This Row],[Hauteur]])*(Tableau13[Prix base]=Tableau13[[#This Row],[Prix base]]))} -> 0 | AA8: {=SUMPRODUCT((Tableau13[Nature]="alu")*(Tableau13[Type Ouverture]="coulissant")*(Tableau13[Couleur]="RAL 9016")*(Tableau13[Largeur]=Tableau13[[#This Row],[Largeur]])*(Tableau13[Hauteur]=Tableau13[[#This Row],[Hauteur]])*(Tableau13[Prix base]=Tableau13[[#This Row],[Prix base]]))} -> 0 | AB8: {=SUMPRODUCT((Tableau13[Nature]="pvc")*(Tableau13[Type Ouverture]="vr")*(Tableau13[Couleur]="RAL 9016")*(Tableau13[Largeur]=Tableau13[[#This Row],[Largeur]])*(Tableau13[Hauteur]=Tableau13[[#This Row],[Hauteur]])*(Tableau13[Prix base]=Tableau13[[#This Row],[Prix base]]))} -> 0 | AC8: {=SUMPRODUCT((Tableau13[Nature]="alu")*(Tableau13[Type Ouverture]="vr")*(Tableau13[Couleur]="RAL 9016")*(Tableau13[Largeur]=Tableau13[[#This Row],[Largeur]])*(Tableau13[Hauteur]=Tableau13[[#This Row],[Hauteur]])*(Tableau13[Prix base]=Tableau13[[#This Row],[Prix base]]))} -> 0 | AD8: {=SUMPRODUCT((Tableau13[Nature]="alu")*(Tableau13[Type Ouverture]="vr")*(Tableau13[Couleur]<>"RAL 9016")*(Tableau13[Largeur]=Tableau13[[#This Row],[Largeur]])*(Tableau13[Hauteur]=Tableau13[[#This Row],[Hauteur]])*(Tableau13[Prix base]=Tableau13[[#This Row],[Prix base]]))} -> 0
A9: ALU | B9: OAF | C9: RAL 7016 | D9: 0.9 | E9: 2.25 | F9: 80 | G9: {=SUMPRODUCT(((Tableau4[Nature]=Tableau13[[#This Row],[Nature]])*(Tableau4[Couleur]=Tableau13[[#This Row],[Couleur]])*(_xlfn.IFS(Tableau4[[#Headers],[Coulissant]]=Tableau13[[#This Row],[Type Ouverture]],Tableau4[Coulissant],Tableau4[[#Headers],[OAF]]=Tableau13[[#This Row],[Type Ouverture]],Tableau4[OAF],Tableau4[[#Headers],[Ensemble composé]]=Tableau13[[#This Row],[Type Ouverture]],Tableau4[Ensemble composé],Tableau4[[#Headers],[VR]]=Tableau13[[#This Row],[Type Ouverture]],Tableau4[VR]))))} -> 0.18 | H9: 30 | I9: =D9*E9*(6.2+4.3) -> 21.2625 | L9: 25 | M9: {=ROUNDUP((_xlfn.IFS(Tableau13[[#This Row],[Vérif 1]]=1,Tableau13[[#This Row],[Prix base]])+(Tableau13[[#This Row],[PV couleur (%) ou (€/m2)]]*Tableau13[[#This Row],[Prix base]])+Tableau13[[#This Row],[Mortaise]]+Tableau13[[#This Row],[Vitrage ARGON]]+Tableau13[[#This Row],[Vitrage 44/2]]+Tableau13[[#This Row],[Pose VR dans coffre]]+Tableau13[[#This Row],[Poignée]])*1.05,0)} -> #N/A | N9: {=ROUNDUP((_xlfn.IFS(Tableau13[[#This Row],[Vérif 2]]=1,Tableau13[[#This Row],[Prix base]])+(Tableau13[[#This Row],[PV couleur (%) ou (€/m2)]]*Tableau13[[#This Row],[Prix base]])+Tableau13[[#This Row],[Mortaise]]+Tableau13[[#This Row],[Vitrage ARGON]]+Tableau13[[#This Row],[Vitrage 44/2]]+Tableau13[[#This Row],[Pose VR dans coffre]]+Tableau13[[#This Row],[Poignée]])*1.05,0)} -> #N/A | O9: {=ROUNDUP((_xlfn.IFS(Tableau13[[#This Row],[Vérif 3]]=1,Tableau13[[#This Row],[Prix base]])+(Tableau13[[#This Row],[PV couleur (%) ou (€/m2)]]*Tableau13[[#This Row],[Prix base]])+Tableau13[[#This Row],[Mortaise]]+Tableau13[[#This Row],[Vitrage ARGON]]+Tableau13[[#This Row],[Vitrage 44/2]]+Tableau13[[#This Row],[Pose VR dans coffre]]+Tableau13[[#This Row],[Poignée]])*1.05,0)} -> 180 | P9: {=ROUNDUP((_xlfn.IFS(Tableau13[[#This Row],[Vérif 4]]=1,Tableau13[[#This Row],[Prix base]])+(Tableau13[[#This Row],[PV couleur (%) ou (€/m2)]]*Tableau13[[#This Row],[Prix base]])+Tableau13[[#This Row],[Mortaise]]+Tableau13[[#This Row],[Vitrage ARGON]]+Tableau13[[#This Row],[Vitrage 44/2]]+Tableau13[[#This Row],[Pose VR dans coffre]]+Tableau13[[#This Row],[Poignée]])*1.05,0)} -> #N/A | Q9: {=ROUNDUP((_xlfn.IFS(Tableau13[[#This Row],[Vérif 5]]=1,Tableau13[[#This Row],[Prix base]])+(Tableau13[[#This Row],[PV couleur (%) ou (€/m2)]]*Tableau13[[#This Row],[Prix base]])+Tableau13[[#This Row],[Mortaise]]+Tableau13[[#This Row],[Vitrage ARGON]]+Tableau13[[#This Row],[Vitrage 44/2]]+Tableau13[[#This Row],[Pose VR dans coffre]]+Tableau13[[#This Row],[Poignée]])*1.05,0)} -> #N/A | R9: {=ROUNDUP((_xlfn.IFS(Tableau13[[#This Row],[Vérif 6]]=1,Tableau13[[#This Row],[Prix base]])+(Tableau13[[#This Row],[PV couleur (%) ou (€/m2)]]*Tableau13[[#This Row],[Prix base]])+Tableau13[[#This Row],[Mortaise]]+Tableau13[[#This Row],[Vitrage ARGON]]+Tableau13[[#This Row],[Vitrage 44/2]]+Tableau13[[#This Row],[Pose VR dans coffre]]+Tableau13[[#This Row],[Poignée]])*1.05,0)} -> #N/A | S9: {=ROUNDUP((_xlfn.IFS(Tableau13[[#This Row],[Vérif 7]]=1,Tableau13[[#This Row],[Prix base]])+(Tableau13[[#This Row],[PV couleur (%) ou (€/m2)]]*Tableau13[[#This Row],[Largeur]]*Tableau13[[#This Row],[Hauteur]])+Tableau13[[#This Row],[Mortaise]]+Tableau13[[#This Row],[Vitrage ARGON]]+Tableau13[[#This Row],[Vitrage 44/2]]+Tableau13[[#This Row],[Pose VR dans coffre]]+Tableau13[[#This Row],[Poignée]])*1.05,0)} -> #N/A | T9: {=ROUNDUP((_xlfn.IFS(Tableau13[[#This Row],[Vérif 8]]=1,Tableau13[[#This Row],[Prix base]])+(Tableau13[[#This Row],[PV couleur (%) ou (€/m2)]]*Tableau13[[#This Row],[Largeur]]*Tableau13[[#This Row],[Hauteur]])+Tableau13[[#This Row],[Mortaise]]+Tableau13[[#This Row],[Vitrage ARGON]]+Tableau13[[#This Row],[Vitrage 44/2]]+Tableau13[[#This Row],[Pose VR dans coffre]]+Tableau13[[#This Row],[Poignée]])*1.05,0)} -> #N/A | U9: {=ROUNDUP((_xlfn.IFS(Tableau13[[#This Row],[Vérif 9]]=1,Tableau13[[#This Row],[Prix base]])+(Tableau13[[#This Row],[PV couleur (%) ou (€/m2)]]*Tableau13[[#This Row],[Largeur]]*Tableau13[[#This Row],[Hauteur]])+Tableau13[[#This Row],[Mortaise]]+Tableau13[[#This Row],[Vitrage ARGON]]+Tableau13[[#This Row],[Vitrage 44/2]]+Tableau13[[#This Row],[Pose VR dans coffre]]+Tableau13[[#This Row],[Poignée]])*1.05,0)} -> #N/A | V9: {=SUMPRODUCT((Tableau13[Nature]="pvc")*(Tableau13[Type Ouverture]="OAF")*(Tableau13[Couleur]<>"RAL 9016")*(Tableau13[Largeur]=Tableau13[[#This Row],[Largeur]])*(Tableau13[Hauteur]=Tableau13[[#This Row],[Hauteur]])*(Tableau13[Prix base]=Tableau13[[#This Row],[Prix base]]))} -> 0 | W9: {=SUMPRODUCT((Tableau13[Nature]="pvc")*(Tableau13[Type Ouverture]="OAF")*(Tableau13[Couleur]="RAL 9016")*(Tableau13[Largeur]=Tableau13[[#This Row],[Largeur]])*(Tableau13[Hauteur]=Tableau13[[#This Row],[Hauteur]])*(Tableau13[Prix base]=Tableau13[[#This Row],[Prix base]]))} -> 0 | X9: {=SUMPRODUCT((Tableau13[Nature]="alu")*(Tableau13[Type Ouverture]="OAF")*(Tableau13[Couleur]<>"RAL 9016")*(Tableau13[Largeur]=Tableau13[[#This Row],[Largeur]])*(Tableau13[Hauteur]=Tableau13[[#This Row],[Hauteur]])*(Tableau13[Prix base]=Tableau13[[#This Row],[Prix base]]))} -> 1 | Y9: {=SUMPRODUCT((Tableau13[Nature]="alu")*(Tableau13[Type Ouverture]="OAF")*(Tableau13[Couleur]="RAL 9016")*(Tableau13[Largeur]=Tableau13[[#This Row],[Largeur]])*(Tableau13[Hauteur]=Tableau13[[#This Row],[Hauteur]])*(Tableau13[Prix base]=Tableau13[[#This Row],[Prix base]]))} -> 0 | Z9: {=SUMPRODUCT((Tableau13[Nature]="alu")*(Tableau13[Type Ouverture]="coulissant")*(Tableau13[Couleur]<>"RAL 9016")*(Tableau13[Largeur]=Tableau13[[#This Row],[Largeur]])*(Tableau13[Hauteur]=Tableau13[[#This Row],[Hauteur]])*(Tableau13[Prix base]=Tableau13[[#This Row],[Prix base]]))} -> 0 | AA9: {=SUMPRODUCT((Tableau13[Nature]="alu")*(Tableau13[Type Ouverture]="coulissant")*(Tableau13[Couleur]="RAL 9016")*(Tableau13[Largeur]=Tableau13[[#This Row],[Largeur]])*(Tableau13[Hauteur]=Tableau13[[#This Row],[Hauteur]])*(Tableau13[Prix base]=Tableau13[[#This Row],[Prix base]]))} -> 0 | AB9: {=SUMPRODUCT((Tableau13[Nature]="pvc")*(Tableau13[Type Ouverture]="vr")*(Tableau13[Couleur]="RAL 9016")*(Tableau13[Largeur]=Tableau13[[#This Row],[Largeur]])*(Tableau13[Hauteur]=Tableau13[[#This Row],[Hauteur]])*(Tableau13[Prix base]=Tableau13[[#This Row],[Prix base]]))} -> 0 | AC9: {=SUMPRODUCT((Tableau13[Nature]="alu")*(Tableau13[Type Ouverture]="vr")*(Tableau13[Couleur]="RAL 9016")*(Tableau13[Largeur]=Tableau13[[#This Row],[Largeur]])*(Tableau13[Hauteur]=Tableau13[[#This Row],[Hauteur]])*(Tableau13[Prix base]=Tableau13[[#This Row],[Prix base]]))} -> 0 | AD9: {=SUMPRODUCT((Tableau13[Nature]="alu")*(Tableau13[Type Ouverture]="vr")*(Tableau13[Couleur]<>"RAL 9016")*(Tableau13[Largeur]=Tableau13[[#This Row],[Largeur]])*(Tableau13[Hauteur]=Tableau13[[#This Row],[Hauteur]])*(Tableau13[Prix base]=Tableau13[[#This Row],[Prix base]]))} -> 0
A10: ALU | B10: Coulissant | C10: RAL 7016 | D10: 1.8 | E10: 2.25 | F10: 90 | G10: {=SUMPRODUCT(((Tableau4[Nature]=Tableau13[[#This Row],[Nature]])*(Tableau4[Couleur]=Tableau13[[#This Row],[Couleur]])*(_xlfn.IFS(Tableau4[[#Headers],[Coulissant]]=Tableau13[[#This Row],[Type Ouverture]],Tableau4[Coulissant],Tableau4[[#Headers],[OAF]]=Tableau13[[#This Row],[Type Ouverture]],Tableau4[OAF],Tableau4[[#Headers],[Ensemble composé]]=Tableau13[[#This Row],[Type Ouverture]],Tableau4[Ensemble composé],Tableau4[[#Headers],[VR]]=Tableau13[[#This Row],[Type Ouverture]],Tableau4[VR]))))} -> 0.2 | H10: 30 | I10: =D10*E10*(6.2+4.3) -> 42.525 | L10: 20.4 | M10: {=ROUNDUP((_xlfn.IFS(Tableau13[[#This Row],[Vérif 1]]=1,Tableau13[[#This Row],[Prix base]])+(Tableau13[[#This Row],[PV couleur (%) ou (€/m2)]]*Tableau13[[#This Row],[Prix base]])+Tableau13[[#This Row],[Mortaise]]+Tableau13[[#This Row],[Vitrage ARGON]]+Tableau13[[#This Row],[Vitrage 44/2]]+Tableau13[[#This Row],[Pose VR dans coffre]]+Tableau13[[#This Row],[Poignée]])*1.05,0)} -> #N/A | N10: {=ROUNDUP((_xlfn.IFS(Tableau13[[#This Row],[Vérif 2]]=1,Tableau13[[#This Row],[Prix base]])+(Tableau13[[#This Row],[PV couleur (%) ou (€/m2)]]*Tableau13[[#This Row],[Prix base]])+Tableau13[[#This Row],[Mortaise]]+Tableau13[[#This Row],[Vitrage ARGON]]+Tableau13[[#This Row],[Vitrage 44/2]]+Tableau13[[#This Row],[Pose VR dans coffre]]+Tableau13[[#This Row],[Poignée]])*1.05,0)} -> #N/A | O10: {=ROUNDUP((_xlfn.IFS(Tableau13[[#This Row],[Vérif 3]]=1,Tableau13[[#This Row],[Prix base]])+(Tableau13[[#This Row],[PV couleur (%) ou (€/m2)]]*Tableau13[[#This Row],[Prix base]])+Tableau13[[#This Row],[Mortaise]]+Tableau13[[#This Row],[Vitrage ARGON]]+Tableau13[[#This Row],[Vitrage 44/2]]+Tableau13[[#This Row],[Pose VR dans coffre]]+Tableau13[[#This Row],[Poignée]])*1.05,0)} -> #N/A | P10: {=ROUNDUP((_xlfn.IFS(Tableau13[[#This Row],[Vérif 4]]=1,Tableau13[[#This Row],[Prix base]])+(Tableau13[[#This Row],[PV couleur (%) ou (€/m2)]]*Tableau13[[#This Row],[Prix base]])+Tableau13[[#This Row],[Mortaise]]+Tableau13[[#This Row],[Vitrage ARGON]]+Tableau13[[#This Row],[Vitrage 44/2]]+Tableau13[[#This Row],[Pose VR dans coffre]]+Tableau13[[#This Row],[Poignée]])*1.05,0)} -> #N/A | Q10: {=ROUNDUP((_xlfn.IFS(Tableau13[[#This Row],[Vérif 5]]=1,Tableau13[[#This Row],[Prix base]])+(Tableau13[[#This Row],[PV couleur (%) ou (€/m2)]]*Tableau13[[#This Row],[Prix base]])+Tableau13[[#This Row],[Mortaise]]+Tableau13[[#This Row],[Vitrage ARGON]]+Tableau13[[#This Row],[Vitrage 44/2]]+Tableau13[[#This Row],[Pose VR dans coffre]]+Tableau13[[#This Row],[Poignée]])*1.05,0)} -> 211 | R10: {=ROUNDUP((_xlfn.IFS(Tableau13[[#This Row],[Vérif 6]]=1,Tableau13[[#This Row],[Prix base]])+(Tableau13[[#This Row],[PV couleur (%) ou (€/m2)]]*Tableau13[[#This Row],[Prix base]])+Tableau13[[#This Row],[Mortaise]]+Tableau13[[#This Row],[Vitrage ARGON]]+Tableau13[[#This Row],[Vitrage 44/2]]+Tableau13[[#This Row],[Pose VR dans coffre]]+Tableau13[[#This Row],[Poignée]])*1.05,0)} -> #N/A | S10: {=ROUNDUP((_xlfn.IFS(Tableau13[[#This Row],[Vérif 7]]=1,Tableau13[[#This Row],[Prix base]])+(Tableau13[[#This Row],[PV couleur (%) ou (€/m2)]]*Tableau13[[#This Row],[Largeur]]*Tableau13[[#This Row],[Hauteur]])+Tableau13[[#This Row],[Mortaise]]+Tableau13[[#This Row],[Vitrage ARGON]]+Tableau13[[#This Row],[Vitrage 44/2]]+Tableau13[[#This Row],[Pose VR dans coffre]]+Tableau13[[#This Row],[Poignée]])*1.05,0)} -> #N/A | T10: {=ROUNDUP((_xlfn.IFS(Tableau13[[#This Row],[Vérif 8]]=1,Tableau13[[#This Row],[Prix base]])+(Tableau13[[#This Row],[PV couleur (%) ou (€/m2)]]*Tableau13[[#This Row],[Largeur]]*Tableau13[[#This Row],[Hauteur]])+Tableau13[[#This Row],[Mortaise]]+Tableau13[[#This Row],[Vitrage ARGON]]+Tableau13[[#This Row],[Vitrage 44/2]]+Tableau13[[#This Row],[Pose VR dans coffre]]+Tableau13[[#This Row],[Poignée]])*1.05,0)} -> #N/A | U10: {=ROUNDUP((_xlfn.IFS(Tableau13[[#This Row],[Vérif 9]]=1,Tableau13[[#This Row],[Prix base]])+(Tableau13[[#This Row],[PV couleur (%) ou (€/m2)]]*Tableau13[[#This Row],[Largeur]]*Tableau13[[#This Row],[Hauteur]])+Tableau13[[#This Row],[Mortaise]]+Tableau13[[#This Row],[Vitrage ARGON]]+Tableau13[[#This Row],[Vitrage 44/2]]+Tableau13[[#This Row],[Pose VR dans coffre]]+Tableau13[[#This Row],[Poignée]])*1.05,0)} -> #N/A | V10: {=SUMPRODUCT((Tableau13[Nature]="pvc")*(Tableau13[Type Ouverture]="OAF")*(Tableau13[Couleur]<>"RAL 9016")*(Tableau13[Largeur]=Tableau13[[#This Row],[Largeur]])*(Tableau13[Hauteur]=Tableau13[[#This Row],[Hauteur]])*(Tableau13[Prix base]=Tableau13[[#This Row],[Prix base]]))} -> 0 | W10: {=SUMPRODUCT((Tableau13[Nature]="pvc")*(Tableau13[Type Ouverture]="OAF")*(Tableau13[Couleur]="RAL 9016")*(Tableau13[Largeur]=Tableau13[[#This Row],[Largeur]])*(Tableau13[Hauteur]=Tableau13[[#This Row],[Hauteur]])*(Tableau13[Prix base]=Tableau13[[#This Row],[Prix base]]))} -> 0 | X10: {=SUMPRODUCT((Tableau13[Nature]="alu")*(Tableau13[Type Ouverture]="OAF")*(Tableau13[Couleur]<>"RAL 9016")*(Tableau13[Largeur]=Tableau13[[#This Row],[Largeur]])*(Tableau13[Hauteur]=Tableau13[[#This Row],[Hauteur]])*(Tableau13[Prix base]=Tableau13[[#This Row],[Prix base]]))} -> 0 | Y10: {=SUMPRODUCT((Tableau13[Nature]="alu")*(Tableau13[Type Ouverture]="OAF")*(Tableau13[Couleur]="RAL 9016")*(Tableau13[Largeur]=Tableau13[[#This Row],[Largeur]])*(Tableau13[Hauteur]=Tableau13[[#This Row],[Hauteur]])*(Tableau13[Prix base]=Tableau13[[#This Row],[Prix base]]))} -> 0 | Z10: {=SUMPRODUCT((Tableau13[Nature]="alu")*(Tableau13[Type Ouverture]="coulissant")*(Tableau13[Couleur]<>"RAL 9016")*(Tableau13[Largeur]=Tableau13[[#This Row],[Largeur]])*(Tableau13[Hauteur]=Tableau13[[#This Row],[Hauteur]])*(Tableau13[Prix base]=Tableau13[[#This Row],[Prix base]]))} -> 1 | AA10: {=SUMPRODUCT((Tableau13[Nature]="alu")*(Tableau13[Type Ouverture]="coulissant")*(Tableau13[Couleur]="RAL 9016")*(Tableau13[Largeur]=Tableau13[[#This Row],[Largeur]])*(Tableau13[Hauteur]=Tableau13[[#This Row],[Hauteur]])*(Tableau13[Prix base]=Tableau13[[#This Row],[Prix base]]))} -> 0 | AB10: {=SUMPRODUCT((Tableau13[Nature]="pvc")*(Tableau13[Type Ouverture]="vr")*(Tableau13[Couleur]="RAL 9016")*(Tableau13[Largeur]=Tableau13[[#This Row],[Largeur]])*(Tableau13[Hauteur]=Tableau13[[#This Row],[Hauteur]])*(Tableau13[Prix base]=Tableau13[[#This Row],[Prix base]]))} -> 0 | AC10: {=SUMPRODUCT((Tableau13[Nature]="alu")*(Tableau13[Type Ouverture]="vr")*(Tableau13[Couleur]="RAL 9016")*(Tableau13[Largeur]=Tableau13[[#This Row],[Largeur]])*(Tableau13[Hauteur]=Tableau13[[#This Row],[Hauteur]])*(Tableau13[Prix base]=Tableau13[[#This Row],[Prix base]]))} -> 0 | AD10: {=SUMPRODUCT((Tableau13[Nature]="alu")*(Tableau13[Type Ouverture]="vr")*(Tableau13[Couleur]<>"RAL 9016")*(Tableau13[Largeur]=Tableau13[[#This Row],[Largeur]])*(Tableau13[Hauteur]=Tableau13[[#This Row],[Hauteur]])*(Tableau13[Prix base]=Tableau13[[#This Row],[Prix base]]))} -> 0
A11: ALU | B11: Coulissant | C11: RAL 7016 | D11: 2.4 | E11: 0.95 | F11: 100 | G11: {=SUMPRODUCT(((Tableau4[Nature]=Tableau13[[#This Row],[Nature]])*(Tableau4[Couleur]=Tableau13[[#This Row],[Couleur]])*(_xlfn.IFS(Tableau4[[#Headers],[Coulissant]]=Tableau13[[#This Row],[Type Ouverture]],Tableau4[Coulissant],Tableau4[[#Headers],[OAF]]=Tableau13[[#This Row],[Type Ouverture]],Tableau4[OAF],Tableau4[[#Headers],[Ensemble composé]]=Tableau13[[#This Row],[Type Ouverture]],Tableau4[Ensemble composé],Tableau4[[#Headers],[VR]]=Tableau13[[#This Row],[Type Ouverture]],Tableau4[VR]))))} -> 0.2 | H11: 30 | I11: =D11*E11*(6.2+4.3) -> 23.94 | L11: 20.4 | M11: {=ROUNDUP((_xlfn.IFS(Tableau13[[#This Row],[Vérif 1]]=1,Tableau13[[#This Row],[Prix base]])+(Tableau13[[#This Row],[PV couleur (%) ou (€/m2)]]*Tableau13[[#This Row],[Prix base]])+Tableau13[[#This Row],[Mortaise]]+Tableau13[[#This Row],[Vitrage ARGON]]+Tableau13[[#This Row],[Vitrage 44/2]]+Tableau13[[#This Row],[Pose VR dans coffre]]+Tableau13[[#This Row],[Poignée]])*1.05,0)} -> #N/A | N11: {=ROUNDUP((_xlfn.IFS(Tableau13[[#This Row],[Vérif 2]]=1,Tableau13[[#This Row],[Prix base]])+(Tableau13[[#This Row],[PV couleur (%) ou (€/m2)]]*Tableau13[[#This Row],[Prix base]])+Tableau13[[#This Row],[Mortaise]]+Tableau13[[#This Row],[Vitrage ARGON]]+Tableau13[[#This Row],[Vitrage 44/2]]+Tableau13[[#This Row],[Pose VR dans coffre]]+Tableau13[[#This Row],[Poignée]])*1.05,0)} -> #N/A | O11: {=ROUNDUP((_xlfn.IFS(Tableau13[[#This Row],[Vérif 3]]=1,Tableau13[[#This Row],[Prix base]])+(Tableau13[[#This Row],[PV couleur (%) ou (€/m2)]]*Tableau13[[#This Row],[Prix base]])+Tableau13[[#This Row],[Mortaise]]+Tableau13[[#This Row],[Vitrage ARGON]]+Tableau13[[#This Row],[Vitrage 44/2]]+Tableau13[[#This Row],[Pose VR dans coffre]]+Tableau13[[#This Row],[Poignée]])*1.05,0)} -> #N/A | P11: {=ROUNDUP((_xlfn.IFS(Tableau13[[#This Row],[Vérif 4]]=1,Tableau13[[#This Row],[Prix base]])+(Tableau13[[#This Row],[PV couleur (%) ou (€/m2)]]*Tableau13[[#This Row],[Prix base]])+Tableau13[[#This Row],[Mortaise]]+Tableau13[[#This Row],[Vitrage ARGON]]+Tableau13[[#This Row],[Vitrage 44/2]]+Tableau13[[#This Row],[Pose VR dans coffre]]+Tableau13[[#This Row],[Poignée]])*1.05,0)} -> #N/A | Q11: {=ROUNDUP((_xlfn.IFS(Tableau13[[#This Row],[Vérif 5]]=1,Tableau13[[#This Row],[Prix base]])+(Tableau13[[#This Row],[PV couleur (%) ou (€/m2)]]*Tableau13[[#This Row],[Prix base]])+Tableau13[[#This Row],[Mortaise]]+Tableau13[[#This Row],[Vitrage ARGON]]+Tableau13[[#This Row],[Vitrage 44/2]]+Tableau13[[#This Row],[Pose VR dans coffre]]+Tableau13[[#This Row],[Poignée]])*1.05,0)} -> 205 | R11: {=ROUNDUP((_xlfn.IFS(Tableau13[[#This Row],[Vérif 6]]=1,Tableau13[[#This Row],[Prix base]])+(Tableau13[[#This Row],[PV couleur (%) ou (€/m2)]]*Tableau13[[#This Row],[Prix base]])+Tableau13[[#This Row],[Mortaise]]+Tableau13[[#This Row],[Vitrage ARGON]]+Tableau13[[#This Row],[Vitrage 44/2]]+Tableau13[[#This Row],[Pose VR dans coffre]]+Tableau13[[#This Row],[Poignée]])*1.05,0)} -> #N/A | S11: {=ROUNDUP((_xlfn.IFS(Tableau13[[#This Row],[Vérif 7]]=1,Tableau13[[#This Row],[Prix base]])+(Tableau13[[#This Row],[PV couleur (%) ou (€/m2)]]*Tableau13[[#This Row],[Largeur]]*Tableau13[[#This Row],[Hauteur]])+Tableau13[[#This Row],[Mortaise]]+Tableau13[[#This Row],[Vitrage ARGON]]+Tableau13[[#This Row],[Vitrage 44/2]]+Tableau13[[#This Row],[Pose VR dans coffre]]+Tableau13[[#This Row],[Poignée]])*1.05,0)} -> #N/A | T11: {=ROUNDUP((_xlfn.IFS(Tableau13[[#This Row],[Vérif 8]]=1,Tableau13[[#This Row],[Prix base]])+(Tableau13[[#This Row],[PV couleur (%) ou (€/m2)]]*Tableau13[[#This Row],[Largeur]]*Tableau13[[#This Row],[Hauteur]])+Tableau13[[#This Row],[Mortaise]]+Tableau13[[#This Row],[Vitrage ARGON]]+Tableau13[[#This Row],[Vitrage 44/2]]+Tableau13[[#This Row],[Pose VR dans coffre]]+Tableau13[[#This Row],[Poignée]])*1.05,0)} -> #N/A | U11: {=ROUNDUP((_xlfn.IFS(Tableau13[[#This Row],[Vérif 9]]=1,Tableau13[[#This Row],[Prix base]])+(Tableau13[[#This Row],[PV couleur (%) ou (€/m2)]]*Tableau13[[#This Row],[Largeur]]*Tableau13[[#This Row],[Hauteur]])+Tableau13[[#This Row],[Mortaise]]+Tableau13[[#This Row],[Vitrage ARGON]]+Tableau13[[#This Row],[Vitrage 44/2]]+Tableau13[[#This Row],[Pose VR dans coffre]]+Tableau13[[#This Row],[Poignée]])*1.05,0)} -> #N/A | V11: {=SUMPRODUCT((Tableau13[Nature]="pvc")*(Tableau13[Type Ouverture]="OAF")*(Tableau13[Couleur]<>"RAL 9016")*(Tableau13[Largeur]=Tableau13[[#This Row],[Largeur]])*(Tableau13[Hauteur]=Tableau13[[#This Row],[Hauteur]])*(Tableau13[Prix base]=Tableau13[[#This Row],[Prix base]]))} -> 0 | W11: {=SUMPRODUCT((Tableau13[Nature]="pvc")*(Tableau13[Type Ouverture]="OAF")*(Tableau13[Couleur]="RAL 9016")*(Tableau13[Largeur]=Tableau13[[#This Row],[Largeur]])*(Tableau13[Hauteur]=Tableau13[[#This Row],[Hauteur]])*(Tableau13[Prix base]=Tableau13[[#This Row],[Prix base]]))} -> 0 | X11: {=SUMPRODUCT((Tableau13[Nature]="alu")*(Tableau13[Type Ouverture]="OAF")*(Tableau13[Couleur]<>"RAL 9016")*(Tableau13[Largeur]=Tableau13[[#This Row],[Largeur]])*(Tableau13[Hauteur]=Tableau13[[#This Row],[Hauteur]])*(Tableau13[Prix base]=Tableau13[[#This Row],[Prix base]]))} -> 0 | Y11: {=SUMPRODUCT((Tableau13[Nature]="alu")*(Tableau13[Type Ouverture]="OAF")*(Tableau13[Couleur]="RAL 9016")*(Tableau13[Largeur]=Tableau13[[#This Row],[Largeur]])*(Tableau13[Hauteur]=Tableau13[[#This Row],[Hauteur]])*(Tableau13[Prix base]=Tableau13[[#This Row],[Prix base]]))} -> 0 | Z11: {=SUMPRODUCT((Tableau13[Nature]="alu")*(Tableau13[Type Ouverture]="coulissant")*(Tableau13[Couleur]<>"RAL 9016")*(Tableau13[Largeur]=Tableau13[[#This Row],[Largeur]])*(Tableau13[Hauteur]=Tableau13[[#This Row],[Hauteur]])*(Tableau13[Prix base]=Tableau13[[#This Row],[Prix base]]))} -> 1 | AA11: {=SUMPRODUCT((Tableau13[Nature]="alu")*(Tableau13[Type Ouverture]="coulissant")*(Tableau13[Couleur]="RAL 9016")*(Tableau13[Largeur]=Tableau13[[#This Row],[Largeur]])*(Tableau13[Hauteur]=Tableau13[[#This Row],[Hauteur]])*(Tableau13[Prix base]=Tableau13[[#This Row],[Prix base]]))} -> 0 | AB11: {=SUMPRODUCT((Tableau13[Nature]="pvc")*(Tableau13[Type Ouverture]="vr")*(Tableau13[Couleur]="RAL 9016")*(Tableau13[Largeur]=Tableau13[[#This Row],[Largeur]])*(Tableau13[Hauteur]=Tableau13[[#This Row],[Hauteur]])*(Tableau13[Prix base]=Tableau13[[#This Row],[Prix base]]))} -> 0 | AC11: {=SUMPRODUCT((Tableau13[Nature]="alu")*(Tableau13[Type Ouverture]="vr")*(Tableau13[Couleur]="RAL 9016")*(Tableau13[Largeur]=Tableau13[[#This Row],[Largeur]])*(Tableau13[Hauteur]=Tableau13[[#This Row],[Hauteur]])*(Tableau13[Prix base]=Tableau13[[#This Row],[Prix base]]))} -> 0 | AD11: {=SUMPRODUCT((Tableau13[Nature]="alu")*(Tableau13[Type Ouverture]="vr")*(Tableau13[Couleur]<>"RAL 9016")*(Tableau13[Largeur]=Tableau13[[#This Row],[Largeur]])*(Tableau13[Hauteur]=Tableau13[[#This Row],[Hauteur]])*(Tableau13[Prix base]=Tableau13[[#This Row],[Prix base]]))} -> 0
A12: ALU | B12: Coulissant | C12: RAL 7016 | D12: 2 | E12: 2.25 | F12: 110 | G12: {=SUMPRODUCT(((Tableau4[Nature]=Tableau13[[#This Row],[Nature]])*(Tableau4[Couleur]=Tableau13[[#This Row],[Couleur]])*(_xlfn.IFS(Tableau4[[#Headers],[Coulissant]]=Tableau13[[#This Row],[Type Ouverture]],Tableau4[Coulissant],Tableau4[[#Headers],[OAF]]=Tableau13[[#This Row],[Type Ouverture]],Tableau4[OAF],Tableau4[[#Headers],[Ensemble composé]]=Tableau13[[#This Row],[Type Ouverture]],Tableau4[Ensemble composé],Tableau4[[#Headers],[VR]]=Tableau13[[#This Row],[Type Ouverture]],Tableau4[VR]))))} -> 0.2 | H12: 30 | I12: =D12*E12*(6.2+4.3) -> 47.25 | L12: 20.4 | M12: {=ROUNDUP((_xlfn.IFS(Tableau13[[#This Row],[Vérif 1]]=1,Tableau13[[#This Row],[Prix base]])+(Tableau13[[#This Row],[PV couleur (%) ou (€/m2)]]*Tableau13[[#This Row],[Prix base]])+Tableau13[[#This Row],[Mortaise]]+Tableau13[[#This Row],[Vitrage ARGON]]+Tableau13[[#This Row],[Vitrage 44/2]]+Tableau13[[#This Row],[Pose VR dans coffre]]+Tableau13[[#This Row],[Poignée]])*1.05,0)} -> #N/A | N12: {=ROUNDUP((_xlfn.IFS(Tableau13[[#This Row],[Vérif 2]]=1,Tableau13[[#This Row],[Prix base]])+(Tableau13[[#This Row],[PV couleur (%) ou (€/m2)]]*Tableau13[[#This Row],[Prix base]])+Tableau13[[#This Row],[Mortaise]]+Tableau13[[#This Row],[Vitrage ARGON]]+Tableau13[[#This Row],[Vitrage 44/2]]+Tableau13[[#This Row],[Pose VR dans coffre]]+Tableau13[[#This Row],[Poignée]])*1.05,0)} -> #N/A | O12: {=ROUNDUP((_xlfn.IFS(Tableau13[[#This Row],[Vérif 3]]=1,Tableau13[[#This Row],[Prix base]])+(Tableau13[[#This Row],[PV couleur (%) ou (€/m2)]]*Tableau13[[#This Row],[Prix base]])+Tableau13[[#This Row],[Mortaise]]+Tableau13[[#This Row],[Vitrage ARGON]]+Tableau13[[#This Row],[Vitrage 44/2]]+Tableau13[[#This Row],[Pose VR dans coffre]]+Tableau13[[#This Row],[Poignée]])*1.05,0)} -> #N/A | P12: {=ROUNDUP((_xlfn.IFS(Tableau13[[#This Row],[Vérif 4]]=1,Tableau13[[#This Row],[Prix base]])+(Tableau13[[#This Row],[PV couleur (%) ou (€/m2)]]*Tableau13[[#This Row],[Prix base]])+Tableau13[[#This Row],[Mortaise]]+Tableau13[[#This Row],[Vitrage ARGON]]+Tableau13[[#This Row],[Vitrage 44/2]]+Tableau13[[#This Row],[Pose VR dans coffre]]+Tableau13[[#This Row],[Poignée]])*1.05,0)} -> #N/A | Q12: {=ROUNDUP((_xlfn.IFS(Tableau13[[#This Row],[Vérif 5]]=1,Tableau13[[#This Row],[Prix base]])+(Tableau13[[#This Row],[PV couleur (%) ou (€/m2)]]*Tableau13[[#This Row],[Prix base]])+Tableau13[[#This Row],[Mortaise]]+Tableau13[[#This Row],[Vitrage ARGON]]+Tableau13[[#This Row],[Vitrage 44/2]]+Tableau13[[#This Row],[Pose VR dans coffre]]+Tableau13[[#This Row],[Poignée]])*1.05,0)} -> 242 | R12: {=ROUNDUP((_xlfn.IFS(Tableau13[[#This Row],[Vérif 6]]=1,Tableau13[[#This Row],[Prix base]])+(Tableau13[[#This Row],[PV couleur (%) ou (€/m2)]]*Tableau13[[#This Row],[Prix base]])+Tableau13[[#This Row],[Mortaise]]+Tableau13[[#This Row],[Vitrage ARGON]]+Tableau13[[#This Row],[Vitrage 44/2]]+Tableau13[[#This Row],[Pose VR dans coffre]]+Tableau13[[#This Row],[Poignée]])*1.05,0)} -> #N/A | S12: {=ROUNDUP((_xlfn.IFS(Tableau13[[#This Row],[Vérif 7]]=1,Tableau13[[#This Row],[Prix base]])+(Tableau13[[#This Row],[PV couleur (%) ou (€/m2)]]*Tableau13[[#This Row],[Largeur]]*Tableau13[[#This Row],[Hauteur]])+Tableau13[[#This Row],[Mortaise]]+Tableau13[[#This Row],[Vitrage ARGON]]+Tableau13[[#This Row],[Vitrage 44/2]]+Tableau13[[#This Row],[Pose VR dans coffre]]+Tableau13[[#This Row],[Poignée]])*1.05,0)} -> #N/A | T12: {=ROUNDUP((_xlfn.IFS(Tableau13[[#This Row],[Vérif 8]]=1,Tableau13[[#This Row],[Prix base]])+(Tableau13[[#This Row],[PV couleur (%) ou (€/m2)]]*Tableau13[[#This Row],[Largeur]]*Tableau13[[#This Row],[Hauteur]])+Tableau13[[#This Row],[Mortaise]]+Tableau13[[#This Row],[Vitrage ARGON]]+Tableau13[[#This Row],[Vitrage 44/2]]+Tableau13[[#This Row],[Pose VR dans coffre]]+Tableau13[[#This Row],[Poignée]])*1.05,0)} -> #N/A | U12: {=ROUNDUP((_xlfn.IFS(Tableau13[[#This Row],[Vérif 9]]=1,Tableau13[[#This Row],[Prix base]])+(Tableau13[[#This Row],[PV couleur (%) ou (€/m2)]]*Tableau13[[#This Row],[Largeur]]*Tableau13[[#This Row],[Hauteur]])+Tableau13[[#This Row],[Mortaise]]+Tableau13[[#This Row],[Vitrage ARGON]]+Tableau13[[#This Row],[Vitrage 44/2]]+Tableau13[[#This Row],[Pose VR dans coffre]]+Tableau13[[#This Row],[Poignée]])*1.05,0)} -> #N/A | V12: {=SUMPRODUCT((Tableau13[Nature]="pvc")*(Tableau13[Type Ouverture]="OAF")*(Tableau13[Couleur]<>"RAL 9016")*(Tableau13[Largeur]=Tableau13[[#This Row],[Largeur]])*(Tableau13[Hauteur]=Tableau13[[#This Row],[Hauteur]])*(Tableau13[Prix base]=Tableau13[[#This Row],[Prix base]]))} -> 0 | W12: {=SUMPRODUCT((Tableau13[Nature]="pvc")*(Tableau13[Type Ouverture]="OAF")*(Tableau13[Couleur]="RAL 9016")*(Tableau13[Largeur]=Tableau13[[#This Row],[Largeur]])*(Tableau13[Hauteur]=Tableau13[[#This Row],[Hauteur]])*(Tableau13[Prix base]=Tableau13[[#This Row],[Prix base]]))} -> 0 | X12: {=SUMPRODUCT((Tableau13[Nature]="alu")*(Tableau13[Type Ouverture]="OAF")*(Tableau13[Couleur]<>"RAL 9016")*(Tableau13[Largeur]=Tableau13[[#This Row],[Largeur]])*(Tableau13[Hauteur]=Tableau13[[#This Row],[Hauteur]])*(Tableau13[Prix base]=Tableau13[[#This Row],[Prix base]]))} -> 0 | Y12: {=SUMPRODUCT((Tableau13[Nature]="alu")*(Tableau13[Type Ouverture]="OAF")*(Tableau13[Couleur]="RAL 9016")*(Tableau13[Largeur]=Tableau13[[#This Row],[Largeur]])*(Tableau13[Hauteur]=Tableau13[[#This Row],[Hauteur]])*(Tableau13[Prix base]=Tableau13[[#This Row],[Prix base]]))} -> 0 | Z12: {=SUMPRODUCT((Tableau13[Nature]="alu")*(Tableau13[Type Ouverture]="coulissant")*(Tableau13[Couleur]<>"RAL 9016")*(Tableau13[Largeur]=Tableau13[[#This Row],[Largeur]])*(Tableau13[Hauteur]=Tableau13[[#This Row],[Hauteur]])*(Tableau13[Prix base]=Tableau13[[#This Row],[Prix base]]))} -> 1 | AA12: {=SUMPRODUCT((Tableau13[Nature]="alu")*(Tableau13[Type Ouverture]="coulissant")*(Tableau13[Couleur]="RAL 9016")*(Tableau13[Largeur]=Tableau13[[#This Row],[Largeur]])*(Tableau13[Hauteur]=Tableau13[[#This Row],[Hauteur]])*(Tableau13[Prix base]=Tableau13[[#This Row],[Prix base]]))} -> 0 | AB12: {=SUMPRODUCT((Tableau13[Nature]="pvc")*(Tableau13[Type Ouverture]="vr")*(Tableau13[Couleur]="RAL 9016")*(Tableau13[Largeur]=Tableau13[[#This Row],[Largeur]])*(Tableau13[Hauteur]=Tableau13[[#This Row],[Hauteur]])*(Tableau13[Prix base]=Tableau13[[#This Row],[Prix base]]))} -> 0 | AC12: {=SUMPRODUCT((Tableau13[Nature]="alu")*(Tableau13[Type Ouverture]="vr")*(Tableau13[Couleur]="RAL 9016")*(Tableau13[Largeur]=Tableau13[[#This Row],[Largeur]])*(Tableau13[Hauteur]=Tableau13[[#This Row],[Hauteur]])*(Tableau13[Prix base]=Tableau13[[#This Row],[Prix base]]))} -> 0 | AD12: {=SUMPRODUCT((Tableau13[Nature]="alu")*(Tableau13[Type Ouverture]="vr")*(Tableau13[Couleur]<>"RAL 9016")*(Tableau13[Largeur]=Tableau13[[#This Row],[Largeur]])*(Tableau13[Hauteur]=Tableau13[[#This Row],[Hauteur]])*(Tableau13[Prix base]=Tableau13[[#This Row],[Prix base]]))} -> 0
A13: ALU | B13: Coulissant | C13: RAL 7016 | D13: 4 | E13: 2.25 | F13: 120 | G13: {=SUMPRODUCT(((Tableau4[Nature]=Tableau13[[#This Row],[Nature]])*(Tableau4[Couleur]=Tableau13[[#This Row],[Couleur]])*(_xlfn.IFS(Tableau4[[#Headers],[Coulissant]]=Tableau13[[#This Row],[Type Ouverture]],Tableau4[Coulissant],Tableau4[[#Headers],[OAF]]=Tableau13[[#This Row],[Type Ouverture]],Tableau4[OAF],Tableau4[[#Headers],[Ensemble composé]]=Tableau13[[#This Row],[Type Ouverture]],Tableau4[Ensemble composé],Tableau4[[#Headers],[VR]]=Tableau13[[#This Row],[Type Ouverture]],Tableau4[VR]))))} -> 0.2 | H13: 30 | I13: =D13*E13*(6.2+4.3) -> 94.5 | L13: 20.4 | M13: {=ROUNDUP((_xlfn.IFS(Tableau13[[#This Row],[Vérif 1]]=1,Tableau13[[#This Row],[Prix base]])+(Tableau13[[#This Row],[PV couleur (%) ou (€/m2)]]*Tableau13[[#This Row],[Prix base]])+Tableau13[[#This Row],[Mortaise]]+Tableau13[[#This Row],[Vitrage ARGON]]+Tableau13[[#This Row],[Vitrage 44/2]]+Tableau13[[#This Row],[Pose VR dans coffre]]+Tableau13[[#This Row],[Poignée]])*1.05,0)} -> #N/A | N13: {=ROUNDUP((_xlfn.IFS(Tableau13[[#This Row],[Vérif 2]]=1,Tableau13[[#This Row],[Prix base]])+(Tableau13[[#This Row],[PV couleur (%) ou (€/m2)]]*Tableau13[[#This Row],[Prix base]])+Tableau13[[#This Row],[Mortaise]]+Tableau13[[#This Row],[Vitrage ARGON]]+Tableau13[[#This Row],[Vitrage 44/2]]+Tableau13[[#This Row],[Pose VR dans coffre]]+Tableau13[[#This Row],[Poignée]])*1.05,0)} -> #N/A | O13: {=ROUNDUP((_xlfn.IFS(Tableau13[[#This Row],[Vérif 3]]=1,Tableau13[[#This Row],[Prix base]])+(Tableau13[[#This Row],[PV couleur (%) ou (€/m2)]]*Tableau13[[#This Row],[Prix base]])+Tableau13[[#This Row],[Mortaise]]+Tableau13[[#This Row],[Vitrage ARGON]]+Tableau13[[#This Row],[Vitrage 44/2]]+Tableau13[[#This Row],[Pose VR dans coffre]]+Tableau13[[#This Row],[Poignée]])*1.05,0)} -> #N/A | P13: {=ROUNDUP((_xlfn.IFS(Tableau13[[#This Row],[Vérif 4]]=1,Tableau13[[#This Row],[Prix base]])+(Tableau13[[#This Row],[PV couleur (%) ou (€/m2)]]*Tableau13[[#This Row],[Prix base]])+Tableau13[[#This Row],[Mortaise]]+Tableau13[[#This Row],[Vitrage ARGON]]+Tableau13[[#This Row],[Vitrage 44/2]]+Tableau13[[#This Row],[Pose VR dans coffre]]+Tableau13[[#This Row],[Poignée]])*1.05,0)} -> #N/A | Q13: {=ROUNDUP((_xlfn.IFS(Tableau13[[#This Row],[Vérif 5]]=1,Tableau13[[#This Row],[Prix base]])+(Tableau13[[#This Row],[PV couleur (%) ou (€/m2)]]*Tableau13[[#This Row],[Prix base]])+Tableau13[[#This Row],[Mortaise]]+Tableau13[[#This Row],[Vitrage ARGON]]+Tableau13[[#This Row],[Vitrage 44/2]]+Tableau13[[#This Row],[Pose VR dans coffre]]+Tableau13[[#This Row],[Poignée]])*1.05,0)} -> 304 | R13: {=ROUNDUP((_xlfn.IFS(Tableau13[[#This Row],[Vérif 6]]=1,Tableau13[[#This Row],[Prix base]])+(Tableau13[[#This Row],[PV couleur (%) ou (€/m2)]]*Tableau13[[#This Row],[Prix base]])+Tableau13[[#This Row],[Mortaise]]+Tableau13[[#This Row],[Vitrage ARGON]]+Tableau13[[#This Row],[Vitrage 44/2]]+Tableau13[[#This Row],[Pose VR dans coffre]]+Tableau13[[#This Row],[Poignée]])*1.05,0)} -> #N/A | S13: {=ROUNDUP((_xlfn.IFS(Tableau13[[#This Row],[Vérif 7]]=1,Tableau13[[#This Row],[Prix base]])+(Tableau13[[#This Row],[PV couleur (%) ou (€/m2)]]*Tableau13[[#This Row],[Largeur]]*Tableau13[[#This Row],[Hauteur]])+Tableau13[[#This Row],[Mortaise]]+Tableau13[[#This Row],[Vitrage ARGON]]+Tableau13[[#This Row],[Vitrage 44/2]]+Tableau13[[#This Row],[Pose VR dans coffre]]+Tableau13[[#This Row],[Poignée]])*1.05,0)} -> #N/A | T13: {=ROUNDUP((_xlfn.IFS(Tableau13[[#This Row],[Vérif 8]]=1,Tableau13[[#This Row],[Prix base]])+(Tableau13[[#This Row],[PV couleur (%) ou (€/m2)]]*Tableau13[[#This Row],[Largeur]]*Tableau13[[#This Row],[Hauteur]])+Tableau13[[#This Row],[Mortaise]]+Tableau13[[#This Row],[Vitrage ARGON]]+Tableau13[[#This Row],[Vitrage 44/2]]+Tableau13[[#This Row],[Pose VR dans coffre]]+Tableau13[[#This Row],[Poignée]])*1.05,0)} -> #N/A | U13: {=ROUNDUP((_xlfn.IFS(Tableau13[[#This Row],[Vérif 9]]=1,Tableau13[[#This Row],[Prix base]])+(Tableau13[[#This Row],[PV couleur (%) ou (€/m2)]]*Tableau13[[#This Row],[Largeur]]*Tableau13[[#This Row],[Hauteur]])+Tableau13[[#This Row],[Mortaise]]+Tableau13[[#This Row],[Vitrage ARGON]]+Tableau13[[#This Row],[Vitrage 44/2]]+Tableau13[[#This Row],[Pose VR dans coffre]]+Tableau13[[#This Row],[Poignée]])*1.05,0)} -> #N/A | V13: {=SUMPRODUCT((Tableau13[Nature]="pvc")*(Tableau13[Type Ouverture]="OAF")*(Tableau13[Couleur]<>"RAL 9016")*(Tableau13[Largeur]=Tableau13[[#This Row],[Largeur]])*(Tableau13[Hauteur]=Tableau13[[#This Row],[Hauteur]])*(Tableau13[Prix base]=Tableau13[[#This Row],[Prix base]]))} -> 0 | W13: {=SUMPRODUCT((Tableau13[Nature]="pvc")*(Tableau13[Type Ouverture]="OAF")*(Tableau13[Couleur]="RAL 9016")*(Tableau13[Largeur]=Tableau13[[#This Row],[Largeur]])*(Tableau13[Hauteur]=Tableau13[[#This Row],[Hauteur]])*(Tableau13[Prix base]=Tableau13[[#This Row],[Prix base]]))} -> 0 | X13: {=SUMPRODUCT((Tableau13[Nature]="alu")*(Tableau13[Type Ouverture]="OAF")*(Tableau13[Couleur]<>"RAL 9016")*(Tableau13[Largeur]=Tableau13[[#This Row],[Largeur]])*(Tableau13[Hauteur]=Tableau13[[#This Row],[Hauteur]])*(Tableau13[Prix base]=Tableau13[[#This Row],[Prix base]]))} -> 0 | Y13: {=SUMPRODUCT((Tableau13[Nature]="alu")*(Tableau13[Type Ouverture]="OAF")*(Tableau13[Couleur]="RAL 9016")*(Tableau13[Largeur]=Tableau13[[#This Row],[Largeur]])*(Tableau13[Hauteur]=Tableau13[[#This Row],[Hauteur]])*(Tableau13[Prix base]=Tableau13[[#This Row],[Prix base]]))} -> 0 | Z13: {=SUMPRODUCT((Tableau13[Nature]="alu")*(Tableau13[Type Ouverture]="coulissant")*(Tableau13[Couleur]<>"RAL 9016")*(Tableau13[Largeur]=Tableau13[[#This Row],[Largeur]])*(Tableau13[Hauteur]=Tableau13[[#This Row],[Hauteur]])*(Tableau13[Prix base]=Tableau13[[#This Row],[Prix base]]))} -> 1 | AA13: {=SUMPRODUCT((Tableau13[Nature]="alu")*(Tableau13[Type Ouverture]="coulissant")*(Tableau13[Couleur]="RAL 9016")*(Tableau13[Largeur]=Tableau13[[#This Row],[Largeur]])*(Tableau13[Hauteur]=Tableau13[[#This Row],[Hauteur]])*(Tableau13[Prix base]=Tableau13[[#This Row],[Prix base]]))} -> 0 | AB13: {=SUMPRODUCT((Tableau13[Nature]="pvc")*(Tableau13[Type Ouverture]="vr")*(Tableau13[Couleur]="RAL 9016")*(Tableau13[Largeur]=Tableau13[[#This Row],[Largeur]])*(Tableau13[Hauteur]=Tableau13[[#This Row],[Hauteur]])*(Tableau13[Prix base]=Tableau13[[#This Row],[Prix base]]))} -> 0 | AC13: {=SUMPRODUCT((Tableau13[Nature]="alu")*(Tableau13[Type Ouverture]="vr")*(Tableau13[Couleur]="RAL 9016")*(Tableau13[Largeur]=Tableau13[[#This Row],[Largeur]])*(Tableau13[Hauteur]=Tableau13[[#This Row],[Hauteur]])*(Tableau13[Prix base]=Tableau13[[#This Row],[Prix base]]))} -> 0 | AD13: {=SUMPRODUCT((Tableau13[Nature]="alu")*(Tableau13[Type Ouverture]="vr")*(Tableau13[Couleur]<>"RAL 9016")*(Tableau13[Largeur]=Tableau13[[#This Row],[Largeur]])*(Tableau13[Hauteur]=Tableau13[[#This Row],[Hauteur]])*(Tableau13[Prix base]=Tableau13[[#This Row],[Prix base]]))} -> 0
A14: ALU | B14: VR | C14: RAL 7016 | D14: 0.6 | E14: 2.25 | F14: 130 | G14: {=SUMPRODUCT(((Tableau4[Nature]=Tableau13[[#This Row],[Nature]])*(Tableau4[Couleur]=Tableau13[[#This Row],[Couleur]])*(_xlfn.IFS(Tableau4[[#Headers],[Coulissant]]=Tableau13[[#This Row],[Type Ouverture]],Tableau4[Coulissant],Tableau4[[#Headers],[OAF]]=Tableau13[[#This Row],[Type Ouverture]],Tableau4[OAF],Tableau4[[#Headers],[Ensemble composé]]=Tableau13[[#This Row],[Type Ouverture]],Tableau4[Ensemble composé],Tableau4[[#Headers],[VR]]=Tableau13[[#This Row],[Type Ouverture]],Tableau4[VR]))))} -> 5 | K14: 10 | M14: {=ROUNDUP((_xlfn.IFS(Tableau13[[#This Row],[Vérif 1]]=1,Tableau13[[#This Row],[Prix base]])+(Tableau13[[#This Row],[PV couleur (%) ou (€/m2)]]*Tableau13[[#This Row],[Prix base]])+Tableau13[[#This Row],[Mortaise]]+Tableau13[[#This Row],[Vitrage ARGON]]+Tableau13[[#This Row],[Vitrage 44/2]]+Tableau13[[#This Row],[Pose VR dans coffre]]+Tableau13[[#This Row],[Poignée]])*1.05,0)} -> #N/A | N14: {=ROUNDUP((_xlfn.IFS(Tableau13[[#This Row],[Vérif 2]]=1,Tableau13[[#This Row],[Prix base]])+(Tableau13[[#This Row],[PV couleur (%) ou (€/m2)]]*Tableau13[[#This Row],[Prix base]])+Tableau13[[#This Row],[Mortaise]]+Tableau13[[#This Row],[Vitrage ARGON]]+Tableau13[[#This Row],[Vitrage 44/2]]+Tableau13[[#This Row],[Pose VR dans coffre]]+Tableau13[[#This Row],[Poignée]])*1.05,0)} -> #N/A | O14: {=ROUNDUP((_xlfn.IFS(Tableau13[[#This Row],[Vérif 3]]=1,Tableau13[[#This Row],[Prix base]])+(Tableau13[[#This Row],[PV couleur (%) ou (€/m2)]]*Tableau13[[#This Row],[Prix base]])+Tableau13[[#This Row],[Mortaise]]+Tableau13[[#This Row],[Vitrage ARGON]]+Tableau13[[#This Row],[Vitrage 44/2]]+Tableau13[[#This Row],[Pose VR dans coffre]]+Tableau13[[#This Row],[Poignée]])*1.05,0)} -> #N/A | P14: {=ROUNDUP((_xlfn.IFS(Tableau13[[#This Row],[Vérif 4]]=1,Tableau13[[#This Row],[Prix base]])+(Tableau13[[#This Row],[PV couleur (%) ou (€/m2)]]*Tableau13[[#This Row],[Prix base]])+Tableau13[[#This Row],[Mortaise]]+Tableau13[[#This Row],[Vitrage ARGON]]+Tableau13[[#This Row],[Vitrage 44/2]]+Tableau13[[#This Row],[Pose VR dans coffre]]+Tableau13[[#This Row],[Poignée]])*1.05,0)} -> #N/A | Q14: {=ROUNDUP((_xlfn.IFS(Tableau13[[#This Row],[Vérif 5]]=1,Tableau13[[#This Row],[Prix base]])+(Tableau13[[#This Row],[PV couleur (%) ou (€/m2)]]*Tableau13[[#This Row],[Prix base]])+Tableau13[[#This Row],[Mortaise]]+Tableau13[[#This Row],[Vitrage ARGON]]+Tableau13[[#This Row],[Vitrage 44/2]]+Tableau13[[#This Row],[Pose VR dans coffre]]+Tableau13[[#This Row],[Poignée]])*1.05,0)} -> #N/A | R14: {=ROUNDUP((_xlfn.IFS(Tableau13[[#This Row],[Vérif 6]]=1,Tableau13[[#This Row],[Prix base]])+(Tableau13[[#This Row],[PV couleur (%) ou (€/m2)]]*Tableau13[[#This Row],[Prix base]])+Tableau13[[#This Row],[Mortaise]]+Tableau13[[#This Row],[Vitrage ARGON]]+Tableau13[[#This Row],[Vitrage 44/2]]+Tableau13[[#This Row],[Pose VR dans coffre]]+Tableau13[[#This Row],[Poignée]])*1.05,0)} -> #N/A | S14: {=ROUNDUP((_xlfn.IFS(Tableau13[[#This Row],[Vérif 7]]=1,Tableau13[[#This Row],[Prix base]])+(Tableau13[[#This Row],[PV couleur (%) ou (€/m2)]]*Tableau13[[#This Row],[Largeur]]*Tableau13[[#This Row],[Hauteur]])+Tableau13[[#This Row],[Mortaise]]+Tableau13[[#This Row],[Vitrage ARGON]]+Tableau13[[#This Row],[Vitrage 44/2]]+Tableau13[[#This Row],[Pose VR dans coffre]]+Tableau13[[#This Row],[Poignée]])*1.05,0)} -> #N/A | T14: {=ROUNDUP((_xlfn.IFS(Tableau13[[#This Row],[Vérif 8]]=1,Tableau13[[#This Row],[Prix base]])+(Tableau13[[#This Row],[PV couleur (%) ou (€/m2)]]*Tableau13[[#This Row],[Largeur]]*Tableau13[[#This Row],[Hauteur]])+Tableau13[[#This Row],[Mortaise]]+Tableau13[[#This Row],[Vitrage ARGON]]+Tableau13[[#This Row],[Vitrage 44/2]]+Tableau13[[#This Row],[Pose VR dans coffre]]+Tableau13[[#This Row],[Poignée]])*1.05,0)} -> #N/A | U14: {=ROUNDUP((_xlfn.IFS(Tableau13[[#This Row],[Vérif 9]]=1,Tableau13[[#This Row],[Prix base]])+(Tableau13[[#This Row],[PV couleur (%) ou (€/m2)]]*Tableau13[[#This Row],[Largeur]]*Tableau13[[#This Row],[Hauteur]])+Tableau13[[#This Row],[Mortaise]]+Tableau13[[#This Row],[Vitrage ARGON]]+Tableau13[[#This Row],[Vitrage 44/2]]+Tableau13[[#This Row],[Pose VR dans coffre]]+Tableau13[[#This Row],[Poignée]])*1.05,0)} -> 155 | V14: {=SUMPRODUCT((Tableau13[Nature]="pvc")*(Tableau13[Type Ouverture]="OAF")*(Tableau13[Couleur]<>"RAL 9016")*(Tableau13[Largeur]=Tableau13[[#This Row],[Largeur]])*(Tableau13[Hauteur]=Tableau13[[#This Row],[Hauteur]])*(Tableau13[Prix base]=Tableau13[[#This Row],[Prix base]]))} -> 0 | W14: {=SUMPRODUCT((Tableau13[Nature]="pvc")*(Tableau13[Type Ouverture]="OAF")*(Tableau13[Couleur]="RAL 9016")*(Tableau13[Largeur]=Tableau13[[#This Row],[Largeur]])*(Tableau13[Hauteur]=Tableau13[[#This Row],[Hauteur]])*(Tableau13[Prix base]=Tableau13[[#This Row],[Prix base]]))} -> 0 | X14: {=SUMPRODUCT((Tableau13[Nature]="alu")*(Tableau13[Type Ouverture]="OAF")*(Tableau13[Couleur]<>"RAL 9016")*(Tableau13[Largeur]=Tableau13[[#This Row],[Largeur]])*(Tableau13[Hauteur]=Tableau13[[#This Row],[Hauteur]])*(Tableau13[Prix base]=Tableau13[[#This Row],[Prix base]]))} -> 0 | Y14: {=SUMPRODUCT((Tableau13[Nature]="alu")*(Tableau13[Type Ouverture]="OAF")*(Tableau13[Couleur]="RAL 9016")*(Tableau13[Largeur]=Tableau13[[#This Row],[Largeur]])*(Tableau13[Hauteur]=Tableau13[[#This Row],[Hauteur]])*(Tableau13[Prix base]=Tableau13[[#This Row],[Prix base]]))} -> 0 | Z14: {=SUMPRODUCT((Tableau13[Nature]="alu")*(Tableau13[Type Ouverture]="coulissant")*(Tableau13[Couleur]<>"RAL 9016")*(Tableau13[Largeur]=Tableau13[[#This Row],[Largeur]])*(Tableau13[Hauteur]=Tableau13[[#This Row],[Hauteur]])*(Tableau13[Prix base]=Tableau13[[#This Row],[Prix base]]))} -> 0 | AA14: {=SUMPRODUCT((Tableau13[Nature]="alu")*(Tableau13[Type Ouverture]="coulissant")*(Tableau13[Couleur]="RAL 9016")*(Tableau13[Largeur]=Tableau13[[#This Row],[Largeur]])*(Tableau13[Hauteur]=Tableau13[[#This Row],[Hauteur]])*(Tableau13[Prix base]=Tableau13[[#This Row],[Prix base]]))} -> 0 | AB14: {=SUMPRODUCT((Tableau13[Nature]="pvc")*(Tableau13[Type Ouverture]="vr")*(Tableau13[Couleur]="RAL 9016")*(Tableau13[Largeur]=Tableau13[[#This Row],[Largeur]])*(Tableau13[Hauteur]=Tableau13[[#This Row],[Hauteur]])*(Tableau13[Prix base]=Tableau13[[#This Row],[Prix base]]))} -> 0 | AC14: {=SUMPRODUCT((Tableau13[Nature]="alu")*(Tableau13[Type Ouverture]="vr")*(Tableau13[Couleur]="RAL 9016")*(Tableau13[Largeur]=Tableau13[[#This Row],[Largeur]])*(Tableau13[Hauteur]=Tableau13[[#This Row],[Hauteur]])*(Tableau13[Prix base]=Tableau13[[#This Row],[Prix base]]))} -> 0 | AD14: {=SUMPRODUCT((Tableau13[Nature]="alu")*(Tableau13[Type Ouverture]="vr")*(Tableau13[Couleur]<>"RAL 9016")*(Tableau13[Largeur]=Tableau13[[#This Row],[Largeur]])*(Tableau13[Hauteur]=Tableau13[[#This Row],[Hauteur]])*(Tableau13[Prix base]=Tableau13[[#This Row],[Prix base]]))} -> 1
A15: ALU | B15: VR | C15: RAL 7016 | D15: 0.9 | E15: 2.25 | F15: 140 | G15: {=SUMPRODUCT(((Tableau4[Nature]=Tableau13[[#This Row],[Nature]])*(Tableau4[Couleur]=Tableau13[[#This Row],[Couleur]])*(_xlfn.IFS(Tableau4[[#Headers],[Coulissant]]=Tableau13[[#This Row],[Type Ouverture]],Tableau4[Coulissant],Tableau4[[#Headers],[OAF]]=Tableau13[[#This Row],[Type Ouverture]],Tableau4[OAF],Tableau4[[#Headers],[Ensemble composé]]=Tableau13[[#This Row],[Type Ouverture]],Tableau4[Ensemble composé],Tableau4[[#Headers],[VR]]=Tableau13[[#This Row],[Type Ouverture]],Tableau4[VR]))))} -> 5 | K15: 10 | M15: {=ROUNDUP((_xlfn.IFS(Tableau13[[#This Row],[Vérif 1]]=1,Tableau13[[#This Row],[Prix base]])+(Tableau13[[#This Row],[PV couleur (%) ou (€/m2)]]*Tableau13[[#This Row],[Prix base]])+Tableau13[[#This Row],[Mortaise]]+Tableau13[[#This Row],[Vitrage ARGON]]+Tableau13[[#This Row],[Vitrage 44/2]]+Tableau13[[#This Row],[Pose VR dans coffre]]+Tableau13[[#This Row],[Poignée]])*1.05,0)} -> #N/A | N15: {=ROUNDUP((_xlfn.IFS(Tableau13[[#This Row],[Vérif 2]]=1,Tableau13[[#This Row],[Prix base]])+(Tableau13[[#This Row],[PV couleur (%) ou (€/m2)]]*Tableau13[[#This Row],[Prix base]])+Tableau13[[#This Row],[Mortaise]]+Tableau13[[#This Row],[Vitrage ARGON]]+Tableau13[[#This Row],[Vitrage 44/2]]+Tableau13[[#This Row],[Pose VR dans coffre]]+Tableau13[[#This Row],[Poignée]])*1.05,0)} -> #N/A | O15: {=ROUNDUP((_xlfn.IFS(Tableau13[[#This Row],[Vérif 3]]=1,Tableau13[[#This Row],[Prix base]])+(Tableau13[[#This Row],[PV couleur (%) ou (€/m2)]]*Tableau13[[#This Row],[Prix base]])+Tableau13[[#This Row],[Mortaise]]+Tableau13[[#This Row],[Vitrage ARGON]]+Tableau13[[#This Row],[Vitrage 44/2]]+Tableau13[[#This Row],[Pose VR dans coffre]]+Tableau13[[#This Row],[Poignée]])*1.05,0)} -> #N/A | P15: {=ROUNDUP((_xlfn.IFS(Tableau13[[#This Row],[Vérif 4]]=1,Tableau13[[#This Row],[Prix base]])+(Tableau13[[#This Row],[PV couleur (%) ou (€/m2)]]*Tableau13[[#This Row],[Prix base]])+Tableau13[[#This Row],[Mortaise]]+Tableau13[[#This Row],[Vitrage ARGON]]+Tableau13[[#This Row],[Vitrage 44/2]]+Tableau13[[#This Row],[Pose VR dans coffre]]+Tableau13[[#This Row],[Poignée]])*1.05,0)} -> #N/A | Q15: {=ROUNDUP((_xlfn.IFS(Tableau13[[#This Row],[Vérif 5]]=1,Tableau13[[#This Row],[Prix base]])+(Tableau13[[#This Row],[PV couleur (%) ou (€/m2)]]*Tableau13[[#This Row],[Prix base]])+Tableau13[[#This Row],[Mortaise]]+Tableau13[[#This Row],[Vitrage ARGON]]+Tableau13[[#This Row],[Vitrage 44/2]]+Tableau13[[#This Row],[Pose VR dans coffre]]+Tableau13[[#This Row],[Poignée]])*1.05,0)} -> #N/A | R15: {=ROUNDUP((_xlfn.IFS(Tableau13[[#This Row],[Vérif 6]]=1,Tableau13[[#This Row],[Prix base]])+(Tableau13[[#This Row],[PV couleur (%) ou (€/m2)]]*Tableau13[[#This Row],[Prix base]])+Tableau13[[#This Row],[Mortaise]]+Tableau13[[#This Row],[Vitrage ARGON]]+Tableau13[[#This Row],[Vitrage 44/2]]+Tableau13[[#This Row],[Pose VR dans coffre]]+Tableau13[[#This Row],[Poignée]])*1.05,0)} -> #N/A | S15: {=ROUNDUP((_xlfn.IFS(Tableau13[[#This Row],[Vérif 7]]=1,Tableau13[[#This Row],[Prix base]])+(Tableau13[[#This Row],[PV couleur (%) ou (€/m2)]]*Tableau13[[#This Row],[Largeur]]*Tableau13[[#This Row],[Hauteur]])+Tableau13[[#This Row],[Mortaise]]+Tableau13[[#This Row],[Vitrage ARGON]]+Tableau13[[#This Row],[Vitrage 44/2]]+Tableau13[[#This Row],[Pose VR dans coffre]]+Tableau13[[#This Row],[Poignée]])*1.05,0)} -> #N/A | T15: {=ROUNDUP((_xlfn.IFS(Tableau13[[#This Row],[Vérif 8]]=1,Tableau13[[#This Row],[Prix base]])+(Tableau13[[#This Row],[PV couleur (%) ou (€/m2)]]*Tableau13[[#This Row],[Largeur]]*Tableau13[[#This Row],[Hauteur]])+Tableau13[[#This Row],[Mortaise]]+Tableau13[[#This Row],[Vitrage ARGON]]+Tableau13[[#This Row],[Vitrage 44/2]]+Tableau13[[#This Row],[Pose VR dans coffre]]+Tableau13[[#This Row],[Poignée]])*1.05,0)} -> #N/A | U15: {=ROUNDUP((_xlfn.IFS(Tableau13[[#This Row],[Vérif 9]]=1,Tableau13[[#This Row],[Prix base]])+(Tableau13[[#This Row],[PV couleur (%) ou (€/m2)]]*Tableau13[[#This Row],[Largeur]]*Tableau13[[#This Row],[Hauteur]])+Tableau13[[#This Row],[Mortaise]]+Tableau13[[#This Row],[Vitrage ARGON]]+Tableau13[[#This Row],[Vitrage 44/2]]+Tableau13[[#This Row],[Pose VR dans coffre]]+Tableau13[[#This Row],[Poignée]])*1.05,0)} -> 169 | V15: {=SUMPRODUCT((Tableau13[Nature]="pvc")*(Tableau13[Type Ouverture]="OAF")*(Tableau13[Couleur]<>"RAL 9016")*(Tableau13[Largeur]=Tableau13[[#This Row],[Largeur]])*(Tableau13[Hauteur]=Tableau13[[#This Row],[Hauteur]])*(Tableau13[Prix base]=Tableau13[[#This Row],[Prix base]]))} -> 0 | W15: {=SUMPRODUCT((Tableau13[Nature]="pvc")*(Tableau13[Type Ouverture]="OAF")*(Tableau13[Couleur]="RAL 9016")*(Tableau13[Largeur]=Tableau13[[#This Row],[Largeur]])*(Tableau13[Hauteur]=Tableau13[[#This Row],[Hauteur]])*(Tableau13[Prix base]=Tableau13[[#This Row],[Prix base]]))} -> 0 | X15: {=SUMPRODUCT((Tableau13[Nature]="alu")*(Tableau13[Type Ouverture]="OAF")*(Tableau13[Couleur]<>"RAL 9016")*(Tableau13[Largeur]=Tableau13[[#This Row],[Largeur]])*(Tableau13[Hauteur]=Tableau13[[#This Row],[Hauteur]])*(Tableau13[Prix base]=Tableau13[[#This Row],[Prix base]]))} -> 0 | Y15: {=SUMPRODUCT((Tableau13[Nature]="alu")*(Tableau13[Type Ouverture]="OAF")*(Tableau13[Couleur]="RAL 9016")*(Tableau13[Largeur]=Tableau13[[#This Row],[Largeur]])*(Tableau13[Hauteur]=Tableau13[[#This Row],[Hauteur]])*(Tableau13[Prix base]=Tableau13[[#This Row],[Prix base]]))} -> 0 | Z15: {=SUMPRODUCT((Tableau13[Nature]="alu")*(Tableau13[Type Ouverture]="coulissant")*(Tableau13[Couleur]<>"RAL 9016")*(Tableau13[Largeur]=Tableau13[[#This Row],[Largeur]])*(Tableau13[Hauteur]=Tableau13[[#This Row],[Hauteur]])*(Tableau13[Prix base]=Tableau13[[#This Row],[Prix base]]))} -> 0 | AA15: {=SUMPRODUCT((Tableau13[Nature]="alu")*(Tableau13[Type Ouverture]="coulissant")*(Tableau13[Couleur]="RAL 9016")*(Tableau13[Largeur]=Tableau13[[#This Row],[Largeur]])*(Tableau13[Hauteur]=Tableau13[[#This Row],[Hauteur]])*(Tableau13[Prix base]=Tableau13[[#This Row],[Prix base]]))} -> 0 | AB15: {=SUMPRODUCT((Tableau13[Nature]="pvc")*(Tableau13[Type Ouverture]="vr")*(Tableau13[Couleur]="RAL 9016")*(Tableau13[Largeur]=Tableau13[[#This Row],[Largeur]])*(Tableau13[Hauteur]=Tableau13[[#This Row],[Hauteur]])*(Tableau13[Prix base]=Tableau13[[#This Row],[Prix base]]))} -> 0 | AC15: {=SUMPRODUCT((Tableau13[Nature]="alu")*(Tableau13[Type Ouverture]="vr")*(Tableau13[Couleur]="RAL 9016")*(Tableau13[Largeur]=Tableau13[[#This Row],[Largeur]])*(Tableau13[Hauteur]=Tableau13[[#This Row],[Hauteur]])*(Tableau13[Prix base]=Tableau13[[#This Row],[Prix base]]))} -> 0 | AD15: {=SUMPRODUCT((Tableau13[Nature]="alu")*(Tableau13[Type Ouverture]="vr")*(Tableau13[Couleur]<>"RAL 9016")*(Tableau13[Largeur]=Tableau13[[#This Row],[Largeur]])*(Tableau13[Hauteur]=Tableau13[[#This Row],[Hauteur]])*(Tableau13[Prix base]=Tableau13[[#This Row],[Prix base]]))} -> 1
A16: ALU | B16: VR | C16: RAL 7016 | D16: 0.9 | E16: 2.14 | F16: 150 | G16: {=SUMPRODUCT(((Tableau4[Nature]=Tableau13[[#This Row],[Nature]])*(Tableau4[Couleur]=Tableau13[[#This Row],[Couleur]])*(_xlfn.IFS(Tableau4[[#Headers],[Coulissant]]=Tableau13[[#This Row],[Type Ouverture]],Tableau4[Coulissant],Tableau4[[#Headers],[OAF]]=Tableau13[[#This Row],[Type Ouverture]],Tableau4[OAF],Tableau4[[#Headers],[Ensemble composé]]=Tableau13[[#This Row],[Type Ouverture]],Tableau4[Ensemble composé],Tableau4[[#Headers],[VR]]=Tableau13[[#This Row],[Type Ouverture]],Tableau4[VR]))))} -> 5 | K16: 10 | M16: {=ROUNDUP((_xlfn.IFS(Tableau13[[#This Row],[Vérif 1]]=1,Tableau13[[#This Row],[Prix base]])+(Tableau13[[#This Row],[PV couleur (%) ou (€/m2)]]*Tableau13[[#This Row],[Prix base]])+Tableau13[[#This Row],[Mortaise]]+Tableau13[[#This Row],[Vitrage ARGON]]+Tableau13[[#This Row],[Vitrage 44/2]]+Tableau13[[#This Row],[Pose VR dans coffre]]+Tableau13[[#This Row],[Poignée]])*1.05,0)} -> #N/A | N16: {=ROUNDUP((_xlfn.IFS(Tableau13[[#This Row],[Vérif 2]]=1,Tableau13[[#This Row],[Prix base]])+(Tableau13[[#This Row],[PV couleur (%) ou (€/m2)]]*Tableau13[[#This Row],[Prix base]])+Tableau13[[#This Row],[Mortaise]]+Tableau13[[#This Row],[Vitrage ARGON]]+Tableau13[[#This Row],[Vitrage 44/2]]+Tableau13[[#This Row],[Pose VR dans coffre]]+Tableau13[[#This Row],[Poignée]])*1.05,0)} -> #N/A | O16: {=ROUNDUP((_xlfn.IFS(Tableau13[[#This Row],[Vérif 3]]=1,Tableau13[[#This Row],[Prix base]])+(Tableau13[[#This Row],[PV couleur (%) ou (€/m2)]]*Tableau13[[#This Row],[Prix base]])+Tableau13[[#This Row],[Mortaise]]+Tableau13[[#This Row],[Vitrage ARGON]]+Tableau13[[#This Row],[Vitrage 44/2]]+Tableau13[[#This Row],[Pose VR dans coffre]]+Tableau13[[#This Row],[Poignée]])*1.05,0)} -> #N/A | P16: {=ROUNDUP((_xlfn.IFS(Tableau13[[#This Row],[Vérif 4]]=1,Tableau13[[#This Row],[Prix base]])+(Tableau13[[#This Row],[PV couleur (%) ou (€/m2)]]*Tableau13[[#This Row],[Prix base]])+Tableau13[[#This Row],[Mortaise]]+Tableau13[[#This Row],[Vitrage ARGON]]+Tableau13[[#This Row],[Vitrage 44/2]]+Tableau13[[#This Row],[Pose VR dans coffre]]+Tableau13[[#This Row],[Poignée]])*1.05,0)} -> #N/A | Q16: {=ROUNDUP((_xlfn.IFS(Tableau13[[#This Row],[Vérif 5]]=1,Tableau13[[#This Row],[Prix base]])+(Tableau13[[#This Row],[PV couleur (%) ou (€/m2)]]*Tableau13[[#This Row],[Prix base]])+Tableau13[[#This Row],[Mortaise]]+Tableau13[[#This Row],[Vitrage ARGON]]+Tableau13[[#This Row],[Vitrage 44/2]]+Tableau13[[#This Row],[Pose VR dans coffre]]+Tableau13[[#This Row],[Poignée]])*1.05,0)} -> #N/A | R16: {=ROUNDUP((_xlfn.IFS(Tableau13[[#This Row],[Vérif 6]]=1,Tableau13[[#This Row],[Prix base]])+(Tableau13[[#This Row],[PV couleur (%) ou (€/m2)]]*Tableau13[[#This Row],[Prix base]])+Tableau13[[#This Row],[Mortaise]]+Tableau13[[#This Row],[Vitrage ARGON]]+Tableau13[[#This Row],[Vitrage 44/2]]+Tableau13[[#This Row],[Pose VR dans coffre]]+Tableau13[[#This Row],[Poignée]])*1.05,0)} -> #N/A | S16: {=ROUNDUP((_xlfn.IFS(Tableau13[[#This Row],[Vérif 7]]=1,Tableau13[[#This Row],[Prix base]])+(Tableau13[[#This Row],[PV couleur (%) ou (€/m2)]]*Tableau13[[#This Row],[Largeur]]*Tableau13[[#This Row],[Hauteur]])+Tableau13[[#This Row],[Mortaise]]+Tableau13[[#This Row],[Vitrage ARGON]]+Tableau13[[#This Row],[Vitrage 44/2]]+Tableau13[[#This Row],[Pose VR dans coffre]]+Tableau13[[#This Row],[Poignée]])*1.05,0)} -> #N/A | T16: {=ROUNDUP((_xlfn.IFS(Tableau13[[#This Row],[Vérif 8]]=1,Tableau13[[#This Row],[Prix base]])+(Tableau13[[#This Row],[PV couleur (%) ou (€/m2)]]*Tableau13[[#This Row],[Largeur]]*Tableau13[[#This Row],[Hauteur]])+Tableau13[[#This Row],[Mortaise]]+Tableau13[[#This Row],[Vitrage ARGON]]+Tableau13[[#This Row],[Vitrage 44/2]]+Tableau13[[#This Row],[Pose VR dans coffre]]+Tableau13[[#This Row],[Poignée]])*1.05,0)} -> #N/A | U16: {=ROUNDUP((_xlfn.IFS(Tableau13[[#This Row],[Vérif 9]]=1,Tableau13[[#This Row],[Prix base]])+(Tableau13[[#This Row],[PV couleur (%) ou (€/m2)]]*Tableau13[[#This Row],[Largeur]]*Tableau13[[#This Row],[Hauteur]])+Tableau13[[#This Row],[Mortaise]]+Tableau13[[#This Row],[Vitrage ARGON]]+Tableau13[[#This Row],[Vitrage 44/2]]+Tableau13[[#This Row],[Pose VR dans coffre]]+Tableau13[[#This Row],[Poignée]])*1.05,0)} -> 179 | V16: {=SUMPRODUCT((Tableau13[Nature]="pvc")*(Tableau13[Type Ouverture]="OAF")*(Tableau13[Couleur]<>"RAL 9016")*(Tableau13[Largeur]=Tableau13[[#This Row],[Largeur]])*(Tableau13[Hauteur]=Tableau13[[#This Row],[Hauteur]])*(Tableau13[Prix base]=Tableau13[[#This Row],[Prix base]]))} -> 0 | W16: {=SUMPRODUCT((Tableau13[Nature]="pvc")*(Tableau13[Type Ouverture]="OAF")*(Tableau13[Couleur]="RAL 9016")*(Tableau13[Largeur]=Tableau13[[#This Row],[Largeur]])*(Tableau13[Hauteur]=Tableau13[[#This Row],[Hauteur]])*(Tableau13[Prix base]=Tableau13[[#This Row],[Prix base]]))} -> 0 | X16: {=SUMPRODUCT((Tableau13[Nature]="alu")*(Tableau13[Type Ouverture]="OAF")*(Tableau13[Couleur]<>"RAL 9016")*(Tableau13[Largeur]=Tableau13[[#This Row],[Largeur]])*(Tableau13[Hauteur]=Tableau13[[#This Row],[Hauteur]])*(Tableau13[Prix base]=Tableau13[[#This Row],[Prix base]]))} -> 0 | Y16: {=SUMPRODUCT((Tableau13[Nature]="alu")*(Tableau13[Type Ouverture]="OAF")*(Tableau13[Couleur]="RAL 9016")*(Tableau13[Largeur]=Tableau13[[#This Row],[Largeur]])*(Tableau13[Hauteur]=Tableau13[[#This Row],[Hauteur]])*(Tableau13[Prix base]=Tableau13[[#This Row],[Prix base]]))} -> 0 | Z16: {=SUMPRODUCT((Tableau13[Nature]="alu")*(Tableau13[Type Ouverture]="coulissant")*(Tableau13[Couleur]<>"RAL 9016")*(Tableau13[Largeur]=Tableau13[[#This Row],[Largeur]])*(Tableau13[Hauteur]=Tableau13[[#This Row],[Hauteur]])*(Tableau13[Prix base]=Tableau13[[#This Row],[Prix base]]))} -> 0 | AA16: {=SUMPRODUCT((Tableau13[Nature]="alu")*(Tableau13[Type Ouverture]="coulissant")*(Tableau13[Couleur]="RAL 9016")*(Tableau13[Largeur]=Tableau13[[#This Row],[Largeur]])*(Tableau13[Hauteur]=Tableau13[[#This Row],[Hauteur]])*(Tableau13[Prix base]=Tableau13[[#This Row],[Prix base]]))} -> 0 | AB16: {=SUMPRODUCT((Tableau13[Nature]="pvc")*(Tableau13[Type Ouverture]="vr")*(Tableau13[Couleur]="RAL 9016")*(Tableau13[Largeur]=Tableau13[[#This Row],[Largeur]])*(Tableau13[Hauteur]=Tableau13[[#This Row],[Hauteur]])*(Tableau13[Prix base]=Tableau13[[#This Row],[Prix base]]))} -> 0 | AC16: {=SUMPRODUCT((Tableau13[Nature]="alu")*(Tableau13[Type Ouverture]="vr")*(Tableau13[Couleur]="RAL 9016")*(Tableau13[Largeur]=Tableau13[[#This Row],[Largeur]])*(Tableau13[Hauteur]=Tableau13[[#This Row],[Hauteur]])*(Tableau13[Prix base]=Tableau13[[#This Row],[Prix base]]))} -> 0 | AD16: {=SUMPRODUCT((Tableau13[Nature]="alu")*(Tableau13[Type Ouverture]="vr")*(Tableau13[Couleur]<>"RAL 9016")*(Tableau13[Largeur]=Tableau13[[#This Row],[Largeur]])*(Tableau13[Hauteur]=Tableau13[[#This Row],[Hauteur]])*(Tableau13[Prix base]=Tableau13[[#This Row],[Prix base]]))} -> 1
A17: ALU | B17: VR | C17: RAL 7016 | D17: 0.8 | E17: 2.25 | F17: 160 | G17: {=SUMPRODUCT(((Tableau4[Nature]=Tableau13[[#This Row],[Nature]])*(Tableau4[Couleur]=Tableau13[[#This Row],[Couleur]])*(_xlfn.IFS(Tableau4[[#Headers],[Coulissant]]=Tableau13[[#This Row],[Type Ouverture]],Tableau4[Coulissant],Tableau4[[#Headers],[OAF]]=Tableau13[[#This Row],[Type Ouverture]],Tableau4[OAF],Tableau4[[#Headers],[Ensemble composé]]=Tableau13[[#This Row],[Type Ouverture]],Tableau4[Ensemble composé],Tableau4[[#Headers],[VR]]=Tableau13[[#This Row],[Type Ouverture]],Tableau4[VR]))))} -> 5 | K17: 10 | M17: {=ROUNDUP((_xlfn.IFS(Tableau13[[#This Row],[Vérif 1]]=1,Tableau13[[#This Row],[Prix base]])+(Tableau13[[#This Row],[PV couleur (%) ou (€/m2)]]*Tableau13[[#This Row],[Prix base]])+Tableau13[[#This Row],[Mortaise]]+Tableau13[[#This Row],[Vitrage ARGON]]+Tableau13[[#This Row],[Vitrage 44/2]]+Tableau13[[#This Row],[Pose VR dans coffre]]+Tableau13[[#This Row],[Poignée]])*1.05,0)} -> #N/A | N17: {=ROUNDUP((_xlfn.IFS(Tableau13[[#This Row],[Vérif 2]]=1,Tableau13[[#This Row],[Prix base]])+(Tableau13[[#This Row],[PV couleur (%) ou (€/m2)]]*Tableau13[[#This Row],[Prix base]])+Tableau13[[#This Row],[Mortaise]]+Tableau13[[#This Row],[Vitrage ARGON]]+Tableau13[[#This Row],[Vitrage 44/2]]+Tableau13[[#This Row],[Pose VR dans coffre]]+Tableau13[[#This Row],[Poignée]])*1.05,0)} -> #N/A | O17: {=ROUNDUP((_xlfn.IFS(Tableau13[[#This Row],[Vérif 3]]=1,Tableau13[[#This Row],[Prix base]])+(Tableau13[[#This Row],[PV couleur (%) ou (€/m2)]]*Tableau13[[#This Row],[Prix base]])+Tableau13[[#This Row],[Mortaise]]+Tableau13[[#This Row],[Vitrage ARGON]]+Tableau13[[#This Row],[Vitrage 44/2]]+Tableau13[[#This Row],[Pose VR dans coffre]]+Tableau13[[#This Row],[Poignée]])*1.05,0)} -> #N/A | P17: {=ROUNDUP((_xlfn.IFS(Tableau13[[#This Row],[Vérif 4]]=1,Tableau13[[#This Row],[Prix base]])+(Tableau13[[#This Row],[PV couleur (%) ou (€/m2)]]*Tableau13[[#This Row],[Prix base]])+Tableau13[[#This Row],[Mortaise]]+Tableau13[[#This Row],[Vitrage ARGON]]+Tableau13[[#This Row],[Vitrage 44/2]]+Tableau13[[#This Row],[Pose VR dans coffre]]+Tableau13[[#This Row],[Poignée]])*1.05,0)} -> #N/A | Q17: {=ROUNDUP((_xlfn.IFS(Tableau13[[#This Row],[Vérif 5]]=1,Tableau13[[#This Row],[Prix base]])+(Tableau13[[#This Row],[PV couleur (%) ou (€/m2)]]*Tableau13[[#This Row],[Prix base]])+Tableau13[[#This Row],[Mortaise]]+Tableau13[[#This Row],[Vitrage ARGON]]+Tableau13[[#This Row],[Vitrage 44/2]]+Tableau13[[#This Row],[Pose VR dans coffre]]+Tableau13[[#This Row],[Poignée]])*1.05,0)} -> #N/A | R17: {=ROUNDUP((_xlfn.IFS(Tableau13[[#This Row],[Vérif 6]]=1,Tableau13[[#This Row],[Prix base]])+(Tableau13[[#This Row],[PV couleur (%) ou (€/m2)]]*Tableau13[[#This Row],[Prix base]])+Tableau13[[#This Row],[Mortaise]]+Tableau13[[#This Row],[Vitrage ARGON]]+Tableau13[[#This Row],[Vitrage 44/2]]+Tableau13[[#This Row],[Pose VR dans coffre]]+Tableau13[[#This Row],[Poignée]])*1.05,0)} -> #N/A | S17: {=ROUNDUP((_xlfn.IFS(Tableau13[[#This Row],[Vérif 7]]=1,Tableau13[[#This Row],[Prix base]])+(Tableau13[[#This Row],[PV couleur (%) ou (€/m2)]]*Tableau13[[#This Row],[Largeur]]*Tableau13[[#This Row],[Hauteur]])+Tableau13[[#This Row],[Mortaise]]+Tableau13[[#This Row],[Vitrage ARGON]]+Tableau13[[#This Row],[Vitrage 44/2]]+Tableau13[[#This Row],[Pose VR dans coffre]]+Tableau13[[#This Row],[Poignée]])*1.05,0)} -> #N/A | T17: {=ROUNDUP((_xlfn.IFS(Tableau13[[#This Row],[Vérif 8]]=1,Tableau13[[#This Row],[Prix base]])+(Tableau13[[#This Row],[PV couleur (%) ou (€/m2)]]*Tableau13[[#This Row],[Largeur]]*Tableau13[[#This Row],[Hauteur]])+Tableau13[[#This Row],[Mortaise]]+Tableau13[[#This Row],[Vitrage ARGON]]+Tableau13[[#This Row],[Vitrage 44/2]]+Tableau13[[#This Row],[Pose VR dans coffre]]+Tableau13[[#This Row],[Poignée]])*1.05,0)} -> #N/A | U17: {=ROUNDUP((_xlfn.IFS(Tableau13[[#This Row],[Vérif 9]]=1,Tableau13[[#This Row],[Prix base]])+(Tableau13[[#This Row],[PV couleur (%) ou (€/m2)]]*Tableau13[[#This Row],[Largeur]]*Tableau13[[#This Row],[Hauteur]])+Tableau13[[#This Row],[Mortaise]]+Tableau13[[#This Row],[Vitrage ARGON]]+Tableau13[[#This Row],[Vitrage 44/2]]+Tableau13[[#This Row],[Pose VR dans coffre]]+Tableau13[[#This Row],[Poignée]])*1.05,0)} -> 188 | V17: {=SUMPRODUCT((Tableau13[Nature]="pvc")*(Tableau13[Type Ouverture]="OAF")*(Tableau13[Couleur]<>"RAL 9016")*(Tableau13[Largeur]=Tableau13[[#This Row],[Largeur]])*(Tableau13[Hauteur]=Tableau13[[#This Row],[Hauteur]])*(Tableau13[Prix base]=Tableau13[[#This Row],[Prix base]]))} -> 0 | W17: {=SUMPRODUCT((Tableau13[Nature]="pvc")*(Tableau13[Type Ouverture]="OAF")*(Tableau13[Couleur]="RAL 9016")*(Tableau13[Largeur]=Tableau13[[#This Row],[Largeur]])*(Tableau13[Hauteur]=Tableau13[[#This Row],[Hauteur]])*(Tableau13[Prix base]=Tableau13[[#This Row],[Prix base]]))} -> 0 | X17: {=SUMPRODUCT((Tableau13[Nature]="alu")*(Tableau13[Type Ouverture]="OAF")*(Tableau13[Couleur]<>"RAL 9016")*(Tableau13[Largeur]=Tableau13[[#This Row],[Largeur]])*(Tableau13[Hauteur]=Tableau13[[#This Row],[Hauteur]])*(Tableau13[Prix base]=Tableau13[[#This Row],[Prix base]]))} -> 0 | Y17: {=SUMPRODUCT((Tableau13[Nature]="alu")*(Tableau13[Type Ouverture]="OAF")*(Tableau13[Couleur]="RAL 9016")*(Tableau13[Largeur]=Tableau13[[#This Row],[Largeur]])*(Tableau13[Hauteur]=Tableau13[[#This Row],[Hauteur]])*(Tableau13[Prix base]=Tableau13[[#This Row],[Prix base]]))} -> 0 | Z17: {=SUMPRODUCT((Tableau13[Nature]="alu")*(Tableau13[Type Ouverture]="coulissant")*(Tableau13[Couleur]<>"RAL 9016")*(Tableau13[Largeur]=Tableau13[[#This Row],[Largeur]])*(Tableau13[Hauteur]=Tableau13[[#This Row],[Hauteur]])*(Tableau13[Prix base]=Tableau13[[#This Row],[Prix base]]))} -> 0 | AA17: {=SUMPRODUCT((Tableau13[Nature]="alu")*(Tableau13[Type Ouverture]="coulissant")*(Tableau13[Couleur]="RAL 9016")*(Tableau13[Largeur]=Tableau13[[#This Row],[Largeur]])*(Tableau13[Hauteur]=Tableau13[[#This Row],[Hauteur]])*(Tableau13[Prix base]=Tableau13[[#This Row],[Prix base]]))} -> 0 | AB17: {=SUMPRODUCT((Tableau13[Nature]="pvc")*(Tableau13[Type Ouverture]="vr")*(Tableau13[Couleur]="RAL 9016")*(Tableau13[Largeur]=Tableau13[[#This Row],[Largeur]])*(Tableau13[Hauteur]=Tableau13[[#This Row],[Hauteur]])*(Tableau13[Prix base]=Tableau13[[#This Row],[Prix base]]))} -> 0 | AC17: {=SUMPRODUCT((Tableau13[Nature]="alu")*(Tableau13[Type Ouverture]="vr")*(Tableau13[Couleur]="RAL 9016")*(Tableau13[Largeur]=Tableau13[[#This Row],[Largeur]])*(Tableau13[Hauteur]=Tableau13[[#This Row],[Hauteur]])*(Tableau13[Prix base]=Tableau13[[#This Row],[Prix base]]))} -> 0 | AD17: {=SUMPRODUCT((Tableau13[Nature]="alu")*(Tableau13[Type Ouverture]="vr")*(Tableau13[Couleur]<>"RAL 9016")*(Tableau13[Largeur]=Tableau13[[#This Row],[Largeur]])*(Tableau13[Hauteur]=Tableau13[[#This Row],[Hauteur]])*(Tableau13[Prix base]=Tableau13[[#This Row],[Prix base]]))} -> 1
A18: ALU | B18: VR | C18: RAL 7016 | D18: 2.4 | E18: 0.95 | F18: 170 | G18: {=SUMPRODUCT(((Tableau4[Nature]=Tableau13[[#This Row],[Nature]])*(Tableau4[Couleur]=Tableau13[[#This Row],[Couleur]])*(_xlfn.IFS(Tableau4[[#Headers],[Coulissant]]=Tableau13[[#This Row],[Type Ouverture]],Tableau4[Coulissant],Tableau4[[#Headers],[OAF]]=Tableau13[[#This Row],[Type Ouverture]],Tableau4[OAF],Tableau4[[#Headers],[Ensemble composé]]=Tableau13[[#This Row],[Type Ouverture]],Tableau4[Ensemble composé],Tableau4[[#Headers],[VR]]=Tableau13[[#This Row],[Type Ouverture]],Tableau4[VR]))))} -> 5 | K18: 10 | M18: {=ROUNDUP((_xlfn.IFS(Tableau13[[#This Row],[Vérif 1]]=1,Tableau13[[#This Row],[Prix base]])+(Tableau13[[#This Row],[PV couleur (%) ou (€/m2)]]*Tableau13[[#This Row],[Prix base]])+Tableau13[[#This Row],[Mortaise]]+Tableau13[[#This Row],[Vitrage ARGON]]+Tableau13[[#This Row],[Vitrage 44/2]]+Tableau13[[#This Row],[Pose VR dans coffre]]+Tableau13[[#This Row],[Poignée]])*1.05,0)} -> #N/A | N18: {=ROUNDUP((_xlfn.IFS(Tableau13[[#This Row],[Vérif 2]]=1,Tableau13[[#This Row],[Prix base]])+(Tableau13[[#This Row],[PV couleur (%) ou (€/m2)]]*Tableau13[[#This Row],[Prix base]])+Tableau13[[#This Row],[Mortaise]]+Tableau13[[#This Row],[Vitrage ARGON]]+Tableau13[[#This Row],[Vitrage 44/2]]+Tableau13[[#This Row],[Pose VR dans coffre]]+Tableau13[[#This Row],[Poignée]])*1.05,0)} -> #N/A | O18: {=ROUNDUP((_xlfn.IFS(Tableau13[[#This Row],[Vérif 3]]=1,Tableau13[[#This Row],[Prix base]])+(Tableau13[[#This Row],[PV couleur (%) ou (€/m2)]]*Tableau13[[#This Row],[Prix base]])+Tableau13[[#This Row],[Mortaise]]+Tableau13[[#This Row],[Vitrage ARGON]]+Tableau13[[#This Row],[Vitrage 44/2]]+Tableau13[[#This Row],[Pose VR dans coffre]]+Tableau13[[#This Row],[Poignée]])*1.05,0)} -> #N/A | P18: {=ROUNDUP((_xlfn.IFS(Tableau13[[#This Row],[Vérif 4]]=1,Tableau13[[#This Row],[Prix base]])+(Tableau13[[#This Row],[PV couleur (%) ou (€/m2)]]*Tableau13[[#This Row],[Prix base]])+Tableau13[[#This Row],[Mortaise]]+Tableau13[[#This Row],[Vitrage ARGON]]+Tableau13[[#This Row],[Vitrage 44/2]]+Tableau13[[#This Row],[Pose VR dans coffre]]+Tableau13[[#This Row],[Poignée]])*1.05,0)} -> #N/A | Q18: {=ROUNDUP((_xlfn.IFS(Tableau13[[#This Row],[Vérif 5]]=1,Tableau13[[#This Row],[Prix base]])+(Tableau13[[#This Row],[PV couleur (%) ou (€/m2)]]*Tableau13[[#This Row],[Prix base]])+Tableau13[[#This Row],[Mortaise]]+Tableau13[[#This Row],[Vitrage ARGON]]+Tableau13[[#This Row],[Vitrage 44/2]]+Tableau13[[#This Row],[Pose VR dans coffre]]+Tableau13[[#This Row],[Poignée]])*1.05,0)} -> #N/A | R18: {=ROUNDUP((_xlfn.IFS(Tableau13[[#This Row],[Vérif 6]]=1,Tableau13[[#This Row],[Prix base]])+(Tableau13[[#This Row],[PV couleur (%) ou (€/m2)]]*Tableau13[[#This Row],[Prix base]])+Tableau13[[#This Row],[Mortaise]]+Tableau13[[#This Row],[Vitrage ARGON]]+Tableau13[[#This Row],[Vitrage 44/2]]+Tableau13[[#This Row],[Pose VR dans coffre]]+Tableau13[[#This Row],[Poignée]])*1.05,0)} -> #N/A | S18: {=ROUNDUP((_xlfn.IFS(Tableau13[[#This Row],[Vérif 7]]=1,Tableau13[[#This Row],[Prix base]])+(Tableau13[[#This Row],[PV couleur (%) ou (€/m2)]]*Tableau13[[#This Row],[Largeur]]*Tableau13[[#This Row],[Hauteur]])+Tableau13[[#This Row],[Mortaise]]+Tableau13[[#This Row],[Vitrage ARGON]]+Tableau13[[#This Row],[Vitrage 44/2]]+Tableau13[[#This Row],[Pose VR dans coffre]]+Tableau13[[#This Row],[Poignée]])*1.05,0)} -> #N/A | T18: {=ROUNDUP((_xlfn.IFS(Tableau13[[#This Row],[Vérif 8]]=1,Tableau13[[#This Row],[Prix base]])+(Tableau13[[#This Row],[PV couleur (%) ou (€/m2)]]*Tableau13[[#This Row],[Largeur]]*Tableau13[[#This Row],[Hauteur]])+Tableau13[[#This Row],[Mortaise]]+Tableau13[[#This Row],[Vitrage ARGON]]+Tableau13[[#This Row],[Vitrage 44/2]]+Tableau13[[#This Row],[Pose VR dans coffre]]+Tableau13[[#This Row],[Poignée]])*1.05,0)} -> #N/A | U18: {=ROUNDUP((_xlfn.IFS(Tableau13[[#This Row],[Vérif 9]]=1,Tableau13[[#This Row],[Prix base]])+(Tableau13[[#This Row],[PV couleur (%) ou (€/m2)]]*Tableau13[[#This Row],[Largeur]]*Tableau13[[#This Row],[Hauteur]])+Tableau13[[#This Row],[Mortaise]]+Tableau13[[#This Row],[Vitrage ARGON]]+Tableau13[[#This Row],[Vitrage 44/2]]+Tableau13[[#This Row],[Pose VR dans coffre]]+Tableau13[[#This Row],[Poignée]])*1.05,0)} -> 201 | V18: {=SUMPRODUCT((Tableau13[Nature]="pvc")*(Tableau13[Type Ouverture]="OAF")*(Tableau13[Couleur]<>"RAL 9016")*(Tableau13[Largeur]=Tableau13[[#This Row],[Largeur]])*(Tableau13[Hauteur]=Tableau13[[#This Row],[Hauteur]])*(Tableau13[Prix base]=Tableau13[[#This Row],[Prix base]]))} -> 0 | W18: {=SUMPRODUCT((Tableau13[Nature]="pvc")*(Tableau13[Type Ouverture]="OAF")*(Tableau13[Couleur]="RAL 9016")*(Tableau13[Largeur]=Tableau13[[#This Row],[Largeur]])*(Tableau13[Hauteur]=Tableau13[[#This Row],[Hauteur]])*(Tableau13[Prix base]=Tableau13[[#This Row],[Prix base]]))} -> 0 | X18: {=SUMPRODUCT((Tableau13[Nature]="alu")*(Tableau13[Type Ouverture]="OAF")*(Tableau13[Couleur]<>"RAL 9016")*(Tableau13[Largeur]=Tableau13[[#This Row],[Largeur]])*(Tableau13[Hauteur]=Tableau13[[#This Row],[Hauteur]])*(Tableau13[Prix base]=Tableau13[[#This Row],[Prix base]]))} -> 0 | Y18: {=SUMPRODUCT((Tableau13[Nature]="alu")*(Tableau13[Type Ouverture]="OAF")*(Tableau13[Couleur]="RAL 9016")*(Tableau13[Largeur]=Tableau13[[#This Row],[Largeur]])*(Tableau13[Hauteur]=Tableau13[[#This Row],[Hauteur]])*(Tableau13[Prix base]=Tableau13[[#This Row],[Prix base]]))} -> 0 | Z18: {=SUMPRODUCT((Tableau13[Nature]="alu")*(Tableau13[Type Ouverture]="coulissant")*(Tableau13[Couleur]<>"RAL 9016")*(Tableau13[Largeur]=Tableau13[[#This Row],[Largeur]])*(Tableau13[Hauteur]=Tableau13[[#This Row],[Hauteur]])*(Tableau13[Prix base]=Tableau13[[#This Row],[Prix base]]))} -> 0 | AA18: {=SUMPRODUCT((Tableau13[Nature]="alu")*(Tableau13[Type Ouverture]="coulissant")*(Tableau13[Couleur]="RAL 9016")*(Tableau13[Largeur]=Tableau13[[#This Row],[Largeur]])*(Tableau13[Hauteur]=Tableau13[[#This Row],[Hauteur]])*(Tableau13[Prix base]=Tableau13[[#This Row],[Prix base]]))} -> 0 | AB18: {=SUMPRODUCT((Tableau13[Nature]="pvc")*(Tableau13[Type Ouverture]="vr")*(Tableau13[Couleur]="RAL 9016")*(Tableau13[Largeur]=Tableau13[[#This Row],[Largeur]])*(Tableau13[Hauteur]=Tableau13[[#This Row],[Hauteur]])*(Tableau13[Prix base]=Tableau13[[#This Row],[Prix base]]))} -> 0 | AC18: {=SUMPRODUCT((Tableau13[Nature]="alu")*(Tableau13[Type Ouverture]="vr")*(Tableau13[Couleur]="RAL 9016")*(Tableau13[Largeur]=Tableau13[[#This Row],[Largeur]])*(Tableau13[Hauteur]=Tableau13[[#This Row],[Hauteur]])*(Tableau13[Prix base]=Tableau13[[#This Row],[Prix base]]))} -> 0 | AD18: {=SUMPRODUCT((Tableau13[Nature]="alu")*(Tableau13[Type Ouverture]="vr")*(Tableau13[Couleur]<>"RAL 9016")*(Tableau13[Largeur]=Tableau13[[#This Row],[Largeur]])*(Tableau13[Hauteur]=Tableau13[[#This Row],[Hauteur]])*(Tableau13[Prix base]=Tableau13[[#This Row],[Prix base]]))} -> 1
A19: ALU | B19: VR | C19: RAL 7016 | D19: 1.8 | E19: 2.25 | F19: 180 | G19: {=SUMPRODUCT(((Tableau4[Nature]=Tableau13[[#This Row],[Nature]])*(Tableau4[Couleur]=Tableau13[[#This Row],[Couleur]])*(_xlfn.IFS(Tableau4[[#Headers],[Coulissant]]=Tableau13[[#This Row],[Type Ouverture]],Tableau4[Coulissant],Tableau4[[#Headers],[OAF]]=Tableau13[[#This Row],[Type Ouverture]],Tableau4[OAF],Tableau4[[#Headers],[Ensemble composé]]=Tableau13[[#This Row],[Type Ouverture]],Tableau4[Ensemble composé],Tableau4[[#Headers],[VR]]=Tableau13[[#This Row],[Type Ouverture]],Tableau4[VR]))))} -> 5 | K19: 15 | M19: {=ROUNDUP((_xlfn.IFS(Tableau13[[#This Row],[Vérif 1]]=1,Tableau13[[#This Row],[Prix base]])+(Tableau13[[#This Row],[PV couleur (%) ou (€/m2)]]*Tableau13[[#This Row],[Prix base]])+Tableau13[[#This Row],[Mortaise]]+Tableau13[[#This Row],[Vitrage ARGON]]+Tableau13[[#This Row],[Vitrage 44/2]]+Tableau13[[#This Row],[Pose VR dans coffre]]+Tableau13[[#This Row],[Poignée]])*1.05,0)} -> #N/A | N19: {=ROUNDUP((_xlfn.IFS(Tableau13[[#This Row],[Vérif 2]]=1,Tableau13[[#This Row],[Prix base]])+(Tableau13[[#This Row],[PV couleur (%) ou (€/m2)]]*Tableau13[[#This Row],[Prix base]])+Tableau13[[#This Row],[Mortaise]]+Tableau13[[#This Row],[Vitrage ARGON]]+Tableau13[[#This Row],[Vitrage 44/2]]+Tableau13[[#This Row],[Pose VR dans coffre]]+Tableau13[[#This Row],[Poignée]])*1.05,0)} -> #N/A | O19: {=ROUNDUP((_xlfn.IFS(Tableau13[[#This Row],[Vérif 3]]=1,Tableau13[[#This Row],[Prix base]])+(Tableau13[[#This Row],[PV couleur (%) ou (€/m2)]]*Tableau13[[#This Row],[Prix base]])+Tableau13[[#This Row],[Mortaise]]+Tableau13[[#This Row],[Vitrage ARGON]]+Tableau13[[#This Row],[Vitrage 44/2]]+Tableau13[[#This Row],[Pose VR dans coffre]]+Tableau13[[#This Row],[Poignée]])*1.05,0)} -> #N/A | P19: {=ROUNDUP((_xlfn.IFS(Tableau13[[#This Row],[Vérif 4]]=1,Tableau13[[#This Row],[Prix base]])+(Tableau13[[#This Row],[PV couleur (%) ou (€/m2)]]*Tableau13[[#This Row],[Prix base]])+Tableau13[[#This Row],[Mortaise]]+Tableau13[[#This Row],[Vitrage ARGON]]+Tableau13[[#This Row],[Vitrage 44/2]]+Tableau13[[#This Row],[Pose VR dans coffre]]+Tableau13[[#This Row],[Poignée]])*1.05,0)} -> #N/A | Q19: {=ROUNDUP((_xlfn.IFS(Tableau13[[#This Row],[Vérif 5]]=1,Tableau13[[#This Row],[Prix base]])+(Tableau13[[#This Row],[PV couleur (%) ou (€/m2)]]*Tableau13[[#This Row],[Prix base]])+Tableau13[[#This Row],[Mortaise]]+Tableau13[[#This Row],[Vitrage ARGON]]+Tableau13[[#This Row],[Vitrage 44/2]]+Tableau13[[#This Row],[Pose VR dans coffre]]+Tableau13[[#This Row],[Poignée]])*1.05,0)} -> #N/A | R19: {=ROUNDUP((_xlfn.IFS(Tableau13[[#This Row],[Vérif 6]]=1,Tableau13[[#This Row],[Prix base]])+(Tableau13[[#This Row],[PV couleur (%) ou (€/m2)]]*Tableau13[[#This Row],[Prix base]])+Tableau13[[#This Row],[Mortaise]]+Tableau13[[#This Row],[Vitrage ARGON]]+Tableau13[[#This Row],[Vitrage 44/2]]+Tableau13[[#This Row],[Pose VR dans coffre]]+Tableau13[[#This Row],[Poignée]])*1.05,0)} -> #N/A | S19: {=ROUNDUP((_xlfn.IFS(Tableau13[[#This Row],[Vérif 7]]=1,Tableau13[[#This Row],[Prix base]])+(Tableau13[[#This Row],[PV couleur (%) ou (€/m2)]]*Tableau13[[#This Row],[Largeur]]*Tableau13[[#This Row],[Hauteur]])+Tableau13[[#This Row],[Mortaise]]+Tableau13[[#This Row],[Vitrage ARGON]]+Tableau13[[#This Row],[Vitrage 44/2]]+Tableau13[[#This Row],[Pose VR dans coffre]]+Tableau13[[#This Row],[Poignée]])*1.05,0)} -> #N/A | T19: {=ROUNDUP((_xlfn.IFS(Tableau13[[#This Row],[Vérif 8]]=1,Tableau13[[#This Row],[Prix base]])+(Tableau13[[#This Row],[PV couleur (%) ou (€/m2)]]*Tableau13[[#This Row],[Largeur]]*Tableau13[[#This Row],[Hauteur]])+Tableau13[[#This Row],[Mortaise]]+Tableau13[[#This Row],[Vitrage ARGON]]+Tableau13[[#This Row],[Vitrage 44/2]]+Tableau13[[#This Row],[Pose VR dans coffre]]+Tableau13[[#This Row],[Poignée]])*1.05,0)} -> #N/A | U19: {=ROUNDUP((_xlfn.IFS(Tableau13[[#This Row],[Vérif 9]]=1,Tableau13[[#This Row],[Prix base]])+(Tableau13[[#This Row],[PV couleur (%) ou (€/m2)]]*Tableau13[[#This Row],[Largeur]]*Tableau13[[#This Row],[Hauteur]])+Tableau13[[#This Row],[Mortaise]]+Tableau13[[#This Row],[Vitrage ARGON]]+Tableau13[[#This Row],[Vitrage 44/2]]+Tableau13[[#This Row],[Pose VR dans coffre]]+Tableau13[[#This Row],[Poignée]])*1.05,0)} -> 227 | V19: {=SUMPRODUCT((Tableau13[Nature]="pvc")*(Tableau13[Type Ouverture]="OAF")*(Tableau13[Couleur]<>"RAL 9016")*(Tableau13[Largeur]=Tableau13[[#This Row],[Largeur]])*(Tableau13[Hauteur]=Tableau13[[#This Row],[Hauteur]])*(Tableau13[Prix base]=Tableau13[[#This Row],[Prix base]]))} -> 0 | W19: {=SUMPRODUCT((Tableau13[Nature]="pvc")*(Tableau13[Type Ouverture]="OAF")*(Tableau13[Couleur]="RAL 9016")*(Tableau13[Largeur]=Tableau13[[#This Row],[Largeur]])*(Tableau13[Hauteur]=Tableau13[[#This Row],[Hauteur]])*(Tableau13[Prix base]=Tableau13[[#This Row],[Prix base]]))} -> 0 | X19: {=SUMPRODUCT((Tableau13[Nature]="alu")*(Tableau13[Type Ouverture]="OAF")*(Tableau13[Couleur]<>"RAL 9016")*(Tableau13[Largeur]=Tableau13[[#This Row],[Largeur]])*(Tableau13[Hauteur]=Tableau13[[#This Row],[Hauteur]])*(Tableau13[Prix base]=Tableau13[[#This Row],[Prix base]]))} -> 0 | Y19: {=SUMPRODUCT((Tableau13[Nature]="alu")*(Tableau13[Type Ouverture]="OAF")*(Tableau13[Couleur]="RAL 9016")*(Tableau13[Largeur]=Tableau13[[#This Row],[Largeur]])*(Tableau13[Hauteur]=Tableau13[[#This Row],[Hauteur]])*(Tableau13[Prix base]=Tableau13[[#This Row],[Prix base]]))} -> 0 | Z19: {=SUMPRODUCT((Tableau13[Nature]="alu")*(Tableau13[Type Ouverture]="coulissant")*(Tableau13[Couleur]<>"RAL 9016")*(Tableau13[Largeur]=Tableau13[[#This Row],[Largeur]])*(Tableau13[Hauteur]=Tableau13[[#This Row],[Hauteur]])*(Tableau13[Prix base]=Tableau13[[#This Row],[Prix base]]))} -> 0 | AA19: {=SUMPRODUCT((Tableau13[Nature]="alu")*(Tableau13[Type Ouverture]="coulissant")*(Tableau13[Couleur]="RAL 9016")*(Tableau13[Largeur]=Tableau13[[#This Row],[Largeur]])*(Tableau13[Hauteur]=Tableau13[[#This Row],[Hauteur]])*(Tableau13[Prix base]=Tableau13[[#This Row],[Prix base]]))} -> 0 | AB19: {=SUMPRODUCT((Tableau13[Nature]="pvc")*(Tableau13[Type Ouverture]="vr")*(Tableau13[Couleur]="RAL 9016")*(Tableau13[Largeur]=Tableau13[[#This Row],[Largeur]])*(Tableau13[Hauteur]=Tableau13[[#This Row],[Hauteur]])*(Tableau13[Prix base]=Tableau13[[#This Row],[Prix base]]))} -> 0 | AC19: {=SUMPRODUCT((Tableau13[Nature]="alu")*(Tableau13[Type Ouverture]="vr")*(Tableau13[Couleur]="RAL 9016")*(Tableau13[Largeur]=Tableau13[[#This Row],[Largeur]])*(Tableau13[Hauteur]=Tableau13[[#This Row],[Hauteur]])*(Tableau13[Prix base]=Tableau13[[#This Row],[Prix base]]))} -> 0 | AD19: {=SUMPRODUCT((Tableau13[Nature]="alu")*(Tableau13[Type Ouverture]="vr")*(Tableau13[Couleur]<>"RAL 9016")*(Tableau13[Largeur]=Tableau13[[#This Row],[Largeur]])*(Tableau13[Hauteur]=Tableau13[[#This Row],[Hauteur]])*(Tableau13[Prix base]=Tableau13[[#This Row],[Prix base]]))} -> 1
A20: ALU | B20: VR | C20: RAL 7016 | D20: 2 | E20: 2.25 | F20: 190 | G20: {=SUMPRODUCT(((Tableau4[Nature]=Tableau13[[#This Row],[Nature]])*(Tableau4[Couleur]=Tableau13[[#This Row],[Couleur]])*(_xlfn.IFS(Tableau4[[#Headers],[Coulissant]]=Tableau13[[#This Row],[Type Ouverture]],Tableau4[Coulissant],Tableau4[[#Headers],[OAF]]=Tableau13[[#This Row],[Type Ouverture]],Tableau4[OAF],Tableau4[[#Headers],[Ensemble composé]]=Tableau13[[#This Row],[Type Ouverture]],Tableau4[Ensemble composé],Tableau4[[#Headers],[VR]]=Tableau13[[#This Row],[Type Ouverture]],Tableau4[VR]))))} -> 5 | K20: 19 | M20: {=ROUNDUP((_xlfn.IFS(Tableau13[[#This Row],[Vérif 1]]=1,Tableau13[[#This Row],[Prix base]])+(Tableau13[[#This Row],[PV couleur (%) ou (€/m2)]]*Tableau13[[#This Row],[Prix base]])+Tableau13[[#This Row],[Mortaise]]+Tableau13[[#This Row],[Vitrage ARGON]]+Tableau13[[#This Row],[Vitrage 44/2]]+Tableau13[[#This Row],[Pose VR dans coffre]]+Tableau13[[#This Row],[Poignée]])*1.05,0)} -> #N/A | N20: {=ROUNDUP((_xlfn.IFS(Tableau13[[#This Row],[Vérif 2]]=1,Tableau13[[#This Row],[Prix base]])+(Tableau13[[#This Row],[PV couleur (%) ou (€/m2)]]*Tableau13[[#This Row],[Prix base]])+Tableau13[[#This Row],[Mortaise]]+Tableau13[[#This Row],[Vitrage ARGON]]+Tableau13[[#This Row],[Vitrage 44/2]]+Tableau13[[#This Row],[Pose VR dans coffre]]+Tableau13[[#This Row],[Poignée]])*1.05,0)} -> #N/A | O20: {=ROUNDUP((_xlfn.IFS(Tableau13[[#This Row],[Vérif 3]]=1,Tableau13[[#This Row],[Prix base]])+(Tableau13[[#This Row],[PV couleur (%) ou (€/m2)]]*Tableau13[[#This Row],[Prix base]])+Tableau13[[#This Row],[Mortaise]]+Tableau13[[#This Row],[Vitrage ARGON]]+Tableau13[[#This Row],[Vitrage 44/2]]+Tableau13[[#This Row],[Pose VR dans coffre]]+Tableau13[[#This Row],[Poignée]])*1.05,0)} -> #N/A | P20: {=ROUNDUP((_xlfn.IFS(Tableau13[[#This Row],[Vérif 4]]=1,Tableau13[[#This Row],[Prix base]])+(Tableau13[[#This Row],[PV couleur (%) ou (€/m2)]]*Tableau13[[#This Row],[Prix base]])+Tableau13[[#This Row],[Mortaise]]+Tableau13[[#This Row],[Vitrage ARGON]]+Tableau13[[#This Row],[Vitrage 44/2]]+Tableau13[[#This Row],[Pose VR dans coffre]]+Tableau13[[#This Row],[Poignée]])*1.05,0)} -> #N/A | Q20: {=ROUNDUP((_xlfn.IFS(Tableau13[[#This Row],[Vérif 5]]=1,Tableau13[[#This Row],[Prix base]])+(Tableau13[[#This Row],[PV couleur (%) ou (€/m2)]]*Tableau13[[#This Row],[Prix base]])+Tableau13[[#This Row],[Mortaise]]+Tableau13[[#This Row],[Vitrage ARGON]]+Tableau13[[#This Row],[Vitrage 44/2]]+Tableau13[[#This Row],[Pose VR dans coffre]]+Tableau13[[#This Row],[Poignée]])*1.05,0)} -> #N/A | R20: {=ROUNDUP((_xlfn.IFS(Tableau13[[#This Row],[Vérif 6]]=1,Tableau13[[#This Row],[Prix base]])+(Tableau13[[#This Row],[PV couleur (%) ou (€/m2)]]*Tableau13[[#This Row],[Prix base]])+Tableau13[[#This Row],[Mortaise]]+Tableau13[[#This Row],[Vitrage ARGON]]+Tableau13[[#This Row],[Vitrage 44/2]]+Tableau13[[#This Row],[Pose VR dans coffre]]+Tableau13[[#This Row],[Poignée]])*1.05,0)} -> #N/A | S20: {=ROUNDUP((_xlfn.IFS(Tableau13[[#This Row],[Vérif 7]]=1,Tableau13[[#This Row],[Prix base]])+(Tableau13[[#This Row],[PV couleur (%) ou (€/m2)]]*Tableau13[[#This Row],[Largeur]]*Tableau13[[#This Row],[Hauteur]])+Tableau13[[#This Row],[Mortaise]]+Tableau13[[#This Row],[Vitrage ARGON]]+Tableau13[[#This Row],[Vitrage 44/2]]+Tableau13[[#This Row],[Pose VR dans coffre]]+Tableau13[[#This Row],[Poignée]])*1.05,0)} -> #N/A | T20: {=ROUNDUP((_xlfn.IFS(Tableau13[[#This Row],[Vérif 8]]=1,Tableau13[[#This Row],[Prix base]])+(Tableau13[[#This Row],[PV couleur (%) ou (€/m2)]]*Tableau13[[#This Row],[Largeur]]*Tableau13[[#This Row],[Hauteur]])+Tableau13[[#This Row],[Mortaise]]+Tableau13[[#This Row],[Vitrage ARGON]]+Tableau13[[#This Row],[Vitrage 44/2]]+Tableau13[[#This Row],[Pose VR dans coffre]]+Tableau13[[#This Row],[Poignée]])*1.05,0)} -> #N/A | U20: {=ROUNDUP((_xlfn.IFS(Tableau13[[#This Row],[Vérif 9]]=1,Tableau13[[#This Row],[Prix base]])+(Tableau13[[#This Row],[PV couleur (%) ou (€/m2)]]*Tableau13[[#This Row],[Largeur]]*Tableau13[[#This Row],[Hauteur]])+Tableau13[[#This Row],[Mortaise]]+Tableau13[[#This Row],[Vitrage ARGON]]+Tableau13[[#This Row],[Vitrage 44/2]]+Tableau13[[#This Row],[Pose VR dans coffre]]+Tableau13[[#This Row],[Poignée]])*1.05,0)} -> 244 | V20: {=SUMPRODUCT((Tableau13[Nature]="pvc")*(Tableau13[Type Ouverture]="OAF")*(Tableau13[Couleur]<>"RAL 9016")*(Tableau13[Largeur]=Tableau13[[#This Row],[Largeur]])*(Tableau13[Hauteur]=Tableau13[[#This Row],[Hauteur]])*(Tableau13[Prix base]=Tableau13[[#This Row],[Prix base]]))} -> 0 | W20: {=SUMPRODUCT((Tableau13[Nature]="pvc")*(Tableau13[Type Ouverture]="OAF")*(Tableau13[Couleur]="RAL 9016")*(Tableau13[Largeur]=Tableau13[[#This Row],[Largeur]])*(Tableau13[Hauteur]=Tableau13[[#This Row],[Hauteur]])*(Tableau13[Prix base]=Tableau13[[#This Row],[Prix base]]))} -> 0 | X20: {=SUMPRODUCT((Tableau13[Nature]="alu")*(Tableau13[Type Ouverture]="OAF")*(Tableau13[Couleur]<>"RAL 9016")*(Tableau13[Largeur]=Tableau13[[#This Row],[Largeur]])*(Tableau13[Hauteur]=Tableau13[[#This Row],[Hauteur]])*(Tableau13[Prix base]=Tableau13[[#This Row],[Prix base]]))} -> 0 | Y20: {=SUMPRODUCT((Tableau13[Nature]="alu")*(Tableau13[Type Ouverture]="OAF")*(Tableau13[Couleur]="RAL 9016")*(Tableau13[Largeur]=Tableau13[[#This Row],[Largeur]])*(Tableau13[Hauteur]=Tableau13[[#This Row],[Hauteur]])*(Tableau13[Prix base]=Tableau13[[#This Row],[Prix base]]))} -> 0 | Z20: {=SUMPRODUCT((Tableau13[Nature]="alu")*(Tableau13[Type Ouverture]="coulissant")*(Tableau13[Couleur]<>"RAL 9016")*(Tableau13[Largeur]=Tableau13[[#This Row],[Largeur]])*(Tableau13[Hauteur]=Tableau13[[#This Row],[Hauteur]])*(Tableau13[Prix base]=Tableau13[[#This Row],[Prix base]]))} -> 0 | AA20: {=SUMPRODUCT((Tableau13[Nature]="alu")*(Tableau13[Type Ouverture]="coulissant")*(Tableau13[Couleur]="RAL 9016")*(Tableau13[Largeur]=Tableau13[[#This Row],[Largeur]])*(Tableau13[Hauteur]=Tableau13[[#This Row],[Hauteur]])*(Tableau13[Prix base]=Tableau13[[#This Row],[Prix base]]))} -> 0 | AB20: {=SUMPRODUCT((Tableau13[Nature]="pvc")*(Tableau13[Type Ouverture]="vr")*(Tableau13[Couleur]="RAL 9016")*(Tableau13[Largeur]=Tableau13[[#This Row],[Largeur]])*(Tableau13[Hauteur]=Tableau13[[#This Row],[Hauteur]])*(Tableau13[Prix base]=Tableau13[[#This Row],[Prix base]]))} -> 0 | AC20: {=SUMPRODUCT((Tableau13[Nature]="alu")*(Tableau13[Type Ouverture]="vr")*(Tableau13[Couleur]="RAL 9016")*(Tableau13[Largeur]=Tableau13[[#This Row],[Largeur]])*(Tableau13[Hauteur]=Tableau13[[#This Row],[Hauteur]])*(Tableau13[Prix base]=Tableau13[[#This Row],[Prix base]]))} -> 0 | AD20: {=SUMPRODUCT((Tableau13[Nature]="alu")*(Tableau13[Type Ouverture]="vr")*(Tableau13[Couleur]<>"RAL 9016")*(Tableau13[Largeur]=Tableau13[[#This Row],[Largeur]])*(Tableau13[Hauteur]=Tableau13[[#This Row],[Hauteur]])*(Tableau13[Prix base]=Tableau13[[#This Row],[Prix base]]))} -> 1
A21: ALU | B21: VR | C21: RAL 7016 | D21: 1.6 | E21: 0.95 | F21: 200 | G21: {=SUMPRODUCT(((Tableau4[Nature]=Tableau13[[#This Row],[Nature]])*(Tableau4[Couleur]=Tableau13[[#This Row],[Couleur]])*(_xlfn.IFS(Tableau4[[#Headers],[Coulissant]]=Tableau13[[#This Row],[Type Ouverture]],Tableau4[Coulissant],Tableau4[[#Headers],[OAF]]=Tableau13[[#This Row],[Type Ouverture]],Tableau4[OAF],Tableau4[[#Headers],[Ensemble composé]]=Tableau13[[#This Row],[Type Ouverture]],Tableau4[Ensemble composé],Tableau4[[#Headers],[VR]]=Tableau13[[#This Row],[Type Ouverture]],Tableau4[VR]))))} -> 5 | K21: 15 | M21: {=ROUNDUP((_xlfn.IFS(Tableau13[[#This Row],[Vérif 1]]=1,Tableau13[[#This Row],[Prix base]])+(Tableau13[[#This Row],[PV couleur (%) ou (€/m2)]]*Tableau13[[#This Row],[Prix base]])+Tableau13[[#This Row],[Mortaise]]+Tableau13[[#This Row],[Vitrage ARGON]]+Tableau13[[#This Row],[Vitrage 44/2]]+Tableau13[[#This Row],[Pose VR dans coffre]]+Tableau13[[#This Row],[Poignée]])*1.05,0)} -> #N/A | N21: {=ROUNDUP((_xlfn.IFS(Tableau13[[#This Row],[Vérif 2]]=1,Tableau13[[#This Row],[Prix base]])+(Tableau13[[#This Row],[PV couleur (%) ou (€/m2)]]*Tableau13[[#This Row],[Prix base]])+Tableau13[[#This Row],[Mortaise]]+Tableau13[[#This Row],[Vitrage ARGON]]+Tableau13[[#This Row],[Vitrage 44/2]]+Tableau13[[#This Row],[Pose VR dans coffre]]+Tableau13[[#This Row],[Poignée]])*1.05,0)} -> #N/A | O21: {=ROUNDUP((_xlfn.IFS(Tableau13[[#This Row],[Vérif 3]]=1,Tableau13[[#This Row],[Prix base]])+(Tableau13[[#This Row],[PV couleur (%) ou (€/m2)]]*Tableau13[[#This Row],[Prix base]])+Tableau13[[#This Row],[Mortaise]]+Tableau13[[#This Row],[Vitrage ARGON]]+Tableau13[[#This Row],[Vitrage 44/2]]+Tableau13[[#This Row],[Pose VR dans coffre]]+Tableau13[[#This Row],[Poignée]])*1.05,0)} -> #N/A | P21: {=ROUNDUP((_xlfn.IFS(Tableau13[[#This Row],[Vérif 4]]=1,Tableau13[[#This Row],[Prix base]])+(Tableau13[[#This Row],[PV couleur (%) ou (€/m2)]]*Tableau13[[#This Row],[Prix base]])+Tableau13[[#This Row],[Mortaise]]+Tableau13[[#This Row],[Vitrage ARGON]]+Tableau13[[#This Row],[Vitrage 44/2]]+Tableau13[[#This Row],[Pose VR dans coffre]]+Tableau13[[#This Row],[Poignée]])*1.05,0)} -> #N/A | Q21: {=ROUNDUP((_xlfn.IFS(Tableau13[[#This Row],[Vérif 5]]=1,Tableau13[[#This Row],[Prix base]])+(Tableau13[[#This Row],[PV couleur (%) ou (€/m2)]]*Tableau13[[#This Row],[Prix base]])+Tableau13[[#This Row],[Mortaise]]+Tableau13[[#This Row],[Vitrage ARGON]]+Tableau13[[#This Row],[Vitrage 44/2]]+Tableau13[[#This Row],[Pose VR dans coffre]]+Tableau13[[#This Row],[Poignée]])*1.05,0)} -> #N/A | R21: {=ROUNDUP((_xlfn.IFS(Tableau13[[#This Row],[Vérif 6]]=1,Tableau13[[#This Row],[Prix base]])+(Tableau13[[#This Row],[PV couleur (%) ou (€/m2)]]*Tableau13[[#This Row],[Prix base]])+Tableau13[[#This Row],[Mortaise]]+Tableau13[[#This Row],[Vitrage ARGON]]+Tableau13[[#This Row],[Vitrage 44/2]]+Tableau13[[#This Row],[Pose VR dans coffre]]+Tableau13[[#This Row],[Poignée]])*1.05,0)} -> #N/A | S21: {=ROUNDUP((_xlfn.IFS(Tableau13[[#This Row],[Vérif 7]]=1,Tableau13[[#This Row],[Prix base]])+(Tableau13[[#This Row],[PV couleur (%) ou (€/m2)]]*Tableau13[[#This Row],[Largeur]]*Tableau13[[#This Row],[Hauteur]])+Tableau13[[#This Row],[Mortaise]]+Tableau13[[#This Row],[Vitrage ARGON]]+Tableau13[[#This Row],[Vitrage 44/2]]+Tableau13[[#This Row],[Pose VR dans coffre]]+Tableau13[[#This Row],[Poignée]])*1.05,0)} -> #N/A | T21: {=ROUNDUP((_xlfn.IFS(Tableau13[[#This Row],[Vérif 8]]=1,Tableau13[[#This Row],[Prix base]])+(Tableau13[[#This Row],[PV couleur (%) ou (€/m2)]]*Tableau13[[#This Row],[Largeur]]*Tableau13[[#This Row],[Hauteur]])+Tableau13[[#This Row],[Mortaise]]+Tableau13[[#This Row],[Vitrage ARGON]]+Tableau13[[#This Row],[Vitrage 44/2]]+Tableau13[[#This Row],[Pose VR dans coffre]]+Tableau13[[#This Row],[Poignée]])*1.05,0)} -> #N/A | U21: {=ROUNDUP((_xlfn.IFS(Tableau13[[#This Row],[Vérif 9]]=1,Tableau13[[#This Row],[Prix base]])+(Tableau13[[#This Row],[PV couleur (%) ou (€/m2)]]*Tableau13[[#This Row],[Largeur]]*Tableau13[[#This Row],[Hauteur]])+Tableau13[[#This Row],[Mortaise]]+Tableau13[[#This Row],[Vitrage ARGON]]+Tableau13[[#This Row],[Vitrage 44/2]]+Tableau13[[#This Row],[Pose VR dans coffre]]+Tableau13[[#This Row],[Poignée]])*1.05,0)} -> 234 | V21: {=SUMPRODUCT((Tableau13[Nature]="pvc")*(Tableau13[Type Ouverture]="OAF")*(Tableau13[Couleur]<>"RAL 9016")*(Tableau13[Largeur]=Tableau13[[#This Row],[Largeur]])*(Tableau13[Hauteur]=Tableau13[[#This Row],[Hauteur]])*(Tableau13[Prix base]=Tableau13[[#This Row],[Prix base]]))} -> 0 | W21: {=SUMPRODUCT((Tableau13[Nature]="pvc")*(Tableau13[Type Ouverture]="OAF")*(Tableau13[Couleur]="RAL 9016")*(Tableau13[Largeur]=Tableau13[[#This Row],[Largeur]])*(Tableau13[Hauteur]=Tableau13[[#This Row],[Hauteur]])*(Tableau13[Prix base]=Tableau13[[#This Row],[Prix base]]))} -> 0 | X21: {=SUMPRODUCT((Tableau13[Nature]="alu")*(Tableau13[Type Ouverture]="OAF")*(Tableau13[Couleur]<>"RAL 9016")*(Tableau13[Largeur]=Tableau13[[#This Row],[Largeur]])*(Tableau13[Hauteur]=Tableau13[[#This Row],[Hauteur]])*(Tableau13[Prix base]=Tableau13[[#This Row],[Prix base]]))} -> 0 | Y21: {=SUMPRODUCT((Tableau13[Nature]="alu")*(Tableau13[Type Ouverture]="OAF")*(Tableau13[Couleur]="RAL 9016")*(Tableau13[Largeur]=Tableau13[[#This Row],[Largeur]])*(Tableau13[Hauteur]=Tableau13[[#This Row],[Hauteur]])*(Tableau13[Prix base]=Tableau13[[#This Row],[Prix base]]))} -> 0 | Z21: {=SUMPRODUCT((Tableau13[Nature]="alu")*(Tableau13[Type Ouverture]="coulissant")*(Tableau13[Couleur]<>"RAL 9016")*(Tableau13[Largeur]=Tableau13[[#This Row],[Largeur]])*(Tableau13[Hauteur]=Tableau13[[#This Row],[Hauteur]])*(Tableau13[Prix base]=Tableau13[[#This Row],[Prix base]]))} -> 0 | AA21: {=SUMPRODUCT((Tableau13[Nature]="alu")*(Tableau13[Type Ouverture]="coulissant")*(Tableau13[Couleur]="RAL 9016")*(Tableau13[Largeur]=Tableau13[[#This Row],[Largeur]])*(Tableau13[Hauteur]=Tableau13[[#This Row],[Hauteur]])*(Tableau13[Prix base]=Tableau13[[#This Row],[Prix base]]))} -> 0 | AB21: {=SUMPRODUCT((Tableau13[Nature]="pvc")*(Tableau13[Type Ouverture]="vr")*(Tableau13[Couleur]="RAL 9016")*(Tableau13[Largeur]=Tableau13[[#This Row],[Largeur]])*(Tableau13[Hauteur]=Tableau13[[#This Row],[Hauteur]])*(Tableau13[Prix base]=Tableau13[[#This Row],[Prix base]]))} -> 0 | AC21: {=SUMPRODUCT((Tableau13[Nature]="alu")*(Tableau13[Type Ouverture]="vr")*(Tableau13[Couleur]="RAL 9016")*(Tableau13[Largeur]=Tableau13[[#This Row],[Largeur]])*(Tableau13[Hauteur]=Tableau13[[#This Row],[Hauteur]])*(Tableau13[Prix base]=Tableau13[[#This Row],[Prix base]]))} -> 0 | AD21: {=SUMPRODUCT((Tableau13[Nature]="alu")*(Tableau13[Type Ouverture]="vr")*(Tableau13[Couleur]<>"RAL 9016")*(Tableau13[Largeur]=Tableau13[[#This Row],[Largeur]])*(Tableau13[Hauteur]=Tableau13[[#This Row],[Hauteur]])*(Tableau13[Prix base]=Tableau13[[#This Row],[Prix base]]))} -> 1

Sheet Feuil2 (2)
A1: ENT 1 | B1: FOU 1
A2: ENT 2 | B2: FOU 2
A3: ENT 3 | B3: FOU 3
A6: Nature | B6: Couleur | C6: Coulissant | D6: OAF | E6: Ensemble composé | F6: VR
A7: ALU | B7: RAL 7016 | C7: 0.2 | D7: 0.18 | F7: 5
A8: ALU | B8: RAL 9005 | F8: 5
A9: PVC | B9: RAL 7016 | F9: 5
A10: PVC | B10: RAL 9005 | F10: 5

Sheet Feuil6
A1: Couleur | B1: Nature | C1: Ouverture
A2: RAL 9016 | B2: ALU | C2: OAF
A3: RAL 9005 | B3: PVC | C3: Coulissant
A4: RAL 7016 | C4: Ensemble composé
C5: VR
