Workbook

Sheet BDD
A1: DATE DE DÉBUT | B1: DATE DE FIN | C1: MATRICULE | D1: AXE | E1: CODE | F1: TAUX
A2: 43831 | B2: 43861 | C2: 0000000001 | D2: A2 | E2: PX00-200-01 | F2: 1
A3: 43831 | B3: 43861 | C3: 0000000002 | D3: A1 | E3: FM-22222-A1 | F3: 0.8
A4: 43831 | B4: 43861 | C4: 0000000002 | D4: A2 | E4: PX00-200-05 | F4: 0.2
A5: 43831 | B5: 43861 | C5: 0000000003 | D5: A1 | E5: FM-22222-B1 | F5: 0.8
A6: 43831 | B6: 43861 | C6: 0000000003 | D6: A1 | E6: FM-22222-C1 | F6: 0.2

Sheet A2
B1: AXE 2 SOUS-PLAN 1 | L1: AXE 2 SOUS-PLAN 2
A2: Sec revue | B2: Type | C2: Matricule | D2: Début | E2: Fin | F2: Axe | G2: Sous-plan | H2: Section | I2: % | J2: N°ventilation | L2: Type | M2: Matricule | N2: Début | O2: Fin | P2: Axe | Q2: Sous-plan | R2: Section | S2: % | T2: N°ventilation
A3: =+IF(BDD!D2="","",IF(BDD!D2="A2",BDD!E2,"MSCP0000000")) -> PX00-200-01 | B3: =+IF(C3="","","VSA") -> VSA | C3: =+IF(BDD!C2="","",BDD!C2) -> 0000000001 | D3: =+IF(C3="","",BDD!A2) -> 43831 | E3: =+IF(C3="","",BDD!A2) -> 43831 | F3: =+IF(C3="","","A2") -> A2 | G3: =+IF(C3="","","S1") -> S1 | H3: =+LEFT(A3,3) -> PX0 | I3: =+IF(C3="","",BDD!F2) -> 1 | J3: =++IF(C3="","",IF(C3=C2,J2+1,1)) -> 1 | L3: =+B3 -> VSA | M3: =+C3 -> 0000000001 | N3: =+D3 -> 43831 | O3: =+E3 -> 43831 | P3: =+F3 -> A2 | Q3: =+IF(C3="","","S2") -> S2 | R3: =+MID(A3,4,8) -> 0-200-01 | S3: =+I3 -> 1 | T3: =+J3 -> 1
A4: =+IF(BDD!D3="","",IF(BDD!D3="A2",BDD!E3,"MSCP0000000")) -> MSCP0000000 | B4: =+IF(C4="","","VSA") -> VSA | C4: =+IF(BDD!C3="","",BDD!C3) -> 0000000002 | D4: =+IF(C4="","",BDD!A3) -> 43831 | E4: =+IF(C4="","",BDD!A3) -> 43831 | F4: =+IF(C4="","","A2") -> A2 | G4: =+IF(C4="","","S1") -> S1 | H4: =+LEFT(A4,3) -> MSC | I4: =+IF(C4="","",BDD!F3) -> 0.8 | J4: =++IF(C4="","",IF(C4=C3,J3+1,1)) -> 1 | L4: =+B4 -> VSA | M4: =+C4 -> 0000000002 | N4: =+D4 -> 43831 | O4: =+E4 -> 43831 | P4: =+F4 -> A2 | Q4: =+IF(C4="","","S2") -> S2 | R4: =+MID(A4,4,8) -> P0000000 | S4: =+I4 -> 0.8 | T4: =+J4 -> 1
A5: =+IF(BDD!D4="","",IF(BDD!D4="A2",BDD!E4,"MSCP0000000")) -> PX00-200-05 | B5: =+IF(C5="","","VSA") -> VSA | C5: =+IF(BDD!C4="","",BDD!C4) -> 0000000002 | D5: =+IF(C5="","",BDD!A4) -> 43831 | E5: =+IF(C5="","",BDD!A4) -> 43831 | F5: =+IF(C5="","","A2") -> A2 | G5: =+IF(C5="","","S1") -> S1 | H5: =+LEFT(A5,3) -> PX0 | I5: =+IF(C5="","",BDD!F4) -> 0.2 | J5: =++IF(C5="","",IF(C5=C4,J4+1,1)) -> 2 | L5: =+B5 -> VSA | M5: =+C5 -> 0000000002 | N5: =+D5 -> 43831 | O5: =+E5 -> 43831 | P5: =+F5 -> A2 | Q5: =+IF(C5="","","S2") -> S2 | R5: =+MID(A5,4,8) -> 0-200-05 | S5: =+I5 -> 0.2 | T5: =+J5 -> 2
A6: =+IF(BDD!D5="","",IF(BDD!D5="A2",BDD!E5,"MSCP0000000")) -> MSCP0000000 | B6: =+IF(C6="","","VSA") -> VSA | C6: =+IF(BDD!C5="","",BDD!C5) -> 0000000003 | D6: =+IF(C6="","",BDD!A5) -> 43831 | E6: =+IF(C6="","",BDD!A5) -> 43831 | F6: =+IF(C6="","","A2") -> A2 | G6: =+IF(C6="","","S1") -> S1 | H6: =+LEFT(A6,3) -> MSC | I6: =+IF(C6="","",BDD!F5) -> 0.8 | J6: =++IF(C6="","",IF(C6=C5,J5+1,1)) -> 1 | L6: =+B6 -> VSA | M6: =+C6 -> 0000000003 | N6: =+D6 -> 43831 | O6: =+E6 -> 43831 | P6: =+F6 -> A2 | Q6: =+IF(C6="","","S2") -> S2 | R6: =+MID(A6,4,8) -> P0000000 | S6: =+I6 -> 0.8 | T6: =+J6 -> 1
A7: =+IF(BDD!D6="","",IF(BDD!D6="A2",BDD!E6,"MSCP0000000")) -> MSCP0000000 | B7: =+IF(C7="","","VSA") -> VSA | C7: =+IF(BDD!C6="","",BDD!C6) -> 0000000003 | D7: =+IF(C7="","",BDD!A6) -> 43831 | E7: =+IF(C7="","",BDD!A6) -> 43831 | F7: =+IF(C7="","","A2") -> A2 | G7: =+IF(C7="","","S1") -> S1 | H7: =+LEFT(A7,3) -> MSC | I7: =+IF(C7="","",BDD!F6) -> 0.2 | J7: =++IF(C7="","",IF(C7=C6,J6+1,1)) -> 2 | L7: =+B7 -> VSA | M7: =+C7 -> 0000000003 | N7: =+D7 -> 43831 | O7: =+E7 -> 43831 | P7: =+F7 -> A2 | Q7: =+IF(C7="","","S2") -> S2 | R7: =+MID(A7,4,8) -> P0000000 | S7: =+I7 -> 0.2 | T7: =+J7 -> 2
A8: =+IF(BDD!D7="","",IF(BDD!D7="A2",BDD!E7,"MSCP0000000")) | B8: =+IF(C8="","","VSA") | C8: =+IF(BDD!C7="","",BDD!C7) | D8: =+IF(C8="","",BDD!A7) | E8: =+IF(C8="","",BDD!A7) | F8: =+IF(C8="","","A2") | G8: =+IF(C8="","","S1") | H8: =+LEFT(A8,3) | I8: =+IF(C8="","",BDD!F7) | J8: =++IF(C8="","",IF(C8=C7,J7+1,1)) | L8: =+B8 | M8: =+C8 | N8: =+D8 | O8: =+E8 | P8: =+F8 | Q8: =+IF(C8="","","S2") | R8: =+MID(A8,4,8) | S8: =+I8 | T8: =+J8
A9: =+IF(BDD!D8="","",IF(BDD!D8="A2",BDD!E8,"MSCP0000000")) | B9: =+IF(C9="","","VSA") | C9: =+IF(BDD!C8="","",BDD!C8) | D9: =+IF(C9="","",BDD!A8) | E9: =+IF(C9="","",BDD!A8) | F9: =+IF(C9="","","A2") | G9: =+IF(C9="","","S1") | H9: =+LEFT(A9,3) | I9: =+IF(C9="","",BDD!F8) | J9: =++IF(C9="","",IF(C9=C8,J8+1,1)) | L9: =+B9 | M9: =+C9 | N9: =+D9 | O9: =+E9 | P9: =+F9 | Q9: =+IF(C9="","","S2") | R9: =+MID(A9,4,8) | S9: =+I9 | T9: =+J9
A10: =+IF(BDD!D9="","",IF(BDD!D9="A2",BDD!E9,"MSCP0000000")) | B10: =+IF(C10="","","VSA") | C10: =+IF(BDD!C9="","",BDD!C9) | D10: =+IF(C10="","",BDD!A9) | E10: =+IF(C10="","",BDD!A9) | F10: =+IF(C10="","","A2") | G10: =+IF(C10="","","S1") | H10: =+LEFT(A10,3) | I10: =+IF(C10="","",BDD!F9) | J10: =++IF(C10="","",IF(C10=C9,J9+1,1)) | L10: =+B10 | M10: =+C10 | N10: =+D10 | O10: =+E10 | P10: =+F10 | Q10: =+IF(C10="","","S2") | R10: =+MID(A10,4,8) | S10: =+I10 | T10: =+J10
A11: =+IF(BDD!D10="","",IF(BDD!D10="A2",BDD!E10,"MSCP0000000")) | B11: =+IF(C11="","","VSA") | C11: =+IF(BDD!C10="","",BDD!C10) | D11: =+IF(C11="","",BDD!A10) | E11: =+IF(C11="","",BDD!A10) | F11: =+IF(C11="","","A2") | G11: =+IF(C11="","","S1") | H11: =+LEFT(A11,3) | I11: =+IF(C11="","",BDD!F10) | J11: =++IF(C11="","",IF(C11=C10,J10+1,1)) | L11: =+B11 | M11: =+C11 | N11: =+D11 | O11: =+E11 | P11: =+F11 | Q11: =+IF(C11="","","S2") | R11: =+MID(A11,4,8) | S11: =+I11 | T11: =+J11
A12: =+IF(BDD!D11="","",IF(BDD!D11="A2",BDD!E11,"MSCP0000000")) | B12: =+IF(C12="","","VSA") | C12: =+IF(BDD!C11="","",BDD!C11) | D12: =+IF(C12="","",BDD!A11) | E12: =+IF(C12="","",BDD!A11) | F12: =+IF(C12="","","A2") | G12: =+IF(C12="","","S1") | H12: =+LEFT(A12,3) | I12: =+IF(C12="","",BDD!F11) | J12: =++IF(C12="","",IF(C12=C11,J11+1,1)) | L12: =+B12 | M12: =+C12 | N12: =+D12 | O12: =+E12 | P12: =+F12 | Q12: =+IF(C12="","","S2") | R12: =+MID(A12,4,8) | S12: =+I12 | T12: =+J12
A13: =+IF(BDD!D12="","",IF(BDD!D12="A2",BDD!E12,"MSCP0000000")) | B13: =+IF(C13="","","VSA") | C13: =+IF(BDD!C12="","",BDD!C12) | D13: =+IF(C13="","",BDD!A12) | E13: =+IF(C13="","",BDD!A12) | F13: =+IF(C13="","","A2") | G13: =+IF(C13="","","S1") | H13: =+LEFT(A13,3) | I13: =+IF(C13="","",BDD!F12) | J13: =++IF(C13="","",IF(C13=C12,J12+1,1)) | L13: =+B13 | M13: =+C13 | N13: =+D13 | O13: =+E13 | P13: =+F13 | Q13: =+IF(C13="","","S2") | R13: =+MID(A13,4,8) | S13: =+I13 | T13: =+J13
A14: =+IF(BDD!D13="","",IF(BDD!D13="A2",BDD!E13,"MSCP0000000")) | B14: =+IF(C14="","","VSA") | C14: =+IF(BDD!C13="","",BDD!C13) | D14: =+IF(C14="","",BDD!A13) | E14: =+IF(C14="","",BDD!A13) | F14: =+IF(C14="","","A2") | G14: =+IF(C14="","","S1") | H14: =+LEFT(A14,3) | I14: =+IF(C14="","",BDD!F13) | J14: =++IF(C14="","",IF(C14=C13,J13+1,1)) | L14: =+B14 | M14: =+C14 | N14: =+D14 | O14: =+E14 | P14: =+F14 | Q14: =+IF(C14="","","S2") | R14: =+MID(A14,4,8) | S14: =+I14 | T14: =+J14
A15: =+IF(BDD!D14="","",IF(BDD!D14="A2",BDD!E14,"MSCP0000000")) | B15: =+IF(C15="","","VSA") | C15: =+IF(BDD!C14="","",BDD!C14) | D15: =+IF(C15="","",BDD!A14) | E15: =+IF(C15="","",BDD!A14) | F15: =+IF(C15="","","A2") | G15: =+IF(C15="","","S1") | H15: =+LEFT(A15,3) | I15: =+IF(C15="","",BDD!F14) | J15: =++IF(C15="","",IF(C15=C14,J14+1,1)) | L15: =+B15 | M15: =+C15 | N15: =+D15 | O15: =+E15 | P15: =+F15 | Q15: =+IF(C15="","","S2") | R15: =+MID(A15,4,8) | S15: =+I15 | T15: =+J15
A16: =+IF(BDD!D15="","",IF(BDD!D15="A2",BDD!E15,"MSCP0000000")) | B16: VSA | C16: 0000000229 | D16: 43831 | E16: 43831 | F16: A2 | G16: S1 | H16: HT1 | I16: 1 | J16: 1
B17: VSA | C17: 0000000229 | D17: 43831 | E17: 43831 | F17: A2 | G17: S2 | H17: 9STRUA01 | I17: 1 | J17: 1
B18: VSA | C18: 0000000519 | D18: 43831 | E18: 43831 | F18: A2 | G18: S1 | H18: MSC | I18: 0.8 | J18: 1
B19: VSA | C19: 0000000519 | D19: 43831 | E19: 43831 | F19: A2 | G19: S1 | H19: FR- | I19: 0.2 | J19: 2
B20: VSA | C20: 0000000519 | D20: 43831 | E20: 43831 | F20: A2 | G20: S2 | H20: P0000000 | I20: 0.8 | J20: 1
B21: VSA | C21: 0000000519 | D21: 43831 | E21: 43831 | F21: A2 | G21: S2 | H21: BOLY-CP0 | I21: 0.2 | J21: 2
B22: VSA | C22: 0000000014 | D22: 43831 | E22: 43831 | F22: A2 | G22: S1 | H22: MSC | I22: 0.8 | J22: 1
B23: VSA | C23: 0000000014 | D23: 43831 | E23: 43831 | F23: A2 | G23: S1 | H23: MSC | I23: 0.2 | J23: 2
B24: VSA | C24: 0000000014 | D24: 43831 | E24: 43831 | F24: A2 | G24: S2 | H24: P0000000 | I24: 0.8 | J24: 1
B25: VSA | C25: 0000000014 | D25: 43831 | E25: 43831 | F25: A2 | G25: S2 | H25: P0000000 | I25: 0.2 | J25: 2
B26: =+IF(C26="","","VSA") | C26: =+IF(BDD!C16="","",BDD!C16) | D26: =+IF(C26="","",BDD!A16) | E26: =+IF(C26="","",BDD!A16) | F26: =+IF(C26="","","A2") | G26: =+IF(C26="","","S1") | H26: =+LEFT(A26,3) | I26: =+IF(C26="","",BDD!F16) | J26: =++IF(C26="","",IF(C26=C25,J25+1,1)) | L26: =+B26 | M26: =+C26 | N26: =+IF(M26="","",BDD!#REF!) | O26: =+IF(M26="","",BDD!#REF!) | P26: =+F26 | Q26: =+IF(C26="","","S2") | R26: =+MID(A26,4,8) | S26: =+I26 | T26: =+J26
B27: =+IF(C27="","","VSA") | C27: =+IF(BDD!C17="","",BDD!C17) | D27: =+IF(C27="","",BDD!A17) | E27: =+IF(C27="","",BDD!A17) | F27: =+IF(C27="","","A2") | G27: =+IF(C27="","","S1") | H27: =+LEFT(A27,3) | I27: =+IF(C27="","",BDD!F17) | J27: =++IF(C27="","",IF(C27=C26,J26+1,1)) | L27: =+B27 | M27: =+C27 | N27: =+IF(M27="","",BDD!#REF!) | O27: =+IF(M27="","",BDD!#REF!) | P27: =+F27 | Q27: =+IF(C27="","","S2") | R27: =+MID(A27,4,8) | S27: =+I27 | T27: =+J27
B28: =+IF(C28="","","VSA") | C28: =+IF(BDD!C18="","",BDD!C18) | D28: =+IF(C28="","",BDD!A18) | E28: =+IF(C28="","",BDD!A18) | F28: =+IF(C28="","","A2") | G28: =+IF(C28="","","S1") | H28: =+LEFT(A28,3) | I28: =+IF(C28="","",BDD!F18) | J28: =++IF(C28="","",IF(C28=C27,J27+1,1)) | L28: =+B28 | M28: =+C28 | N28: =+IF(M28="","",BDD!#REF!) | O28: =+IF(M28="","",BDD!#REF!) | P28: =+F28 | Q28: =+IF(C28="","","S2") | R28: =+MID(A28,4,8) | S28: =+I28 | T28: =+J28
B29: =+IF(C29="","","VSA") | C29: =+IF(BDD!C19="","",BDD!C19) | D29: =+IF(C29="","",BDD!A19) | E29: =+IF(C29="","",BDD!A19) | F29: =+IF(C29="","","A2") | G29: =+IF(C29="","","S1") | H29: =+LEFT(A29,3) | I29: =+IF(C29="","",BDD!F19) | J29: =++IF(C29="","",IF(C29=C28,J28+1,1)) | L29: =+B29 | M29: =+C29 | N29: =+IF(M29="","",BDD!#REF!) | O29: =+IF(M29="","",BDD!#REF!) | P29: =+F29 | Q29: =+IF(C29="","","S2") | R29: =+MID(A29,4,8) | S29: =+I29 | T29: =+J29
B30: =+IF(C30="","","VSA") | C30: =+IF(BDD!C20="","",BDD!C20) | D30: =+IF(C30="","",BDD!A20) | E30: =+IF(C30="","",BDD!A20) | F30: =+IF(C30="","","A2") | G30: =+IF(C30="","","S1") | H30: =+LEFT(A30,3) | I30: =+IF(C30="","",BDD!F20) | J30: =++IF(C30="","",IF(C30=C29,J29+1,1)) | L30: =+B30 | M30: =+C30 | N30: =+IF(M30="","",BDD!#REF!) | O30: =+IF(M30="","",BDD!#REF!) | P30: =+F30 | Q30: =+IF(C30="","","S2") | R30: =+MID(A30,4,8) | S30: =+I30 | T30: =+J30
B31: =+IF(C31="","","VSA") | C31: =+IF(BDD!C21="","",BDD!C21) | D31: =+IF(C31="","",BDD!A21) | E31: =+IF(C31="","",BDD!A21) | F31: =+IF(C31="","","A2") | G31: =+IF(C31="","","S1") | H31: =+LEFT(A31,3) | I31: =+IF(C31="","",BDD!F21) | J31: =++IF(C31="","",IF(C31=C30,J30+1,1)) | L31: =+B31 | M31: =+C31 | N31: =+IF(M31="","",BDD!#REF!) | O31: =+IF(M31="","",BDD!#REF!) | P31: =+F31 | Q31: =+IF(C31="","","S2") | R31: =+MID(A31,4,8) | S31: =+I31 | T31: =+J31
B32: =+IF(C32="","","VSA") | C32: =+IF(BDD!C22="","",BDD!C22) | D32: =+IF(C32="","",BDD!A22) | E32: =+IF(C32="","",BDD!A22) | F32: =+IF(C32="","","A2") | G32: =+IF(C32="","","S1") | H32: =+LEFT(A32,3) | I32: =+IF(C32="","",BDD!F22) | J32: =++IF(C32="","",IF(C32=C31,J31+1,1)) | L32: =+B32 | M32: =+C32 | N32: =+IF(M32="","",BDD!#REF!) | O32: =+IF(M32="","",BDD!#REF!) | P32: =+F32 | Q32: =+IF(C32="","","S2") | R32: =+MID(A32,4,8) | S32: =+I32 | T32: =+J32
B33: =+IF(C33="","","VSA") | C33: =+IF(BDD!C23="","",BDD!C23) | D33: =+IF(C33="","",BDD!A23) | E33: =+IF(C33="","",BDD!A23) | F33: =+IF(C33="","","A2") | G33: =+IF(C33="","","S1") | H33: =+LEFT(A33,3) | I33: =+IF(C33="","",BDD!F23) | J33: =++IF(C33="","",IF(C33=C32,J32+1,1)) | L33: =+B33 | M33: =+C33 | N33: =+IF(M33="","",BDD!#REF!) | O33: =+IF(M33="","",BDD!#REF!) | P33: =+F33 | Q33: =+IF(C33="","","S2") | R33: =+MID(A33,4,8) | S33: =+I33 | T33: =+J33
B34: =+IF(C34="","","VSA") | C34: =+IF(BDD!C24="","",BDD!C24) | D34: =+IF(C34="","",BDD!A24) | E34: =+IF(C34="","",BDD!A24) | F34: =+IF(C34="","","A2") | G34: =+IF(C34="","","S1") | H34: =+LEFT(A34,3) | I34: =+IF(C34="","",BDD!F24) | J34: =++IF(C34="","",IF(C34=C33,J33+1,1)) | L34: =+B34 | M34: =+C34 | N34: =+IF(M34="","",BDD!#REF!) | O34: =+IF(M34="","",BDD!#REF!) | P34: =+F34 | Q34: =+IF(C34="","","S2") | R34: =+MID(A34,4,8) | S34: =+I34 | T34: =+J34
B35: =+IF(C35="","","VSA") | C35: =+IF(BDD!C25="","",BDD!C25) | D35: =+IF(C35="","",BDD!A25) | E35: =+IF(C35="","",BDD!A25) | F35: =+IF(C35="","","A2") | G35: =+IF(C35="","","S1") | H35: =+LEFT(A35,3) | I35: =+IF(C35="","",BDD!F25) | J35: =++IF(C35="","",IF(C35=C34,J34+1,1)) | L35: =+B35 | M35: =+C35 | N35: =+IF(M35="","",BDD!#REF!) | O35: =+IF(M35="","",BDD!#REF!) | P35: =+F35 | Q35: =+IF(C35="","","S2") | R35: =+MID(A35,4,8) | S35: =+I35 | T35: =+J35
B36: =+IF(C36="","","VSA") | C36: =+IF(BDD!C26="","",BDD!C26) | D36: =+IF(C36="","",BDD!A26) | E36: =+IF(C36="","",BDD!A26) | F36: =+IF(C36="","","A2") | G36: =+IF(C36="","","S1") | H36: =+LEFT(A36,3) | I36: =+IF(C36="","",BDD!F26) | J36: =++IF(C36="","",IF(C36=C35,J35+1,1)) | L36: =+B36 | M36: =+C36 | N36: =+IF(M36="","",BDD!#REF!) | O36: =+IF(M36="","",BDD!#REF!) | P36: =+F36 | Q36: =+IF(C36="","","S2") | R36: =+MID(A36,4,8) | S36: =+I36 | T36: =+J36
B37: =+IF(C37="","","VSA") | C37: =+IF(BDD!C27="","",BDD!C27) | D37: =+IF(C37="","",BDD!A27) | E37: =+IF(C37="","",BDD!A27) | F37: =+IF(C37="","","A2") | G37: =+IF(C37="","","S1") | H37: =+LEFT(A37,3) | I37: =+IF(C37="","",BDD!F27) | J37: =++IF(C37="","",IF(C37=C36,J36+1,1)) | L37: =+B37 | M37: =+C37 | N37: =+IF(M37="","",BDD!#REF!) | O37: =+IF(M37="","",BDD!#REF!) | P37: =+F37 | Q37: =+IF(C37="","","S2") | R37: =+MID(A37,4,8) | S37: =+I37 | T37: =+J37
... B500: =+IF(C500="","","VSA") | C500: =+IF(BDD!C490="","",BDD!C490) | D500: =+IF(C500="","",BDD!A490) | E500: =+IF(C500="","",BDD!A490) | F500: =+IF(C500="","","A2") | G500: =+IF(C500="","","S1") | H500: =+LEFT(A500,3) | I500: =+IF(C500="","",BDD!F490) | J500: =++IF(C500="","",IF(C500=C499,J499+1,1)) | L500: =+B500 | M500: =+C500 | N500: =+IF(M500="","",BDD!#REF!) | O500: =+IF(M500="","",BDD!#REF!) | P500: =+F500 | Q500: =+IF(C500="","","S2") | R500: =+MID(A500,4,8) | S500: =+I500 | T500: =+J500

Sheet A1
B1: AXE 1 SOUS-PLAN 1 | L1: AXE 1 SOUS-PLAN 2 | V1: AXE 1 SOUS-PLAN 3
A2: Sec revue | B2: Type | C2: Matricule | D2: Début | E2: Fin | F2: Axe | G2: Sous-plan | H2: Section | I2: % | J2: N°ventilation | L2: Type | M2: Matricule | N2: Début | O2: Fin | P2: Axe | Q2: Sous-plan | R2: Section | S2: % | T2: N°ventilation | V2: Type | W2: Matricule | X2: Début | Y2: Fin | Z2: Axe | AA2: Sous-plan | AB2: Section | AC2: % | AD2: N°ventilation
A3: =+IF(BDD!D2="","",IF(BDD!D2="A1",BDD!E2,"SIEGECP0000")) -> SIEGECP0000 | B3: =+IF(C3="","","VSA") -> VSA | C3: =+IF(BDD!C2="","",BDD!C2) -> 0000000001 | D3: =+IF(C3="","",BDD!A2) -> 43831 | E3: =+IF(C3="","",BDD!B2) -> 43861 | F3: =+IF(C3="","","A2") -> A2 | G3: =+IF(C3="","","S1") -> S1 | H3: =+LEFT(A3,3) -> SIE | I3: =+IF(C3="","",BDD!F2) -> 1 | J3: =++IF(C3="","",IF(C3=C2,J2+1,1)) -> 1 | L3: =+B3 -> VSA | M3: =+C3 -> 0000000001 | N3: =+D3 -> 43831 | O3: =+E3 -> 43861 | P3: =+F3 -> A2 | Q3: =+IF(C3="","","S2") -> S2 | R3: =+MID(A3,4,4) -> GECP | S3: =+I3 -> 1 | T3: =+J3 -> 1 | V3: =+L3 -> VSA | W3: =+M3 -> 0000000001 | X3: =+N3 -> 43831 | Y3: =+O3 -> 43861 | Z3: =+P3 -> A2 | AA3: =+IF(M3="","","S3") -> S3 | AB3: =+MID(A3,8,4) -> 0000 | AC3: =+S3 -> 1 | AD3: =+T3 -> 1
A4: =+IF(BDD!D3="","",IF(BDD!D3="A1",BDD!E3,"SIEGECP0000")) -> FM-22222-A1 | B4: =+IF(C4="","","VSA") -> VSA | C4: =+IF(BDD!C3="","",BDD!C3) -> 0000000002 | D4: =+IF(C4="","",BDD!A3) -> 43831 | E4: =+IF(C4="","",BDD!B3) -> 43861 | F4: =+IF(C4="","","A2") -> A2 | G4: =+IF(C4="","","S1") -> S1 | H4: =+LEFT(A4,3) -> FM- | I4: =+IF(C4="","",BDD!F3) -> 0.8 | J4: =++IF(C4="","",IF(C4=C3,J3+1,1)) -> 1 | L4: =+B4 -> VSA | M4: =+C4 -> 0000000002 | N4: =+D4 -> 43831 | O4: =+E4 -> 43861 | P4: =+F4 -> A2 | Q4: =+IF(C4="","","S2") -> S2 | R4: =+MID(A4,4,4) -> 2222 | S4: =+I4 -> 0.8 | T4: =+J4 -> 1 | V4: =+L4 -> VSA | W4: =+M4 -> 0000000002 | X4: =+N4 -> 43831 | Y4: =+O4 -> 43861 | Z4: =+P4 -> A2 | AA4: =+IF(M4="","","S3") -> S3 | AB4: =+MID(A4,8,4) -> 2-A1 | AC4: =+S4 -> 0.8 | AD4: =+T4 -> 1
A5: =+IF(BDD!D4="","",IF(BDD!D4="A1",BDD!E4,"SIEGECP0000")) -> SIEGECP0000 | B5: =+IF(C5="","","VSA") -> VSA | C5: =+IF(BDD!C4="","",BDD!C4) -> 0000000002 | D5: =+IF(C5="","",BDD!A4) -> 43831 | E5: =+IF(C5="","",BDD!B4) -> 43861 | F5: =+IF(C5="","","A2") -> A2 | G5: =+IF(C5="","","S1") -> S1 | H5: =+LEFT(A5,3) -> SIE | I5: =+IF(C5="","",BDD!F4) -> 0.2 | J5: =++IF(C5="","",IF(C5=C4,J4+1,1)) -> 2 | L5: =+B5 -> VSA | M5: =+C5 -> 0000000002 | N5: =+D5 -> 43831 | O5: =+E5 -> 43861 | P5: =+F5 -> A2 | Q5: =+IF(C5="","","S2") -> S2 | R5: =+MID(A5,4,4) -> GECP | S5: =+I5 -> 0.2 | T5: =+J5 -> 2 | V5: =+L5 -> VSA | W5: =+M5 -> 0000000002 | X5: =+N5 -> 43831 | Y5: =+O5 -> 43861 | Z5: =+P5 -> A2 | AA5: =+IF(M5="","","S3") -> S3 | AB5: =+MID(A5,8,4) -> 0000 | AC5: =+S5 -> 0.2 | AD5: =+T5 -> 2
A6: =+IF(BDD!D5="","",IF(BDD!D5="A1",BDD!E5,"SIEGECP0000")) -> FM-22222-B1 | B6: =+IF(C6="","","VSA") -> VSA | C6: =+IF(BDD!C5="","",BDD!C5) -> 0000000003 | D6: =+IF(C6="","",BDD!A5) -> 43831 | E6: =+IF(C6="","",BDD!B5) -> 43861 | F6: =+IF(C6="","","A2") -> A2 | G6: =+IF(C6="","","S1") -> S1 | H6: =+LEFT(A6,3) -> FM- | I6: =+IF(C6="","",BDD!F5) -> 0.8 | J6: =++IF(C6="","",IF(C6=C5,J5+1,1)) -> 1 | L6: =+B6 -> VSA | M6: =+C6 -> 0000000003 | N6: =+D6 -> 43831 | O6: =+E6 -> 43861 | P6: =+F6 -> A2 | Q6: =+IF(C6="","","S2") -> S2 | R6: =+MID(A6,4,4) -> 2222 | S6: =+I6 -> 0.8 | T6: =+J6 -> 1 | V6: =+L6 -> VSA | W6: =+M6 -> 0000000003 | X6: =+N6 -> 43831 | Y6: =+O6 -> 43861 | Z6: =+P6 -> A2 | AA6: =+IF(M6="","","S3") -> S3 | AB6: =+MID(A6,8,4) -> 2-B1 | AC6: =+S6 -> 0.8 | AD6: =+T6 -> 1
A7: =+IF(BDD!D6="","",IF(BDD!D6="A1",BDD!E6,"SIEGECP0000")) -> FM-22222-C1 | B7: =+IF(C7="","","VSA") -> VSA | C7: =+IF(BDD!C6="","",BDD!C6) -> 0000000003 | D7: =+IF(C7="","",BDD!A6) -> 43831 | E7: =+IF(C7="","",BDD!B6) -> 43861 | F7: =+IF(C7="","","A2") -> A2 | G7: =+IF(C7="","","S1") -> S1 | H7: =+LEFT(A7,3) -> FM- | I7: =+IF(C7="","",BDD!F6) -> 0.2 | J7: =++IF(C7="","",IF(C7=C6,J6+1,1)) -> 2 | L7: =+B7 -> VSA | M7: =+C7 -> 0000000003 | N7: =+D7 -> 43831 | O7: =+E7 -> 43861 | P7: =+F7 -> A2 | Q7: =+IF(C7="","","S2") -> S2 | R7: =+MID(A7,4,4) -> 2222 | S7: =+I7 -> 0.2 | T7: =+J7 -> 2 | V7: =+L7 -> VSA | W7: =+M7 -> 0000000003 | X7: =+N7 -> 43831 | Y7: =+O7 -> 43861 | Z7: =+P7 -> A2 | AA7: =+IF(M7="","","S3") -> S3 | AB7: =+MID(A7,8,4) -> 2-C1 | AC7: =+S7 -> 0.2 | AD7: =+T7 -> 2
A8: =+IF(BDD!D7="","",IF(BDD!D7="A1",BDD!E7,"SIEGECP0000")) | B8: =+IF(C8="","","VSA") | C8: =+IF(BDD!C7="","",BDD!C7) | D8: =+IF(C8="","",BDD!A7) | E8: =+IF(C8="","",BDD!B7) | F8: =+IF(C8="","","A2") | G8: =+IF(C8="","","S1") | H8: =+LEFT(A8,3) | I8: =+IF(C8="","",BDD!F7) | J8: =++IF(C8="","",IF(C8=C7,J7+1,1)) | L8: =+B8 | M8: =+C8 | N8: =+D8 | O8: =+E8 | P8: =+F8 | Q8: =+IF(C8="","","S2") | R8: =+MID(A8,4,4) | S8: =+I8 | T8: =+J8 | V8: =+L8 | W8: =+M8 | X8: =+N8 | Y8: =+O8 | Z8: =+P8 | AA8: =+IF(M8="","","S3") | AB8: =+MID(A8,8,4) | AC8: =+S8 | AD8: =+T8
A9: =+IF(BDD!D8="","",IF(BDD!D8="A1",BDD!E8,"SIEGECP0000")) | B9: =+IF(C9="","","VSA") | C9: =+IF(BDD!C8="","",BDD!C8) | D9: =+IF(C9="","",BDD!A8) | E9: =+IF(C9="","",BDD!B8) | F9: =+IF(C9="","","A2") | G9: =+IF(C9="","","S1") | H9: =+LEFT(A9,3) | I9: =+IF(C9="","",BDD!F8) | J9: =++IF(C9="","",IF(C9=C8,J8+1,1)) | L9: =+B9 | M9: =+C9 | N9: =+D9 | O9: =+E9 | P9: =+F9 | Q9: =+IF(C9="","","S2") | R9: =+MID(A9,4,4) | S9: =+I9 | T9: =+J9 | V9: =+L9 | W9: =+M9 | X9: =+N9 | Y9: =+O9 | Z9: =+P9 | AA9: =+IF(M9="","","S3") | AB9: =+MID(A9,8,4) | AC9: =+S9 | AD9: =+T9
A10: =+IF(BDD!D9="","",IF(BDD!D9="A1",BDD!E9,"SIEGECP0000")) | B10: =+IF(C10="","","VSA") | C10: =+IF(BDD!C9="","",BDD!C9) | D10: =+IF(C10="","",BDD!A9) | E10: =+IF(C10="","",BDD!B9) | F10: =+IF(C10="","","A2") | G10: =+IF(C10="","","S1") | H10: =+LEFT(A10,3) | I10: =+IF(C10="","",BDD!F9) | J10: =++IF(C10="","",IF(C10=C9,J9+1,1)) | L10: =+B10 | M10: =+C10 | N10: =+D10 | O10: =+E10 | P10: =+F10 | Q10: =+IF(C10="","","S2") | R10: =+MID(A10,4,4) | S10: =+I10 | T10: =+J10 | V10: =+L10 | W10: =+M10 | X10: =+N10 | Y10: =+O10 | Z10: =+P10 | AA10: =+IF(M10="","","S3") | AB10: =+MID(A10,8,4) | AC10: =+S10 | AD10: =+T10
A11: =+IF(BDD!D10="","",IF(BDD!D10="A1",BDD!E10,"SIEGECP0000")) | B11: =+IF(C11="","","VSA") | C11: =+IF(BDD!C10="","",BDD!C10) | D11: =+IF(C11="","",BDD!A10) | E11: =+IF(C11="","",BDD!B10) | F11: =+IF(C11="","","A2") | G11: =+IF(C11="","","S1") | H11: =+LEFT(A11,3) | I11: =+IF(C11="","",BDD!F10) | J11: =++IF(C11="","",IF(C11=C10,J10+1,1)) | L11: =+B11 | M11: =+C11 | N11: =+D11 | O11: =+E11 | P11: =+F11 | Q11: =+IF(C11="","","S2") | R11: =+MID(A11,4,4) | S11: =+I11 | T11: =+J11 | V11: =+L11 | W11: =+M11 | X11: =+N11 | Y11: =+O11 | Z11: =+P11 | AA11: =+IF(M11="","","S3") | AB11: =+MID(A11,8,4) | AC11: =+S11 | AD11: =+T11
A12: =+IF(BDD!D11="","",IF(BDD!D11="A1",BDD!E11,"SIEGECP0000")) | B12: =+IF(C12="","","VSA") | C12: =+IF(BDD!C11="","",BDD!C11) | D12: =+IF(C12="","",BDD!A11) | E12: =+IF(C12="","",BDD!B11) | F12: =+IF(C12="","","A2") | G12: =+IF(C12="","","S1") | H12: =+LEFT(A12,3) | I12: =+IF(C12="","",BDD!F11) | J12: =++IF(C12="","",IF(C12=C11,J11+1,1)) | L12: =+B12 | M12: =+C12 | N12: =+D12 | O12: =+E12 | P12: =+F12 | Q12: =+IF(C12="","","S2") | R12: =+MID(A12,4,4) | S12: =+I12 | T12: =+J12 | V12: =+L12 | W12: =+M12 | X12: =+N12 | Y12: =+O12 | Z12: =+P12 | AA12: =+IF(M12="","","S3") | AB12: =+MID(A12,8,4) | AC12: =+S12 | AD12: =+T12
A13: =+IF(BDD!D12="","",IF(BDD!D12="A1",BDD!E12,"SIEGECP0000")) | B13: =+IF(C13="","","VSA") | C13: =+IF(BDD!C12="","",BDD!C12) | D13: =+IF(C13="","",BDD!A12) | E13: =+IF(C13="","",BDD!B12) | F13: =+IF(C13="","","A2") | G13: =+IF(C13="","","S1") | H13: =+LEFT(A13,3) | I13: =+IF(C13="","",BDD!F12) | J13: =++IF(C13="","",IF(C13=C12,J12+1,1)) | L13: =+B13 | M13: =+C13 | N13: =+D13 | O13: =+E13 | P13: =+F13 | Q13: =+IF(C13="","","S2") | R13: =+MID(A13,4,4) | S13: =+I13 | T13: =+J13 | V13: =+L13 | W13: =+M13 | X13: =+N13 | Y13: =+O13 | Z13: =+P13 | AA13: =+IF(M13="","","S3") | AB13: =+MID(A13,8,4) | AC13: =+S13 | AD13: =+T13
A14: =+IF(BDD!D13="","",IF(BDD!D13="A1",BDD!E13,"SIEGECP0000")) | B14: =+IF(C14="","","VSA") | C14: =+IF(BDD!C13="","",BDD!C13) | D14: =+IF(C14="","",BDD!A13) | E14: =+IF(C14="","",BDD!B13) | F14: =+IF(C14="","","A2") | G14: =+IF(C14="","","S1") | H14: =+LEFT(A14,3) | I14: =+IF(C14="","",BDD!F13) | J14: =++IF(C14="","",IF(C14=C13,J13+1,1)) | L14: =+B14 | M14: =+C14 | N14: =+D14 | O14: =+E14 | P14: =+F14 | Q14: =+IF(C14="","","S2") | R14: =+MID(A14,4,4) | S14: =+I14 | T14: =+J14 | V14: =+L14 | W14: =+M14 | X14: =+N14 | Y14: =+O14 | Z14: =+P14 | AA14: =+IF(M14="","","S3") | AB14: =+MID(A14,8,4) | AC14: =+S14 | AD14: =+T14
A15: =+IF(BDD!D14="","",IF(BDD!D14="A1",BDD!E14,"SIEGECP0000"))
B17: VSA | C17: 0000000229 | D17: 43831 | E17: 43861 | F17: A2 | G17: S1 | H17: SIE | I17: 1 | J17: 1
B18: VSA | C18: 0000000229 | D18: 43831 | E18: 43861 | F18: A2 | G18: S2 | H18: GECP | I18: 1 | J18: 1
B19: VSA | C19: 0000000229 | D19: 43831 | E19: 43861 | F19: A2 | G19: S3 | H19: 0000 | I19: 1 | J19: 1
B20: VSA | C20: 0000000519 | D20: 43831 | E20: 43861 | F20: A2 | G20: S1 | H20: PRJ | I20: 0.8 | J20: 1
B21: VSA | C21: 0000000519 | D21: 43831 | E21: 43861 | F21: A2 | G21: S1 | H21: SIE | I21: 0.2 | J21: 2
B22: VSA | C22: 0000000519 | D22: 43831 | E22: 43861 | F22: A2 | G22: S2 | H22: FRAN | I22: 0.8 | J22: 1
B23: VSA | C23: 0000000519 | D23: 43831 | E23: 43861 | F23: A2 | G23: S2 | H23: GECP | I23: 0.2 | J23: 2
B24: VSA | C24: 0000000519 | D24: 43831 | E24: 43861 | F24: A2 | G24: S3 | H24: -DMF | I24: 0.8 | J24: 1
B25: VSA | C25: 0000000519 | D25: 43831 | E25: 43861 | F25: A2 | G25: S3 | H25: 0000 | I25: 0.2 | J25: 2
B26: VSA | C26: 0000000014 | D26: 43831 | E26: 43861 | F26: A2 | G26: S1 | H26: DED | I26: 0.8 | J26: 1
B27: VSA | C27: 0000000014 | D27: 43831 | E27: 43861 | F27: A2 | G27: S1 | H27: PRJ | I27: 0.2 | J27: 2
B28: VSA | C28: 0000000014 | D28: 43831 | E28: 43861 | F28: A2 | G28: S2 | H28: IRCP | I28: 0.8 | J28: 1
... B31: VSA | C31: 0000000014 | D31: 43831 | E31: 43861 | F31: A2 | G31: S3 | H31: DE00 | I31: 0.2 | J31: 2
B32: =+IF(C32="","","VSA") | C32: =+IF(BDD!C29="","",BDD!C29) | D32: =+IF(C32="","",BDD!A29) | E32: =+IF(C32="","",BDD!B29) | F32: =+IF(C32="","","A2") | G32: =+IF(C32="","","S1") | H32: =+LEFT(A32,3) | I32: =+IF(C32="","",BDD!F29) | J32: =++IF(C32="","",IF(C32=C31,J31+1,1)) | L32: =+B32 | M32: =+C32 | N32: =+IF(M32="","",BDD!#REF!) | O32: =+IF(M32="","",BDD!#REF!) | P32: =+F32 | Q32: =+IF(C32="","","S2") | R32: =+MID(A32,4,4) | S32: =+I32 | T32: =+J32 | V32: =+L32 | W32: =+M32 | X32: =+IF(W32="","",BDD!#REF!) | Y32: =+IF(W32="","",BDD!#REF!) | Z32: =+P32 | AA32: =+IF(M32="","","S3") | AB32: =+MID(A32,8,4) | AC32: =+S32 | AD32: =+T32
B33: =+IF(C33="","","VSA") | C33: =+IF(BDD!C30="","",BDD!C30) | D33: =+IF(C33="","",BDD!A30) | E33: =+IF(C33="","",BDD!B30) | F33: =+IF(C33="","","A2") | G33: =+IF(C33="","","S1") | H33: =+LEFT(A33,3) | I33: =+IF(C33="","",BDD!F30) | J33: =++IF(C33="","",IF(C33=C32,J32+1,1)) | L33: =+B33 | M33: =+C33 | N33: =+IF(M33="","",BDD!#REF!) | O33: =+IF(M33="","",BDD!#REF!) | P33: =+F33 | Q33: =+IF(C33="","","S2") | R33: =+MID(A33,4,4) | S33: =+I33 | T33: =+J33 | V33: =+L33 | W33: =+M33 | X33: =+IF(W33="","",BDD!#REF!) | Y33: =+IF(W33="","",BDD!#REF!) | Z33: =+P33 | AA33: =+IF(M33="","","S3") | AB33: =+MID(A33,8,4) | AC33: =+S33 | AD33: =+T33
B34: =+IF(C34="","","VSA") | C34: =+IF(BDD!C31="","",BDD!C31) | D34: =+IF(C34="","",BDD!A31) | E34: =+IF(C34="","",BDD!B31) | F34: =+IF(C34="","","A2") | G34: =+IF(C34="","","S1") | H34: =+LEFT(A34,3) | I34: =+IF(C34="","",BDD!F31) | J34: =++IF(C34="","",IF(C34=C33,J33+1,1)) | L34: =+B34 | M34: =+C34 | N34: =+IF(M34="","",BDD!#REF!) | O34: =+IF(M34="","",BDD!#REF!) | P34: =+F34 | Q34: =+IF(C34="","","S2") | R34: =+MID(A34,4,4) | S34: =+I34 | T34: =+J34 | V34: =+L34 | W34: =+M34 | X34: =+IF(W34="","",BDD!#REF!) | Y34: =+IF(W34="","",BDD!#REF!) | Z34: =+P34 | AA34: =+IF(M34="","","S3") | AB34: =+MID(A34,8,4) | AC34: =+S34 | AD34: =+T34
B35: =+IF(C35="","","VSA") | C35: =+IF(BDD!C32="","",BDD!C32) | D35: =+IF(C35="","",BDD!A32) | E35: =+IF(C35="","",BDD!B32) | F35: =+IF(C35="","","A2") | G35: =+IF(C35="","","S1") | H35: =+LEFT(A35,3) | I35: =+IF(C35="","",BDD!F32) | J35: =++IF(C35="","",IF(C35=C34,J34+1,1)) | L35: =+B35 | M35: =+C35 | N35: =+IF(M35="","",BDD!#REF!) | O35: =+IF(M35="","",BDD!#REF!) | P35: =+F35 | Q35: =+IF(C35="","","S2") | R35: =+MID(A35,4,4) | S35: =+I35 | T35: =+J35 | V35: =+L35 | W35: =+M35 | X35: =+IF(W35="","",BDD!#REF!) | Y35: =+IF(W35="","",BDD!#REF!) | Z35: =+P35 | AA35: =+IF(M35="","","S3") | AB35: =+MID(A35,8,4) | AC35: =+S35 | AD35: =+T35
B36: =+IF(C36="","","VSA") | C36: =+IF(BDD!C33="","",BDD!C33) | D36: =+IF(C36="","",BDD!A33) | E36: =+IF(C36="","",BDD!B33) | F36: =+IF(C36="","","A2") | G36: =+IF(C36="","","S1") | H36: =+LEFT(A36,3) | I36: =+IF(C36="","",BDD!F33) | J36: =++IF(C36="","",IF(C36=C35,J35+1,1)) | L36: =+B36 | M36: =+C36 | N36: =+IF(M36="","",BDD!#REF!) | O36: =+IF(M36="","",BDD!#REF!) | P36: =+F36 | Q36: =+IF(C36="","","S2") | R36: =+MID(A36,4,4) | S36: =+I36 | T36: =+J36 | V36: =+L36 | W36: =+M36 | X36: =+IF(W36="","",BDD!#REF!) | Y36: =+IF(W36="","",BDD!#REF!) | Z36: =+P36 | AA36: =+IF(M36="","","S3") | AB36: =+MID(A36,8,4) | AC36: =+S36 | AD36: =+T36
B37: =+IF(C37="","","VSA") | C37: =+IF(BDD!C34="","",BDD!C34) | D37: =+IF(C37="","",BDD!A34) | E37: =+IF(C37="","",BDD!B34) | F37: =+IF(C37="","","A2") | G37: =+IF(C37="","","S1") | H37: =+LEFT(A37,3) | I37: =+IF(C37="","",BDD!F34) | J37: =++IF(C37="","",IF(C37=C36,J36+1,1)) | L37: =+B37 | M37: =+C37 | N37: =+IF(M37="","",BDD!#REF!) | O37: =+IF(M37="","",BDD!#REF!) | P37: =+F37 | Q37: =+IF(C37="","","S2") | R37: =+MID(A37,4,4) | S37: =+I37 | T37: =+J37 | V37: =+L37 | W37: =+M37 | X37: =+IF(W37="","",BDD!#REF!) | Y37: =+IF(W37="","",BDD!#REF!) | Z37: =+P37 | AA37: =+IF(M37="","","S3") | AB37: =+MID(A37,8,4) | AC37: =+S37 | AD37: =+T37
B38: =+IF(C38="","","VSA") | C38: =+IF(BDD!C35="","",BDD!C35) | D38: =+IF(C38="","",BDD!A35) | E38: =+IF(C38="","",BDD!B35) | F38: =+IF(C38="","","A2") | G38: =+IF(C38="","","S1") | H38: =+LEFT(A38,3) | I38: =+IF(C38="","",BDD!F35) | J38: =++IF(C38="","",IF(C38=C37,J37+1,1)) | L38: =+B38 | M38: =+C38 | N38: =+IF(M38="","",BDD!#REF!) | O38: =+IF(M38="","",BDD!#REF!) | P38: =+F38 | Q38: =+IF(C38="","","S2") | R38: =+MID(A38,4,4) | S38: =+I38 | T38: =+J38 | V38: =+L38 | W38: =+M38 | X38: =+IF(W38="","",BDD!#REF!) | Y38: =+IF(W38="","",BDD!#REF!) | Z38: =+P38 | AA38: =+IF(M38="","","S3") | AB38: =+MID(A38,8,4) | AC38: =+S38 | AD38: =+T38
B39: =+IF(C39="","","VSA") | C39: =+IF(BDD!C36="","",BDD!C36) | D39: =+IF(C39="","",BDD!A36) | E39: =+IF(C39="","",BDD!B36) | F39: =+IF(C39="","","A2") | G39: =+IF(C39="","","S1") | H39: =+LEFT(A39,3) | I39: =+IF(C39="","",BDD!F36) | J39: =++IF(C39="","",IF(C39=C38,J38+1,1)) | L39: =+B39 | M39: =+C39 | N39: =+IF(M39="","",BDD!#REF!) | O39: =+IF(M39="","",BDD!#REF!) | P39: =+F39 | Q39: =+IF(C39="","","S2") | R39: =+MID(A39,4,4) | S39: =+I39 | T39: =+J39 | V39: =+L39 | W39: =+M39 | X39: =+IF(W39="","",BDD!#REF!) | Y39: =+IF(W39="","",BDD!#REF!) | Z39: =+P39 | AA39: =+IF(M39="","","S3") | AB39: =+MID(A39,8,4) | AC39: =+S39 | AD39: =+T39
B40: =+IF(C40="","","VSA") | C40: =+IF(BDD!C37="","",BDD!C37) | D40: =+IF(C40="","",BDD!A37) | E40: =+IF(C40="","",BDD!B37) | F40: =+IF(C40="","","A2") | G40: =+IF(C40="","","S1") | H40: =+LEFT(A40,3) | I40: =+IF(C40="","",BDD!F37) | J40: =++IF(C40="","",IF(C40=C39,J39+1,1)) | L40: =+B40 | M40: =+C40 | N40: =+IF(M40="","",BDD!#REF!) | O40: =+IF(M40="","",BDD!#REF!) | P40: =+F40 | Q40: =+IF(C40="","","S2") | R40: =+MID(A40,4,4) | S40: =+I40 | T40: =+J40 | V40: =+L40 | W40: =+M40 | X40: =+IF(W40="","",BDD!#REF!) | Y40: =+IF(W40="","",BDD!#REF!) | Z40: =+P40 | AA40: =+IF(M40="","","S3") | AB40: =+MID(A40,8,4) | AC40: =+S40 | AD40: =+T40
B41: =+IF(C41="","","VSA") | C41: =+IF(BDD!C38="","",BDD!C38) | D41: =+IF(C41="","",BDD!A38) | E41: =+IF(C41="","",BDD!B38) | F41: =+IF(C41="","","A2") | G41: =+IF(C41="","","S1") | H41: =+LEFT(A41,3) | I41: =+IF(C41="","",BDD!F38) | J41: =++IF(C41="","",IF(C41=C40,J40+1,1)) | L41: =+B41 | M41: =+C41 | N41: =+IF(M41="","",BDD!#REF!) | O41: =+IF(M41="","",BDD!#REF!) | P41: =+F41 | Q41: =+IF(C41="","","S2") | R41: =+MID(A41,4,4) | S41: =+I41 | T41: =+J41 | V41: =+L41 | W41: =+M41 | X41: =+IF(W41="","",BDD!#REF!) | Y41: =+IF(W41="","",BDD!#REF!) | Z41: =+P41 | AA41: =+IF(M41="","","S3") | AB41: =+MID(A41,8,4) | AC41: =+S41 | AD41: =+T41
B42: =+IF(C42="","","VSA") | C42: =+IF(BDD!C39="","",BDD!C39) | D42: =+IF(C42="","",BDD!A39) | E42: =+IF(C42="","",BDD!B39) | F42: =+IF(C42="","","A2") | G42: =+IF(C42="","","S1") | H42: =+LEFT(A42,3) | I42: =+IF(C42="","",BDD!F39) | J42: =++IF(C42="","",IF(C42=C41,J41+1,1)) | L42: =+B42 | M42: =+C42 | N42: =+IF(M42="","",BDD!#REF!) | O42: =+IF(M42="","",BDD!#REF!) | P42: =+F42 | Q42: =+IF(C42="","","S2") | R42: =+MID(A42,4,4) | S42: =+I42 | T42: =+J42 | V42: =+L42 | W42: =+M42 | X42: =+IF(W42="","",BDD!#REF!) | Y42: =+IF(W42="","",BDD!#REF!) | Z42: =+P42 | AA42: =+IF(M42="","","S3") | AB42: =+MID(A42,8,4) | AC42: =+S42 | AD42: =+T42
B43: =+IF(C43="","","VSA") | C43: =+IF(BDD!C40="","",BDD!C40) | D43: =+IF(C43="","",BDD!A40) | E43: =+IF(C43="","",BDD!B40) | F43: =+IF(C43="","","A2") | G43: =+IF(C43="","","S1") | H43: =+LEFT(A43,3) | I43: =+IF(C43="","",BDD!F40) | J43: =++IF(C43="","",IF(C43=C42,J42+1,1)) | L43: =+B43 | M43: =+C43 | N43: =+IF(M43="","",BDD!#REF!) | O43: =+IF(M43="","",BDD!#REF!) | P43: =+F43 | Q43: =+IF(C43="","","S2") | R43: =+MID(A43,4,4) | S43: =+I43 | T43: =+J43 | V43: =+L43 | W43: =+M43 | X43: =+IF(W43="","",BDD!#REF!) | Y43: =+IF(W43="","",BDD!#REF!) | Z43: =+P43 | AA43: =+IF(M43="","","S3") | AB43: =+MID(A43,8,4) | AC43: =+S43 | AD43: =+T43
...
