Workbook

Sheet Interface
O2: Légende
O3: Modèle | P3: selection d'un modèle dans la BDD
O4: T1/T2/Tr | P4: change T1/T2/Tr dans la BDD
O5: Type | P5: selection eventuelle d'un type dans la BDD
O6: Hauteur | P6: délimitation eventuelle des dimensions
O7: Longueur
O8: Puissance | P8: correspond à la puissance corrigée recherchée dans la BDD
O9: +/- x % | P9: correspond à la puissance corrigée recherchée à +/- "x"% prêt
O11: Local | P11: correspond à une zone de saisie libre
O12: Quantité | P12: correspond à une zone de saisie libre
O14: Valider | P14: insert la reference, le local et la quantité dans le tableau chiffrage

Sheet CHIFFRAGE
I2: T1 | J2: 65
I3: T2 | J3: 55
I4: Tr | J4: 22
A7: Date:
A8: Numéro
A9: Emetteur | B9: Sacha
A10: Destinataire
A13: pos. | B13: local | C13: Qté | D13: référence | E13: désignation | I13: ="T1"&CHAR(176)&"C" -> T1°C | J13: ="T2"&CHAR(176)&"C" -> T2°C | K13: ="Tr"&CHAR(176)&"C" -> Tr°C | L13: Watt | M13: prix unit EUR HT | N13: prix net unit. EUR HT | O13: prix net total EUR HT | P13: Remise. [%]
A14: 001
A15: 002 | B15: chambre | C15: 1 | D15: RRN2005000622MA | E15: =VLOOKUP(D15,BDD!B:C,2,0) -> Tubulaire 2 col. 0500x270x65 234W Blanc | I15: =$J$2 -> 65 | J15: =$J$3 -> 55 | K15: =$J$4 -> 22 | L15: =VLOOKUP(D15,BDD!B:M,11,0) -> 164.0574 | M15: =VLOOKUP(D15,BDD!B:K,10,0) -> 5 | N15: =+M15-M15*P15 -> 5 | O15: =+N15*C15 -> 5
A16: 003 | E16: =VLOOKUP(D16,BDD!B:C,2,0) -> #N/A | I16: =$J$2 -> 65 | J16: =$J$3 -> 55 | K16: =$J$4 -> 22 | L16: =VLOOKUP(D16,BDD!B:M,11,0) -> #N/A | M16: =VLOOKUP(D16,BDD!B:K,10,0) -> #N/A | N16: =+M16-M16*P16 -> #N/A | O16: =+N16*C16 -> #N/A
A17: 004 | E17: =VLOOKUP(D17,BDD!B:C,2,0) -> #N/A | I17: =$J$2 -> 65 | J17: =$J$3 -> 55 | K17: =$J$4 -> 22 | L17: =VLOOKUP(D17,BDD!B:M,11,0) -> #N/A | M17: =VLOOKUP(D17,BDD!B:K,10,0) -> #N/A | N17: =+M17-M17*P17 -> #N/A | O17: =+N17*C17 -> #N/A
A18: 005 | E18: =VLOOKUP(D18,BDD!B:C,2,0) -> #N/A | I18: =$J$2 -> 65 | J18: =$J$3 -> 55 | K18: =$J$4 -> 22 | L18: =VLOOKUP(D18,BDD!B:M,11,0) -> #N/A | M18: =VLOOKUP(D18,BDD!B:K,10,0) -> #N/A | N18: =+M18-M18*P18 -> #N/A | O18: =+N18*C18 -> #N/A
A19: 006 | E19: =VLOOKUP(D19,BDD!B:C,2,0) -> #N/A | I19: =$J$2 -> 65 | J19: =$J$3 -> 55 | K19: =$J$4 -> 22 | L19: =VLOOKUP(D19,BDD!B:M,11,0) -> #N/A | M19: =VLOOKUP(D19,BDD!B:K,10,0) -> #N/A | N19: =+M19-M19*P19 -> #N/A | O19: =+N19*C19 -> #N/A
A20: 007 | E20: =VLOOKUP(D20,BDD!B:C,2,0) -> #N/A | I20: =$J$2 -> 65 | J20: =$J$3 -> 55 | K20: =$J$4 -> 22 | L20: =VLOOKUP(D20,BDD!B:M,11,0) -> #N/A | M20: =VLOOKUP(D20,BDD!B:K,10,0) -> #N/A | N20: =+M20-M20*P20 -> #N/A | O20: =+N20*C20 -> #N/A
A21: 008 | E21: =VLOOKUP(D21,BDD!B:C,2,0) -> #N/A | I21: =$J$2 -> 65 | J21: =$J$3 -> 55 | K21: =$J$4 -> 22 | L21: =VLOOKUP(D21,BDD!B:M,11,0) -> #N/A | M21: =VLOOKUP(D21,BDD!B:K,10,0) -> #N/A | N21: =+M21-M21*P21 -> #N/A | O21: =+N21*C21 -> #N/A
A22: 009 | E22: =VLOOKUP(D22,BDD!B:C,2,0) -> #N/A | I22: =$J$2 -> 65 | J22: =$J$3 -> 55 | K22: =$J$4 -> 22 | L22: =VLOOKUP(D22,BDD!B:M,11,0) -> #N/A | M22: =VLOOKUP(D22,BDD!B:K,10,0) -> #N/A | N22: =+M22-M22*P22 -> #N/A | O22: =+N22*C22 -> #N/A
A23: 010 | E23: =VLOOKUP(D23,BDD!B:C,2,0) -> #N/A | I23: =$J$2 -> 65 | J23: =$J$3 -> 55 | K23: =$J$4 -> 22 | L23: =VLOOKUP(D23,BDD!B:M,11,0) -> #N/A | M23: =VLOOKUP(D23,BDD!B:K,10,0) -> #N/A | N23: =+M23-M23*P23 -> #N/A | O23: =+N23*C23 -> #N/A
A24: 011 | E24: =VLOOKUP(D24,BDD!B:C,2,0) -> #N/A | I24: =$J$2 -> 65 | J24: =$J$3 -> 55 | K24: =$J$4 -> 22 | L24: =VLOOKUP(D24,BDD!B:M,11,0) -> #N/A | M24: =VLOOKUP(D24,BDD!B:K,10,0) -> #N/A | N24: =+M24-M24*P24 -> #N/A | O24: =+N24*C24 -> #N/A
A25: 012 | E25: =VLOOKUP(D25,BDD!B:C,2,0) -> #N/A | I25: =$J$2 -> 65 | J25: =$J$3 -> 55 | K25: =$J$4 -> 22 | L25: =VLOOKUP(D25,BDD!B:M,11,0) -> #N/A | M25: =VLOOKUP(D25,BDD!B:K,10,0) -> #N/A | N25: =+M25-M25*P25 -> #N/A | O25: =+N25*C25 -> #N/A
A26: 013 | E26: =VLOOKUP(D26,BDD!B:C,2,0) -> #N/A | I26: =$J$2 -> 65 | J26: =$J$3 -> 55 | K26: =$J$4 -> 22 | L26: =VLOOKUP(D26,BDD!B:M,11,0) -> #N/A | M26: =VLOOKUP(D26,BDD!B:K,10,0) -> #N/A | N26: =+M26-M26*P26 -> #N/A | O26: =+N26*C26 -> #N/A
A27: 014 | E27: =VLOOKUP(D27,BDD!B:C,2,0) -> #N/A | I27: =$J$2 -> 65 | J27: =$J$3 -> 55 | K27: =$J$4 -> 22 | L27: =VLOOKUP(D27,BDD!B:M,11,0) -> #N/A | M27: =VLOOKUP(D27,BDD!B:K,10,0) -> #N/A | N27: =+M27-M27*P27 -> #N/A | O27: =+N27*C27 -> #N/A
... A38: 025 | E38: =VLOOKUP(D38,BDD!B:C,2,0) -> #N/A | I38: =$J$2 -> 65 | J38: =$J$3 -> 55 | K38: =$J$4 -> 22 | L38: =VLOOKUP(D38,BDD!B:M,11,0) -> #N/A | M38: =VLOOKUP(D38,BDD!B:K,10,0) -> #N/A | N38: =+M38-M38*P38 -> #N/A | O38: =+N38*C38 -> #N/A
A39: total | C39: =SUM(C15:C38) -> 1 | O39: =SUM(O14:O38) -> #N/A

Sheet BDD
H2: T1 | I2: =+CHIFFRAGE!J2 -> 65 | J2: =(I2+I3)/2-I4 -> 38
H3: T2 | I3: =+CHIFFRAGE!J3 -> 55
H4: Tr | I4: =+CHIFFRAGE!J4 -> 22
A8: MODELE | B8: REFERENCE | C8: DESIGNATION TEXTE | D8: TYPE | E8: HAUTEUR EN MM | F8: LONGUEUR EN MM | G8: PROF. EN MM | H8: Exposant | I8: PUISSANCE EN WATT | J8: COULEUR | K8: Prix | L8: PUISSANCE CORRIGEE | M8: COEFFICIENT
A9: Tubulaire | B9: RRN2005000622MA | C9: Tubulaire 2 col. 0500x270x65 234W Blanc | D9: RRN20 | E9: 500 | F9: 270 | G9: 65 | H9: 1.31 | I9: 234 | J9: RAL9016 | K9: 5 | L9: =+I9*M9 -> 164.0574 | M9: =VLOOKUP(ROUND($J$2,0),'Facteurs de corrections'!$A$6:$AA$73,HLOOKUP(ROUND(H9,2),'Facteurs de corrections'!$A$6:$AA$73,68,FALSE),FALSE) -> 0.7011
A10: Tubulaire | B10: RRN2005000722MA | C10: Tubulaire 2 col. 0500x315x65 273W Blanc | D10: RRN20 | E10: 500 | F10: 315 | G10: 65 | H10: 1.31 | I10: 273 | J10: RAL9016 | K10: 10 | L10: =+I10*M10 -> 191.4003 | M10: =VLOOKUP(ROUND($J$2,0),'Facteurs de corrections'!$A$6:$AA$73,HLOOKUP(ROUND(H10,2),'Facteurs de corrections'!$A$6:$AA$73,68,FALSE),FALSE) -> 0.7011
A11: FK0 | B11: FK0220610W02 | C11: Panneaux type 22 600x1000x100 998W blanc | D11: FK022 | E11: 600 | F11: 1000 | G11: 100 | H11: 1.28 | I11: 998 | J11: RAL9016 | K11: 15 | L11: =+I11*M11 -> 705.3864 | M11: =VLOOKUP(ROUND($J$2,0),'Facteurs de corrections'!$A$6:$AA$73,HLOOKUP(ROUND(H11,2),'Facteurs de corrections'!$A$6:$AA$73,68,FALSE),FALSE) -> 0.7068
A12: FTP | B12: FTP120750601R2K | C12: panneaux type 12 750x600x64 625W blanc | D12: FTP12 | E12: 750 | F12: 600 | G12: 64 | H12: 1.26 | I12: 625 | J12: RAL9016 | K12: 20 | L12: =+I12*M12 -> 444.1875 | M12: =VLOOKUP(ROUND($J$2,0),'Facteurs de corrections'!$A$6:$AA$73,HLOOKUP(ROUND(H12,2),'Facteurs de corrections'!$A$6:$AA$73,68,FALSE),FALSE) -> 0.7107

Sheet Facteurs de corrections
A5: T [K] | B5: Exponent n | AB5: T [K]
B6: 1.17 | C6: 1.18 | D6: 1.19 | E6: 1.2 | F6: 1.21 | G6: 1.22 | H6: 1.23 | I6: 1.24 | J6: 1.25 | K6: 1.26 | L6: 1.27 | M6: 1.28 | N6: 1.29 | O6: 1.3 | P6: 1.31 | Q6: 1.32 | R6: 1.33 | S6: 1.34 | T6: 1.35 | U6: 1.36 | V6: 1.37 | W6: 1.38 | X6: 1.39 | Y6: 1.4 | Z6: 1.41 | AA6: 1.46
A7: 15 | B7: 0.2454 | C7: 0.2425 | D7: 0.2396 | E7: 0.2368 | F7: 0.2339 | G7: 0.2311 | H7: 0.2284 | I7: 0.2257 | J7: 0.223 | K7: 0.2203 | L7: 0.2177 | M7: 0.2151 | N7: 0.2125 | O7: 0.21 | P7: 0.2075 | Q7: 0.205 | R7: 0.2026 | S7: 0.2001 | T7: 0.1977 | U7: 0.1954 | V7: 0.1931 | W7: 0.1908 | X7: 0.1885 | Y7: 0.1862 | Z7: 0.184 | AA7: 0.1733 | AB7: 15
A8: 16 | B8: 0.2647 | C8: 0.2617 | D8: 0.2588 | E8: 0.2558 | F8: 0.2529 | G8: 0.2501 | H8: 0.2473 | I8: 0.2445 | J8: 0.2417 | K8: 0.239 | L8: 0.2363 | M8: 0.2336 | N8: 0.231 | O8: 0.2284 | P8: 0.2258 | Q8: 0.2232 | R8: 0.2207 | S8: 0.2182 | T8: 0.2157 | U8: 0.2133 | V8: 0.2109 | W8: 0.2085 | X8: 0.2062 | Y8: 0.2038 | Z8: 0.2015 | AA8: 0.1904 | AB8: 16
A9: 17 | B9: 0.2842 | C9: 0.2811 | D9: 0.2781 | E9: 0.2751 | F9: 0.2722 | G9: 0.2693 | H9: 0.2664 | I9: 0.2636 | J9: 0.2607 | K9: 0.2579 | L9: 0.2552 | M9: 0.2525 | N9: 0.2498 | O9: 0.2471 | P9: 0.2444 | Q9: 0.2418 | R9: 0.2392 | S9: 0.2367 | T9: 0.2341 | U9: 0.2316 | V9: 0.2292 | W9: 0.2267 | X9: 0.2243 | Y9: 0.2219 | Z9: 0.2195 | AA9: 0.208 | AB9: 17
A10: 18 | B10: 0.3038 | C10: 0.3007 | D10: 0.2977 | E10: 0.2947 | F10: 0.2917 | G10: 0.2887 | H10: 0.2858 | I10: 0.2829 | J10: 0.28 | K10: 0.2772 | L10: 0.2744 | M10: 0.2716 | N10: 0.2689 | O10: 0.2661 | P10: 0.2634 | Q10: 0.2608 | R10: 0.2581 | S10: 0.2555 | T10: 0.2529 | U10: 0.2504 | V10: 0.2478 | W10: 0.2453 | X10: 0.2428 | Y10: 0.2404 | Z10: 0.2379 | AA10: 0.2261 | AB10: 18
A11: 19 | B11: 0.3237 | C11: 0.3205 | D11: 0.3175 | E11: 0.3144 | F11: 0.3114 | G11: 0.3084 | H11: 0.3055 | I11: 0.3025 | J11: 0.2996 | K11: 0.2968 | L11: 0.2939 | M11: 0.2911 | N11: 0.2883 | O11: 0.2855 | P11: 0.2828 | Q11: 0.2801 | R11: 0.2774 | S11: 0.2747 | T11: 0.2721 | U11: 0.2695 | V11: 0.2669 | W11: 0.2643 | X11: 0.2618 | Y11: 0.2593 | Z11: 0.2568 | AA11: 0.2447 | AB11: 19
A12: 20 | B12: 0.3436 | C12: 0.3405 | D12: 0.3374 | E12: 0.3344 | F12: 0.3313 | G12: 0.3283 | H12: 0.3253 | I12: 0.3224 | J12: 0.3194 | K12: 0.3165 | L12: 0.3137 | M12: 0.3108 | N12: 0.308 | O12: 0.3052 | P12: 0.3024 | Q12: 0.2997 | R12: 0.2969 | S12: 0.2942 | T12: 0.2916 | U12: 0.2889 | V12: 0.2863 | W12: 0.2837 | X12: 0.2811 | Y12: 0.2786 | Z12: 0.276 | AA12: 0.2637 | AB12: 20
A13: 21 | B13: 0.3638 | C13: 0.3607 | D13: 0.3576 | E13: 0.3545 | F13: 0.3515 | G13: 0.3484 | H13: 0.3454 | I13: 0.3425 | J13: 0.3395 | K13: 0.3366 | L13: 0.3337 | M13: 0.3308 | N13: 0.328 | O13: 0.3252 | P13: 0.3224 | Q13: 0.3196 | R13: 0.3169 | S13: 0.3141 | T13: 0.3114 | U13: 0.3087 | V13: 0.3061 | W13: 0.3035 | X13: 0.3009 | Y13: 0.2983 | Z13: 0.2957 | AA13: 0.2832 | AB13: 21
A14: 22 | B14: 0.3842 | C14: 0.3811 | D14: 0.378 | E14: 0.3749 | F14: 0.3718 | G14: 0.3688 | H14: 0.3658 | I14: 0.3628 | J14: 0.3599 | K14: 0.3569 | L14: 0.354 | M14: 0.3511 | N14: 0.3483 | O14: 0.3454 | P14: 0.3426 | Q14: 0.3398 | R14: 0.3371 | S14: 0.3343 | T14: 0.3316 | U14: 0.3289 | V14: 0.3262 | W14: 0.3236 | X14: 0.321 | Y14: 0.3183 | Z14: 0.3157 | AA14: 0.3031 | AB14: 22
A15: 23 | B15: 0.4047 | C15: 0.4016 | D15: 0.3985 | E15: 0.3954 | F15: 0.3924 | G15: 0.3893 | H15: 0.3863 | I15: 0.3834 | J15: 0.3804 | K15: 0.3775 | L15: 0.3746 | M15: 0.3717 | N15: 0.3688 | O15: 0.366 | P15: 0.3632 | Q15: 0.3604 | R15: 0.3576 | S15: 0.3548 | T15: 0.3521 | U15: 0.3494 | V15: 0.3467 | W15: 0.344 | X15: 0.3414 | Y15: 0.3388 | Z15: 0.3362 | AA15: 0.3234 | AB15: 23
A16: 24 | B16: 0.4254 | C16: 0.4223 | D16: 0.4192 | E16: 0.4161 | F16: 0.4131 | G16: 0.4101 | H16: 0.4071 | I16: 0.4041 | J16: 0.4012 | K16: 0.3983 | L16: 0.3954 | M16: 0.3925 | N16: 0.3897 | O16: 0.3868 | P16: 0.384 | Q16: 0.3812 | R16: 0.3784 | S16: 0.3757 | T16: 0.3729 | U16: 0.3702 | V16: 0.3675 | W16: 0.3649 | X16: 0.3622 | Y16: 0.3596 | Z16: 0.3569 | AA16: 0.3441 | AB16: 24
A17: 25 | B17: 0.4462 | C17: 0.4431 | D17: 0.4401 | E17: 0.437 | F17: 0.434 | G17: 0.431 | H17: 0.4281 | I17: 0.4251 | J17: 0.4222 | K17: 0.4193 | L17: 0.4164 | M17: 0.4136 | N17: 0.4107 | O17: 0.4079 | P17: 0.4051 | Q17: 0.4023 | R17: 0.3995 | S17: 0.3968 | T17: 0.3941 | U17: 0.3914 | V17: 0.3887 | W17: 0.386 | X17: 0.3834 | Y17: 0.3807 | Z17: 0.3781 | AA17: 0.3653 | AB17: 25
A18: 26 | B18: 0.4671 | C18: 0.4641 | D18: 0.4611 | E18: 0.4581 | F18: 0.4551 | G18: 0.4522 | H18: 0.4492 | I18: 0.4463 | J18: 0.4434 | K18: 0.4406 | L18: 0.4377 | M18: 0.4349 | N18: 0.432 | O18: 0.4292 | P18: 0.4265 | Q18: 0.4237 | R18: 0.4209 | S18: 0.4182 | T18: 0.4155 | U18: 0.4128 | V18: 0.4101 | W18: 0.4075 | X18: 0.4049 | Y18: 0.4022 | Z18: 0.3996 | AA18: 0.3868 | AB18: 26
... A73: 1 | B73: 2 | C73: 3 | D73: 4 | E73: 5 | F73: 6 | G73: 7 | H73: 8 | I73: 9 | J73: 10 | K73: 11 | L73: 12 | M73: 13 | N73: 14 | O73: 15 | P73: 16 | Q73: 17 | R73: 18 | S73: 19 | T73: 20 | U73: 21 | V73: 22 | W73: 23 | X73: 24 | Y73: 25 | Z73: 26 | AA73: 27 | AB73: 28
