Workbook
Name ListeCollab: OFFSET([2]DR!$C$2,MATCH(VLOOKUP(Sources!$O$3,Sources!$G$2:$H$8,2,FALSE),[2]!Planning[Site],0)-1,0,COUNTIF([2]!Planning[Site],VLOOKUP(Sources!$O$3,Sources!$G$2:$H$8,2,FALSE)))
Name ListeCollab: OFFSET([2]DR!$C$2,MATCH(VLOOKUP(Sources!$O$3,Sources!$G$2:$H$8,2,FALSE),[2]!Planning[Site],0)-1,0,COUNTIF([2]!Planning[Site],VLOOKUP(Sources!$O$3,Sources!$G$2:$H$8,2,FALSE)))
Name ListeCollab: OFFSET([2]DR!$C$2,MATCH(VLOOKUP(Sources!$O$3,Sources!$G$2:$H$8,2,FALSE),[2]!Planning[Site],0)-1,0,COUNTIF([2]!Planning[Site],VLOOKUP(Sources!$O$3,Sources!$G$2:$H$8,2,FALSE)))
Name ListeCollab: OFFSET([2]DR!$C$2,MATCH(VLOOKUP(Sources!$O$3,Sources!$G$2:$H$8,2,FALSE),[2]!Planning[Site],0)-1,0,COUNTIF([2]!Planning[Site],VLOOKUP(Sources!$O$3,Sources!$G$2:$H$8,2,FALSE)))
Name ListeCollab: OFFSET([2]DR!$C$2,MATCH(VLOOKUP(Sources!$O$3,Sources!$G$2:$H$8,2,FALSE),[2]!Planning[Site],0)-1,0,COUNTIF([2]!Planning[Site],VLOOKUP(Sources!$O$3,Sources!$G$2:$H$8,2,FALSE)))
Name ListeCollab: OFFSET([2]DR!$C$2,MATCH(VLOOKUP(Sources!$O$3,Sources!$G$2:$H$8,2,FALSE),[2]!Planning[Site],0)-1,0,COUNTIF([2]!Planning[Site],VLOOKUP(Sources!$O$3,Sources!$G$2:$H$8,2,FALSE)))
Name ListeCollab: OFFSET([2]DR!$C$2,MATCH(VLOOKUP(Sources!$O$3,Sources!$G$2:$H$8,2,FALSE),[2]!Planning[Site],0)-1,0,COUNTIF([2]!Planning[Site],VLOOKUP(Sources!$O$3,Sources!$G$2:$H$8,2,FALSE)))
Name ListeCollab: OFFSET([2]DR!$C$2,MATCH(VLOOKUP(Sources!$O$3,Sources!$G$2:$H$8,2,FALSE),[2]!Planning[Site],0)-1,0,COUNTIF([2]!Planning[Site],VLOOKUP(Sources!$O$3,Sources!$G$2:$H$8,2,FALSE)))

Sheet Sources
B1: Mois | C1: Numéros | E1: Années | G1: Site | H1: Site2 | I1: Année | J1: =O1 -> 2020 | K1: P | L1: Présent | N1: Année : | O1: 2020
B2: Janvier | C2: 1 | E2: 2020 | G2: RIE Carre Daumesnil | H2: 06420 RIE CARRE DAUMESNIL | K2: CP | L2: Congés Payés | N2: Mois : | O2: Juin
B3: Février | C3: 2 | E3: 2021 | G3: Europe 1 | H3: 06578 EUROPE 1 | I3: 1er Janvier | J3: =DATE($J$1,1,1) -> 43831 | K3: M | L3: Maladie | N3: Sites | O3: Europe 1
B4: Mars | C4: 3 | E4: 2022 | G4: Safran Campus | H4: 01050 SAFRAN CAMPUS | I4: Pâques | J4: =ROUND(DATE($J$1,4,MOD(234-11*MOD($J$1,19),30))/7,)*7-6 -> 43933 | K4: ANP | L4: Absence non payée | N4: Année : | O4: 2020
B5: Avril | C5: 4 | E5: 2023 | G5: Safran Saclay | H5: 01049 SAFRAN PARIS SACLAY | I5: Lundi de Pâques | J5: =J4+1 -> 43934 | K5: AP | L5: Absence payée | N5: Mois : | O5: Juillet
B6: Mai | C6: 5 | E6: 2024 | G6: MGEN Self | H6: 06510 MGEN | I6: 1er Mai | J6: =DATE($J$1,5,1) -> 43952 | K6: RTT | L6: RTT | N6: Sites | O6: Europe 1
B7: Juin | C7: 6 | E7: 2025 | G7: MGEN Club | H7: 06512 MGEN CLUB | I7: 43959 | J7: =DATE($J$1,5,8) -> 43959 | K7: F | L7: Jour Férié | N7: Année : | O7: 2020
B8: Juillet | C8: 7 | E8: 2026 | G8: MGEN Château | H8: 06533 CHÂTEAU MGEN | I8: Ascenscion | J8: =J4+39 -> 43972 | K8: CA | L8: Congé Anciéneté | N8: Mois : | O8: Août
B9: Août | C9: 8 | E9: 2027 | I9: Pentecôte | J9: =J4+49 -> 43982 | N9: Sites | O9: Europe 1
B10: Septembre | C10: 9 | E10: 2028 | I10: Lundi de Pentecôte | J10: =J4+50 -> 43983 | N10: Année : | O10: 2020
B11: Octobre | C11: 10 | E11: 2029 | I11: 44026 | J11: =DATE($J$1,7,14) -> 44026 | N11: Mois : | O11: Octobre
B12: Novembre | C12: 11 | E12: 2030 | I12: 15 Aout | J12: =DATE($J$1,8,15) -> 44058 | N12: Sites | O12: Europe 1
B13: Décembre | C13: 12 | E13: 2031 | I13: 1er Novembre | J13: =DATE($J$1,11,1) -> 44136 | N13: Année : | O13: 2020
I14: 44146 | J14: =DATE($J$1,11,11) -> 44146 | N14: Mois : | O14: Octobre
I15: 44190 | J15: =DATE($J$1,12,25) -> 44190 | N15: Sites | O15: Europe 1
N16: Année : | O16: 2020
I17: Année | J17: =O22 -> 2021 | N17: Mois : | O17: Novembre
N18: Sites | O18: Europe 1
I19: 1er Janvier | J19: =DATE($J$17,1,1) -> 44197 | N19: Année : | O19: 2020
I20: Pâques | J20: =ROUND(DATE($J$17,4,MOD(234-11*MOD($J$17,19),30))/7,)*7-6 -> 44290 | N20: Mois : | O20: Décembre
I21: Lundi de Pâques | J21: =J20+1 -> 44291 | N21: Sites | O21: Europe 1
I22: 1er Mai | J22: =DATE($J$1,5,1) -> 43952 | N22: Année : | O22: 2021
I23: 43959 | J23: =DATE($J$1,5,8) -> 43959 | N23: Mois : | O23: Janvier
I24: Ascenscion | J24: =J20+39 -> 44329 | N24: Sites | O24: Europe 1
I25: Pentecôte | J25: =J20+49 -> 44339 | N25: Année : | O25: 2021
I26: Lundi de Pentecôte | J26: =J20+50 -> 44340 | N26: Mois : | O26: Février
I27: 44026 | J27: =DATE($J$17,7,14) -> 44391 | N27: Sites | O27: Europe 1
I28: 15 Aout | J28: =DATE($J$17,8,15) -> 44423 | N28: Année : | O28: 2021
I29: 1er Novembre | J29: =DATE($J$17,11,1) -> 44501 | N29: Mois : | O29: Mars
I30: 44146 | J30: =DATE($J$17,11,11) -> 44511 | N30: Sites | O30: Europe 1
I31: 44190 | J31: =DATE($J$17,12,25) -> 44555 | N31: Année : | O31: 2021
N32: Mois : | O32: Avril
N33: Sites | O33: Europe 1
N34: Année : | O34: 2021
N35: Mois : | O35: Mai
N36: Sites | O36: Europe 1

Sheet Juin
C2: =Sources!N1 -> Année : | D2: =Sources!O1 -> 2020 | H2: P | I2: Présent | L2: ANP | M2: Absence non payée | Q2: F | R2: Jour Férié | V2: M | W2: Maladie
C3: =Sources!N2 -> Mois : | D3: =Sources!O2 -> Juin | H3: CP | I3: Congés Payés | L3: AP | M3: Absence payée | Q3: CA | R3: Congé Anciéneté | V3: RTT | W3: RTT
A5: =Sources!O3 -> Europe 1 | G5: =DATEVALUE(COLUMNS($B:B)&Sources!$O$2&Sources!$O$1) -> 43983 | H5: =IF(G5="","",IF(MONTH(G5+1)<>MONTH(G5),"",G5+1)) -> 43984 | I5: =IF(H5="","",IF(MONTH(H5+1)<>MONTH(H5),"",H5+1)) -> 43985 | J5: =IF(I5="","",IF(MONTH(I5+1)<>MONTH(I5),"",I5+1)) -> 43986 | K5: =IF(J5="","",IF(MONTH(J5+1)<>MONTH(J5),"",J5+1)) -> 43987 | L5: =IF(K5="","",IF(MONTH(K5+1)<>MONTH(K5),"",K5+1)) -> 43988 | M5: =IF(L5="","",IF(MONTH(L5+1)<>MONTH(L5),"",L5+1)) -> 43989 | N5: =IF(M5="","",IF(MONTH(M5+1)<>MONTH(M5),"",M5+1)) -> 43990 | O5: =IF(N5="","",IF(MONTH(N5+1)<>MONTH(N5),"",N5+1)) -> 43991 | ... AK5: =IF(AJ5="","",IF(MONTH(AJ5+1)<>MONTH(AJ5),"",AJ5+1)) | AL5: =D6 -> Solde CP | AM5: =E6 -> Solde CA | AN5: =F6 -> Solde RTT
A6: Matricule | B6: Noms | C6: Prénoms | D6: Solde CP | E6: Solde CA | F6: Solde RTT
A7: {=IF(ROWS($1:1)>COUNTA(ListeCollab),"",INDEX(ListeCollab,ROWS($1:1)))} -> #N/A | B7: =IF($A7="","",VLOOKUP($A7,[2]DR!$C$2:$AO$200,3,FALSE)) -> #N/A | C7: =IF($A7="","",VLOOKUP($A7,[2]DR!$C$2:$AO$200,5,FALSE)) -> #N/A | D7: =IF($A7="","",VLOOKUP($A7,[1]DR!$C$2:$AO$200,33,FALSE)) -> #N/A | E7: =IF($A7="","",VLOOKUP($A7,[1]DR!$C$2:$AO$200,37,FALSE)) -> #N/A | F7: =IF($A7="","",VLOOKUP($A7,[1]DR!$C$2:$AO$200,39,FALSE)) -> #N/A | H7: CP | I7: CA | J7: RTT | AL7: =IF($A7="","",COUNTIF($G7:$AK7,MID(AL$5,7,3))) -> #N/A | AM7: =IF($A7="","",COUNTIF($G7:$AK7,MID(AM$5,7,3))) -> #N/A | AN7: =IF($A7="","",COUNTIF($G7:$AK7,MID(AN$5,7,3))) -> #N/A
A8: {=IF(ROWS($1:2)>COUNTA(ListeCollab),"",INDEX(ListeCollab,ROWS($1:2)))} | B8: =IF($A8="","",VLOOKUP($A8,[2]DR!$C$2:$AO$200,3,FALSE)) | C8: =IF($A8="","",VLOOKUP($A8,[2]DR!$C$2:$AO$200,5,FALSE)) | D8: =IF($A8="","",VLOOKUP($A8,[1]DR!$C$2:$AO$200,33,FALSE)) | E8: =IF($A8="","",VLOOKUP($A8,[1]DR!$C$2:$AO$200,37,FALSE)) | F8: =IF($A8="","",VLOOKUP($A8,[1]DR!$C$2:$AO$200,39,FALSE)) | H8: CP | I8: CA | J8: RTT | AL8: =IF($A8="","",COUNTIF($G8:$AK8,MID(AL$5,7,3))) | AM8: =IF($A8="","",COUNTIF($G8:$AK8,MID(AM$5,7,3))) | AN8: =IF($A8="","",COUNTIF($G8:$AK8,MID(AN$5,7,3)))
A9: {=IF(ROWS($1:3)>COUNTA(ListeCollab),"",INDEX(ListeCollab,ROWS($1:3)))} | B9: =IF($A9="","",VLOOKUP($A9,[2]DR!$C$2:$AO$200,3,FALSE)) | C9: =IF($A9="","",VLOOKUP($A9,[2]DR!$C$2:$AO$200,5,FALSE)) | D9: =IF($A9="","",VLOOKUP($A9,[1]DR!$C$2:$AO$200,33,FALSE)) | E9: =IF($A9="","",VLOOKUP($A9,[1]DR!$C$2:$AO$200,37,FALSE)) | F9: =IF($A9="","",VLOOKUP($A9,[1]DR!$C$2:$AO$200,39,FALSE)) | H9: CP | I9: CA | J9: RTT | AL9: =IF($A9="","",COUNTIF($G9:$AK9,MID(AL$5,7,3))) | AM9: =IF($A9="","",COUNTIF($G9:$AK9,MID(AM$5,7,3))) | AN9: =IF($A9="","",COUNTIF($G9:$AK9,MID(AN$5,7,3)))
A10: {=IF(ROWS($1:4)>COUNTA(ListeCollab),"",INDEX(ListeCollab,ROWS($1:4)))} | B10: =IF($A10="","",VLOOKUP($A10,[2]DR!$C$2:$AO$200,3,FALSE)) | C10: =IF($A10="","",VLOOKUP($A10,[2]DR!$C$2:$AO$200,5,FALSE)) | D10: =IF($A10="","",VLOOKUP($A10,[1]DR!$C$2:$AO$200,33,FALSE)) | E10: =IF($A10="","",VLOOKUP($A10,[1]DR!$C$2:$AO$200,37,FALSE)) | F10: =IF($A10="","",VLOOKUP($A10,[1]DR!$C$2:$AO$200,39,FALSE)) | H10: CP | I10: CA | J10: RTT | AL10: =IF($A10="","",COUNTIF($G10:$AK10,MID(AL$5,7,3))) | AM10: =IF($A10="","",COUNTIF($G10:$AK10,MID(AM$5,7,3))) | AN10: =IF($A10="","",COUNTIF($G10:$AK10,MID(AN$5,7,3)))
A11: {=IF(ROWS($1:5)>COUNTA(ListeCollab),"",INDEX(ListeCollab,ROWS($1:5)))} | B11: =IF($A11="","",VLOOKUP($A11,[2]DR!$C$2:$AO$200,3,FALSE)) | C11: =IF($A11="","",VLOOKUP($A11,[2]DR!$C$2:$AO$200,5,FALSE)) | D11: =IF($A11="","",VLOOKUP($A11,[1]DR!$C$2:$AO$200,33,FALSE)) | E11: =IF($A11="","",VLOOKUP($A11,[1]DR!$C$2:$AO$200,37,FALSE)) | F11: =IF($A11="","",VLOOKUP($A11,[1]DR!$C$2:$AO$200,39,FALSE)) | H11: CP | I11: CA | J11: RTT | AL11: =IF($A11="","",COUNTIF($G11:$AK11,MID(AL$5,7,3))) | AM11: =IF($A11="","",COUNTIF($G11:$AK11,MID(AM$5,7,3))) | AN11: =IF($A11="","",COUNTIF($G11:$AK11,MID(AN$5,7,3)))
A12: {=IF(ROWS($1:6)>COUNTA(ListeCollab),"",INDEX(ListeCollab,ROWS($1:6)))} | B12: =IF($A12="","",VLOOKUP($A12,[2]DR!$C$2:$AO$200,3,FALSE)) | C12: =IF($A12="","",VLOOKUP($A12,[2]DR!$C$2:$AO$200,5,FALSE)) | D12: =IF($A12="","",VLOOKUP($A12,[1]DR!$C$2:$AO$200,33,FALSE)) | E12: =IF($A12="","",VLOOKUP($A12,[1]DR!$C$2:$AO$200,37,FALSE)) | F12: =IF($A12="","",VLOOKUP($A12,[1]DR!$C$2:$AO$200,39,FALSE)) | H12: CP | I12: CA | J12: RTT | AL12: =IF($A12="","",COUNTIF($G12:$AK12,MID(AL$5,7,3))) | AM12: =IF($A12="","",COUNTIF($G12:$AK12,MID(AM$5,7,3))) | AN12: =IF($A12="","",COUNTIF($G12:$AK12,MID(AN$5,7,3)))
A13: {=IF(ROWS($1:7)>COUNTA(ListeCollab),"",INDEX(ListeCollab,ROWS($1:7)))} | B13: =IF($A13="","",VLOOKUP($A13,[2]DR!$C$2:$AO$200,3,FALSE)) | C13: =IF($A13="","",VLOOKUP($A13,[2]DR!$C$2:$AO$200,5,FALSE)) | D13: =IF($A13="","",VLOOKUP($A13,[1]DR!$C$2:$AO$200,33,FALSE)) | E13: =IF($A13="","",VLOOKUP($A13,[1]DR!$C$2:$AO$200,37,FALSE)) | F13: =IF($A13="","",VLOOKUP($A13,[1]DR!$C$2:$AO$200,39,FALSE)) | H13: CP | I13: CA | J13: RTT | AL13: =IF($A13="","",COUNTIF($G13:$AK13,MID(AL$5,7,3))) | AM13: =IF($A13="","",COUNTIF($G13:$AK13,MID(AM$5,7,3))) | AN13: =IF($A13="","",COUNTIF($G13:$AK13,MID(AN$5,7,3)))
A14: {=IF(ROWS($1:8)>COUNTA(ListeCollab),"",INDEX(ListeCollab,ROWS($1:8)))} | B14: =IF($A14="","",VLOOKUP($A14,[2]DR!$C$2:$AO$200,3,FALSE)) | C14: =IF($A14="","",VLOOKUP($A14,[2]DR!$C$2:$AO$200,5,FALSE)) | D14: =IF($A14="","",VLOOKUP($A14,[1]DR!$C$2:$AO$200,33,FALSE)) | E14: =IF($A14="","",VLOOKUP($A14,[1]DR!$C$2:$AO$200,37,FALSE)) | F14: =IF($A14="","",VLOOKUP($A14,[1]DR!$C$2:$AO$200,39,FALSE)) | H14: CP | I14: CA | J14: RTT | AL14: =IF($A14="","",COUNTIF($G14:$AK14,MID(AL$5,7,3))) | AM14: =IF($A14="","",COUNTIF($G14:$AK14,MID(AM$5,7,3))) | AN14: =IF($A14="","",COUNTIF($G14:$AK14,MID(AN$5,7,3)))
A15: {=IF(ROWS($1:9)>COUNTA(ListeCollab),"",INDEX(ListeCollab,ROWS($1:9)))} | B15: =IF($A15="","",VLOOKUP($A15,[2]DR!$C$2:$AO$200,3,FALSE)) | C15: =IF($A15="","",VLOOKUP($A15,[2]DR!$C$2:$AO$200,5,FALSE)) | D15: =IF($A15="","",VLOOKUP($A15,[1]DR!$C$2:$AO$200,33,FALSE)) | E15: =IF($A15="","",VLOOKUP($A15,[1]DR!$C$2:$AO$200,37,FALSE)) | F15: =IF($A15="","",VLOOKUP($A15,[1]DR!$C$2:$AO$200,39,FALSE)) | H15: CP | I15: CA | J15: RTT | AL15: =IF($A15="","",COUNTIF($G15:$AK15,MID(AL$5,7,3))) | AM15: =IF($A15="","",COUNTIF($G15:$AK15,MID(AM$5,7,3))) | AN15: =IF($A15="","",COUNTIF($G15:$AK15,MID(AN$5,7,3)))
A16: {=IF(ROWS($1:10)>COUNTA(ListeCollab),"",INDEX(ListeCollab,ROWS($1:10)))} | B16: =IF($A16="","",VLOOKUP($A16,[2]DR!$C$2:$AO$200,3,FALSE)) | C16: =IF($A16="","",VLOOKUP($A16,[2]DR!$C$2:$AO$200,5,FALSE)) | D16: =IF($A16="","",VLOOKUP($A16,[1]DR!$C$2:$AO$200,33,FALSE)) | E16: =IF($A16="","",VLOOKUP($A16,[1]DR!$C$2:$AO$200,37,FALSE)) | F16: =IF($A16="","",VLOOKUP($A16,[1]DR!$C$2:$AO$200,39,FALSE)) | AL16: =IF($A16="","",COUNTIF($G16:$AK16,MID(AL$5,7,3))) | AM16: =IF($A16="","",COUNTIF($G16:$AK16,MID(AM$5,7,3))) | AN16: =IF($A16="","",COUNTIF($G16:$AK16,MID(AN$5,7,3)))
A17: {=IF(ROWS($1:11)>COUNTA(ListeCollab),"",INDEX(ListeCollab,ROWS($1:11)))} | B17: =IF($A17="","",VLOOKUP($A17,[2]DR!$C$2:$AO$200,3,FALSE)) | C17: =IF($A17="","",VLOOKUP($A17,[2]DR!$C$2:$AO$200,5,FALSE)) | D17: =IF($A17="","",VLOOKUP($A17,[1]DR!$C$2:$AO$200,33,FALSE)) | E17: =IF($A17="","",VLOOKUP($A17,[1]DR!$C$2:$AO$200,37,FALSE)) | F17: =IF($A17="","",VLOOKUP($A17,[1]DR!$C$2:$AO$200,39,FALSE)) | AL17: =IF($A17="","",COUNTIF($G17:$AK17,MID(AL$5,7,3))) | AM17: =IF($A17="","",COUNTIF($G17:$AK17,MID(AM$5,7,3))) | AN17: =IF($A17="","",COUNTIF($G17:$AK17,MID(AN$5,7,3)))
A18: {=IF(ROWS($1:12)>COUNTA(ListeCollab),"",INDEX(ListeCollab,ROWS($1:12)))} | B18: =IF($A18="","",VLOOKUP($A18,[2]DR!$C$2:$AO$200,3,FALSE)) | C18: =IF($A18="","",VLOOKUP($A18,[2]DR!$C$2:$AO$200,5,FALSE)) | D18: =IF($A18="","",VLOOKUP($A18,[1]DR!$C$2:$AO$200,33,FALSE)) | E18: =IF($A18="","",VLOOKUP($A18,[1]DR!$C$2:$AO$200,37,FALSE)) | F18: =IF($A18="","",VLOOKUP($A18,[1]DR!$C$2:$AO$200,39,FALSE)) | AL18: =IF($A18="","",COUNTIF($G18:$AK18,MID(AL$5,7,3))) | AM18: =IF($A18="","",COUNTIF($G18:$AK18,MID(AM$5,7,3))) | AN18: =IF($A18="","",COUNTIF($G18:$AK18,MID(AN$5,7,3)))
A19: {=IF(ROWS($1:13)>COUNTA(ListeCollab),"",INDEX(ListeCollab,ROWS($1:13)))} | B19: =IF($A19="","",VLOOKUP($A19,[2]DR!$C$2:$AO$200,3,FALSE)) | C19: =IF($A19="","",VLOOKUP($A19,[2]DR!$C$2:$AO$200,5,FALSE)) | D19: =IF($A19="","",VLOOKUP($A19,[1]DR!$C$2:$AO$200,33,FALSE)) | E19: =IF($A19="","",VLOOKUP($A19,[1]DR!$C$2:$AO$200,37,FALSE)) | F19: =IF($A19="","",VLOOKUP($A19,[1]DR!$C$2:$AO$200,39,FALSE)) | AL19: =IF($A19="","",COUNTIF($G19:$AK19,MID(AL$5,7,3))) | AM19: =IF($A19="","",COUNTIF($G19:$AK19,MID(AM$5,7,3))) | AN19: =IF($A19="","",COUNTIF($G19:$AK19,MID(AN$5,7,3)))
A20: {=IF(ROWS($1:14)>COUNTA(ListeCollab),"",INDEX(ListeCollab,ROWS($1:14)))} | B20: =IF($A20="","",VLOOKUP($A20,[2]DR!$C$2:$AO$200,3,FALSE)) | C20: =IF($A20="","",VLOOKUP($A20,[2]DR!$C$2:$AO$200,5,FALSE)) | D20: =IF($A20="","",VLOOKUP($A20,[1]DR!$C$2:$AO$200,33,FALSE)) | E20: =IF($A20="","",VLOOKUP($A20,[1]DR!$C$2:$AO$200,37,FALSE)) | F20: =IF($A20="","",VLOOKUP($A20,[1]DR!$C$2:$AO$200,39,FALSE)) | AL20: =IF($A20="","",COUNTIF($G20:$AK20,MID(AL$5,7,3))) | AM20: =IF($A20="","",COUNTIF($G20:$AK20,MID(AM$5,7,3))) | AN20: =IF($A20="","",COUNTIF($G20:$AK20,MID(AN$5,7,3)))
A21: {=IF(ROWS($1:15)>COUNTA(ListeCollab),"",INDEX(ListeCollab,ROWS($1:15)))} | B21: =IF($A21="","",VLOOKUP($A21,[2]DR!$C$2:$AO$200,3,FALSE)) | C21: =IF($A21="","",VLOOKUP($A21,[2]DR!$C$2:$AO$200,5,FALSE)) | D21: =IF($A21="","",VLOOKUP($A21,[1]DR!$C$2:$AO$200,33,FALSE)) | E21: =IF($A21="","",VLOOKUP($A21,[1]DR!$C$2:$AO$200,37,FALSE)) | F21: =IF($A21="","",VLOOKUP($A21,[1]DR!$C$2:$AO$200,39,FALSE)) | AL21: =IF($A21="","",COUNTIF($G21:$AK21,MID(AL$5,7,3))) | AM21: =IF($A21="","",COUNTIF($G21:$AK21,MID(AM$5,7,3))) | AN21: =IF($A21="","",COUNTIF($G21:$AK21,MID(AN$5,7,3)))
A22: {=IF(ROWS($1:16)>COUNTA(ListeCollab),"",INDEX(ListeCollab,ROWS($1:16)))} | B22: =IF($A22="","",VLOOKUP($A22,[2]DR!$C$2:$AO$200,3,FALSE)) | C22: =IF($A22="","",VLOOKUP($A22,[2]DR!$C$2:$AO$200,5,FALSE)) | D22: =IF($A22="","",VLOOKUP($A22,[1]DR!$C$2:$AO$200,33,FALSE)) | E22: =IF($A22="","",VLOOKUP($A22,[1]DR!$C$2:$AO$200,37,FALSE)) | F22: =IF($A22="","",VLOOKUP($A22,[1]DR!$C$2:$AO$200,39,FALSE)) | AL22: =IF($A22="","",COUNTIF($G22:$AK22,MID(AL$5,7,3))) | AM22: =IF($A22="","",COUNTIF($G22:$AK22,MID(AM$5,7,3))) | AN22: =IF($A22="","",COUNTIF($G22:$AK22,MID(AN$5,7,3)))
A23: {=IF(ROWS($1:17)>COUNTA(ListeCollab),"",INDEX(ListeCollab,ROWS($1:17)))} | B23: =IF($A23="","",VLOOKUP($A23,[2]DR!$C$2:$AO$200,3,FALSE)) | C23: =IF($A23="","",VLOOKUP($A23,[2]DR!$C$2:$AO$200,5,FALSE)) | D23: =IF($A23="","",VLOOKUP($A23,[1]DR!$C$2:$AO$200,33,FALSE)) | E23: =IF($A23="","",VLOOKUP($A23,[1]DR!$C$2:$AO$200,37,FALSE)) | F23: =IF($A23="","",VLOOKUP($A23,[1]DR!$C$2:$AO$200,39,FALSE)) | AL23: =IF($A23="","",COUNTIF($G23:$AK23,MID(AL$5,7,3))) | AM23: =IF($A23="","",COUNTIF($G23:$AK23,MID(AM$5,7,3))) | AN23: =IF($A23="","",COUNTIF($G23:$AK23,MID(AN$5,7,3)))
A24: {=IF(ROWS($1:18)>COUNTA(ListeCollab),"",INDEX(ListeCollab,ROWS($1:18)))} | B24: =IF($A24="","",VLOOKUP($A24,[2]DR!$C$2:$AO$200,3,FALSE)) | C24: =IF($A24="","",VLOOKUP($A24,[2]DR!$C$2:$AO$200,5,FALSE)) | D24: =IF($A24="","",VLOOKUP($A24,[1]DR!$C$2:$AO$200,33,FALSE)) | E24: =IF($A24="","",VLOOKUP($A24,[1]DR!$C$2:$AO$200,37,FALSE)) | F24: =IF($A24="","",VLOOKUP($A24,[1]DR!$C$2:$AO$200,39,FALSE)) | AL24: =IF($A24="","",COUNTIF($G24:$AK24,MID(AL$5,7,3))) | AM24: =IF($A24="","",COUNTIF($G24:$AK24,MID(AM$5,7,3))) | AN24: =IF($A24="","",COUNTIF($G24:$AK24,MID(AN$5,7,3)))
A25: {=IF(ROWS($1:19)>COUNTA(ListeCollab),"",INDEX(ListeCollab,ROWS($1:19)))} | B25: =IF($A25="","",VLOOKUP($A25,[2]DR!$C$2:$AO$200,3,FALSE)) | C25: =IF($A25="","",VLOOKUP($A25,[2]DR!$C$2:$AO$200,5,FALSE)) | D25: =IF($A25="","",VLOOKUP($A25,[1]DR!$C$2:$AO$200,33,FALSE)) | E25: =IF($A25="","",VLOOKUP($A25,[1]DR!$C$2:$AO$200,37,FALSE)) | F25: =IF($A25="","",VLOOKUP($A25,[1]DR!$C$2:$AO$200,39,FALSE)) | AL25: =IF($A25="","",COUNTIF($G25:$AK25,MID(AL$5,7,3))) | AM25: =IF($A25="","",COUNTIF($G25:$AK25,MID(AM$5,7,3))) | AN25: =IF($A25="","",COUNTIF($G25:$AK25,MID(AN$5,7,3)))
A26: {=IF(ROWS($1:20)>COUNTA(ListeCollab),"",INDEX(ListeCollab,ROWS($1:20)))} | B26: =IF($A26="","",VLOOKUP($A26,[2]DR!$C$2:$AO$200,3,FALSE)) | C26: =IF($A26="","",VLOOKUP($A26,[2]DR!$C$2:$AO$200,5,FALSE)) | D26: =IF($A26="","",VLOOKUP($A26,[1]DR!$C$2:$AO$200,33,FALSE)) | E26: =IF($A26="","",VLOOKUP($A26,[1]DR!$C$2:$AO$200,37,FALSE)) | F26: =IF($A26="","",VLOOKUP($A26,[1]DR!$C$2:$AO$200,39,FALSE)) | AL26: =IF($A26="","",COUNTIF($G26:$AK26,MID(AL$5,7,3))) | AM26: =IF($A26="","",COUNTIF($G26:$AK26,MID(AM$5,7,3))) | AN26: =IF($A26="","",COUNTIF($G26:$AK26,MID(AN$5,7,3)))
A27: {=IF(ROWS($1:21)>COUNTA(ListeCollab),"",INDEX(ListeCollab,ROWS($1:21)))} | B27: =IF($A27="","",VLOOKUP($A27,[2]DR!$C$2:$AO$200,3,FALSE)) | C27: =IF($A27="","",VLOOKUP($A27,[2]DR!$C$2:$AO$200,5,FALSE)) | D27: =IF($A27="","",VLOOKUP($A27,[1]DR!$C$2:$AO$200,33,FALSE)) | E27: =IF($A27="","",VLOOKUP($A27,[1]DR!$C$2:$AO$200,37,FALSE)) | F27: =IF($A27="","",VLOOKUP($A27,[1]DR!$C$2:$AO$200,39,FALSE)) | AL27: =IF($A27="","",COUNTIF($G27:$AK27,MID(AL$5,7,3))) | AM27: =IF($A27="","",COUNTIF($G27:$AK27,MID(AM$5,7,3))) | AN27: =IF($A27="","",COUNTIF($G27:$AK27,MID(AN$5,7,3)))
A28: {=IF(ROWS($1:22)>COUNTA(ListeCollab),"",INDEX(ListeCollab,ROWS($1:22)))} | B28: =IF($A28="","",VLOOKUP($A28,[2]DR!$C$2:$AO$200,3,FALSE)) | C28: =IF($A28="","",VLOOKUP($A28,[2]DR!$C$2:$AO$200,5,FALSE)) | D28: =IF($A28="","",VLOOKUP($A28,[1]DR!$C$2:$AO$200,33,FALSE)) | E28: =IF($A28="","",VLOOKUP($A28,[1]DR!$C$2:$AO$200,37,FALSE)) | F28: =IF($A28="","",VLOOKUP($A28,[1]DR!$C$2:$AO$200,39,FALSE)) | AL28: =IF($A28="","",COUNTIF($G28:$AK28,MID(AL$5,7,3))) | AM28: =IF($A28="","",COUNTIF($G28:$AK28,MID(AM$5,7,3))) | AN28: =IF($A28="","",COUNTIF($G28:$AK28,MID(AN$5,7,3)))
A29: {=IF(ROWS($1:23)>COUNTA(ListeCollab),"",INDEX(ListeCollab,ROWS($1:23)))} | B29: =IF($A29="","",VLOOKUP($A29,[2]DR!$C$2:$AO$200,3,FALSE)) | C29: =IF($A29="","",VLOOKUP($A29,[2]DR!$C$2:$AO$200,5,FALSE)) | D29: =IF($A29="","",VLOOKUP($A29,[1]DR!$C$2:$AO$200,33,FALSE)) | E29: =IF($A29="","",VLOOKUP($A29,[1]DR!$C$2:$AO$200,37,FALSE)) | F29: =IF($A29="","",VLOOKUP($A29,[1]DR!$C$2:$AO$200,39,FALSE)) | AL29: =IF($A29="","",COUNTIF($G29:$AK29,MID(AL$5,7,3))) | AM29: =IF($A29="","",COUNTIF($G29:$AK29,MID(AM$5,7,3))) | AN29: =IF($A29="","",COUNTIF($G29:$AK29,MID(AN$5,7,3)))
A30: {=IF(ROWS($1:24)>COUNTA(ListeCollab),"",INDEX(ListeCollab,ROWS($1:24)))} | B30: =IF($A30="","",VLOOKUP($A30,[2]DR!$C$2:$AO$200,3,FALSE)) | C30: =IF($A30="","",VLOOKUP($A30,[2]DR!$C$2:$AO$200,5,FALSE)) | D30: =IF($A30="","",VLOOKUP($A30,[1]DR!$C$2:$AO$200,33,FALSE)) | E30: =IF($A30="","",VLOOKUP($A30,[1]DR!$C$2:$AO$200,37,FALSE)) | F30: =IF($A30="","",VLOOKUP($A30,[1]DR!$C$2:$AO$200,39,FALSE)) | AL30: =IF($A30="","",COUNTIF($G30:$AK30,MID(AL$5,7,3))) | AM30: =IF($A30="","",COUNTIF($G30:$AK30,MID(AM$5,7,3))) | AN30: =IF($A30="","",COUNTIF($G30:$AK30,MID(AN$5,7,3)))
A31: {=IF(ROWS($1:25)>COUNTA(ListeCollab),"",INDEX(ListeCollab,ROWS($1:25)))} | B31: =IF($A31="","",VLOOKUP($A31,[2]DR!$C$2:$AO$200,3,FALSE)) | C31: =IF($A31="","",VLOOKUP($A31,[2]DR!$C$2:$AO$200,5,FALSE)) | D31: =IF($A31="","",VLOOKUP($A31,[1]DR!$C$2:$AO$200,33,FALSE)) | E31: =IF($A31="","",VLOOKUP($A31,[1]DR!$C$2:$AO$200,37,FALSE)) | F31: =IF($A31="","",VLOOKUP($A31,[1]DR!$C$2:$AO$200,39,FALSE)) | AL31: =IF($A31="","",COUNTIF($G31:$AK31,MID(AL$5,7,3))) | AM31: =IF($A31="","",COUNTIF($G31:$AK31,MID(AM$5,7,3))) | AN31: =IF($A31="","",COUNTIF($G31:$AK31,MID(AN$5,7,3)))
A32: {=IF(ROWS($1:26)>COUNTA(ListeCollab),"",INDEX(ListeCollab,ROWS($1:26)))} | B32: =IF($A32="","",VLOOKUP($A32,[2]DR!$C$2:$AO$200,3,FALSE)) | C32: =IF($A32="","",VLOOKUP($A32,[2]DR!$C$2:$AO$200,5,FALSE)) | D32: =IF($A32="","",VLOOKUP($A32,[1]DR!$C$2:$AO$200,33,FALSE)) | E32: =IF($A32="","",VLOOKUP($A32,[1]DR!$C$2:$AO$200,37,FALSE)) | F32: =IF($A32="","",VLOOKUP($A32,[1]DR!$C$2:$AO$200,39,FALSE)) | AL32: =IF($A32="","",COUNTIF($G32:$AK32,MID(AL$5,7,3))) | AM32: =IF($A32="","",COUNTIF($G32:$AK32,MID(AM$5,7,3))) | AN32: =IF($A32="","",COUNTIF($G32:$AK32,MID(AN$5,7,3)))
A33: {=IF(ROWS($1:27)>COUNTA(ListeCollab),"",INDEX(ListeCollab,ROWS($1:27)))} | B33: =IF($A33="","",VLOOKUP($A33,[2]DR!$C$2:$AO$200,3,FALSE)) | C33: =IF($A33="","",VLOOKUP($A33,[2]DR!$C$2:$AO$200,5,FALSE)) | D33: =IF($A33="","",VLOOKUP($A33,[1]DR!$C$2:$AO$200,33,FALSE)) | E33: =IF($A33="","",VLOOKUP($A33,[1]DR!$C$2:$AO$200,37,FALSE)) | F33: =IF($A33="","",VLOOKUP($A33,[1]DR!$C$2:$AO$200,39,FALSE)) | AL33: =IF($A33="","",COUNTIF($G33:$AK33,MID(AL$5,7,3))) | AM33: =IF($A33="","",COUNTIF($G33:$AK33,MID(AM$5,7,3))) | AN33: =IF($A33="","",COUNTIF($G33:$AK33,MID(AN$5,7,3)))
A34: {=IF(ROWS($1:28)>COUNTA(ListeCollab),"",INDEX(ListeCollab,ROWS($1:28)))} | B34: =IF($A34="","",VLOOKUP($A34,[2]DR!$C$2:$AO$200,3,FALSE)) | C34: =IF($A34="","",VLOOKUP($A34,[2]DR!$C$2:$AO$200,5,FALSE)) | D34: =IF($A34="","",VLOOKUP($A34,[1]DR!$C$2:$AO$200,33,FALSE)) | E34: =IF($A34="","",VLOOKUP($A34,[1]DR!$C$2:$AO$200,37,FALSE)) | F34: =IF($A34="","",VLOOKUP($A34,[1]DR!$C$2:$AO$200,39,FALSE)) | AL34: =IF($A34="","",COUNTIF($G34:$AK34,MID(AL$5,7,3))) | AM34: =IF($A34="","",COUNTIF($G34:$AK34,MID(AM$5,7,3))) | AN34: =IF($A34="","",COUNTIF($G34:$AK34,MID(AN$5,7,3)))
A35: {=IF(ROWS($1:29)>COUNTA(ListeCollab),"",INDEX(ListeCollab,ROWS($1:29)))} | B35: =IF($A35="","",VLOOKUP($A35,[2]DR!$C$2:$AO$200,3,FALSE)) | C35: =IF($A35="","",VLOOKUP($A35,[2]DR!$C$2:$AO$200,5,FALSE)) | D35: =IF($A35="","",VLOOKUP($A35,[1]DR!$C$2:$AO$200,33,FALSE)) | E35: =IF($A35="","",VLOOKUP($A35,[1]DR!$C$2:$AO$200,37,FALSE)) | F35: =IF($A35="","",VLOOKUP($A35,[1]DR!$C$2:$AO$200,39,FALSE)) | AL35: =IF($A35="","",COUNTIF($G35:$AK35,MID(AL$5,7,3))) | AM35: =IF($A35="","",COUNTIF($G35:$AK35,MID(AM$5,7,3))) | AN35: =IF($A35="","",COUNTIF($G35:$AK35,MID(AN$5,7,3)))
A36: {=IF(ROWS($1:30)>COUNTA(ListeCollab),"",INDEX(ListeCollab,ROWS($1:30)))} | B36: =IF($A36="","",VLOOKUP($A36,[2]DR!$C$2:$AO$200,3,FALSE)) | C36: =IF($A36="","",VLOOKUP($A36,[2]DR!$C$2:$AO$200,5,FALSE)) | D36: =IF($A36="","",VLOOKUP($A36,[1]DR!$C$2:$AO$200,33,FALSE)) | E36: =IF($A36="","",VLOOKUP($A36,[1]DR!$C$2:$AO$200,37,FALSE)) | F36: =IF($A36="","",VLOOKUP($A36,[1]DR!$C$2:$AO$200,39,FALSE)) | AL36: =IF($A36="","",COUNTIF($G36:$AK36,MID(AL$5,7,3))) | AM36: =IF($A36="","",COUNTIF($G36:$AK36,MID(AM$5,7,3))) | AN36: =IF($A36="","",COUNTIF($G36:$AK36,MID(AN$5,7,3)))

Sheet Juillet
C2: =Sources!N1 -> Année : | D2: =Sources!O4 -> 2020 | H2: P | I2: Présent | L2: ANP | M2: Absence non payée | Q2: F | R2: Jour Férié | V2: M | W2: Maladie
C3: =Sources!N2 -> Mois : | D3: =Sources!O5 -> Juillet | H3: CP | I3: Congés Payés | L3: AP | M3: Absence payée | Q3: CA | R3: Congé Anciéneté | V3: RTT | W3: RTT
A5: =Sources!O3 -> Europe 1 | G5: =DATEVALUE(COLUMNS($B:B)&Sources!$O$5&Sources!$O$4) -> 44013 | H5: =IF(G5="","",IF(MONTH(G5+1)<>MONTH(G5),"",G5+1)) -> 44014 | I5: =IF(H5="","",IF(MONTH(H5+1)<>MONTH(H5),"",H5+1)) -> 44015 | J5: =IF(I5="","",IF(MONTH(I5+1)<>MONTH(I5),"",I5+1)) -> 44016 | K5: =IF(J5="","",IF(MONTH(J5+1)<>MONTH(J5),"",J5+1)) -> 44017 | L5: =IF(K5="","",IF(MONTH(K5+1)<>MONTH(K5),"",K5+1)) -> 44018 | M5: =IF(L5="","",IF(MONTH(L5+1)<>MONTH(L5),"",L5+1)) -> 44019 | N5: =IF(M5="","",IF(MONTH(M5+1)<>MONTH(M5),"",M5+1)) -> 44020 | O5: =IF(N5="","",IF(MONTH(N5+1)<>MONTH(N5),"",N5+1)) -> 44021 | ... AK5: =IF(AJ5="","",IF(MONTH(AJ5+1)<>MONTH(AJ5),"",AJ5+1)) -> 44043 | AL5: =D6 -> Solde CP | AM5: =E6 -> Solde CA | AN5: =F6 -> Solde RTT
A6: Matricule | B6: Noms | C6: Prénoms | D6: Solde CP | E6: Solde CA | F6: Solde RTT
A7: {=IF(ROWS($1:1)>COUNTA(ListeCollab),"",INDEX(ListeCollab,ROWS($1:1)))} -> #N/A | B7: =IF($A7="","",VLOOKUP($A7,[2]DR!$C$2:$AO$200,3,FALSE)) -> #N/A | C7: =IF($A7="","",VLOOKUP($A7,[2]DR!$C$2:$AO$200,5,FALSE)) -> #N/A | D7: =IF($A7="","",VLOOKUP($A7,[2]DR!$C$2:$AO$200,33,FALSE)) -> #N/A | E7: =IF($A7="","",VLOOKUP($A7,[2]DR!$C$2:$AO$200,37,FALSE)) -> #N/A | F7: =IF($A7="","",VLOOKUP($A7,[2]DR!$C$2:$AO$200,39,FALSE)) -> #N/A | AL7: =IF($A7="","",D7-COUNTIF($G7:$AK7,MID(AL$5,7,3))) -> #N/A | AM7: =IF($A7="","",E7-COUNTIF($G7:$AK7,MID(AM$5,7,3))) -> #N/A | AN7: =IF($A7="","",F7-COUNTIF($G7:$AK7,MID(AN$5,7,3))) -> #N/A
A8: {=IF(ROWS($1:2)>COUNTA(ListeCollab),"",INDEX(ListeCollab,ROWS($1:2)))} | B8: =IF($A8="","",VLOOKUP($A8,[2]DR!$C$2:$AO$200,3,FALSE)) | C8: =IF($A8="","",VLOOKUP($A8,[2]DR!$C$2:$AO$200,5,FALSE)) | D8: =IF($A8="","",VLOOKUP($A8,[2]DR!$C$2:$AO$200,33,FALSE)) | E8: =IF($A8="","",VLOOKUP($A8,[2]DR!$C$2:$AO$200,37,FALSE)) | F8: =IF($A8="","",VLOOKUP($A8,[2]DR!$C$2:$AO$200,39,FALSE)) | AL8: =IF($A8="","",D8-COUNTIF($G8:$AK8,MID(AL$5,7,3))) | AM8: =IF($A8="","",E8-COUNTIF($G8:$AK8,MID(AM$5,7,3))) | AN8: =IF($A8="","",F8-COUNTIF($G8:$AK8,MID(AN$5,7,3)))
A9: {=IF(ROWS($1:3)>COUNTA(ListeCollab),"",INDEX(ListeCollab,ROWS($1:3)))} | B9: =IF($A9="","",VLOOKUP($A9,[2]DR!$C$2:$AO$200,3,FALSE)) | C9: =IF($A9="","",VLOOKUP($A9,[2]DR!$C$2:$AO$200,5,FALSE)) | D9: =IF($A9="","",VLOOKUP($A9,[2]DR!$C$2:$AO$200,33,FALSE)) | E9: =IF($A9="","",VLOOKUP($A9,[2]DR!$C$2:$AO$200,37,FALSE)) | F9: =IF($A9="","",VLOOKUP($A9,[2]DR!$C$2:$AO$200,39,FALSE)) | AL9: =IF($A9="","",D9-COUNTIF($G9:$AK9,MID(AL$5,7,3))) | AM9: =IF($A9="","",E9-COUNTIF($G9:$AK9,MID(AM$5,7,3))) | AN9: =IF($A9="","",F9-COUNTIF($G9:$AK9,MID(AN$5,7,3)))
A10: {=IF(ROWS($1:4)>COUNTA(ListeCollab),"",INDEX(ListeCollab,ROWS($1:4)))} | B10: =IF($A10="","",VLOOKUP($A10,[2]DR!$C$2:$AO$200,3,FALSE)) | C10: =IF($A10="","",VLOOKUP($A10,[2]DR!$C$2:$AO$200,5,FALSE)) | D10: =IF($A10="","",VLOOKUP($A10,[2]DR!$C$2:$AO$200,33,FALSE)) | E10: =IF($A10="","",VLOOKUP($A10,[2]DR!$C$2:$AO$200,37,FALSE)) | F10: =IF($A10="","",VLOOKUP($A10,[2]DR!$C$2:$AO$200,39,FALSE)) | AL10: =IF($A10="","",D10-COUNTIF($G10:$AK10,MID(AL$5,7,3))) | AM10: =IF($A10="","",E10-COUNTIF($G10:$AK10,MID(AM$5,7,3))) | AN10: =IF($A10="","",F10-COUNTIF($G10:$AK10,MID(AN$5,7,3)))
A11: {=IF(ROWS($1:5)>COUNTA(ListeCollab),"",INDEX(ListeCollab,ROWS($1:5)))} | B11: =IF($A11="","",VLOOKUP($A11,[2]DR!$C$2:$AO$200,3,FALSE)) | C11: =IF($A11="","",VLOOKUP($A11,[2]DR!$C$2:$AO$200,5,FALSE)) | D11: =IF($A11="","",VLOOKUP($A11,[2]DR!$C$2:$AO$200,33,FALSE)) | E11: =IF($A11="","",VLOOKUP($A11,[2]DR!$C$2:$AO$200,37,FALSE)) | F11: =IF($A11="","",VLOOKUP($A11,[2]DR!$C$2:$AO$200,39,FALSE)) | AL11: =IF($A11="","",D11-COUNTIF($G11:$AK11,MID(AL$5,7,3))) | AM11: =IF($A11="","",E11-COUNTIF($G11:$AK11,MID(AM$5,7,3))) | AN11: =IF($A11="","",F11-COUNTIF($G11:$AK11,MID(AN$5,7,3)))
A12: {=IF(ROWS($1:6)>COUNTA(ListeCollab),"",INDEX(ListeCollab,ROWS($1:6)))} | B12: =IF($A12="","",VLOOKUP($A12,[2]DR!$C$2:$AO$200,3,FALSE)) | C12: =IF($A12="","",VLOOKUP($A12,[2]DR!$C$2:$AO$200,5,FALSE)) | D12: =IF($A12="","",VLOOKUP($A12,[2]DR!$C$2:$AO$200,33,FALSE)) | E12: =IF($A12="","",VLOOKUP($A12,[2]DR!$C$2:$AO$200,37,FALSE)) | F12: =IF($A12="","",VLOOKUP($A12,[2]DR!$C$2:$AO$200,39,FALSE)) | AL12: =IF($A12="","",D12-COUNTIF($G12:$AK12,MID(AL$5,7,3))) | AM12: =IF($A12="","",E12-COUNTIF($G12:$AK12,MID(AM$5,7,3))) | AN12: =IF($A12="","",F12-COUNTIF($G12:$AK12,MID(AN$5,7,3)))
A13: {=IF(ROWS($1:7)>COUNTA(ListeCollab),"",INDEX(ListeCollab,ROWS($1:7)))} | B13: =IF($A13="","",VLOOKUP($A13,[2]DR!$C$2:$AO$200,3,FALSE)) | C13: =IF($A13="","",VLOOKUP($A13,[2]DR!$C$2:$AO$200,5,FALSE)) | D13: =IF($A13="","",VLOOKUP($A13,[2]DR!$C$2:$AO$200,33,FALSE)) | E13: =IF($A13="","",VLOOKUP($A13,[2]DR!$C$2:$AO$200,37,FALSE)) | F13: =IF($A13="","",VLOOKUP($A13,[2]DR!$C$2:$AO$200,39,FALSE)) | AL13: =IF($A13="","",D13-COUNTIF($G13:$AK13,MID(AL$5,7,3))) | AM13: =IF($A13="","",E13-COUNTIF($G13:$AK13,MID(AM$5,7,3))) | AN13: =IF($A13="","",F13-COUNTIF($G13:$AK13,MID(AN$5,7,3)))
A14: {=IF(ROWS($1:8)>COUNTA(ListeCollab),"",INDEX(ListeCollab,ROWS($1:8)))} | B14: =IF($A14="","",VLOOKUP($A14,[2]DR!$C$2:$AO$200,3,FALSE)) | C14: =IF($A14="","",VLOOKUP($A14,[2]DR!$C$2:$AO$200,5,FALSE)) | D14: =IF($A14="","",VLOOKUP($A14,[2]DR!$C$2:$AO$200,33,FALSE)) | E14: =IF($A14="","",VLOOKUP($A14,[2]DR!$C$2:$AO$200,37,FALSE)) | F14: =IF($A14="","",VLOOKUP($A14,[2]DR!$C$2:$AO$200,39,FALSE)) | AL14: =IF($A14="","",D14-COUNTIF($G14:$AK14,MID(AL$5,7,3))) | AM14: =IF($A14="","",E14-COUNTIF($G14:$AK14,MID(AM$5,7,3))) | AN14: =IF($A14="","",F14-COUNTIF($G14:$AK14,MID(AN$5,7,3)))
A15: {=IF(ROWS($1:9)>COUNTA(ListeCollab),"",INDEX(ListeCollab,ROWS($1:9)))} | B15: =IF($A15="","",VLOOKUP($A15,[2]DR!$C$2:$AO$200,3,FALSE)) | C15: =IF($A15="","",VLOOKUP($A15,[2]DR!$C$2:$AO$200,5,FALSE)) | D15: =IF($A15="","",VLOOKUP($A15,[2]DR!$C$2:$AO$200,33,FALSE)) | E15: =IF($A15="","",VLOOKUP($A15,[2]DR!$C$2:$AO$200,37,FALSE)) | F15: =IF($A15="","",VLOOKUP($A15,[2]DR!$C$2:$AO$200,39,FALSE)) | AL15: =IF($A15="","",D15-COUNTIF($G15:$AK15,MID(AL$5,7,3))) | AM15: =IF($A15="","",E15-COUNTIF($G15:$AK15,MID(AM$5,7,3))) | AN15: =IF($A15="","",F15-COUNTIF($G15:$AK15,MID(AN$5,7,3)))
A16: {=IF(ROWS($1:10)>COUNTA(ListeCollab),"",INDEX(ListeCollab,ROWS($1:10)))} | B16: =IF($A16="","",VLOOKUP($A16,[2]DR!$C$2:$AO$200,3,FALSE)) | C16: =IF($A16="","",VLOOKUP($A16,[2]DR!$C$2:$AO$200,5,FALSE)) | D16: =IF($A16="","",VLOOKUP($A16,[2]DR!$C$2:$AO$200,33,FALSE)) | E16: =IF($A16="","",VLOOKUP($A16,[2]DR!$C$2:$AO$200,37,FALSE)) | F16: =IF($A16="","",VLOOKUP($A16,[2]DR!$C$2:$AO$200,39,FALSE)) | AL16: =IF($A16="","",D16-COUNTIF($G16:$AK16,MID(AL$5,7,3))) | AM16: =IF($A16="","",E16-COUNTIF($G16:$AK16,MID(AM$5,7,3))) | AN16: =IF($A16="","",F16-COUNTIF($G16:$AK16,MID(AN$5,7,3)))
A17: {=IF(ROWS($1:11)>COUNTA(ListeCollab),"",INDEX(ListeCollab,ROWS($1:11)))} | B17: =IF($A17="","",VLOOKUP($A17,[2]DR!$C$2:$AO$200,3,FALSE)) | C17: =IF($A17="","",VLOOKUP($A17,[2]DR!$C$2:$AO$200,5,FALSE)) | D17: =IF($A17="","",VLOOKUP($A17,[2]DR!$C$2:$AO$200,33,FALSE)) | E17: =IF($A17="","",VLOOKUP($A17,[2]DR!$C$2:$AO$200,37,FALSE)) | F17: =IF($A17="","",VLOOKUP($A17,[2]DR!$C$2:$AO$200,39,FALSE)) | AL17: =IF($A17="","",D17-COUNTIF($G17:$AK17,MID(AL$5,7,3))) | AM17: =IF($A17="","",E17-COUNTIF($G17:$AK17,MID(AM$5,7,3))) | AN17: =IF($A17="","",F17-COUNTIF($G17:$AK17,MID(AN$5,7,3)))
A18: {=IF(ROWS($1:12)>COUNTA(ListeCollab),"",INDEX(ListeCollab,ROWS($1:12)))} | B18: =IF($A18="","",VLOOKUP($A18,[2]DR!$C$2:$AO$200,3,FALSE)) | C18: =IF($A18="","",VLOOKUP($A18,[2]DR!$C$2:$AO$200,5,FALSE)) | D18: =IF($A18="","",VLOOKUP($A18,[2]DR!$C$2:$AO$200,33,FALSE)) | E18: =IF($A18="","",VLOOKUP($A18,[2]DR!$C$2:$AO$200,37,FALSE)) | F18: =IF($A18="","",VLOOKUP($A18,[2]DR!$C$2:$AO$200,39,FALSE)) | AL18: =IF($A18="","",D18-COUNTIF($G18:$AK18,MID(AL$5,7,3))) | AM18: =IF($A18="","",E18-COUNTIF($G18:$AK18,MID(AM$5,7,3))) | AN18: =IF($A18="","",F18-COUNTIF($G18:$AK18,MID(AN$5,7,3)))
A19: {=IF(ROWS($1:13)>COUNTA(ListeCollab),"",INDEX(ListeCollab,ROWS($1:13)))} | B19: =IF($A19="","",VLOOKUP($A19,[2]DR!$C$2:$AO$200,3,FALSE)) | C19: =IF($A19="","",VLOOKUP($A19,[2]DR!$C$2:$AO$200,5,FALSE)) | D19: =IF($A19="","",VLOOKUP($A19,[2]DR!$C$2:$AO$200,33,FALSE)) | E19: =IF($A19="","",VLOOKUP($A19,[2]DR!$C$2:$AO$200,37,FALSE)) | F19: =IF($A19="","",VLOOKUP($A19,[2]DR!$C$2:$AO$200,39,FALSE)) | AL19: =IF($A19="","",D19-COUNTIF($G19:$AK19,MID(AL$5,7,3))) | AM19: =IF($A19="","",E19-COUNTIF($G19:$AK19,MID(AM$5,7,3))) | AN19: =IF($A19="","",F19-COUNTIF($G19:$AK19,MID(AN$5,7,3)))
A20: {=IF(ROWS($1:14)>COUNTA(ListeCollab),"",INDEX(ListeCollab,ROWS($1:14)))} | B20: =IF($A20="","",VLOOKUP($A20,[2]DR!$C$2:$AO$200,3,FALSE)) | C20: =IF($A20="","",VLOOKUP($A20,[2]DR!$C$2:$AO$200,5,FALSE)) | D20: =IF($A20="","",VLOOKUP($A20,[2]DR!$C$2:$AO$200,33,FALSE)) | E20: =IF($A20="","",VLOOKUP($A20,[2]DR!$C$2:$AO$200,37,FALSE)) | F20: =IF($A20="","",VLOOKUP($A20,[2]DR!$C$2:$AO$200,39,FALSE)) | AL20: =IF($A20="","",D20-COUNTIF($G20:$AK20,MID(AL$5,7,3))) | AM20: =IF($A20="","",E20-COUNTIF($G20:$AK20,MID(AM$5,7,3))) | AN20: =IF($A20="","",F20-COUNTIF($G20:$AK20,MID(AN$5,7,3)))
A21: {=IF(ROWS($1:15)>COUNTA(ListeCollab),"",INDEX(ListeCollab,ROWS($1:15)))} | B21: =IF($A21="","",VLOOKUP($A21,[2]DR!$C$2:$AO$200,3,FALSE)) | C21: =IF($A21="","",VLOOKUP($A21,[2]DR!$C$2:$AO$200,5,FALSE)) | D21: =IF($A21="","",VLOOKUP($A21,[2]DR!$C$2:$AO$200,33,FALSE)) | E21: =IF($A21="","",VLOOKUP($A21,[2]DR!$C$2:$AO$200,37,FALSE)) | F21: =IF($A21="","",VLOOKUP($A21,[2]DR!$C$2:$AO$200,39,FALSE)) | AL21: =IF($A21="","",D21-COUNTIF($G21:$AK21,MID(AL$5,7,3))) | AM21: =IF($A21="","",E21-COUNTIF($G21:$AK21,MID(AM$5,7,3))) | AN21: =IF($A21="","",F21-COUNTIF($G21:$AK21,MID(AN$5,7,3)))
A22: {=IF(ROWS($1:16)>COUNTA(ListeCollab),"",INDEX(ListeCollab,ROWS($1:16)))} | B22: =IF($A22="","",VLOOKUP($A22,[2]DR!$C$2:$AO$200,3,FALSE)) | C22: =IF($A22="","",VLOOKUP($A22,[2]DR!$C$2:$AO$200,5,FALSE)) | D22: =IF($A22="","",VLOOKUP($A22,[2]DR!$C$2:$AO$200,33,FALSE)) | E22: =IF($A22="","",VLOOKUP($A22,[2]DR!$C$2:$AO$200,37,FALSE)) | F22: =IF($A22="","",VLOOKUP($A22,[2]DR!$C$2:$AO$200,39,FALSE)) | AL22: =IF($A22="","",D22-COUNTIF($G22:$AK22,MID(AL$5,7,3))) | AM22: =IF($A22="","",E22-COUNTIF($G22:$AK22,MID(AM$5,7,3))) | AN22: =IF($A22="","",F22-COUNTIF($G22:$AK22,MID(AN$5,7,3)))
A23: {=IF(ROWS($1:17)>COUNTA(ListeCollab),"",INDEX(ListeCollab,ROWS($1:17)))} | B23: =IF($A23="","",VLOOKUP($A23,[2]DR!$C$2:$AO$200,3,FALSE)) | C23: =IF($A23="","",VLOOKUP($A23,[2]DR!$C$2:$AO$200,5,FALSE)) | D23: =IF($A23="","",VLOOKUP($A23,[2]DR!$C$2:$AO$200,33,FALSE)) | E23: =IF($A23="","",VLOOKUP($A23,[2]DR!$C$2:$AO$200,37,FALSE)) | F23: =IF($A23="","",VLOOKUP($A23,[2]DR!$C$2:$AO$200,39,FALSE)) | AL23: =IF($A23="","",D23-COUNTIF($G23:$AK23,MID(AL$5,7,3))) | AM23: =IF($A23="","",E23-COUNTIF($G23:$AK23,MID(AM$5,7,3))) | AN23: =IF($A23="","",F23-COUNTIF($G23:$AK23,MID(AN$5,7,3)))
A24: {=IF(ROWS($1:18)>COUNTA(ListeCollab),"",INDEX(ListeCollab,ROWS($1:18)))} | B24: =IF($A24="","",VLOOKUP($A24,[2]DR!$C$2:$AO$200,3,FALSE)) | C24: =IF($A24="","",VLOOKUP($A24,[2]DR!$C$2:$AO$200,5,FALSE)) | D24: =IF($A24="","",VLOOKUP($A24,[2]DR!$C$2:$AO$200,33,FALSE)) | E24: =IF($A24="","",VLOOKUP($A24,[2]DR!$C$2:$AO$200,37,FALSE)) | F24: =IF($A24="","",VLOOKUP($A24,[2]DR!$C$2:$AO$200,39,FALSE)) | AL24: =IF($A24="","",D24-COUNTIF($G24:$AK24,MID(AL$5,7,3))) | AM24: =IF($A24="","",E24-COUNTIF($G24:$AK24,MID(AM$5,7,3))) | AN24: =IF($A24="","",F24-COUNTIF($G24:$AK24,MID(AN$5,7,3)))
A25: {=IF(ROWS($1:19)>COUNTA(ListeCollab),"",INDEX(ListeCollab,ROWS($1:19)))} | B25: =IF($A25="","",VLOOKUP($A25,[2]DR!$C$2:$AO$200,3,FALSE)) | C25: =IF($A25="","",VLOOKUP($A25,[2]DR!$C$2:$AO$200,5,FALSE)) | D25: =IF($A25="","",VLOOKUP($A25,[2]DR!$C$2:$AO$200,33,FALSE)) | E25: =IF($A25="","",VLOOKUP($A25,[2]DR!$C$2:$AO$200,37,FALSE)) | F25: =IF($A25="","",VLOOKUP($A25,[2]DR!$C$2:$AO$200,39,FALSE)) | AL25: =IF($A25="","",D25-COUNTIF($G25:$AK25,MID(AL$5,7,3))) | AM25: =IF($A25="","",E25-COUNTIF($G25:$AK25,MID(AM$5,7,3))) | AN25: =IF($A25="","",F25-COUNTIF($G25:$AK25,MID(AN$5,7,3)))
A26: {=IF(ROWS($1:20)>COUNTA(ListeCollab),"",INDEX(ListeCollab,ROWS($1:20)))} | B26: =IF($A26="","",VLOOKUP($A26,[2]DR!$C$2:$AO$200,3,FALSE)) | C26: =IF($A26="","",VLOOKUP($A26,[2]DR!$C$2:$AO$200,5,FALSE)) | D26: =IF($A26="","",VLOOKUP($A26,[2]DR!$C$2:$AO$200,33,FALSE)) | E26: =IF($A26="","",VLOOKUP($A26,[2]DR!$C$2:$AO$200,37,FALSE)) | F26: =IF($A26="","",VLOOKUP($A26,[2]DR!$C$2:$AO$200,39,FALSE)) | AL26: =IF($A26="","",D26-COUNTIF($G26:$AK26,MID(AL$5,7,3))) | AM26: =IF($A26="","",E26-COUNTIF($G26:$AK26,MID(AM$5,7,3))) | AN26: =IF($A26="","",F26-COUNTIF($G26:$AK26,MID(AN$5,7,3)))
A27: {=IF(ROWS($1:21)>COUNTA(ListeCollab),"",INDEX(ListeCollab,ROWS($1:21)))} | B27: =IF($A27="","",VLOOKUP($A27,[2]DR!$C$2:$AO$200,3,FALSE)) | C27: =IF($A27="","",VLOOKUP($A27,[2]DR!$C$2:$AO$200,5,FALSE)) | D27: =IF($A27="","",VLOOKUP($A27,[2]DR!$C$2:$AO$200,33,FALSE)) | E27: =IF($A27="","",VLOOKUP($A27,[2]DR!$C$2:$AO$200,37,FALSE)) | F27: =IF($A27="","",VLOOKUP($A27,[2]DR!$C$2:$AO$200,39,FALSE)) | AL27: =IF($A27="","",D27-COUNTIF($G27:$AK27,MID(AL$5,7,3))) | AM27: =IF($A27="","",E27-COUNTIF($G27:$AK27,MID(AM$5,7,3))) | AN27: =IF($A27="","",F27-COUNTIF($G27:$AK27,MID(AN$5,7,3)))
A28: {=IF(ROWS($1:22)>COUNTA(ListeCollab),"",INDEX(ListeCollab,ROWS($1:22)))} | B28: =IF($A28="","",VLOOKUP($A28,[2]DR!$C$2:$AO$200,3,FALSE)) | C28: =IF($A28="","",VLOOKUP($A28,[2]DR!$C$2:$AO$200,5,FALSE)) | D28: =IF($A28="","",VLOOKUP($A28,[2]DR!$C$2:$AO$200,33,FALSE)) | E28: =IF($A28="","",VLOOKUP($A28,[2]DR!$C$2:$AO$200,37,FALSE)) | F28: =IF($A28="","",VLOOKUP($A28,[2]DR!$C$2:$AO$200,39,FALSE)) | AL28: =IF($A28="","",D28-COUNTIF($G28:$AK28,MID(AL$5,7,3))) | AM28: =IF($A28="","",E28-COUNTIF($G28:$AK28,MID(AM$5,7,3))) | AN28: =IF($A28="","",F28-COUNTIF($G28:$AK28,MID(AN$5,7,3)))
A29: {=IF(ROWS($1:23)>COUNTA(ListeCollab),"",INDEX(ListeCollab,ROWS($1:23)))} | B29: =IF($A29="","",VLOOKUP($A29,[2]DR!$C$2:$AO$200,3,FALSE)) | C29: =IF($A29="","",VLOOKUP($A29,[2]DR!$C$2:$AO$200,5,FALSE)) | D29: =IF($A29="","",VLOOKUP($A29,[2]DR!$C$2:$AO$200,33,FALSE)) | E29: =IF($A29="","",VLOOKUP($A29,[2]DR!$C$2:$AO$200,37,FALSE)) | F29: =IF($A29="","",VLOOKUP($A29,[2]DR!$C$2:$AO$200,39,FALSE)) | AL29: =IF($A29="","",D29-COUNTIF($G29:$AK29,MID(AL$5,7,3))) | AM29: =IF($A29="","",E29-COUNTIF($G29:$AK29,MID(AM$5,7,3))) | AN29: =IF($A29="","",F29-COUNTIF($G29:$AK29,MID(AN$5,7,3)))
A30: {=IF(ROWS($1:24)>COUNTA(ListeCollab),"",INDEX(ListeCollab,ROWS($1:24)))} | B30: =IF($A30="","",VLOOKUP($A30,[2]DR!$C$2:$AO$200,3,FALSE)) | C30: =IF($A30="","",VLOOKUP($A30,[2]DR!$C$2:$AO$200,5,FALSE)) | D30: =IF($A30="","",VLOOKUP($A30,[2]DR!$C$2:$AO$200,33,FALSE)) | E30: =IF($A30="","",VLOOKUP($A30,[2]DR!$C$2:$AO$200,37,FALSE)) | F30: =IF($A30="","",VLOOKUP($A30,[2]DR!$C$2:$AO$200,39,FALSE)) | AL30: =IF($A30="","",D30-COUNTIF($G30:$AK30,MID(AL$5,7,3))) | AM30: =IF($A30="","",E30-COUNTIF($G30:$AK30,MID(AM$5,7,3))) | AN30: =IF($A30="","",F30-COUNTIF($G30:$AK30,MID(AN$5,7,3)))
A31: {=IF(ROWS($1:25)>COUNTA(ListeCollab),"",INDEX(ListeCollab,ROWS($1:25)))} | B31: =IF($A31="","",VLOOKUP($A31,[2]DR!$C$2:$AO$200,3,FALSE)) | C31: =IF($A31="","",VLOOKUP($A31,[2]DR!$C$2:$AO$200,5,FALSE)) | D31: =IF($A31="","",VLOOKUP($A31,[2]DR!$C$2:$AO$200,33,FALSE)) | E31: =IF($A31="","",VLOOKUP($A31,[2]DR!$C$2:$AO$200,37,FALSE)) | F31: =IF($A31="","",VLOOKUP($A31,[2]DR!$C$2:$AO$200,39,FALSE)) | AL31: =IF($A31="","",D31-COUNTIF($G31:$AK31,MID(AL$5,7,3))) | AM31: =IF($A31="","",E31-COUNTIF($G31:$AK31,MID(AM$5,7,3))) | AN31: =IF($A31="","",F31-COUNTIF($G31:$AK31,MID(AN$5,7,3)))
A32: {=IF(ROWS($1:26)>COUNTA(ListeCollab),"",INDEX(ListeCollab,ROWS($1:26)))} | B32: =IF($A32="","",VLOOKUP($A32,[2]DR!$C$2:$AO$200,3,FALSE)) | C32: =IF($A32="","",VLOOKUP($A32,[2]DR!$C$2:$AO$200,5,FALSE)) | D32: =IF($A32="","",VLOOKUP($A32,[2]DR!$C$2:$AO$200,33,FALSE)) | E32: =IF($A32="","",VLOOKUP($A32,[2]DR!$C$2:$AO$200,37,FALSE)) | F32: =IF($A32="","",VLOOKUP($A32,[2]DR!$C$2:$AO$200,39,FALSE)) | AL32: =IF($A32="","",D32-COUNTIF($G32:$AK32,MID(AL$5,7,3))) | AM32: =IF($A32="","",E32-COUNTIF($G32:$AK32,MID(AM$5,7,3))) | AN32: =IF($A32="","",F32-COUNTIF($G32:$AK32,MID(AN$5,7,3)))
A33: {=IF(ROWS($1:27)>COUNTA(ListeCollab),"",INDEX(ListeCollab,ROWS($1:27)))} | B33: =IF($A33="","",VLOOKUP($A33,[2]DR!$C$2:$AO$200,3,FALSE)) | C33: =IF($A33="","",VLOOKUP($A33,[2]DR!$C$2:$AO$200,5,FALSE)) | D33: =IF($A33="","",VLOOKUP($A33,[2]DR!$C$2:$AO$200,33,FALSE)) | E33: =IF($A33="","",VLOOKUP($A33,[2]DR!$C$2:$AO$200,37,FALSE)) | F33: =IF($A33="","",VLOOKUP($A33,[2]DR!$C$2:$AO$200,39,FALSE)) | AL33: =IF($A33="","",D33-COUNTIF($G33:$AK33,MID(AL$5,7,3))) | AM33: =IF($A33="","",E33-COUNTIF($G33:$AK33,MID(AM$5,7,3))) | AN33: =IF($A33="","",F33-COUNTIF($G33:$AK33,MID(AN$5,7,3)))
A34: {=IF(ROWS($1:28)>COUNTA(ListeCollab),"",INDEX(ListeCollab,ROWS($1:28)))} | B34: =IF($A34="","",VLOOKUP($A34,[2]DR!$C$2:$AO$200,3,FALSE)) | C34: =IF($A34="","",VLOOKUP($A34,[2]DR!$C$2:$AO$200,5,FALSE)) | D34: =IF($A34="","",VLOOKUP($A34,[2]DR!$C$2:$AO$200,33,FALSE)) | E34: =IF($A34="","",VLOOKUP($A34,[2]DR!$C$2:$AO$200,37,FALSE)) | F34: =IF($A34="","",VLOOKUP($A34,[2]DR!$C$2:$AO$200,39,FALSE)) | AL34: =IF($A34="","",D34-COUNTIF($G34:$AK34,MID(AL$5,7,3))) | AM34: =IF($A34="","",E34-COUNTIF($G34:$AK34,MID(AM$5,7,3))) | AN34: =IF($A34="","",F34-COUNTIF($G34:$AK34,MID(AN$5,7,3)))
A35: {=IF(ROWS($1:29)>COUNTA(ListeCollab),"",INDEX(ListeCollab,ROWS($1:29)))} | B35: =IF($A35="","",VLOOKUP($A35,[2]DR!$C$2:$AO$200,3,FALSE)) | C35: =IF($A35="","",VLOOKUP($A35,[2]DR!$C$2:$AO$200,5,FALSE)) | D35: =IF($A35="","",VLOOKUP($A35,[2]DR!$C$2:$AO$200,33,FALSE)) | E35: =IF($A35="","",VLOOKUP($A35,[2]DR!$C$2:$AO$200,37,FALSE)) | F35: =IF($A35="","",VLOOKUP($A35,[2]DR!$C$2:$AO$200,39,FALSE)) | AL35: =IF($A35="","",D35-COUNTIF($G35:$AK35,MID(AL$5,7,3))) | AM35: =IF($A35="","",E35-COUNTIF($G35:$AK35,MID(AM$5,7,3))) | AN35: =IF($A35="","",F35-COUNTIF($G35:$AK35,MID(AN$5,7,3)))
A36: {=IF(ROWS($1:30)>COUNTA(ListeCollab),"",INDEX(ListeCollab,ROWS($1:30)))} | B36: =IF($A36="","",VLOOKUP($A36,[2]DR!$C$2:$AO$200,3,FALSE)) | C36: =IF($A36="","",VLOOKUP($A36,[2]DR!$C$2:$AO$200,5,FALSE)) | D36: =IF($A36="","",VLOOKUP($A36,[2]DR!$C$2:$AO$200,33,FALSE)) | E36: =IF($A36="","",VLOOKUP($A36,[2]DR!$C$2:$AO$200,37,FALSE)) | F36: =IF($A36="","",VLOOKUP($A36,[2]DR!$C$2:$AO$200,39,FALSE)) | AL36: =IF($A36="","",D36-COUNTIF($G36:$AK36,MID(AL$5,7,3))) | AM36: =IF($A36="","",E36-COUNTIF($G36:$AK36,MID(AM$5,7,3))) | AN36: =IF($A36="","",F36-COUNTIF($G36:$AK36,MID(AN$5,7,3)))

Sheet Aout
C2: =Sources!N1 -> Année : | D2: =Sources!O7 -> 2020 | H2: P | I2: Présent | L2: ANP | M2: Absence non payée | Q2: F | R2: Jour Férié | V2: M | W2: Maladie
C3: =Sources!N2 -> Mois : | D3: =Sources!O8 -> Août | H3: CP | I3: Congés Payés | L3: AP | M3: Absence payée | Q3: CA | R3: Congé Anciéneté | V3: RTT | W3: RTT
A5: =Sources!O3 -> Europe 1 | G5: =DATEVALUE(COLUMNS($B:B)&Sources!$O$8&Sources!$O$7) -> 44044 | H5: =IF(G5="","",IF(MONTH(G5+1)<>MONTH(G5),"",G5+1)) -> 44045 | I5: =IF(H5="","",IF(MONTH(H5+1)<>MONTH(H5),"",H5+1)) -> 44046 | J5: =IF(I5="","",IF(MONTH(I5+1)<>MONTH(I5),"",I5+1)) -> 44047 | K5: =IF(J5="","",IF(MONTH(J5+1)<>MONTH(J5),"",J5+1)) -> 44048 | L5: =IF(K5="","",IF(MONTH(K5+1)<>MONTH(K5),"",K5+1)) -> 44049 | M5: =IF(L5="","",IF(MONTH(L5+1)<>MONTH(L5),"",L5+1)) -> 44050 | N5: =IF(M5="","",IF(MONTH(M5+1)<>MONTH(M5),"",M5+1)) -> 44051 | O5: =IF(N5="","",IF(MONTH(N5+1)<>MONTH(N5),"",N5+1)) -> 44052 | ... AK5: =IF(AJ5="","",IF(MONTH(AJ5+1)<>MONTH(AJ5),"",AJ5+1)) -> 44074 | AL5: =D6 -> Solde CP | AM5: =E6 -> Solde CA | AN5: =F6 -> Solde RTT
A6: Matricule | B6: Noms | C6: Prénoms | D6: Solde CP | E6: Solde CA | F6: Solde RTT
A7: {=IF(ROWS($1:1)>COUNTA(ListeCollab),"",INDEX(ListeCollab,ROWS($1:1)))} -> #N/A | B7: =IF($A7="","",VLOOKUP($A7,[2]DR!$C$2:$AO$200,3,FALSE)) -> #N/A | C7: =IF($A7="","",VLOOKUP($A7,[2]DR!$C$2:$AO$200,5,FALSE)) -> #N/A | D7: =IF($A7="","",VLOOKUP($A7,[2]DR!$C$2:$AO$200,33,FALSE)) -> #N/A | E7: =IF($A7="","",VLOOKUP($A7,[2]DR!$C$2:$AO$200,37,FALSE)) -> #N/A | F7: =IF($A7="","",VLOOKUP($A7,[2]DR!$C$2:$AO$200,39,FALSE)) -> #N/A | AL7: =IF($A7="","",D7-COUNTIF($G7:$AK7,MID(AL$5,7,3))) -> #N/A | AM7: =IF($A7="","",E7-COUNTIF($G7:$AK7,MID(AM$5,7,3))) -> #N/A | AN7: =IF($A7="","",F7-COUNTIF($G7:$AK7,MID(AN$5,7,3))) -> #N/A
A8: {=IF(ROWS($1:2)>COUNTA(ListeCollab),"",INDEX(ListeCollab,ROWS($1:2)))} | B8: =IF($A8="","",VLOOKUP($A8,[2]DR!$C$2:$AO$200,3,FALSE)) | C8: =IF($A8="","",VLOOKUP($A8,[2]DR!$C$2:$AO$200,5,FALSE)) | D8: =IF($A8="","",VLOOKUP($A8,[2]DR!$C$2:$AO$200,33,FALSE)) | E8: =IF($A8="","",VLOOKUP($A8,[2]DR!$C$2:$AO$200,37,FALSE)) | F8: =IF($A8="","",VLOOKUP($A8,[2]DR!$C$2:$AO$200,39,FALSE)) | AL8: =IF($A8="","",D8-COUNTIF($G8:$AK8,MID(AL$5,7,3))) | AM8: =IF($A8="","",E8-COUNTIF($G8:$AK8,MID(AM$5,7,3))) | AN8: =IF($A8="","",F8-COUNTIF($G8:$AK8,MID(AN$5,7,3)))
A9: {=IF(ROWS($1:3)>COUNTA(ListeCollab),"",INDEX(ListeCollab,ROWS($1:3)))} | B9: =IF($A9="","",VLOOKUP($A9,[2]DR!$C$2:$AO$200,3,FALSE)) | C9: =IF($A9="","",VLOOKUP($A9,[2]DR!$C$2:$AO$200,5,FALSE)) | D9: =IF($A9="","",VLOOKUP($A9,[2]DR!$C$2:$AO$200,33,FALSE)) | E9: =IF($A9="","",VLOOKUP($A9,[2]DR!$C$2:$AO$200,37,FALSE)) | F9: =IF($A9="","",VLOOKUP($A9,[2]DR!$C$2:$AO$200,39,FALSE)) | AL9: =IF($A9="","",D9-COUNTIF($G9:$AK9,MID(AL$5,7,3))) | AM9: =IF($A9="","",E9-COUNTIF($G9:$AK9,MID(AM$5,7,3))) | AN9: =IF($A9="","",F9-COUNTIF($G9:$AK9,MID(AN$5,7,3)))
A10: {=IF(ROWS($1:4)>COUNTA(ListeCollab),"",INDEX(ListeCollab,ROWS($1:4)))} | B10: =IF($A10="","",VLOOKUP($A10,[2]DR!$C$2:$AO$200,3,FALSE)) | C10: =IF($A10="","",VLOOKUP($A10,[2]DR!$C$2:$AO$200,5,FALSE)) | D10: =IF($A10="","",VLOOKUP($A10,[2]DR!$C$2:$AO$200,33,FALSE)) | E10: =IF($A10="","",VLOOKUP($A10,[2]DR!$C$2:$AO$200,37,FALSE)) | F10: =IF($A10="","",VLOOKUP($A10,[2]DR!$C$2:$AO$200,39,FALSE)) | AL10: =IF($A10="","",D10-COUNTIF($G10:$AK10,MID(AL$5,7,3))) | AM10: =IF($A10="","",E10-COUNTIF($G10:$AK10,MID(AM$5,7,3))) | AN10: =IF($A10="","",F10-COUNTIF($G10:$AK10,MID(AN$5,7,3)))
A11: {=IF(ROWS($1:5)>COUNTA(ListeCollab),"",INDEX(ListeCollab,ROWS($1:5)))} | B11: =IF($A11="","",VLOOKUP($A11,[2]DR!$C$2:$AO$200,3,FALSE)) | C11: =IF($A11="","",VLOOKUP($A11,[2]DR!$C$2:$AO$200,5,FALSE)) | D11: =IF($A11="","",VLOOKUP($A11,[2]DR!$C$2:$AO$200,33,FALSE)) | E11: =IF($A11="","",VLOOKUP($A11,[2]DR!$C$2:$AO$200,37,FALSE)) | F11: =IF($A11="","",VLOOKUP($A11,[2]DR!$C$2:$AO$200,39,FALSE)) | AL11: =IF($A11="","",D11-COUNTIF($G11:$AK11,MID(AL$5,7,3))) | AM11: =IF($A11="","",E11-COUNTIF($G11:$AK11,MID(AM$5,7,3))) | AN11: =IF($A11="","",F11-COUNTIF($G11:$AK11,MID(AN$5,7,3)))
A12: {=IF(ROWS($1:6)>COUNTA(ListeCollab),"",INDEX(ListeCollab,ROWS($1:6)))} | B12: =IF($A12="","",VLOOKUP($A12,[2]DR!$C$2:$AO$200,3,FALSE)) | C12: =IF($A12="","",VLOOKUP($A12,[2]DR!$C$2:$AO$200,5,FALSE)) | D12: =IF($A12="","",VLOOKUP($A12,[2]DR!$C$2:$AO$200,33,FALSE)) | E12: =IF($A12="","",VLOOKUP($A12,[2]DR!$C$2:$AO$200,37,FALSE)) | F12: =IF($A12="","",VLOOKUP($A12,[2]DR!$C$2:$AO$200,39,FALSE)) | AL12: =IF($A12="","",D12-COUNTIF($G12:$AK12,MID(AL$5,7,3))) | AM12: =IF($A12="","",E12-COUNTIF($G12:$AK12,MID(AM$5,7,3))) | AN12: =IF($A12="","",F12-COUNTIF($G12:$AK12,MID(AN$5,7,3)))
A13: {=IF(ROWS($1:7)>COUNTA(ListeCollab),"",INDEX(ListeCollab,ROWS($1:7)))} | B13: =IF($A13="","",VLOOKUP($A13,[2]DR!$C$2:$AO$200,3,FALSE)) | C13: =IF($A13="","",VLOOKUP($A13,[2]DR!$C$2:$AO$200,5,FALSE)) | D13: =IF($A13="","",VLOOKUP($A13,[2]DR!$C$2:$AO$200,33,FALSE)) | E13: =IF($A13="","",VLOOKUP($A13,[2]DR!$C$2:$AO$200,37,FALSE)) | F13: =IF($A13="","",VLOOKUP($A13,[2]DR!$C$2:$AO$200,39,FALSE)) | AL13: =IF($A13="","",D13-COUNTIF($G13:$AK13,MID(AL$5,7,3))) | AM13: =IF($A13="","",E13-COUNTIF($G13:$AK13,MID(AM$5,7,3))) | AN13: =IF($A13="","",F13-COUNTIF($G13:$AK13,MID(AN$5,7,3)))
A14: {=IF(ROWS($1:8)>COUNTA(ListeCollab),"",INDEX(ListeCollab,ROWS($1:8)))} | B14: =IF($A14="","",VLOOKUP($A14,[2]DR!$C$2:$AO$200,3,FALSE)) | C14: =IF($A14="","",VLOOKUP($A14,[2]DR!$C$2:$AO$200,5,FALSE)) | D14: =IF($A14="","",VLOOKUP($A14,[2]DR!$C$2:$AO$200,33,FALSE)) | E14: =IF($A14="","",VLOOKUP($A14,[2]DR!$C$2:$AO$200,37,FALSE)) | F14: =IF($A14="","",VLOOKUP($A14,[2]DR!$C$2:$AO$200,39,FALSE)) | AL14: =IF($A14="","",D14-COUNTIF($G14:$AK14,MID(AL$5,7,3))) | AM14: =IF($A14="","",E14-COUNTIF($G14:$AK14,MID(AM$5,7,3))) | AN14: =IF($A14="","",F14-COUNTIF($G14:$AK14,MID(AN$5,7,3)))
A15: {=IF(ROWS($1:9)>COUNTA(ListeCollab),"",INDEX(ListeCollab,ROWS($1:9)))} | B15: =IF($A15="","",VLOOKUP($A15,[2]DR!$C$2:$AO$200,3,FALSE)) | C15: =IF($A15="","",VLOOKUP($A15,[2]DR!$C$2:$AO$200,5,FALSE)) | D15: =IF($A15="","",VLOOKUP($A15,[2]DR!$C$2:$AO$200,33,FALSE)) | E15: =IF($A15="","",VLOOKUP($A15,[2]DR!$C$2:$AO$200,37,FALSE)) | F15: =IF($A15="","",VLOOKUP($A15,[2]DR!$C$2:$AO$200,39,FALSE)) | AL15: =IF($A15="","",D15-COUNTIF($G15:$AK15,MID(AL$5,7,3))) | AM15: =IF($A15="","",E15-COUNTIF($G15:$AK15,MID(AM$5,7,3))) | AN15: =IF($A15="","",F15-COUNTIF($G15:$AK15,MID(AN$5,7,3)))
A16: {=IF(ROWS($1:10)>COUNTA(ListeCollab),"",INDEX(ListeCollab,ROWS($1:10)))} | B16: =IF($A16="","",VLOOKUP($A16,[2]DR!$C$2:$AO$200,3,FALSE)) | C16: =IF($A16="","",VLOOKUP($A16,[2]DR!$C$2:$AO$200,5,FALSE)) | D16: =IF($A16="","",VLOOKUP($A16,[2]DR!$C$2:$AO$200,33,FALSE)) | E16: =IF($A16="","",VLOOKUP($A16,[2]DR!$C$2:$AO$200,37,FALSE)) | F16: =IF($A16="","",VLOOKUP($A16,[2]DR!$C$2:$AO$200,39,FALSE)) | AL16: =IF($A16="","",D16-COUNTIF($G16:$AK16,MID(AL$5,7,3))) | AM16: =IF($A16="","",E16-COUNTIF($G16:$AK16,MID(AM$5,7,3))) | AN16: =IF($A16="","",F16-COUNTIF($G16:$AK16,MID(AN$5,7,3)))
A17: {=IF(ROWS($1:11)>COUNTA(ListeCollab),"",INDEX(ListeCollab,ROWS($1:11)))} | B17: =IF($A17="","",VLOOKUP($A17,[2]DR!$C$2:$AO$200,3,FALSE)) | C17: =IF($A17="","",VLOOKUP($A17,[2]DR!$C$2:$AO$200,5,FALSE)) | D17: =IF($A17="","",VLOOKUP($A17,[2]DR!$C$2:$AO$200,33,FALSE)) | E17: =IF($A17="","",VLOOKUP($A17,[2]DR!$C$2:$AO$200,37,FALSE)) | F17: =IF($A17="","",VLOOKUP($A17,[2]DR!$C$2:$AO$200,39,FALSE)) | AL17: =IF($A17="","",D17-COUNTIF($G17:$AK17,MID(AL$5,7,3))) | AM17: =IF($A17="","",E17-COUNTIF($G17:$AK17,MID(AM$5,7,3))) | AN17: =IF($A17="","",F17-COUNTIF($G17:$AK17,MID(AN$5,7,3)))
A18: {=IF(ROWS($1:12)>COUNTA(ListeCollab),"",INDEX(ListeCollab,ROWS($1:12)))} | B18: =IF($A18="","",VLOOKUP($A18,[2]DR!$C$2:$AO$200,3,FALSE)) | C18: =IF($A18="","",VLOOKUP($A18,[2]DR!$C$2:$AO$200,5,FALSE)) | D18: =IF($A18="","",VLOOKUP($A18,[2]DR!$C$2:$AO$200,33,FALSE)) | E18: =IF($A18="","",VLOOKUP($A18,[2]DR!$C$2:$AO$200,37,FALSE)) | F18: =IF($A18="","",VLOOKUP($A18,[2]DR!$C$2:$AO$200,39,FALSE)) | AL18: =IF($A18="","",D18-COUNTIF($G18:$AK18,MID(AL$5,7,3))) | AM18: =IF($A18="","",E18-COUNTIF($G18:$AK18,MID(AM$5,7,3))) | AN18: =IF($A18="","",F18-COUNTIF($G18:$AK18,MID(AN$5,7,3)))
A19: {=IF(ROWS($1:13)>COUNTA(ListeCollab),"",INDEX(ListeCollab,ROWS($1:13)))} | B19: =IF($A19="","",VLOOKUP($A19,[2]DR!$C$2:$AO$200,3,FALSE)) | C19: =IF($A19="","",VLOOKUP($A19,[2]DR!$C$2:$AO$200,5,FALSE)) | D19: =IF($A19="","",VLOOKUP($A19,[2]DR!$C$2:$AO$200,33,FALSE)) | E19: =IF($A19="","",VLOOKUP($A19,[2]DR!$C$2:$AO$200,37,FALSE)) | F19: =IF($A19="","",VLOOKUP($A19,[2]DR!$C$2:$AO$200,39,FALSE)) | AL19: =IF($A19="","",D19-COUNTIF($G19:$AK19,MID(AL$5,7,3))) | AM19: =IF($A19="","",E19-COUNTIF($G19:$AK19,MID(AM$5,7,3))) | AN19: =IF($A19="","",F19-COUNTIF($G19:$AK19,MID(AN$5,7,3)))
A20: {=IF(ROWS($1:14)>COUNTA(ListeCollab),"",INDEX(ListeCollab,ROWS($1:14)))} | B20: =IF($A20="","",VLOOKUP($A20,[2]DR!$C$2:$AO$200,3,FALSE)) | C20: =IF($A20="","",VLOOKUP($A20,[2]DR!$C$2:$AO$200,5,FALSE)) | D20: =IF($A20="","",VLOOKUP($A20,[2]DR!$C$2:$AO$200,33,FALSE)) | E20: =IF($A20="","",VLOOKUP($A20,[2]DR!$C$2:$AO$200,37,FALSE)) | F20: =IF($A20="","",VLOOKUP($A20,[2]DR!$C$2:$AO$200,39,FALSE)) | AL20: =IF($A20="","",D20-COUNTIF($G20:$AK20,MID(AL$5,7,3))) | AM20: =IF($A20="","",E20-COUNTIF($G20:$AK20,MID(AM$5,7,3))) | AN20: =IF($A20="","",F20-COUNTIF($G20:$AK20,MID(AN$5,7,3)))
A21: {=IF(ROWS($1:15)>COUNTA(ListeCollab),"",INDEX(ListeCollab,ROWS($1:15)))} | B21: =IF($A21="","",VLOOKUP($A21,[2]DR!$C$2:$AO$200,3,FALSE)) | C21: =IF($A21="","",VLOOKUP($A21,[2]DR!$C$2:$AO$200,5,FALSE)) | D21: =IF($A21="","",VLOOKUP($A21,[2]DR!$C$2:$AO$200,33,FALSE)) | E21: =IF($A21="","",VLOOKUP($A21,[2]DR!$C$2:$AO$200,37,FALSE)) | F21: =IF($A21="","",VLOOKUP($A21,[2]DR!$C$2:$AO$200,39,FALSE)) | AL21: =IF($A21="","",D21-COUNTIF($G21:$AK21,MID(AL$5,7,3))) | AM21: =IF($A21="","",E21-COUNTIF($G21:$AK21,MID(AM$5,7,3))) | AN21: =IF($A21="","",F21-COUNTIF($G21:$AK21,MID(AN$5,7,3)))
A22: {=IF(ROWS($1:16)>COUNTA(ListeCollab),"",INDEX(ListeCollab,ROWS($1:16)))} | B22: =IF($A22="","",VLOOKUP($A22,[2]DR!$C$2:$AO$200,3,FALSE)) | C22: =IF($A22="","",VLOOKUP($A22,[2]DR!$C$2:$AO$200,5,FALSE)) | D22: =IF($A22="","",VLOOKUP($A22,[2]DR!$C$2:$AO$200,33,FALSE)) | E22: =IF($A22="","",VLOOKUP($A22,[2]DR!$C$2:$AO$200,37,FALSE)) | F22: =IF($A22="","",VLOOKUP($A22,[2]DR!$C$2:$AO$200,39,FALSE)) | AL22: =IF($A22="","",D22-COUNTIF($G22:$AK22,MID(AL$5,7,3))) | AM22: =IF($A22="","",E22-COUNTIF($G22:$AK22,MID(AM$5,7,3))) | AN22: =IF($A22="","",F22-COUNTIF($G22:$AK22,MID(AN$5,7,3)))
A23: {=IF(ROWS($1:17)>COUNTA(ListeCollab),"",INDEX(ListeCollab,ROWS($1:17)))} | B23: =IF($A23="","",VLOOKUP($A23,[2]DR!$C$2:$AO$200,3,FALSE)) | C23: =IF($A23="","",VLOOKUP($A23,[2]DR!$C$2:$AO$200,5,FALSE)) | D23: =IF($A23="","",VLOOKUP($A23,[2]DR!$C$2:$AO$200,33,FALSE)) | E23: =IF($A23="","",VLOOKUP($A23,[2]DR!$C$2:$AO$200,37,FALSE)) | F23: =IF($A23="","",VLOOKUP($A23,[2]DR!$C$2:$AO$200,39,FALSE)) | AL23: =IF($A23="","",D23-COUNTIF($G23:$AK23,MID(AL$5,7,3))) | AM23: =IF($A23="","",E23-COUNTIF($G23:$AK23,MID(AM$5,7,3))) | AN23: =IF($A23="","",F23-COUNTIF($G23:$AK23,MID(AN$5,7,3)))
A24: {=IF(ROWS($1:18)>COUNTA(ListeCollab),"",INDEX(ListeCollab,ROWS($1:18)))} | B24: =IF($A24="","",VLOOKUP($A24,[2]DR!$C$2:$AO$200,3,FALSE)) | C24: =IF($A24="","",VLOOKUP($A24,[2]DR!$C$2:$AO$200,5,FALSE)) | D24: =IF($A24="","",VLOOKUP($A24,[2]DR!$C$2:$AO$200,33,FALSE)) | E24: =IF($A24="","",VLOOKUP($A24,[2]DR!$C$2:$AO$200,37,FALSE)) | F24: =IF($A24="","",VLOOKUP($A24,[2]DR!$C$2:$AO$200,39,FALSE)) | AL24: =IF($A24="","",D24-COUNTIF($G24:$AK24,MID(AL$5,7,3))) | AM24: =IF($A24="","",E24-COUNTIF($G24:$AK24,MID(AM$5,7,3))) | AN24: =IF($A24="","",F24-COUNTIF($G24:$AK24,MID(AN$5,7,3)))
A25: {=IF(ROWS($1:19)>COUNTA(ListeCollab),"",INDEX(ListeCollab,ROWS($1:19)))} | B25: =IF($A25="","",VLOOKUP($A25,[2]DR!$C$2:$AO$200,3,FALSE)) | C25: =IF($A25="","",VLOOKUP($A25,[2]DR!$C$2:$AO$200,5,FALSE)) | D25: =IF($A25="","",VLOOKUP($A25,[2]DR!$C$2:$AO$200,33,FALSE)) | E25: =IF($A25="","",VLOOKUP($A25,[2]DR!$C$2:$AO$200,37,FALSE)) | F25: =IF($A25="","",VLOOKUP($A25,[2]DR!$C$2:$AO$200,39,FALSE)) | AL25: =IF($A25="","",D25-COUNTIF($G25:$AK25,MID(AL$5,7,3))) | AM25: =IF($A25="","",E25-COUNTIF($G25:$AK25,MID(AM$5,7,3))) | AN25: =IF($A25="","",F25-COUNTIF($G25:$AK25,MID(AN$5,7,3)))
A26: {=IF(ROWS($1:20)>COUNTA(ListeCollab),"",INDEX(ListeCollab,ROWS($1:20)))} | B26: =IF($A26="","",VLOOKUP($A26,[2]DR!$C$2:$AO$200,3,FALSE)) | C26: =IF($A26="","",VLOOKUP($A26,[2]DR!$C$2:$AO$200,5,FALSE)) | D26: =IF($A26="","",VLOOKUP($A26,[2]DR!$C$2:$AO$200,33,FALSE)) | E26: =IF($A26="","",VLOOKUP($A26,[2]DR!$C$2:$AO$200,37,FALSE)) | F26: =IF($A26="","",VLOOKUP($A26,[2]DR!$C$2:$AO$200,39,FALSE)) | AL26: =IF($A26="","",D26-COUNTIF($G26:$AK26,MID(AL$5,7,3))) | AM26: =IF($A26="","",E26-COUNTIF($G26:$AK26,MID(AM$5,7,3))) | AN26: =IF($A26="","",F26-COUNTIF($G26:$AK26,MID(AN$5,7,3)))
A27: {=IF(ROWS($1:21)>COUNTA(ListeCollab),"",INDEX(ListeCollab,ROWS($1:21)))} | B27: =IF($A27="","",VLOOKUP($A27,[2]DR!$C$2:$AO$200,3,FALSE)) | C27: =IF($A27="","",VLOOKUP($A27,[2]DR!$C$2:$AO$200,5,FALSE)) | D27: =IF($A27="","",VLOOKUP($A27,[2]DR!$C$2:$AO$200,33,FALSE)) | E27: =IF($A27="","",VLOOKUP($A27,[2]DR!$C$2:$AO$200,37,FALSE)) | F27: =IF($A27="","",VLOOKUP($A27,[2]DR!$C$2:$AO$200,39,FALSE)) | AL27: =IF($A27="","",D27-COUNTIF($G27:$AK27,MID(AL$5,7,3))) | AM27: =IF($A27="","",E27-COUNTIF($G27:$AK27,MID(AM$5,7,3))) | AN27: =IF($A27="","",F27-COUNTIF($G27:$AK27,MID(AN$5,7,3)))
A28: {=IF(ROWS($1:22)>COUNTA(ListeCollab),"",INDEX(ListeCollab,ROWS($1:22)))} | B28: =IF($A28="","",VLOOKUP($A28,[2]DR!$C$2:$AO$200,3,FALSE)) | C28: =IF($A28="","",VLOOKUP($A28,[2]DR!$C$2:$AO$200,5,FALSE)) | D28: =IF($A28="","",VLOOKUP($A28,[2]DR!$C$2:$AO$200,33,FALSE)) | E28: =IF($A28="","",VLOOKUP($A28,[2]DR!$C$2:$AO$200,37,FALSE)) | F28: =IF($A28="","",VLOOKUP($A28,[2]DR!$C$2:$AO$200,39,FALSE)) | AL28: =IF($A28="","",D28-COUNTIF($G28:$AK28,MID(AL$5,7,3))) | AM28: =IF($A28="","",E28-COUNTIF($G28:$AK28,MID(AM$5,7,3))) | AN28: =IF($A28="","",F28-COUNTIF($G28:$AK28,MID(AN$5,7,3)))
A29: {=IF(ROWS($1:23)>COUNTA(ListeCollab),"",INDEX(ListeCollab,ROWS($1:23)))} | B29: =IF($A29="","",VLOOKUP($A29,[2]DR!$C$2:$AO$200,3,FALSE)) | C29: =IF($A29="","",VLOOKUP($A29,[2]DR!$C$2:$AO$200,5,FALSE)) | D29: =IF($A29="","",VLOOKUP($A29,[2]DR!$C$2:$AO$200,33,FALSE)) | E29: =IF($A29="","",VLOOKUP($A29,[2]DR!$C$2:$AO$200,37,FALSE)) | F29: =IF($A29="","",VLOOKUP($A29,[2]DR!$C$2:$AO$200,39,FALSE)) | AL29: =IF($A29="","",D29-COUNTIF($G29:$AK29,MID(AL$5,7,3))) | AM29: =IF($A29="","",E29-COUNTIF($G29:$AK29,MID(AM$5,7,3))) | AN29: =IF($A29="","",F29-COUNTIF($G29:$AK29,MID(AN$5,7,3)))
A30: {=IF(ROWS($1:24)>COUNTA(ListeCollab),"",INDEX(ListeCollab,ROWS($1:24)))} | B30: =IF($A30="","",VLOOKUP($A30,[2]DR!$C$2:$AO$200,3,FALSE)) | C30: =IF($A30="","",VLOOKUP($A30,[2]DR!$C$2:$AO$200,5,FALSE)) | D30: =IF($A30="","",VLOOKUP($A30,[2]DR!$C$2:$AO$200,33,FALSE)) | E30: =IF($A30="","",VLOOKUP($A30,[2]DR!$C$2:$AO$200,37,FALSE)) | F30: =IF($A30="","",VLOOKUP($A30,[2]DR!$C$2:$AO$200,39,FALSE)) | AL30: =IF($A30="","",D30-COUNTIF($G30:$AK30,MID(AL$5,7,3))) | AM30: =IF($A30="","",E30-COUNTIF($G30:$AK30,MID(AM$5,7,3))) | AN30: =IF($A30="","",F30-COUNTIF($G30:$AK30,MID(AN$5,7,3)))
A31: {=IF(ROWS($1:25)>COUNTA(ListeCollab),"",INDEX(ListeCollab,ROWS($1:25)))} | B31: =IF($A31="","",VLOOKUP($A31,[2]DR!$C$2:$AO$200,3,FALSE)) | C31: =IF($A31="","",VLOOKUP($A31,[2]DR!$C$2:$AO$200,5,FALSE)) | D31: =IF($A31="","",VLOOKUP($A31,[2]DR!$C$2:$AO$200,33,FALSE)) | E31: =IF($A31="","",VLOOKUP($A31,[2]DR!$C$2:$AO$200,37,FALSE)) | F31: =IF($A31="","",VLOOKUP($A31,[2]DR!$C$2:$AO$200,39,FALSE)) | AL31: =IF($A31="","",D31-COUNTIF($G31:$AK31,MID(AL$5,7,3))) | AM31: =IF($A31="","",E31-COUNTIF($G31:$AK31,MID(AM$5,7,3))) | AN31: =IF($A31="","",F31-COUNTIF($G31:$AK31,MID(AN$5,7,3)))
A32: {=IF(ROWS($1:26)>COUNTA(ListeCollab),"",INDEX(ListeCollab,ROWS($1:26)))} | B32: =IF($A32="","",VLOOKUP($A32,[2]DR!$C$2:$AO$200,3,FALSE)) | C32: =IF($A32="","",VLOOKUP($A32,[2]DR!$C$2:$AO$200,5,FALSE)) | D32: =IF($A32="","",VLOOKUP($A32,[2]DR!$C$2:$AO$200,33,FALSE)) | E32: =IF($A32="","",VLOOKUP($A32,[2]DR!$C$2:$AO$200,37,FALSE)) | F32: =IF($A32="","",VLOOKUP($A32,[2]DR!$C$2:$AO$200,39,FALSE)) | AL32: =IF($A32="","",D32-COUNTIF($G32:$AK32,MID(AL$5,7,3))) | AM32: =IF($A32="","",E32-COUNTIF($G32:$AK32,MID(AM$5,7,3))) | AN32: =IF($A32="","",F32-COUNTIF($G32:$AK32,MID(AN$5,7,3)))
A33: {=IF(ROWS($1:27)>COUNTA(ListeCollab),"",INDEX(ListeCollab,ROWS($1:27)))} | B33: =IF($A33="","",VLOOKUP($A33,[2]DR!$C$2:$AO$200,3,FALSE)) | C33: =IF($A33="","",VLOOKUP($A33,[2]DR!$C$2:$AO$200,5,FALSE)) | D33: =IF($A33="","",VLOOKUP($A33,[2]DR!$C$2:$AO$200,33,FALSE)) | E33: =IF($A33="","",VLOOKUP($A33,[2]DR!$C$2:$AO$200,37,FALSE)) | F33: =IF($A33="","",VLOOKUP($A33,[2]DR!$C$2:$AO$200,39,FALSE)) | AL33: =IF($A33="","",D33-COUNTIF($G33:$AK33,MID(AL$5,7,3))) | AM33: =IF($A33="","",E33-COUNTIF($G33:$AK33,MID(AM$5,7,3))) | AN33: =IF($A33="","",F33-COUNTIF($G33:$AK33,MID(AN$5,7,3)))
A34: {=IF(ROWS($1:28)>COUNTA(ListeCollab),"",INDEX(ListeCollab,ROWS($1:28)))} | B34: =IF($A34="","",VLOOKUP($A34,[2]DR!$C$2:$AO$200,3,FALSE)) | C34: =IF($A34="","",VLOOKUP($A34,[2]DR!$C$2:$AO$200,5,FALSE)) | D34: =IF($A34="","",VLOOKUP($A34,[2]DR!$C$2:$AO$200,33,FALSE)) | E34: =IF($A34="","",VLOOKUP($A34,[2]DR!$C$2:$AO$200,37,FALSE)) | F34: =IF($A34="","",VLOOKUP($A34,[2]DR!$C$2:$AO$200,39,FALSE)) | AL34: =IF($A34="","",D34-COUNTIF($G34:$AK34,MID(AL$5,7,3))) | AM34: =IF($A34="","",E34-COUNTIF($G34:$AK34,MID(AM$5,7,3))) | AN34: =IF($A34="","",F34-COUNTIF($G34:$AK34,MID(AN$5,7,3)))
