Workbook
Name ListeCollab: OFFSET(DR!$C$2,MATCH(VLOOKUP(Calendrier!$F$4,Sources!$G$2:$H$7,2,FALSE),Planning[Site],0)-1,0,COUNTIF(Planning[Site],VLOOKUP(Calendrier!$F$4,Sources!$G$2:$H$7,2,FALSE)))

Sheet DR
A1: Secteur | B1: Site | C1: Matricule | D1: Civilité | E1: Nom | F1: Nom de jeune fille | G1: Prénom | H1: Contrat | I1: Situation Maritale | J1: Horaire Mensuel | K1: Tx Horaire | L1: Salaire | M1: Prime Fonction | N1: Prime PAC | O1: Prime Gestion | P1: Ancienneté Reprise | Q1: CP Acquis | R1: CP Pris | S1: CP Restant | T1: CA Acquis | U1: CA Pris | V1: CA Restant | W1: RTT Acquis | X1: RTT Pris | Y1: RTT Restant
A2: VM | B2: 01049 SAFRAN PARIS SACLAY | C2: 1 | D2: Mr | E2: NOM 80 | G2: Prénom 1 | H2: I | I2: CELIBATAIRE | J2: 151.67 | K2: =L2/J2 -> 10.675809 | L2: 1619.2 | Q2: 25 | S2: =Q2-R2 -> 25 | V2: =T2-U2 -> 0 | W2: 0 | Y2: =W2-X2 -> 0
A3: VM | B3: 01049 SAFRAN PARIS SACLAY | C3: 2 | D3: Mr | E3: NOM 00 | G3: Prénom 2 | H3: I | I3: CELIBATAIRE | J3: 151.67 | K3: =L3/J3 -> 10.170897 | L3: 1542.62 | P3: 150.6 | Q3: 25 | R3: 14 | S3: =Q3-R3 -> 11 | T3: 2 | U3: 0 | V3: =T3-U3 -> 2 | W3: 0 | Y3: =W3-X3 -> 0
A4: VM | B4: 01049 SAFRAN PARIS SACLAY | C4: 3 | D4: Mme | E4: NOM 01 | G4: Prénom 3 | H4: I | I4: CELIBATAIRE | J4: 151.67 | K4: =L4/J4 -> 13.984308 | L4: 2121 | Q4: 25 | S4: =Q4-R4 -> 25 | V4: =T4-U4 -> 0 | W4: 0 | Y4: =W4-X4 -> 0
A5: VM | B5: 01049 SAFRAN PARIS SACLAY | C5: 4 | D5: Mme | E5: NOM 02 | F5: NOM A | G5: Prénom 4 | H5: I | I5: CELIBATAIRE | J5: 151.67 | K5: =L5/J5 -> 10.675809 | L5: 1619.2 | Q5: 25 | S5: =Q5-R5 -> 25 | V5: =T5-U5 -> 0 | W5: 0 | Y5: =W5-X5 -> 0
A6: VM | B6: 01049 SAFRAN PARIS SACLAY | C6: 5 | D6: Mr | E6: NOM 03 | G6: Prénom 5 | H6: I | I6: MARIE(E) | J6: 151.67 | K6: =L6/J6 -> 16.647986 | L6: 2525 | Q6: 25 | R6: 21.5 | S6: =Q6-R6 -> 3.5 | V6: =T6-U6 -> 0 | W6: 5 | Y6: =W6-X6 -> 5
A7: VM | B7: 01049 SAFRAN PARIS SACLAY | C7: 6 | D7: Mr | E7: NOM 04 | G7: Prénom 6 | H7: I | I7: MARIE(E) | J7: 151.67 | K7: =L7/J7 -> 15.494165 | L7: 2350 | Q7: 25 | R7: 21.5 | S7: =Q7-R7 -> 3.5 | V7: =T7-U7 -> 0 | W7: 5 | Y7: =W7-X7 -> 5
A8: VM | B8: 01049 SAFRAN PARIS SACLAY | C8: 7 | D8: Mme | E8: NOM 05 | F8: NOM B | G8: Prénom 7 | H8: I | I8: CELIBATAIRE | J8: 151.67 | K8: =L8/J8 -> 12.652469 | L8: 1919 | Q8: 25 | S8: =Q8-R8 -> 25 | V8: =T8-U8 -> 0 | W8: 0 | Y8: =W8-X8 -> 0
A9: VM | B9: 01049 SAFRAN PARIS SACLAY | C9: 8 | D9: Mme | E9: NOM 06 | G9: Prénom 8 | H9: I | I9: MARIE(E) | J9: 151.67 | K9: =L9/J9 -> 11.208545 | L9: 1700 | Q9: 25 | S9: =Q9-R9 -> 25 | V9: =T9-U9 -> 0 | W9: 0 | Y9: =W9-X9 -> 0
A10: VM | B10: 01049 SAFRAN PARIS SACLAY | C10: 9 | D10: Mr | E10: NOM 07 | G10: Prénom 9 | H10: I | I10: CELIBATAIRE | J10: 151.67 | K10: =L10/J10 -> 11.98655 | L10: 1818 | Q10: 25 | S10: =Q10-R10 -> 25 | V10: =T10-U10 -> 0 | W10: 0 | Y10: =W10-X10 -> 0
A11: VM | B11: 01049 SAFRAN PARIS SACLAY | C11: 10 | D11: Mr | E11: NOM 115 | G11: Prénom 10 | H11: I | I11: DIVORCE(E) | J11: 151.67 | K11: =L11/J11 -> 10.675809 | L11: 1619.2 | Q11: 25 | R11: 22 | S11: =Q11-R11 -> 3 | V11: =T11-U11 -> 0 | W11: 0 | Y11: =W11-X11 -> 0
A12: VM | B12: 01049 SAFRAN PARIS SACLAY | C12: 11 | D12: Mr | E12: NOM 08 | G12: Prénom 11 | H12: I | I12: CELIBATAIRE | J12: 151.67 | K12: =L12/J12 -> 13.186523 | L12: 2000 | Q12: 25 | S12: =Q12-R12 -> 25 | V12: =T12-U12 -> 0 | W12: 0 | Y12: =W12-X12 -> 0
A13: VM | B13: 01049 SAFRAN PARIS SACLAY | C13: 12 | D13: Mr | E13: NOM 09 | G13: Prénom 12 | H13: I | I13: CELIBATAIRE | J13: 151.67 | K13: =L13/J13 -> 19.120459 | L13: 2900 | Q13: 25 | S13: =Q13-R13 -> 25 | V13: =T13-U13 -> 0 | W13: 5 | Y13: =W13-X13 -> 5
A14: VM | B14: 01049 SAFRAN PARIS SACLAY | C14: 13 | D14: Mr | E14: NOM 10 | G14: Prénom 13 | H14: I | I14: CELIBATAIRE | J14: 151.67 | K14: =L14/J14 -> 11.867871 | L14: 1800 | Q14: 25 | S14: =Q14-R14 -> 25 | V14: =T14-U14 -> 0 | W14: 0 | Y14: =W14-X14 -> 0
A15: VM | B15: 01049 SAFRAN PARIS SACLAY | C15: 14 | D15: Mr | E15: NOM 11 | G15: Prénom 14 | H15: I | I15: MARIE(E) | J15: 151.67 | K15: =L15/J15 -> 12.652469 | L15: 1919 | Q15: 25 | R15: 23.5 | S15: =Q15-R15 -> 1.5 | V15: =T15-U15 -> 0 | W15: 0 | Y15: =W15-X15 -> 0
A16: VM | B16: 01049 SAFRAN PARIS SACLAY | C16: 15 | D16: Mr | E16: NOM 12 | G16: Prénom 15 | H16: I | I16: MARIE(E) | J16: 151.67 | K16: =L16/J16 -> 11.208545 | L16: 1700 | Q16: 25 | R16: 22.5 | S16: =Q16-R16 -> 2.5 | V16: =T16-U16 -> 0 | W16: 0 | Y16: =W16-X16 -> 0
A17: VM | B17: 01049 SAFRAN PARIS SACLAY | C17: 16 | D17: Mme | E17: NOM 13 | G17: Prénom 16 | H17: I | I17: MARIE(E) | J17: 151.67 | K17: =L17/J17 -> 14.650227 | L17: 2222 | Q17: 25 | R17: 23.5 | S17: =Q17-R17 -> 1.5 | V17: =T17-U17 -> 0 | W17: 5 | Y17: =W17-X17 -> 5
A18: VM | B18: 01049 SAFRAN PARIS SACLAY | C18: 17 | D18: Mr | E18: NOM 14 | G18: Prénom 17 | H18: I | I18: CELIBATAIRE | J18: 151.67 | K18: =L18/J18 -> 11.343047 | L18: 1720.4 | Q18: 25 | S18: =Q18-R18 -> 25 | V18: =T18-U18 -> 0 | W18: 0 | Y18: =W18-X18 -> 0
A19: VM | B19: 01049 SAFRAN PARIS SACLAY | C19: 18 | D19: Mr | E19: NOM 15 | G19: Prénom 18 | H19: I | I19: CELIBATAIRE | J19: 151.67 | K19: =L19/J19 -> 14.650227 | L19: 2222 | Q19: 25 | S19: =Q19-R19 -> 25 | V19: =T19-U19 -> 0 | W19: 0 | Y19: =W19-X19 -> 0
A20: VM | B20: 01050 SAFRAN CAMPUS | C20: 19 | D20: Mr | E20: NOM 16 | G20: Prénom 19 | H20: I | I20: CELIBATAIRE | J20: 151.67 | K20: =L20/J20 -> 15.164502 | L20: 2300 | Q20: 25 | S20: =Q20-R20 -> 25 | V20: =T20-U20 -> 0 | W20: 5 | Y20: =W20-X20 -> 5
A21: VM | B21: 01050 SAFRAN CAMPUS | C21: 20 | D21: Mr | E21: NOM 17 | G21: Prénom 20 | H21: I | I21: MARIE(E) | J21: 151.67 | K21: =L21/J21 -> 15.164502 | L21: 2300 | Q21: 25 | S21: =Q21-R21 -> 25 | V21: =T21-U21 -> 0 | W21: 5 | Y21: =W21-X21 -> 5
A22: VM | B22: 01050 SAFRAN CAMPUS | C22: 21 | D22: Mr | E22: NOM 18 | G22: Prénom 21 | H22: I | I22: CELIBATAIRE | J22: 151.67 | K22: =L22/J22 -> 26.373047 | L22: 4000 | Q22: 25 | S22: =Q22-R22 -> 25 | V22: =T22-U22 -> 0 | W22: 10 | Y22: =W22-X22 -> 10
A23: VM | B23: 01050 SAFRAN CAMPUS | C23: 22 | D23: Mme | E23: NOM 19 | F23: NOM C | G23: Prénom 22 | H23: I | I23: MARIE(E) | J23: 151.67 | K23: =L23/J23 -> 12.652469 | L23: 1919 | Q23: 25 | S23: =Q23-R23 -> 25 | V23: =T23-U23 -> 0 | W23: 0 | Y23: =W23-X23 -> 0
A24: VM | B24: 01050 SAFRAN CAMPUS | C24: 23 | D24: Mr | E24: NOM 20 | G24: Prénom 23 | H24: I | I24: MARIE(E) | J24: 151.67 | K24: =L24/J24 -> 12.319509 | L24: 1868.5 | Q24: 25 | S24: =Q24-R24 -> 25 | V24: =T24-U24 -> 0 | W24: 0 | Y24: =W24-X24 -> 0
A25: VM | B25: 01050 SAFRAN CAMPUS | C25: 24 | D25: Mr | E25: NOM 21 | G25: Prénom 24 | H25: I | I25: CELIBATAIRE | J25: 151.67 | K25: =L25/J25 -> 17.109514 | L25: 2595 | P25: 50.4 | Q25: 25 | R25: 20 | S25: =Q25-R25 -> 5 | T25: 2 | U25: 0 | V25: =T25-U25 -> 2 | W25: 5 | Y25: =W25-X25 -> 5
A26: VM | B26: 01050 SAFRAN CAMPUS | C26: 25 | D26: Mr | E26: NOM 22 | G26: Prénom 25 | H26: I | I26: CELIBATAIRE | J26: 151.67 | K26: =L26/J26 -> 15.316147 | L26: 2323 | Q26: 25 | S26: =Q26-R26 -> 25 | V26: =T26-U26 -> 0 | W26: 0 | Y26: =W26-X26 -> 0
A27: VM | B27: 01050 SAFRAN CAMPUS | C27: 26 | D27: Mme | E27: NOM 23 | F27: NOM D | G27: Prénom 26 | H27: I | I27: CELIBATAIRE | J27: 151.67 | K27: =L27/J27 -> 13.984308 | L27: 2121 | Q27: 25 | S27: =Q27-R27 -> 25 | V27: =T27-U27 -> 0 | W27: 0 | Y27: =W27-X27 -> 0
A28: VM | B28: 01050 SAFRAN CAMPUS | C28: 27 | D28: Mme | E28: NOM 24 | F28: NOM E | G28: Prénom 27 | H28: I | I28: MARIE(E) | J28: 151.67 | K28: =L28/J28 -> 12.820795 | L28: 1944.53 | P28: 38.51 | Q28: 25 | R28: 33 | S28: =Q28-R28 -> -8 | T28: 2 | U28: 0 | V28: =T28-U28 -> 2 | W28: 0 | Y28: =W28-X28 -> 0
A29: VM | B29: 01050 SAFRAN CAMPUS | C29: 28 | D29: Mr | E29: NOM 25 | G29: Prénom 28 | H29: I | I29: CELIBATAIRE | J29: 151.67 | K29: =L29/J29 -> 15.316147 | L29: 2323 | Q29: 25 | R29: 24.5 | S29: =Q29-R29 -> 0.5 | V29: =T29-U29 -> 0 | W29: 5 | Y29: =W29-X29 -> 5
A30: VM | B30: 01050 SAFRAN CAMPUS | C30: 29 | D30: Mr | E30: NOM 26 | G30: Prénom 29 | H30: I | I30: MARIE(E) | J30: 151.67 | K30: =L30/J30 -> 11.801938 | L30: 1790 | Q30: 25 | S30: =Q30-R30 -> 25 | V30: =T30-U30 -> 0 | W30: 0 | Y30: =W30-X30 -> 0
A31: VM | B31: 01050 SAFRAN CAMPUS | C31: 30 | D31: Mr | E31: NOM 27 | G31: Prénom 30 | H31: I | I31: CELIBATAIRE | J31: 151.67 | K31: =L31/J31 -> 10.150392 | L31: 1539.51 | Q31: 25 | R31: 2.5 | S31: =Q31-R31 -> 22.5 | V31: =T31-U31 -> 0 | W31: 0 | Y31: =W31-X31 -> 0
A32: VM | B32: 01050 SAFRAN CAMPUS | C32: 31 | D32: Mr | E32: NOM 28 | G32: Prénom 31 | H32: I | I32: CELIBATAIRE | J32: 151.67 | K32: =L32/J32 -> 17.14248 | L32: 2600 | Q32: 25 | R32: 21 | S32: =Q32-R32 -> 4 | V32: =T32-U32 -> 0 | W32: 5 | Y32: =W32-X32 -> 5
A33: VM | B33: 06420 RIE CARRE DAUMESNIL | C33: 32 | D33: Mr | E33: NOM 29 | G33: Prénom 32 | H33: I | I33: MARIE(E) | J33: 151.67 | K33: =L33/J33 -> 11.343047 | L33: 1720.4 | Q33: 25 | S33: =Q33-R33 -> 25 | V33: =T33-U33 -> 0 | W33: 0 | Y33: =W33-X33 -> 0
A34: VM | B34: 06420 RIE CARRE DAUMESNIL | C34: 33 | D34: Mr | E34: NOM 30 | G34: Prénom 33 | H34: I | I34: MARIE(E) | J34: 67.5 | K34: =L34/J34 -> 27.407407 | L34: 1850 | Q34: 25 | S34: =Q34-R34 -> 25 | V34: =T34-U34 -> 0 | W34: 0 | Y34: =W34-X34 -> 0
A35: VM | B35: 06420 RIE CARRE DAUMESNIL | C35: 34 | D35: Mr | E35: NOM 31 | G35: Prénom 34 | H35: I | I35: MARIE(E) | J35: 151.67 | K35: =L35/J35 -> 10.809257 | L35: 1639.44 | Q35: 25 | R35: 12 | S35: =Q35-R35 -> 13 | V35: =T35-U35 -> 0 | W35: 0 | Y35: =W35-X35 -> 0
A36: VM | B36: 06420 RIE CARRE DAUMESNIL | C36: 35 | D36: Mme | E36: NOM 92 | G36: Prénom 35 | H36: I | I36: MARIE(E) | J36: 151.67 | K36: =L36/J36 -> 11.98655 | L36: 1818 | Q36: 25 | S36: =Q36-R36 -> 25 | V36: =T36-U36 -> 0 | W36: 0 | Y36: =W36-X36 -> 0
A37: VM | B37: 06420 RIE CARRE DAUMESNIL | C37: 36 | D37: Mr | E37: NOM 32 | G37: Prénom 36 | H37: I | I37: CELIBATAIRE | J37: 151.67 | K37: =L37/J37 -> 18.963869 | L37: 2876.25 | Q37: 25 | R37: 18.5 | S37: =Q37-R37 -> 6.5 | V37: =T37-U37 -> 0 | W37: 10 | Y37: =W37-X37 -> 10
A38: VM | B38: 06420 RIE CARRE DAUMESNIL | C38: 37 | D38: Mr | E38: NOM 33 | G38: Prénom 37 | H38: I | I38: MARIE(E) | J38: 151.67 | K38: =L38/J38 -> 18.645744 | L38: 2828 | Q38: 25 | S38: =Q38-R38 -> 25 | V38: =T38-U38 -> 0 | W38: 5 | Y38: =W38-X38 -> 5
A39: VM | B39: 06420 RIE CARRE DAUMESNIL | C39: 38 | D39: Mr | E39: NOM 34 | G39: Prénom 38 | H39: I | I39: CELIBATAIRE | J39: 151.67 | K39: =L39/J39 -> 13.84585 | L39: 2100 | Q39: 25 | S39: =Q39-R39 -> 25 | V39: =T39-U39 -> 0 | W39: 0 | Y39: =W39-X39 -> 0
A40: VM | B40: 06420 RIE CARRE DAUMESNIL | C40: 39 | D40: Mr | E40: NOM 35 | G40: Prénom 39 | H40: I | I40: MARIE(E) | J40: 151.67 | K40: =L40/J40 -> 11.571042 | L40: 1754.98 | Q40: 25 | S40: =Q40-R40 -> 25 | V40: =T40-U40 -> 0 | W40: 0 | Y40: =W40-X40 -> 0
...

Sheet Sources
B1: Mois | C1: Numéros | E1: Années | G1: Site | H1: Site2 | I1: Année | J1: =Calendrier!F2 -> 2025 | K1: P | L1: Présent
B2: Janvier | C2: 1 | E2: 2020 | G2: RIE Carre Daumesnil | H2: 06420 RIE CARRE DAUMESNIL | K2: CP | L2: Congés Payés
B3: Février | C3: 2 | E3: 2021 | G3: Europe 1 | H3: 06578 EUROPE 1 | I3: 1er Janvier | J3: =DATE($J$1,1,1) -> 45658 | K3: M | L3: Maladie
B4: Mars | C4: 3 | E4: 2022 | G4: Safran Campus | H4: 01050 SAFRAN CAMPUS | I4: Pâques | J4: =ROUND(DATE($J$1,4,MOD(234-11*MOD($J$1,19),30))/7,)*7-6 -> 45767 | K4: ANP | L4: Absence non payée
B5: Avril | C5: 4 | E5: 2023 | G5: Safran Saclay | H5: 01049 SAFRAN PARIS SACLAY | I5: Lundi de Pâques | J5: =J4+1 -> 45768 | K5: AP | L5: Absence payée
B6: Mai | C6: 5 | E6: 2024 | G6: MGEN Self | H6: 06510 MGEN | I6: 1er Mai | J6: =DATE($J$1,5,1) -> 45778 | K6: RTT | L6: RTT
B7: Juin | C7: 6 | E7: 2025 | G7: MGEN Club | H7: 06512 MGEN CLUB | I7: 43959 | J7: =DATE($J$1,5,8) -> 45785 | K7: F | L7: Jour Férié
B8: Juillet | C8: 7 | E8: 2026 | I8: Ascenscion | J8: =J4+39 -> 45806
B9: Août | C9: 8 | E9: 2027 | I9: Pentecôte | J9: =J4+49 -> 45816
B10: Septembre | C10: 9 | E10: 2028 | I10: Lundi de Pentecôte | J10: =J4+50 -> 45817
B11: Octobre | C11: 10 | E11: 2029 | I11: 44026 | J11: =DATE($J$1,7,14) -> 45852
B12: Novembre | C12: 11 | E12: 2030 | I12: 15 Aout | J12: =DATE($J$1,8,15) -> 45884
B13: Décembre | C13: 12 | E13: 2031 | I13: 1er Novembre | J13: =DATE($J$1,11,1) -> 45962
I14: 44146 | J14: =DATE($J$1,11,11) -> 45972
I15: 44190 | J15: =DATE($J$1,12,25) -> 46016

Sheet Calendrier
E2: Année : | F2: 2025 | H2: P | I2: Présent | L2: ANP | M2: Absence non payée | Q2: F | R2: Jour Férié
E3: Mois : | F3: Novembre | H3: CP | I3: Congés Payés | L3: AP | M3: Absence payée
E4: Sites | F4: Safran Saclay | H4: M | I4: Maladie | L4: RTT | M4: RTT
A6: =F4 -> Safran Saclay | G6: =DATEVALUE(COLUMNS($B:B)&$F$3&$F$2) -> 45962 | H6: =IF(G6="","",IF(MONTH(G6+1)<>MONTH(G6),"",G6+1)) -> 45963 | I6: =IF(H6="","",IF(MONTH(H6+1)<>MONTH(H6),"",H6+1)) -> 45964 | J6: =IF(I6="","",IF(MONTH(I6+1)<>MONTH(I6),"",I6+1)) -> 45965 | K6: =IF(J6="","",IF(MONTH(J6+1)<>MONTH(J6),"",J6+1)) -> 45966 | L6: =IF(K6="","",IF(MONTH(K6+1)<>MONTH(K6),"",K6+1)) -> 45967 | M6: =IF(L6="","",IF(MONTH(L6+1)<>MONTH(L6),"",L6+1)) -> 45968 | N6: =IF(M6="","",IF(MONTH(M6+1)<>MONTH(M6),"",M6+1)) -> 45969 | O6: =IF(N6="","",IF(MONTH(N6+1)<>MONTH(N6),"",N6+1)) -> 45970 | ... AK6: =IF(AJ6="","",IF(MONTH(AJ6+1)<>MONTH(AJ6),"",AJ6+1)) | AL6: =D7 -> Solde CP | AM6: =E7 -> Solde CA | AN6: =F7 -> Solde RTT
A7: Matricule | B7: Noms | C7: Prénoms | D7: Solde CP | E7: Solde CA | F7: Solde RTT
A8: {=IF(ROWS($1:1)>COUNTA(ListeCollab),"",INDEX(ListeCollab,ROWS($1:1)))} -> 1 | B8: =IF($A8="","",VLOOKUP($A8,DR!$C$2:$Y$76,3,FALSE)) -> NOM 80 | C8: =IF($A8="","",VLOOKUP($A8,DR!$C$2:$Y$76,5,FALSE)) -> Prénom 1 | D8: =IF($A8="","",VLOOKUP($A8,DR!$C$2:$Y$76,17,FALSE)) -> 25 | E8: =IF($A8="","",VLOOKUP($A8,DR!$C$2:$Y$76,20,FALSE)) -> 0 | F8: =IF($A8="","",VLOOKUP($A8,DR!$C$2:$Y$76,23,FALSE)) -> 0 | I8: CP | J8: CP | K8: CP | L8: CP | M8: CP
A9: {=IF(ROWS($1:2)>COUNTA(ListeCollab),"",INDEX(ListeCollab,ROWS($1:2)))} -> 2 | B9: =IF($A9="","",VLOOKUP($A9,DR!$C$2:$Y$76,3,FALSE)) -> NOM 00 | C9: =IF($A9="","",VLOOKUP($A9,DR!$C$2:$Y$76,5,FALSE)) -> Prénom 2 | D9: =IF($A9="","",VLOOKUP($A9,DR!$C$2:$Y$76,17,FALSE)) -> 11 | E9: =IF($A9="","",VLOOKUP($A9,DR!$C$2:$Y$76,20,FALSE)) -> 2 | F9: =IF($A9="","",VLOOKUP($A9,DR!$C$2:$Y$76,23,FALSE)) -> 0
A10: {=IF(ROWS($1:3)>COUNTA(ListeCollab),"",INDEX(ListeCollab,ROWS($1:3)))} -> 3 | B10: =IF($A10="","",VLOOKUP($A10,DR!$C$2:$Y$76,3,FALSE)) -> NOM 01 | C10: =IF($A10="","",VLOOKUP($A10,DR!$C$2:$Y$76,5,FALSE)) -> Prénom 3 | D10: =IF($A10="","",VLOOKUP($A10,DR!$C$2:$Y$76,17,FALSE)) -> 25 | E10: =IF($A10="","",VLOOKUP($A10,DR!$C$2:$Y$76,20,FALSE)) -> 0 | F10: =IF($A10="","",VLOOKUP($A10,DR!$C$2:$Y$76,23,FALSE)) -> 0
A11: {=IF(ROWS($1:4)>COUNTA(ListeCollab),"",INDEX(ListeCollab,ROWS($1:4)))} -> 4 | B11: =IF($A11="","",VLOOKUP($A11,DR!$C$2:$Y$76,3,FALSE)) -> NOM 02 | C11: =IF($A11="","",VLOOKUP($A11,DR!$C$2:$Y$76,5,FALSE)) -> Prénom 4 | D11: =IF($A11="","",VLOOKUP($A11,DR!$C$2:$Y$76,17,FALSE)) -> 25 | E11: =IF($A11="","",VLOOKUP($A11,DR!$C$2:$Y$76,20,FALSE)) -> 0 | F11: =IF($A11="","",VLOOKUP($A11,DR!$C$2:$Y$76,23,FALSE)) -> 0
A12: {=IF(ROWS($1:5)>COUNTA(ListeCollab),"",INDEX(ListeCollab,ROWS($1:5)))} -> 5 | B12: =IF($A12="","",VLOOKUP($A12,DR!$C$2:$Y$76,3,FALSE)) -> NOM 03 | C12: =IF($A12="","",VLOOKUP($A12,DR!$C$2:$Y$76,5,FALSE)) -> Prénom 5 | D12: =IF($A12="","",VLOOKUP($A12,DR!$C$2:$Y$76,17,FALSE)) -> 3.5 | E12: =IF($A12="","",VLOOKUP($A12,DR!$C$2:$Y$76,20,FALSE)) -> 0 | F12: =IF($A12="","",VLOOKUP($A12,DR!$C$2:$Y$76,23,FALSE)) -> 5
A13: {=IF(ROWS($1:5)>COUNTA(ListeCollab),"",INDEX(ListeCollab,ROWS($1:5)))} -> 5 | B13: =IF($A13="","",VLOOKUP($A13,DR!$C$2:$Y$76,3,FALSE)) -> NOM 03 | C13: =IF($A13="","",VLOOKUP($A13,DR!$C$2:$Y$76,5,FALSE)) -> Prénom 5 | D13: =IF($A13="","",VLOOKUP($A13,DR!$C$2:$Y$76,17,FALSE)) -> 3.5 | E13: =IF($A13="","",VLOOKUP($A13,DR!$C$2:$Y$76,20,FALSE)) -> 0 | F13: =IF($A13="","",VLOOKUP($A13,DR!$C$2:$Y$76,23,FALSE)) -> 5
A14: {=IF(ROWS($1:6)>COUNTA(ListeCollab),"",INDEX(ListeCollab,ROWS($1:6)))} -> 6 | B14: =IF($A14="","",VLOOKUP($A14,DR!$C$2:$Y$76,3,FALSE)) -> NOM 04 | C14: =IF($A14="","",VLOOKUP($A14,DR!$C$2:$Y$76,5,FALSE)) -> Prénom 6 | D14: =IF($A14="","",VLOOKUP($A14,DR!$C$2:$Y$76,17,FALSE)) -> 3.5 | E14: =IF($A14="","",VLOOKUP($A14,DR!$C$2:$Y$76,20,FALSE)) -> 0 | F14: =IF($A14="","",VLOOKUP($A14,DR!$C$2:$Y$76,23,FALSE)) -> 5
A15: {=IF(ROWS($1:8)>COUNTA(ListeCollab),"",INDEX(ListeCollab,ROWS($1:8)))} -> 8 | B15: =IF($A15="","",VLOOKUP($A15,DR!$C$2:$Y$76,3,FALSE)) -> NOM 06 | C15: =IF($A15="","",VLOOKUP($A15,DR!$C$2:$Y$76,5,FALSE)) -> Prénom 8 | D15: =IF($A15="","",VLOOKUP($A15,DR!$C$2:$Y$76,17,FALSE)) -> 25 | E15: =IF($A15="","",VLOOKUP($A15,DR!$C$2:$Y$76,20,FALSE)) -> 0 | F15: =IF($A15="","",VLOOKUP($A15,DR!$C$2:$Y$76,23,FALSE)) -> 0
A16: {=IF(ROWS($1:9)>COUNTA(ListeCollab),"",INDEX(ListeCollab,ROWS($1:9)))} -> 9 | B16: =IF($A16="","",VLOOKUP($A16,DR!$C$2:$Y$76,3,FALSE)) -> NOM 07 | C16: =IF($A16="","",VLOOKUP($A16,DR!$C$2:$Y$76,5,FALSE)) -> Prénom 9 | D16: =IF($A16="","",VLOOKUP($A16,DR!$C$2:$Y$76,17,FALSE)) -> 25 | E16: =IF($A16="","",VLOOKUP($A16,DR!$C$2:$Y$76,20,FALSE)) -> 0 | F16: =IF($A16="","",VLOOKUP($A16,DR!$C$2:$Y$76,23,FALSE)) -> 0
A17: {=IF(ROWS($1:10)>COUNTA(ListeCollab),"",INDEX(ListeCollab,ROWS($1:10)))} -> 10 | B17: =IF($A17="","",VLOOKUP($A17,DR!$C$2:$Y$76,3,FALSE)) -> NOM 115 | C17: =IF($A17="","",VLOOKUP($A17,DR!$C$2:$Y$76,5,FALSE)) -> Prénom 10 | D17: =IF($A17="","",VLOOKUP($A17,DR!$C$2:$Y$76,17,FALSE)) -> 3 | E17: =IF($A17="","",VLOOKUP($A17,DR!$C$2:$Y$76,20,FALSE)) -> 0 | F17: =IF($A17="","",VLOOKUP($A17,DR!$C$2:$Y$76,23,FALSE)) -> 0
A18: {=IF(ROWS($1:11)>COUNTA(ListeCollab),"",INDEX(ListeCollab,ROWS($1:11)))} -> 11 | B18: =IF($A18="","",VLOOKUP($A18,DR!$C$2:$Y$76,3,FALSE)) -> NOM 08 | C18: =IF($A18="","",VLOOKUP($A18,DR!$C$2:$Y$76,5,FALSE)) -> Prénom 11 | D18: =IF($A18="","",VLOOKUP($A18,DR!$C$2:$Y$76,17,FALSE)) -> 25 | E18: =IF($A18="","",VLOOKUP($A18,DR!$C$2:$Y$76,20,FALSE)) -> 0 | F18: =IF($A18="","",VLOOKUP($A18,DR!$C$2:$Y$76,23,FALSE)) -> 0
A19: {=IF(ROWS($1:12)>COUNTA(ListeCollab),"",INDEX(ListeCollab,ROWS($1:12)))} -> 12 | B19: =IF($A19="","",VLOOKUP($A19,DR!$C$2:$Y$76,3,FALSE)) -> NOM 09 | C19: =IF($A19="","",VLOOKUP($A19,DR!$C$2:$Y$76,5,FALSE)) -> Prénom 12 | D19: =IF($A19="","",VLOOKUP($A19,DR!$C$2:$Y$76,17,FALSE)) -> 25 | E19: =IF($A19="","",VLOOKUP($A19,DR!$C$2:$Y$76,20,FALSE)) -> 0 | F19: =IF($A19="","",VLOOKUP($A19,DR!$C$2:$Y$76,23,FALSE)) -> 5
A20: {=IF(ROWS($1:13)>COUNTA(ListeCollab),"",INDEX(ListeCollab,ROWS($1:13)))} -> 13 | B20: =IF($A20="","",VLOOKUP($A20,DR!$C$2:$Y$76,3,FALSE)) -> NOM 10 | C20: =IF($A20="","",VLOOKUP($A20,DR!$C$2:$Y$76,5,FALSE)) -> Prénom 13 | D20: =IF($A20="","",VLOOKUP($A20,DR!$C$2:$Y$76,17,FALSE)) -> 25 | E20: =IF($A20="","",VLOOKUP($A20,DR!$C$2:$Y$76,20,FALSE)) -> 0 | F20: =IF($A20="","",VLOOKUP($A20,DR!$C$2:$Y$76,23,FALSE)) -> 0
A21: {=IF(ROWS($1:14)>COUNTA(ListeCollab),"",INDEX(ListeCollab,ROWS($1:14)))} -> 14 | B21: =IF($A21="","",VLOOKUP($A21,DR!$C$2:$Y$76,3,FALSE)) -> NOM 11 | C21: =IF($A21="","",VLOOKUP($A21,DR!$C$2:$Y$76,5,FALSE)) -> Prénom 14 | D21: =IF($A21="","",VLOOKUP($A21,DR!$C$2:$Y$76,17,FALSE)) -> 1.5 | E21: =IF($A21="","",VLOOKUP($A21,DR!$C$2:$Y$76,20,FALSE)) -> 0 | F21: =IF($A21="","",VLOOKUP($A21,DR!$C$2:$Y$76,23,FALSE)) -> 0
A22: {=IF(ROWS($1:15)>COUNTA(ListeCollab),"",INDEX(ListeCollab,ROWS($1:15)))} -> 15 | B22: =IF($A22="","",VLOOKUP($A22,DR!$C$2:$Y$76,3,FALSE)) -> NOM 12 | C22: =IF($A22="","",VLOOKUP($A22,DR!$C$2:$Y$76,5,FALSE)) -> Prénom 15 | D22: =IF($A22="","",VLOOKUP($A22,DR!$C$2:$Y$76,17,FALSE)) -> 2.5 | E22: =IF($A22="","",VLOOKUP($A22,DR!$C$2:$Y$76,20,FALSE)) -> 0 | F22: =IF($A22="","",VLOOKUP($A22,DR!$C$2:$Y$76,23,FALSE)) -> 0
A23: {=IF(ROWS($1:16)>COUNTA(ListeCollab),"",INDEX(ListeCollab,ROWS($1:16)))} -> 16 | B23: =IF($A23="","",VLOOKUP($A23,DR!$C$2:$Y$76,3,FALSE)) -> NOM 13 | C23: =IF($A23="","",VLOOKUP($A23,DR!$C$2:$Y$76,5,FALSE)) -> Prénom 16 | D23: =IF($A23="","",VLOOKUP($A23,DR!$C$2:$Y$76,17,FALSE)) -> 1.5 | E23: =IF($A23="","",VLOOKUP($A23,DR!$C$2:$Y$76,20,FALSE)) -> 0 | F23: =IF($A23="","",VLOOKUP($A23,DR!$C$2:$Y$76,23,FALSE)) -> 5
A24: {=IF(ROWS($1:17)>COUNTA(ListeCollab),"",INDEX(ListeCollab,ROWS($1:17)))} -> 17 | B24: =IF($A24="","",VLOOKUP($A24,DR!$C$2:$Y$76,3,FALSE)) -> NOM 14 | C24: =IF($A24="","",VLOOKUP($A24,DR!$C$2:$Y$76,5,FALSE)) -> Prénom 17 | D24: =IF($A24="","",VLOOKUP($A24,DR!$C$2:$Y$76,17,FALSE)) -> 25 | E24: =IF($A24="","",VLOOKUP($A24,DR!$C$2:$Y$76,20,FALSE)) -> 0 | F24: =IF($A24="","",VLOOKUP($A24,DR!$C$2:$Y$76,23,FALSE)) -> 0
A25: {=IF(ROWS($1:18)>COUNTA(ListeCollab),"",INDEX(ListeCollab,ROWS($1:18)))} -> 18 | B25: =IF($A25="","",VLOOKUP($A25,DR!$C$2:$Y$76,3,FALSE)) -> NOM 15 | C25: =IF($A25="","",VLOOKUP($A25,DR!$C$2:$Y$76,5,FALSE)) -> Prénom 18 | D25: =IF($A25="","",VLOOKUP($A25,DR!$C$2:$Y$76,17,FALSE)) -> 25 | E25: =IF($A25="","",VLOOKUP($A25,DR!$C$2:$Y$76,20,FALSE)) -> 0 | F25: =IF($A25="","",VLOOKUP($A25,DR!$C$2:$Y$76,23,FALSE)) -> 0
A26: {=IF(ROWS($1:19)>COUNTA(ListeCollab),"",INDEX(ListeCollab,ROWS($1:19)))} | B26: =IF($A26="","",VLOOKUP($A26,DR!$C$2:$Y$76,3,FALSE)) | C26: =IF($A26="","",VLOOKUP($A26,DR!$C$2:$Y$76,5,FALSE)) | D26: =IF($A26="","",VLOOKUP($A26,DR!$C$2:$Y$76,17,FALSE)) | E26: =IF($A26="","",VLOOKUP($A26,DR!$C$2:$Y$76,20,FALSE)) | F26: =IF($A26="","",VLOOKUP($A26,DR!$C$2:$Y$76,23,FALSE))
A27: {=IF(ROWS($1:20)>COUNTA(ListeCollab),"",INDEX(ListeCollab,ROWS($1:20)))} | B27: =IF($A27="","",VLOOKUP($A27,DR!$C$2:$Y$76,3,FALSE)) | C27: =IF($A27="","",VLOOKUP($A27,DR!$C$2:$Y$76,5,FALSE)) | D27: =IF($A27="","",VLOOKUP($A27,DR!$C$2:$Y$76,17,FALSE)) | E27: =IF($A27="","",VLOOKUP($A27,DR!$C$2:$Y$76,20,FALSE)) | F27: =IF($A27="","",VLOOKUP($A27,DR!$C$2:$Y$76,23,FALSE))
A28: {=IF(ROWS($1:21)>COUNTA(ListeCollab),"",INDEX(ListeCollab,ROWS($1:21)))} | B28: =IF($A28="","",VLOOKUP($A28,DR!$C$2:$Y$76,3,FALSE)) | C28: =IF($A28="","",VLOOKUP($A28,DR!$C$2:$Y$76,5,FALSE)) | D28: =IF($A28="","",VLOOKUP($A28,DR!$C$2:$Y$76,17,FALSE)) | E28: =IF($A28="","",VLOOKUP($A28,DR!$C$2:$Y$76,20,FALSE)) | F28: =IF($A28="","",VLOOKUP($A28,DR!$C$2:$Y$76,23,FALSE))
A29: {=IF(ROWS($1:22)>COUNTA(ListeCollab),"",INDEX(ListeCollab,ROWS($1:22)))} | B29: =IF($A29="","",VLOOKUP($A29,DR!$C$2:$Y$76,3,FALSE)) | C29: =IF($A29="","",VLOOKUP($A29,DR!$C$2:$Y$76,5,FALSE)) | D29: =IF($A29="","",VLOOKUP($A29,DR!$C$2:$Y$76,17,FALSE)) | E29: =IF($A29="","",VLOOKUP($A29,DR!$C$2:$Y$76,20,FALSE)) | F29: =IF($A29="","",VLOOKUP($A29,DR!$C$2:$Y$76,23,FALSE))
A30: {=IF(ROWS($1:23)>COUNTA(ListeCollab),"",INDEX(ListeCollab,ROWS($1:23)))} | B30: =IF($A30="","",VLOOKUP($A30,DR!$C$2:$Y$76,3,FALSE)) | C30: =IF($A30="","",VLOOKUP($A30,DR!$C$2:$Y$76,5,FALSE)) | D30: =IF($A30="","",VLOOKUP($A30,DR!$C$2:$Y$76,17,FALSE)) | E30: =IF($A30="","",VLOOKUP($A30,DR!$C$2:$Y$76,20,FALSE)) | F30: =IF($A30="","",VLOOKUP($A30,DR!$C$2:$Y$76,23,FALSE))
A31: {=IF(ROWS($1:24)>COUNTA(ListeCollab),"",INDEX(ListeCollab,ROWS($1:24)))} | B31: =IF($A31="","",VLOOKUP($A31,DR!$C$2:$Y$76,3,FALSE)) | C31: =IF($A31="","",VLOOKUP($A31,DR!$C$2:$Y$76,5,FALSE)) | D31: =IF($A31="","",VLOOKUP($A31,DR!$C$2:$Y$76,17,FALSE)) | E31: =IF($A31="","",VLOOKUP($A31,DR!$C$2:$Y$76,20,FALSE)) | F31: =IF($A31="","",VLOOKUP($A31,DR!$C$2:$Y$76,23,FALSE))
A32: {=IF(ROWS($1:25)>COUNTA(ListeCollab),"",INDEX(ListeCollab,ROWS($1:25)))} | B32: =IF($A32="","",VLOOKUP($A32,DR!$C$2:$Y$76,3,FALSE)) | C32: =IF($A32="","",VLOOKUP($A32,DR!$C$2:$Y$76,5,FALSE)) | D32: =IF($A32="","",VLOOKUP($A32,DR!$C$2:$Y$76,17,FALSE)) | E32: =IF($A32="","",VLOOKUP($A32,DR!$C$2:$Y$76,20,FALSE)) | F32: =IF($A32="","",VLOOKUP($A32,DR!$C$2:$Y$76,23,FALSE))
A33: {=IF(ROWS($1:26)>COUNTA(ListeCollab),"",INDEX(ListeCollab,ROWS($1:26)))} | B33: =IF($A33="","",VLOOKUP($A33,DR!$C$2:$Y$76,3,FALSE)) | C33: =IF($A33="","",VLOOKUP($A33,DR!$C$2:$Y$76,5,FALSE)) | D33: =IF($A33="","",VLOOKUP($A33,DR!$C$2:$Y$76,17,FALSE)) | E33: =IF($A33="","",VLOOKUP($A33,DR!$C$2:$Y$76,20,FALSE)) | F33: =IF($A33="","",VLOOKUP($A33,DR!$C$2:$Y$76,23,FALSE))
A34: {=IF(ROWS($1:27)>COUNTA(ListeCollab),"",INDEX(ListeCollab,ROWS($1:27)))} | B34: =IF($A34="","",VLOOKUP($A34,DR!$C$2:$Y$76,3,FALSE)) | C34: =IF($A34="","",VLOOKUP($A34,DR!$C$2:$Y$76,5,FALSE)) | D34: =IF($A34="","",VLOOKUP($A34,DR!$C$2:$Y$76,17,FALSE)) | E34: =IF($A34="","",VLOOKUP($A34,DR!$C$2:$Y$76,20,FALSE)) | F34: =IF($A34="","",VLOOKUP($A34,DR!$C$2:$Y$76,23,FALSE))
A35: {=IF(ROWS($1:28)>COUNTA(ListeCollab),"",INDEX(ListeCollab,ROWS($1:28)))} | B35: =IF($A35="","",VLOOKUP($A35,DR!$C$2:$Y$76,3,FALSE)) | C35: =IF($A35="","",VLOOKUP($A35,DR!$C$2:$Y$76,5,FALSE)) | D35: =IF($A35="","",VLOOKUP($A35,DR!$C$2:$Y$76,17,FALSE)) | E35: =IF($A35="","",VLOOKUP($A35,DR!$C$2:$Y$76,20,FALSE)) | F35: =IF($A35="","",VLOOKUP($A35,DR!$C$2:$Y$76,23,FALSE))
A36: {=IF(ROWS($1:29)>COUNTA(ListeCollab),"",INDEX(ListeCollab,ROWS($1:29)))} | B36: =IF($A36="","",VLOOKUP($A36,DR!$C$2:$Y$76,3,FALSE)) | C36: =IF($A36="","",VLOOKUP($A36,DR!$C$2:$Y$76,5,FALSE)) | D36: =IF($A36="","",VLOOKUP($A36,DR!$C$2:$Y$76,17,FALSE)) | E36: =IF($A36="","",VLOOKUP($A36,DR!$C$2:$Y$76,20,FALSE)) | F36: =IF($A36="","",VLOOKUP($A36,DR!$C$2:$Y$76,23,FALSE))
A37: {=IF(ROWS($1:30)>COUNTA(ListeCollab),"",INDEX(ListeCollab,ROWS($1:30)))} | B37: =IF($A37="","",VLOOKUP($A37,DR!$C$2:$Y$76,3,FALSE)) | C37: =IF($A37="","",VLOOKUP($A37,DR!$C$2:$Y$76,5,FALSE)) | D37: =IF($A37="","",VLOOKUP($A37,DR!$C$2:$Y$76,17,FALSE)) | E37: =IF($A37="","",VLOOKUP($A37,DR!$C$2:$Y$76,20,FALSE)) | F37: =IF($A37="","",VLOOKUP($A37,DR!$C$2:$Y$76,23,FALSE))
