Workbook

Sheet  Liste
A1: N° | B1: Récurrents | C1: Nb | D1: Donneurs | E1: Nb
A2: 1 | B2: 1 | D2: y | F2: =IF(AND(B2<>0,D2<>0),B2&"\"&D2,"") -> 1\y
A3: 2 | B3: 2 | D3: z | F3: =IF(AND(B3<>0,D3<>0),B3&"\"&D3,"") -> 2\z
A4: 3 | B4: 3 | D4: w | F4: =IF(AND(B4<>0,D4<>0),B4&"\"&D4,"") -> 3\w
A5: 4 | B5: 4 | D5: v | F5: =IF(AND(B5<>0,D5<>0),B5&"\"&D5,"") -> 4\v
A6: 5 | B6: 5 | D6: p | F6: =IF(AND(B6<>0,D6<>0),B6&"\"&D6,"") -> 5\p
A7: 6 | B7: 6
A8: 7 | B8: 7
A9: 8
A10: 9
A11: 10
A12: 11
A13: 12
A14: 13
A15: 14
A16: 15
A17: 16
A18: 17
A19: 18
A20: 19
... A300: 299

Sheet Xt
A5: =" " & ' Liste'!D1 & " " & ' Liste'!B1 -> Donneurs Récurrents | B5: =OFFSET(' Liste'!$D$1,COLUMN()-1,) -> y | C5: =OFFSET(' Liste'!$D$1,COLUMN()-1,) -> z | D5: =OFFSET(' Liste'!$D$1,COLUMN()-1,) -> w | E5: =OFFSET(' Liste'!$D$1,COLUMN()-1,) -> v | F5: =OFFSET(' Liste'!$D$1,COLUMN()-1,) -> p | J5: =IF(' Liste'!L2<>0,' Liste'!$D2," ") | K5: =IF(' Liste'!M2<>0,' Liste'!$D2," ") | L5: =IF(' Liste'!N2<>0,' Liste'!$D2," ") | M5: =IF(' Liste'!O2<>0,' Liste'!$D2," ") | N5: =IF(' Liste'!P2<>0,' Liste'!$D2," ") | O5: =IF(' Liste'!Q2<>0,' Liste'!$D2," ") | P5: =IF(' Liste'!R2<>0,' Liste'!$D2," ") | Q5: =IF(' Liste'!S2<>0,' Liste'!$D2," ") | ... GC5: =IF(' Liste'!GE2<>0,' Liste'!$D2," ")
A6: =IF(' Liste'!B2<>0,' Liste'!B2," ") -> 1
A7: =IF(' Liste'!B3<>0,' Liste'!B3," ") -> 2
A8: =IF(' Liste'!B4<>0,' Liste'!B4," ") -> 3
A9: =IF(' Liste'!B5<>0,' Liste'!B5," ") -> 4
A10: =IF(' Liste'!B6<>0,' Liste'!B6," ") -> 5 | B10: =IF(' Liste'!$D7<>0,OFFSET(' Liste'!$D7,0,0),"")
A11: =IF(' Liste'!B7<>0,' Liste'!B7," ") -> 6 | B11: =IF(' Liste'!$D8<>0,OFFSET(' Liste'!$D8,0,0),"")
A12: =IF(' Liste'!B8<>0,' Liste'!B8," ") -> 7 | B12: =IF(' Liste'!$D9<>0,OFFSET(' Liste'!$D9,0,0),"")
A13: =IF(' Liste'!B9<>0,' Liste'!B9," ") | B13: =IF(' Liste'!$D10<>0,OFFSET(' Liste'!$D10,0,0),"")
A14: =IF(' Liste'!B10<>0,' Liste'!B10," ") | B14: =IF(' Liste'!$D11<>0,OFFSET(' Liste'!$D11,0,0),"")
A15: =IF(' Liste'!B11<>0,' Liste'!B11," ") | B15: =IF(' Liste'!$D12<>0,OFFSET(' Liste'!$D12,0,0),"")
A16: =IF(' Liste'!B12<>0,' Liste'!B12," ") | B16: =IF(' Liste'!$D13<>0,OFFSET(' Liste'!$D13,0,0),"")
A17: =IF(' Liste'!B13<>0,' Liste'!B13," ") | B17: =IF(' Liste'!$D14<>0,OFFSET(' Liste'!$D14,0,0),"")
A18: =IF(' Liste'!B14<>0,' Liste'!B14," ") | B18: =IF(' Liste'!$D15<>0,OFFSET(' Liste'!$D15,0,0),"")
A19: =IF(' Liste'!B15<>0,' Liste'!B15," ") | B19: =IF(' Liste'!$D16<>0,OFFSET(' Liste'!$D16,0,0),"")
A20: =IF(' Liste'!B16<>0,' Liste'!B16," ") | B20: =IF(' Liste'!$D17<>0,OFFSET(' Liste'!$D17,0,0),"")
A21: =IF(' Liste'!B17<>0,' Liste'!B17," ") | B21: =IF(' Liste'!$D18<>0,OFFSET(' Liste'!$D18,0,0),"")
... A300: =IF(' Liste'!B296<>0,' Liste'!B296," ") | B300: =IF(' Liste'!$D297<>0,OFFSET(' Liste'!$D297,0,0),"")
