Workbook

Sheet ncr fournisseur
A1: ID | B1: Project | C1: Reporter | D1: Assigned To | E1: Priority | F1: Severity | G1: Reproducibility | H1: Category | I1: Date Submitted | J1: OS | K1: OS Version | L1: Platform | M1: View Status | N1: Updated | O1: Summary | P1: Status | Q1: Resolution | R1: 3- Supplier name | S1: 3- Supplier SAP number (Transaction ME1M) | T1: 3- Purchasing group | U1: 3- Batch | V1: 3- Supplier NCR acceptance | W1: 3- Delivered quantity | X1: 3- Defective quantity | Y1: 3- Reject category | Z1: 3- NCR status | AA1: 3- Origin | AB1: 3-NCR WORKFLOW | AC1: 3- NCR Management costs | AD1: 3- NCR Material costs | AE1: 3- NCR Hours costs | AF1: 11-Division (*) | AG1: NCR supplier status | AI1: date
A2: 10638 | B2: >>> NCR Supplier | C2: Jerome | D2: Tiphaine | E2: normal | F2: minor | G2: have not tried | H2: Non Conformity | I2: 2019-07-12 | M2: public | N2: 2019-12-04 | O2: 30031199 / 2CDS274006R104 - S204MT-C10 / aspect | P2: closed | Q2: fixed | R2: robert | S2: 100001 | T2: 325 - Other | U2: 718586 | W2: 6 | X2: 1 | Y2: Raw material | AA2: Supplier managed by ORG | AC2: 150 | AF2: 3010 | AG2: 8D sent to supplier | AI2: =+MONTH(I2)&"/"&(YEAR(I2)) -> 7/2019
A3: 8149 | B3: >>> NCR Supplier | C3: Ball | D3: Angelique | E3: normal | F3: minor | G3: have not tried | H3: Non Conformity | I3: 2018-06-28 | M3: public | N3: 2019-09-24 | O3: 30025086 / 1SNS420001Z1371 REV.C2 / Missing 1 piece | P3: resolved | Q3: fixed | R3: robert | S3: 100001 | T3: 311 - Véronique BAUDURET | U3: 582425 | W3: 59 | X3: 1 | Y3: logistic | Z3: Waiting ORG answer | AA3: Supplier managed by ORG | AB3: Stock replacement request sent to supplier | AC3: 150 | AF3: 3010 | AG3: 8D sent to supplier | AI3: =+MONTH(I3)&"/"&(YEAR(I3)) -> 6/2018
A4: 7815 | B4: >>> NCR Supplier | C4: Ball | D4: Angelique | E4: normal | F4: minor | G4: have not tried | H4: Non Conformity | I4: 2018-05-18 | M4: public | N4: 2018-05-21 | O4: 30036074 /S202U-K4 / Wrong part SU202M-K4 Instead S202U-K4 | P4: closed | Q4: fixed | R4: robert | S4: 100001 | T4: 311 - Véronique BAUDURET | U4: 560858 | W4: 20 | X4: 20 | Y4: Raw material | Z4: Waiting ORG answer | AA4: Supplier managed by ORG | AB4: Stock replacement request sent to supplier | AC4: 150 | AF4: 3010, 3020 | AG4: 8D sent to supplier | AI4: =+MONTH(I4)&"/"&(YEAR(I4)) -> 5/2018
A5: 6675 | B5: >>> NCR Supplier | C5: Angelique | D5: Angelique | E5: normal | F5: minor | G5: have not tried | H5: Non Conformity | I5: 2017-11-17 | M5: public | N5: 2018-01-23 | O5: 30031206 / dysfonctionnement | P5: closed | Q5: fixed | R5: robert | S5: 100001 | T5: 311 - Véronique BAUDURET | V5: NCR rejected | X5: 2 | AA5: Supplier managed by ORG | AC5: 150 | AF5: 3010 | AG5: 8D sent to supplier | AI5: =+MONTH(I5)&"/"&(YEAR(I5)) -> 11/2017
A6: 6433 | B6: >>> NCR Supplier | C6: AUN | D6: Angelique | E6: high | F6: major | G6: have not tried | H6: Quality Remark | I6: 2017-10-09 | M6: public | N6: 2017-11-02 | O6: 30034860 / text not clear | P6: closed | Q6: fixed | R6: robert | S6: 100001 | T6: 311 - Véronique BAUDURET | U6: 475048 | X6: 1 | Y6: Raw material | AA6: Supplier managed by ORG | AB6: Stock replacement request sent to supplier | AC6: 150 | AF6: 3020 | AG6: 8D sent to supplier | AI6: =+MONTH(I6)&"/"&(YEAR(I6)) -> 10/2017
A7: 4109 | B7: >>> NCR Supplier | C7: Narongsak Suadej | D7: Win | E7: normal | F7: minor | G7: have not tried | H7: Non Conformity | I7: 2016-06-20 | M7: public | N7: 2017-06-06 | O7: 30025086 / Incorrect terminal board assembly. | P7: closed | Q7: fixed | R7: robert | S7: 100001 | T7: 310 - Cedric DELACROIX | U7: 268560 | W7: 120 | X7: 1 | Y7: Raw material | Z7: Waiting supplier answer | AA7: Supplier managed by ORG | AB7: Stock replacement request sent to supplier, Relacement or credit note received | AF7: 3020 | AI7: =+MONTH(I7)&"/"&(YEAR(I7)) -> 6/2016
A8: 8718 | B8: >>> NCR Supplier | C8: Angelique | D8: Angelique | E8: normal | F8: minor | G8: have not tried | H8: Non Conformity | I8: 2018-10-01 | M8: public | N8: 2019-12-05 | O8: 30021064/ 5165453/ mauvais connecteur | P8: closed | Q8: fixed | R8: maurice | S8: 100003 | T8: 311 - Véronique BAUDURET | X8: 1 | AA8: Supplier managed by ORG | AC8: 150 | AF8: 3010 | AG8: 8D sent to supplier | AI8: =+MONTH(I8)&"/"&(YEAR(I8)) -> 10/2018
A9: 3233 | B9: >>> NCR Supplier | C9: Angelique | D9: Angelique | E9: normal | F9: minor | G9: have not tried | H9: Non Conformity | I9: 2015-12-15 | M9: public | N9: 2016-01-29 | O9: 30021063/5164744/ tuyau marqué | P9: closed | Q9: fixed | R9: maurice | S9: 100003 | T9: 311 - Véronique BAUDURET | U9: 276591 | V9: NCR rejected | W9: 4 | X9: 1 | Y9: Raw material | AA9: Supplier managed by ORG | AC9: 150 | AI9: =+MONTH(I9)&"/"&(YEAR(I9)) -> 12/2015
A10: 2943 | B10: >>> NCR Supplier | C10: Angelique | D10: Angelique | E10: normal | F10: major | G10: have not tried | H10: Non Conformity | I10: 2015-10-08 | M10: public | N10: 2016-04-04 | O10: 30000069 Hosepiped Equipped rev5 V-REF 235 /tuyaux marqué | P10: closed | Q10: fixed | R10: maurice | S10: 100003 | T10: 311 - Véronique BAUDURET | U10: 233118 | V10: NCR rejected | W10: 1 | X10: 1 | Y10: Raw material | AA10: Supplier managed by ORG | AC10: 150 | AI10: =+MONTH(I10)&"/"&(YEAR(I10)) -> 10/2015
A11: 2697 | B11: >>> NCR Supplier | C11: Angelique | D11: Tiphaine | E11: normal | F11: major | G11: have not tried | H11: Non Conformity | I11: 2015-07-22 | M11: public | N11: 2016-04-14 | O11: 30000069/30021063/3002164 Hosepiped Equipped rev5 V-REF 235- tuyau plié | P11: closed | Q11: fixed | R11: maurice | S11: 100003 | T11: 311 - Véronique BAUDURET | U11: 068/2015 | X11: 10 | AA11: Supplier managed by ORG | AC11: 150 | AI11: =+MONTH(I11)&"/"&(YEAR(I11)) -> 7/2015
A12: 2696 | B12: >>> NCR Supplier | C12: Angelique | D12: Angelique | E12: normal | F12: major | G12: sometimes | H12: Non Conformity | I12: 2015-07-22 | M12: public | N12: 2016-04-14 | O12: 30000069 Hosepiped Equipped rev5 V-REF 235 too short | P12: closed | Q12: fixed | R12: maurice | S12: 100003 | T12: 311 - Véronique BAUDURET | U12: 229356 | W12: 50 | X12: 8 | Y12: semi-finished good | AA12: Supplier managed by ORG | AC12: 150 | AI12: =+MONTH(I12)&"/"&(YEAR(I12)) -> 7/2015
A13: 2661 | B13: >>> NCR Supplier | C13: Angelique | D13: Angelique | E13: normal | F13: minor | G13: sometimes | H13: Non Conformity | I13: 2015-07-08 | J13: K.X | K13: K.Jo | L13: K.Tom | M13: public | N13: 2016-04-14 | O13: 30000069 Hosepiped Equipped rev5 V-REF 235 damage and too short | P13: closed | Q13: fixed | R13: maurice | S13: 100003 | T13: 311 - Véronique BAUDURET | U13: voir détail dans description | V13: NCR accepted | X13: 8 | Y13: Raw material | AA13: Supplier managed by ORG | AC13: 150 | AI13: =+MONTH(I13)&"/"&(YEAR(I13)) -> 7/2015
A14: 1978 | B14: >>> NCR Supplier | C14: Jerome | D14: Enguerrand | E14: normal | F14: minor | G14: have not tried | H14: Non Conformity | I14: 2014-11-17 | M14: public | N14: 2016-04-14 | O14: 30021063-FLEXIBLE REF:5164744PSP/30021064-FLEXIBLE REF : 5165453PSP REV.2 / Tuyau plié +manque pastille jaune | P14: closed | Q14: fixed | R14: maurice | S14: 100003 | T14: 311 - Véronique BAUDURET | U14: 85078-182135-85079 | X14: 3 | Y14: Raw material | AA14: Supplier managed by ORG | AC14: 150 | AI14: =+MONTH(I14)&"/"&(YEAR(I14)) -> 11/2014
A15: 4095 | B15: >>> NCR Supplier | C15: Sak | D15: Sak | E15: high | F15: minor | G15: have not tried | H15: Non Conformity | I15: 2016-06-15 | L15: K. Sak | M15: public | N15: 2017-05-22 | O15: 30001646 / Wrong spec receive 1000 PCS . | P15: closed | Q15: fixed | R15: jean pierre | S15: 100006 | T15: 310 - Cedric DELACROIX | U15: 324812 | W15: 1000pcs | X15: 1000pcs | Z15: Waiting ORG answer | AA15: Supplier managed by ORG | AC15: 150 | AF15: 3020 | AI15: =+MONTH(I15)&"/"&(YEAR(I15)) -> 6/2016
AI16: =+MONTH(I16)&"/"&(YEAR(I16)) -> 1/1900
AI17: =+MONTH(I17)&"/"&(YEAR(I17)) -> 1/1900
AI18: =+MONTH(I18)&"/"&(YEAR(I18)) -> 1/1900
AI19: =+MONTH(I19)&"/"&(YEAR(I19)) -> 1/1900
AI20: =+MONTH(I20)&"/"&(YEAR(I20)) -> 1/1900
AI21: =+MONTH(I21)&"/"&(YEAR(I21)) -> 1/1900
AI22: =+MONTH(I22)&"/"&(YEAR(I22)) -> 1/1900
AI23: =+MONTH(I23)&"/"&(YEAR(I23)) -> 1/1900
AI24: =+MONTH(I24)&"/"&(YEAR(I24)) -> 1/1900
AI25: =+MONTH(I25)&"/"&(YEAR(I25)) -> 1/1900
AI26: =+MONTH(I26)&"/"&(YEAR(I26)) -> 1/1900
AI27: =+MONTH(I27)&"/"&(YEAR(I27)) -> 1/1900
... AI236: =+MONTH(I236)&"/"&(YEAR(I236)) -> 1/1900

Sheet Livraison matière
A1: Div. | B1: TyAr | C1: Doc achat | D1: Poste | E1: Fourn. | F1: Nom 1 | G1: Mvt | H1: Article | I1: Qté commande | J1: UAc | K1: Date cpt. | L1: Quantité | M1: UAc | N1: Mois | O1: identifiant
A2: 3010 | B2: ZMAT | C2: 4500242600 | D2: 00060 | E2: 100001 | F2: ROBERT | G2: 101 | H2: 30031205 | I2: 8 | J2: PC | K2: 43439 | L2: 8 | M2: PC | N2: =+MONTH(K2)&"/"&(YEAR((K2))) -> 12/2018 | O2: =+CONCATENATE(E2,N2) -> 10000112/2018
A3: 3010 | B3: ZMAT | C3: 4500242600 | D3: 00100 | E3: 100001 | F3: ROBERT | G3: 101 | H3: 30031212 | I3: 8 | J3: PC | K3: 43439 | L3: 8 | M3: PC | N3: =+MONTH(K3)&"/"&(YEAR((K3))) -> 12/2018 | O3: =+CONCATENATE(E3,N3) -> 10000112/2018
A4: 3010 | B4: ZMAT | C4: 4500248346 | D4: 00010 | E4: 100001 | F4: ROBERT | G4: 101 | H4: 30031205 | I4: 10 | J4: PC | K4: 43451 | L4: 10 | M4: PC | N4: =+MONTH(K4)&"/"&(YEAR((K4))) -> 12/2018 | O4: =+CONCATENATE(E4,N4) -> 10000112/2018
A5: 3010 | B5: ZMAT | C5: 4500252979 | D5: 00050 | E5: 100001 | F5: ROBERT | G5: 101 | H5: 30031902 | I5: 23 | J5: PC | K5: 43473 | L5: 23 | M5: PC | N5: =+MONTH(K5)&"/"&(YEAR((K5))) -> 1/2019 | O5: =+CONCATENATE(E5,N5) -> 1000011/2019
A6: 3010 | B6: ZMAT | C6: 4500258566 | D6: 00010 | E6: 100001 | F6: ROBERT | G6: 101 | H6: 30032754 | I6: 160 | J6: PC | K6: 43493 | L6: 160 | M6: PC | N6: =+MONTH(K6)&"/"&(YEAR((K6))) -> 1/2019 | O6: =+CONCATENATE(E6,N6) -> 1000011/2019
A7: 3010 | B7: ZMAT | C7: 4500259567 | D7: 00010 | E7: 100001 | F7: ROBERT | G7: 101 | H7: 30031199 | I7: 4 | J7: PC | K7: 43500 | L7: 4 | M7: PC | N7: =+MONTH(K7)&"/"&(YEAR((K7))) -> 2/2019 | O7: =+CONCATENATE(E7,N7) -> 1000012/2019
A8: 3010 | B8: ZMAT | C8: 4500259567 | D8: 00030 | E8: 100001 | F8: ROBERT | G8: 101 | H8: 30031201 | I8: 12 | J8: PC | K8: 43500 | L8: 12 | M8: PC | N8: =+MONTH(K8)&"/"&(YEAR((K8))) -> 2/2019 | O8: =+CONCATENATE(E8,N8) -> 1000012/2019
A9: 3010 | B9: ZMAT | C9: 4500259567 | D9: 00060 | E9: 100001 | F9: ROBERT | G9: 101 | H9: 30031205 | I9: 10 | J9: PC | K9: 43500 | L9: 10 | M9: PC | N9: =+MONTH(K9)&"/"&(YEAR((K9))) -> 2/2019 | O9: =+CONCATENATE(E9,N9) -> 1000012/2019
A10: 3010 | B10: ZMAT | C10: 4500318769 | D10: 00020 | E10: 100001 | F10: ROBERT | G10: 101 | H10: 30031201 | I10: 24 | J10: PC | K10: 43843 | L10: 5 | M10: PC | N10: =+MONTH(K10)&"/"&(YEAR((K10))) -> 1/2020 | O10: =+CONCATENATE(E10,N10) -> 1000011/2020
A11: 3010 | B11: ZMAT | C11: 4500318769 | D11: 00040 | E11: 100001 | F11: ROBERT | G11: 101 | H11: 30031206 | I11: 9 | J11: PC | K11: 43837 | L11: 9 | M11: PC | N11: =+MONTH(K11)&"/"&(YEAR((K11))) -> 1/2020 | O11: =+CONCATENATE(E11,N11) -> 1000011/2020
A12: 3010 | B12: ZMAT | C12: 4500318769 | D12: 00050 | E12: 100001 | F12: ROBERT | G12: 101 | H12: 30031208 | I12: 6 | J12: PC | K12: 43843 | L12: 4 | M12: PC | N12: =+MONTH(K12)&"/"&(YEAR((K12))) -> 1/2020 | O12: =+CONCATENATE(E12,N12) -> 1000011/2020
A13: 3010 | B13: ZMAT | C13: 4500318769 | D13: 00060 | E13: 100001 | F13: ROBERT | G13: 101 | H13: 30031212 | I13: 6 | J13: PC | K13: 43837 | L13: 6 | M13: PC | N13: =+MONTH(K13)&"/"&(YEAR((K13))) -> 1/2020 | O13: =+CONCATENATE(E13,N13) -> 1000011/2020
... A80: 3010 | B80: ZMAT | C80: 4500301407 | D80: 00010 | E80: 100010 | F80: JACQUES | G80: 101 | H80: 30006031 | I80: 4060 | J80: m | K80: 43774 | L80: 10 | M80: m | N80: =+MONTH(K80)&"/"&(YEAR((K80))) -> 11/2019 | O80: =+CONCATENATE(E80,N80) -> 10001011/2019
N81: =+MONTH(K81)&"/"&(YEAR((K81))) -> 1/1900 | O81: =+CONCATENATE(E81,N81) -> 1/1900
N82: =+MONTH(K82)&"/"&(YEAR((K82))) -> 1/1900 | O82: =+CONCATENATE(E82,N82) -> 1/1900
N83: =+MONTH(K83)&"/"&(YEAR((K83))) -> 1/1900 | O83: =+CONCATENATE(E83,N83) -> 1/1900
N84: =+MONTH(K84)&"/"&(YEAR((K84))) -> 1/1900 | O84: =+CONCATENATE(E84,N84) -> 1/1900
N85: =+MONTH(K85)&"/"&(YEAR((K85))) -> 1/1900 | O85: =+CONCATENATE(E85,N85) -> 1/1900
N86: =+MONTH(K86)&"/"&(YEAR((K86))) -> 1/1900 | O86: =+CONCATENATE(E86,N86) -> 1/1900
N87: =+MONTH(K87)&"/"&(YEAR((K87))) -> 1/1900 | O87: =+CONCATENATE(E87,N87) -> 1/1900
N88: =+MONTH(K88)&"/"&(YEAR((K88))) -> 1/1900 | O88: =+CONCATENATE(E88,N88) -> 1/1900
N89: =+MONTH(K89)&"/"&(YEAR((K89))) -> 1/1900 | O89: =+CONCATENATE(E89,N89) -> 1/1900
N90: =+MONTH(K90)&"/"&(YEAR((K90))) -> 1/1900 | O90: =+CONCATENATE(E90,N90) -> 1/1900
N91: =+MONTH(K91)&"/"&(YEAR((K91))) -> 1/1900 | O91: =+CONCATENATE(E91,N91) -> 1/1900
N92: =+MONTH(K92)&"/"&(YEAR((K92))) -> 1/1900 | O92: =+CONCATENATE(E92,N92) -> 1/1900
... N971: =+MONTH(K971)&"/"&(YEAR((K971))) -> 1/1900 | O971: =+CONCATENATE(E971,N971) -> 1/1900

Sheet données 
A1: mois | B1: 43831
A2: Fourn. | B2: Nom 1 | C2: nbre livraison | D2: pcs recu | E2: nbr de nc/ mois | F2: nb de pcs NC/ mois | G2: ppm mois
A3: 100001 | B3: ROBERT | C3: =COUNTIFS('[1]livraison matière'!E:E,A3,'[1]livraison matière'!U:U,'données '!$B$1) -> 8 | D3: =SUMIFS('[1]livraison matière'!S:S,'[1]livraison matière'!E:E,A3,'[1]livraison matière'!U:U,$B$1) -> 55 | E3: =+COUNTIFS('[1]ncr fournisseur'!S:S,'données '!A3,'[1]ncr fournisseur'!AI:AI,'données '!$B$1) -> 0 | F3: =SUMIFS('[1]ncr fournisseur'!X:X,'[1]ncr fournisseur'!S:S,A3,'[1]ncr fournisseur'!AI:AI,$B$1) -> 0 | G3: =IFERROR(F3/C3*1000000,0) -> 0
A4: 100003 | B4: MAURICE | C4: =COUNTIFS('[1]livraison matière'!E:E,A4,'[1]livraison matière'!U:U,'données '!$B$1) -> 3 | D4: =SUMIFS('[1]livraison matière'!S:S,'[1]livraison matière'!E:E,A4,'[1]livraison matière'!U:U,$B$1) -> 86 | E4: =+COUNTIFS('[1]ncr fournisseur'!S:S,'données '!A4,'[1]ncr fournisseur'!AI:AI,'données '!$B$1) -> 0 | F4: =SUMIFS('[1]ncr fournisseur'!X:X,'[1]ncr fournisseur'!S:S,A4,'[1]ncr fournisseur'!AI:AI,$B$1) -> 0 | G4: =IFERROR(F4/C4*1000000,0) -> 0
A5: 100006 | B5: JEAN PIERRE | C5: =COUNTIFS('[1]livraison matière'!E:E,A5,'[1]livraison matière'!U:U,'données '!$B$1) -> 1 | D5: =SUMIFS('[1]livraison matière'!S:S,'[1]livraison matière'!E:E,A5,'[1]livraison matière'!U:U,$B$1) -> 400 | E5: =+COUNTIFS('[1]ncr fournisseur'!S:S,'données '!A5,'[1]ncr fournisseur'!AI:AI,'données '!$B$1) -> 0 | F5: =SUMIFS('[1]ncr fournisseur'!X:X,'[1]ncr fournisseur'!S:S,A5,'[1]ncr fournisseur'!AI:AI,$B$1) -> 0 | G5: =IFERROR(F5/C5*1000000,0) -> 0
A6: 100008 | B6: MICHEL | C6: =COUNTIFS('[1]livraison matière'!E:E,A6,'[1]livraison matière'!U:U,'données '!$B$1) -> 10 | D6: =SUMIFS('[1]livraison matière'!S:S,'[1]livraison matière'!E:E,A6,'[1]livraison matière'!U:U,$B$1) -> 1570 | E6: =+COUNTIFS('[1]ncr fournisseur'!S:S,'données '!A6,'[1]ncr fournisseur'!AI:AI,'données '!$B$1) -> 0 | F6: =SUMIFS('[1]ncr fournisseur'!X:X,'[1]ncr fournisseur'!S:S,A6,'[1]ncr fournisseur'!AI:AI,$B$1) -> 0 | G6: =IFERROR(F6/C6*1000000,0) -> 0
A7: 100010 | B7: JACQUES | C7: =COUNTIFS('[1]livraison matière'!E:E,A7,'[1]livraison matière'!U:U,'données '!$B$1) -> 1 | D7: =SUMIFS('[1]livraison matière'!S:S,'[1]livraison matière'!E:E,A7,'[1]livraison matière'!U:U,$B$1) -> 6183 | E7: =+COUNTIFS('[1]ncr fournisseur'!S:S,'données '!A7,'[1]ncr fournisseur'!AI:AI,'données '!$B$1) -> 0 | F7: =SUMIFS('[1]ncr fournisseur'!X:X,'[1]ncr fournisseur'!S:S,A7,'[1]ncr fournisseur'!AI:AI,$B$1) -> 0 | G7: =IFERROR(F7/C7*1000000,0) -> 0
