Workbook

Sheet Récapitulatif
B1: Monéteau | C1: Chatillon | D1: Grandchamp | E1: Malay | F1: Juilly | G1: Sainte Marie | H1: Auxonne | I1: Aunay | J1: Sauvigny
A2: Amazone | B2: =COUNTIFS('Liste des problèmes technique'!$B:$B,B$1,'Liste des problèmes technique'!$C:$C,$A2,'Liste des problèmes technique'!$J:$J,Param!$G$3) -> 7 | C2: =COUNTIFS('Liste des problèmes technique'!$B:$B,C$1,'Liste des problèmes technique'!$C:$C,$A2,'Liste des problèmes technique'!$J:$J,Param!$G$3) -> 1 | D2: =COUNTIFS('Liste des problèmes technique'!$B:$B,D$1,'Liste des problèmes technique'!$C:$C,$A2,'Liste des problèmes technique'!$J:$J,Param!$G$2) -> 0 | E2: =COUNTIFS('Liste des problèmes technique'!$B:$B,E$1,'Liste des problèmes technique'!$C:$C,$A2) -> 0 | F2: =COUNTIFS('Liste des problèmes technique'!$B:$B,F$1,'Liste des problèmes technique'!$C:$C,$A2) -> 0 | G2: =COUNTIFS('Liste des problèmes technique'!$B:$B,G$1,'Liste des problèmes technique'!$C:$C,$A2) -> 0 | H2: =COUNTIFS('Liste des problèmes technique'!$B:$B,H$1,'Liste des problèmes technique'!$C:$C,$A2) -> 0 | I2: =COUNTIFS('Liste des problèmes technique'!$B:$B,I$1,'Liste des problèmes technique'!$C:$C,$A2) -> 0 | J2: =COUNTIFS('Liste des problèmes technique'!$B:$B,J$1,'Liste des problèmes technique'!$C:$C,$A2) -> 0
A3: Bogballe | B3: =COUNTIFS('Liste des problèmes technique'!$B:$B,B$1,'Liste des problèmes technique'!$C:$C,$A3,'Liste des problèmes technique'!$J:$J,Param!$G$3) -> 0 | C3: =COUNTIFS('Liste des problèmes technique'!$B:$B,C$1,'Liste des problèmes technique'!$C:$C,$A3,'Liste des problèmes technique'!$J:$J,Param!$G$3) -> 0 | D3: =COUNTIFS('Liste des problèmes technique'!$B:$B,D$1,'Liste des problèmes technique'!$C:$C,$A3,'Liste des problèmes technique'!$J:$J,Param!$G$2) -> 0 | E3: =COUNTIFS('Liste des problèmes technique'!$B:$B,E$1,'Liste des problèmes technique'!$C:$C,$A3) -> 0 | F3: =COUNTIFS('Liste des problèmes technique'!$B:$B,F$1,'Liste des problèmes technique'!$C:$C,$A3) -> 0 | G3: =COUNTIFS('Liste des problèmes technique'!$B:$B,G$1,'Liste des problèmes technique'!$C:$C,$A3) -> 0 | H3: =COUNTIFS('Liste des problèmes technique'!$B:$B,H$1,'Liste des problèmes technique'!$C:$C,$A3) -> 0 | I3: =COUNTIFS('Liste des problèmes technique'!$B:$B,I$1,'Liste des problèmes technique'!$C:$C,$A3) -> 3 | J3: =COUNTIFS('Liste des problèmes technique'!$B:$B,J$1,'Liste des problèmes technique'!$C:$C,$A3) -> 0
A4: Carre | B4: =COUNTIFS('Liste des problèmes technique'!$B:$B,B$1,'Liste des problèmes technique'!$C:$C,$A4,'Liste des problèmes technique'!$J:$J,Param!$G$3) -> 0 | C4: =COUNTIFS('Liste des problèmes technique'!$B:$B,C$1,'Liste des problèmes technique'!$C:$C,$A4,'Liste des problèmes technique'!$J:$J,Param!$G$3) -> 0 | D4: =COUNTIFS('Liste des problèmes technique'!$B:$B,D$1,'Liste des problèmes technique'!$C:$C,$A4,'Liste des problèmes technique'!$J:$J,Param!$G$2) -> 0 | E4: =COUNTIFS('Liste des problèmes technique'!$B:$B,E$1,'Liste des problèmes technique'!$C:$C,$A4) -> 0 | F4: =COUNTIFS('Liste des problèmes technique'!$B:$B,F$1,'Liste des problèmes technique'!$C:$C,$A4) -> 0 | G4: =COUNTIFS('Liste des problèmes technique'!$B:$B,G$1,'Liste des problèmes technique'!$C:$C,$A4) -> 0 | H4: =COUNTIFS('Liste des problèmes technique'!$B:$B,H$1,'Liste des problèmes technique'!$C:$C,$A4) -> 1 | I4: =COUNTIFS('Liste des problèmes technique'!$B:$B,I$1,'Liste des problèmes technique'!$C:$C,$A4) -> 0 | J4: =COUNTIFS('Liste des problèmes technique'!$B:$B,J$1,'Liste des problèmes technique'!$C:$C,$A4) -> 0
A5: Dalbo | B5: =COUNTIFS('Liste des problèmes technique'!$B:$B,B$1,'Liste des problèmes technique'!$C:$C,$A5,'Liste des problèmes technique'!$J:$J,Param!$G$3) -> 0 | C5: =COUNTIFS('Liste des problèmes technique'!$B:$B,C$1,'Liste des problèmes technique'!$C:$C,$A5,'Liste des problèmes technique'!$J:$J,Param!$G$3) -> 0 | D5: =COUNTIFS('Liste des problèmes technique'!$B:$B,D$1,'Liste des problèmes technique'!$C:$C,$A5,'Liste des problèmes technique'!$J:$J,Param!$G$2) -> 0 | E5: =COUNTIFS('Liste des problèmes technique'!$B:$B,E$1,'Liste des problèmes technique'!$C:$C,$A5) -> 1 | F5: =COUNTIFS('Liste des problèmes technique'!$B:$B,F$1,'Liste des problèmes technique'!$C:$C,$A5) -> 0 | G5: =COUNTIFS('Liste des problèmes technique'!$B:$B,G$1,'Liste des problèmes technique'!$C:$C,$A5) -> 0 | H5: =COUNTIFS('Liste des problèmes technique'!$B:$B,H$1,'Liste des problèmes technique'!$C:$C,$A5) -> 0 | I5: =COUNTIFS('Liste des problèmes technique'!$B:$B,I$1,'Liste des problèmes technique'!$C:$C,$A5) -> 0 | J5: =COUNTIFS('Liste des problèmes technique'!$B:$B,J$1,'Liste des problèmes technique'!$C:$C,$A5) -> 1
A6: Desvoys | B6: =COUNTIFS('Liste des problèmes technique'!$B:$B,B$1,'Liste des problèmes technique'!$C:$C,$A6,'Liste des problèmes technique'!$J:$J,Param!$G$3) -> 0 | C6: =COUNTIFS('Liste des problèmes technique'!$B:$B,C$1,'Liste des problèmes technique'!$C:$C,$A6,'Liste des problèmes technique'!$J:$J,Param!$G$3) -> 0 | D6: =COUNTIFS('Liste des problèmes technique'!$B:$B,D$1,'Liste des problèmes technique'!$C:$C,$A6,'Liste des problèmes technique'!$J:$J,Param!$G$2) -> 0 | E6: =COUNTIFS('Liste des problèmes technique'!$B:$B,E$1,'Liste des problèmes technique'!$C:$C,$A6) -> 0 | F6: =COUNTIFS('Liste des problèmes technique'!$B:$B,F$1,'Liste des problèmes technique'!$C:$C,$A6) -> 0 | G6: =COUNTIFS('Liste des problèmes technique'!$B:$B,G$1,'Liste des problèmes technique'!$C:$C,$A6) -> 0 | H6: =COUNTIFS('Liste des problèmes technique'!$B:$B,H$1,'Liste des problèmes technique'!$C:$C,$A6) -> 0 | I6: =COUNTIFS('Liste des problèmes technique'!$B:$B,I$1,'Liste des problèmes technique'!$C:$C,$A6) -> 0 | J6: =COUNTIFS('Liste des problèmes technique'!$B:$B,J$1,'Liste des problèmes technique'!$C:$C,$A6) -> 0
A7: ELHO | B7: =COUNTIFS('Liste des problèmes technique'!$B:$B,B$1,'Liste des problèmes technique'!$C:$C,$A7,'Liste des problèmes technique'!$J:$J,Param!$G$3) -> 0 | C7: =COUNTIFS('Liste des problèmes technique'!$B:$B,C$1,'Liste des problèmes technique'!$C:$C,$A7,'Liste des problèmes technique'!$J:$J,Param!$G$3) -> 1 | D7: =COUNTIFS('Liste des problèmes technique'!$B:$B,D$1,'Liste des problèmes technique'!$C:$C,$A7,'Liste des problèmes technique'!$J:$J,Param!$G$2) -> 0 | E7: =COUNTIFS('Liste des problèmes technique'!$B:$B,E$1,'Liste des problèmes technique'!$C:$C,$A7) -> 0 | F7: =COUNTIFS('Liste des problèmes technique'!$B:$B,F$1,'Liste des problèmes technique'!$C:$C,$A7) -> 0 | G7: =COUNTIFS('Liste des problèmes technique'!$B:$B,G$1,'Liste des problèmes technique'!$C:$C,$A7) -> 0 | H7: =COUNTIFS('Liste des problèmes technique'!$B:$B,H$1,'Liste des problèmes technique'!$C:$C,$A7) -> 0 | I7: =COUNTIFS('Liste des problèmes technique'!$B:$B,I$1,'Liste des problèmes technique'!$C:$C,$A7) -> 0 | J7: =COUNTIFS('Liste des problèmes technique'!$B:$B,J$1,'Liste des problèmes technique'!$C:$C,$A7) -> 0
A8: Fliegl | B8: =COUNTIFS('Liste des problèmes technique'!$B:$B,B$1,'Liste des problèmes technique'!$C:$C,$A8,'Liste des problèmes technique'!$J:$J,Param!$G$3) -> 0 | C8: =COUNTIFS('Liste des problèmes technique'!$B:$B,C$1,'Liste des problèmes technique'!$C:$C,$A8,'Liste des problèmes technique'!$J:$J,Param!$G$3) -> 0 | D8: =COUNTIFS('Liste des problèmes technique'!$B:$B,D$1,'Liste des problèmes technique'!$C:$C,$A8,'Liste des problèmes technique'!$J:$J,Param!$G$2) -> 0 | E8: =COUNTIFS('Liste des problèmes technique'!$B:$B,E$1,'Liste des problèmes technique'!$C:$C,$A8) -> 0 | F8: =COUNTIFS('Liste des problèmes technique'!$B:$B,F$1,'Liste des problèmes technique'!$C:$C,$A8) -> 0 | G8: =COUNTIFS('Liste des problèmes technique'!$B:$B,G$1,'Liste des problèmes technique'!$C:$C,$A8) -> 0 | H8: =COUNTIFS('Liste des problèmes technique'!$B:$B,H$1,'Liste des problèmes technique'!$C:$C,$A8) -> 0 | I8: =COUNTIFS('Liste des problèmes technique'!$B:$B,I$1,'Liste des problèmes technique'!$C:$C,$A8) -> 0 | J8: =COUNTIFS('Liste des problèmes technique'!$B:$B,J$1,'Liste des problèmes technique'!$C:$C,$A8) -> 0
A9: huret | B9: =COUNTIFS('Liste des problèmes technique'!$B:$B,B$1,'Liste des problèmes technique'!$C:$C,$A9,'Liste des problèmes technique'!$J:$J,Param!$G$3) -> 0 | C9: =COUNTIFS('Liste des problèmes technique'!$B:$B,C$1,'Liste des problèmes technique'!$C:$C,$A9,'Liste des problèmes technique'!$J:$J,Param!$G$3) -> 1 | D9: =COUNTIFS('Liste des problèmes technique'!$B:$B,D$1,'Liste des problèmes technique'!$C:$C,$A9,'Liste des problèmes technique'!$J:$J,Param!$G$2) -> 0 | E9: =COUNTIFS('Liste des problèmes technique'!$B:$B,E$1,'Liste des problèmes technique'!$C:$C,$A9) -> 0 | F9: =COUNTIFS('Liste des problèmes technique'!$B:$B,F$1,'Liste des problèmes technique'!$C:$C,$A9) -> 0 | G9: =COUNTIFS('Liste des problèmes technique'!$B:$B,G$1,'Liste des problèmes technique'!$C:$C,$A9) -> 0 | H9: =COUNTIFS('Liste des problèmes technique'!$B:$B,H$1,'Liste des problèmes technique'!$C:$C,$A9) -> 0 | I9: =COUNTIFS('Liste des problèmes technique'!$B:$B,I$1,'Liste des problèmes technique'!$C:$C,$A9) -> 0 | J9: =COUNTIFS('Liste des problèmes technique'!$B:$B,J$1,'Liste des problèmes technique'!$C:$C,$A9) -> 0
A10: Jeantil | B10: =COUNTIFS('Liste des problèmes technique'!$B:$B,B$1,'Liste des problèmes technique'!$C:$C,$A10,'Liste des problèmes technique'!$J:$J,Param!$G$3) -> 0 | C10: =COUNTIFS('Liste des problèmes technique'!$B:$B,C$1,'Liste des problèmes technique'!$C:$C,$A10,'Liste des problèmes technique'!$J:$J,Param!$G$3) -> 0 | D10: =COUNTIFS('Liste des problèmes technique'!$B:$B,D$1,'Liste des problèmes technique'!$C:$C,$A10,'Liste des problèmes technique'!$J:$J,Param!$G$2) -> 0 | E10: =COUNTIFS('Liste des problèmes technique'!$B:$B,E$1,'Liste des problèmes technique'!$C:$C,$A10) -> 0 | F10: =COUNTIFS('Liste des problèmes technique'!$B:$B,F$1,'Liste des problèmes technique'!$C:$C,$A10) -> 0 | G10: =COUNTIFS('Liste des problèmes technique'!$B:$B,G$1,'Liste des problèmes technique'!$C:$C,$A10) -> 0 | H10: =COUNTIFS('Liste des problèmes technique'!$B:$B,H$1,'Liste des problèmes technique'!$C:$C,$A10) -> 0 | I10: =COUNTIFS('Liste des problèmes technique'!$B:$B,I$1,'Liste des problèmes technique'!$C:$C,$A10) -> 0 | J10: =COUNTIFS('Liste des problèmes technique'!$B:$B,J$1,'Liste des problèmes technique'!$C:$C,$A10) -> 0
A11: Joskin | B11: =COUNTIFS('Liste des problèmes technique'!$B:$B,B$1,'Liste des problèmes technique'!$C:$C,$A11,'Liste des problèmes technique'!$J:$J,Param!$G$3) -> 0 | C11: =COUNTIFS('Liste des problèmes technique'!$B:$B,C$1,'Liste des problèmes technique'!$C:$C,$A11,'Liste des problèmes technique'!$J:$J,Param!$G$3) -> 1 | D11: =COUNTIFS('Liste des problèmes technique'!$B:$B,D$1,'Liste des problèmes technique'!$C:$C,$A11,'Liste des problèmes technique'!$J:$J,Param!$G$2) -> 0 | E11: =COUNTIFS('Liste des problèmes technique'!$B:$B,E$1,'Liste des problèmes technique'!$C:$C,$A11) -> 0 | F11: =COUNTIFS('Liste des problèmes technique'!$B:$B,F$1,'Liste des problèmes technique'!$C:$C,$A11) -> 0 | G11: =COUNTIFS('Liste des problèmes technique'!$B:$B,G$1,'Liste des problèmes technique'!$C:$C,$A11) -> 0 | H11: =COUNTIFS('Liste des problèmes technique'!$B:$B,H$1,'Liste des problèmes technique'!$C:$C,$A11) -> 0 | I11: =COUNTIFS('Liste des problèmes technique'!$B:$B,I$1,'Liste des problèmes technique'!$C:$C,$A11) -> 0 | J11: =COUNTIFS('Liste des problèmes technique'!$B:$B,J$1,'Liste des problèmes technique'!$C:$C,$A11) -> 0
A12: Konskilde | B12: =COUNTIFS('Liste des problèmes technique'!$B:$B,B$1,'Liste des problèmes technique'!$C:$C,$A12,'Liste des problèmes technique'!$J:$J,Param!$G$3) -> 1 | C12: =COUNTIFS('Liste des problèmes technique'!$B:$B,C$1,'Liste des problèmes technique'!$C:$C,$A12,'Liste des problèmes technique'!$J:$J,Param!$G$3) -> 0 | D12: =COUNTIFS('Liste des problèmes technique'!$B:$B,D$1,'Liste des problèmes technique'!$C:$C,$A12,'Liste des problèmes technique'!$J:$J,Param!$G$2) -> 0 | E12: =COUNTIFS('Liste des problèmes technique'!$B:$B,E$1,'Liste des problèmes technique'!$C:$C,$A12) -> 0 | F12: =COUNTIFS('Liste des problèmes technique'!$B:$B,F$1,'Liste des problèmes technique'!$C:$C,$A12) -> 0 | G12: =COUNTIFS('Liste des problèmes technique'!$B:$B,G$1,'Liste des problèmes technique'!$C:$C,$A12) -> 0 | H12: =COUNTIFS('Liste des problèmes technique'!$B:$B,H$1,'Liste des problèmes technique'!$C:$C,$A12) -> 0 | I12: =COUNTIFS('Liste des problèmes technique'!$B:$B,I$1,'Liste des problèmes technique'!$C:$C,$A12) -> 0 | J12: =COUNTIFS('Liste des problèmes technique'!$B:$B,J$1,'Liste des problèmes technique'!$C:$C,$A12) -> 0
A13: Kuhn | B13: =COUNTIFS('Liste des problèmes technique'!$B:$B,B$1,'Liste des problèmes technique'!$C:$C,$A13,'Liste des problèmes technique'!$J:$J,Param!$G$3) -> 0 | C13: =COUNTIFS('Liste des problèmes technique'!$B:$B,C$1,'Liste des problèmes technique'!$C:$C,$A13,'Liste des problèmes technique'!$J:$J,Param!$G$3) -> 0 | D13: =COUNTIFS('Liste des problèmes technique'!$B:$B,D$1,'Liste des problèmes technique'!$C:$C,$A13,'Liste des problèmes technique'!$J:$J,Param!$G$2) -> 0 | E13: =COUNTIFS('Liste des problèmes technique'!$B:$B,E$1,'Liste des problèmes technique'!$C:$C,$A13) -> 0 | F13: =COUNTIFS('Liste des problèmes technique'!$B:$B,F$1,'Liste des problèmes technique'!$C:$C,$A13) -> 0 | G13: =COUNTIFS('Liste des problèmes technique'!$B:$B,G$1,'Liste des problèmes technique'!$C:$C,$A13) -> 0 | H13: =COUNTIFS('Liste des problèmes technique'!$B:$B,H$1,'Liste des problèmes technique'!$C:$C,$A13) -> 0 | I13: =COUNTIFS('Liste des problèmes technique'!$B:$B,I$1,'Liste des problèmes technique'!$C:$C,$A13) -> 0 | J13: =COUNTIFS('Liste des problèmes technique'!$B:$B,J$1,'Liste des problèmes technique'!$C:$C,$A13) -> 0
... A34: libre | B34: =COUNTIFS('Liste des problèmes technique'!$B:$B,B$1,'Liste des problèmes technique'!$C:$C,$A34,'Liste des problèmes technique'!$J:$J,Param!$G$3) -> 0 | C34: =COUNTIFS('Liste des problèmes technique'!$B:$B,C$1,'Liste des problèmes technique'!$C:$C,$A34,'Liste des problèmes technique'!$J:$J,Param!$G$3) -> 0 | D34: =COUNTIFS('Liste des problèmes technique'!$B:$B,D$1,'Liste des problèmes technique'!$C:$C,$A34,'Liste des problèmes technique'!$J:$J,Param!$G$2) -> 0 | E34: =COUNTIFS('Liste des problèmes technique'!$B:$B,E$1,'Liste des problèmes technique'!$C:$C,$A34) -> 0 | F34: =COUNTIFS('Liste des problèmes technique'!$B:$B,F$1,'Liste des problèmes technique'!$C:$C,$A34) -> 0 | G34: =COUNTIFS('Liste des problèmes technique'!$B:$B,G$1,'Liste des problèmes technique'!$C:$C,$A34) -> 0 | H34: =COUNTIFS('Liste des problèmes technique'!$B:$B,H$1,'Liste des problèmes technique'!$C:$C,$A34) -> 0 | I34: =COUNTIFS('Liste des problèmes technique'!$B:$B,I$1,'Liste des problèmes technique'!$C:$C,$A34) -> 0 | J34: =COUNTIFS('Liste des problèmes technique'!$B:$B,J$1,'Liste des problèmes technique'!$C:$C,$A34) -> 0

Sheet Liste des problèmes technique
A1: Client | B1: Base | C1: Marque | D1: Type | E1: Modèle | F1: N° de série | G1: livraison | H1: garantie | I1: Détails problème | J1: etat | K1: action | L1: solution
A2: SEUTIN | B2: Aunay | C2: Bogballe | D2: épandeur engrais | E2: M35W PLUS | F2: 134-425 | G2: 44531 | H2: hors garantie | J2: en cours | K2: RDV avec Lemken 06/07/23 | L2: MAJ boitier et test automne
A3: SALIGNY | B3: Aunay | C3: Bogballe | D3: épandeur engrais | E3: M35W PLUS | F3: 166-1910240069-121 | G3: 44593 | H3: hors garantie | J3: en cours | K3: RDV avec Lemken 06/07/23 | L3: MAJ boitier et test automne
A4: LETORT | B4: Aunay | C4: Bogballe | D4: épandeur engrais | E4: M35W PLUS | F4: 1088-2111230249-1223 | G4: 44805 | H4: Sous Garantie | J4: en cours | K4: RDV avec Lemken 06/07/23 | L4: MAJ boitier et test automne
A5: SCEA LA GLANEUSE | B5: Monéteau | C5: Amazone | D5: dechaumeur | E5: catros 9m | F5: WAE1CA300K0001394 | G5: 43709 | H5: hors garantie | I5: casse des rouleaux U | J5: en cours | L5: REMPLACER LES ROULEAUX
A6: SCEA LA GLANEUSE | B6: Monéteau | C6: Amazone | D6: epandeur engrais | E6: ZATS | F6: ZA00027367 | H6: hors garantie | I6: pales tordues | J6: en cours | L6: mettre bavette plus épaisse
A7: CUMA DU MARAIS | B7: Chatillon | C7: ELHO | D7: ramasseuse cailloux | E7: scorpio 550 | F7: 53815975153 | G7: 43983 | H7: hors garantie | I7: remboursement pompe hyd | J7: en cours | K7: elle a été retournée comme prévu | L7: relance SAV
A8: SCEA DE LA METAIRIE | B8: Monéteau | C8: Amazone | D8: epandeur engrais | E8: ZAV | F8: ZA00022004 | I8: problème de répartition | J8: en cours | K8: aller faire test avec des bacs
A9: EARL DES DEUX VALONS | B9: Monéteau | C9: Amazone | D9: dechaumeur | E9: 7003 2TX | F9: CA30001996 | G9: 44348 | H9: hors garantie | I9: boudins qui sortent de leur emplacement | J9: en cours | L9: souder butees
A10: EARL NEVERS | B10: Monéteau | C10: Amazone | D10: epandeur engrais | E10: ZAV | F10: ZA00022894 | H10: hors garantie | I10: trappes qui se coincent et grillent les vérins | J10: en cours
A11: GAEC DE LA CFRESSENNELLE | B11: Chatillon | C11: huret | D11: benne | E11: 32t | F11: BL3202517001 | H11: hors garantie | I11: problème essieu directeur | J11: en cours
A12: MONDEME | B12: Malay | C12: Kverneland | D12: charrue portée | E12: 3300S | F12: YXLPL1B00MAE00299 | G12: 44440 | H12: hors garantie | I12: bourrage roue en condition humide | J12: en cours | K12: info transmise au commercial | L12: acheter roue
A13: BUTIN JEA N MARIE | B13: Malay | C13: Dalbo | D13: rouleau | I13: roulements | J13: en cours
A14: LA FERME AUX CAILLOUX | B14: Malay | C14: Ribouleau | D14: Bineuse | E14: 12 rangs | F14: 10006275 | G14: 40695 | H14: hors garantie | I14: poutre qui casse | J14: en cours | K14: rdv avevc le client 19/06/2023
A15: GAEC MARTENS | B15: Chatillon | C15: Joskin | D15: tonne à lisier | E15: VOLUMETRA | F15: YD81400TSGJB33139 | G15: 43800 | H15: hors garantie | I15: fuites, problème vanne, vérins, etc | J15: en cours | K15: rdv avec tech joskin debut juillet | L15: modifier et essai avec inspecteur
A16: CHEVALIER | B16: Sauvigny | C16: Lemken | D16: semoir | E16: OPTIDISC25 | F16: 504284 | G16: 44835 | H16: Sous Garantie | I16: problème d'alignement par rapport à la herse | J16: en cours | K16: attente retour technique LEMKEM
A17: MADELENAT | B17: Sauvigny | C17: Lemken | D17: TERRIAS | I17: vérin mémoire | J17: en cours | K17: en cours | L17: remplacer le vérin
A18: EARL DU BOIS RENAUD | B18: Sauvigny | C18: Dalbo | D18: rouleau | E18: MINIMAX9,5 | F18: MR7595108620 | G18: 44682 | H18: Sous Garantie | I18: remplacer chassis | J18: en cours | K18: en cours
A19: MARTENS | B19: Chatillon | C19: Lucas.g | D19: DISTRIBUTRICE | E19: DISTRIFEED | F19: CK0010 | G19: 44593 | H19: hors garantie | I19: problème boitier cabine (bouton poussoir) | J19: en cours | K19: récupération schéma chez LUCAS | L19: contrôle des branchements
A20: GIRARDEAU | B20: Beaune | C20: Amazone | D20: épandeur engrais | E20: ZATS | F20: ZA00018525 | G20: 44531 | H20: hors garantie | I20: rouille | J20: en cours | K20: remplacer chassis | L20: prise en charge AMAZONE
A21: MARTIN ADRIEN (CUMA DE SETFOND | B21: Monéteau | C21: Amazone | D21: semoir | E21: PRECEA | H21: Sous Garantie | I21: beaucoup de problèmes | J21: en cours | K21: visite avec inspecteur AMAZONE à prévoir
A22: CUMA DE LA VALLÉE DES VAUX | B22: Beaune | C22: Joskin | D22: tonne à lisier | E22: modulo | F22: YD81600TSKJB36690 | G22: 43891 | H22: hors garantie | I22: rampe qui casse | J22: en cours | K22: la machine rentre mi juillet à l'atelier
A23: FORTIN | B23: Malay | C23: Pottinger | D23: dechaumeur | E23: TERRADISC | F23: VBP00070010000227 | I23: CODE PANNE regulièrement | J23: en cours | K23: doit rentrer à l'atelier
A24: SCEA FERME DE L EGLISE | B24: Malay | C24: Pottinger | D24: charrue portée | E24: servo 45 plus | F24: VBP00050001014366 | G24: 44896 | H24: Sous Garantie | I24: modification | J24: en cours
A25: DEMO SVPRO | B25: Malay | C25: Pottinger | D25: charrue portée | E25: servo 45 plus | F25: VBP00050001014332 | H25: Sous Garantie | I25: modification | J25: en cours
A26: SCEA FAITOUT | B26: Malay | C26: Vaderstat | D26: semoir | E26: rapid RDA600S | F26: 359 | I26: modification | J26: en cours
A27: TVB | B27: Malay | C27: Pottinger | D27: TERRADISC | E27: 10001 T | F27: VBP00070010000293 | G27: 44317 | H27: hors garantie | I27: CODE PANNE regulièrement | J27: en cours
A28: TVB | B28: Malay | C28: Pottinger | D28: TERRADISC | E28: 10001T | F28: VBP00070010000293 | G28: 44318 | H28: hors garantie | I28: axes non percés | J28: en cours | L28: remplacer axe
A29: CORVEE DE LA TOUR | B29: Beaune | C29: Pottinger | D29: dechaumeur | E29: TERRADISC | F29: VBP0007000800383 | H29: hors garantie | I29: rotation des vérins | J29: en cours | K29: remettre 4 vérins neufs
A30: VAL DES VAUX | B30: Beaune | C30: Joskin | D30: tonne à lisier | F30: YD81600TSKJB36690 | H30: hors garantie | I30: rampes qui se brisent | J30: en cours | K30: la tonne doit rentrer mi juillet selon moisson
A31: SCEA POINT | B31: Aunay | C31: Lemken | D31: charrue portée | E31: juwel 7 MVT | F31: 484132 | G31: 44958 | H31: Sous Garantie | I31: la charrue se déserrr de partout | J31: en cours
A32: CUMA DE MALNOUE | B32: Auxonne | C32: Pottinger | D32: dechaumeur | E32: TERRADISC | F32: VBP00070008012236 | H32: hors garantie | I32: manque pièce rampe éclairage | J32: en cours
A33: EARL DE LA VIRANNE | B33: Auxonne | C33: Vaderstat | D33: dechaumeur | E33: carrier | F33: CRXL002566 | G33: 44835 | H33: Sous Garantie | I33: boudin plastique qui sortent | J33: en cours
A34: MEIX DES ANTES | B34: Beaune | C34: Phoenix | D34: BINEUSE | E34: DYNAMIC 6150 | F34: 2434X21 | G34: 44682 | H34: Sous Garantie | I34: CAMERA | J34: en cours | K34: PERTE PAR UPS attente retour phoenix
A35: ETA BRUGEMAN | B35: Monéteau | C35: Amazone | D35: semoir | E35: primera | F35: DMC0021807 | G35: 43922 | H35: hors garantie | I35: usure roues réappui | J35: en cours
A36: DES SABLONS | B36: Auxonne | C36: Carre | D36: dechaumeur | E36: XENOS 4M | F36: 93895 | G36: 44562 | H36: Sous Garantie | I36: l'outil saute à partie de 7km/h | J36: en cours | K36: création compte carre et cde pièces | L36: kit boule d'azote à installer
A37: CLEMENT FREDERIC | B37: Beaune | C37: Pottinger | D37: dechaumeur | E37: TERRADISC | F37: VBP00070008011020 | G37: 44682 | H37: Sous Garantie | I37: casse vis qui tiennent les disques | J37: en cours
A38: SNC DES CORNES | B38: Monéteau | C38: Konskilde | D38: dechaumeur | I38: chassis cassé | J38: en cours | K38: litige assurance
K55: D
A89: OVET jean luc | B89: Malay | C89: Kverneland | D89: charrue | F89: 545
A90: GAEC SAINT VORLES | B90: Chatillon | C90: Amazone | D90: déchaumeur | E90: catros 6002 2ts | F90: CAT0023310CTS0002628 | G90: 43800 | H90: hors garantie | I90: problème hydraulique | J90: en cours
A91: SVPRO | B91: Monéteau | C91: WOODS | D91: broyeur | E91: 1560 | F91: YBFBW1560LB000075 | G91: 44348 | H91: hors garantie | I91: installation contre couteau | J91: en cours
A92: essai
A93: DUBIEF PHILIPPE | B93: Auxonne | C93: Quivogne | D93: dechaumeur | J93: en cours

Sheet Param
A1: Marque | C1: Niveau de garantie | E1: Base | G1: Etat
A2: Amazone | C2: Sous Garantie | E2: Monéteau | G2: Résolu
A3: Bogballe | C3: hors garantie | E3: Malay | G3: en cours
A4: Dalbo | E4: Grandchamp
A5: Jeantil | E5: Chatillon
A6: Joskin | E6: Juilly
A7: Kuhn | E7: Sainte Marie
A8: Kverneland | E8: Auxonne
A9: Lemken | E9: Aunay
A10: Lucas.g | E10: Sauvigny
A11: Monosem
A12: Ribouleau
A13: Rousseau
A14: Fiegl
A15: Konskilde
A16: Pottinger
A17: WOODS
A18: Vaderstat
A19: huret
A20: Sauerburger
A21: Ponge
A22: Sulky
... A31: Phoenix

Sheet Résolu
A1: Client | B1: Base | C1: Marque | D1: Type | E1: Modèle | F1: N° de série | G1: livraison | H1: garantie | I1: Détails problème | J1: etat | K1: action | L1: solution
A2: MORESCO | B2: Monéteau | C2: Amazone | D2: PRIMERA | E2: 6000-2C | F2: DMC0021920 | G2: 44896 | H2: Sous Garantie | I2: plats sur pneu , impossible de dépasser 25 km/h | J2: Résolu | K2: redonner à la stucture sa forme d'origine
A3: SARL DE LA PIERRE | B3: Grandchamp | C3: Amazone | D3: dechaumeur | E3: CENIUS 6003 2TX | F3: CXS0004522 | G3: 43983 | H3: hors garantie | I3: casse des dents | J3: Résolu | L3: remplacer les dents
A4: DELOINCE CEDRIC | B4: Monéteau | C4: Amazone | D4: pulvérisateur | E4: UF2002 | F4: UF20000164 | H4: hors garantie | I4: problème pression et debit | J4: Résolu | K4: pulvé repris
A5: ETA BRUGGEMAN | B5: Malay | C5: Amazone | D5: pulvérisateur | E5: UF2002 | F5: UF20001511 | G5: 44348 | H5: hors garantie | I5: coupure circuit cause prise iso oxydée | J5: Résolu | K5: fournir prise au client il la monte | L5: prise en charge par AMAZONE pièce
A6: EARL DE DUENNE | B6: Monéteau | C6: Amazone | D6: Herse rotative | E6: KG4001 | F6: KG00069556 | G6: 44713 | H6: Sous Garantie | J6: Résolu
A7: DROIT NICOLAS | B7: Monéteau | C7: Pottinger | D7: faucheuse | F7: VBP00021007023269 | G7: 44927 | H7: Sous Garantie | I7: bourrage fuacheuse arriere et avant | J7: Résolu | K7: ESSAI en condition | L7: montage tole et reglage pression au sol
A8: SCEA DU PUIT DE MEAUX | B8: Sauvigny | C8: Fiegl | D8: herse chaine | E8: KSE | F8: WGJ111062MM302534 | G8: 44378 | H8: hors garantie | I8: réparation chassis | J8: Résolu | K8: attente remboursement
A9: SCEA DU MONTOT | B9: Sauvigny | C9: Konskilde | D9: vibroculteur | E9: VM3083 | F9: KTNKA212C00001178 | G9: 44105 | H9: hors garantie | I9: support dents et dents qui cassent | J9: Résolu | K9: info transmise au commercial
A10: EARL CHEVALIER | B10: Sauvigny | C10: Lemken | D10: OPTIDISC 25 | F10: 504284 | G10: 44835 | H10: Sous Garantie | I10: poutre à changer | J10: Résolu | K10: en cours
A11: SCEA GOUX | B11: Monéteau | C11: Amazone | D11: CONDOR | I11: montage controleur de semis manque pièces | J11: Résolu
A12: DUICK ALBAN | B12: Monéteau | C12: Pottinger | D12: SEMOIR | I12: manque les bacs de test | J12: Résolu
A13: PONSARD | B13: Beaune | C13: Pottinger | D13: herse rotative | E13: lion 303 | F13: VBP00060008004806 | G13: 45017 | H13: Sous Garantie | I13: problème installation aerosem | J13: Résolu
A14: CUMA NEUVY SAUTOUR | B14: Monéteau | C14: WOODS | D14: broyeur | E14: 15/60 | F14: YBFBW1560LB000075 | I14: perte rampe éclairage | J14: Résolu
A15: CUMA DE L EAU DELA | B15: Beaune | C15: WOODS | D15: broyeur | E15: 15/60 | F15: YBFBW1560LB000076 | G15: 44713 | H15: hors garantie | I15: casse support de roue | J15: Résolu | K15: ressouder en attendant | L15: prise en charge de la réparation provisoire et des pièces neuves
A16: EARL DU PETIT MOULIN | B16: Chatillon | C16: Kverneland | D16: epandeur engrais | E16: Exacta TLX | F16: VN2710201232 | G16: 44317 | H16: hors garantie | I16: usure prématurée des pales | J16: Résolu | K16: relance après le 8 aout
A17: GAEC REUILLET | B17: Auxonne | C17: KUHN | D17: faneuse | E17: GF10812 | F17: KSAA1019H80B00414 | G17: 44652 | H17: hors garantie | I17: support et vérin cassés | J17: Résolu | K17: pièces en commande | L17: Prise en charge par KUHN des pièces et 2h MO
A18: GAEC REUILLET | B18: Auxonne | C18: KUHN | D18: FAneuse | E18: GF8712 | F18: KSAA1019T70B02117 | G18: 44621 | H18: hors garantie | I18: ressorts vanne hydraulique qui cassent | J18: Résolu | K18: pièces en commande | L18: prise en charge des pièces
A19: PONSARD | B19: Beaune | C19: Pottinger | D19: HERSE | E19: lion 303 | F19: VBP00060008004806 | H19: Sous Garantie | I19: problème pièces | J19: Résolu | K19: pottinger refuse le retour des pièces
A20: PRIOTTE | B20: Beaune | C20: Amazone | D20: epandeur engrais | E20: zav | F20: ZA00025238 | H20: hors garantie | I20: boitier qui se coupe | J20: Résolu | K20: problème prise
A21: GAEC DES ETANGS | B21: Monéteau | C21: Amazone | D21: epandeur engrais | E21: ZATS | F21: ZA00027082 | G21: 44866 | I21: ROUILLE | J21: Résolu | K21: attente inspecteur
A22: GAEC DE VELLE | B22: Aunay | C22: Joskin | D22: tonne à EAU | E22: AQUATRANS | F22: TE02697/36 | H22: Sous Garantie | I22: MANQUE FLOTTEUR | J22: Résolu
A23: CORDIER | B23: Monéteau | C23: Sauerburger | D23: faucheuse | E23: DMS | F23: SB24784 | G23: 45108 | H23: Sous Garantie | I23: attelage euro mal soudé | J23: Résolu
A24: CUMA DE VENOUSE PONTIGNY | B24: Monéteau | C24: Sauerburger | D24: broyeur | E24: CONDOR 5000 | F24: SA4016 | G24: 44805 | H24: Sous Garantie | I24: supports se roues cassés | J24: Résolu | K24: l'usine envoi des pièces à souder | L24: pièces à souder
A25: GAEC DE CHANGY | B25: Juilly | C25: Sauerburger | D25: broyeur | E25: CONDOR 5000 | F25: SB24706 | G25: 45108 | H25: Sous Garantie | I25: programme couteaux | J25: Résolu
A26: EARL DU BOURG D'ACHUN | B26: Aunay | C26: Sauerburger | D26: broyeur | E26: CONDOR 5000 | F26: SB24712 | G26: 45078 | I26: programme couteaux | J26: Résolu
A27: STOCK | C27: Sauerburger | D27: broyeur | E27: CONDOR 5000 | F27: SB24710 | I27: programme couteaux | J27: Résolu
A28: STOCK | C28: Sauerburger | D28: broyeur | E28: CONDOR 5000 | F28: SB24709 | I28: programme couteaux | J28: Résolu
A29: STOCK | C29: Sauerburger | D29: broyeur | E29: CONDOR 5000 | F29: SB24720 | I29: programme couteaux | J29: Résolu
A30: STOCK | C30: Sauerburger | D30: broyeur | E30: condor 7300 | F30: SA4022 | I30: programme couteaux | J30: Résolu
A31: CUMA DES GATINES | B31: Malay | C31: Sauerburger | D31: broyeur | E31: CONDOR 5000 | F31: SA4004 | G31: 44805 | I31: programme couteaux | J31: Résolu
A32: CUMA DE BEARD | B32: Sauvigny | C32: Sauerburger | D32: broyeur | E32: CONDOR 5000 | F32: SA4005 | G32: 44866 | I32: programme couteaux | J32: Résolu
A33: CUMA DE BEARD | B33: Sauvigny | C33: Sauerburger | D33: broyeur | E33: CONDOR 5000 | F33: SA4033 | G33: 44866 | I33: programme couteaux | J33: Résolu
A34: GODIER BERTRAND | B34: Malay | C34: Sauerburger | D34: broyeur | E34: condor 7300 | F34: SA4006 | G34: 44896 | I34: programme couteaux | J34: Résolu
A35: CUMA DE NEUVY SAUTOUR | B35: Monéteau | C35: Sauerburger | D35: broyeur | E35: CONDOR 5000 | F35: SA4048 | G35: 45047 | I35: programme couteaux | J35: Résolu
A36: GAEC LARIVE PÈRE ET FILS | B36: AUNAY | C36: Sauerburger | D36: broyeur | E36: CONDOR 50010 | F36: SA4049 | G36: 45078 | I36: programme couteaux | J36: Résolu
A37: CUMA DE BELLEVUE | B37: Chatillon | C37: Amazone | D37: dechaumeur | E37: CATROS | F37: CA30000518 | G37: 43374 | H37: hors garantie | I37: casse chassis | J37: Résolu
A38: ETA BRUGGEMAN | B38: Malay | C38: Amazone | D38: semoir | E38: PRIMERA | F38: DMC0021807 | G38: 43922 | H38: hors garantie | I38: détérioration pneus, ils sont HS | J38: Résolu
A39: MAGNON BENOIT | B39: Juilly | C39: Pottinger | D39: faucheuse | E39: T307ED | F39: VBP00021005001409 | G39: 43952 | H39: hors garantie | I39: CASSE POUTRE | J39: Résolu | K39: facture reparation refusee par le client | L39: relance pottinger le 24/07/202
A40: GAEC DU CONFLUENT | B40: Beaune | C40: Ponge | D40: bétaillère | F40: VF9BHX11070705132 | G40: 44896 | H40: Sous Garantie | I40: flexilble déssertis | J40: Résolu | K40: date à définir | L40: remplacement de tous les flexibles par PONGE

Sheet Chatillon
A1: Client | B1: Base | C1: Marque | D1: Type | E1: Modèle | F1: N° de série | G1: livraison | H1: garantie | I1: Détails problème | J1: etat | K1: action | L1: solution
A2: CUMA DU MARAIS | B2: Chatillon | C2: ELHO | D2: ramasseuse cailloux | E2: scorpio 550 | F2: 53815975153 | G2: 43983 | H2: hors garantie | I2: remboursement pompe hyd | J2: en cours | K2: elle a été retournée comme prévu | L2: relance SAV
A3: GAEC DE LA CFRESSENNELLE | B3: Chatillon | C3: huret | D3: benne | E3: 32t | F3: BL3202517001 | H3: hors garantie | I3: problème essieu directeur | J3: en cours
A4: GAEC MARTENS | B4: Chatillon | C4: Joskin | D4: tonne à lisier | E4: VOLUMETRA | F4: YD81400TSGJB33139 | G4: 43800 | H4: hors garantie | I4: fuites, problème vanne, vérins, etc | J4: en cours | K4: rdv avec tech joskin debut juillet | L4: modifier et essai avec inspecteur
A5: MARTENS | B5: Chatillon | C5: Lucas.g | D5: DISTRIBUTRICE | E5: DISTRIFEED | F5: CK0010 | G5: 44593 | H5: hors garantie | I5: problème boitier cabine (bouton poussoir) | J5: en cours | K5: récupération schéma chez LUCAS | L5: contrôle des branchements
A6: GAEC SAINT VORLES | B6: Chatillon | C6: Amazone | D6: déchaumeur | E6: catros 6002 2ts | F6: CAT0023310CTS0002628 | G6: 43800 | H6: hors garantie | I6: problème hydraulique | J6: en cours
A7: EARL DE LA BOISSIERE | B7: Chatillon | C7: Amazone | D7: SEMOIR | E7: PRIMERA | F7: DMC0021895 | G7: 44470 | H7: HOrs garantie | I7: temps réaction grenndrill | J7: en cours
A8: DE MEY | B8: Chatillon | C8: Amazone | D8: SEMOIR | E8: PRECEA | F8: PRE0000331 | G8: 44805 | H8: hors garantie | I8: PROGRAMME FLEXIBLE | J8: en cours
A9: GAEC DE CHAMPIGNY | B9: Chatillon | C9: Amazone | D9: épandeur engrais | E9: ZATS

Sheet Malay
A1: Client | B1: Base | C1: Marque | D1: Type | E1: Modèle | F1: N° de série | G1: livraison | H1: garantie | I1: Détails problème | J1: etat | K1: action | L1: solution
A2: ETA BRUGGEMAN | B2: Malay | C2: Amazone | D2: pulvérisateur | E2: UF2002 | F2: UF20001511 | G2: 44348 | H2: hors garantie | I2: coupure circuit cause prise iso oxydée | J2: terminé | K2: fournir prise au client il la monte | L2: prise en charge par AMAZONE pièce
A3: BUTIN JEA N MARIE | B3: Malay | C3: Dalbo | D3: rouleau | I3: roulements | J3: en cours
A4: LA FERME AUX CAILLOUX | B4: Malay | C4: Ribouleau | D4: Bineuse | E4: 12 rangs | F4: 10006275 | G4: 40695 | H4: hors garantie | I4: poutre qui casse | J4: en cours | K4: rdv avevc le client 19/06/2023
A5: FORTIN | B5: Malay | C5: Pottinger | D5: dechaumeur | E5: TERRADISC | F5: VBP00070010000227 | I5: CODE PANNE regulièrement | J5: en cours | K5: doit rentrer à l'atelier
A6: SCEA FERME DE L EGLISE | B6: Malay | C6: Pottinger | D6: charrue portée | E6: servo 45 plus | F6: VBP00050001014366 | G6: 44896 | H6: Sous Garantie | I6: modification | J6: en cours
A7: DEMO SVPRO | B7: Malay | C7: Pottinger | D7: charrue portée | E7: servo 45 plus | F7: VBP00050001014332 | H7: Sous Garantie | I7: modification | J7: en cours
A8: SCEA FAITOUT | B8: Malay | C8: Vaderstat | D8: semoir | E8: rapid RDA600S | F8: 359 | I8: modification | J8: en cours
A9: TVB | B9: Malay | C9: Pottinger | D9: TERRADISC | E9: 10001 T | F9: VBP00070010000293 | G9: 44317 | H9: hors garantie | I9: CODE PANNE regulièrement | J9: en cours
A10: TVB | B10: Malay | C10: Pottinger | D10: TERRADISC | E10: 10001T | F10: VBP00070010000293 | G10: 44318 | H10: hors garantie | I10: axes non percés | J10: en cours | L10: remplacer axe
A11: OVET jean luc | B11: Malay | C11: Kverneland | D11: charrue | F11: 545 | I11: problème varilarge | J11: en cours | K11: changer bloc hyd en stock malay
A12: LANNEAU FREDERIC | B12: Malay | C12: Amazone | D12: Dechaumeur | E12: CATROS 6002 2ts | F12: CAT0023380CTS0002648 | G12: 44440 | H12: hors garantie | I12: casse rouleau | J12: en cours
A13: LANNEAU FREDERIC | B13: Malay | C13: Amazone | D13: herse rotative | E13: KG | F13: ADP0011495 | G13: 42856 | H13: hors garantie | I13: soudure support rouleau | J13: en cours

Sheet Juilly
A1: Client | B1: Base | C1: Marque | D1: Type | E1: Modèle | F1: N° de série | G1: livraison | H1: garantie | I1: Détails problème | J1: etat | K1: action | L1: solution

Sheet Aunay
A1: Client | B1: Base | C1: Marque | D1: Type | E1: Modèle | F1: N° de série | G1: livraison | H1: garantie | I1: Détails problème | J1: etat | K1: action | L1: solution
A2: SEUTIN | B2: Aunay | C2: Bogballe | D2: épandeur engrais | E2: M35W PLUS | F2: 134-425 | G2: 44531 | H2: hors garantie | J2: en cours | K2: RDV avec Lemken 06/07/23 | L2: MAJ boitier et test automne
A3: SALIGNY | B3: Aunay | C3: Bogballe | D3: épandeur engrais | E3: M35W PLUS | F3: 166-1910240069-121 | G3: 44593 | H3: hors garantie | J3: en cours | K3: RDV avec Lemken 06/07/23 | L3: MAJ boitier et test automne
A4: LETORT | B4: Aunay | C4: Bogballe | D4: épandeur engrais | E4: M35W PLUS | F4: 1088-2111230249-1223 | G4: 44805 | H4: Sous Garantie | J4: en cours | K4: RDV avec Lemken 06/07/23 | L4: MAJ boitier et test automne
A5: SCEA POINT | B5: Aunay | C5: Lemken | D5: charrue portée | E5: juwel 7 MVT | F5: 484132 | G5: 44958 | H5: Sous Garantie | I5: la charrue se déserrr de partout | J5: en cours
A6: GAEC DU MOULIN LA FORET | B6: Aunay | C6: Pottinger | D6: BINEUSE | E6: FLEX CAIR V4700 | F6: VBP00072002000048 | G6: 45017 | H6: Sous Garantie | I6: socs qui cassent | J6: en cours | K6: nouveaux socs en test chez pottinger

Sheet Sainte Marie
A1: Client | B1: Base | C1: Marque | D1: Type | E1: Modèle | F1: N° de série | G1: livraison | H1: garantie | I1: Détails problème | J1: etat | K1: action | L1: solution
A2: GIRARDEAU | B2: Sainte Marie | C2: Amazone | D2: épandeur engrais | E2: ZATS | F2: ZA00018525 | G2: 44531 | H2: hors garantie | I2: rouille | J2: en cours | K2: remplacer chassis | L2: prise en charge AMAZONE
A3: CUMA DE LA VALLÉE DES VAUX | B3: Sainte Marie | C3: Joskin | D3: tonne à lisier | E3: modulo | F3: YD81600TSKJB36690 | G3: 43891 | H3: hors garantie | I3: rampe qui casse | J3: en cours | K3: la machine rentre mi juillet à l'atelier
A4: CUMA DE L EAU DELA | B4: Sainte Marie | C4: WOODS | D4: broyeur | E4: 15/60 | F4: YBFBW1560LB000076 | G4: 44713 | H4: hors garantie | I4: casse support de roue | J4: en cours | K4: ressouder en attendant | L4: prise en charge de la réparation provisoire et des pièces neuves
A5: CORVEE DE LA TOUR | B5: Sainte Marie | C5: Pottinger | D5: dechaumeur | E5: TERRADISC | F5: VBP0007000800383 | H5: hors garantie | I5: rotation des vérins | J5: en cours | K5: remettre 4 vérins neufs
A6: VAL DES VAUX | B6: Sainte Marie | C6: Joskin | D6: tonne à lisier | F6: YD81600TSKJB36690 | H6: hors garantie | I6: rampes qui se brisent | J6: en cours | K6: la tonne doit rentrer mi juillet selon moisson
A7: GAEC DU CONFLUENT | B7: Sainte Marie | C7: Ponge | D7: bétaillère | F7: VF9BHX11070705132 | G7: 44896 | H7: Sous Garantie | I7: flexilble déssertis | J7: en cours | K7: date à définir | L7: remplacement de tous les flexibles par PONGE
A8: MEIX DES ANTES | B8: Sainte Marie | C8: PHOENIX | D8: BINEUSE | E8: DYNAMIC 6150 | F8: 2434X21 | G8: 44682 | H8: Sous Garantie | I8: CAMERA | J8: en cours | K8: PERTE PAR UPS attente retour phoenix
B9: Sainte Marie | C9: Amazone

Sheet Auxonne
A1: Client | B1: Base | C1: Marque | D1: Type | E1: Modèle | F1: N° de série | G1: livraison | H1: garantie | I1: Détails problème | J1: etat | K1: action | L1: solution
A2: CUMA DE MALNOUE | B2: Auxonne | C2: Pottinger | D2: dechaumeur | E2: TERRADISC | F2: VBP00070008012236 | H2: hors garantie | I2: manque pièce rampe éclairage | J2: en cours
A3: EARL DE LA VIRANNE | B3: Auxonne | C3: Vaderstat | D3: dechaumeur | E3: carrier | F3: CRXL002566 | G3: 44835 | H3: Sous Garantie | I3: boudin plastique qui sortent | J3: en cours
A4: DES SABLONS | B4: Auxonne | C4: Carre | D4: dechaumeur | E4: XENOS 4M | F4: 93895 | G4: 44562 | H4: Sous Garantie | I4: l'outil saute à partie de 7km/h | J4: en cours | K4: création compte carre et cde pièces | L4: kit boule d'azote à installer
A5: DUBIEF PHILIPPE | B5: Auxonne | C5: Quivogne | D5: dechaumeur | J5: en cours

Sheet Sauvigny
A1: Client | B1: Base | C1: Marque | D1: Type | E1: Modèle | F1: N° de série | G1: livraison | H1: garantie | I1: Détails problème | J1: etat | K1: action | L1: solution
A2: CHEVALIER | B2: Sauvigny | C2: Lemken | D2: semoir | E2: OPTIDISC25 | F2: 504284 | G2: 44835 | H2: Sous Garantie | I2: problème d'alignement par rapport à la herse | J2: en cours | K2: attente retour technique LEMKEM
A3: MADELENAT | B3: Sauvigny | C3: Lemken | D3: TERRIAS | I3: vérin mémoire | J3: en cours | K3: en cours | L3: remplacer le vérin
A4: EARL DU BOIS RENAUD | B4: Sauvigny | C4: Dalbo | D4: rouleau | E4: MINIMAX9,5 | F4: MR7595108620 | G4: 44682 | H4: Sous Garantie | I4: remplacer chassis | J4: en cours | K4: en cours

Sheet Grandchamp
A1: Client | B1: Base | C1: Marque | D1: Type | E1: Modèle | F1: N° de série | G1: livraison | H1: garantie | I1: Détails problème | J1: etat | K1: action | L1: solution
A2: SARL DE LA PIERRE | B2: Grandchamp | C2: Amazone | D2: dechaumeur | E2: CENIUS 6003 2TX | F2: CXS0004522 | G2: 43983 | H2: hors garantie | I2: casse des dents | J2: Résolu | L2: remplacer les dents

Sheet Monéteau
A1: Client | B1: Base | C1: Marque | D1: Type | E1: Modèle | F1: N° de série | G1: livraison | H1: garantie | I1: Détails problème | J1: etat | K1: action | L1: solution
A2: DELOINCE CEDRIC | B2: Monéteau | C2: Amazone | D2: pulvérisateur | E2: UF2002 | F2: UF20000164 | H2: hors garantie | I2: problème pression et debit | J2: sans solution | K2: pulvé repris
A3: SCEA LA GLANEUSE | B3: Monéteau | C3: Amazone | D3: dechaumeur | E3: catros 9m | F3: WAE1CA300K0001394 | G3: 43709 | H3: hors garantie | I3: casse des rouleaux U | J3: en cours | L3: REMPLACER LES ROULEAUX
A4: SCEA LA GLANEUSE | B4: Monéteau | C4: Amazone | D4: epandeur engrais | E4: ZATS | F4: ZA00027367 | H4: hors garantie | I4: pales tordues | J4: en cours | L4: mettre bavette plus épaisse
A5: SCEA DE LA METAIRIE | B5: Monéteau | C5: Amazone | D5: epandeur engrais | E5: ZAV | F5: ZA00022004 | I5: problème de répartition | J5: en cours | K5: aller faire test avec des bacs
A6: EARL DES DEUX VALONS | B6: Monéteau | C6: Amazone | D6: dechaumeur | E6: 7003 2TX | F6: CA30001996 | G6: 44348 | H6: hors garantie | I6: boudins qui sortent de leur emplacement | J6: en cours | L6: souder butees
A7: EARL NEVERS | B7: Monéteau | C7: Amazone | D7: epandeur engrais | E7: ZAV | F7: ZA00022894 | H7: hors garantie | I7: trappes qui se coincent et grillent les vérins | J7: en cours
A8: DROIT NICOLAS | B8: Monéteau | C8: Pöttinger | D8: faucheuse | F8: VBP00021007023269 | G8: 44927 | H8: Sous Garantie | I8: bourrage fuacheuse arriere et avant | J8: en cours | K8: ESSAI en condition | L8: montage tole et reglage pression au sol
A9: MARTIN ADRIEN (CUMA DE SETFOND | B9: Monéteau | C9: Amazone | D9: semoir | E9: PRECEA | H9: Sous Garantie | I9: beaucoup de problèmes | J9: en cours | K9: visite avec inspecteur AMAZONE à prévoir
A10: CUMA NEUVY SAUTOUR | B10: Monéteau | C10: WOODS | D10: broyeur | E10: 15/60 | F10: YBFBW1560LB000075 | I10: perte rampe éclairage | J10: en cours
A11: GAEC DES ETANGS | B11: Monéteau | C11: Amazone | D11: epandeur engrais | E11: ZATS | F11: ZA00027082 | G11: 44866 | I11: ROUILLE | J11: en cours | K11: attente inspecteur
A12: SVPRO | B12: Monéteau | C12: WOODS | D12: broyeur | E12: 1560 | F12: YBFBW1560LB000075 | G12: 44348 | H12: hors garantie | I12: installation contre couteau | J12: en cours
A13: LAZ | B13: Monéteau | C13: Pöttinger | D13: SEMOIR | E13: AEROSEM FDD | F13: VBP00065009000367 | G13: 45139 | H13: Sous Garantie | I13: PRESSION CUVE ET VERIN PRELEVEE | J13: en cours
