Workbook

Sheet Tarifs Vins
A1: CÉPAGES | B1: QUANTITÉ EN LITRES | C1: ANNÉE | E1: PRIX TTC
A3: SYLVANER | B3: 1 | C3: 2015 | E3: 6.5
A4: EDELZWICKER | B4: 1 | C4: 2018 | E4: 6.5
A5: PINOT BLANC | B5: 1 | C5: 2017 | E5: 6.5
A6: RIESLING | B6: 1 | C6: 2017 | E6: 6.7
A8: AUXEROIS | B8: 0.75 | C8: 2018 | E8: 7
A10: MUSCAT | B10: 0.75 | C10: 2018 | E10: 7.5
A12: ARGENTORATUM | B12: 0.75 | C12: 2019 | E12: 11
A14: RIESLING (Finkenberg) | B14: 0.75 | C14: 2017 | E14: 7.5
A15: RIESLING (Vieilles Vignes) | B15: 0.75 | C15: 2017 | E15: 9
A16: RIESLING (Grand Cru Engelberg) | B16: 0.75 | C16: 2016 | E16: 13
A18: PINOT GRIS | B18: 0.75 | C18: 2017 | E18: 7.5
A19: PINOT GRIS (Vieilles Vignes) | B19: 0.75 | C19: 2016 | E19: 9.5
... A31: PINOT NOIR (Rouge) | B31: 0.75 | C31: 206 | E31: 11
A32: PINOT NOIR (Cuvée D'Été | B32: 0.75 | C32: 2020 | E32: Épuisé
A34: CRÉMANT D'ALSACE BLANC | B34: 0.75 | E34: 9
A35: CRÉMANT D'ALSACE ROSÉ | B35: 0.75 | E35: 9.5
A37: CRÉMANT D'ALSACE BLANC (Magnum) | B37: 1.5 | E37: 22
A38: CRÉMANT D'ALSACE ROSÉ (Magnum) | B38: 1.5 | E38: 24

Sheet Commande
C1: Prix | D1: Qté | E1: Qté en Litres | G1: Total
A3: Jean | B3: CRÉMANT D'ALSACE BLANC | C3: =IFERROR(VLOOKUP(B3,'Tarifs Vins'!A6:E41,5,FALSE),0) -> 9 | D3: 6 | E3: =IFERROR($D$3*VLOOKUP(B3,'Tarifs Vins'!A6:E41,2,FALSE),"") -> 4.5 | G3: =C3*D3 -> 54
A4: - | C4: =IFERROR(VLOOKUP(B4,'Tarifs Vins'!A7:E42,5,FALSE),0) -> 0 | E4: =IFERROR($D$3*VLOOKUP(B4,'Tarifs Vins'!A7:E42,2,FALSE),"") | G4: =C4*D4 -> 0 | J4: Total en Litres | K4: =SUM(E:E) -> 27
A5: Annie | B5: CRÉMANT D'ALSACE BLANC | C5: =IFERROR(VLOOKUP(B5,'Tarifs Vins'!A8:E43,5,FALSE),0) -> 9 | D5: 6 | E5: =IFERROR($D$3*VLOOKUP(B5,'Tarifs Vins'!A8:E43,2,FALSE),"") -> 4.5 | G5: =C5*D5 -> 54 | J5: Litres Maximun | K5: 90
A6: - | C6: =IFERROR(VLOOKUP(B6,'Tarifs Vins'!A9:E44,5,FALSE),0) -> 0 | E6: =IFERROR($D$3*VLOOKUP(B6,'Tarifs Vins'!A9:E44,2,FALSE),"") | G6: =C6*D6 -> 0
A7: Sorel Benoit | B7: RIESLING (Vieilles Vignes) | C7: =IFERROR(VLOOKUP(B7,'Tarifs Vins'!A10:E45,5,FALSE),0) -> 9 | D7: 6 | E7: =IFERROR($D$3*VLOOKUP(B7,'Tarifs Vins'!A10:E45,2,FALSE),"") -> 4.5 | G7: =C7*D7 -> 54 | J7: Total Restant En Litre | K7: =K5-K4 -> 63
A8: Sorel Benoit | B8: GEWURZTRAMINER | C8: =IFERROR(VLOOKUP(B8,'Tarifs Vins'!A11:E46,5,FALSE),0) -> 8.5 | D8: 6 | E8: =IFERROR($D$3*VLOOKUP(B8,'Tarifs Vins'!A11:E46,2,FALSE),"") -> 4.5 | G8: =C8*D8 -> 51
A9: - | C9: =IFERROR(VLOOKUP(B9,'Tarifs Vins'!A12:E47,5,FALSE),0) -> 0 | E9: =IFERROR($D$3*VLOOKUP(B9,'Tarifs Vins'!A12:E47,2,FALSE),"") | G9: =C9*D9 -> 0
A10: Sorel Romain | B10: RIESLING (Vieilles Vignes) | C10: =IFERROR(VLOOKUP(B10,'Tarifs Vins'!A13:E48,5,FALSE),0) -> 9 | D10: 6 | E10: =IFERROR($D$3*VLOOKUP(B10,'Tarifs Vins'!A13:E48,2,FALSE),"") -> 4.5 | G10: =C10*D10 -> 54 | J10: Tony | K10: 0
A11: Sorel Romain | B11: GEWURZTRAMINER | C11: =IFERROR(VLOOKUP(B11,'Tarifs Vins'!A14:E49,5,FALSE),0) -> 8.5 | D11: 6 | E11: =IFERROR($D$3*VLOOKUP(B11,'Tarifs Vins'!A14:E49,2,FALSE),"") -> 4.5 | G11: =C11*D11 -> 51 | J11: Moi | K11: 0
A12: - | C12: =IFERROR(VLOOKUP(B12,'Tarifs Vins'!A15:E50,5,FALSE),0) -> 0 | E12: =IFERROR($D$3*VLOOKUP(B12,'Tarifs Vins'!A15:E50,2,FALSE),"") | G12: =C12*D12 -> 0 | J12: Sorel Benoit | K12: 0 | L12: =SUM(G7:G8) -> 105
A13: - | C13: =IFERROR(VLOOKUP(B13,'Tarifs Vins'!A16:E51,5,FALSE),0) -> 0 | E13: =IFERROR($D$3*VLOOKUP(B13,'Tarifs Vins'!A16:E51,2,FALSE),"") | G13: =C13*D13 -> 0 | J13: Sorel Romain | K13: 0 | L13: =SUM(G10:G11) -> 105
A14: - | C14: =IFERROR(VLOOKUP(B14,'Tarifs Vins'!A17:E52,5,FALSE),0) -> 0 | E14: =IFERROR($D$3*VLOOKUP(B14,'Tarifs Vins'!A17:E52,2,FALSE),"") | G14: =C14*D14 -> 0 | J14: Hervé | K14: 0
A15: - | C15: =IFERROR(VLOOKUP(B15,'Tarifs Vins'!A18:E53,5,FALSE),0) -> 0 | E15: =IFERROR($D$3*VLOOKUP(B15,'Tarifs Vins'!A18:E53,2,FALSE),"") | G15: =C15*D15 -> 0 | J15: Marraine | K15: 0
A16: - | C16: =IFERROR(VLOOKUP(B16,'Tarifs Vins'!A19:E54,5,FALSE),0) -> 0 | E16: =IFERROR($D$3*VLOOKUP(B16,'Tarifs Vins'!A19:E54,2,FALSE),"") | G16: =C16*D16 -> 0 | J16: Olivier | K16: 0
A17: - | C17: =IFERROR(VLOOKUP(B17,'Tarifs Vins'!A20:E55,5,FALSE),0) -> 0 | E17: =IFERROR($D$3*VLOOKUP(B17,'Tarifs Vins'!A20:E55,2,FALSE),"") | G17: =C17*D17 -> 0 | J17: Jean | K17: 0 | L17: =G3 -> 54
A18: - | C18: =IFERROR(VLOOKUP(B18,'Tarifs Vins'!A21:E56,5,FALSE),0) -> 0 | E18: =IFERROR($D$3*VLOOKUP(B18,'Tarifs Vins'!A21:E56,2,FALSE),"") | G18: =C18*D18 -> 0 | J18: Annie | K18: 0 | L18: =G5 -> 54
A19: - | C19: =IFERROR(VLOOKUP(B19,'Tarifs Vins'!A22:E57,5,FALSE),0) -> 0 | E19: =IFERROR($D$3*VLOOKUP(B19,'Tarifs Vins'!A22:E57,2,FALSE),"") | G19: =C19*D19 -> 0
A20: - | C20: =IFERROR(VLOOKUP(B20,'Tarifs Vins'!A22:E58,5,FALSE),0) -> 0 | E20: =IFERROR($D$3*VLOOKUP(B20,'Tarifs Vins'!A22:E58,2,FALSE),"") | G20: =C20*D20 -> 0
A21: - | C21: =IFERROR(VLOOKUP(B21,'Tarifs Vins'!A23:E59,5,FALSE),0) -> 0 | E21: =IFERROR($D$3*VLOOKUP(B21,'Tarifs Vins'!A23:E59,2,FALSE),"") | G21: =C21*D21 -> 0
A22: - | C22: =IFERROR(VLOOKUP(B22,'Tarifs Vins'!A24:E60,5,FALSE),0) -> 0 | E22: =IFERROR($D$3*VLOOKUP(B22,'Tarifs Vins'!A24:E60,2,FALSE),"") | G22: =C22*D22 -> 0 | J22: Total Achat Vins | K22: =SUM(K10:K18) -> 0 | L22: =SUM(L10:L18) -> 318
A23: - | C23: =IFERROR(VLOOKUP(B23,'Tarifs Vins'!A25:E61,5,FALSE),0) -> 0 | E23: =IFERROR($D$3*VLOOKUP(B23,'Tarifs Vins'!A25:E61,2,FALSE),"") | G23: =C23*D23 -> 0
A24: - | C24: =IFERROR(VLOOKUP(B24,'Tarifs Vins'!A26:E62,5,FALSE),0) -> 0 | E24: =IFERROR($D$3*VLOOKUP(B24,'Tarifs Vins'!A26:E62,2,FALSE),"") | G24: =C24*D24 -> 0
A25: - | C25: =IFERROR(VLOOKUP(B25,'Tarifs Vins'!A27:E63,5,FALSE),0) -> 0 | E25: =IFERROR($D$3*VLOOKUP(B25,'Tarifs Vins'!A27:E63,2,FALSE),"") | G25: =C25*D25 -> 0
A26: - | C26: =IFERROR(VLOOKUP(B26,'Tarifs Vins'!A28:E64,5,FALSE),0) -> 0 | E26: =IFERROR($D$3*VLOOKUP(B26,'Tarifs Vins'!A28:E64,2,FALSE),"") | G26: =C26*D26 -> 0
A27: - | C27: =IFERROR(VLOOKUP(B27,'Tarifs Vins'!A29:E65,5,FALSE),0) -> 0 | E27: =IFERROR($D$3*VLOOKUP(B27,'Tarifs Vins'!A29:E65,2,FALSE),"") | G27: =C27*D27 -> 0
A28: - | C28: =IFERROR(VLOOKUP(B28,'Tarifs Vins'!A30:E66,5,FALSE),0) -> 0 | E28: =IFERROR($D$3*VLOOKUP(B28,'Tarifs Vins'!A30:E66,2,FALSE),"") | G28: =C28*D28 -> 0
A29: - | C29: =IFERROR(VLOOKUP(B29,'Tarifs Vins'!A31:E67,5,FALSE),0) -> 0 | E29: =IFERROR($D$3*VLOOKUP(B29,'Tarifs Vins'!A31:E67,2,FALSE),"") | G29: =C29*D29 -> 0
A30: - | C30: =IFERROR(VLOOKUP(B30,'Tarifs Vins'!A32:E68,5,FALSE),0) -> 0 | E30: =IFERROR($D$3*VLOOKUP(B30,'Tarifs Vins'!A32:E68,2,FALSE),"") | G30: =C30*D30 -> 0
A31: - | C31: =IFERROR(VLOOKUP(B31,'Tarifs Vins'!A33:E69,5,FALSE),0) -> 0 | E31: =IFERROR($D$3*VLOOKUP(B31,'Tarifs Vins'!A33:E69,2,FALSE),"") | G31: =C31*D31 -> 0
A32: - | C32: =IFERROR(VLOOKUP(B32,'Tarifs Vins'!A34:E70,5,FALSE),0) -> 0 | E32: =IFERROR($D$3*VLOOKUP(B32,'Tarifs Vins'!A34:E70,2,FALSE),"") | G32: =C32*D32 -> 0

Sheet Données
B1: -
A2: 1 | B2: Tony
A3: 2 | B3: Moi
A4: 3 | B4: Sorel Benoit
A5: 4 | B5: Sorel Romain
A6: 5 | B6: Hervé
A7: 6 | B7: Marraine
A8: 7 | B8: Olivier
A9: 8 | B9: Jean
A10: 9 | B10: Annie
