Workbook

Sheet ACCEUIL
B2: CA | C2: ETA | D2: ETF | E2: TRANSPORT | F2: MARCHÉ / GROSSISTE / CENTRALE D'ACHAT | G2: VENTE CONCESSION
B3: SAISON 66 | C3: =VLOOKUP(B3,ETA!B19:C26,2,0) -> 1118400 | D3: =VLOOKUP(B3,ETF!B19:C26,2,0) -> 4788341.7 | E3: =VLOOKUP(B3,TRANSPORT!B19:C26,2,0) -> 103533.06 | F3: =VLOOKUP(Tableau1[[#This Row],[CA]],'MARCHÉ GROSSISTE'!I81:J88,2) -> 0 | G3: =VLOOKUP(Tableau1[[#This Row],[CA]],'CONCESSION VENTE NEUF'!$B$19:$C$26,2) -> 6643476
B4: SAISON 67 | C4: =VLOOKUP(B4,ETA!B20:C27,2,0) -> 6159635 | D4: =VLOOKUP(B4,ETF!B20:C27,2,0) -> 9892942.4 | E4: =VLOOKUP(B4,TRANSPORT!B20:C27,2,0) -> 176402.28 | F4: =VLOOKUP(Tableau1[[#This Row],[CA]],'MARCHÉ GROSSISTE'!I82:J89,2) -> 117917.95 | G4: =VLOOKUP(Tableau1[[#This Row],[CA]],'CONCESSION VENTE NEUF'!$B$19:$C$26,2) -> 11510937
B5: SAISON 68 | C5: =VLOOKUP(B5,ETA!B21:C28,2,0) -> 2830015 | D5: =VLOOKUP(B5,ETF!B21:C28,2,0) -> 3656103.6 | E5: =VLOOKUP(B5,TRANSPORT!B21:C28,2,0) -> 180257.97 | F5: =VLOOKUP(Tableau1[[#This Row],[CA]],'MARCHÉ GROSSISTE'!I83:J90,2) -> 110738.83 | G5: =VLOOKUP(Tableau1[[#This Row],[CA]],'CONCESSION VENTE NEUF'!$B$19:$C$26,2) -> 14562672
B6: SAISON 69 | C6: =VLOOKUP(B6,ETA!B22:C29,2,0) -> 0 | D6: =VLOOKUP(B6,ETF!B22:C29,2,0) -> 0 | E6: =VLOOKUP(B6,TRANSPORT!B22:C29,2,0) -> 0 | F6: =VLOOKUP(Tableau1[[#This Row],[CA]],'MARCHÉ GROSSISTE'!I84:J91,2) -> 0 | G6: =VLOOKUP(Tableau1[[#This Row],[CA]],'CONCESSION VENTE NEUF'!$B$19:$C$26,2) -> 0
B7: SAISON 70 | C7: =VLOOKUP(B7,ETA!B23:C30,2,0) -> 0 | D7: =VLOOKUP(B7,ETF!B23:C30,2,0) -> 0 | E7: =VLOOKUP(B7,TRANSPORT!B23:C30,2,0) -> 0 | F7: =VLOOKUP(Tableau1[[#This Row],[CA]],'MARCHÉ GROSSISTE'!I85:J92,2) -> 0 | G7: =VLOOKUP(Tableau1[[#This Row],[CA]],'CONCESSION VENTE NEUF'!$B$19:$C$26,2) -> 0
B8: SAISON 71 | C8: =VLOOKUP(B8,ETA!B24:C31,2,0) -> 0 | D8: =VLOOKUP(B8,ETF!B24:C31,2,0) -> 0 | E8: =VLOOKUP(B8,TRANSPORT!B24:C31,2,0) -> 0 | F8: =VLOOKUP(Tableau1[[#This Row],[CA]],'MARCHÉ GROSSISTE'!I86:J93,2) -> 0 | G8: =VLOOKUP(Tableau1[[#This Row],[CA]],'CONCESSION VENTE NEUF'!$B$19:$C$26,2) -> 0
B9: SAISON 72 | C9: =VLOOKUP(B9,ETA!B25:C32,2,0) -> 0 | D9: =VLOOKUP(B9,ETF!B25:C32,2,0) -> 0 | E9: =VLOOKUP(B9,TRANSPORT!B25:C32,2,0) -> 0 | F9: =VLOOKUP(Tableau1[[#This Row],[CA]],'MARCHÉ GROSSISTE'!I87:J94,2) -> 0 | G9: =VLOOKUP(Tableau1[[#This Row],[CA]],'CONCESSION VENTE NEUF'!$B$19:$C$26,2) -> 0
B10: SAISON 73 | C10: =VLOOKUP(B10,ETA!B26:C33,2,0) -> 0 | D10: =VLOOKUP(B10,ETF!B26:C33,2,0) -> 0 | E10: =VLOOKUP(B10,TRANSPORT!B26:C33,2,0) -> 0 | F10: =VLOOKUP(Tableau1[[#This Row],[CA]],'MARCHÉ GROSSISTE'!I88:J95,2) -> 0 | G10: =VLOOKUP(Tableau1[[#This Row],[CA]],'CONCESSION VENTE NEUF'!$B$19:$C$26,2) -> 0

Sheet VENTES CULTURES
A3: CHIFFRE D'AFFAIRE | B3: SAISON 66 | C3: SAISON 67 | D3: DIFFÉRENCE | E3: SAISON 68 | F3: DIFFÉRENCE | G3: SAISON 69 | H3: DIFFÉRENCE | I3: SAISON 70 | J3: DIFFÉRENCE | K3: SAISON 71 | L3: DIFFÉRENCE | M3: SAISON 72 | N3: DIFFÉRENCE | O3: SAISON 73 | P3: DIFFÉRENCE
A4: JANVIER | B4: 547793.71 | C4: 3360945 | D4: =C4-B4 -> 2813151.3 | E4: 2446903.4 | F4: =E4-C4 -> -914041.63 | H4: =G4-E4 -> -2446903.4 | J4: 0 | L4: 0 | N4: 0 | P4: 0
A5: FÉVRIER | B5: 1093665.7 | C5: 3008325.2 | D5: =C5-B5 -> 1914659.5 | E5: 1168583.6 | F5: =E5-C5 -> -1839741.6 | H5: =G5-E5 -> -1168583.6 | J5: 0 | L5: 0 | N5: 0 | P5: 0
A6: MARS | B6: 1942667.3 | C6: 5950873.8 | D6: =C6-B6 -> 4008206.5 | E6: 5131755.6 | F6: =E6-C6 -> -819118.2 | H6: =G6-E6 -> -5131755.6 | J6: 0 | L6: 0 | N6: 0 | P6: 0
A7: AVRIL | B7: 4567873.6 | C7: 4349725.9 | D7: =C7-B7 -> -218147.69 | E7: 5094 | F7: =E7-C7 -> -4344631.9 | H7: =G7-E7 -> -5094 | J7: 0 | L7: 0 | N7: 0 | P7: 0
A8: MAI | B8: 5410472.3 | C8: 414301.17 | D8: =C8-B8 -> -4996171.1 | E8: 0 | F8: =E8-C8 -> -414301.17 | H8: =G8-E8 -> 0 | J8: 0 | L8: 0 | N8: 0 | P8: 0
A9: JUIN | B9: 1851471.1 | C9: 3912313 | D9: =C9-B9 -> 2060841.9 | E9: 5094 | F9: =E9-C9 -> -3907219 | H9: =G9-E9 -> -5094 | J9: 0 | L9: 0 | N9: 0 | P9: 0
A10: JUILLET | B10: 3760792.4 | C10: 2867898 | D10: =C10-B10 -> -892894.42 | E10: 214028.04 | F10: =E10-C10 -> -2653870 | H10: =G10-E10 -> -214028.04 | J10: 0 | L10: 0 | N10: 0 | P10: 0
A11: AOÛT | B11: 6351176.1 | C11: 1855551.6 | D11: =C11-B11 -> -4495624.5 | E11: 1822238.9 | F11: =E11-C11 -> -33312.65 | H11: =G11-E11 -> -1822238.9 | J11: 0 | L11: 0 | N11: 0 | P11: 0
A12: SEPTEMBRE | B12: 4903652.4 | C12: 3263286.6 | D12: =C12-B12 -> -1640365.8 | E12: 2065966.9 | F12: =E12-C12 -> -1197319.8 | H12: =G12-E12 -> -2065966.9 | J12: 0 | L12: 0 | N12: 0 | P12: 0
A13: OCTOBRE | B13: 1790138.2 | C13: 3382476.5 | D13: =C13-B13 -> 1592338.2 | F13: =E13-C13 -> -3382476.5 | H13: =G13-E13 -> 0 | J13: 0 | L13: 0 | N13: 0 | P13: 0
A14: NOVEMBRE | B14: 7940568.1 | C14: 9858107.7 | D14: =C14-B14 -> 1917539.6 | F14: =E14-C14 -> -9858107.7 | H14: =G14-E14 -> 0 | J14: 0 | L14: 0 | N14: 0 | P14: 0
A15: DÉCEMBRE | C15: 4370964.5 | D15: =C15-B15 -> 4370964.5 | F15: =E15-C15 -> -4370964.5 | H15: =G15-E15 -> 0 | J15: 0 | L15: 0 | N15: 0 | P15: 0
A17: TOTAL | B17: =SUM(B4:B15) -> 40160271 | C17: =SUM(C4:C15) -> 46594769 | D17: =SUM(D4:D15) -> 6434498 | E17: =SUM(E4:E15) -> 12859664 | F17: =SUM(F4:F15) -> -33735105 | G17: =SUM(G4:G15) -> 0 | H17: =SUM(H4:H15) -> -12859664 | I17: =SUM(I4:I15) -> 0 | ... P17: =SUM(P4:P15) -> 0
B20: SAISON 66 | C20: =B17 -> 40160271
B21: SAISON 67 | C21: =C17 -> 46594769 | D21: =C21-C20 -> 6434498.1
B22: SAISON 68 | C22: =E17 -> 12859664 | D22: =C22-C21 -> -33735105
B23: SAISON 69 | C23: 0 | D23: =C23-C22 -> -12859664
B24: SAISON 70 | C24: 0 | D24: =C24-C23 -> 0
B25: SAISON 71 | D25: =C25-C24 -> 0
B26: SAISON 72 | D26: =C26-C25 -> 0
B27: SAISON 73 | D27: =C27-C26 -> 0

Sheet ETA
A2: CHIFFRE D'AFFAIRE | B2: SAISON 66 | C2: SAISON 67 | D2: DIFFÉRENCE | E2: SAISON 68 | F2: DIFFÉRENCE | G2: SAISON 69 | H2: DIFFÉRENCE | I2: SAISON 70 | J2: DIFFÉRENCE | K2: SAISON 71 | L2: DIFFÉRENCE | M2: SAISON 72 | N2: DIFFÉRENCE | O2: SAISON 73 | P2: DIFFÉRENCE
A3: JANVIER | B3: 600 | C3: 12380 | D3: =C3-B3 -> 11780 | E3: 33755 | F3: =E3-C3 -> 21375 | H3: =G3-E3 -> -33755 | J3: 0 | L3: 0 | N3: 0 | P3: 0
A4: FÉVRIER | B4: 0 | C4: 71725 | D4: =C4-B4 -> 71725 | E4: 77640 | F4: =E4-C4 -> 5915 | H4: =G4-E4 -> -77640 | J4: 0 | L4: 0 | N4: 0 | P4: 0
A5: MARS | B5: 109135 | C5: 47240 | D5: =C5-B5 -> -61895 | E5: 191455 | F5: =E5-C5 -> 144215 | H5: =G5-E5 -> -191455 | J5: 0 | L5: 0 | N5: 0 | P5: 0
A6: AVRIL | B6: 29430 | C6: 638310 | D6: =C6-B6 -> 608880 | E6: 492975 | F6: =E6-C6 -> -145335 | H6: =G6-E6 -> -492975 | J6: 0 | L6: 0 | N6: 0 | P6: 0
A7: MAI | B7: 523835 | C7: 1554010 | D7: =C7-B7 -> 1030175 | E7: 287915 | F7: =E7-C7 -> -1266095 | H7: =G7-E7 -> -287915 | J7: 0 | L7: 0 | N7: 0 | P7: 0
A8: JUIN | B8: 23930 | C8: 799995 | D8: =C8-B8 -> 776065 | E8: 214145 | F8: =E8-C8 -> -585850 | H8: =G8-E8 -> -214145 | J8: 0 | L8: 0 | N8: 0 | P8: 0
A9: JUILLET | B9: 42710 | C9: 158135 | D9: =C9-B9 -> 115425 | E9: 271445 | F9: =E9-C9 -> 113310 | H9: =G9-E9 -> -271445 | J9: 0 | L9: 0 | N9: 0 | P9: 0
A10: AOÛT | B10: 62265 | C10: 1843325 | D10: =C10-B10 -> 1781060 | E10: 78500 | F10: =E10-C10 -> -1764825 | H10: =G10-E10 -> -78500 | J10: 0 | L10: 0 | N10: 0 | P10: 0
A11: SEPTEMBRE | B11: 232415 | C11: 420130 | D11: =C11-B11 -> 187715 | E11: 1182185 | F11: =E11-C11 -> 762055 | H11: =G11-E11 -> -1182185 | J11: 0 | L11: 0 | N11: 0 | P11: 0
A12: OCTOBRE | B12: 72720 | C12: 269380 | D12: =C12-B12 -> 196660 | F12: =E12-C12 -> -269380 | H12: =G12-E12 -> 0 | J12: 0 | L12: 0 | N12: 0 | P12: 0
A13: NOVEMBRE | B13: 20780 | C13: 278295 | D13: =C13-B13 -> 257515 | F13: =E13-C13 -> -278295 | H13: =G13-E13 -> 0 | J13: 0 | L13: 0 | N13: 0 | P13: 0
A14: DÉCEMBRE | B14: 580 | C14: 66710 | D14: =C14-B14 -> 66130 | F14: =E14-C14 -> -66710 | H14: =G14-E14 -> 0 | J14: 0 | L14: 0 | N14: 0 | P14: 0
A16: TOTAL | B16: =SUM(B3:B14) -> 1118400 | C16: =SUM(C3:C14) -> 6159635 | D16: =SUM(D3:D14) -> 5041235 | E16: =SUM(E3:E14) -> 2830015 | F16: =SUM(F3:F14) -> -3329620 | G16: =SUM(G3:G14) -> 0 | H16: =SUM(H3:H14) -> -2830015 | I16: =SUM(I3:I14) -> 0 | ... P16: =SUM(P3:P14) -> 0
B19: SAISON 66 | C19: =$B$16 -> 1118400
B20: SAISON 67 | C20: =$C$16 -> 6159635 | D20: =C20-C19 -> 5041235
B21: SAISON 68 | C21: =$E$16 -> 2830015 | D21: =C21-C20 -> -3329620
B22: SAISON 69 | D22: =C22-C21 -> -2830015
B23: SAISON 70 | D23: =C23-C22 -> 0
B24: SAISON 71 | D24: =C24-C23 -> 0
B25: SAISON 72 | D25: =C25-C24 -> 0
B26: SAISON 73 | D26: =C26-C25 -> 0

Sheet ETF
A2: CHIFFRE D'AFFAIRE | B2: SAISON 66 | C2: SAISON 67 | D2: DIFFÉRENCE | E2: SAISON 68 | F2: DIFFÉRENCE | G2: SAISON 69 | H2: DIFFÉRENCE | I2: SAISON 70 | J2: DIFFÉRENCE | K2: SAISON 71 | L2: DIFFÉRENCE | M2: SAISON 72 | N2: DIFFÉRENCE | O2: SAISON 73 | P2: DIFFÉRENCE
A3: JANVIER | B3: 0 | C3: 2763042.9 | D3: =C3-B3 -> 2763042.9 | E3: 3166288 | F3: =E3-C3 -> 403245.1 | H3: =G3-E3 -> -3166288 | J3: 0 | L3: 0 | N3: 0 | P3: 0
A4: FÉVRIER | B4: 0 | C4: 1602889.2 | D4: =C4-B4 -> 1602889.2 | E4: 38559.5 | F4: =E4-C4 -> -1564329.7 | H4: =G4-E4 -> -38559.5 | J4: 0 | L4: 0 | N4: 0 | P4: 0
A5: MARS | B5: 12320 | C5: 1250 | D5: =C5-B5 -> -11070 | E5: 0 | F5: =E5-C5 -> -1250 | H5: =G5-E5 -> 0 | J5: 0 | L5: 0 | N5: 0 | P5: 0
A6: AVRIL | B6: 0 | C6: 0 | D6: =C6-B6 -> 0 | E6: 0 | F6: =E6-C6 -> 0 | H6: =G6-E6 -> 0 | J6: 0 | L6: 0 | N6: 0 | P6: 0
A7: MAI | B7: 0 | C7: 221904.4 | D7: =C7-B7 -> 221904.4 | E7: 0 | F7: =E7-C7 -> -221904.4 | H7: =G7-E7 -> 0 | J7: 0 | L7: 0 | N7: 0 | P7: 0
A8: JUIN | B8: 147755 | C8: 0 | D8: =C8-B8 -> -147755 | E8: 353291.4 | F8: =E8-C8 -> 353291.4 | H8: =G8-E8 -> -353291.4 | J8: 0 | L8: 0 | N8: 0 | P8: 0
A9: JUILLET | B9: 0 | C9: 0 | D9: =C9-B9 -> 0 | E9: 0 | F9: =E9-C9 -> 0 | H9: =G9-E9 -> 0 | J9: 0 | L9: 0 | N9: 0 | P9: 0
A10: AOÛT | B10: 0 | C10: 0 | D10: =C10-B10 -> 0 | E10: 0 | F10: =E10-C10 -> 0 | H10: =G10-E10 -> 0 | J10: 0 | L10: 0 | N10: 0 | P10: 0
A11: SEPTEMBRE | B11: 56160 | C11: 0 | D11: =C11-B11 -> -56160 | E11: 97964.8 | F11: =E11-C11 -> 97964.8 | H11: =G11-E11 -> -97964.8 | J11: 0 | L11: 0 | N11: 0 | P11: 0
A12: OCTOBRE | B12: 0 | C12: 66810.8 | D12: =C12-B12 -> 66810.8 | F12: =E12-C12 -> -66810.8 | H12: =G12-E12 -> 0 | J12: 0 | L12: 0 | N12: 0 | P12: 0
A13: NOVEMBRE | B13: 0 | C13: 19061.6 | D13: =C13-B13 -> 19061.6 | F13: =E13-C13 -> -19061.6 | H13: =G13-E13 -> 0 | J13: 0 | L13: 0 | N13: 0 | P13: 0
A14: DÉCEMBRE | B14: 4572106.7 | C14: 5217983.5 | D14: =C14-B14 -> 645876.85 | F14: =E14-C14 -> -5217983.5 | H14: =G14-E14 -> 0 | J14: 0 | L14: 0 | N14: 0 | P14: 0
A16: TOTAL | B16: =SUM(B3:B14) -> 4788341.7 | C16: =SUM(C3:C14) -> 9892942.4 | D16: =SUM(D3:D14) -> 5104600.7 | E16: =SUM(E3:E14) -> 3656103.6 | F16: =SUM(F3:F14) -> -6236838.8 | G16: =SUM(G3:G14) -> 0 | H16: =SUM(H3:H14) -> -3656103.6 | I16: =SUM(I3:I14) -> 0 | ... P16: =SUM(P3:P14) -> 0
B19: SAISON 66 | C19: =$B$16 -> 4788341.7
B20: SAISON 67 | C20: =$C$16 -> 9892942.4 | D20: =C20-C19 -> 5104600.7
B21: SAISON 68 | C21: =$E$16 -> 3656103.6 | D21: =C21-C20 -> -6236838.7
B22: SAISON 69 | D22: =C22-C21 -> -3656103.6
B23: SAISON 70 | D23: =C23-C22 -> 0
B24: SAISON 71 | D24: =C24-C23 -> 0
B25: SAISON 72 | D25: =C25-C24 -> 0
B26: SAISON 73 | D26: =C26-C25 -> 0

Sheet TRANSPORT
A2: CHIFFRE D'AFFAIRE | B2: SAISON 66 | C2: SAISON 67 | D2: DIFFÉRENCE | E2: SAISON 68 | F2: DIFFÉRENCE | G2: SAISON 69 | H2: DIFFÉRENCE | I2: SAISON 70 | J2: DIFFÉRENCE | K2: SAISON 71 | L2: DIFFÉRENCE | M2: SAISON 72 | N2: DIFFÉRENCE | O2: SAISON 73 | P2: DIFFÉRENCE
A3: JANVIER | B3: 1673.02 | C3: 18179.91 | D3: =C3-B3 -> 16506.89 | E3: 6167.2 | F3: =E3-C3 -> -12012.71 | H3: =G3-E3 -> -6167.2 | J3: 0 | L3: 0 | N3: 0 | P3: 0
A4: FÉVRIER | B4: 1990.96 | C4: 23868.99 | D4: =C4-B4 -> 21878.03 | E4: 10121.71 | F4: =E4-C4 -> -13747.28 | H4: =G4-E4 -> -10121.71 | J4: 0 | L4: 0 | N4: 0 | P4: 0
A5: MARS | B5: 5883.06 | C5: 40544.38 | D5: =C5-B5 -> 34661.32 | E5: 6709.77 | F5: =E5-C5 -> -33834.61 | H5: =G5-E5 -> -6709.77 | J5: 0 | L5: 0 | N5: 0 | P5: 0
A6: AVRIL | B6: 2377.15 | C6: 13638.77 | D6: =C6-B6 -> 11261.62 | E6: 59668.31 | F6: =E6-C6 -> 46029.54 | H6: =G6-E6 -> -59668.31 | J6: 0 | L6: 0 | N6: 0 | P6: 0
A7: MAI | B7: 9205.73 | C7: 4210.52 | D7: =C7-B7 -> -4995.21 | E7: 20500.99 | F7: =E7-C7 -> 16290.47 | H7: =G7-E7 -> -20500.99 | J7: 0 | L7: 0 | N7: 0 | P7: 0
A8: JUIN | B8: 7001.11 | C8: 9622.77 | D8: =C8-B8 -> 2621.66 | E8: 9170.68 | F8: =E8-C8 -> -452.09 | H8: =G8-E8 -> -9170.68 | J8: 0 | L8: 0 | N8: 0 | P8: 0
A9: JUILLET | B9: 7517.91 | C9: 22711.06 | D9: =C9-B9 -> 15193.15 | E9: 16230.44 | F9: =E9-C9 -> -6480.62 | H9: =G9-E9 -> -16230.44 | J9: 0 | L9: 0 | N9: 0 | P9: 0
A10: AOÛT | B10: 14168.34 | C10: 15295.13 | D10: =C10-B10 -> 1126.79 | E10: 6228.3 | F10: =E10-C10 -> -9066.83 | H10: =G10-E10 -> -6228.3 | J10: 0 | L10: 0 | N10: 0 | P10: 0
A11: SEPTEMBRE | B11: 8386.68 | C11: 10497.49 | D11: =C11-B11 -> 2110.81 | E11: 45460.57 | F11: =E11-C11 -> 34963.08 | H11: =G11-E11 -> -45460.57 | J11: 0 | L11: 0 | N11: 0 | P11: 0
A12: OCTOBRE | B12: 13842.04 | C12: 4088.2 | D12: =C12-B12 -> -9753.84 | F12: =E12-C12 -> -4088.2 | H12: =G12-E12 -> 0 | J12: 0 | L12: 0 | N12: 0 | P12: 0
A13: NOVEMBRE | B13: 30046.26 | C13: 10813.38 | D13: =C13-B13 -> -19232.88 | F13: =E13-C13 -> -10813.38 | H13: =G13-E13 -> 0 | J13: 0 | L13: 0 | N13: 0 | P13: 0
A14: DÉCEMBRE | B14: 1440.8 | C14: 2931.68 | D14: =C14-B14 -> 1490.88 | F14: =E14-C14 -> -2931.68 | H14: =G14-E14 -> 0 | J14: 0 | L14: 0 | N14: 0 | P14: 0
A16: TOTAL | B16: =SUM(B3:B14) -> 103533.06 | C16: =SUM(C3:C14) -> 176402.28 | D16: =SUM(D3:D14) -> 72869.22 | E16: =SUM(E3:E14) -> 180257.97 | F16: =SUM(F3:F14) -> 3855.69 | G16: =SUM(G3:G14) -> 0 | H16: =SUM(H3:H14) -> -180257.97 | I16: =SUM(I3:I14) -> 0 | ... P16: =SUM(P3:P14) -> 0
B19: SAISON 66 | C19: =$B$16 -> 103533.06
B20: SAISON 67 | C20: =$C$16 -> 176402.28 | D20: =C20-C19 -> 72869.22
B21: SAISON 68 | C21: =E16 -> 180257.97 | D21: =C21-C20 -> 3855.69
B22: SAISON 69 | D22: =C22-C21 -> -180257.97
B23: SAISON 70 | D23: =C23-C22 -> 0
B24: SAISON 71 | D24: =C24-C23 -> 0
B25: SAISON 72 | D25: =C25-C24 -> 0
B26: SAISON 73 | D26: =C26-C25 -> 0

Sheet CONCESSION VENTE NEUF
A2: CHIFFRE D'AFFAIRE | B2: SAISON 66 | C2: SAISON 67 | D2: DIFFÉRENCE | E2: SAISON 68 | F2: DIFFÉRENCE | G2: SAISON 69 | H2: DIFFÉRENCE | I2: SAISON 70 | J2: DIFFÉRENCE | K2: SAISON 71 | L2: DIFFÉRENCE | M2: SAISON 72 | N2: DIFFÉRENCE | O2: SAISON 73 | P2: DIFFÉRENCE
A3: JANVIER | B3: 18335 | C3: 272130 | D3: =C3-B3 -> 253795 | E3: 156300 | F3: =E3-C3 -> -115830 | H3: =G3-E3 -> -156300 | J3: 0 | L3: 0 | N3: 0 | P3: 0
A4: FÉVRIER | B4: 578188 | C4: 77200 | D4: =C4-B4 -> -500988 | E4: 193000 | F4: =E4-C4 -> 115800 | H4: =G4-E4 -> -193000 | J4: 0 | L4: 0 | N4: 0 | P4: 0
A5: MARS | B5: 127621 | C5: 2354600 | D5: =C5-B5 -> 2226979 | E5: 4172099 | F5: =E5-C5 -> 1817499 | H5: =G5-E5 -> -4172099 | J5: 0 | L5: 0 | N5: 0 | P5: 0
A6: AVRIL | B6: 800455 | C6: 220905 | D6: =C6-B6 -> -579550 | E6: 1622448 | F6: =E6-C6 -> 1401543 | H6: =G6-E6 -> -1622448 | J6: 0 | L6: 0 | N6: 0 | P6: 0
A7: MAI | B7: 316588 | C7: 1558561 | D7: =C7-B7 -> 1241973 | E7: 1212354 | F7: =E7-C7 -> -346207 | H7: =G7-E7 -> -1212354 | J7: 0 | L7: 0 | N7: 0 | P7: 0
A8: JUIN | B8: 177560 | C8: 162731 | D8: =C8-B8 -> -14829 | E8: 245110 | F8: =E8-C8 -> 82379 | H8: =G8-E8 -> -245110 | J8: 0 | L8: 0 | N8: 0 | P8: 0
A9: JUILLET | B9: 1584342 | C9: 698660 | D9: =C9-B9 -> -885682 | E9: 718848 | F9: =E9-C9 -> 20188 | H9: =G9-E9 -> -718848 | J9: 0 | L9: 0 | N9: 0 | P9: 0
A10: AOÛT | B10: 797538 | C10: 2168285 | D10: =C10-B10 -> 1370747 | E10: 2975501 | F10: =E10-C10 -> 807216 | H10: =G10-E10 -> -2975501 | J10: 0 | L10: 0 | N10: 0 | P10: 0
A11: SEPTEMBRE | B11: 1089797 | C11: 781650 | D11: =C11-B11 -> -308147 | E11: 3267012 | F11: =E11-C11 -> 2485362 | H11: =G11-E11 -> -3267012 | J11: 0 | L11: 0 | N11: 0 | P11: 0
A12: OCTOBRE | B12: 570480 | C12: 1558943 | D12: =C12-B12 -> 988463 | F12: =E12-C12 -> -1558943 | H12: =G12-E12 -> 0 | J12: 0 | L12: 0 | N12: 0 | P12: 0
A13: NOVEMBRE | B13: 582572 | C13: 1076940 | D13: =C13-B13 -> 494368 | F13: =E13-C13 -> -1076940 | H13: =G13-E13 -> 0 | J13: 0 | L13: 0 | N13: 0 | P13: 0
A14: DÉCEMBRE | C14: 580332 | D14: =C14-B14 -> 580332 | F14: =E14-C14 -> -580332 | H14: =G14-E14 -> 0 | J14: 0 | L14: 0 | N14: 0 | P14: 0
A16: TOTAL | B16: =SUM(B3:B14) -> 6643476 | C16: =SUM(C3:C14) -> 11510937 | D16: =SUM(D3:D14) -> 4867461 | E16: =SUM(E3:E14) -> 14562672 | F16: =SUM(F3:F14) -> 3051735 | G16: =SUM(G3:G14) -> 0 | H16: =SUM(H3:H14) -> -14562672 | I16: =SUM(I3:I14) -> 0 | ... P16: =SUM(P3:P14) -> 0
B19: SAISON 66 | C19: =$B$16 -> 6643476
B20: SAISON 67 | C20: =$C$16 -> 11510937 | D20: =C20-C19 -> 4867461
B21: SAISON 68 | C21: =E16 -> 14562672 | D21: =C21-C20 -> 3051735
B22: SAISON 69 | D22: =C22-C21 -> -14562672
B23: SAISON 70 | D23: =C23-C22 -> 0
B24: SAISON 71 | D24: =C24-C23 -> 0
B25: SAISON 72 | D25: =C25-C24 -> 0
B26: SAISON 73 | D26: =C26-C25 -> 0

Sheet MARCHÉ GROSSISTE
A2: CHIFFRE D'AFFAIRE | C2: SAISON 66 | D2: SAISON 67 | E2: DIFFÉRENCE | F2: SAISON 68 | G2: DIFFÉRENCE | H2: SAISON 69 | I2: DIFFÉRENCE | J2: SAISON 70 | K2: DIFFÉRENCE | L2: SAISON 71 | M2: DIFFÉRENCE | N2: SAISON 72 | O2: DIFFÉRENCE | P2: SAISON 73 | Q2: DIFFÉRENCE
A3: JANVIER | B3: LÉGUMES | C3: 0 | D3: 0 | E3: =D3-C3 -> 0 | F3: 198.96 | G3: =F3-D3 -> 198.96 | H3: 0 | I3: =H3-F3 -> -198.96 | K3: 0 | M3: 0 | O3: 0 | Q3: 0
B4: FROMAGERIE | C4: 0 | D4: 0 | E4: =D4-C4 -> 0 | F4: 0 | G4: =F4-D4 -> 0 | H4: 0 | I4: =H4-F4 -> 0 | K4: 0 | M4: 0 | O4: 0 | Q4: 0
B5: FOIE GRAS | C5: 0 | D5: 0 | E5: =D5-C5 -> 0 | F5: 0 | G5: =F5-D5 -> 0 | H5: 0 | I5: =H5-F5 -> 0 | K5: 0 | M5: 0 | O5: 0 | Q5: 0
B6: FRUITS | C6: 0 | D6: 0 | E6: =D6-C6 -> 0 | F6: 102.96 | G6: =F6-D6 -> 102.96 | H6: 0 | I6: =H6-F6 -> -102.96 | K6: 0 | M6: 0 | O6: 0 | Q6: 0
B7: TOTAL | C7: =SUM(C3:C6) -> 0 | D7: =SUM(D3:D6) -> 0 | E7: =D7-C7 -> 0 | F7: =SUM(F3:F6) -> 301.92 | G7: =F7-D7 -> 301.92 | H7: =SUM(H3:H6) -> 0 | I7: =H7-F7 -> -301.92 | K7: 0 | M7: 0 | O7: 0 | Q7: 0
A9: FÉVRIER | B9: LÉGUMES | C9: 0 | D9: 0 | E9: =D9-C9 -> 0 | F9: 1518.99 | G9: =F9-D9 -> 1518.99 | I9: =H9-F9 -> -1518.99 | K9: 0 | M9: 0 | O9: 0 | Q9: 0
B10: FROMAGERIE | C10: 0 | D10: 0 | E10: =D10-C10 -> 0 | F10: 0 | G10: =F10-D10 -> 0 | I10: =H10-F10 -> 0 | K10: 0 | M10: 0 | O10: 0 | Q10: 0
B11: FOIE GRAS | C11: 0 | D11: 0 | E11: =D11-C11 -> 0 | F11: 0 | G11: =F11-D11 -> 0 | I11: =H11-F11 -> 0 | K11: 0 | M11: 0 | O11: 0 | Q11: 0
B12: FRUITS | C12: 0 | D12: 0 | E12: =D12-C12 -> 0 | F12: 0 | G12: =F12-D12 -> 0 | I12: =H12-F12 -> 0 | K12: 0 | M12: 0 | O12: 0 | Q12: 0
B13: TOTAL | C13: =SUM(C9:C12) -> 0 | D13: =SUM(D9:D12) -> 0 | E13: =D13-C13 -> 0 | F13: =SUM(F9:F12) -> 1518.99 | G13: =F13-D13 -> 1518.99 | H13: =SUM(H9:H12) -> 0 | I13: =H13-F13 -> -1518.99 | K13: 0 | M13: 0 | O13: 0 | Q13: 0
A15: MARS | B15: LÉGUMES | C15: 0 | D15: 0 | E15: =D15-C15 -> 0 | F15: 2811.13 | G15: =F15-D15 -> 2811.13 | I15: =H15-F15 -> -2811.13 | K15: 0 | M15: 0 | O15: 0 | Q15: 0
B16: FROMAGERIE | C16: 0 | D16: 425.3 | E16: =D16-C16 -> 425.3 | F16: 0 | G16: =F16-D16 -> -425.3 | I16: =H16-F16 -> 0 | K16: 0 | M16: 0 | O16: 0 | Q16: 0
B17: FOIE GRAS | C17: 0 | D17: 0 | E17: =D17-C17 -> 0 | F17: 0 | G17: =F17-D17 -> 0 | I17: =H17-F17 -> 0 | K17: 0 | M17: 0 | O17: 0 | Q17: 0
B18: FRUITS | C18: 0 | D18: 0 | E18: =D18-C18 -> 0 | F18: 210.04 | G18: =F18-D18 -> 210.04 | I18: =H18-F18 -> -210.04 | K18: 0 | M18: 0 | O18: 0 | Q18: 0
B19: TOTAL | C19: =SUM(C15:C18) -> 0 | D19: =SUM(D15:D18) -> 425.3 | E19: =D19-C19 -> 425.3 | F19: =SUM(F15:F18) -> 3021.17 | G19: =F19-D19 -> 2595.87 | H19: =SUM(H15:H18) -> 0 | I19: =H19-F19 -> -3021.17 | K19: 0 | M19: 0 | O19: 0 | Q19: 0
A21: AVRIL | B21: LÉGUMES | C21: 0 | D21: 0 | E21: =D21-C21 -> 0 | F21: 6514.99 | G21: =F21-D21 -> 6514.99 | I21: =H21-F21 -> -6514.99 | K21: 0 | M21: 0 | O21: 0 | Q21: 0
B22: FROMAGERIE | C22: 0 | D22: 5190.04 | E22: =D22-C22 -> 5190.04 | F22: 0 | G22: =F22-D22 -> -5190.04 | I22: =H22-F22 -> 0 | K22: 0 | M22: 0 | O22: 0 | Q22: 0
B23: FOIE GRAS | C23: 0 | D23: 0 | E23: =D23-C23 -> 0 | F23: 0 | G23: =F23-D23 -> 0 | I23: =H23-F23 -> 0 | K23: 0 | M23: 0 | O23: 0 | Q23: 0
B24: FRUITS | C24: 0 | D24: 0 | E24: =D24-C24 -> 0 | F24: 480.48 | G24: =F24-D24 -> 480.48 | I24: =H24-F24 -> -480.48 | K24: 0 | M24: 0 | O24: 0 | Q24: 0
B25: TOTAL | C25: =SUM(C21:C24) -> 0 | D25: =SUM(D21:D24) -> 5190.04 | E25: =D25-C25 -> 5190.04 | F25: =SUM(F21:F24) -> 6995.47 | G25: =F25-D25 -> 1805.43 | H25: =SUM(H21:H24) -> 0 | I25: =H25-F25 -> -6995.47 | K25: 0 | M25: 0 | O25: 0 | Q25: 0
A27: MAI | B27: LÉGUMES | C27: 0 | D27: 0 | E27: =D27-C27 -> 0 | F27: 1920.89 | G27: =F27-D27 -> 1920.89 | I27: =H27-F27 -> -1920.89 | K27: 0 | M27: 0 | O27: 0 | Q27: 0
B28: FROMAGERIE | C28: 0 | D28: 562.56 | E28: =D28-C28 -> 562.56 | F28: 0 | G28: =F28-D28 -> -562.56 | I28: =H28-F28 -> 0 | K28: 0 | M28: 0 | O28: 0 | Q28: 0
B29: FOIE GRAS | C29: 0 | D29: 0 | E29: =D29-C29 -> 0 | F29: 0 | G29: =F29-D29 -> 0 | I29: =H29-F29 -> 0 | K29: 0 | M29: 0 | O29: 0 | Q29: 0
B30: FRUITS | C30: 0 | D30: 0 | E30: =D30-C30 -> 0 | F30: 337.4 | G30: =F30-D30 -> 337.4 | I30: =H30-F30 -> -337.4 | K30: 0 | M30: 0 | O30: 0 | Q30: 0
B31: TOTAL | C31: =SUM(C27:C30) -> 0 | D31: =SUM(D27:D30) -> 562.56 | E31: =D31-C31 -> 562.56 | F31: =SUM(F27:F30) -> 2258.29 | G31: =F31-D31 -> 1695.73 | H31: =SUM(H27:H30) -> 0 | I31: =H31-F31 -> -2258.29 | K31: 0 | M31: 0 | O31: 0 | Q31: 0
A33: JUIN | B33: LÉGUMES | C33: 0 | D33: 669.41 | E33: =D33-C33 -> 669.41 | F33: 25062.41 | G33: =F33-D33 -> 24393 | I33: =H33-F33 -> -25062.41 | K33: 0 | M33: 0 | O33: 0 | Q33: 0
B34: FROMAGERIE | C34: 0 | D34: 1058.32 | E34: =D34-C34 -> 1058.32 | F34: 0 | G34: =F34-D34 -> -1058.32 | I34: =H34-F34 -> 0 | K34: 0 | M34: 0 | O34: 0 | Q34: 0
B35: FOIE GRAS | C35: 0 | D35: 0 | E35: =D35-C35 -> 0 | F35: 1374.54 | G35: =F35-D35 -> 1374.54 | I35: =H35-F35 -> -1374.54 | K35: 0 | M35: 0 | O35: 0 | Q35: 0
B36: FRUITS | C36: 0 | D36: 1313.15 | E36: =D36-C36 -> 1313.15 | F36: 355.85 | G36: =F36-D36 -> -957.3 | I36: =H36-F36 -> -355.85 | K36: 0 | M36: 0 | O36: 0 | Q36: 0
B37: TOTAL | C37: =SUM(C33:C36) -> 0 | D37: =SUM(D33:D36) -> 3040.88 | E37: =D37-C37 -> 3040.88 | F37: =SUM(F33:F36) -> 26792.8 | G37: =F37-D37 -> 23751.92 | H37: =SUM(H33:H36) -> 0 | I37: =H37-F37 -> -26792.8 | K37: 0 | M37: 0 | O37: 0 | Q37: 0
A39: JUILLET | B39: LÉGUMES | C39: 0 | D39: 4818.66 | E39: =D39-C39 -> 4818.66 | F39: 51429.28 | G39: =F39-D39 -> 46610.62 | I39: =H39-F39 -> -51429.28 | K39: 0 | M39: 0 | O39: 0 | Q39: 0
B40: FROMAGERIE | C40: 0 | D40: 711.53 | E40: =D40-C40 -> 711.53 | F40: 0 | G40: =F40-D40 -> -711.53 | I40: =H40-F40 -> 0 | K40: 0 | M40: 0 | O40: 0 | Q40: 0
B41: FOIE GRAS | C41: 0 | D41: 0 | E41: =D41-C41 -> 0 | F41: 2167.34 | G41: =F41-D41 -> 2167.34 | I41: =H41-F41 -> -2167.34 | K41: 0 | M41: 0 | O41: 0 | Q41: 0
B42: FRUITS | C42: 0 | D42: 0 | E42: =D42-C42 -> 0 | F42: 0 | G42: =F42-D42 -> 0 | I42: =H42-F42 -> 0 | K42: 0 | M42: 0 | O42: 0 | Q42: 0
B43: TOTAL | C43: =SUM(C39:C42) -> 0 | D43: =SUM(D39:D42) -> 5530.19 | E43: =D43-C43 -> 5530.19 | F43: =SUM(F39:F42) -> 53596.62 | G43: =F43-D43 -> 48066.43 | I43: =H43-F43 -> -53596.62 | K43: 0 | M43: 0 | O43: 0 | Q43: 0
A45: AOÛT | B45: LÉGUMES | C45: 0 | D45: 7708.2 | E45: =D45-C45 -> 7708.2 | F45: 6440.45 | G45: =F45-D45 -> -1267.75 | I45: =H45-F45 -> -6440.45 | K45: 0 | M45: 0 | O45: 0 | Q45: 0
B46: FROMAGERIE | C46: 0 | D46: 6881.74 | E46: =D46-C46 -> 6881.74 | F46: 0 | G46: =F46-D46 -> -6881.74 | I46: =H46-F46 -> 0 | K46: 0 | M46: 0 | O46: 0 | Q46: 0
B47: FOIE GRAS | C47: 0 | D47: 0 | E47: =D47-C47 -> 0 | F47: 2717.97 | G47: =F47-D47 -> 2717.97 | I47: =H47-F47 -> -2717.97 | K47: 0 | M47: 0 | O47: 0 | Q47: 0
B48: FRUITS | C48: 0 | D48: 50047.61 | E48: =D48-C48 -> 50047.61 | F48: 0 | G48: =F48-D48 -> -50047.61 | I48: =H48-F48 -> 0 | K48: 0 | M48: 0 | O48: 0 | Q48: 0
B49: TOTAL | C49: =SUM(C45:C48) -> 0 | D49: =SUM(D45:D48) -> 64637.55 | E49: =D49-C49 -> 64637.55 | F49: =SUM(F45:F48) -> 9158.42 | G49: =F49-D49 -> -55479.13 | H49: =SUM(H45:H48) -> 0 | I49: =H49-F49 -> -9158.42 | K49: 0 | M49: 0 | O49: 0 | Q49: 0
A51: SEPTEMBRE | B51: LÉGUMES | C51: 0 | D51: 2198.66 | E51: =D51-C51 -> 2198.66 | F51: 5110.2 | G51: =F51-D51 -> 2911.54 | I51: =H51-F51 -> -5110.2 | K51: 0 | M51: 0 | O51: 0 | Q51: 0
B52: FROMAGERIE | C52: 0 | D52: 3085.28 | E52: =D52-C52 -> 3085.28 | F52: 0 | G52: =F52-D52 -> -3085.28 | I52: =H52-F52 -> 0 | K52: 0 | M52: 0 | O52: 0 | Q52: 0
B53: FOIE GRAS | C53: 0 | D53: 0 | E53: =D53-C53 -> 0 | F53: 1984.95 | G53: =F53-D53 -> 1984.95 | I53: =H53-F53 -> -1984.95 | K53: 0 | M53: 0 | O53: 0 | Q53: 0
B54: FRUITS | C54: 0 | D54: 2545.24 | E54: =D54-C54 -> 2545.24 | F54: 0 | G54: =F54-D54 -> -2545.24 | I54: =H54-F54 -> 0 | K54: 0 | M54: 0 | O54: 0 | Q54: 0
B55: TOTAL | C55: =SUM(C51:C54) -> 0 | D55: =SUM(D51:D54) -> 7829.18 | E55: =D55-C55 -> 7829.18 | F55: =SUM(F51:F54) -> 7095.15 | G55: =F55-D55 -> -734.03 | H55: =SUM(H51:H54) -> 0 | I55: =H55-F55 -> -7095.15 | K55: 0 | M55: 0 | O55: 0 | Q55: 0
A57: OCTOBRE | B57: LÉGUMES | C57: 0 | D57: 1825.24 | E57: =D57-C57 -> 1825.24 | F57: 0 | G57: =F57-D57 -> -1825.24 | I57: =H57-F57 -> 0 | K57: 0 | M57: 0 | O57: 0 | Q57: 0
B58: FROMAGERIE | C58: 0 | D58: 834 | E58: =D58-C58 -> 834 | F58: 0 | G58: =F58-D58 -> -834 | I58: =H58-F58 -> 0 | K58: 0 | M58: 0 | O58: 0 | Q58: 0
B59: FOIE GRAS | C59: 0 | D59: 0 | E59: =D59-C59 -> 0 | F59: 0 | G59: =F59-D59 -> 0 | I59: =H59-F59 -> 0 | K59: 0 | M59: 0 | O59: 0 | Q59: 0
B60: FRUITS | C60: 0 | D60: 606.09 | E60: =D60-C60 -> 606.09 | F60: 0 | G60: =F60-D60 -> -606.09 | I60: =H60-F60 -> 0 | K60: 0 | M60: 0 | O60: 0 | Q60: 0
B61: TOTAL | C61: =SUM(C57:C60) -> 0 | D61: =SUM(D57:D60) -> 3265.33 | E61: =D61-C61 -> 3265.33 | F61: =SUM(F57:F60) -> 0 | G61: =F61-D61 -> -3265.33 | H61: =SUM(H57:H60) -> 0 | I61: =H61-F61 -> 0 | K61: 0 | M61: 0 | O61: 0 | Q61: 0
A63: NOVEMBRE | B63: LÉGUMES | C63: 0 | D63: 14050.45 | E63: =D63-C63 -> 14050.45 | F63: 0 | G63: =F63-D63 -> -14050.45 | I63: =H63-F63 -> 0 | K63: 0 | M63: 0 | O63: 0 | Q63: 0
B64: FROMAGERIE | C64: 0 | D64: 4601.52 | E64: =D64-C64 -> 4601.52 | F64: 0 | G64: =F64-D64 -> -4601.52 | I64: =H64-F64 -> 0 | K64: 0 | M64: 0 | O64: 0 | Q64: 0
B65: FOIE GRAS | C65: 0 | D65: 0 | E65: =D65-C65 -> 0 | F65: 0 | G65: =F65-D65 -> 0 | I65: =H65-F65 -> 0 | K65: 0 | M65: 0 | O65: 0 | Q65: 0
B66: FRUITS | C66: 0 | D66: 4959.35 | E66: =D66-C66 -> 4959.35 | F66: 0 | G66: =F66-D66 -> -4959.35 | I66: =H66-F66 -> 0 | K66: 0 | M66: 0 | O66: 0 | Q66: 0
B67: TOTAL | C67: =SUM(C63:C66) -> 0 | D67: =SUM(D63:D66) -> 23611.32 | E67: =D67-C67 -> 23611.32 | F67: =SUM(F63:F66) -> 0 | G67: =F67-D67 -> -23611.32 | H67: =SUM(H63:H66) -> 0 | I67: =H67-F67 -> 0 | K67: 0 | M67: 0 | O67: 0 | Q67: 0
A69: DÉCEMBRE | B69: LÉGUMES | C69: 0 | D69: 1528.79 | E69: =D69-C69 -> 1528.79 | F69: 0 | G69: =F69-D69 -> -1528.79 | I69: =H69-F69 -> 0 | K69: 0 | M69: 0 | O69: 0 | Q69: 0
B70: FROMAGERIE | C70: 0 | D70: 940 | E70: =D70-C70 -> 940 | F70: 0 | G70: =F70-D70 -> -940 | I70: =H70-F70 -> 0 | K70: 0 | M70: 0 | O70: 0 | Q70: 0
B71: FOIE GRAS | C71: 0 | D71: 0 | E71: =D71-C71 -> 0 | F71: 0 | G71: =F71-D71 -> 0 | I71: =H71-F71 -> 0 | K71: 0 | M71: 0 | O71: 0 | Q71: 0
B72: FRUITS | C72: 0 | D72: 1356.81 | E72: 1356.81 | F72: 0 | G72: =F72-D72 -> -1356.81 | I72: =H72-F72 -> 0 | K72: 0 | M72: 0 | O72: 0 | Q72: 0
B73: TOTAL | C73: =SUM(C69:C72) -> 0 | D73: =SUM(D69:D72) -> 3825.6 | E73: =D73-C73 -> 3825.6 | F73: =SUM(F69:F72) -> 0 | G73: =F73-D73 -> -3825.6 | H73: =SUM(H69:H72) -> 0 | I73: =H73-F73 -> 0 | K73: 0 | M73: 0 | O73: 0 | Q73: 0
A75: TOTAL | C75: =C73+C67+C61+C55+C49+C43+C37+C31+C25+C19+C7+C13 -> 0 | D75: =D73+D67+D61+D55+D49+D43+D37+D31+D25+D19+D7+D13 -> 117917.95 | E75: =E73+E67+E61+E55+E49+E43+E37+E31+E25+E19+E13+E7 -> 117917.95 | F75: =F73+F67+F61+F55+F49+F43+F37+F31+F25+F19+F7+F13 -> 110738.83 | G75: =G73+G67+G61+G55+G49+G43+G37+G31+G25+G19+G13+G7 -> -7179.12 | H75: =H73+H67+H61+H55+H49+H43+H37+H31+H25+H19+H7+H13 -> 0 | I75: =I73+I67+I61+I55+I49+I43+I37+I31+I25+I19+I13+I7 -> -110738.83 | J75: =J73+J67+J61+J55+J49+J43+J37+J31+J25+J19+J7+J13 -> 0 | K75: =K73+K67+K61+K55+K49+K43+K37+K31+K25+K19+K13+K7 -> 0 | L75: =L73+L67+L61+L55+L49+L43+L37+L31+L25+L19+L7+L13 -> 0 | M75: =M73+M67+M61+M55+M49+M43+M37+M31+M25+M19+M13+M7 -> 0 | N75: =N73+N67+N61+N55+N49+N43+N37+N31+N25+N19+N7+N13 -> 0 | O75: =O73+O67+O61+O55+O49+O43+O37+O31+O25+O19+O13+O7 -> 0 | P75: =SUM(P3:P74) -> 0 | Q75: =Q73+Q67+Q61+Q55+Q49+Q43+Q37+Q31+Q25+Q19+Q13+Q7 -> 0
C78: TOTAL PAR CATÉGORIES | F78: VARIATION
C79: SAISON 66 | D79: LÉGUMES | E79: =C3+C9+C15+C21+C27+C33+C39+C45+C51+C57+C63+C69 -> 0
D80: FROMAGERIE | E80: =C4+C10+C16+C22+C28+C34+C40+C46+C52+C58+C64+C70 -> 0 | I80: TOTAL MARCHÉ / GROSSISTE
D81: FOIE GRAS | E81: =C5+C11+C17+C23+C29+C35+C41+C47+C53+C59+C65+C71 -> 0 | I81: SAISON 66 | J81: =SUM(E79:E82) -> 0
D82: FRUITS | E82: =C6+C12+C18+C24+C30+C36+C42+C48+C54+C60+C66+C72 -> 0 | I82: SAISON 67 | J82: =SUM(E83:E86) -> 117917.95 | K82: =J82-J81 -> 117917.95
C83: SAISON 67 | D83: LÉGUMES | E83: =D3+D9+D15+D21+D27+D33+D39+D45+D51+D57+D63+D69 -> 32799.41 | F83: =E83-F79 -> 32799.41 | I83: SAISON 68 | J83: =SUM(E87:E90) -> 110738.83 | K83: =J83-J82 -> -7179.12
D84: FROMAGERIE | E84: =D4+D10+D16+D22+D28+D34+D40+D46+D52+D58+D64+D70 -> 24290.29 | F84: =E84-F80 -> 24290.29 | I84: SAISON 69 | J84: =SUM(E91:E94) -> 0 | K84: =J84-J83 -> -110738.83
D85: FOIE GRAS | E85: =D5+D11+D17+D23+D29+D35+D41+D47+D53+D59+D65+D71 -> 0 | F85: =E85-F81 -> 0 | I85: SAISON 70 | J85: =SUM(D95:D98) -> 0 | K85: =J85-J84 -> 0
D86: FRUITS | E86: =D6+D12+D18+D24+D30+D36+D42+D48+D54+D60+D66+D72 -> 60828.25 | F86: =E86-F82 -> 60828.25 | I86: SAISON 71 | J86: =SUM(D99:D102) -> 0 | K86: =J86-J85 -> 0
C87: SAISON 68 | D87: LÉGUMES | E87: =F3+F9+F15+F21+F27+F33+F39+F45+F51+F57+F63+F69 -> 101007.3 | F87: =E87-F83 -> 68207.89 | I87: SAISON 72 | J87: =SUM(D103:D106) -> 0 | K87: =J87-J86 -> 0
D88: FROMAGERIE | E88: =F4+F10+F16+F22+F28+F34+F40+F46+F52+F58+F64+F70 -> 0 | F88: =E88-F84 -> -24290.29 | I88: SAISON 73 | J88: =SUM(D107:D110) -> 0 | K88: =J88-J87 -> 0
D89: FOIE GRAS | E89: =F5+F11+F17+F23+F29+F35+F41+F47+F53+F59+F65+F71 -> 8244.8 | F89: =E89-F85 -> 8244.8
D90: FRUITS | E90: =F6+F12+F18+F24+F30+F36+F42+F48+F54+F60+F66+F72 -> 1486.73 | F90: =E90-F86 -> -59341.52
C91: SAISON 69 | D91: LÉGUMES | E91: =H3+H9+H15+H21+H27+H33+H39+H45+H51+H51+H57+H63+H69 -> 0 | F91: =E91-F87 -> -68207.89
D92: FROMAGERIE | E92: =H4+H10+H16+H22+H28+H34+H40+H46+H52+H52+H58+H64+H70 -> 0 | F92: =E92-F88 -> 24290.29
D93: FOIE GRAS | E93: =H5+H11+H17+H23+H29+H35+H41+H47+H53+H53+H59+H65+H71 -> 0 | F93: =E93-F89 -> -8244.8
D94: FRUITS | E94: =H6+H12+H18+H24+H30+H36+H42+H48+H54+H54+H60+H66+H72 -> 0 | F94: =E94-F90 -> 59341.52
C95: SAISON 70 | D95: LÉGUMES | E95: =J3+J9+J15+J21+J27+J33+J39+J45+J51+J57+J63+J69 -> 0 | F95: =E95-F91 -> 68207.89
D96: FROMAGERIE | E96: =J4+J10+J16+J22+J28+J34+J40+J46+J52+J58+J64+J70 -> 0 | F96: =E96-F92 -> -24290.29
D97: FOIE GRAS | E97: =J5+J11+J17+J23+J29+J35+J41+J47+J53+J59+J65+J71 -> 0 | F97: =E97-F93 -> 8244.8
D98: FRUITS | E98: =J6+J12+J18+J24+J30+J36+J42+J48+J54+J60+J66+J72 -> 0 | F98: =E98-F94 -> -59341.52
C99: SAISON 71 | D99: LÉGUMES | E99: =L3+L9+L15+L21+L27+L33+L39+L45+L51+L57+L63+L69 -> 0 | F99: =E99-F95 -> -68207.89
D100: FROMAGERIE | E100: =L4+L10+L16+L22+L28+L34+L40+L46+L52+L58+L64+L70 -> 0 | F100: =E100-F96 -> 24290.29
D101: FOIE GRAS | E101: =L5+L11+L17+L23+L29+L35+L41+L47+L53+L59+L65+L71 -> 0 | F101: =E101-F97 -> -8244.8
D102: FRUITS | E102: =L6+L12+L18+L24+L30+L36+L42+L48+L54+L60+L66+L72 -> 0 | F102: =E102-F98 -> 59341.52
C103: SAISON 72 | D103: LÉGUMES | E103: =N3+N9+N15+N21+N27+N33+N39+N45+N51+N57+N63+N69 -> 0 | F103: =E103-F99 -> 68207.89
D104: FROMAGERIE | E104: =N4+N10+N16+N22+N28+N34+N40+N46+N52+N58+N64+N70 -> 0 | F104: =E104-F100 -> -24290.29
D105: FOIE GRAS | E105: =N5+N11+N17+N23+N29+N35+N41+N47+N53+N59+N65+N71 -> 0 | F105: =E105-F101 -> 8244.8
D106: FRUITS | E106: =N6+N12+N18+N24+N30+N36+N42+N48+N54+N60+N66+N72 -> 0 | F106: =E106-F102 -> -59341.52
C107: SAISON 73 | D107: LÉGUMES | E107: =P3+P9+P15+P21+P27+P33+P39+P45+P51+P57+P63+P69 -> 0 | F107: =E107-F103 -> -68207.89
D108: FROMAGERIE | E108: =P4+P10+P16+P22+P28+P34+P40+P46+P52+P58+P64+P70 -> 0 | F108: =E108-F104 -> 24290.29
D109: FOIE GRAS | E109: =P5+P11+P17+P23+P29+P35+P41+P47+P53+P59+P65+P71 -> 0 | F109: =E109-F105 -> -8244.8
D110: FRUITS | E110: =P6+P12+P18+P24+P30+P36+P42+P48+P54+P60+P66+P72 -> 0 | F110: =E110-F106 -> 59341.52

Sheet BILAN SAISON COMPLÈTE
B2: SAISON 66 | C2: SAISON 67 | D2: VARIATION | E2: SAISON 68 | F2: VARIATION | G2: SAISON 69 | H2: VARIATION | I2: SAISON 70 | J2: VARIATION
A3: DÉBIT | B3: 2.8765627e+08 | C3: 4.1812896e+08 | D3: =C3-B3 -> 1.3047269e+08 | F3: =E3-D3 -> -1.3047269e+08 | H3: =G3-F3 -> 1.3047269e+08 | J3: =I3-H3 -> -1.3047269e+08
A4: CRÉDIT | B4: 5.3190488e+08 | C4: 6.811407e+08 | D4: =C4-B4 -> 1.4923583e+08 | F4: =E4-D4 -> -1.4923583e+08 | H4: =G4-F4 -> 1.4923583e+08 | J4: =I4-H4 -> -1.4923583e+08
A5: BALANCE | B5: =B4-B3 -> 2.4424861e+08 | C5: =C4-C3 -> 2.6301174e+08 | D5: =C5-B5 -> 18763137 | F5: =E5-D5 -> -18763137 | H5: =G5-F5 -> 18763137 | J5: =I5-H5 -> -18763137
A7: CHIFFRE D'AFFAIRE IMPOSABLE | B7: 5.3158012e+08 | C7: 6.7892017e+08 | D7: =C7-B7 -> 1.4734005e+08 | F7: =E7-D7 -> -1.4734005e+08 | H7: =G7-F7 -> 1.4734005e+08 | J7: =I7-H7 -> -1.4734005e+08
