Workbook
Name agregat: Feuil2!$A$20:$A$28
Name agregat_beton: Feuil2!$A$20:$A$23
Name agregat_mortier: Feuil2!$A$25:$A$28
Name béton: referentiel!$A$7:$E$8
Name big_bag_1500kg_graves: Feuil2!$B$21:$D$21
Name big_bag_1500kg_sables: Feuil2!$B$26:$D$26
Name chainage_10x10: Feuil2!$A$43:$E$45
Name chainage_plat: Feuil2!$A$48:$E$50
Name ciment: Feuil2!$C$19:$D$19
Name ciment_25_kg: Feuil2!$D$20:$D$28
Name ciment_35_kg: Feuil2!$C$20:$C$28
Name ciments: referentiel!$A$2:$A$4
Name dilatation: Feuil2!$B$44:$B$45
Name graves_en_vrac: Feuil2!$B$20:$D$20
Name les_codes_barre: INDIRECT(VLOOKUP(Feuil1!$C$26,referentiel!$A$2:$E$28,3,0))
Name longueur: Feuil2!$A$49:$A$50
Name mortier: referentiel!$A$5:$E$6
Name photo: INDIRECT(VLOOKUP(Feuil1!$C$26,referentiel!$A$2:$E$28,3,0))
Name quantité: Feuil2!$D$44:$D$45
Name renfort: Feuil2!$C$44:$C$45
Name renfort_d_angle: Feuil2!$A$53:$C$55
Name sable_en_vrac: Feuil2!$B$25:$D$25
Name sac_de_béton_de_30kg: Feuil2!$B$23:$D$23
Name sac_de_beton_de_35kg: Feuil2!$B$22:$D$22
Name sac_de_béton_de_35kg: Feuil2!$B$22:$D$22
Name sac_de_mortier_de_30kg: Feuil2!$B$28:$D$28
Name sac_de_mortier_de_35kg: Feuil2!$B$27:$D$27
Name semelle_fondation: Feuil2!$A$36:$A$39
Name type: Feuil2!$E$44:$E$45
Name TYPE1: Feuil2!$E$49:$E$50

Sheet Feuil1
F2: calculateur de mur
A5: caracteristiques du mur | C5: hauteur | D5: 3 | E5: en métres | F5: parpaing | H5: 10 cm
C6: longueur | D6: 8 | E6: en métres | F6: distance | G6: dilatation | H6: chainage_10x10 | I6: tous les | J6: 4 | K6: en métres
C7: surface | D7: =Feuil2!C1*D6 -> 24 | E7: en m2 | F7: semelle de fondation | H7: semelle symétrique 6m
A9: caractéristiques de la fondation | C9: profondeur | D9: 30 | E9: en cm | F9: nombre de poteaux depart, angle et fin | I9: 2 | J9: en nombres
C10: largeur | D10: 40 | E10: en cm
A12: besoin en agregats | D12: =VLOOKUP(E12,Feuil2!A20:D23,2,0) -> 0.96 | E12: graves en vrac | H12: les cellules en | K12: sont entièrement modifiables
D13: =VLOOKUP(E13,Feuil2!A25:D28,2,0) -> 0.18 | E13: sable en vrac
D14: =HLOOKUP(E14,Feuil2!B29:C32,4,0) -> 12 | E14: sac de ciments 35 kg | H14: le dosage des fondations est de 350kg/m3
H15: le dosage du mortier est de 250kg/m3 pour des joint de 1,5 cm
A16: besoin en armatures | D16: =VLOOKUP(H7,Feuil2!A36:B39,2,0) -> 2 | E16: =H7 -> semelle symétrique 6m | H16: la consommation des sac de beton et mortier est de 20kg/m2/cm d'épaisseur
C17: =IF(ISERROR(VLOOKUP(F17,INDIRECT(H6),4,0))=TRUE,"sélectionner 6 métres",(VLOOKUP(F17,INDIRECT(H6),4,0))) -> sélectionner 6 métres | E17: =H6 -> chainage_10x10 | F17: 3 métres | G17: pour les intermédiaires
C18: =IF(ISERROR(VLOOKUP(F18,Feuil2!A54:C55,3,0))=TRUE,"sélectionner 6 métres",VLOOKUP(F18,Feuil2!A54:C55,3,0)) -> sélectionner 6 métres | E18: chainage_plat | F18: 3 métres | G18: pour départ, angles, fin
D19: =ROUNDUP((D6/5.6),0) -> 2 | E19: chainage triangulaire | F19: 6 metres | G19: pour le linteau
A21: besoin en parpaings/agglo | D21: =(D7/0.1)-(D22+D23) -> 240 | E21: parpaing creux
D22: =(Feuil2!C2)*((Feuil2!C1)/0.2)*Feuil2!B17 -> 0 | E22: parpaing angle
D23: =(D6/0.2)*Feuil2!B17 -> 0 | E23: parpaing linteau
B25: quantité | C25: designation | E25: code barre | F25: visuel code barre
B26: =D14 -> 12 | C26: ciments 1er prix | E26: =VLOOKUP(C26,referentiel!A2:E4,2,0) -> 8437011948014

Sheet Feuil2
A1: arrondi au multiple parpaing | C1: =MROUND(Feuil1!D5,0.2) -> 3
A2: nombre de joint de dilatation | C2: =((ROUNDUP((Feuil1!D6/Feuil1!J6),0)*2)-Feuil1!I9) -> 2
A3: hauteur de joint | C3: =SUM(C1,(Feuil1!D9/100)) -> 3.3
A4: nombre de poteaux | C4: =Feuil1!I9 -> 2
B6: valeur angle /linteau | C6: volume angle | D6: volume joint | E6: volume linteau | F6: superficie angle | G6: superfivcie linteau | H6: sac pour angle | I6: sac pour linteau | J6: sac mortier
A8: 20 cm | B8: 1 | C8: 0.0045 | D8: 0.0021 | E8: 0.01125 | F8: 0.0225 | G8: 0.075 | H8: =(F8*20*20)/35 -> 0.25714286 | I8: 0.85714 | J8: =((D8/0.015)*20*1.5)/35 -> 0.12
A9: 15 cm | B9: 1 | C9: 0.002 | D9: 0.001575 | E9: 0.005 | F9: 0.01 | G9: 0.05 | H9: =(F9*20*20)/35 -> 0.11428571 | I9: 0.571428 | J9: =((D9/0.015)*20*1.5)/35 -> 0.09
A10: 10 cm | B10: 0 | C10: 0 | D10: =0.00075 -> 0.00075 | E10: 0 | F10: 0 | G10: 0 | H10: 0 | I10: 0
A11: 5 cm | B11: 0 | C11: 0 | D11: 0.000525 | E11: 0 | F11: 0 | G11: 0 | H11: 0 | I11: 0
A12: a bancher | B12: 0 | C12: 0.012 | D12: 0 | E12: 0 | F12: 0.06 | G12: 0.06 | H12: =(F12*20*20)/35 -> 0.68571429 | I12: 0
B13: en volume | C13: en superficie | D13: en sac de beton | E13: en sac mortier
A14: fx recherche v remplissage angle | B14: =VLOOKUP((Feuil1!H5),A8:E12,3,0) -> 0 | C14: =VLOOKUP(Feuil1!H5,A8:H12,6,0) -> 0 | D14: =VLOOKUP(Feuil1!H5,Feuil2!A8:H12,8,0) -> 0
A15: fx recherche v remplissage linteau | B15: =VLOOKUP((Feuil1!H5),Feuil2!A8:E12,5,0) -> 0 | C15: =VLOOKUP(Feuil1!H5,A8:H12,7,0) -> 0 | D15: =VLOOKUP(Feuil1!H5,A8:I12,9,0) -> 0
A16: fx recherche v joint | B16: =VLOOKUP((Feuil1!H5),Feuil2!A8:E12,4,0) -> 0.00075 | E16: =VLOOKUP(Feuil1!H5,Feuil2!A8:J12,10,0) -> 0
A17: fx recherhce valeur angle/linteau | B17: =VLOOKUP(Feuil1!H5,A8:J12,2,0) -> 0
A19: agregat beton | B19: quantité pour beton | C19: ciment 35 kg | D19: ciment 25 kg
A20: graves en vrac | B20: =Feuil1!D6*(Feuil1!D10/100)*(Feuil1!D9/100)+(B14*Feuil1!D22)+(B15*Feuil1!D23) -> 0.96 | C20: =ROUNDUP((B20*10),0) -> 10 | D20: =ROUNDUP((C20*35)/25,0) -> 14
A21: big bag 1500kg graves | B21: =ROUNDUP(((B20*1800)/1500),0) -> 2 | C21: =C20 -> 10 | D21: =D20 -> 14
A22: sac de béton de 35kg | B22: =ROUNDUP((Feuil1!D6*(Feuil1!D10/100)*20*Feuil1!D9)/35+(D14*Feuil1!D22)+(D15*Feuil1!D23),0) -> 55 | C22: 0 | D22: 0
A23: sac de béton de 30kg | B23: =ROUNDUP(((Feuil1!D6*(Feuil1!D10/100)*20*Feuil1!D9)/30)+(D14*Feuil1!D22)+(D15*Feuil1!D23),0) -> 64 | C23: 0 | D23: 0 | K23: =E23*(Feuil2!F8) -> 0
A24: agregat mortier | B24: quantité pour mortier | C24: ciment 35 kg | D24: ciment 25 kg
A25: sable en vrac | B25: =SUM(Feuil1!D21:D23)*Feuil2!B16 -> 0.18 | C25: =ROUNDUP((D25*25)/35,0) -> 2 | D25: =ROUNDUP(B25*10,0) -> 2
A26: big bag 1500kg sables | B26: =ROUNDUP(((B25*1600)/1500),0) -> 1 | C26: =C25 -> 2 | D26: =D25 -> 2
A27: sac de mortier de 35kg | B27: =SUM(Feuil1!D21:D23)*E16 -> 0 | C27: 0 | D27: 0
A28: sac de mortier de 30kg | B28: =(B27*35)/30 -> 0 | C28: 0 | D28: 0
B29: sac de ciments 35 kg | C29: sac ciments 25kg
A30: fx recherche v ciments beton | B30: =VLOOKUP(Feuil1!E12,Feuil2!A20:D23,3) -> 10 | C30: =VLOOKUP(Feuil1!E12,Feuil2!A20:D23,4,0) -> 14
A31: fx recherche v ciments mortier | B31: =VLOOKUP(Feuil1!E13,A25:D28,3,0) -> 2 | C31: =VLOOKUP(Feuil1!E13,A25:D28,4,0) -> 2
A32: somme ciments | B32: =SUM(B30:B31) -> 12 | C32: =SUM(C30:C31) -> 16
A36: semelle filante 6m | B36: =ROUNDUP(Feuil1!D6/5.6,0) -> 2
A37: semelle filante 3m | B37: =ROUNDUP(Feuil1!D6/2.6,0) -> 4
A38: semelle symétrique 6m | B38: =ROUNDUP(Feuil1!D6/5.6,0) -> 2
A39: semellle symétrique 3m | B39: =ROUNDUP(Feuil1!D6/2.6,0) -> 4
A42: chainage_10x10
A43: longueur | B43: dilatation | C43: renfort | D43: quantité | E43: type
A44: 3 métres | B44: chainage_10x10 | C44: chainage_10x10 | D44: =ROUNDUP(C2/INT(3/C3),0) -> #DIV/0! | E44: dilatation
A45: 6 métres | B45: chainage_plat | C45: chainage_plat | D45: =ROUNDUP(C2/INT(6/C3),0) -> 2 | E45: renfort
A47: chainage_plat
A48: longueur | B48: dilatation | C48: renfort | D48: quantité | E48: TYPE1
A49: 3 métres | B49: chainage_10x10 | C49: chainage_10x10 | D49: =ROUNDUP(C2/INT(3/C3),0) -> #DIV/0! | E49: dilatation
A50: 6 métres | B50: chainage_plat | C50: chainage_plat | D50: =ROUNDUP(C2/INT(6/C3),0) -> 2 | E50: renfort
A52: renfort d'angle
A53: longueur | C53: quantité
A54: 3 métres | B54: chainage_10x10 | C54: =C4/INT(3/C3) -> #DIV/0!
A55: 6 métres | B55: chainage_plat | C55: =ROUNDUP(C4/INT(6/C3),0) -> 2

Sheet referentiel
A1: designation | B1: code barre | D1: visuel code barre | E1: code casto
A2: ciments lafarge 35 kg | B2: 3596700101156 | C2: {=CELL("adresse",referentiel!D2)} -> $D$2
A3: ciments lafarge 25 kg | B3: 3596700101149 | C3: {=CELL("adresse",referentiel!D3)} -> $D$3
A4: ciments 1er prix | B4: 8437011948014 | C4: {=CELL("adresse",referentiel!D4)} -> $D$4
A5: mortier VPI 35 kg | B5: 3538988200138 | C5: {=CELL("adresse",referentiel!D5)} -> $D$5
A6: mortier 1er prix 30 kg | B6: 3538988110024 | C6: {=CELL("adresse",referentiel!D6)} -> $D$6
A7: béton VPI 35 kg | B7: 3538988200213 | C7: {=CELL("adresse",referentiel!D7)} -> $D$7
A8: Béton 1er prix 30 kg | B8: 5413945030042 | C8: {=CELL("adresse",referentiel!D8)} -> $D$8
A9: bigbag 1500 kg graves | C9: {=CELL("adresse",referentiel!D9)} -> $D$9 | E9: 478013
A10: bigbag 1500 kg sables | C10: {=CELL("adresse",referentiel!D10)} -> $D$10 | E10: 478030
A11: chainage triangulaire 6 métres | C11: {=CELL("adresse",referentiel!D11)} -> $D$11
A12: chainage plat 6 métres | B12: 3597540724437 | C12: {=CELL("adresse",referentiel!D12)} -> $D$12
A13: chainage 10x10 6 métres | B13: 3597540724352 | C13: {=CELL("adresse",referentiel!D13)} -> $D$13
A14: chainage plat 3 métres | B14: 3597541405397 | C14: {=CELL("adresse",referentiel!D14)} -> $D$14
A15: chaiange 10x10 3 métres | B15: 3597541405373 | C15: {=CELL("adresse",referentiel!D15)} -> $D$15
A16: semelle filante 3 métres | B16: 3597541405359 | C16: {=CELL("adresse",referentiel!D16)} -> $D$16
A17: semelle filante 6 métres | B17: 3597540725403 | C17: {=CELL("adresse",referentiel!D17)} -> $D$17
A18: semelle symétrique 3 métres | B18: 3597541405410 | C18: {=CELL("adresse",referentiel!D18)} -> $D$18
A19: semelle symétrique 6 métres | B19: 3597540724635 | C19: {=CELL("adresse",referentiel!D19)} -> $D$19
A20: agglo de 20 | C20: {=CELL("adresse",referentiel!D20)} -> $D$20
A21: agglo de 15 | C21: {=CELL("adresse",referentiel!D21)} -> $D$21
A22: agglo de 10 | C22: {=CELL("adresse",referentiel!D22)} -> $D$22
A23: agglo de 5 | C23: {=CELL("adresse",referentiel!D23)} -> $D$23
A24: linteau de 20 | C24: {=CELL("adresse",referentiel!D24)} -> $D$24
A25: linteau de 15 | C25: {=CELL("adresse",referentiel!D25)} -> $D$25
A26: angle de 20 | C26: {=CELL("adresse",referentiel!D26)} -> $D$26
A27: angle de 15 | C27: {=CELL("adresse",referentiel!D27)} -> $D$27
A28: agglo a bancher | C28: {=CELL("adresse",referentiel!D28)} -> $D$28
