Workbook

Sheet LCC
A1: LCC | B1: 50e p (JA) | C1: SA | D1: SA | E1: JA | F1: AG | G1: LCC mesurée | H1: JA | I1: INTERGROWTH
G2: =CR!E19 -> 23
A3: 15 | B3: =40.9041+(3.21585*A3^0.5)+(0.348956*A3) -> 58.593373 | C3: =B3/7 -> 8.3704819 | D3: =C3-ROUNDDOWN(C3,0) -> 0.37048193 | E3: =D3*7 -> 2.5933735 | F3: 8 SA + 3J | G3: =G2 -> 23 | H3: =IF(AND(G3=A3),F3) -> FALSE
A4: =A3+1 -> 16 | B4: =40.9041+(3.21585*A4^0.5)+(0.348956*A4) -> 59.350796 | C4: =B4/7 -> 8.4786851 | D4: =C4-ROUNDDOWN(C4,0) -> 0.47868514 | E4: =D4*7 -> 3.350796 | F4: 8 SA + 3J | G4: =G3 -> 23 | H4: =IF(AND(G4=A4),F4) -> FALSE
A5: =A4+1 -> 17 | B5: =40.9041+(3.21585*A5^0.5)+(0.348956*A5) -> 60.095641 | C5: =B5/7 -> 8.5850916 | D5: =C5-ROUNDDOWN(C5,0) -> 0.5850916 | E5: =D5*7 -> 4.0956412 | F5: 8 SA + 4J | G5: =G4 -> 23 | H5: =IF(AND(G5=A5),F5) -> FALSE
A6: =A5+1 -> 18 | B6: =40.9041+(3.21585*A6^0.5)+(0.348956*A6) -> 60.829004 | C6: =B6/7 -> 8.6898577 | D6: =C6-ROUNDDOWN(C6,0) -> 0.68985772 | E6: =D6*7 -> 4.8290041 | F6: 8 SA + 5J | G6: =G5 -> 23 | H6: =IF(AND(G6=A6),F6) -> FALSE
A7: =A6+1 -> 19 | B7: =40.9041+(3.21585*A7^0.5)+(0.348956*A7) -> 61.551829 | C7: =B7/7 -> 8.7931185 | D7: =C7-ROUNDDOWN(C7,0) -> 0.79311845 | E7: =D7*7 -> 5.5518292 | F7: 8 SA + 6J | G7: =G6 -> 23 | H7: =IF(AND(G7=A7),F7) -> FALSE
A8: =A7+1 -> 20 | B8: =40.9041+(3.21585*A8^0.5)+(0.348956*A8) -> 62.264938 | C8: =B8/7 -> 8.8949912 | D8: =C8-ROUNDDOWN(C8,0) -> 0.8949912 | E8: =D8*7 -> 6.2649384 | F8: 8 SA + 6J | G8: =G7 -> 23 | H8: =IF(AND(G8=A8),F8) -> FALSE
A9: =A8+1 -> 21 | B9: =40.9041+(3.21585*A9^0.5)+(0.348956*A9) -> 62.969052 | C9: =B9/7 -> 8.9955789 | D9: =C9-ROUNDDOWN(C9,0) -> 0.99557886 | E9: =D9*7 -> 6.969052 | F9: 9 SA | G9: =G8 -> 23 | H9: =IF(AND(G9=A9),F9) -> FALSE
A10: =A9+1 -> 22 | B10: =40.9041+(3.21585*A10^0.5)+(0.348956*A10) -> 63.664806 | C10: =B10/7 -> 9.0949722 | D10: =C10-ROUNDDOWN(C10,0) -> 0.094972217 | E10: =D10*7 -> 0.66480552 | F10: 9 SA + 1J | G10: =G9 -> 23 | H10: =IF(AND(G10=A10),F10) -> FALSE
A11: =A10+1 -> 23 | B11: =40.9041+(3.21585*A11^0.5)+(0.348956*A11) -> 64.352763 | C11: =B11/7 -> 9.1932518 | D11: =C11-ROUNDDOWN(C11,0) -> 0.19325183 | E11: =D11*7 -> 1.3527628 | F11: 9 SA + 1J | G11: =G10 -> 23 | H11: =IF(AND(G11=A11),F11) -> 9 SA + 1J
A12: =A11+1 -> 24 | B12: =40.9041+(3.21585*A12^0.5)+(0.348956*A12) -> 65.033427 | C12: =B12/7 -> 9.2904896 | D12: =C12-ROUNDDOWN(C12,0) -> 0.2904896 | E12: =D12*7 -> 2.0334272 | F12: 9 SA + 2J | G12: =G11 -> 23 | H12: =IF(AND(G12=A12),F12) -> FALSE
A13: =A12+1 -> 25 | B13: =40.9041+(3.21585*A13^0.5)+(0.348956*A13) -> 65.70725 | C13: =B13/7 -> 9.38675 | D13: =C13-ROUNDDOWN(C13,0) -> 0.38675 | E13: =D13*7 -> 2.70725 | F13: 9 SA + 3J | G13: =G12 -> 23 | H13: =IF(AND(G13=A13),F13) -> FALSE
A14: =A13+1 -> 26 | B14: =40.9041+(3.21585*A14^0.5)+(0.348956*A14) -> 66.374638 | C14: =B14/7 -> 9.4820911 | D14: =C14-ROUNDDOWN(C14,0) -> 0.48209113 | E14: =D14*7 -> 3.3746379 | F14: 9 SA + 3J | G14: =G13 -> 23 | H14: =IF(AND(G14=A14),F14) -> FALSE
A15: =A14+1 -> 27 | B15: =40.9041+(3.21585*A15^0.5)+(0.348956*A15) -> 67.035959 | C15: =B15/7 -> 9.5765655 | D15: =C15-ROUNDDOWN(C15,0) -> 0.57656554 | E15: =D15*7 -> 4.0359588 | F15: 9 SA + 4J | G15: =G14 -> 23 | H15: =IF(AND(G15=A15),F15) -> FALSE
... A27: =A26+1 -> 39 | B27: =40.9041+(3.21585*A27^0.5)+(0.348956*A27) -> 74.596361 | C27: =B27/7 -> 10.656623 | D27: =C27-ROUNDDOWN(C27,0) -> 0.65662297 | E27: =D27*7 -> 4.5963608 | F27: 10 SA + 5J | G27: =G26 -> 23 | H27: =IF(AND(G27=A27),F27) -> FALSE
A28: 40 | B28: =40.9041+(3.21585*A28^0.5)+(0.348956*A28) -> 75.201161 | C28: =B28/7 -> 10.743023 | D28: =C28-ROUNDDOWN(C28,0) -> 0.74302303 | E28: =D28*7 -> 5.2011612 | F28: 10 SA + 5J | G28: =G27 -> 23 | H28: =IF(AND(G28=A28),F28) -> FALSE
A29: 41 | B29: =40.9041+(3.21585*A29^0.5)+(0.348956*A29) -> 75.802783 | C29: =B29/7 -> 10.828969 | D29: =C29-ROUNDDOWN(C29,0) -> 0.82896901 | E29: =D29*7 -> 5.8027831 | F29: 10 SA + 6J | G29: =G28 -> 23 | H29: =IF(AND(G29=A29),F29) -> FALSE
A30: 42 | B30: =40.9041+(3.21585*A30^0.5)+(0.348956*A30) -> 76.401342 | C30: =B30/7 -> 10.914477 | D30: =C30-ROUNDDOWN(C30,0) -> 0.91447742 | E30: =D30*7 -> 6.401342 | F30: 10 SA + 6J | G30: =G29 -> 23 | H30: =IF(AND(G30=A30),F30) -> FALSE
A31: 43 | B31: =40.9041+(3.21585*A31^0.5)+(0.348956*A31) -> 76.996947 | C31: =B31/7 -> 10.999564 | D31: =C31-ROUNDDOWN(C31,0) -> 0.99956381 | E31: =D31*7 -> 6.9969467 | F31: 11 SA | G31: =G30 -> 23 | H31: =IF(AND(G31=A31),F31) -> FALSE
A32: 44 | B32: =40.9041+(3.21585*A32^0.5)+(0.348956*A32) -> 77.5897 | C32: =B32/7 -> 11.084243 | D32: =C32-ROUNDDOWN(C32,0) -> 0.084242809 | E32: =D32*7 -> 0.58969966 | F32: 11 SA + 1J | G32: =G31 -> 23 | H32: =IF(AND(G32=A32),F32) -> FALSE
A33: 45 | B33: =40.9041+(3.21585*A33^0.5)+(0.348956*A33) -> 78.179698 | C33: =B33/7 -> 11.168528 | D33: =C33-ROUNDDOWN(C33,0) -> 0.16852823 | E33: =D33*7 -> 1.1796976 | F33: 11 SA + 1J | G33: =G32 -> 23 | H33: =IF(AND(G33=A33),F33) -> FALSE
A34: 46 | B34: =40.9041+(3.21585*A34^0.5)+(0.348956*A34) -> 78.767032 | C34: =B34/7 -> 11.252433 | D34: =C34-ROUNDDOWN(C34,0) -> 0.25243313 | E34: =D34*7 -> 1.7670319 | F34: 11 SA + 2J | G34: =G33 -> 23 | H34: =IF(AND(G34=A34),F34) -> FALSE
A35: 47 | B35: =40.9041+(3.21585*A35^0.5)+(0.348956*A35) -> 79.351789 | C35: =B35/7 -> 11.33597 | D35: =C35-ROUNDDOWN(C35,0) -> 0.33596984 | E35: =D35*7 -> 2.3517888 | F35: 11 SA + 2J | G35: =G34 -> 23 | H35: =IF(AND(G35=A35),F35) -> FALSE
A36: 48 | B36: =40.9041+(3.21585*A36^0.5)+(0.348956*A36) -> 79.93405 | C36: =B36/7 -> 11.41915 | D36: =C36-ROUNDDOWN(C36,0) -> 0.41915005 | E36: =D36*7 -> 2.9340504 | F36: 11 SA + 3J | G36: =G35 -> 23 | H36: =IF(AND(G36=A36),F36) -> FALSE
A37: 49 | B37: =40.9041+(3.21585*A37^0.5)+(0.348956*A37) -> 80.513894 | C37: =B37/7 -> 11.501985 | D37: =C37-ROUNDDOWN(C37,0) -> 0.50198486 | E37: =D37*7 -> 3.513894 | F37: 11 SA + 4J | G37: =G36 -> 23 | H37: =IF(AND(G37=A37),F37) -> FALSE
A38: 50 | B38: =40.9041+(3.21585*A38^0.5)+(0.348956*A38) -> 81.091393 | C38: =B38/7 -> 11.584485 | D38: =C38-ROUNDDOWN(C38,0) -> 0.58448477 | E38: =D38*7 -> 4.0913934 | F38: 11 SA + 4J | G38: =G37 -> 23 | H38: =IF(AND(G38=A38),F38) -> FALSE
A39: 51 | B39: =40.9041+(3.21585*A39^0.5)+(0.348956*A39) -> 81.666619 | C39: =B39/7 -> 11.66666 | D39: =C39-ROUNDDOWN(C39,0) -> 0.6666598 | E39: =D39*7 -> 4.6666186 | F39: 11 SA + 5J | G39: =G38 -> 23 | H39: =IF(AND(G39=A39),F39) -> FALSE
... A83: 95 | B83: =40.9041+(3.21585*A83^0.5)+(0.348956*A83) -> 105.39915 | C83: =B83/7 -> 15.057021 | D83: =C83-ROUNDDOWN(C83,0) -> 0.057021228 | E83: =D83*7 -> 0.39914859 | F83: 15 SA | G83: =G82 -> 23 | H83: =IF(AND(G83=A83),F83) -> FALSE

Sheet CR
D19: LCC | E19: 23
D20: AG

Sheet LCC1
A1: LCC | B1: 50e p (JA) | C1: SA | D1: SA | E1: JA | F1: AG
A3: 15 | B3: =8.052*(A3*1.037)^0.5+23.73 -> 55.486949 | C3: =B3/7 -> 7.926707 | D3: =C3-ROUNDDOWN(C3,0) -> 0.92670702 | E3: =D3*7 -> 6.4869492 | F3: 7 SA + 6J | J3: Robinson (1975) PB / calculateur CFEF a priori il faut utiliser les jours de l'année ? Cf article de 1975
A4: =A3+1 -> 16 | B4: =8.052*(A4*1.037)^0.5+23.73 -> 56.528436 | C4: =B4/7 -> 8.0754909 | D4: =C4-ROUNDDOWN(C4,0) -> 0.075490867 | E4: =D4*7 -> 0.52843607 | F4: 8 SA + 1J
A5: =A4+1 -> 17 | B5: =8.052*(A5*1.037)^0.5+23.73 -> 57.537854 | C5: =B5/7 -> 8.2196934 | D5: =C5-ROUNDDOWN(C5,0) -> 0.21969344 | E5: =D5*7 -> 1.5378541 | F5: 8 SA + 2J
A6: =A5+1 -> 18 | B6: =8.052*(A6*1.037)^0.5+23.73 -> 58.517995 | C6: =B6/7 -> 8.3597135 | D6: =C6-ROUNDDOWN(C6,0) -> 0.35971355 | E6: =D6*7 -> 2.5179948 | F6: 8 SA + 3J
A7: =A6+1 -> 19 | B7: =8.052*(A7*1.037)^0.5+23.73 -> 59.471267 | C7: =B7/7 -> 8.4958953 | D7: =C7-ROUNDDOWN(C7,0) -> 0.4958953 | E7: =D7*7 -> 3.4712671 | F7: 8 SA + 3J
A8: =A7+1 -> 20 | B8: =8.052*(A8*1.037)^0.5+23.73 -> 60.399766 | C8: =B8/7 -> 8.628538 | D8: =C8-ROUNDDOWN(C8,0) -> 0.62853804 | E8: =D8*7 -> 4.3997663 | F8: 8 SA + 4J
A9: =A8+1 -> 21 | B9: =8.052*(A9*1.037)^0.5+23.73 -> 61.305329 | C9: =B9/7 -> 8.7579041 | D9: =C9-ROUNDDOWN(C9,0) -> 0.75790414 | E9: =D9*7 -> 5.305329 | F9: 8 SA + 5J
A10: =A9+1 -> 22 | B10: =8.052*(A10*1.037)^0.5+23.73 -> 62.189575 | C10: =B10/7 -> 8.8842251 | D10: =C10-ROUNDDOWN(C10,0) -> 0.88422505 | E10: =D10*7 -> 6.1895754 | F10: 8 SA + 6J
A11: =A10+1 -> 23 | B11: =8.052*(A11*1.037)^0.5+23.73 -> 63.053943 | C11: =B11/7 -> 9.0077062 | D11: =C11-ROUNDDOWN(C11,0) -> 0.007706201 | E11: =D11*7 -> 0.053943407 | F11: 9 SA
A12: =A11+1 -> 24 | B12: =8.052*(A12*1.037)^0.5+23.73 -> 63.899716 | C12: =B12/7 -> 9.1285309 | D12: =C12-ROUNDDOWN(C12,0) -> 0.12853091 | E12: =D12*7 -> 0.89971637 | F12: 9 SA + 1J
A13: =A12+1 -> 25 | B13: =8.052*(A13*1.037)^0.5+23.73 -> 64.728045 | C13: =B13/7 -> 9.2468636 | D13: =C13-ROUNDDOWN(C13,0) -> 0.24686358 | E13: =D13*7 -> 1.7280451 | F13: 9 SA + 2J
A14: =A13+1 -> 26 | B14: =8.052*(A14*1.037)^0.5+23.73 -> 65.539966 | C14: =B14/7 -> 9.3628523 | D14: =C14-ROUNDDOWN(C14,0) -> 0.36285234 | E14: =D14*7 -> 2.5399664 | F14: 9 SA + 3J
A15: =A14+1 -> 27 | B15: =8.052*(A15*1.037)^0.5+23.73 -> 66.336418 | C15: =B15/7 -> 9.4766312 | D15: =C15-ROUNDDOWN(C15,0) -> 0.47663118 | E15: =D15*7 -> 3.3364183 | F15: 9 SA + 3J
... A27: =A26+1 -> 39 | B27: =8.052*(A27*1.037)^0.5+23.73 -> 74.936542 | C27: =B27/7 -> 10.70522 | D27: =C27-ROUNDDOWN(C27,0) -> 0.70522027 | E27: =D27*7 -> 4.9365419 | F27: 10 SA + 5J
A28: 40 | B28: =8.052*(A28*1.037)^0.5+23.73 -> 75.588881 | C28: =B28/7 -> 10.798412 | D28: =C28-ROUNDDOWN(C28,0) -> 0.79841155 | E28: =D28*7 -> 5.5888808 | F28: 10 SA + 6J
A29: 41 | B29: =8.052*(A29*1.037)^0.5+23.73 -> 76.233115 | C29: =B29/7 -> 10.890445 | D29: =C29-ROUNDDOWN(C29,0) -> 0.89044503 | E29: =D29*7 -> 6.2331152 | F29: 10 SA + 6J
A30: 42 | B30: =8.052*(A30*1.037)^0.5+23.73 -> 76.86954 | C30: =B30/7 -> 10.981363 | D30: =C30-ROUNDDOWN(C30,0) -> 0.98136284 | E30: =D30*7 -> 6.8695399 | F30: 11 SA
A31: 43 | B31: =8.052*(A31*1.037)^0.5+23.73 -> 77.498432 | C31: =B31/7 -> 11.071205 | D31: =C31-ROUNDDOWN(C31,0) -> 0.07120458 | E31: =D31*7 -> 0.49843206 | F31: 11 SA
A32: 44 | B32: =8.052*(A32*1.037)^0.5+23.73 -> 78.120053 | C32: =B32/7 -> 11.160008 | D32: =C32-ROUNDDOWN(C32,0) -> 0.16000758 | E32: =D32*7 -> 1.1200531 | F32: 11 SA + 1J
A33: 45 | B33: =8.052*(A33*1.037)^0.5+23.73 -> 78.734649 | C33: =B33/7 -> 11.247807 | D33: =C33-ROUNDDOWN(C33,0) -> 0.24780707 | E33: =D33*7 -> 1.7346495 | F33: 11 SA + 2J
A34: 46 | B34: =8.052*(A34*1.037)^0.5+23.73 -> 79.342454 | C34: =B34/7 -> 11.334636 | D34: =C34-ROUNDDOWN(C34,0) -> 0.3346363 | E34: =D34*7 -> 2.3424541 | F34: 11 SA + 2J
A35: 47 | B35: =8.052*(A35*1.037)^0.5+23.73 -> 79.943687 | C35: =B35/7 -> 11.420527 | D35: =C35-ROUNDDOWN(C35,0) -> 0.42052676 | E35: =D35*7 -> 2.9436873 | F35: 11 SA + 3J
A36: 48 | B36: =8.052*(A36*1.037)^0.5+23.73 -> 80.538558 | C36: =B36/7 -> 11.505508 | D36: =C36-ROUNDDOWN(C36,0) -> 0.50550824 | E36: =D36*7 -> 3.5385577 | F36: 11 SA + 4J
A37: 49 | B37: =8.052*(A37*1.037)^0.5+23.73 -> 81.127263 | C37: =B37/7 -> 11.589609 | D37: =C37-ROUNDDOWN(C37,0) -> 0.58960902 | E37: =D37*7 -> 4.1272631 | F37: 11 SA + 4J
A38: 50 | B38: =8.052*(A38*1.037)^0.5+23.73 -> 81.709991 | C38: =B38/7 -> 11.672856 | D38: =C38-ROUNDDOWN(C38,0) -> 0.67285591 | E38: =D38*7 -> 4.7099914 | F38: 11 SA + 5J
A39: 51 | B39: =8.052*(A39*1.037)^0.5+23.73 -> 82.286921 | C39: =B39/7 -> 11.755274 | D39: =C39-ROUNDDOWN(C39,0) -> 0.75527442 | E39: =D39*7 -> 5.2869209 | F39: 11 SA + 5J
... A83: 95 | B83: =8.052*(A83*1.037)^0.5+23.73 -> 103.6499 | C83: =B83/7 -> 14.807129 | D83: =C83-ROUNDDOWN(C83,0) -> 0.80712897 | E83: =D83*7 -> 5.6499028 | F83: 14 SA + 6J

Sheet BIP
A1: AG | B1: 50e p | C1: DS | D1: BIP mesurée | E1: Z score | F1: 3ep | G1: 5ep | H1: 10ep | I1: 50e p | J1: 90ep | K1: 95ep | L1: 97ep | N1: Percentile
A3: 20 | B3: =5.60878+0.158369*A3^2-0.00256379*A3^3 -> 48.44606 | C3: =EXP(0.101242+0.00150557*A3^3-0.000771535*A3^3*LN(A3)+0.0000999638*A3^3*LN(A3)^2) -> 2.298448 | E3: =(D3-B3)/C3 -> -21.077728 | F3: =B3-1.88*C3 -> 44.124978 | G3: =B3-1.6458*C3 -> 44.663274 | H3: =B3-1.28*C3 -> 45.504047 | I3: 48.44606 | J3: =B3+1.28*C3 -> 51.388073 | K3: =B3+1.6458*C3 -> 52.228846 | L3: =B3+1.88*C3 -> 52.767142 | N3: =_xlfn.NORM.S.DIST(E3,TRUE) -> 6.3676518e-99
A4: 21 | B4: =5.60878+0.158369*A4^2-0.00256379*A4^3 -> 51.70625 | C4: =EXP(0.101242+0.00150557*A4^3-0.000771535*A4^3*LN(A4)+0.0000999638*A4^3*LN(A4)^2) -> 2.390899 | E4: =(D4-B4)/C4 -> -21.626279 | F4: =B4-1.88*C4 -> 47.21136 | G4: =B4-1.6458*C4 -> 47.771308 | H4: =B4-1.28*C4 -> 48.645899 | I4: 51.70625 | J4: =B4+1.28*C4 -> 54.766601 | K4: =B4+1.6458*C4 -> 55.641191 | L4: =B4+1.88*C4 -> 56.20114 | N4: =_xlfn.NORM.S.DIST(E4,TRUE) -> 5.0830089e-104
A5: 22 | B5: =5.60878+0.158369*A5^2-0.00256379*A5^3 -> 54.96014 | C5: =EXP(0.101242+0.00150557*A5^3-0.000771535*A5^3*LN(A5)+0.0000999638*A5^3*LN(A5)^2) -> 2.4810722 | E5: =(D5-B5)/C5 -> -22.151769 | F5: =B5-1.88*C5 -> 50.295724 | G5: =B5-1.6458*C5 -> 50.876791 | H5: =B5-1.28*C5 -> 51.784368 | I5: 54.96014 | J5: =B5+1.28*C5 -> 58.135913 | K5: =B5+1.6458*C5 -> 59.043489 | L5: =B5+1.88*C5 -> 59.624556 | N5: =_xlfn.NORM.S.DIST(E5,TRUE) -> 5.0150689e-109
A6: 23 | B6: =5.60878+0.158369*A6^2-0.00256379*A6^3 -> 58.192348 | C6: =EXP(0.101242+0.00150557*A6^3-0.000771535*A6^3*LN(A6)+0.0000999638*A6^3*LN(A6)^2) -> 2.5682753 | E6: =(D6-B6)/C6 -> -22.658143 | F6: =B6-1.88*C6 -> 53.363991 | G6: =B6-1.6458*C6 -> 53.965481 | H6: =B6-1.28*C6 -> 54.904956 | I6: 58.192348 | J6: =B6+1.28*C6 -> 61.47974 | K6: =B6+1.6458*C6 -> 62.419216 | L6: =B6+1.88*C6 -> 63.020706 | N6: =_xlfn.NORM.S.DIST(E6,TRUE) -> 5.7984509e-114
A7: 24 | B7: =5.60878+0.158369*A7^2-0.00256379*A7^3 -> 61.387491 | C7: =EXP(0.101242+0.00150557*A7^3-0.000771535*A7^3*LN(A7)+0.0000999638*A7^3*LN(A7)^2) -> 2.6519501 | E7: =(D7-B7)/C7 -> -23.148057 | F7: =B7-1.88*C7 -> 56.401825 | G7: =B7-1.6458*C7 -> 57.022912 | H7: =B7-1.28*C7 -> 57.992995 | I7: 61.387491 | J7: =B7+1.28*C7 -> 64.781987 | K7: =B7+1.6458*C7 -> 65.752071 | L7: =B7+1.88*C7 -> 66.373157 | N7: =_xlfn.NORM.S.DIST(E7,TRUE) -> 7.6038562e-119
A8: 25 | B8: =5.60878+0.158369*A8^2-0.00256379*A8^3 -> 64.530186 | C8: =EXP(0.101242+0.00150557*A8^3-0.000771535*A8^3*LN(A8)+0.0000999638*A8^3*LN(A8)^2) -> 2.7317029 | E8: =(D8-B8)/C8 -> -23.622696 | F8: =B8-1.88*C8 -> 59.394585 | G8: =B8-1.6458*C8 -> 60.03435 | H8: =B8-1.28*C8 -> 61.033607 | I8: 64.530186 | J8: =B8+1.28*C8 -> 68.026766 | K8: =B8+1.6458*C8 -> 69.026023 | L8: =B8+1.88*C8 -> 69.665788 | N8: =_xlfn.NORM.S.DIST(E8,TRUE) -> 1.1265509e-123
A9: 26 | B9: =5.60878+0.158369*A9^2-0.00256379*A9^3 -> 67.605051 | C9: =EXP(0.101242+0.00150557*A9^3-0.000771535*A9^3*LN(A9)+0.0000999638*A9^3*LN(A9)^2) -> 2.8073313 | E9: =(D9-B9)/C9 -> -24.081607 | F9: =B9-1.88*C9 -> 62.327268 | G9: =B9-1.6458*C9 -> 62.984745 | H9: =B9-1.28*C9 -> 64.011667 | I9: 67.605051 | J9: =B9+1.28*C9 -> 71.198435 | K9: =B9+1.6458*C9 -> 72.225357 | L9: =B9+1.88*C9 -> 72.882834 | N9: =_xlfn.NORM.S.DIST(E9,TRUE) -> 1.9481532e-128
A10: 27 | B10: =5.60878+0.158369*A10^2-0.00256379*A10^3 -> 70.596702 | C10: =EXP(0.101242+0.00150557*A10^3-0.000771535*A10^3*LN(A10)+0.0000999638*A10^3*LN(A10)^2) -> 2.878847 | E10: =(D10-B10)/C10 -> -24.522561 | F10: =B10-1.88*C10 -> 65.18447 | G10: =B10-1.6458*C10 -> 65.858696 | H10: =B10-1.28*C10 -> 66.911778 | I10: 70.596702 | J10: =B10+1.28*C10 -> 74.281627 | K10: =B10+1.6458*C10 -> 75.334709 | L10: =B10+1.88*C10 -> 76.008935 | N10: =_xlfn.NORM.S.DIST(E10,TRUE) -> 4.2444858e-133
A11: 28 | B11: =5.60878+0.158369*A11^2-0.00256379*A11^3 -> 73.489758 | C11: =EXP(0.101242+0.00150557*A11^3-0.000771535*A11^3*LN(A11)+0.0000999638*A11^3*LN(A11)^2) -> 2.9464936 | E11: =(D11-B11)/C11 -> -24.941428 | F11: =B11-1.88*C11 -> 67.95035 | G11: =B11-1.6458*C11 -> 68.640419 | H11: =B11-1.28*C11 -> 69.718246 | I11: 73.489758 | J11: =B11+1.28*C11 -> 77.26127 | K11: =B11+1.6458*C11 -> 78.339097 | L11: =B11+1.88*C11 -> 79.029166 | N11: =_xlfn.NORM.S.DIST(E11,TRUE) -> 1.3226876e-137
A12: 29 | B12: =5.60878+0.158369*A12^2-0.00256379*A12^3 -> 76.268835 | C12: =EXP(0.101242+0.00150557*A12^3-0.000771535*A12^3*LN(A12)+0.0000999638*A12^3*LN(A12)^2) -> 3.0107605 | E12: =(D12-B12)/C12 -> -25.332083 | F12: =B12-1.88*C12 -> 70.608605 | G12: =B12-1.6458*C12 -> 71.313725 | H12: =B12-1.28*C12 -> 72.415061 | I12: 76.268835 | J12: =B12+1.28*C12 -> 80.122608 | K12: =B12+1.6458*C12 -> 81.223944 | L12: =B12+1.88*C12 -> 81.929064 | N12: =_xlfn.NORM.S.DIST(E12,TRUE) -> 7.0802649e-142
A13: 30 | B13: =5.60878+0.158369*A13^2-0.00256379*A13^3 -> 78.91855 | C13: =EXP(0.101242+0.00150557*A13^3-0.000771535*A13^3*LN(A13)+0.0000999638*A13^3*LN(A13)^2) -> 3.0723935 | E13: =(D13-B13)/C13 -> -25.686342 | F13: =B13-1.88*C13 -> 73.14245 | G13: =B13-1.6458*C13 -> 73.862005 | H13: =B13-1.28*C13 -> 74.985886 | I13: 78.91855 | J13: =B13+1.28*C13 -> 82.851214 | K13: =B13+1.6458*C13 -> 83.975095 | L13: =B13+1.88*C13 -> 84.69465 | N13: =_xlfn.NORM.S.DIST(E13,TRUE) -> 8.3056667e-146
A14: 31 | B14: =5.60878+0.158369*A14^2-0.00256379*A14^3 -> 81.423521 | C14: =EXP(0.101242+0.00150557*A14^3-0.000771535*A14^3*LN(A14)+0.0000999638*A14^3*LN(A14)^2) -> 3.1324027 | E14: =(D14-B14)/C14 -> -25.993951 | F14: =B14-1.88*C14 -> 75.534604 | G14: =B14-1.6458*C14 -> 76.268213 | H14: =B14-1.28*C14 -> 77.414046 | I14: 81.423521 | J14: =B14+1.28*C14 -> 85.432997 | K14: =B14+1.6458*C14 -> 86.578829 | L14: =B14+1.88*C14 -> 87.312438 | N14: =_xlfn.NORM.S.DIST(E14,TRUE) -> 2.898421e-149
... A25: 42 | B25: =5.60878+0.158369*A25^2-0.00256379*A25^3 -> 95.025622 | C25: =EXP(0.101242+0.00150557*A25^3-0.000771535*A25^3*LN(A25)+0.0000999638*A25^3*LN(A25)^2) -> 4.3056352 | E25: =(D25-B25)/C25 -> -22.070059 | F25: =B25-1.88*C25 -> 86.931028 | G25: =B25-1.6458*C25 -> 87.939408 | H25: =B25-1.28*C25 -> 89.514409 | I25: 95.025622 | J25: =B25+1.28*C25 -> 100.53684 | K25: =B25+1.6458*C25 -> 102.11184 | L25: =B25+1.88*C25 -> 103.12022 | N25: =_xlfn.NORM.S.DIST(E25,TRUE) -> 3.0655646e-108

Sheet PA
A1: AG | B1: 50e p | C1: DS | D1: PA mesurée | E1: Z score | F1: 3ep | G1: 5ep | H1: 10ep | I1: 50e p | J1: 90ep | K1: 95ep | L1: 97ep | N1: Percentile
A3: 20 | B3: =-81.3243+11.6772*A3-0.000561865*A3^3 -> 147.72478 | C3: =-4.36302+0.121445*A3^2-0.0130256*A3^3+0.00282143*A3^3*LN(A3) -> 7.6281713 | E3: =(D3-B3)/C3 -> -19.365687 | F3: =B3-1.88*C3 -> 133.38382 | G3: =B3-1.6458*C3 -> 135.17034 | H3: =B3-1.28*C3 -> 137.96072 | I3: 147.72478 | J3: =B3+1.28*C3 -> 157.48884 | K3: =B3+1.6458*C3 -> 160.27922 | L3: =B3+1.88*C3 -> 162.06574 | N3: =_xlfn.NORM.S.DIST(E3,TRUE) -> 7.5167502e-84
A4: 21 | B4: =-81.3243+11.6772*A4-0.000561865*A4^3 -> 158.69347 | C4: =-4.36302+0.121445*A4^2-0.0130256*A4^3+0.00282143*A4^3*LN(A4) -> 8.1152716 | E4: =(D4-B4)/C4 -> -19.554918 | F4: =B4-1.88*C4 -> 143.43676 | G4: =B4-1.6458*C4 -> 145.33735 | H4: =B4-1.28*C4 -> 148.30592 | I4: 158.69347 | J4: =B4+1.28*C4 -> 169.08102 | K4: =B4+1.6458*C4 -> 172.04958 | L4: =B4+1.88*C4 -> 173.95018 | N4: =_xlfn.NORM.S.DIST(E4,TRUE) -> 1.8730452e-85
A5: 22 | B5: =-81.3243+11.6772*A5-0.000561865*A5^3 -> 169.59136 | C5: =-4.36302+0.121445*A5^2-0.0130256*A5^3+0.00282143*A5^3*LN(A5) -> 8.5826819 | E5: =(D5-B5)/C5 -> -19.759717 | F5: =B5-1.88*C5 -> 153.45592 | G5: =B5-1.6458*C5 -> 155.46598 | H5: =B5-1.28*C5 -> 158.60553 | I5: 169.59136 | J5: =B5+1.28*C5 -> 180.57719 | K5: =B5+1.6458*C5 -> 183.71674 | L5: =B5+1.88*C5 -> 185.7268 | N5: =_xlfn.NORM.S.DIST(E5,TRUE) -> 3.3087683e-87
A6: 23 | B6: =-81.3243+11.6772*A6-0.000561865*A6^3 -> 180.41509 | C6: =-4.36302+0.121445*A6^2-0.0130256*A6^3+0.00282143*A6^3*LN(A6) -> 9.0352176 | E6: =(D6-B6)/C6 -> -19.967985 | F6: =B6-1.88*C6 -> 163.42888 | G6: =B6-1.6458*C6 -> 165.54493 | H6: =B6-1.28*C6 -> 168.85001 | I6: 180.41509 | J6: =B6+1.28*C6 -> 191.98017 | K6: =B6+1.6458*C6 -> 195.28525 | L6: =B6+1.88*C6 -> 197.4013 | N6: =_xlfn.NORM.S.DIST(E6,TRUE) -> 5.2294224e-89
A7: 24 | B7: =-81.3243+11.6772*A7-0.000561865*A7^3 -> 191.16128 | C7: =-4.36302+0.121445*A7^2-0.0130256*A7^3+0.00282143*A7^3*LN(A7) -> 9.4784639 | E7: =(D7-B7)/C7 -> -20.16796 | F7: =B7-1.88*C7 -> 173.34177 | G7: =B7-1.6458*C7 -> 175.56162 | H7: =B7-1.28*C7 -> 179.02884 | I7: 191.16128 | J7: =B7+1.28*C7 -> 203.29371 | K7: =B7+1.6458*C7 -> 206.76093 | L7: =B7+1.88*C7 -> 208.98079 | N7: =_xlfn.NORM.S.DIST(E7,TRUE) -> 9.3602087e-91
A8: 25 | B8: =-81.3243+11.6772*A8-0.000561865*A8^3 -> 201.82656 | C8: =-4.36302+0.121445*A8^2-0.0130256*A8^3+0.00282143*A8^3*LN(A8) -> 9.9187428 | E8: =(D8-B8)/C8 -> -20.347998 | F8: =B8-1.88*C8 -> 183.17932 | G8: =B8-1.6458*C8 -> 185.50229 | H8: =B8-1.28*C8 -> 189.13057 | I8: 201.82656 | J8: =B8+1.28*C8 -> 214.52255 | K8: =B8+1.6458*C8 -> 218.15083 | L8: =B8+1.88*C8 -> 220.4738 | N8: =_xlfn.NORM.S.DIST(E8,TRUE) -> 2.4181275e-92
A9: 26 | B9: =-81.3243+11.6772*A9-0.000561865*A9^3 -> 212.40756 | C9: =-4.36302+0.121445*A9^2-0.0130256*A9^3+0.00282143*A9^3*LN(A9) -> 10.363082 | E9: =(D9-B9)/C9 -> -20.496563 | F9: =B9-1.88*C9 -> 192.92497 | G9: =B9-1.6458*C9 -> 195.352 | H9: =B9-1.28*C9 -> 199.14282 | I9: 212.40756 | J9: =B9+1.28*C9 -> 225.67231 | K9: =B9+1.6458*C9 -> 229.46312 | L9: =B9+1.88*C9 -> 231.89015 | N9: =_xlfn.NORM.S.DIST(E9,TRUE) -> 1.1552294e-93
A10: 27 | B10: =-81.3243+11.6772*A10-0.000561865*A10^3 -> 222.90091 | C10: =-4.36302+0.121445*A10^2-0.0130256*A10^3+0.00282143*A10^3*LN(A10) -> 10.819186 | E10: =(D10-B10)/C10 -> -20.602374 | F10: =B10-1.88*C10 -> 202.56084 | G10: =B10-1.6458*C10 -> 205.09469 | H10: =B10-1.28*C10 -> 209.05235 | I10: 222.90091 | J10: =B10+1.28*C10 -> 236.74947 | K10: =B10+1.6458*C10 -> 240.70713 | L10: =B10+1.88*C10 -> 243.24098 | N10: =_xlfn.NORM.S.DIST(E10,TRUE) -> 1.3065782e-94
A11: 28 | B11: =-81.3243+11.6772*A11-0.000561865*A11^3 -> 233.30324 | C11: =-4.36302+0.121445*A11^2-0.0130256*A11^3+0.00282143*A11^3*LN(A11) -> 11.295412 | E11: =(D11-B11)/C11 -> -20.654691 | F11: =B11-1.88*C11 -> 212.06787 | G11: =B11-1.6458*C11 -> 214.71325 | H11: =B11-1.28*C11 -> 218.84511 | I11: 233.30324 | J11: =B11+1.28*C11 -> 247.76137 | K11: =B11+1.6458*C11 -> 251.89323 | L11: =B11+1.88*C11 -> 254.53861 | N11: =_xlfn.NORM.S.DIST(E11,TRUE) -> 4.4293173e-95
A12: 29 | B12: =-81.3243+11.6772*A12-0.000561865*A12^3 -> 243.61117 | C12: =-4.36302+0.121445*A12^2-0.0130256*A12^3+0.00282143*A12^3*LN(A12) -> 11.800743 | E12: =(D12-B12)/C12 -> -20.643714 | F12: =B12-1.88*C12 -> 221.42578 | G12: =B12-1.6458*C12 -> 224.18951 | H12: =B12-1.28*C12 -> 228.50622 | I12: 243.61117 | J12: =B12+1.28*C12 -> 258.71613 | K12: =B12+1.6458*C12 -> 263.03284 | L12: =B12+1.88*C12 -> 265.79657 | N12: =_xlfn.NORM.S.DIST(E12,TRUE) -> 5.5590551e-95
A13: 30 | B13: =-81.3243+11.6772*A13-0.000561865*A13^3 -> 253.82134 | C13: =-4.36302+0.121445*A13^2-0.0130256*A13^3+0.00282143*A13^3*LN(A13) -> 12.344769 | E13: =(D13-B13)/C13 -> -20.561045 | F13: =B13-1.88*C13 -> 230.61318 | G13: =B13-1.6458*C13 -> 233.50432 | H13: =B13-1.28*C13 -> 238.02004 | I13: 253.82134 | J13: =B13+1.28*C13 -> 269.62265 | K13: =B13+1.6458*C13 -> 274.13837 | L13: =B13+1.88*C13 -> 277.02951 | N13: =_xlfn.NORM.S.DIST(E13,TRUE) -> 3.0649463e-94
A14: 31 | B14: =-81.3243+11.6772*A14-0.000561865*A14^3 -> 263.93038 | C14: =-4.36302+0.121445*A14^2-0.0130256*A14^3+0.00282143*A14^3*LN(A14) -> 12.937661 | E14: =(D14-B14)/C14 -> -20.400162 | F14: =B14-1.88*C14 -> 239.60758 | G14: =B14-1.6458*C14 -> 242.63758 | H14: =B14-1.28*C14 -> 247.37017 | I14: 263.93038 | J14: =B14+1.28*C14 -> 280.49059 | K14: =B14+1.6458*C14 -> 285.22318 | L14: =B14+1.88*C14 -> 288.25318 | N14: =_xlfn.NORM.S.DIST(E14,TRUE) -> 8.3332032e-93
... A25: 42 | B25: =-81.3243+11.6772*A25-0.000561865*A25^3 -> 367.49065 | C25: =-4.36302+0.121445*A25^2-0.0130256*A25^3+0.00282143*A25^3*LN(A25) -> 26.125734 | E25: =(D25-B25)/C25 -> -14.066233 | F25: =B25-1.88*C25 -> 318.37427 | G25: =B25-1.6458*C25 -> 324.49291 | H25: =B25-1.28*C25 -> 334.04971 | I25: 367.49065 | J25: =B25+1.28*C25 -> 400.93159 | K25: =B25+1.6458*C25 -> 410.48838 | L25: =B25+1.88*C25 -> 416.60703 | N25: =_xlfn.NORM.S.DIST(E25,TRUE) -> 3.0623215e-45

Sheet PC
A1: AG | B1: 50e p | C1: DS | D1: PC mesuré | E1: Z score | F1: 3ep | G1: 5ep | H1: 10ep | I1: 50e p | J1: 90ep | K1: 95ep | L1: 97ep | N1: Percentile
A3: 20 | B3: =-28.2849+1.69267*A3^2-0.397485*A3^2*LN(A3) -> 172.47964 | C3: =1.98735+0.0136772*A3^3-0.00726264*A3^3*LN(A3)+0.000976253*A3^3*LN(A3)^2 -> 7.4399217 | E3: =(D3-B3)/C3 -> -23.182992 | F3: =B3-1.88*C3 -> 158.49259 | G3: =B3-1.6458*C3 -> 160.23502 | H3: =B3-1.28*C3 -> 162.95654 | I3: 172.47964 | J3: =B3+1.28*C3 -> 182.00274 | K3: =B3+1.6458*C3 -> 184.72427 | L3: =B3+1.88*C3 -> 186.4667 | N3: =_xlfn.NORM.S.DIST(E3,TRUE) -> 3.3799532e-119
A4: 21 | B4: =-28.2849+1.69267*A4^2-0.397485*A4^2*LN(A4) -> 184.50554 | C4: =1.98735+0.0136772*A4^3-0.00726264*A4^3*LN(A4)+0.000976253*A4^3*LN(A4)^2 -> 7.6822419 | E4: =(D4-B4)/C4 -> -24.017148 | F4: =B4-1.88*C4 -> 170.06292 | G4: =B4-1.6458*C4 -> 171.8621 | H4: =B4-1.28*C4 -> 174.67227 | I4: 184.50554 | J4: =B4+1.28*C4 -> 194.33881 | K4: =B4+1.6458*C4 -> 197.14897 | L4: =B4+1.88*C4 -> 198.94815 | N4: =_xlfn.NORM.S.DIST(E4,TRUE) -> 9.2052171e-128
A5: 22 | B5: =-28.2849+1.69267*A5^2-0.397485*A5^2*LN(A5) -> 196.30416 | C5: =1.98735+0.0136772*A5^3-0.00726264*A5^3*LN(A5)+0.000976253*A5^3*LN(A5)^2 -> 7.90469 | E5: =(D5-B5)/C5 -> -24.833885 | F5: =B5-1.88*C5 -> 181.44335 | G5: =B5-1.6458*C5 -> 183.29462 | H5: =B5-1.28*C5 -> 186.18616 | I5: 196.30416 | J5: =B5+1.28*C5 -> 206.42217 | K5: =B5+1.6458*C5 -> 209.3137 | L5: =B5+1.88*C5 -> 211.16498 | N5: =_xlfn.NORM.S.DIST(E5,TRUE) -> 1.9307066e-136
A6: 23 | B6: =-28.2849+1.69267*A6^2-0.397485*A6^2*LN(A6) -> 207.83853 | C6: =1.98735+0.0136772*A6^3-0.00726264*A6^3*LN(A6)+0.000976253*A6^3*LN(A6)^2 -> 8.1084925 | E6: =(D6-B6)/C6 -> -25.632203 | F6: =B6-1.88*C6 -> 192.59456 | G6: =B6-1.6458*C6 -> 194.49357 | H6: =B6-1.28*C6 -> 197.45965 | I6: 207.83853 | J6: =B6+1.28*C6 -> 218.2174 | K6: =B6+1.6458*C6 -> 221.18348 | L6: =B6+1.88*C6 -> 223.08249 | N6: =_xlfn.NORM.S.DIST(E6,TRUE) -> 3.3388177e-145
A7: 24 | B7: =-28.2849+1.69267*A7^2-0.397485*A7^2*LN(A7) -> 219.07327 | C7: =1.98735+0.0136772*A7^3-0.00726264*A7^3*LN(A7)+0.000976253*A7^3*LN(A7)^2 -> 8.2955171 | E7: =(D7-B7)/C7 -> -26.408634 | F7: =B7-1.88*C7 -> 203.4777 | G7: =B7-1.6458*C7 -> 205.42051 | H7: =B7-1.28*C7 -> 208.45501 | I7: 219.07327 | J7: =B7+1.28*C7 -> 229.69154 | K7: =B7+1.6458*C7 -> 232.72604 | L7: =B7+1.88*C7 -> 234.66885 | N7: =_xlfn.NORM.S.DIST(E7,TRUE) -> 5.4525048e-154
A8: 25 | B8: =-28.2849+1.69267*A8^2-0.397485*A8^2*LN(A8) -> 229.97456 | C8: =1.98735+0.0136772*A8^3-0.00726264*A8^3*LN(A8)+0.000976253*A8^3*LN(A8)^2 -> 8.468268 | E8: =(D8-B8)/C8 -> -27.157214 | F8: =B8-1.88*C8 -> 214.05422 | G8: =B8-1.6458*C8 -> 216.03749 | H8: =B8-1.28*C8 -> 219.13518 | I8: 229.97456 | J8: =B8+1.28*C8 -> 240.81395 | K8: =B8+1.6458*C8 -> 243.91164 | L8: =B8+1.88*C8 -> 245.89491 | N8: =_xlfn.NORM.S.DIST(E8,TRUE) -> 1.0405214e-162
A9: 26 | B9: =-28.2849+1.69267*A9^2-0.397485*A9^2*LN(A9) -> 240.50994 | C9: =1.98735+0.0136772*A9^3-0.00726264*A9^3*LN(A9)+0.000976253*A9^3*LN(A9)^2 -> 8.6298797 | E9: =(D9-B9)/C9 -> -27.869443 | F9: =B9-1.88*C9 -> 224.28576 | G9: =B9-1.6458*C9 -> 226.30688 | H9: =B9-1.28*C9 -> 229.46369 | I9: 240.50994 | J9: =B9+1.28*C9 -> 251.55618 | K9: =B9+1.6458*C9 -> 254.71299 | L9: =B9+1.88*C9 -> 256.73411 | N9: =_xlfn.NORM.S.DIST(E9,TRUE) -> 3.1310957e-171
A10: 27 | B10: =-28.2849+1.69267*A10^2-0.397485*A10^2*LN(A10) -> 250.6482 | C10: =1.98735+0.0136772*A10^3-0.00726264*A10^3*LN(A10)+0.000976253*A10^3*LN(A10)^2 -> 8.7841111 | E10: =(D10-B10)/C10 -> -28.534271 | F10: =B10-1.88*C10 -> 234.13407 | G10: =B10-1.6458*C10 -> 236.19131 | H10: =B10-1.28*C10 -> 239.40454 | I10: 250.6482 | J10: =B10+1.28*C10 -> 261.89186 | K10: =B10+1.6458*C10 -> 265.10509 | L10: =B10+1.88*C10 -> 267.16233 | N10: =_xlfn.NORM.S.DIST(E10,TRUE) -> 2.2015578e-179
A11: 28 | B11: =-28.2849+1.69267*A11^2-0.397485*A11^2*LN(A11) -> 260.35935 | C11: =1.98735+0.0136772*A11^3-0.00726264*A11^3*LN(A11)+0.000976253*A11^3*LN(A11)^2 -> 8.9353392 | E11: =(D11-B11)/C11 -> -29.138161 | F11: =B11-1.88*C11 -> 243.56092 | G11: =B11-1.6458*C11 -> 245.65357 | H11: =B11-1.28*C11 -> 248.92212 | I11: 260.35935 | J11: =B11+1.28*C11 -> 271.79659 | K11: =B11+1.6458*C11 -> 275.06513 | L11: =B11+1.88*C11 -> 277.15779 | N11: =_xlfn.NORM.S.DIST(E11,TRUE) -> 5.9005016e-187
A12: 29 | B12: =-28.2849+1.69267*A12^2-0.397485*A12^2*LN(A12) -> 269.61447 | C12: =1.98735+0.0136772*A12^3-0.00726264*A12^3*LN(A12)+0.000976253*A12^3*LN(A12)^2 -> 9.0885526 | E12: =(D12-B12)/C12 -> -29.665281 | F12: =B12-1.88*C12 -> 252.52799 | G12: =B12-1.6458*C12 -> 254.65653 | H12: =B12-1.28*C12 -> 257.98112 | I12: 269.61447 | J12: =B12+1.28*C12 -> 281.24782 | K12: =B12+1.6458*C12 -> 284.57241 | L12: =B12+1.88*C12 -> 286.70095 | N12: =_xlfn.NORM.S.DIST(E12,TRUE) -> 1.0772547e-193
A13: 30 | B13: =-28.2849+1.69267*A13^2-0.397485*A13^2*LN(A13) -> 278.38565 | C13: =1.98735+0.0136772*A13^3-0.00726264*A13^3*LN(A13)+0.000976253*A13^3*LN(A13)^2 -> 9.2493448 | E13: =(D13-B13)/C13 -> -30.097878 | F13: =B13-1.88*C13 -> 260.99688 | G13: =B13-1.6458*C13 -> 263.16308 | H13: =B13-1.28*C13 -> 266.54649 | I13: 278.38565 | J13: =B13+1.28*C13 -> 290.22481 | K13: =B13+1.6458*C13 -> 293.60822 | L13: =B13+1.88*C13 -> 295.77442 | N13: =_xlfn.NORM.S.DIST(E13,TRUE) -> 2.5826198e-199
A14: 31 | B14: =-28.2849+1.69267*A14^2-0.397485*A14^2*LN(A14) -> 286.64594 | C14: =1.98735+0.0136772*A14^3-0.00726264*A14^3*LN(A14)+0.000976253*A14^3*LN(A14)^2 -> 9.4239075 | E14: =(D14-B14)/C14 -> -30.416889 | F14: =B14-1.88*C14 -> 268.929 | G14: =B14-1.6458*C14 -> 271.13608 | H14: =B14-1.28*C14 -> 274.58334 | I14: 286.64594 | J14: =B14+1.28*C14 -> 298.70855 | K14: =B14+1.6458*C14 -> 302.15581 | L14: =B14+1.88*C14 -> 304.36289 | N14: =_xlfn.NORM.S.DIST(E14,TRUE) -> 1.6424752e-203
... A25: 42 | B25: =-28.2849+1.69267*A25^2-0.397485*A25^2*LN(A25) -> 336.86732 | C25: =1.98735+0.0136772*A25^3-0.00726264*A25^3*LN(A25)+0.000976253*A25^3*LN(A25)^2 -> 14.602727 | E25: =(D25-B25)/C25 -> -23.068796 | F25: =B25-1.88*C25 -> 309.41419 | G25: =B25-1.6458*C25 -> 312.83415 | H25: =B25-1.28*C25 -> 318.17583 | I25: 336.86732 | J25: =B25+1.28*C25 -> 355.55881 | K25: =B25+1.6458*C25 -> 360.90049 | L25: =B25+1.88*C25 -> 364.32045 | N25: =_xlfn.NORM.S.DIST(E25,TRUE) -> 4.7639684e-118

Sheet LF
A1: AG | B1: 50e p | C1: DS | D1: LF mesuré | E1: Z score | F1: 3ep | G1: 5ep | H1: 10ep | I1: 50e p | J1: 90ep | K1: 95ep | L1: 97ep | N1: Percentile
A3: 20 | B3: =-39.9616+4.32298*A3-0.0380156*A3^2 -> 31.29176 | C3: =EXP(0.605843-42.0014*A3^-2+0.00000917972*A3^3) -> 1.7758466 | E3: =(D3-B3)/C3 -> -17.620756 | F3: =B3-1.88*C3 -> 27.953168 | G3: =B3-1.6458*C3 -> 28.369072 | H3: =B3-1.28*C3 -> 29.018676 | I3: 31.29176 | J3: =B3+1.28*C3 -> 33.564844 | K3: =B3+1.6458*C3 -> 34.214448 | L3: =B3+1.88*C3 -> 34.630352 | N3: =_xlfn.NORM.S.DIST(E3,TRUE) -> 8.5353677e-70
A4: 21 | B4: =-39.9616+4.32298*A4-0.0380156*A4^2 -> 34.0561 | C4: =EXP(0.605843-42.0014*A4^-2+0.00000917972*A4^3) -> 1.8141465 | E4: =(D4-B4)/C4 -> -18.772519 | F4: =B4-1.88*C4 -> 30.645505 | G4: =B4-1.6458*C4 -> 31.070378 | H4: =B4-1.28*C4 -> 31.733993 | I4: 34.0561 | J4: =B4+1.28*C4 -> 36.378208 | K4: =B4+1.6458*C4 -> 37.041823 | L4: =B4+1.88*C4 -> 37.466696 | N4: =_xlfn.NORM.S.DIST(E4,TRUE) -> 6.3365351e-79
A5: 22 | B5: =-39.9616+4.32298*A5-0.0380156*A5^2 -> 36.74441 | C5: =EXP(0.605843-42.0014*A5^-2+0.00000917972*A5^3) -> 1.8530055 | E5: =(D5-B5)/C5 -> -19.829628 | F5: =B5-1.88*C5 -> 33.260759 | G5: =B5-1.6458*C5 -> 33.694733 | H5: =B5-1.28*C5 -> 34.372563 | I5: 36.74441 | J5: =B5+1.28*C5 -> 39.116257 | K5: =B5+1.6458*C5 -> 39.794086 | L5: =B5+1.88*C5 -> 40.22806 | N5: =_xlfn.NORM.S.DIST(E5,TRUE) -> 8.2628538e-88
A6: 23 | B6: =-39.9616+4.32298*A6-0.0380156*A6^2 -> 39.356688 | C6: =EXP(0.605843-42.0014*A6^-2+0.00000917972*A6^3) -> 1.8929471 | E6: =(D6-B6)/C6 -> -20.791224 | F6: =B6-1.88*C6 -> 35.797947 | G6: =B6-1.6458*C6 -> 36.241275 | H6: =B6-1.28*C6 -> 36.933715 | I6: 39.356688 | J6: =B6+1.28*C6 -> 41.77966 | K6: =B6+1.6458*C6 -> 42.4721 | L6: =B6+1.88*C6 -> 42.915428 | N6: =_xlfn.NORM.S.DIST(E6,TRUE) -> 2.598397e-96
A7: 24 | B7: =-39.9616+4.32298*A7-0.0380156*A7^2 -> 41.892934 | C7: =EXP(0.605843-42.0014*A7^-2+0.00000917972*A7^3) -> 1.9344525 | E7: =(D7-B7)/C7 -> -21.656223 | F7: =B7-1.88*C7 -> 38.256164 | G7: =B7-1.6458*C7 -> 38.709212 | H7: =B7-1.28*C7 -> 39.416835 | I7: 41.892934 | J7: =B7+1.28*C7 -> 44.369034 | K7: =B7+1.6458*C7 -> 45.076656 | L7: =B7+1.88*C7 -> 45.529705 | N7: =_xlfn.NORM.S.DIST(E7,TRUE) -> 2.6551707e-104
A8: 25 | B8: =-39.9616+4.32298*A8-0.0380156*A8^2 -> 44.35315 | C8: =EXP(0.605843-42.0014*A8^-2+0.00000917972*A8^3) -> 1.9779756 | E8: =(D8-B8)/C8 -> -22.423507 | F8: =B8-1.88*C8 -> 40.634556 | G8: =B8-1.6458*C8 -> 41.097798 | H8: =B8-1.28*C8 -> 41.821341 | I8: 44.35315 | J8: =B8+1.28*C8 -> 46.884959 | K8: =B8+1.6458*C8 -> 47.608502 | L8: =B8+1.88*C8 -> 48.071744 | N8: =_xlfn.NORM.S.DIST(E8,TRUE) -> 1.1607604e-111
A9: 26 | B9: =-39.9616+4.32298*A9-0.0380156*A9^2 -> 46.737334 | C9: =EXP(0.605843-42.0014*A9^-2+0.00000917972*A9^3) -> 2.023955 | E9: =(D9-B9)/C9 -> -23.092082 | F9: =B9-1.88*C9 -> 42.932299 | G9: =B9-1.6458*C9 -> 43.406309 | H9: =B9-1.28*C9 -> 44.146672 | I9: 46.737334 | J9: =B9+1.28*C9 -> 49.327997 | K9: =B9+1.6458*C9 -> 50.06836 | L9: =B9+1.88*C9 -> 50.54237 | N9: =_xlfn.NORM.S.DIST(E9,TRUE) -> 2.7804734e-118
A10: 27 | B10: =-39.9616+4.32298*A10-0.0380156*A10^2 -> 49.045488 | C10: =EXP(0.605843-42.0014*A10^-2+0.00000917972*A10^3) -> 2.0728249 | E10: =(D10-B10)/C10 -> -23.661183 | F10: =B10-1.88*C10 -> 45.148577 | G10: =B10-1.6458*C10 -> 45.634032 | H10: =B10-1.28*C10 -> 46.392272 | I10: 49.045488 | J10: =B10+1.28*C10 -> 51.698703 | K10: =B10+1.6458*C10 -> 52.456943 | L10: =B10+1.88*C10 -> 52.942398 | N10: =_xlfn.NORM.S.DIST(E10,TRUE) -> 4.5277022e-124
A11: 28 | B11: =-39.9616+4.32298*A11-0.0380156*A11^2 -> 51.27761 | C11: =EXP(0.605843-42.0014*A11^-2+0.00000917972*A11^3) -> 2.1250238 | E11: =(D11-B11)/C11 -> -24.13037 | F11: =B11-1.88*C11 -> 47.282565 | G11: =B11-1.6458*C11 -> 47.780245 | H11: =B11-1.28*C11 -> 48.557579 | I11: 51.27761 | J11: =B11+1.28*C11 -> 53.99764 | K11: =B11+1.6458*C11 -> 54.774974 | L11: =B11+1.88*C11 -> 55.272654 | N11: =_xlfn.NORM.S.DIST(E11,TRUE) -> 6.0013713e-129
A12: 29 | B12: =-39.9616+4.32298*A12-0.0380156*A12^2 -> 53.4337 | C12: =EXP(0.605843-42.0014*A12^-2+0.00000917972*A12^3) -> 2.1810033 | E12: =(D12-B12)/C12 -> -24.499597 | F12: =B12-1.88*C12 -> 49.333414 | G12: =B12-1.6458*C12 -> 49.844205 | H12: =B12-1.28*C12 -> 50.642016 | I12: 53.4337 | J12: =B12+1.28*C12 -> 56.225385 | K12: =B12+1.6458*C12 -> 57.023196 | L12: =B12+1.88*C12 -> 57.533987 | N12: =_xlfn.NORM.S.DIST(E12,TRUE) -> 7.4591453e-133
A13: 30 | B13: =-39.9616+4.32298*A13-0.0380156*A13^2 -> 55.51376 | C13: =EXP(0.605843-42.0014*A13^-2+0.00000917972*A13^3) -> 2.2412354 | E13: =(D13-B13)/C13 -> -24.769268 | F13: =B13-1.88*C13 -> 51.300238 | G13: =B13-1.6458*C13 -> 51.825135 | H13: =B13-1.28*C13 -> 52.644979 | I13: 55.51376 | J13: =B13+1.28*C13 -> 58.382541 | K13: =B13+1.6458*C13 -> 59.202385 | L13: =B13+1.88*C13 -> 59.727282 | N13: =_xlfn.NORM.S.DIST(E13,TRUE) -> 9.6126786e-136
A14: 31 | B14: =-39.9616+4.32298*A14-0.0380156*A14^2 -> 57.517788 | C14: =EXP(0.605843-42.0014*A14^-2+0.00000917972*A14^3) -> 2.3062207 | E14: =(D14-B14)/C14 -> -24.94028 | F14: =B14-1.88*C14 -> 53.182094 | G14: =B14-1.6458*C14 -> 53.72221 | H14: =B14-1.28*C14 -> 54.565826 | I14: 57.517788 | J14: =B14+1.28*C14 -> 60.469751 | K14: =B14+1.6458*C14 -> 61.313366 | L14: =B14+1.88*C14 -> 61.853483 | N14: =_xlfn.NORM.S.DIST(E14,TRUE) -> 1.3611873e-137
... A25: 42 | B25: =-39.9616+4.32298*A25-0.0380156*A25^2 -> 74.544042 | C25: =EXP(0.605843-42.0014*A25^-2+0.00000917972*A25^3) -> 3.5329732 | E25: =(D25-B25)/C25 -> -21.099521 | F25: =B25-1.88*C25 -> 67.902052 | G25: =B25-1.6458*C25 -> 68.729474 | H25: =B25-1.28*C25 -> 70.021836 | I25: 74.544042 | J25: =B25+1.28*C25 -> 79.066247 | K25: =B25+1.6458*C25 -> 80.358609 | L25: =B25+1.88*C25 -> 81.186031 | N25: =_xlfn.NORM.S.DIST(E25,TRUE) -> 4.0172997e-99

Sheet calcul EPF
A1: PC (cm) | B1: PA (cm) | C1: LN(EPF) | D1: EPF (g)
A2: 29 | B2: 26 | C2: =5.08482-54.06633*(B2/100)^3-95.80076*(B2/100)^3*LN(B2/100)+3.13637*(A2/100) -> 7.3122922 | D2: =EXP(C2) -> 1498.6084

Sheet EPF
A1: AG | B1: 50e p | C1: DS | D1: EPF calculé | E1: Z score | F1: 3ep | G1: 5ep | H1: 10ep | I1: 50e p | J1: 90ep | K1: 95ep | L1: 97ep | M1: Skewness | N1: Coef de variation | O1: Percentile
B2: ?
A3: 20 | B3: =4.956737+0.0005019687*A3^3-0.0001227065*A3^3*LN(A3) -> 6.03172 | E3: =(N3*M3)^-1*(('calcul EPF'!C2/B3)^M3-1) -> 10.424476 | M3: =-4.257629-2162.234*A3^-2+0.0002301829*A3^3 -> -7.8217508 | N3: =10^-4*(-6.997171+0.057559*A3^3-0.01493946*A3^3*LN(A3)) -> 0.0095437849 | O3: =_xlfn.NORM.S.DIST(E3,TRUE) -> 1
A4: 21 | B4: =4.956737+0.0005019687*A4^3-0.0001227065*A4^3*LN(A4) -> 6.1457198 | E4: =(N4*M4)^-1*(('calcul EPF'!C2/B4)^M4-1) -> 9.5709185 | M4: =-4.257629-2162.234*A4^-2+0.0002301829*A4^3 -> -7.0289301 | N4: =10^-4*(-6.997171+0.057559*A4^3-0.01493946*A4^3*LN(A4)) -> 0.010483384 | O4: =_xlfn.NORM.S.DIST(E4,TRUE) -> 1
A5: 22 | B5: =4.956737+0.0005019687*A5^3-0.0001227065*A5^3*LN(A5) -> 6.2630091 | E5: =(N5*M5)^-1*(('calcul EPF'!C2/B5)^M5-1) -> 8.6769968 | M5: =-4.257629-2162.234*A5^-2+0.0002301829*A5^3 -> -6.2740671 | N5: =10^-4*(-6.997171+0.057559*A5^3-0.01493946*A5^3*LN(A5)) -> 0.011418234 | O5: =_xlfn.NORM.S.DIST(E5,TRUE) -> 1
A6: 23 | B6: =4.956737+0.0005019687*A6^3-0.0001227065*A6^3*LN(A6) -> 6.3829914 | E6: =(N6*M6)^-1*(('calcul EPF'!C2/B6)^M6-1) -> 7.737363 | M6: =-4.257629-2162.234*A6^-2+0.0002301829*A6^3 -> -5.5443925 | N6: =10^-4*(-6.997171+0.057559*A6^3-0.01493946*A6^3*LN(A6)) -> 0.012338938 | O6: =_xlfn.NORM.S.DIST(E6,TRUE) -> 1
A7: 24 | B7: =4.956737+0.0005019687*A7^3-0.0001227065*A7^3*LN(A7) -> 6.5050366 | E7: =(N7*M7)^-1*(('calcul EPF'!C2/B7)^M7-1) -> 6.7522421 | M7: =-4.257629-2162.234*A7^-2+0.0002301829*A7^3 -> -4.8294591 | N7: =10^-4*(-6.997171+0.057559*A7^3-0.01493946*A7^3*LN(A7)) -> 0.013235693 | O7: =_xlfn.NORM.S.DIST(E7,TRUE) -> 1
A8: 25 | B8: =4.956737+0.0005019687*A8^3-0.0001227065*A8^3*LN(A8) -> 6.6284825 | E8: =(N8*M8)^-1*(('calcul EPF'!C2/B8)^M8-1) -> 5.7275376 | M8: =-4.257629-2162.234*A8^-2+0.0002301829*A8^3 -> -4.1205956 | N8: =10^-4*(-6.997171+0.057559*A8^3-0.01493946*A8^3*LN(A8)) -> 0.014098304 | O8: =_xlfn.NORM.S.DIST(E8,TRUE) -> 0.99999999
A9: 26 | B9: =4.956737+0.0005019687*A9^3-0.0001227065*A9^3*LN(A9) -> 6.7526365 | E9: =(N9*M9)^-1*(('calcul EPF'!C2/B9)^M9-1) -> 4.6746621 | M9: =-4.257629-2162.234*A9^-2+0.0002301829*A9^3 -> -3.4105054 | N9: =10^-4*(-6.997171+0.057559*A9^3-0.01493946*A9^3*LN(A9)) -> 0.014916202 | O9: =_xlfn.NORM.S.DIST(E9,TRUE) -> 0.99999853
A10: 27 | B10: =4.956737+0.0005019687*A10^3-0.0001227065*A10^3*LN(A10) -> 6.8767761 | E10: =(N10*M10)^-1*(('calcul EPF'!C2/B10)^M10-1) -> 3.6099331 | M10: =-4.257629-2162.234*A10^-2+0.0002301829*A10^3 -> -2.6929664 | N10: =10^-4*(-6.997171+0.057559*A10^3-0.01493946*A10^3*LN(A10)) -> 0.015678462 | O10: =_xlfn.NORM.S.DIST(E10,TRUE) -> 0.99984686
A11: 28 | B11: =4.956737+0.0005019687*A11^3-0.0001227065*A11^3*LN(A11) -> 7.0001509 | E11: =(N11*M11)^-1*(('calcul EPF'!C2/B11)^M11-1) -> 2.5534496 | M11: =-4.257629-2162.234*A11^-2+0.0002301829*A11^3 -> -1.9626055 | N11: =10^-4*(-6.997171+0.057559*A11^3-0.01493946*A11^3*LN(A11)) -> 0.016373811 | O11: =_xlfn.NORM.S.DIST(E11,TRUE) -> 0.99466691
A12: 29 | B12: =4.956737+0.0005019687*A12^3-0.0001227065*A12^3*LN(A12) -> 7.121983 | E12: =(N12*M12)^-1*(('calcul EPF'!C2/B12)^M12-1) -> 1.5274703 | M12: =-4.257629-2162.234*A12^-2+0.0002301829*A12^3 -> -1.2147256 | N12: =10^-4*(-6.997171+0.057559*A12^3-0.01493946*A12^3*LN(A12)) -> 0.016990646 | O12: =_xlfn.NORM.S.DIST(E12,TRUE) -> 0.93667795
A13: 30 | B13: =4.956737+0.0005019687*A13^3-0.0001227065*A13^3*LN(A13) -> 7.2414682 | E13: =(N13*M13)^-1*(('calcul EPF'!C2/B13)^M13-1) -> 0.55441836 | M13: =-4.257629-2162.234*A13^-2+0.0002301829*A13^3 -> -0.44517292 | N13: =10^-4*(-6.997171+0.057559*A13^3-0.01493946*A13^3*LN(A13)) -> 0.017517042 | O13: =_xlfn.NORM.S.DIST(E13,TRUE) -> 0.71035372
A14: 31 | B14: =4.956737+0.0005019687*A14^3-0.0001227065*A14^3*LN(A14) -> 7.3577769 | E14: =(N14*M14)^-1*(('calcul EPF'!C2/B14)^M14-1) -> -0.34526476 | M14: =-4.257629-2162.234*A14^-2+0.0002301829*A14^3 -> 0.34976642 | N14: =10^-4*(-6.997171+0.057559*A14^3-0.01493946*A14^3*LN(A14)) -> 0.017940766 | O14: =_xlfn.NORM.S.DIST(E14,TRUE) -> 0.36494767
A15: 32 | B15: =4.956737+0.0005019687*A15^3-0.0001227065*A15^3*LN(A15) -> 7.470055 | E15: =(N15*M15)^-1*(('calcul EPF'!C2/B15)^M15-1) -> -1.1551381 | M15: =-4.257629-2162.234*A15^-2+0.0002301829*A15^3 -> 1.1734476 | N15: =10^-4*(-6.997171+0.057559*A15^3-0.01493946*A15^3*LN(A15)) -> 0.018249287 | O15: =_xlfn.NORM.S.DIST(E15,TRUE) -> 0.12401694
A16: 33 | B16: =4.956737+0.0005019687*A16^3-0.0001227065*A16^3*LN(A16) -> 7.5774246 | E16: =(N16*M16)^-1*(('calcul EPF'!C2/B16)^M16-1) -> -1.8643809 | M16: =-4.257629-2162.234*A16^-2+0.0002301829*A16^3 -> 2.0289314 | N16: =10^-4*(-6.997171+0.057559*A16^3-0.01493946*A16^3*LN(A16)) -> 0.018429782 | O16: =_xlfn.NORM.S.DIST(E16,TRUE) -> 0.031134118
A17: 34 | B17: =4.956737+0.0005019687*A17^3-0.0001227065*A17^3*LN(A17) -> 7.6789848 | E17: =(N17*M17)^-1*(('calcul EPF'!C2/B17)^M17-1) -> -2.4688071 | M17: =-4.257629-2162.234*A17^-2+0.0002301829*A17^3 -> 2.9190351 | N17: =10^-4*(-6.997171+0.057559*A17^3-0.01493946*A17^3*LN(A17)) -> 0.01846915 | O17: =_xlfn.NORM.S.DIST(E17,TRUE) -> 0.0067782135
A18: 35 | B18: =4.956737+0.0005019687*A18^3-0.0001227065*A18^3*LN(A18) -> 7.7738124 | E18: =(N18*M18)^-1*(('calcul EPF'!C2/B18)^M18-1) -> -2.9711943 | M18: =-4.257629-2162.234*A18^-2+0.0002301829*A18^3 -> 3.8463739 | N18: =10^-4*(-6.997171+0.057559*A18^3-0.01493946*A18^3*LN(A18)) -> 0.018354018 | O18: =_xlfn.NORM.S.DIST(E18,TRUE) -> 0.0014832199
A19: 36 | B19: =4.956737+0.0005019687*A19^3-0.0001227065*A19^3*LN(A19) -> 7.8609626 | E19: =(N19*M19)^-1*(('calcul EPF'!C2/B19)^M19-1) -> -3.3809973 | M19: =-4.257629-2162.234*A19^-2+0.0002301829*A19^3 -> 4.813394 | N19: =10^-4*(-6.997171+0.057559*A19^3-0.01493946*A19^3*LN(A19)) -> 0.018070748 | O19: =_xlfn.NORM.S.DIST(E19,TRUE) -> 0.00036111623
A20: 37 | B20: =4.956737+0.0005019687*A20^3-0.0001227065*A20^3*LN(A20) -> 7.9394694 | E20: =(N20*M20)^-1*(('calcul EPF'!C2/B20)^M20-1) -> -3.7136752 | M20: =-4.257629-2162.234*A20^-2+0.0002301829*A20^3 -> 5.8223996 | N20: =10^-4*(-6.997171+0.057559*A20^3-0.01493946*A20^3*LN(A20)) -> 0.017605448 | O20: =_xlfn.NORM.S.DIST(E20,TRUE) -> 0.00010213547
A21: 38 | B21: =4.956737+0.0005019687*A21^3-0.0001227065*A21^3*LN(A21) -> 8.0083464 | E21: =(N21*M21)^-1*(('calcul EPF'!C2/B21)^M21-1) -> -3.9900086 | M21: =-4.257629-2162.234*A21^-2+0.0002301829*A21^3 -> 6.8755751 | N21: =10^-4*(-6.997171+0.057559*A21^3-0.01493946*A21^3*LN(A21)) -> 0.016943974 | O21: =_xlfn.NORM.S.DIST(E21,TRUE) -> 3.3035445e-05
A22: 39 | B22: =4.956737+0.0005019687*A22^3-0.0001227065*A22^3*LN(A22) -> 8.0665874 | E22: =(N22*M22)^-1*(('calcul EPF'!C2/B22)^M22-1) -> -4.2359496 | M22: =-4.257629-2162.234*A22^-2+0.0002301829*A22^3 -> 7.9750033 | N22: =10^-4*(-6.997171+0.057559*A22^3-0.01493946*A22^3*LN(A22)) -> 0.016071943 | O22: =_xlfn.NORM.S.DIST(E22,TRUE) -> 1.1379392e-05
A23: 40 | B23: =4.956737+0.0005019687*A23^3-0.0001227065*A23^3*LN(A23) -> 8.1131666 | E23: =(N23*M23)^-1*(('calcul EPF'!C2/B23)^M23-1) -> -4.4838426 | M23: =-4.257629-2162.234*A23^-2+0.0002301829*A23^3 -> 9.1226803 | N23: =10^-4*(-6.997171+0.057559*A23^3-0.01493946*A23^3*LN(A23)) -> 0.014974734 | O23: =_xlfn.NORM.S.DIST(E23,TRUE) -> 3.6655379e-06
A24: 41 | B24: =4.956737+0.0005019687*A24^3-0.0001227065*A24^3*LN(A24) -> 8.1470397 | E24: =(N24*M24)^-1*(('calcul EPF'!C2/B24)^M24-1) -> -4.7766148 | M24: =-4.257629-2162.234*A24^-2+0.0002301829*A24^3 -> 10.320528 | N24: =10^-4*(-6.997171+0.057559*A24^3-0.01493946*A24^3*LN(A24)) -> 0.013637496 | O24: =_xlfn.NORM.S.DIST(E24,TRUE) -> 8.9135386e-07
A25: 42 | B25: =4.956737+0.0005019687*A25^3-0.0001227065*A25^3*LN(A25) -> 8.1671436 | E25: =(N25*M25)^-1*(('calcul EPF'!C2/B25)^M25-1) -> -5.1787944 | M25: =-4.257629-2162.234*A25^-2+0.0002301829*A25^3 -> 11.570405 | N25: =10^-4*(-6.997171+0.057559*A25^3-0.01493946*A25^3*LN(A25)) -> 0.012045154 | O25: =_xlfn.NORM.S.DIST(E25,TRUE) -> 1.1166221e-07
