Workbook
Name Accompagnements: '[1]Liste FT'!$C$3:$C$402
Name Classes: '[2]Parametrage base'!$D$15:$D$30
Name COL_SEM_1: '[2]Parametrage base'!$AJ$5
Name COL_SEM_1: '[2]Parametrage base'!$AH$5
Name COL_SEM_2: '[2]Parametrage base'!$AK$5
Name COL_SEM_2: '[2]Parametrage base'!$AI$5
Name Désserts: '[3]Liste FT'!$E$3:$E$402
Name Entrée: '[3]Liste FT'!$A$3:$A$402
Name Entrées: '[1]Liste FT'!$A$3:$A$402
Name extract: OFFSET([2]Parametrage!$AG$3,,,COUNT([2]Parametrage!$AG$3:$AG$337))
Name extract: OFFSET(#REF!,,,COUNT(#REF!))
Name feries: [2]Calendrier!$AN$3:$AO$15
Name Fromages: '[3]Liste FT'!$D$3:$D$402
Name Garnitures: '[3]Liste FT'!$C$3:$C$402
Name Jours: [3]Ingrédients!$A$505:$A$513
Name Modalités: [3]Devis!$T$2:$T$10
Name Modulation: [3]Ingrédients!$B$505:$B$517
Name Plats: '[3]Liste FT'!$B$3:$B$402
Name Plats_protidiques: '[1]Liste FT'!$B$3:$B$402
Name Recettes: '[3]Fiches techniques'!$A$407:$A$2406
Name semaine: #REF!
Name semaines: '[2]Parametrage base'!$F$3:$F$48
Name semaines: '[2]Parametrage base'!$D$3:$D$48
Name Stockage: '[3]Stock sécurité'!$T$7:$T$23
Name tranche1: #REF!
Name tranche2: #REF!
Name TVA: [3]Devis!$S$2:$S$10
Name unité: '[3]Stock sécurité'!$U$7:$U$14
Name vacances: [2]Calendrier!$AN$18:$AN$27
Name vacances: #REF!

Sheet Parametrage
B4: lundi
C18: Plage | D18: Prof 1 | E18: Classe 1 | F18: Midi | G18: Prof 2 | H18: Classe 2 | I18: Soir
C19: Lundi midi | D19: jojo | E19: T PRO 1 | F19: =+_xlfn.CONCAT(D19," ",E19) -> jojo T PRO 1 | I19: =+_xlfn.CONCAT(G19," ",H19)
C20: Lundi soir | F20: =+_xlfn.CONCAT(D20," ",E20) | G20: lolo | I20: =+_xlfn.CONCAT(G20," ",H20) -> lolo
C21: Mardi midi | D21: fifi | E21: T PRO 2 | F21: =+_xlfn.CONCAT(D21," ",E21) -> fifi T PRO 2 | I21: =+_xlfn.CONCAT(G21," ",H21)
C22: Mardi soir | F22: =+_xlfn.CONCAT(D22," ",E22) | G22: lala | I22: =+_xlfn.CONCAT(G22," ",H22) -> lala
C23: Mercredi midi | D23: jack | F23: =+_xlfn.CONCAT(D23," ",E23) -> jack | I23: =+_xlfn.CONCAT(G23," ",H23)
C24: Mercredi soir | F24: =+_xlfn.CONCAT(D24," ",E24) | G24: lulu | I24: =+_xlfn.CONCAT(G24," ",H24) -> lulu
C25: Jeudi midi | D25: michel | F25: =+_xlfn.CONCAT(D25," ",E25) -> michel | I25: =+_xlfn.CONCAT(G25," ",H25)
C26: Jeudi soir | F26: =+_xlfn.CONCAT(D26," ",E26) | G26: nono | I26: =+_xlfn.CONCAT(G26," ",H26) -> nono
C27: Vendredi midi | D27: kaki | F27: =+_xlfn.CONCAT(D27," ",E27) -> kaki | I27: =+_xlfn.CONCAT(G27," ",H27)
C28: Vendredi soir | F28: =+_xlfn.CONCAT(D28," ",E28) | G28: bn | I28: =+_xlfn.CONCAT(G28," ",H28) -> bn

Sheet Menus
A1: =+[2]Calendrier!A2 -> Sem | B1: Jour | D1: Prof midi | E1: Nbre couverts | F1: AB | G1: Entrée | H1: Plat | I1: Garniture | J1: Dessert | K1: Prof soir | L1: Nbre couverts | M1: AB | N1: Entrée | O1: Plat | P1: Garniture | Q1: Dessert
A2: =+[2]Calendrier!A3 -> 35 | B2: =+[2]Calendrier!B3 -> 45170 | C2: =+IFERROR(INDEX('[2]Parametrage base'!$B:$B,MATCH(B2,'[2]Parametrage base'!$C:$C,0)),"") | D2: =++IF(AND(WEEKDAY(B2,2)<6,C2<>"Vacances",C2<>"Férié"),INDEX(Repartition[Midi],MATCH(TEXT(Menus!B2,"jjjj")&"*",Repartition[Plage],0)),"") -> kaki | E2: 30 | K2: =+IF(AND(WEEKDAY(B2,2)<6,C2<>"Vacances",C2<>"Férié"),INDEX(Repartition[Soir],MATCH(TEXT(Menus!B2,"jjjj")&"*",Repartition[Plage],1)),"") -> bn
A3: =+[2]Calendrier!A4 -> 35 | B3: =+[2]Calendrier!B4 -> 45171 | C3: =+IFERROR(INDEX('[2]Parametrage base'!$B:$B,MATCH(B3,'[2]Parametrage base'!$C:$C,0)),"") | D3: =++IF(AND(WEEKDAY(B3,2)<6,C3<>"Vacances",C3<>"Férié"),INDEX(Repartition[Midi],MATCH(TEXT(Menus!B3,"jjjj")&"*",Repartition[Plage],0)),"") | K3: =+IF(AND(WEEKDAY(B3,2)<6,C3<>"Vacances",C3<>"Férié"),INDEX(Repartition[Soir],MATCH(TEXT(Menus!B3,"jjjj")&"*",Repartition[Plage],1)),"")
A4: =+[2]Calendrier!A5 -> 35 | B4: =+[2]Calendrier!B5 -> 45172 | C4: =+IFERROR(INDEX('[2]Parametrage base'!$B:$B,MATCH(B4,'[2]Parametrage base'!$C:$C,0)),"") | D4: =++IF(AND(WEEKDAY(B4,2)<6,C4<>"Vacances",C4<>"Férié"),INDEX(Repartition[Midi],MATCH(TEXT(Menus!B4,"jjjj")&"*",Repartition[Plage],0)),"") | K4: =+IF(AND(WEEKDAY(B4,2)<6,C4<>"Vacances",C4<>"Férié"),INDEX(Repartition[Soir],MATCH(TEXT(Menus!B4,"jjjj")&"*",Repartition[Plage],1)),"")
A5: =+[2]Calendrier!A6 -> 36 | B5: =+[2]Calendrier!B6 -> 45173 | C5: =+IFERROR(INDEX('[2]Parametrage base'!$B:$B,MATCH(B5,'[2]Parametrage base'!$C:$C,0)),"") -> Ouverture pédago | D5: =++IF(AND(WEEKDAY(B5,2)<6,C5<>"Vacances",C5<>"Férié"),INDEX(Repartition[Midi],MATCH(TEXT(Menus!B5,"jjjj")&"*",Repartition[Plage],0)),"") -> jojo T PRO 1 | E5: 30 | F5: Gougères | G5: Tartare | H5: Bœuf carottes | I5: Riz pilaf | J5: Crème brulée | K5: =+IF(AND(WEEKDAY(B5,2)<6,C5<>"Vacances",C5<>"Férié"),INDEX(Repartition[Soir],MATCH(TEXT(Menus!B5,"jjjj")&"*",Repartition[Plage],1)),"") -> lolo
A6: =+[2]Calendrier!A7 -> 36 | B6: =+[2]Calendrier!B7 -> 45174 | C6: =+IFERROR(INDEX('[2]Parametrage base'!$B:$B,MATCH(B6,'[2]Parametrage base'!$C:$C,0)),"") -> Choucrout | D6: =++IF(AND(WEEKDAY(B6,2)<6,C6<>"Vacances",C6<>"Férié"),INDEX(Repartition[Midi],MATCH(TEXT(Menus!B6,"jjjj")&"*",Repartition[Plage],0)),"") -> fifi T PRO 2 | E6: 30 | F6: a | G6: b | H6: c | I6: d | J6: e | K6: =+IF(AND(WEEKDAY(B6,2)<6,C6<>"Vacances",C6<>"Férié"),INDEX(Repartition[Soir],MATCH(TEXT(Menus!B6,"jjjj")&"*",Repartition[Plage],1)),"") -> lala
A7: =+[2]Calendrier!A8 -> 36 | B7: =+[2]Calendrier!B8 -> 45175 | C7: =+IFERROR(INDEX('[2]Parametrage base'!$B:$B,MATCH(B7,'[2]Parametrage base'!$C:$C,0)),"") | D7: =++IF(AND(WEEKDAY(B7,2)<6,C7<>"Vacances",C7<>"Férié"),INDEX(Repartition[Midi],MATCH(TEXT(Menus!B7,"jjjj")&"*",Repartition[Plage],0)),"") -> jack | E7: 30 | F7: f | G7: g | H7: h | I7: i | J7: j | K7: =+IF(AND(WEEKDAY(B7,2)<6,C7<>"Vacances",C7<>"Férié"),INDEX(Repartition[Soir],MATCH(TEXT(Menus!B7,"jjjj")&"*",Repartition[Plage],1)),"") -> nono
A8: =+[2]Calendrier!A9 -> 36 | B8: =+[2]Calendrier!B9 -> 45176 | C8: =+IFERROR(INDEX('[2]Parametrage base'!$B:$B,MATCH(B8,'[2]Parametrage base'!$C:$C,0)),"") | D8: =++IF(AND(WEEKDAY(B8,2)<6,C8<>"Vacances",C8<>"Férié"),INDEX(Repartition[Midi],MATCH(TEXT(Menus!B8,"jjjj")&"*",Repartition[Plage],0)),"") -> michel | E8: 30 | F8: k | G8: l | H8: m | I8: n | J8: o | K8: =+IF(AND(WEEKDAY(B8,2)<6,C8<>"Vacances",C8<>"Férié"),INDEX(Repartition[Soir],MATCH(TEXT(Menus!B8,"jjjj")&"*",Repartition[Plage],1)),"") -> #N/A
A9: =+[2]Calendrier!A10 -> 36 | B9: =+[2]Calendrier!B10 -> 45177 | C9: =+IFERROR(INDEX('[2]Parametrage base'!$B:$B,MATCH(B9,'[2]Parametrage base'!$C:$C,0)),"") -> Ouverture Application | D9: =++IF(AND(WEEKDAY(B9,2)<6,C9<>"Vacances",C9<>"Férié"),INDEX(Repartition[Midi],MATCH(TEXT(Menus!B9,"jjjj")&"*",Repartition[Plage],0)),"") -> kaki | E9: 30 | F9: p | G9: q | H9: r | I9: s | J9: t | K9: =+IF(AND(WEEKDAY(B9,2)<6,C9<>"Vacances",C9<>"Férié"),INDEX(Repartition[Soir],MATCH(TEXT(Menus!B9,"jjjj")&"*",Repartition[Plage],1)),"") -> bn
A10: =+[2]Calendrier!A11 -> 36 | B10: =+[2]Calendrier!B11 -> 45178 | C10: =+IFERROR(INDEX('[2]Parametrage base'!$B:$B,MATCH(B10,'[2]Parametrage base'!$C:$C,0)),"") | D10: =++IF(AND(WEEKDAY(B10,2)<6,C10<>"Vacances",C10<>"Férié"),INDEX(Repartition[Midi],MATCH(TEXT(Menus!B10,"jjjj")&"*",Repartition[Plage],0)),"") | K10: =+IF(AND(WEEKDAY(B10,2)<6,C10<>"Vacances",C10<>"Férié"),INDEX(Repartition[Soir],MATCH(TEXT(Menus!B10,"jjjj")&"*",Repartition[Plage],1)),"")
A11: =+[2]Calendrier!A12 -> 36 | B11: =+[2]Calendrier!B12 -> 45179 | C11: =+IFERROR(INDEX('[2]Parametrage base'!$B:$B,MATCH(B11,'[2]Parametrage base'!$C:$C,0)),"") | D11: =++IF(AND(WEEKDAY(B11,2)<6,C11<>"Vacances",C11<>"Férié"),INDEX(Repartition[Midi],MATCH(TEXT(Menus!B11,"jjjj")&"*",Repartition[Plage],0)),"") | K11: =+IF(AND(WEEKDAY(B11,2)<6,C11<>"Vacances",C11<>"Férié"),INDEX(Repartition[Soir],MATCH(TEXT(Menus!B11,"jjjj")&"*",Repartition[Plage],1)),"")
A12: =+[2]Calendrier!A13 -> 37 | B12: =+[2]Calendrier!B13 -> 45180 | C12: =+IFERROR(INDEX('[2]Parametrage base'!$B:$B,MATCH(B12,'[2]Parametrage base'!$C:$C,0)),"") | D12: =++IF(AND(WEEKDAY(B12,2)<6,C12<>"Vacances",C12<>"Férié"),INDEX(Repartition[Midi],MATCH(TEXT(Menus!B12,"jjjj")&"*",Repartition[Plage],0)),"") -> jojo T PRO 1 | E12: 40 | F12: Velouté | G12: Feuillete | H12: Poulet frites | I12: Gratin | J12: Poire belle hélène | K12: =+IF(AND(WEEKDAY(B12,2)<6,C12<>"Vacances",C12<>"Férié"),INDEX(Repartition[Soir],MATCH(TEXT(Menus!B12,"jjjj")&"*",Repartition[Plage],1)),"") -> lolo
A13: =+[2]Calendrier!A14 -> 37 | B13: =+[2]Calendrier!B14 -> 45181 | C13: =+IFERROR(INDEX('[2]Parametrage base'!$B:$B,MATCH(B13,'[2]Parametrage base'!$C:$C,0)),"") | D13: =++IF(AND(WEEKDAY(B13,2)<6,C13<>"Vacances",C13<>"Férié"),INDEX(Repartition[Midi],MATCH(TEXT(Menus!B13,"jjjj")&"*",Repartition[Plage],0)),"") -> fifi T PRO 2 | E13: 40 | F13: 1 | G13: 2 | H13: 3 | I13: 4 | J13: 5 | K13: =+IF(AND(WEEKDAY(B13,2)<6,C13<>"Vacances",C13<>"Férié"),INDEX(Repartition[Soir],MATCH(TEXT(Menus!B13,"jjjj")&"*",Repartition[Plage],1)),"") -> lala
A14: =+[2]Calendrier!A15 -> 37 | B14: =+[2]Calendrier!B15 -> 45182 | C14: =+IFERROR(INDEX('[2]Parametrage base'!$B:$B,MATCH(B14,'[2]Parametrage base'!$C:$C,0)),"") | D14: =++IF(AND(WEEKDAY(B14,2)<6,C14<>"Vacances",C14<>"Férié"),INDEX(Repartition[Midi],MATCH(TEXT(Menus!B14,"jjjj")&"*",Repartition[Plage],0)),"") -> jack | E14: 40 | F14: 6 | G14: 7 | H14: 8 | I14: 9 | J14: 10 | K14: =+IF(AND(WEEKDAY(B14,2)<6,C14<>"Vacances",C14<>"Férié"),INDEX(Repartition[Soir],MATCH(TEXT(Menus!B14,"jjjj")&"*",Repartition[Plage],1)),"") -> nono
A15: =+[2]Calendrier!A16 -> 37 | B15: =+[2]Calendrier!B16 -> 45183 | C15: =+IFERROR(INDEX('[2]Parametrage base'!$B:$B,MATCH(B15,'[2]Parametrage base'!$C:$C,0)),"") | D15: =++IF(AND(WEEKDAY(B15,2)<6,C15<>"Vacances",C15<>"Férié"),INDEX(Repartition[Midi],MATCH(TEXT(Menus!B15,"jjjj")&"*",Repartition[Plage],0)),"") -> michel | E15: 40 | F15: 11 | G15: 12 | H15: 13 | I15: 14 | J15: 15 | K15: =+IF(AND(WEEKDAY(B15,2)<6,C15<>"Vacances",C15<>"Férié"),INDEX(Repartition[Soir],MATCH(TEXT(Menus!B15,"jjjj")&"*",Repartition[Plage],1)),"") -> #N/A
A16: =+[2]Calendrier!A17 -> 37 | B16: =+[2]Calendrier!B17 -> 45184 | C16: =+IFERROR(INDEX('[2]Parametrage base'!$B:$B,MATCH(B16,'[2]Parametrage base'!$C:$C,0)),"") | D16: =++IF(AND(WEEKDAY(B16,2)<6,C16<>"Vacances",C16<>"Férié"),INDEX(Repartition[Midi],MATCH(TEXT(Menus!B16,"jjjj")&"*",Repartition[Plage],0)),"") -> kaki | E16: 40 | F16: 16 | G16: 17 | H16: 18 | I16: 19 | J16: 20 | K16: =+IF(AND(WEEKDAY(B16,2)<6,C16<>"Vacances",C16<>"Férié"),INDEX(Repartition[Soir],MATCH(TEXT(Menus!B16,"jjjj")&"*",Repartition[Plage],1)),"") -> bn
A17: =+[2]Calendrier!A18 -> 37 | B17: =+[2]Calendrier!B18 -> 45185 | C17: =+IFERROR(INDEX('[2]Parametrage base'!$B:$B,MATCH(B17,'[2]Parametrage base'!$C:$C,0)),"") | D17: =++IF(AND(WEEKDAY(B17,2)<6,C17<>"Vacances",C17<>"Férié"),INDEX(Repartition[Midi],MATCH(TEXT(Menus!B17,"jjjj")&"*",Repartition[Plage],0)),"") | K17: =+IF(AND(WEEKDAY(B17,2)<6,C17<>"Vacances",C17<>"Férié"),INDEX(Repartition[Soir],MATCH(TEXT(Menus!B17,"jjjj")&"*",Repartition[Plage],1)),"")
A18: =+[2]Calendrier!A19 -> 37 | B18: =+[2]Calendrier!B19 -> 45186 | C18: =+IFERROR(INDEX('[2]Parametrage base'!$B:$B,MATCH(B18,'[2]Parametrage base'!$C:$C,0)),"") | D18: =++IF(AND(WEEKDAY(B18,2)<6,C18<>"Vacances",C18<>"Férié"),INDEX(Repartition[Midi],MATCH(TEXT(Menus!B18,"jjjj")&"*",Repartition[Plage],0)),"") | K18: =+IF(AND(WEEKDAY(B18,2)<6,C18<>"Vacances",C18<>"Férié"),INDEX(Repartition[Soir],MATCH(TEXT(Menus!B18,"jjjj")&"*",Repartition[Plage],1)),"")
A19: =+[2]Calendrier!A20 -> 38 | B19: =+[2]Calendrier!B20 -> 45187 | C19: =+IFERROR(INDEX('[2]Parametrage base'!$B:$B,MATCH(B19,'[2]Parametrage base'!$C:$C,0)),"") | D19: =++IF(AND(WEEKDAY(B19,2)<6,C19<>"Vacances",C19<>"Férié"),INDEX(Repartition[Midi],MATCH(TEXT(Menus!B19,"jjjj")&"*",Repartition[Plage],0)),"") -> jojo T PRO 1
A20: =+[2]Calendrier!A21 -> 38 | B20: =+[2]Calendrier!B21 -> 45188 | C20: =+IFERROR(INDEX('[2]Parametrage base'!$B:$B,MATCH(B20,'[2]Parametrage base'!$C:$C,0)),"") | D20: =++IF(AND(WEEKDAY(B20,2)<6,C20<>"Vacances",C20<>"Férié"),INDEX(Repartition[Midi],MATCH(TEXT(Menus!B20,"jjjj")&"*",Repartition[Plage],0)),"") -> fifi T PRO 2
A21: =+[2]Calendrier!A22 -> 38 | B21: =+[2]Calendrier!B22 -> 45189 | C21: =+IFERROR(INDEX('[2]Parametrage base'!$B:$B,MATCH(B21,'[2]Parametrage base'!$C:$C,0)),"") | D21: =++IF(AND(WEEKDAY(B21,2)<6,C21<>"Vacances",C21<>"Férié"),INDEX(Repartition[Midi],MATCH(TEXT(Menus!B21,"jjjj")&"*",Repartition[Plage],0)),"") -> jack
A22: =+[2]Calendrier!A23 -> 38 | B22: =+[2]Calendrier!B23 -> 45190 | C22: =+IFERROR(INDEX('[2]Parametrage base'!$B:$B,MATCH(B22,'[2]Parametrage base'!$C:$C,0)),"") | D22: =++IF(AND(WEEKDAY(B22,2)<6,C22<>"Vacances",C22<>"Férié"),INDEX(Repartition[Midi],MATCH(TEXT(Menus!B22,"jjjj")&"*",Repartition[Plage],0)),"") -> michel
A23: =+[2]Calendrier!A24 -> 38 | B23: =+[2]Calendrier!B24 -> 45191 | C23: =+IFERROR(INDEX('[2]Parametrage base'!$B:$B,MATCH(B23,'[2]Parametrage base'!$C:$C,0)),"") | D23: =++IF(AND(WEEKDAY(B23,2)<6,C23<>"Vacances",C23<>"Férié"),INDEX(Repartition[Midi],MATCH(TEXT(Menus!B23,"jjjj")&"*",Repartition[Plage],0)),"") -> kaki
A24: =+[2]Calendrier!A25 -> 38 | B24: =+[2]Calendrier!B25 -> 45192 | C24: =+IFERROR(INDEX('[2]Parametrage base'!$B:$B,MATCH(B24,'[2]Parametrage base'!$C:$C,0)),"") | D24: =++IF(AND(WEEKDAY(B24,2)<6,C24<>"Vacances",C24<>"Férié"),INDEX(Repartition[Midi],MATCH(TEXT(Menus!B24,"jjjj")&"*",Repartition[Plage],0)),"")
A25: =+[2]Calendrier!A26 -> 38 | B25: =+[2]Calendrier!B26 -> 45193 | C25: =+IFERROR(INDEX('[2]Parametrage base'!$B:$B,MATCH(B25,'[2]Parametrage base'!$C:$C,0)),"") | D25: =++IF(AND(WEEKDAY(B25,2)<6,C25<>"Vacances",C25<>"Férié"),INDEX(Repartition[Midi],MATCH(TEXT(Menus!B25,"jjjj")&"*",Repartition[Plage],0)),"")
A26: =+[2]Calendrier!A27 -> 39 | B26: =+[2]Calendrier!B27 -> 45194 | C26: =+IFERROR(INDEX('[2]Parametrage base'!$B:$B,MATCH(B26,'[2]Parametrage base'!$C:$C,0)),"") | D26: =++IF(AND(WEEKDAY(B26,2)<6,C26<>"Vacances",C26<>"Férié"),INDEX(Repartition[Midi],MATCH(TEXT(Menus!B26,"jjjj")&"*",Repartition[Plage],0)),"") -> jojo T PRO 1
A27: =+[2]Calendrier!A28 -> 39 | B27: =+[2]Calendrier!B28 -> 45195 | C27: =+IFERROR(INDEX('[2]Parametrage base'!$B:$B,MATCH(B27,'[2]Parametrage base'!$C:$C,0)),"") | D27: =++IF(AND(WEEKDAY(B27,2)<6,C27<>"Vacances",C27<>"Férié"),INDEX(Repartition[Midi],MATCH(TEXT(Menus!B27,"jjjj")&"*",Repartition[Plage],0)),"") -> fifi T PRO 2
A28: =+[2]Calendrier!A29 -> 39 | B28: =+[2]Calendrier!B29 -> 45196 | C28: =+IFERROR(INDEX('[2]Parametrage base'!$B:$B,MATCH(B28,'[2]Parametrage base'!$C:$C,0)),"") | D28: =++IF(AND(WEEKDAY(B28,2)<6,C28<>"Vacances",C28<>"Férié"),INDEX(Repartition[Midi],MATCH(TEXT(Menus!B28,"jjjj")&"*",Repartition[Plage],0)),"") -> jack
A29: =+[2]Calendrier!A30 -> 39 | B29: =+[2]Calendrier!B30 -> 45197 | C29: =+IFERROR(INDEX('[2]Parametrage base'!$B:$B,MATCH(B29,'[2]Parametrage base'!$C:$C,0)),"") | D29: =++IF(AND(WEEKDAY(B29,2)<6,C29<>"Vacances",C29<>"Férié"),INDEX(Repartition[Midi],MATCH(TEXT(Menus!B29,"jjjj")&"*",Repartition[Plage],0)),"") -> michel
A30: =+[2]Calendrier!A31 -> 39 | B30: =+[2]Calendrier!B31 -> 45198 | C30: =+IFERROR(INDEX('[2]Parametrage base'!$B:$B,MATCH(B30,'[2]Parametrage base'!$C:$C,0)),"") | D30: =++IF(AND(WEEKDAY(B30,2)<6,C30<>"Vacances",C30<>"Férié"),INDEX(Repartition[Midi],MATCH(TEXT(Menus!B30,"jjjj")&"*",Repartition[Plage],0)),"") -> kaki
A31: =+[2]Calendrier!A32 -> 39 | B31: =+[2]Calendrier!B32 -> 45199 | C31: =+IFERROR(INDEX('[2]Parametrage base'!$B:$B,MATCH(B31,'[2]Parametrage base'!$C:$C,0)),"") | D31: =++IF(AND(WEEKDAY(B31,2)<6,C31<>"Vacances",C31<>"Férié"),INDEX(Repartition[Midi],MATCH(TEXT(Menus!B31,"jjjj")&"*",Repartition[Plage],0)),"")
A32: =+[2]Calendrier!U3 -> 39 | B32: =+[2]Calendrier!V3 -> 45200 | C32: =+IFERROR(INDEX('[2]Parametrage base'!$B:$B,MATCH(B32,'[2]Parametrage base'!$C:$C,0)),"") | D32: =++IF(AND(WEEKDAY(B32,2)<6,C32<>"Vacances",C32<>"Férié"),INDEX(Repartition[Midi],MATCH(TEXT(Menus!B32,"jjjj")&"*",Repartition[Plage],0)),"")
A33: =+[2]Calendrier!U4 -> 40 | B33: =+[2]Calendrier!V4 -> 45201 | C33: =+IFERROR(INDEX('[2]Parametrage base'!$B:$B,MATCH(B33,'[2]Parametrage base'!$C:$C,0)),"") | D33: =++IF(AND(WEEKDAY(B33,2)<6,C33<>"Vacances",C33<>"Férié"),INDEX(Repartition[Midi],MATCH(TEXT(Menus!B33,"jjjj")&"*",Repartition[Plage],0)),"") -> jojo T PRO 1
A34: =+[2]Calendrier!U5 -> 40 | B34: =+[2]Calendrier!V5 -> 45202 | C34: =+IFERROR(INDEX('[2]Parametrage base'!$B:$B,MATCH(B34,'[2]Parametrage base'!$C:$C,0)),"") | D34: =++IF(AND(WEEKDAY(B34,2)<6,C34<>"Vacances",C34<>"Férié"),INDEX(Repartition[Midi],MATCH(TEXT(Menus!B34,"jjjj")&"*",Repartition[Plage],0)),"") -> fifi T PRO 2
A35: =+[2]Calendrier!U6 -> 40 | B35: =+[2]Calendrier!V6 -> 45203 | C35: =+IFERROR(INDEX('[2]Parametrage base'!$B:$B,MATCH(B35,'[2]Parametrage base'!$C:$C,0)),"") | D35: =++IF(AND(WEEKDAY(B35,2)<6,C35<>"Vacances",C35<>"Férié"),INDEX(Repartition[Midi],MATCH(TEXT(Menus!B35,"jjjj")&"*",Repartition[Plage],0)),"") -> jack
A36: =+[2]Calendrier!U7 -> 40 | B36: =+[2]Calendrier!V7 -> 45204 | C36: =+IFERROR(INDEX('[2]Parametrage base'!$B:$B,MATCH(B36,'[2]Parametrage base'!$C:$C,0)),"") | D36: =++IF(AND(WEEKDAY(B36,2)<6,C36<>"Vacances",C36<>"Férié"),INDEX(Repartition[Midi],MATCH(TEXT(Menus!B36,"jjjj")&"*",Repartition[Plage],0)),"") -> michel
A37: =+[2]Calendrier!U8 -> 40 | B37: =+[2]Calendrier!V8 -> 45205 | C37: =+IFERROR(INDEX('[2]Parametrage base'!$B:$B,MATCH(B37,'[2]Parametrage base'!$C:$C,0)),"") | D37: =++IF(AND(WEEKDAY(B37,2)<6,C37<>"Vacances",C37<>"Férié"),INDEX(Repartition[Midi],MATCH(TEXT(Menus!B37,"jjjj")&"*",Repartition[Plage],0)),"") -> kaki
A38: =+[2]Calendrier!U9 -> 40 | B38: =+[2]Calendrier!V9 -> 45206 | C38: =+IFERROR(INDEX('[2]Parametrage base'!$B:$B,MATCH(B38,'[2]Parametrage base'!$C:$C,0)),"") | D38: =++IF(AND(WEEKDAY(B38,2)<6,C38<>"Vacances",C38<>"Férié"),INDEX(Repartition[Midi],MATCH(TEXT(Menus!B38,"jjjj")&"*",Repartition[Plage],0)),"")
A39: =+[2]Calendrier!U10 -> 40 | B39: =+[2]Calendrier!V10 -> 45207 | C39: =+IFERROR(INDEX('[2]Parametrage base'!$B:$B,MATCH(B39,'[2]Parametrage base'!$C:$C,0)),"") | D39: =++IF(AND(WEEKDAY(B39,2)<6,C39<>"Vacances",C39<>"Férié"),INDEX(Repartition[Midi],MATCH(TEXT(Menus!B39,"jjjj")&"*",Repartition[Plage],0)),"")
A40: =+[2]Calendrier!U11 -> 41 | B40: =+[2]Calendrier!V11 -> 45208 | C40: =+IFERROR(INDEX('[2]Parametrage base'!$B:$B,MATCH(B40,'[2]Parametrage base'!$C:$C,0)),"") | D40: =++IF(AND(WEEKDAY(B40,2)<6,C40<>"Vacances",C40<>"Férié"),INDEX(Repartition[Midi],MATCH(TEXT(Menus!B40,"jjjj")&"*",Repartition[Plage],0)),"") -> jojo T PRO 1
...
