Workbook
Name feries: Calendrier!$U$3:$V$15
Name vacances: Calendrier!$T$3:$U$27

Sheet Parametrage
A1: Rentrée | C1: 2023

Sheet Calendrier
A1: Début de cycle : | C1: 45170 | E1: =+Parametrage!C1 -> 2023 | F1: Année scolaire : | H1: =+E1 -> 2023 | J1: =+E1+1 -> 2024 | L1: Aujpourd'hui : | N1: =TODAY() -> 45033
A2: Sem | B2: =+C1 -> 45170 | C2: Infos | D2: PFMP | E2: Vie de classe | F2: Vigilance | G2: CCF | H2: Autres | J2: Sem | K2: =+C1+30 -> 45200 | L2: Infos | M2: PFMP | N2: Vie de classe | O2: Vigilance | P2: CCF | Q2: Autres | U2: Semaine
A3: =IFERROR(_xlfn.ISOWEEKNUM(B3),"") -> 35 | B3: =DATE(E1,MONTH(B2),1) -> 45170 | C3: =+IFERROR(INDEX(#REF!,MATCH(B3,#REF!,0)),"") | D3: =IFERROR(INDEX(Parametrage!A:A,MATCH(A3,Parametrage!C:C,0)),"") | E3: =IFERROR(INDEX(Parametrage!D:D,MATCH(B3,Parametrage!F:F,0)),"") | F3: =IFERROR(INDEX(Parametrage!I:I,MATCH(B3,Parametrage!J:J,0)),"") | G3: =IFERROR(INDEX(Parametrage!G:G,MATCH(B3,Parametrage!H:H,0)),"") | H3: =IFERROR(INDEX(Parametrage!K:K,MATCH(B3,Parametrage!L:L,0)),"") | J3: =IFERROR(_xlfn.ISOWEEKNUM(K3),"") -> 39 | K3: =DATE(E1,MONTH(K2),1) -> 45200 | L3: =+IFERROR(INDEX(#REF!,MATCH(K3,#REF!,0)),"") | M3: =IFERROR(INDEX(Parametrage!$A:$A,MATCH(J3,Parametrage!$C:$C,0)),"") | N3: =IFERROR(INDEX(Parametrage!$D:$D,MATCH(K3,Parametrage!$F:$F,0)),"") | O3: =IFERROR(INDEX(Parametrage!$I:$I,MATCH(K3,Parametrage!$J:$J,0)),"") | P3: =IFERROR(INDEX(Parametrage!$G:$G,MATCH(K3,Parametrage!$H:$H,0)),"") | Q3: =IFERROR(INDEX(Parametrage!$K:$K,MATCH(K3,Parametrage!$L:$L,0)),"") | T3: Vacances toussaint | U3: 42
A4: =IFERROR(_xlfn.ISOWEEKNUM(B4),"") -> 35 | B4: =IF(B3<>"", IF(MONTH(B3+1)=MONTH($B$3), B3+1, ""),"") -> 45171 | C4: =+IFERROR(INDEX(#REF!,MATCH(B4,#REF!,0)),"") | D4: =IFERROR(INDEX(Parametrage!A:A,MATCH(A4,Parametrage!C:C,0)),"") | E4: =IFERROR(INDEX(Parametrage!D:D,MATCH(B4,Parametrage!F:F,0)),"") | F4: =IFERROR(INDEX(Parametrage!I:I,MATCH(B4,Parametrage!J:J,0)),"") | G4: =IFERROR(INDEX(Parametrage!G:G,MATCH(B4,Parametrage!H:H,0)),"") | H4: =IFERROR(INDEX(Parametrage!K:K,MATCH(B4,Parametrage!L:L,0)),"") | J4: =IFERROR(_xlfn.ISOWEEKNUM(K4),"") -> 40 | K4: =IF(K3<>"", IF(MONTH(K3+1)=MONTH($K$3), K3+1, ""),"") -> 45201 | L4: =+IFERROR(INDEX(#REF!,MATCH(K4,#REF!,0)),"") | M4: =IFERROR(INDEX(Parametrage!A:A,MATCH(J4,Parametrage!C:C,0)),"") | N4: =IFERROR(INDEX(Parametrage!D:D,MATCH(K4,Parametrage!F:F,0)),"") | O4: =IFERROR(INDEX(Parametrage!I:I,MATCH(K4,Parametrage!J:J,0)),"") | P4: =IFERROR(INDEX(Parametrage!G:G,MATCH(K4,Parametrage!H:H,0)),"") | Q4: =IFERROR(INDEX(Parametrage!K:K,MATCH(K4,Parametrage!L:L,0)),"") | U4: 43
A5: =IFERROR(_xlfn.ISOWEEKNUM(B5),"") -> 35 | B5: =IF(B4<>"", IF(MONTH(B4+1)=MONTH($B$3), B4+1, ""),"") -> 45172 | C5: =+IFERROR(INDEX(#REF!,MATCH(B5,#REF!,0)),"") | D5: =IFERROR(INDEX(Parametrage!A:A,MATCH(A5,Parametrage!C:C,0)),"") | E5: =IFERROR(INDEX(Parametrage!D:D,MATCH(B5,Parametrage!F:F,0)),"") | F5: =IFERROR(INDEX(Parametrage!I:I,MATCH(B5,Parametrage!J:J,0)),"") | G5: =IFERROR(INDEX(Parametrage!G:G,MATCH(B5,Parametrage!H:H,0)),"") | H5: =IFERROR(INDEX(Parametrage!K:K,MATCH(B5,Parametrage!L:L,0)),"") | J5: =IFERROR(_xlfn.ISOWEEKNUM(K5),"") -> 40 | K5: =IF(K4<>"", IF(MONTH(K4+1)=MONTH($K$3), K4+1, ""),"") -> 45202 | L5: =+IFERROR(INDEX(#REF!,MATCH(K5,#REF!,0)),"") | M5: =IFERROR(INDEX(Parametrage!A:A,MATCH(J5,Parametrage!C:C,0)),"") | N5: =IFERROR(INDEX(Parametrage!D:D,MATCH(K5,Parametrage!F:F,0)),"") | O5: =IFERROR(INDEX(Parametrage!I:I,MATCH(K5,Parametrage!J:J,0)),"") | P5: =IFERROR(INDEX(Parametrage!G:G,MATCH(K5,Parametrage!H:H,0)),"") | Q5: =IFERROR(INDEX(Parametrage!K:K,MATCH(K5,Parametrage!L:L,0)),"")
A6: =IFERROR(_xlfn.ISOWEEKNUM(B6),"") -> 36 | B6: =IF(B5<>"", IF(MONTH(B5+1)=MONTH($B$3), B5+1, ""),"") -> 45173 | C6: =+IFERROR(INDEX(#REF!,MATCH(B6,#REF!,0)),"") | D6: =IFERROR(INDEX(Parametrage!A:A,MATCH(A6,Parametrage!C:C,0)),"") | E6: =IFERROR(INDEX(Parametrage!D:D,MATCH(B6,Parametrage!F:F,0)),"") | F6: =IFERROR(INDEX(Parametrage!I:I,MATCH(B6,Parametrage!J:J,0)),"") | G6: =IFERROR(INDEX(Parametrage!G:G,MATCH(B6,Parametrage!H:H,0)),"") | H6: =IFERROR(INDEX(Parametrage!K:K,MATCH(B6,Parametrage!L:L,0)),"") | J6: =IFERROR(_xlfn.ISOWEEKNUM(K6),"") -> 40 | K6: =IF(K5<>"", IF(MONTH(K5+1)=MONTH($K$3), K5+1, ""),"") -> 45203 | L6: =+IFERROR(INDEX(#REF!,MATCH(K6,#REF!,0)),"") | M6: =IFERROR(INDEX(Parametrage!A:A,MATCH(J6,Parametrage!C:C,0)),"") | N6: =IFERROR(INDEX(Parametrage!D:D,MATCH(K6,Parametrage!F:F,0)),"") | O6: =IFERROR(INDEX(Parametrage!I:I,MATCH(K6,Parametrage!J:J,0)),"") | P6: =IFERROR(INDEX(Parametrage!G:G,MATCH(K6,Parametrage!H:H,0)),"") | Q6: =IFERROR(INDEX(Parametrage!K:K,MATCH(K6,Parametrage!L:L,0)),"")
A7: =IFERROR(_xlfn.ISOWEEKNUM(B7),"") -> 36 | B7: =IF(B6<>"", IF(MONTH(B6+1)=MONTH($B$3), B6+1, ""),"") -> 45174 | C7: =+IFERROR(INDEX(#REF!,MATCH(B7,#REF!,0)),"") | D7: =IFERROR(INDEX(Parametrage!A:A,MATCH(A7,Parametrage!C:C,0)),"") | E7: =IFERROR(INDEX(Parametrage!D:D,MATCH(B7,Parametrage!F:F,0)),"") | F7: =IFERROR(INDEX(Parametrage!I:I,MATCH(B7,Parametrage!J:J,0)),"") | G7: =IFERROR(INDEX(Parametrage!G:G,MATCH(B7,Parametrage!H:H,0)),"") | H7: =IFERROR(INDEX(Parametrage!K:K,MATCH(B7,Parametrage!L:L,0)),"") | J7: =IFERROR(_xlfn.ISOWEEKNUM(K7),"") -> 40 | K7: =IF(K6<>"", IF(MONTH(K6+1)=MONTH($K$3), K6+1, ""),"") -> 45204 | L7: =+IFERROR(INDEX(#REF!,MATCH(K7,#REF!,0)),"") | M7: =IFERROR(INDEX(Parametrage!A:A,MATCH(J7,Parametrage!C:C,0)),"") | N7: =IFERROR(INDEX(Parametrage!D:D,MATCH(K7,Parametrage!F:F,0)),"") | O7: =IFERROR(INDEX(Parametrage!I:I,MATCH(K7,Parametrage!J:J,0)),"") | P7: =IFERROR(INDEX(Parametrage!G:G,MATCH(K7,Parametrage!H:H,0)),"") | Q7: =IFERROR(INDEX(Parametrage!K:K,MATCH(K7,Parametrage!L:L,0)),"")
A8: =IFERROR(_xlfn.ISOWEEKNUM(B8),"") -> 36 | B8: =IF(B7<>"", IF(MONTH(B7+1)=MONTH($B$3), B7+1, ""),"") -> 45175 | C8: =+IFERROR(INDEX(#REF!,MATCH(B8,#REF!,0)),"") | D8: =IFERROR(INDEX(Parametrage!A:A,MATCH(A8,Parametrage!C:C,0)),"") | E8: =IFERROR(INDEX(Parametrage!D:D,MATCH(B8,Parametrage!F:F,0)),"") | F8: =IFERROR(INDEX(Parametrage!I:I,MATCH(B8,Parametrage!J:J,0)),"") | G8: =IFERROR(INDEX(Parametrage!G:G,MATCH(B8,Parametrage!H:H,0)),"") | H8: =IFERROR(INDEX(Parametrage!K:K,MATCH(B8,Parametrage!L:L,0)),"") | J8: =IFERROR(_xlfn.ISOWEEKNUM(K8),"") -> 40 | K8: =IF(K7<>"", IF(MONTH(K7+1)=MONTH($K$3), K7+1, ""),"") -> 45205 | L8: =+IFERROR(INDEX(#REF!,MATCH(K8,#REF!,0)),"") | M8: =IFERROR(INDEX(Parametrage!A:A,MATCH(J8,Parametrage!C:C,0)),"") | N8: =IFERROR(INDEX(Parametrage!D:D,MATCH(K8,Parametrage!F:F,0)),"") | O8: =IFERROR(INDEX(Parametrage!I:I,MATCH(K8,Parametrage!J:J,0)),"") | P8: =IFERROR(INDEX(Parametrage!G:G,MATCH(K8,Parametrage!H:H,0)),"") | Q8: =IFERROR(INDEX(Parametrage!K:K,MATCH(K8,Parametrage!L:L,0)),"")
A9: =IFERROR(_xlfn.ISOWEEKNUM(B9),"") -> 36 | B9: =IF(B8<>"", IF(MONTH(B8+1)=MONTH($B$3), B8+1, ""),"") -> 45176 | C9: =+IFERROR(INDEX(#REF!,MATCH(B9,#REF!,0)),"") | D9: =IFERROR(INDEX(Parametrage!A:A,MATCH(A9,Parametrage!C:C,0)),"") | E9: =IFERROR(INDEX(Parametrage!D:D,MATCH(B9,Parametrage!F:F,0)),"") | F9: =IFERROR(INDEX(Parametrage!I:I,MATCH(B9,Parametrage!J:J,0)),"") | G9: =IFERROR(INDEX(Parametrage!G:G,MATCH(B9,Parametrage!H:H,0)),"") | H9: =IFERROR(INDEX(Parametrage!K:K,MATCH(B9,Parametrage!L:L,0)),"") | J9: =IFERROR(_xlfn.ISOWEEKNUM(K9),"") -> 40 | K9: =IF(K8<>"", IF(MONTH(K8+1)=MONTH($K$3), K8+1, ""),"") -> 45206 | L9: =+IFERROR(INDEX(#REF!,MATCH(K9,#REF!,0)),"") | M9: =IFERROR(INDEX(Parametrage!A:A,MATCH(J9,Parametrage!C:C,0)),"") | N9: =IFERROR(INDEX(Parametrage!D:D,MATCH(K9,Parametrage!F:F,0)),"") | O9: =IFERROR(INDEX(Parametrage!I:I,MATCH(K9,Parametrage!J:J,0)),"") | P9: =IFERROR(INDEX(Parametrage!G:G,MATCH(K9,Parametrage!H:H,0)),"") | Q9: =IFERROR(INDEX(Parametrage!K:K,MATCH(K9,Parametrage!L:L,0)),"")
A10: =IFERROR(_xlfn.ISOWEEKNUM(B10),"") -> 36 | B10: =IF(B9<>"", IF(MONTH(B9+1)=MONTH($B$3), B9+1, ""),"") -> 45177 | C10: =+IFERROR(INDEX(#REF!,MATCH(B10,#REF!,0)),"") | D10: =IFERROR(INDEX(Parametrage!A:A,MATCH(A10,Parametrage!C:C,0)),"") | E10: =IFERROR(INDEX(Parametrage!D:D,MATCH(B10,Parametrage!F:F,0)),"") | F10: =IFERROR(INDEX(Parametrage!I:I,MATCH(B10,Parametrage!J:J,0)),"") | G10: =IFERROR(INDEX(Parametrage!G:G,MATCH(B10,Parametrage!H:H,0)),"") | H10: =IFERROR(INDEX(Parametrage!K:K,MATCH(B10,Parametrage!L:L,0)),"") | J10: =IFERROR(_xlfn.ISOWEEKNUM(K10),"") -> 40 | K10: =IF(K9<>"", IF(MONTH(K9+1)=MONTH($K$3), K9+1, ""),"") -> 45207 | L10: =+IFERROR(INDEX(#REF!,MATCH(K10,#REF!,0)),"") | M10: =IFERROR(INDEX(Parametrage!A:A,MATCH(J10,Parametrage!C:C,0)),"") | N10: =IFERROR(INDEX(Parametrage!D:D,MATCH(K10,Parametrage!F:F,0)),"") | O10: =IFERROR(INDEX(Parametrage!I:I,MATCH(K10,Parametrage!J:J,0)),"") | P10: =IFERROR(INDEX(Parametrage!G:G,MATCH(K10,Parametrage!H:H,0)),"") | Q10: =IFERROR(INDEX(Parametrage!K:K,MATCH(K10,Parametrage!L:L,0)),"")
A11: =IFERROR(_xlfn.ISOWEEKNUM(B11),"") -> 36 | B11: =IF(B10<>"", IF(MONTH(B10+1)=MONTH($B$3), B10+1, ""),"") -> 45178 | C11: =+IFERROR(INDEX(#REF!,MATCH(B11,#REF!,0)),"") | D11: =IFERROR(INDEX(Parametrage!A:A,MATCH(A11,Parametrage!C:C,0)),"") | E11: =IFERROR(INDEX(Parametrage!D:D,MATCH(B11,Parametrage!F:F,0)),"") | F11: =IFERROR(INDEX(Parametrage!I:I,MATCH(B11,Parametrage!J:J,0)),"") | G11: =IFERROR(INDEX(Parametrage!G:G,MATCH(B11,Parametrage!H:H,0)),"") | H11: =IFERROR(INDEX(Parametrage!K:K,MATCH(B11,Parametrage!L:L,0)),"") | J11: =IFERROR(_xlfn.ISOWEEKNUM(K11),"") -> 41 | K11: =IF(K10<>"", IF(MONTH(K10+1)=MONTH($K$3), K10+1, ""),"") -> 45208 | L11: =+IFERROR(INDEX(#REF!,MATCH(K11,#REF!,0)),"") | M11: =IFERROR(INDEX(Parametrage!A:A,MATCH(J11,Parametrage!C:C,0)),"") | N11: =IFERROR(INDEX(Parametrage!D:D,MATCH(K11,Parametrage!F:F,0)),"") | O11: =IFERROR(INDEX(Parametrage!I:I,MATCH(K11,Parametrage!J:J,0)),"") | P11: =IFERROR(INDEX(Parametrage!G:G,MATCH(K11,Parametrage!H:H,0)),"") | Q11: =IFERROR(INDEX(Parametrage!K:K,MATCH(K11,Parametrage!L:L,0)),"")
A12: =IFERROR(_xlfn.ISOWEEKNUM(B12),"") -> 36 | B12: =IF(B11<>"", IF(MONTH(B11+1)=MONTH($B$3), B11+1, ""),"") -> 45179 | C12: =+IFERROR(INDEX(#REF!,MATCH(B12,#REF!,0)),"") | D12: =IFERROR(INDEX(Parametrage!A:A,MATCH(A12,Parametrage!C:C,0)),"") | E12: =IFERROR(INDEX(Parametrage!D:D,MATCH(B12,Parametrage!F:F,0)),"") | F12: =IFERROR(INDEX(Parametrage!I:I,MATCH(B12,Parametrage!J:J,0)),"") | G12: =IFERROR(INDEX(Parametrage!G:G,MATCH(B12,Parametrage!H:H,0)),"") | H12: =IFERROR(INDEX(Parametrage!K:K,MATCH(B12,Parametrage!L:L,0)),"") | J12: =IFERROR(_xlfn.ISOWEEKNUM(K12),"") -> 41 | K12: =IF(K11<>"", IF(MONTH(K11+1)=MONTH($K$3), K11+1, ""),"") -> 45209 | L12: =+IFERROR(INDEX(#REF!,MATCH(K12,#REF!,0)),"") | M12: =IFERROR(INDEX(Parametrage!A:A,MATCH(J12,Parametrage!C:C,0)),"") | N12: =IFERROR(INDEX(Parametrage!D:D,MATCH(K12,Parametrage!F:F,0)),"") | O12: =IFERROR(INDEX(Parametrage!I:I,MATCH(K12,Parametrage!J:J,0)),"") | P12: =IFERROR(INDEX(Parametrage!G:G,MATCH(K12,Parametrage!H:H,0)),"") | Q12: =IFERROR(INDEX(Parametrage!K:K,MATCH(K12,Parametrage!L:L,0)),"")
A13: =IFERROR(_xlfn.ISOWEEKNUM(B13),"") -> 37 | B13: =IF(B12<>"", IF(MONTH(B12+1)=MONTH($B$3), B12+1, ""),"") -> 45180 | C13: =+IFERROR(INDEX(#REF!,MATCH(B13,#REF!,0)),"") | D13: =IFERROR(INDEX(Parametrage!A:A,MATCH(A13,Parametrage!C:C,0)),"") | E13: =IFERROR(INDEX(Parametrage!D:D,MATCH(B13,Parametrage!F:F,0)),"") | F13: =IFERROR(INDEX(Parametrage!I:I,MATCH(B13,Parametrage!J:J,0)),"") | G13: =IFERROR(INDEX(Parametrage!G:G,MATCH(B13,Parametrage!H:H,0)),"") | H13: =IFERROR(INDEX(Parametrage!K:K,MATCH(B13,Parametrage!L:L,0)),"") | J13: =IFERROR(_xlfn.ISOWEEKNUM(K13),"") -> 41 | K13: =IF(K12<>"", IF(MONTH(K12+1)=MONTH($K$3), K12+1, ""),"") -> 45210 | L13: =+IFERROR(INDEX(#REF!,MATCH(K13,#REF!,0)),"") | M13: =IFERROR(INDEX(Parametrage!A:A,MATCH(J13,Parametrage!C:C,0)),"") | N13: =IFERROR(INDEX(Parametrage!D:D,MATCH(K13,Parametrage!F:F,0)),"") | O13: =IFERROR(INDEX(Parametrage!I:I,MATCH(K13,Parametrage!J:J,0)),"") | P13: =IFERROR(INDEX(Parametrage!G:G,MATCH(K13,Parametrage!H:H,0)),"") | Q13: =IFERROR(INDEX(Parametrage!K:K,MATCH(K13,Parametrage!L:L,0)),"")
A14: =IFERROR(_xlfn.ISOWEEKNUM(B14),"") -> 37 | B14: =IF(B13<>"", IF(MONTH(B13+1)=MONTH($B$3), B13+1, ""),"") -> 45181 | C14: =+IFERROR(INDEX(#REF!,MATCH(B14,#REF!,0)),"") | D14: =IFERROR(INDEX(Parametrage!A:A,MATCH(A14,Parametrage!C:C,0)),"") | E14: =IFERROR(INDEX(Parametrage!D:D,MATCH(B14,Parametrage!F:F,0)),"") | F14: =IFERROR(INDEX(Parametrage!I:I,MATCH(B14,Parametrage!J:J,0)),"") | G14: =IFERROR(INDEX(Parametrage!G:G,MATCH(B14,Parametrage!H:H,0)),"") | H14: =IFERROR(INDEX(Parametrage!K:K,MATCH(B14,Parametrage!L:L,0)),"") | J14: =IFERROR(_xlfn.ISOWEEKNUM(K14),"") -> 41 | K14: =IF(K13<>"", IF(MONTH(K13+1)=MONTH($K$3), K13+1, ""),"") -> 45211 | L14: =+IFERROR(INDEX(#REF!,MATCH(K14,#REF!,0)),"") | M14: =IFERROR(INDEX(Parametrage!A:A,MATCH(J14,Parametrage!C:C,0)),"") | N14: =IFERROR(INDEX(Parametrage!D:D,MATCH(K14,Parametrage!F:F,0)),"") | O14: =IFERROR(INDEX(Parametrage!I:I,MATCH(K14,Parametrage!J:J,0)),"") | P14: =IFERROR(INDEX(Parametrage!G:G,MATCH(K14,Parametrage!H:H,0)),"") | Q14: =IFERROR(INDEX(Parametrage!K:K,MATCH(K14,Parametrage!L:L,0)),"")
A15: =IFERROR(_xlfn.ISOWEEKNUM(B15),"") -> 37 | B15: =IF(B14<>"", IF(MONTH(B14+1)=MONTH($B$3), B14+1, ""),"") -> 45182 | C15: =+IFERROR(INDEX(#REF!,MATCH(B15,#REF!,0)),"") | D15: =IFERROR(INDEX(Parametrage!A:A,MATCH(A15,Parametrage!C:C,0)),"") | E15: =IFERROR(INDEX(Parametrage!D:D,MATCH(B15,Parametrage!F:F,0)),"") | F15: =IFERROR(INDEX(Parametrage!I:I,MATCH(B15,Parametrage!J:J,0)),"") | G15: =IFERROR(INDEX(Parametrage!G:G,MATCH(B15,Parametrage!H:H,0)),"") | H15: =IFERROR(INDEX(Parametrage!K:K,MATCH(B15,Parametrage!L:L,0)),"") | J15: =IFERROR(_xlfn.ISOWEEKNUM(K15),"") -> 41 | K15: =IF(K14<>"", IF(MONTH(K14+1)=MONTH($K$3), K14+1, ""),"") -> 45212 | L15: =+IFERROR(INDEX(#REF!,MATCH(K15,#REF!,0)),"") | M15: =IFERROR(INDEX(Parametrage!A:A,MATCH(J15,Parametrage!C:C,0)),"") | N15: =IFERROR(INDEX(Parametrage!D:D,MATCH(K15,Parametrage!F:F,0)),"") | O15: =IFERROR(INDEX(Parametrage!I:I,MATCH(K15,Parametrage!J:J,0)),"") | P15: =IFERROR(INDEX(Parametrage!G:G,MATCH(K15,Parametrage!H:H,0)),"") | Q15: =IFERROR(INDEX(Parametrage!K:K,MATCH(K15,Parametrage!L:L,0)),"")
A16: =IFERROR(_xlfn.ISOWEEKNUM(B16),"") -> 37 | B16: =IF(B15<>"", IF(MONTH(B15+1)=MONTH($B$3), B15+1, ""),"") -> 45183 | C16: =+IFERROR(INDEX(#REF!,MATCH(B16,#REF!,0)),"") | D16: =IFERROR(INDEX(Parametrage!A:A,MATCH(A16,Parametrage!C:C,0)),"") | E16: =IFERROR(INDEX(Parametrage!D:D,MATCH(B16,Parametrage!F:F,0)),"") | F16: =IFERROR(INDEX(Parametrage!I:I,MATCH(B16,Parametrage!J:J,0)),"") | G16: =IFERROR(INDEX(Parametrage!G:G,MATCH(B16,Parametrage!H:H,0)),"") | H16: =IFERROR(INDEX(Parametrage!K:K,MATCH(B16,Parametrage!L:L,0)),"") | J16: =IFERROR(_xlfn.ISOWEEKNUM(K16),"") -> 41 | K16: =IF(K15<>"", IF(MONTH(K15+1)=MONTH($K$3), K15+1, ""),"") -> 45213 | L16: =+IFERROR(INDEX(#REF!,MATCH(K16,#REF!,0)),"") | M16: =IFERROR(INDEX(Parametrage!A:A,MATCH(J16,Parametrage!C:C,0)),"") | N16: =IFERROR(INDEX(Parametrage!D:D,MATCH(K16,Parametrage!F:F,0)),"") | O16: =IFERROR(INDEX(Parametrage!I:I,MATCH(K16,Parametrage!J:J,0)),"") | P16: =IFERROR(INDEX(Parametrage!G:G,MATCH(K16,Parametrage!H:H,0)),"") | Q16: =IFERROR(INDEX(Parametrage!K:K,MATCH(K16,Parametrage!L:L,0)),"")
... A32: =IFERROR(_xlfn.ISOWEEKNUM(B32),"") -> 39 | B32: =IF(B31<>"", IF(MONTH(B31+1)=MONTH($B$3), B31+1, ""),"") -> 45199 | C32: =+IFERROR(INDEX(#REF!,MATCH(B32,#REF!,0)),"") | D32: =IFERROR(INDEX(Parametrage!A:A,MATCH(A32,Parametrage!C:C,0)),"") | E32: =IFERROR(INDEX(Parametrage!D:D,MATCH(B32,Parametrage!F:F,0)),"") | F32: =IFERROR(INDEX(Parametrage!I:I,MATCH(B32,Parametrage!J:J,0)),"") | G32: =IFERROR(INDEX(Parametrage!G:G,MATCH(B32,Parametrage!H:H,0)),"") | H32: =IFERROR(INDEX(Parametrage!K:K,MATCH(B32,Parametrage!L:L,0)),"") | J32: =IFERROR(_xlfn.ISOWEEKNUM(K32),"") -> 44 | K32: =IF(K31<>"", IF(MONTH(K31+1)=MONTH($K$3), K31+1, ""),"") -> 45229 | L32: =+IFERROR(INDEX(#REF!,MATCH(K32,#REF!,0)),"") | M32: =IFERROR(INDEX(Parametrage!A:A,MATCH(J32,Parametrage!C:C,0)),"") | N32: =IFERROR(INDEX(Parametrage!D:D,MATCH(K32,Parametrage!F:F,0)),"") | O32: =IFERROR(INDEX(Parametrage!I:I,MATCH(K32,Parametrage!J:J,0)),"") | P32: =IFERROR(INDEX(Parametrage!G:G,MATCH(K32,Parametrage!H:H,0)),"") | Q32: =IFERROR(INDEX(Parametrage!K:K,MATCH(K32,Parametrage!L:L,0)),"")
A33: =IFERROR(_xlfn.ISOWEEKNUM(B33),"") | B33: =IF(B32<>"", IF(MONTH(B32+1)=MONTH($B$3), B32+1, ""),"") | C33: =+IFERROR(INDEX(#REF!,MATCH(B33,#REF!,0)),"") | E33: =IFERROR(INDEX(Parametrage!D:D,MATCH(B33,Parametrage!F:F,0)),"") | F33: =IFERROR(INDEX(Parametrage!I:I,MATCH(B33,Parametrage!J:J,0)),"") | G33: =IFERROR(INDEX(Parametrage!G:G,MATCH(B33,Parametrage!H:H,0)),"") | H33: =IFERROR(INDEX(Parametrage!K:K,MATCH(B33,Parametrage!L:L,0)),"") | J33: =IFERROR(_xlfn.ISOWEEKNUM(K33),"") -> 44 | K33: =IF(K32<>"", IF(MONTH(K32+1)=MONTH($K$3), K32+1, ""),"") -> 45230 | L33: =+IFERROR(INDEX(#REF!,MATCH(K33,#REF!,0)),"") | M33: =IFERROR(INDEX(Parametrage!A:A,MATCH(J33,Parametrage!C:C,0)),"") | N33: =IFERROR(INDEX(Parametrage!D:D,MATCH(K33,Parametrage!F:F,0)),"") | O33: =IFERROR(INDEX(Parametrage!I:I,MATCH(K33,Parametrage!J:J,0)),"") | P33: =IFERROR(INDEX(Parametrage!G:G,MATCH(K33,Parametrage!H:H,0)),"") | Q33: =IFERROR(INDEX(Parametrage!K:K,MATCH(K33,Parametrage!L:L,0)),"")
