Workbook

Sheet QTE produit
A1: Date | B1: Bon de travail | C1: ITMNB | D1: Emp. No. | E1: JOURS | F1: MOIS | G1: ANNÉE | H1: Heures
A2: 43468.336 | B2: 520821 | C2: A | D2: 2231 | E2: =TEXT(A2,"jj") -> 03 | F2: =TEXT(A2,"mmmm") -> janvier | G2: =TEXT(A2,"AAAA") -> 2019 | H2: =TEXT(A2,"HH:MM") -> 08:04
A3: 43468.336 | B3: 520822 | C3: B | D3: 2231 | E3: =TEXT(A3,"jj") -> 03 | F3: =TEXT(A3,"mmmm") -> janvier | G3: =TEXT(A3,"AAAA") -> 2019 | H3: =TEXT(A3,"HH:MM") -> 08:04
A4: 43468.336 | B4: 520823 | C4: C | D4: 2231 | E4: =TEXT(A4,"jj") -> 03 | F4: =TEXT(A4,"mmmm") -> janvier | G4: =TEXT(A4,"AAAA") -> 2019 | H4: =TEXT(A4,"HH:MM") -> 08:04
A5: 43468.337 | B5: 520824 | C5: D | D5: 2231 | E5: =TEXT(A5,"jj") -> 03 | F5: =TEXT(A5,"mmmm") -> janvier | G5: =TEXT(A5,"AAAA") -> 2019 | H5: =TEXT(A5,"HH:MM") -> 08:04
A6: 43468.337 | B6: 520825 | C6: A | D6: 2231 | E6: =TEXT(A6,"jj") -> 03 | F6: =TEXT(A6,"mmmm") -> janvier | G6: =TEXT(A6,"AAAA") -> 2019 | H6: =TEXT(A6,"HH:MM") -> 08:04
A7: 43468.337 | B7: 520826 | C7: D | D7: 2231 | E7: =TEXT(A7,"jj") -> 03 | F7: =TEXT(A7,"mmmm") -> janvier | G7: =TEXT(A7,"AAAA") -> 2019 | H7: =TEXT(A7,"HH:MM") -> 08:04
A8: 43468.337 | B8: 520827 | C8: A | D8: 2231 | E8: =TEXT(A8,"jj") -> 03 | F8: =TEXT(A8,"mmmm") -> janvier | G8: =TEXT(A8,"AAAA") -> 2019 | H8: =TEXT(A8,"HH:MM") -> 08:05
A9: 43468.337 | B9: 520828 | C9: B | D9: 2231 | E9: =TEXT(A9,"jj") -> 03 | F9: =TEXT(A9,"mmmm") -> janvier | G9: =TEXT(A9,"AAAA") -> 2019 | H9: =TEXT(A9,"HH:MM") -> 08:05
A10: 43468.337 | B10: 520829 | C10: A | D10: 2231 | E10: =TEXT(A10,"jj") -> 03 | F10: =TEXT(A10,"mmmm") -> janvier | G10: =TEXT(A10,"AAAA") -> 2019 | H10: =TEXT(A10,"HH:MM") -> 08:05
A11: 43468.337 | B11: 520830 | C11: B | D11: 2231 | E11: =TEXT(A11,"jj") -> 03 | F11: =TEXT(A11,"mmmm") -> janvier | G11: =TEXT(A11,"AAAA") -> 2019 | H11: =TEXT(A11,"HH:MM") -> 08:05
A12: 43468.337 | B12: 520831 | C12: C | D12: 2231 | E12: =TEXT(A12,"jj") -> 03 | F12: =TEXT(A12,"mmmm") -> janvier | G12: =TEXT(A12,"AAAA") -> 2019 | H12: =TEXT(A12,"HH:MM") -> 08:05
A13: 43468.337 | B13: 520832 | C13: D | D13: 2231 | E13: =TEXT(A13,"jj") -> 03 | F13: =TEXT(A13,"mmmm") -> janvier | G13: =TEXT(A13,"AAAA") -> 2019 | H13: =TEXT(A13,"HH:MM") -> 08:05
... A24: 43468.339 | B24: 520843 | C24: A | D24: 2231 | E24: =TEXT(A24,"jj") -> 03 | F24: =TEXT(A24,"mmmm") -> janvier | G24: =TEXT(A24,"AAAA") -> 2019 | H24: =TEXT(A24,"HH:MM") -> 08:07

Sheet INSPECTION
A1: Date | B1: ITMNB | C1: ProblèmeQC | D1: Employe ID | E1: JOURS | F1: MOIS | G1: ANNÉE | H1: Heures
A2: 43468.342 | B2: C | C2: DÉFORMATION | D2: 2310 | E2: =TEXT(A2,"jj") -> 03 | F2: =TEXT(A2,"mmmm") -> janvier | G2: =TEXT(A2,"AAAA") -> 2019 | H2: =TEXT(A2,"HH:MM") -> 08:11
A3: 43468.343 | B3: B | C3: BRIS | D3: 2232 | E3: =TEXT(A3,"jj") -> 03 | F3: =TEXT(A3,"mmmm") -> janvier | G3: =TEXT(A3,"AAAA") -> 2019 | H3: =TEXT(A3,"HH:MM") -> 08:14
A4: 43468.343 | B4: A | C4: DÉFORMATION | D4: 2232 | E4: =TEXT(A4,"jj") -> 03 | F4: =TEXT(A4,"mmmm") -> janvier | G4: =TEXT(A4,"AAAA") -> 2019 | H4: =TEXT(A4,"HH:MM") -> 08:14
A5: 43468.343 | B5: D | C5: DÉLAMINÉ | D5: 2232 | E5: =TEXT(A5,"jj") -> 03 | F5: =TEXT(A5,"mmmm") -> janvier | G5: =TEXT(A5,"AAAA") -> 2019 | H5: =TEXT(A5,"HH:MM") -> 08:14
A6: 43468.371 | B6: B | C6: BRIS | D6: 2237 | E6: =TEXT(A6,"jj") -> 03 | F6: =TEXT(A6,"mmmm") -> janvier | G6: =TEXT(A6,"AAAA") -> 2019 | H6: =TEXT(A6,"HH:MM") -> 08:54
A7: 43468.371 | B7: A | C7: BRIS | D7: 2237 | E7: =TEXT(A7,"jj") -> 03 | F7: =TEXT(A7,"mmmm") -> janvier | G7: =TEXT(A7,"AAAA") -> 2019 | H7: =TEXT(A7,"HH:MM") -> 08:54
A8: 43468.373 | B8: A | C8: DÉFORMATION | D8: 2237 | E8: =TEXT(A8,"jj") -> 03 | F8: =TEXT(A8,"mmmm") -> janvier | G8: =TEXT(A8,"AAAA") -> 2019 | H8: =TEXT(A8,"HH:MM") -> 08:57
A9: 43468.375 | B9: B | C9: DÉFORMATION | D9: 2237 | E9: =TEXT(A9,"jj") -> 03 | F9: =TEXT(A9,"mmmm") -> janvier | G9: =TEXT(A9,"AAAA") -> 2019 | H9: =TEXT(A9,"HH:MM") -> 09:00
A10: 43468.375 | B10: C | C10: BRIS | D10: 2237 | E10: =TEXT(A10,"jj") -> 03 | F10: =TEXT(A10,"mmmm") -> janvier | G10: =TEXT(A10,"AAAA") -> 2019 | H10: =TEXT(A10,"HH:MM") -> 09:00
A11: 43468.377 | B11: C | C11: DÉLAMINÉ | D11: 2237 | E11: =TEXT(A11,"jj") -> 03 | F11: =TEXT(A11,"mmmm") -> janvier | G11: =TEXT(A11,"AAAA") -> 2019 | H11: =TEXT(A11,"HH:MM") -> 09:03
A12: 43468.377 | B12: D | C12: BRIS | D12: 2237 | E12: =TEXT(A12,"jj") -> 03 | F12: =TEXT(A12,"mmmm") -> janvier | G12: =TEXT(A12,"AAAA") -> 2019 | H12: =TEXT(A12,"HH:MM") -> 09:03
A13: 43468.396 | B13: B | C13: DÉFORMATION | D13: 2237 | E13: =TEXT(A13,"jj") -> 03 | F13: =TEXT(A13,"mmmm") -> janvier | G13: =TEXT(A13,"AAAA") -> 2019 | H13: =TEXT(A13,"HH:MM") -> 09:30
... A21: 43468.407 | B21: A | C21: DÉLAMINÉ | D21: 2237 | E21: =TEXT(A21,"jj") -> 03 | F21: =TEXT(A21,"mmmm") -> janvier | G21: =TEXT(A21,"AAAA") -> 2019 | H21: =TEXT(A21,"HH:MM") -> 09:46

Sheet Croisé D. produit
A1: ANNÉE | B1: (Tous)
A3: Nombre de ITMNB | B3: Étiquettes de colonnes
A4: Étiquettes de lignes | B4: 03 | C4: (vide) | D4: Total général
A5: A | B5: 9 | D5: 9
A6: B | B6: 5 | D6: 5
A7: C | B7: 3 | D7: 3
A8: D | B8: 6 | D8: 6
A9: (vide)
A10: Total général | B10: 23 | D10: 23

Sheet Croisé D.inspection
A1: Nombre de ITMNB | B1: Étiquettes de colonnes
A2: Étiquettes de lignes | B2: 03 | C2: (vide) | D2: Total général
A3: BRIS | B3: 9 | D3: 9
A4: A | B4: 1 | D4: 1
A5: B | B5: 3 | D5: 3
A6: C | B6: 3 | D6: 3
A7: D | B7: 2 | D7: 2
A8: DÉFORMATION | B8: 7 | D8: 7
A9: A | B9: 2 | D9: 2
A10: B | B10: 3 | D10: 3
A11: C | B11: 2 | D11: 2
A12: DÉLAMINÉ | B12: 4 | D12: 4
A13: A | B13: 1 | D13: 1
A14: B | B14: 1 | D14: 1
... A16: D | B16: 1 | D16: 1
A17: (vide)
A18: (vide)
A19: Total général | B19: 20 | D19: 20

Sheet Exemple 
B3: =INSPECTION!C1 -> ProblèmeQC | C3: BRIS | G3: DÉFORMATION | K3: DÉLAMINÉ
B4: DATE/ITMNB | C4: A | D4: B | E4: C | F4: D | G4: A | H4: B | I4: C | J4: D | K4: A | L4: B | M4: C | N4: D
B5: 43468 | C5: =GETPIVOTDATA("ITMNB",'Croisé D.inspection'!$A$1,"ITMNB","A","ProblèmeQC","BRIS","JOURS","03")/GETPIVOTDATA("ITMNB",'Croisé D. produit'!$A$3,"ITMNB","A","JOURS","03") -> 0.11111111 | D5: =GETPIVOTDATA("ITMNB",'Croisé D.inspection'!$A$1,"ITMNB","B","ProblèmeQC","BRIS","JOURS","03")/GETPIVOTDATA("ITMNB",'Croisé D. produit'!$A$3,"ITMNB","B","JOURS","03") -> 0.6 | E5: =GETPIVOTDATA("ITMNB",'Croisé D.inspection'!$A$1,"ITMNB","C","ProblèmeQC","BRIS","JOURS","03")/GETPIVOTDATA("ITMNB",'Croisé D. produit'!$A$3,"ITMNB","C","JOURS","03") -> 1 | F5: =GETPIVOTDATA("ITMNB",'Croisé D.inspection'!$A$1,"ITMNB","D","ProblèmeQC","BRIS","JOURS","03")/GETPIVOTDATA("ITMNB",'Croisé D. produit'!$A$3,"ITMNB","D","JOURS","03") -> 0.33333333 | G5: =GETPIVOTDATA("ITMNB",'Croisé D.inspection'!$A$1,"ITMNB","A","ProblèmeQC","DÉFORMATION","JOURS","03")/GETPIVOTDATA("ITMNB",'Croisé D. produit'!$A$3,"ITMNB","A","JOURS","03") -> 0.22222222 | H5: =GETPIVOTDATA("ITMNB",'Croisé D.inspection'!$A$1,"ITMNB","B","ProblèmeQC","DÉFORMATION","JOURS","03")/GETPIVOTDATA("ITMNB",'Croisé D. produit'!$A$3,"ITMNB","B","JOURS","03") -> 0.6 | I5: =GETPIVOTDATA("ITMNB",'Croisé D.inspection'!$A$1,"ITMNB","C","ProblèmeQC","DÉFORMATION","JOURS","03")/GETPIVOTDATA("ITMNB",'Croisé D. produit'!$A$3,"ITMNB","C","JOURS","03") -> 0.66666667 | K5: =GETPIVOTDATA("ITMNB",'Croisé D.inspection'!$A$1,"ITMNB","A","ProblèmeQC","DÉLAMINÉ","JOURS","03")/GETPIVOTDATA("ITMNB",'Croisé D. produit'!$A$3,"ITMNB","D","JOURS","03") -> 0.16666667 | L5: =GETPIVOTDATA("ITMNB",'Croisé D.inspection'!$A$1,"ITMNB","B","ProblèmeQC","DÉLAMINÉ","JOURS","03")/GETPIVOTDATA("ITMNB",'Croisé D. produit'!$A$3,"ITMNB","B","JOURS","03") -> 0.2 | M5: =GETPIVOTDATA("ITMNB",'Croisé D.inspection'!$A$1,"ITMNB","C","ProblèmeQC","DÉLAMINÉ","JOURS","03")/GETPIVOTDATA("ITMNB",'Croisé D. produit'!$A$3,"ITMNB","C","JOURS","03") -> 0.33333333 | N5: =GETPIVOTDATA("ITMNB",'Croisé D.inspection'!$A$1,"ITMNB","D","ProblèmeQC","DÉLAMINÉ","JOURS","03")/GETPIVOTDATA("ITMNB",'Croisé D. produit'!$A$3,"ITMNB","D","JOURS","03") -> 0.16666667
B6: 43469
B7: 43470
B8: 43471
B9: 43472
B10: 43473
B11: 43474
B12: 43475
B13: 43476
B14: 43477
B15: 43478
B16: 43479
B17: 43480
... B21: 43484
