Workbook
Name HORODATEUR: Tableau1[#All]

Sheet HORODATEUR
A1: RAPHAEL GIROUX
P3: =SUM(Tableau1[H]) -> #N/A | Q3: =SUM(Tableau1[$]) -> #N/A
A5: DATE | B5: JOUR | C5: POSTE | D5: SUCC. | E5: DÉBUT | F5: FIN | G5: HRS | H5: P | I5: R | J5: HRS2 | K5: PRIME REPAS | L5: CHARGE/JRS | M5: CHARGE3 | N5: S-TOT $/JOUR | O5: $/JOUR | P5: H | Q5: $
A6: 43870 | B6: =A6 -> 43870 | C6: CV | G6: =(Tableau1[[#This Row],[FIN]]-Tableau1[[#This Row],[DÉBUT]])*24 -> 0 | H6: =VLOOKUP(Tableau1[[#This Row],[HRS]],TABLEAUX!$A$2:$B$49,2,1) -> #N/A | I6: =VLOOKUP(Tableau1[[#This Row],[HRS]],TABLEAUX!$C$2:$D$49,2,1) -> #N/A | J6: =G6-I6 -> #N/A | K6: =IF(I6=2,12.65,0) -> #N/A | L6: =N6*7.45% -> #N/A | M6: =IF(WEEKDAY(Tableau1[[#This Row],[DATE]],2)<>7,"",SUMIFS(Tableau1[CHARGE/JRS],Tableau1[DATE],">="&Tableau1[[#This Row],[DATE]]-(WEEKDAY(Tableau1[[#This Row],[DATE]],1)-1),Tableau1[DATE],"<="&Tableau1[[#This Row],[DATE]]-(WEEKDAY(Tableau1[[#This Row],[DATE]],1)-7))) -> #N/A | N6: =(IF(C6="CV",OPTIONS!$C$2,IF(C6="COS",OPTIONS!$C$3,IF(C6="FORM",OPTIONS!$C$4,OPTIONS!$C$1))))*J6 -> #N/A | O6: =Tableau1[[#This Row],[S-TOT $/JOUR]]+Tableau1[[#This Row],[PRIME REPAS]] -> #N/A | P6: =IF(WEEKDAY(Tableau1[[#This Row],[DATE]],2)<>7,"",SUMIFS(Tableau1[HRS2],Tableau1[DATE],">="&Tableau1[[#This Row],[DATE]]-(WEEKDAY(Tableau1[[#This Row],[DATE]],1)-1),Tableau1[DATE],"<="&Tableau1[[#This Row],[DATE]]-(WEEKDAY(Tableau1[[#This Row],[DATE]],1)-7))) -> #N/A | Q6: =IF(WEEKDAY(Tableau1[[#This Row],[DATE]],2)<>7,"",SUMIFS(Tableau1[$/JOUR],Tableau1[DATE],">="&Tableau1[[#This Row],[DATE]]-(WEEKDAY(Tableau1[[#This Row],[DATE]],1)-1),Tableau1[DATE],"<="&Tableau1[[#This Row],[DATE]]-(WEEKDAY(Tableau1[[#This Row],[DATE]],1)-7)))+Tableau1[[#This Row],[CHARGE3]] -> #N/A
A7: 43871 | B7: =A7 -> 43871 | G7: =(Tableau1[[#This Row],[FIN]]-Tableau1[[#This Row],[DÉBUT]])*24 -> 0 | H7: =VLOOKUP(Tableau1[[#This Row],[HRS]],TABLEAUX!$A$2:$B$49,2,1) -> #N/A | I7: =VLOOKUP(Tableau1[[#This Row],[HRS]],TABLEAUX!$C$2:$D$49,2,1) -> #N/A | J7: =G7-I7 -> #N/A | K7: =IF(I7=2,12.65,0) -> #N/A | L7: =N7*7.45% -> #N/A | M7: =IF(WEEKDAY(Tableau1[[#This Row],[DATE]],2)<>7,"",SUMIFS(Tableau1[CHARGE/JRS],Tableau1[DATE],">="&Tableau1[[#This Row],[DATE]]-(WEEKDAY(Tableau1[[#This Row],[DATE]],1)-1),Tableau1[DATE],"<="&Tableau1[[#This Row],[DATE]]-(WEEKDAY(Tableau1[[#This Row],[DATE]],1)-7))) | N7: =(IF(C7="CV",OPTIONS!$C$2,IF(C7="COS",OPTIONS!$C$3,IF(C7="FORM",OPTIONS!$C$4,OPTIONS!$C$1))))*J7 -> #N/A | O7: =Tableau1[[#This Row],[S-TOT $/JOUR]]+Tableau1[[#This Row],[PRIME REPAS]] -> #N/A | P7: =IF(WEEKDAY(Tableau1[[#This Row],[DATE]],2)<>7,"",SUMIFS(Tableau1[HRS2],Tableau1[DATE],">="&Tableau1[[#This Row],[DATE]]-(WEEKDAY(Tableau1[[#This Row],[DATE]],1)-1),Tableau1[DATE],"<="&Tableau1[[#This Row],[DATE]]-(WEEKDAY(Tableau1[[#This Row],[DATE]],1)-7))) | Q7: =IF(WEEKDAY(Tableau1[[#This Row],[DATE]],2)<>7,"",SUMIFS(Tableau1[$/JOUR],Tableau1[DATE],">="&Tableau1[[#This Row],[DATE]]-(WEEKDAY(Tableau1[[#This Row],[DATE]],1)-1),Tableau1[DATE],"<="&Tableau1[[#This Row],[DATE]]-(WEEKDAY(Tableau1[[#This Row],[DATE]],1)-7)))
A8: 43872 | B8: =A8 -> 43872 | G8: =(Tableau1[[#This Row],[FIN]]-Tableau1[[#This Row],[DÉBUT]])*24 -> 0 | H8: =VLOOKUP(Tableau1[[#This Row],[HRS]],TABLEAUX!$A$2:$B$49,2,1) -> #N/A | I8: =VLOOKUP(Tableau1[[#This Row],[HRS]],TABLEAUX!$C$2:$D$49,2,1) -> #N/A | J8: =G8-I8 -> #N/A | K8: =IF(I8=2,12.65,0) -> #N/A | L8: =N8*7.45% -> #N/A | M8: =IF(WEEKDAY(Tableau1[[#This Row],[DATE]],2)<>7,"",SUMIFS(Tableau1[CHARGE/JRS],Tableau1[DATE],">="&Tableau1[[#This Row],[DATE]]-(WEEKDAY(Tableau1[[#This Row],[DATE]],1)-1),Tableau1[DATE],"<="&Tableau1[[#This Row],[DATE]]-(WEEKDAY(Tableau1[[#This Row],[DATE]],1)-7))) | N8: =(IF(C8="CV",OPTIONS!$C$2,IF(C8="COS",OPTIONS!$C$3,IF(C8="FORM",OPTIONS!$C$4,OPTIONS!$C$1))))*J8 -> #N/A | O8: =Tableau1[[#This Row],[S-TOT $/JOUR]]+Tableau1[[#This Row],[PRIME REPAS]] -> #N/A | P8: =IF(WEEKDAY(Tableau1[[#This Row],[DATE]],2)<>7,"",SUMIFS(Tableau1[HRS2],Tableau1[DATE],">="&Tableau1[[#This Row],[DATE]]-(WEEKDAY(Tableau1[[#This Row],[DATE]],1)-1),Tableau1[DATE],"<="&Tableau1[[#This Row],[DATE]]-(WEEKDAY(Tableau1[[#This Row],[DATE]],1)-7))) | Q8: =IF(WEEKDAY(Tableau1[[#This Row],[DATE]],2)<>7,"",SUMIFS(Tableau1[$/JOUR],Tableau1[DATE],">="&Tableau1[[#This Row],[DATE]]-(WEEKDAY(Tableau1[[#This Row],[DATE]],1)-1),Tableau1[DATE],"<="&Tableau1[[#This Row],[DATE]]-(WEEKDAY(Tableau1[[#This Row],[DATE]],1)-7)))
A9: 43873 | B9: =A9 -> 43873 | G9: =(Tableau1[[#This Row],[FIN]]-Tableau1[[#This Row],[DÉBUT]])*24 -> 0 | H9: =VLOOKUP(Tableau1[[#This Row],[HRS]],TABLEAUX!$A$2:$B$49,2,1) -> #N/A | I9: =VLOOKUP(Tableau1[[#This Row],[HRS]],TABLEAUX!$C$2:$D$49,2,1) -> #N/A | J9: =G9-I9 -> #N/A | K9: =IF(I9=2,12.65,0) -> #N/A | L9: =N9*7.45% -> #N/A | M9: =IF(WEEKDAY(Tableau1[[#This Row],[DATE]],2)<>7,"",SUMIFS(Tableau1[CHARGE/JRS],Tableau1[DATE],">="&Tableau1[[#This Row],[DATE]]-(WEEKDAY(Tableau1[[#This Row],[DATE]],1)-1),Tableau1[DATE],"<="&Tableau1[[#This Row],[DATE]]-(WEEKDAY(Tableau1[[#This Row],[DATE]],1)-7))) | N9: =(IF(C9="CV",OPTIONS!$C$2,IF(C9="COS",OPTIONS!$C$3,IF(C9="FORM",OPTIONS!$C$4,OPTIONS!$C$1))))*J9 -> #N/A | O9: =Tableau1[[#This Row],[S-TOT $/JOUR]]+Tableau1[[#This Row],[PRIME REPAS]] -> #N/A | P9: =IF(WEEKDAY(Tableau1[[#This Row],[DATE]],2)<>7,"",SUMIFS(Tableau1[HRS2],Tableau1[DATE],">="&Tableau1[[#This Row],[DATE]]-(WEEKDAY(Tableau1[[#This Row],[DATE]],1)-1),Tableau1[DATE],"<="&Tableau1[[#This Row],[DATE]]-(WEEKDAY(Tableau1[[#This Row],[DATE]],1)-7))) | Q9: =IF(WEEKDAY(Tableau1[[#This Row],[DATE]],2)<>7,"",SUMIFS(Tableau1[$/JOUR],Tableau1[DATE],">="&Tableau1[[#This Row],[DATE]]-(WEEKDAY(Tableau1[[#This Row],[DATE]],1)-1),Tableau1[DATE],"<="&Tableau1[[#This Row],[DATE]]-(WEEKDAY(Tableau1[[#This Row],[DATE]],1)-7)))
A10: 43874 | B10: =A10 -> 43874 | G10: =(Tableau1[[#This Row],[FIN]]-Tableau1[[#This Row],[DÉBUT]])*24 -> 0 | H10: =VLOOKUP(Tableau1[[#This Row],[HRS]],TABLEAUX!$A$2:$B$49,2,1) -> #N/A | I10: =VLOOKUP(Tableau1[[#This Row],[HRS]],TABLEAUX!$C$2:$D$49,2,1) -> #N/A | J10: =G10-I10 -> #N/A | K10: =IF(I10=2,12.65,0) -> #N/A | L10: =N10*7.45% -> #N/A | M10: =IF(WEEKDAY(Tableau1[[#This Row],[DATE]],2)<>7,"",SUMIFS(Tableau1[CHARGE/JRS],Tableau1[DATE],">="&Tableau1[[#This Row],[DATE]]-(WEEKDAY(Tableau1[[#This Row],[DATE]],1)-1),Tableau1[DATE],"<="&Tableau1[[#This Row],[DATE]]-(WEEKDAY(Tableau1[[#This Row],[DATE]],1)-7))) | N10: =(IF(C10="CV",OPTIONS!$C$2,IF(C10="COS",OPTIONS!$C$3,IF(C10="FORM",OPTIONS!$C$4,OPTIONS!$C$1))))*J10 -> #N/A | O10: =Tableau1[[#This Row],[S-TOT $/JOUR]]+Tableau1[[#This Row],[PRIME REPAS]] -> #N/A | P10: =IF(WEEKDAY(Tableau1[[#This Row],[DATE]],2)<>7,"",SUMIFS(Tableau1[HRS2],Tableau1[DATE],">="&Tableau1[[#This Row],[DATE]]-(WEEKDAY(Tableau1[[#This Row],[DATE]],1)-1),Tableau1[DATE],"<="&Tableau1[[#This Row],[DATE]]-(WEEKDAY(Tableau1[[#This Row],[DATE]],1)-7))) | Q10: =IF(WEEKDAY(Tableau1[[#This Row],[DATE]],2)<>7,"",SUMIFS(Tableau1[$/JOUR],Tableau1[DATE],">="&Tableau1[[#This Row],[DATE]]-(WEEKDAY(Tableau1[[#This Row],[DATE]],1)-1),Tableau1[DATE],"<="&Tableau1[[#This Row],[DATE]]-(WEEKDAY(Tableau1[[#This Row],[DATE]],1)-7)))
A11: 43875 | B11: =A11 -> 43875 | G11: =(Tableau1[[#This Row],[FIN]]-Tableau1[[#This Row],[DÉBUT]])*24 -> 0 | H11: =VLOOKUP(Tableau1[[#This Row],[HRS]],TABLEAUX!$A$2:$B$49,2,1) -> #N/A | I11: =VLOOKUP(Tableau1[[#This Row],[HRS]],TABLEAUX!$C$2:$D$49,2,1) -> #N/A | J11: =G11-I11 -> #N/A | K11: =IF(I11=2,12.65,0) -> #N/A | L11: =N11*7.45% -> #N/A | M11: =IF(WEEKDAY(Tableau1[[#This Row],[DATE]],2)<>7,"",SUMIFS(Tableau1[CHARGE/JRS],Tableau1[DATE],">="&Tableau1[[#This Row],[DATE]]-(WEEKDAY(Tableau1[[#This Row],[DATE]],1)-1),Tableau1[DATE],"<="&Tableau1[[#This Row],[DATE]]-(WEEKDAY(Tableau1[[#This Row],[DATE]],1)-7))) | N11: =(IF(C11="CV",OPTIONS!$C$2,IF(C11="COS",OPTIONS!$C$3,IF(C11="FORM",OPTIONS!$C$4,OPTIONS!$C$1))))*J11 -> #N/A | O11: =Tableau1[[#This Row],[S-TOT $/JOUR]]+Tableau1[[#This Row],[PRIME REPAS]] -> #N/A | P11: =IF(WEEKDAY(Tableau1[[#This Row],[DATE]],2)<>7,"",SUMIFS(Tableau1[HRS2],Tableau1[DATE],">="&Tableau1[[#This Row],[DATE]]-(WEEKDAY(Tableau1[[#This Row],[DATE]],1)-1),Tableau1[DATE],"<="&Tableau1[[#This Row],[DATE]]-(WEEKDAY(Tableau1[[#This Row],[DATE]],1)-7))) | Q11: =IF(WEEKDAY(Tableau1[[#This Row],[DATE]],2)<>7,"",SUMIFS(Tableau1[$/JOUR],Tableau1[DATE],">="&Tableau1[[#This Row],[DATE]]-(WEEKDAY(Tableau1[[#This Row],[DATE]],1)-1),Tableau1[DATE],"<="&Tableau1[[#This Row],[DATE]]-(WEEKDAY(Tableau1[[#This Row],[DATE]],1)-7)))
A12: 43876 | B12: =A12 -> 43876 | G12: =(Tableau1[[#This Row],[FIN]]-Tableau1[[#This Row],[DÉBUT]])*24 -> 0 | H12: =VLOOKUP(Tableau1[[#This Row],[HRS]],TABLEAUX!$A$2:$B$49,2,1) -> #N/A | I12: =VLOOKUP(Tableau1[[#This Row],[HRS]],TABLEAUX!$C$2:$D$49,2,1) -> #N/A | J12: =G12-I12 -> #N/A | K12: =IF(I12=2,12.65,0) -> #N/A | L12: =N12*7.45% -> #N/A | M12: =IF(WEEKDAY(Tableau1[[#This Row],[DATE]],2)<>7,"",SUMIFS(Tableau1[CHARGE/JRS],Tableau1[DATE],">="&Tableau1[[#This Row],[DATE]]-(WEEKDAY(Tableau1[[#This Row],[DATE]],1)-1),Tableau1[DATE],"<="&Tableau1[[#This Row],[DATE]]-(WEEKDAY(Tableau1[[#This Row],[DATE]],1)-7))) | N12: =(IF(C12="CV",OPTIONS!$C$2,IF(C12="COS",OPTIONS!$C$3,IF(C12="FORM",OPTIONS!$C$4,OPTIONS!$C$1))))*J12 -> #N/A | O12: =Tableau1[[#This Row],[S-TOT $/JOUR]]+Tableau1[[#This Row],[PRIME REPAS]] -> #N/A | P12: =IF(WEEKDAY(Tableau1[[#This Row],[DATE]],2)<>7,"",SUMIFS(Tableau1[HRS2],Tableau1[DATE],">="&Tableau1[[#This Row],[DATE]]-(WEEKDAY(Tableau1[[#This Row],[DATE]],1)-1),Tableau1[DATE],"<="&Tableau1[[#This Row],[DATE]]-(WEEKDAY(Tableau1[[#This Row],[DATE]],1)-7))) | Q12: =IF(WEEKDAY(Tableau1[[#This Row],[DATE]],2)<>7,"",SUMIFS(Tableau1[$/JOUR],Tableau1[DATE],">="&Tableau1[[#This Row],[DATE]]-(WEEKDAY(Tableau1[[#This Row],[DATE]],1)-1),Tableau1[DATE],"<="&Tableau1[[#This Row],[DATE]]-(WEEKDAY(Tableau1[[#This Row],[DATE]],1)-7)))
A13: 43877 | B13: =A13 -> 43877 | C13: CV | D13: 33524 | E13: 0.58333333 | F13: 0.70833333 | G13: =(Tableau1[[#This Row],[FIN]]-Tableau1[[#This Row],[DÉBUT]])*24 -> 3 | H13: =VLOOKUP(Tableau1[[#This Row],[HRS]],TABLEAUX!$A$2:$B$49,2,1) -> 0 | I13: =VLOOKUP(Tableau1[[#This Row],[HRS]],TABLEAUX!$C$2:$D$49,2,1) -> 0 | J13: =G13-I13 -> 3 | K13: =IF(I13=2,12.65,0) -> 0 | L13: =N13*7.45% -> 4.57281 | M13: =IF(WEEKDAY(Tableau1[[#This Row],[DATE]],2)<>7,"",SUMIFS(Tableau1[CHARGE/JRS],Tableau1[DATE],">="&Tableau1[[#This Row],[DATE]]-(WEEKDAY(Tableau1[[#This Row],[DATE]],1)-1),Tableau1[DATE],"<="&Tableau1[[#This Row],[DATE]]-(WEEKDAY(Tableau1[[#This Row],[DATE]],1)-7))) -> #N/A | N13: =(IF(C13="CV",OPTIONS!$C$2,IF(C13="COS",OPTIONS!$C$3,IF(C13="FORM",OPTIONS!$C$4,OPTIONS!$C$1))))*J13 -> 61.38 | O13: =Tableau1[[#This Row],[S-TOT $/JOUR]]+Tableau1[[#This Row],[PRIME REPAS]] -> 61.38 | P13: =IF(WEEKDAY(Tableau1[[#This Row],[DATE]],2)<>7,"",SUMIFS(Tableau1[HRS2],Tableau1[DATE],">="&Tableau1[[#This Row],[DATE]]-(WEEKDAY(Tableau1[[#This Row],[DATE]],1)-1),Tableau1[DATE],"<="&Tableau1[[#This Row],[DATE]]-(WEEKDAY(Tableau1[[#This Row],[DATE]],1)-7))) -> #N/A | Q13: =IF(WEEKDAY(Tableau1[[#This Row],[DATE]],2)<>7,"",SUMIFS(Tableau1[$/JOUR],Tableau1[DATE],">="&Tableau1[[#This Row],[DATE]]-(WEEKDAY(Tableau1[[#This Row],[DATE]],1)-1),Tableau1[DATE],"<="&Tableau1[[#This Row],[DATE]]-(WEEKDAY(Tableau1[[#This Row],[DATE]],1)-7)))+Tableau1[[#This Row],[CHARGE3]] -> #N/A
A14: 43878 | B14: =A14 -> 43878 | G14: =(Tableau1[[#This Row],[FIN]]-Tableau1[[#This Row],[DÉBUT]])*24 -> 0 | H14: =VLOOKUP(Tableau1[[#This Row],[HRS]],TABLEAUX!$A$2:$B$49,2,1) -> #N/A | I14: =VLOOKUP(Tableau1[[#This Row],[HRS]],TABLEAUX!$C$2:$D$49,2,1) -> #N/A | J14: =G14-I14 -> #N/A | K14: =IF(I14=2,12.65,0) -> #N/A | L14: =N14*7.45% -> #N/A | M14: =IF(WEEKDAY(Tableau1[[#This Row],[DATE]],2)<>7,"",SUMIFS(Tableau1[CHARGE/JRS],Tableau1[DATE],">="&Tableau1[[#This Row],[DATE]]-(WEEKDAY(Tableau1[[#This Row],[DATE]],1)-1),Tableau1[DATE],"<="&Tableau1[[#This Row],[DATE]]-(WEEKDAY(Tableau1[[#This Row],[DATE]],1)-7))) | N14: =(IF(C14="CV",OPTIONS!$C$2,IF(C14="COS",OPTIONS!$C$3,IF(C14="FORM",OPTIONS!$C$4,OPTIONS!$C$1))))*J14 -> #N/A | O14: =Tableau1[[#This Row],[S-TOT $/JOUR]]+Tableau1[[#This Row],[PRIME REPAS]] -> #N/A | P14: =IF(WEEKDAY(Tableau1[[#This Row],[DATE]],2)<>7,"",SUMIFS(Tableau1[HRS2],Tableau1[DATE],">="&Tableau1[[#This Row],[DATE]]-(WEEKDAY(Tableau1[[#This Row],[DATE]],1)-1),Tableau1[DATE],"<="&Tableau1[[#This Row],[DATE]]-(WEEKDAY(Tableau1[[#This Row],[DATE]],1)-7))) | Q14: =IF(WEEKDAY(Tableau1[[#This Row],[DATE]],2)<>7,"",SUMIFS(Tableau1[$/JOUR],Tableau1[DATE],">="&Tableau1[[#This Row],[DATE]]-(WEEKDAY(Tableau1[[#This Row],[DATE]],1)-1),Tableau1[DATE],"<="&Tableau1[[#This Row],[DATE]]-(WEEKDAY(Tableau1[[#This Row],[DATE]],1)-7)))
A15: 43879 | B15: =A15 -> 43879 | C15: CV | D15: 33538 | E15: 0.625 | F15: 0.75 | G15: =(Tableau1[[#This Row],[FIN]]-Tableau1[[#This Row],[DÉBUT]])*24 -> 3 | H15: =VLOOKUP(Tableau1[[#This Row],[HRS]],TABLEAUX!$A$2:$B$49,2,1) -> 0 | I15: =VLOOKUP(Tableau1[[#This Row],[HRS]],TABLEAUX!$C$2:$D$49,2,1) -> 0 | J15: =G15-I15 -> 3 | K15: =IF(I15=2,12.65,0) -> 0 | L15: =N15*7.45% -> 4.57281 | M15: =IF(WEEKDAY(Tableau1[[#This Row],[DATE]],2)<>7,"",SUMIFS(Tableau1[CHARGE/JRS],Tableau1[DATE],">="&Tableau1[[#This Row],[DATE]]-(WEEKDAY(Tableau1[[#This Row],[DATE]],1)-1),Tableau1[DATE],"<="&Tableau1[[#This Row],[DATE]]-(WEEKDAY(Tableau1[[#This Row],[DATE]],1)-7))) | N15: =(IF(C15="CV",OPTIONS!$C$2,IF(C15="COS",OPTIONS!$C$3,IF(C15="FORM",OPTIONS!$C$4,OPTIONS!$C$1))))*J15 -> 61.38 | O15: =Tableau1[[#This Row],[S-TOT $/JOUR]]+Tableau1[[#This Row],[PRIME REPAS]] -> 61.38 | P15: =IF(WEEKDAY(Tableau1[[#This Row],[DATE]],2)<>7,"",SUMIFS(Tableau1[HRS2],Tableau1[DATE],">="&Tableau1[[#This Row],[DATE]]-(WEEKDAY(Tableau1[[#This Row],[DATE]],1)-1),Tableau1[DATE],"<="&Tableau1[[#This Row],[DATE]]-(WEEKDAY(Tableau1[[#This Row],[DATE]],1)-7))) | Q15: =IF(WEEKDAY(Tableau1[[#This Row],[DATE]],2)<>7,"",SUMIFS(Tableau1[$/JOUR],Tableau1[DATE],">="&Tableau1[[#This Row],[DATE]]-(WEEKDAY(Tableau1[[#This Row],[DATE]],1)-1),Tableau1[DATE],"<="&Tableau1[[#This Row],[DATE]]-(WEEKDAY(Tableau1[[#This Row],[DATE]],1)-7)))
A16: 43880 | B16: =A16 -> 43880 | C16: COS | D16: 33538 | E16: 0.33333333 | F16: 0.70833333 | G16: =(Tableau1[[#This Row],[FIN]]-Tableau1[[#This Row],[DÉBUT]])*24 -> 9 | H16: =VLOOKUP(Tableau1[[#This Row],[HRS]],TABLEAUX!$A$2:$B$49,2,1) -> 2 | I16: =VLOOKUP(Tableau1[[#This Row],[HRS]],TABLEAUX!$C$2:$D$49,2,1) -> 1 | J16: =G16-I16 -> 8 | K16: =IF(I16=2,12.65,0) -> 0 | L16: =N16*7.45% -> 13.93448 | M16: =IF(WEEKDAY(Tableau1[[#This Row],[DATE]],2)<>7,"",SUMIFS(Tableau1[CHARGE/JRS],Tableau1[DATE],">="&Tableau1[[#This Row],[DATE]]-(WEEKDAY(Tableau1[[#This Row],[DATE]],1)-1),Tableau1[DATE],"<="&Tableau1[[#This Row],[DATE]]-(WEEKDAY(Tableau1[[#This Row],[DATE]],1)-7))) | N16: =(IF(C16="CV",OPTIONS!$C$2,IF(C16="COS",OPTIONS!$C$3,IF(C16="FORM",OPTIONS!$C$4,OPTIONS!$C$1))))*J16 -> 187.04 | O16: =Tableau1[[#This Row],[S-TOT $/JOUR]]+Tableau1[[#This Row],[PRIME REPAS]] -> 187.04 | P16: =IF(WEEKDAY(Tableau1[[#This Row],[DATE]],2)<>7,"",SUMIFS(Tableau1[HRS2],Tableau1[DATE],">="&Tableau1[[#This Row],[DATE]]-(WEEKDAY(Tableau1[[#This Row],[DATE]],1)-1),Tableau1[DATE],"<="&Tableau1[[#This Row],[DATE]]-(WEEKDAY(Tableau1[[#This Row],[DATE]],1)-7))) | Q16: =IF(WEEKDAY(Tableau1[[#This Row],[DATE]],2)<>7,"",SUMIFS(Tableau1[$/JOUR],Tableau1[DATE],">="&Tableau1[[#This Row],[DATE]]-(WEEKDAY(Tableau1[[#This Row],[DATE]],1)-1),Tableau1[DATE],"<="&Tableau1[[#This Row],[DATE]]-(WEEKDAY(Tableau1[[#This Row],[DATE]],1)-7)))
A17: 43881 | B17: =A17 -> 43881 | C17: COS | D17: 33538 | E17: 0.40625 | F17: 0.875 | G17: =(Tableau1[[#This Row],[FIN]]-Tableau1[[#This Row],[DÉBUT]])*24 -> 11.25 | H17: =VLOOKUP(Tableau1[[#This Row],[HRS]],TABLEAUX!$A$2:$B$49,2,1) -> 2 | I17: =VLOOKUP(Tableau1[[#This Row],[HRS]],TABLEAUX!$C$2:$D$49,2,1) -> 2 | J17: =G17-I17 -> 9.25 | K17: =IF(I17=2,12.65,0) -> 12.65 | L17: =N17*7.45% -> 16.111742 | M17: =IF(WEEKDAY(Tableau1[[#This Row],[DATE]],2)<>7,"",SUMIFS(Tableau1[CHARGE/JRS],Tableau1[DATE],">="&Tableau1[[#This Row],[DATE]]-(WEEKDAY(Tableau1[[#This Row],[DATE]],1)-1),Tableau1[DATE],"<="&Tableau1[[#This Row],[DATE]]-(WEEKDAY(Tableau1[[#This Row],[DATE]],1)-7))) | N17: =(IF(C17="CV",OPTIONS!$C$2,IF(C17="COS",OPTIONS!$C$3,IF(C17="FORM",OPTIONS!$C$4,OPTIONS!$C$1))))*J17 -> 216.265 | O17: =Tableau1[[#This Row],[S-TOT $/JOUR]]+Tableau1[[#This Row],[PRIME REPAS]] -> 228.915 | P17: =IF(WEEKDAY(Tableau1[[#This Row],[DATE]],2)<>7,"",SUMIFS(Tableau1[HRS2],Tableau1[DATE],">="&Tableau1[[#This Row],[DATE]]-(WEEKDAY(Tableau1[[#This Row],[DATE]],1)-1),Tableau1[DATE],"<="&Tableau1[[#This Row],[DATE]]-(WEEKDAY(Tableau1[[#This Row],[DATE]],1)-7))) | Q17: =IF(WEEKDAY(Tableau1[[#This Row],[DATE]],2)<>7,"",SUMIFS(Tableau1[$/JOUR],Tableau1[DATE],">="&Tableau1[[#This Row],[DATE]]-(WEEKDAY(Tableau1[[#This Row],[DATE]],1)-1),Tableau1[DATE],"<="&Tableau1[[#This Row],[DATE]]-(WEEKDAY(Tableau1[[#This Row],[DATE]],1)-7)))
A18: 43882 | B18: =A18 -> 43882 | C18: CV | D18: 33538 | E18: 0.66666667 | F18: 0.79166667 | G18: =(Tableau1[[#This Row],[FIN]]-Tableau1[[#This Row],[DÉBUT]])*24 -> 3 | H18: =VLOOKUP(Tableau1[[#This Row],[HRS]],TABLEAUX!$A$2:$B$49,2,1) -> 0 | I18: =VLOOKUP(Tableau1[[#This Row],[HRS]],TABLEAUX!$C$2:$D$49,2,1) -> 0 | J18: =G18-I18 -> 3 | K18: =IF(I18=2,12.65,0) -> 0 | L18: =N18*7.45% -> 4.57281 | M18: =IF(WEEKDAY(Tableau1[[#This Row],[DATE]],2)<>7,"",SUMIFS(Tableau1[CHARGE/JRS],Tableau1[DATE],">="&Tableau1[[#This Row],[DATE]]-(WEEKDAY(Tableau1[[#This Row],[DATE]],1)-1),Tableau1[DATE],"<="&Tableau1[[#This Row],[DATE]]-(WEEKDAY(Tableau1[[#This Row],[DATE]],1)-7))) | N18: =(IF(C18="CV",OPTIONS!$C$2,IF(C18="COS",OPTIONS!$C$3,IF(C18="FORM",OPTIONS!$C$4,OPTIONS!$C$1))))*J18 -> 61.38 | O18: =Tableau1[[#This Row],[S-TOT $/JOUR]]+Tableau1[[#This Row],[PRIME REPAS]] -> 61.38 | P18: =IF(WEEKDAY(Tableau1[[#This Row],[DATE]],2)<>7,"",SUMIFS(Tableau1[HRS2],Tableau1[DATE],">="&Tableau1[[#This Row],[DATE]]-(WEEKDAY(Tableau1[[#This Row],[DATE]],1)-1),Tableau1[DATE],"<="&Tableau1[[#This Row],[DATE]]-(WEEKDAY(Tableau1[[#This Row],[DATE]],1)-7))) | Q18: =IF(WEEKDAY(Tableau1[[#This Row],[DATE]],2)<>7,"",SUMIFS(Tableau1[$/JOUR],Tableau1[DATE],">="&Tableau1[[#This Row],[DATE]]-(WEEKDAY(Tableau1[[#This Row],[DATE]],1)-1),Tableau1[DATE],"<="&Tableau1[[#This Row],[DATE]]-(WEEKDAY(Tableau1[[#This Row],[DATE]],1)-7)))
A19: 43883 | B19: =A19 -> 43883 | C19: CV | D19: 33606 | G19: =(Tableau1[[#This Row],[FIN]]-Tableau1[[#This Row],[DÉBUT]])*24 -> 0 | H19: =VLOOKUP(Tableau1[[#This Row],[HRS]],TABLEAUX!$A$2:$B$49,2,1) -> #N/A | I19: =VLOOKUP(Tableau1[[#This Row],[HRS]],TABLEAUX!$C$2:$D$49,2,1) -> #N/A | J19: =G19-I19 -> #N/A | K19: =IF(I19=2,12.65,0) -> #N/A | L19: =N19*7.45% -> #N/A | M19: =IF(WEEKDAY(Tableau1[[#This Row],[DATE]],2)<>7,"",SUMIFS(Tableau1[CHARGE/JRS],Tableau1[DATE],">="&Tableau1[[#This Row],[DATE]]-(WEEKDAY(Tableau1[[#This Row],[DATE]],1)-1),Tableau1[DATE],"<="&Tableau1[[#This Row],[DATE]]-(WEEKDAY(Tableau1[[#This Row],[DATE]],1)-7))) | N19: =(IF(C19="CV",OPTIONS!$C$2,IF(C19="COS",OPTIONS!$C$3,IF(C19="FORM",OPTIONS!$C$4,OPTIONS!$C$1))))*J19 -> #N/A | O19: =Tableau1[[#This Row],[S-TOT $/JOUR]]+Tableau1[[#This Row],[PRIME REPAS]] -> #N/A | P19: =IF(WEEKDAY(Tableau1[[#This Row],[DATE]],2)<>7,"",SUMIFS(Tableau1[HRS2],Tableau1[DATE],">="&Tableau1[[#This Row],[DATE]]-(WEEKDAY(Tableau1[[#This Row],[DATE]],1)-1),Tableau1[DATE],"<="&Tableau1[[#This Row],[DATE]]-(WEEKDAY(Tableau1[[#This Row],[DATE]],1)-7))) | Q19: =IF(WEEKDAY(Tableau1[[#This Row],[DATE]],2)<>7,"",SUMIFS(Tableau1[$/JOUR],Tableau1[DATE],">="&Tableau1[[#This Row],[DATE]]-(WEEKDAY(Tableau1[[#This Row],[DATE]],1)-1),Tableau1[DATE],"<="&Tableau1[[#This Row],[DATE]]-(WEEKDAY(Tableau1[[#This Row],[DATE]],1)-7)))
A20: 43884 | B20: =A20 -> 43884 | C20: CV | D20: 33524 | E20: 0.5 | F20: 0.875 | G20: =(Tableau1[[#This Row],[FIN]]-Tableau1[[#This Row],[DÉBUT]])*24 -> 9 | H20: =VLOOKUP(Tableau1[[#This Row],[HRS]],TABLEAUX!$A$2:$B$49,2,1) -> 2 | I20: =VLOOKUP(Tableau1[[#This Row],[HRS]],TABLEAUX!$C$2:$D$49,2,1) -> 1 | J20: =G20-I20 -> 8 | K20: =IF(I20=2,12.65,0) -> 0 | L20: =N20*7.45% -> 12.19416 | M20: =IF(WEEKDAY(Tableau1[[#This Row],[DATE]],2)<>7,"",SUMIFS(Tableau1[CHARGE/JRS],Tableau1[DATE],">="&Tableau1[[#This Row],[DATE]]-(WEEKDAY(Tableau1[[#This Row],[DATE]],1)-1),Tableau1[DATE],"<="&Tableau1[[#This Row],[DATE]]-(WEEKDAY(Tableau1[[#This Row],[DATE]],1)-7))) -> 59.08148 | N20: =(IF(C20="CV",OPTIONS!$C$2,IF(C20="COS",OPTIONS!$C$3,IF(C20="FORM",OPTIONS!$C$4,OPTIONS!$C$1))))*J20 -> 163.68 | O20: =Tableau1[[#This Row],[S-TOT $/JOUR]]+Tableau1[[#This Row],[PRIME REPAS]] -> 163.68 | P20: =IF(WEEKDAY(Tableau1[[#This Row],[DATE]],2)<>7,"",SUMIFS(Tableau1[HRS2],Tableau1[DATE],">="&Tableau1[[#This Row],[DATE]]-(WEEKDAY(Tableau1[[#This Row],[DATE]],1)-1),Tableau1[DATE],"<="&Tableau1[[#This Row],[DATE]]-(WEEKDAY(Tableau1[[#This Row],[DATE]],1)-7))) -> 37.333333 | Q20: =IF(WEEKDAY(Tableau1[[#This Row],[DATE]],2)<>7,"",SUMIFS(Tableau1[$/JOUR],Tableau1[DATE],">="&Tableau1[[#This Row],[DATE]]-(WEEKDAY(Tableau1[[#This Row],[DATE]],1)-1),Tableau1[DATE],"<="&Tableau1[[#This Row],[DATE]]-(WEEKDAY(Tableau1[[#This Row],[DATE]],1)-7)))+Tableau1[[#This Row],[CHARGE3]] -> 864.77148
A21: 43885 | B21: =A21 -> 43885 | C21: CV | D21: 33538 | E21: 0.47916667 | F21: 0.60416667 | G21: =(Tableau1[[#This Row],[FIN]]-Tableau1[[#This Row],[DÉBUT]])*24 -> 3 | H21: =VLOOKUP(Tableau1[[#This Row],[HRS]],TABLEAUX!$A$2:$B$49,2,1) -> 0 | I21: =VLOOKUP(Tableau1[[#This Row],[HRS]],TABLEAUX!$C$2:$D$49,2,1) -> 0 | J21: =G21-I21 -> 3 | K21: =IF(I21=2,12.65,0) -> 0 | L21: =N21*7.45% -> 4.57281 | M21: =IF(WEEKDAY(Tableau1[[#This Row],[DATE]],2)<>7,"",SUMIFS(Tableau1[CHARGE/JRS],Tableau1[DATE],">="&Tableau1[[#This Row],[DATE]]-(WEEKDAY(Tableau1[[#This Row],[DATE]],1)-1),Tableau1[DATE],"<="&Tableau1[[#This Row],[DATE]]-(WEEKDAY(Tableau1[[#This Row],[DATE]],1)-7))) | N21: =(IF(C21="CV",OPTIONS!$C$2,IF(C21="COS",OPTIONS!$C$3,IF(C21="FORM",OPTIONS!$C$4,OPTIONS!$C$1))))*J21 -> 61.38 | O21: =Tableau1[[#This Row],[S-TOT $/JOUR]]+Tableau1[[#This Row],[PRIME REPAS]] -> 61.38 | P21: =IF(WEEKDAY(Tableau1[[#This Row],[DATE]],2)<>7,"",SUMIFS(Tableau1[HRS2],Tableau1[DATE],">="&Tableau1[[#This Row],[DATE]]-(WEEKDAY(Tableau1[[#This Row],[DATE]],1)-1),Tableau1[DATE],"<="&Tableau1[[#This Row],[DATE]]-(WEEKDAY(Tableau1[[#This Row],[DATE]],1)-7))) | Q21: =IF(WEEKDAY(Tableau1[[#This Row],[DATE]],2)<>7,"",SUMIFS(Tableau1[$/JOUR],Tableau1[DATE],">="&Tableau1[[#This Row],[DATE]]-(WEEKDAY(Tableau1[[#This Row],[DATE]],1)-1),Tableau1[DATE],"<="&Tableau1[[#This Row],[DATE]]-(WEEKDAY(Tableau1[[#This Row],[DATE]],1)-7)))
A22: 43886 | B22: =A22 -> 43886 | C22: FORM | D22: DOM | E22: 0 | F22: 0.034722222 | G22: =(Tableau1[[#This Row],[FIN]]-Tableau1[[#This Row],[DÉBUT]])*24 -> 0.83333333 | H22: =VLOOKUP(Tableau1[[#This Row],[HRS]],TABLEAUX!$A$2:$B$49,2,1) -> 0 | I22: =VLOOKUP(Tableau1[[#This Row],[HRS]],TABLEAUX!$C$2:$D$49,2,1) -> 0 | J22: =G22-I22 -> 0.83333333 | K22: =IF(I22=2,12.65,0) -> 0 | L22: =N22*7.45% -> 1.270225 | M22: =IF(WEEKDAY(Tableau1[[#This Row],[DATE]],2)<>7,"",SUMIFS(Tableau1[CHARGE/JRS],Tableau1[DATE],">="&Tableau1[[#This Row],[DATE]]-(WEEKDAY(Tableau1[[#This Row],[DATE]],1)-1),Tableau1[DATE],"<="&Tableau1[[#This Row],[DATE]]-(WEEKDAY(Tableau1[[#This Row],[DATE]],1)-7))) | N22: =(IF(C22="CV",OPTIONS!$C$2,IF(C22="COS",OPTIONS!$C$3,IF(C22="FORM",OPTIONS!$C$4,OPTIONS!$C$1))))*J22 -> 17.05 | O22: =Tableau1[[#This Row],[S-TOT $/JOUR]]+Tableau1[[#This Row],[PRIME REPAS]] -> 17.05 | P22: =IF(WEEKDAY(Tableau1[[#This Row],[DATE]],2)<>7,"",SUMIFS(Tableau1[HRS2],Tableau1[DATE],">="&Tableau1[[#This Row],[DATE]]-(WEEKDAY(Tableau1[[#This Row],[DATE]],1)-1),Tableau1[DATE],"<="&Tableau1[[#This Row],[DATE]]-(WEEKDAY(Tableau1[[#This Row],[DATE]],1)-7))) | Q22: =IF(WEEKDAY(Tableau1[[#This Row],[DATE]],2)<>7,"",SUMIFS(Tableau1[$/JOUR],Tableau1[DATE],">="&Tableau1[[#This Row],[DATE]]-(WEEKDAY(Tableau1[[#This Row],[DATE]],1)-1),Tableau1[DATE],"<="&Tableau1[[#This Row],[DATE]]-(WEEKDAY(Tableau1[[#This Row],[DATE]],1)-7)))
A23: 43887 | B23: =A23 -> 43887 | C23: CV | D23: 33538 | E23: 0.45833333 | F23: 0.79166667 | G23: =(Tableau1[[#This Row],[FIN]]-Tableau1[[#This Row],[DÉBUT]])*24 -> 8 | H23: =VLOOKUP(Tableau1[[#This Row],[HRS]],TABLEAUX!$A$2:$B$49,2,1) -> 2 | I23: =VLOOKUP(Tableau1[[#This Row],[HRS]],TABLEAUX!$C$2:$D$49,2,1) -> 1 | J23: =G23-I23 -> 7 | K23: =IF(I23=2,12.65,0) -> 0 | L23: =N23*7.45% -> 10.66989 | M23: =IF(WEEKDAY(Tableau1[[#This Row],[DATE]],2)<>7,"",SUMIFS(Tableau1[CHARGE/JRS],Tableau1[DATE],">="&Tableau1[[#This Row],[DATE]]-(WEEKDAY(Tableau1[[#This Row],[DATE]],1)-1),Tableau1[DATE],"<="&Tableau1[[#This Row],[DATE]]-(WEEKDAY(Tableau1[[#This Row],[DATE]],1)-7))) | N23: =(IF(C23="CV",OPTIONS!$C$2,IF(C23="COS",OPTIONS!$C$3,IF(C23="FORM",OPTIONS!$C$4,OPTIONS!$C$1))))*J23 -> 143.22 | O23: =Tableau1[[#This Row],[S-TOT $/JOUR]]+Tableau1[[#This Row],[PRIME REPAS]] -> 143.22 | P23: =IF(WEEKDAY(Tableau1[[#This Row],[DATE]],2)<>7,"",SUMIFS(Tableau1[HRS2],Tableau1[DATE],">="&Tableau1[[#This Row],[DATE]]-(WEEKDAY(Tableau1[[#This Row],[DATE]],1)-1),Tableau1[DATE],"<="&Tableau1[[#This Row],[DATE]]-(WEEKDAY(Tableau1[[#This Row],[DATE]],1)-7))) | Q23: =IF(WEEKDAY(Tableau1[[#This Row],[DATE]],2)<>7,"",SUMIFS(Tableau1[$/JOUR],Tableau1[DATE],">="&Tableau1[[#This Row],[DATE]]-(WEEKDAY(Tableau1[[#This Row],[DATE]],1)-1),Tableau1[DATE],"<="&Tableau1[[#This Row],[DATE]]-(WEEKDAY(Tableau1[[#This Row],[DATE]],1)-7)))
A24: 43888 | B24: =A24 -> 43888 | C24: CV | D24: 33606 | E24: 0.58333333 | F24: 0.8125 | G24: =(Tableau1[[#This Row],[FIN]]-Tableau1[[#This Row],[DÉBUT]])*24 -> 5.5 | H24: =VLOOKUP(Tableau1[[#This Row],[HRS]],TABLEAUX!$A$2:$B$49,2,1) -> 1 | I24: =VLOOKUP(Tableau1[[#This Row],[HRS]],TABLEAUX!$C$2:$D$49,2,1) -> 0 | J24: =G24-I24 -> 5.5 | K24: =IF(I24=2,12.65,0) -> 0 | L24: =N24*7.45% -> 8.383485 | M24: =IF(WEEKDAY(Tableau1[[#This Row],[DATE]],2)<>7,"",SUMIFS(Tableau1[CHARGE/JRS],Tableau1[DATE],">="&Tableau1[[#This Row],[DATE]]-(WEEKDAY(Tableau1[[#This Row],[DATE]],1)-1),Tableau1[DATE],"<="&Tableau1[[#This Row],[DATE]]-(WEEKDAY(Tableau1[[#This Row],[DATE]],1)-7))) | N24: =(IF(C24="CV",OPTIONS!$C$2,IF(C24="COS",OPTIONS!$C$3,IF(C24="FORM",OPTIONS!$C$4,OPTIONS!$C$1))))*J24 -> 112.53 | O24: =Tableau1[[#This Row],[S-TOT $/JOUR]]+Tableau1[[#This Row],[PRIME REPAS]] -> 112.53 | P24: =IF(WEEKDAY(Tableau1[[#This Row],[DATE]],2)<>7,"",SUMIFS(Tableau1[HRS2],Tableau1[DATE],">="&Tableau1[[#This Row],[DATE]]-(WEEKDAY(Tableau1[[#This Row],[DATE]],1)-1),Tableau1[DATE],"<="&Tableau1[[#This Row],[DATE]]-(WEEKDAY(Tableau1[[#This Row],[DATE]],1)-7))) | Q24: =IF(WEEKDAY(Tableau1[[#This Row],[DATE]],2)<>7,"",SUMIFS(Tableau1[$/JOUR],Tableau1[DATE],">="&Tableau1[[#This Row],[DATE]]-(WEEKDAY(Tableau1[[#This Row],[DATE]],1)-1),Tableau1[DATE],"<="&Tableau1[[#This Row],[DATE]]-(WEEKDAY(Tableau1[[#This Row],[DATE]],1)-7)))
A25: 43889 | B25: =A25 -> 43889 | C25: COS | D25: 33538 | E25: 0.375 | F25: 0.875 | G25: =(Tableau1[[#This Row],[FIN]]-Tableau1[[#This Row],[DÉBUT]])*24 -> 12 | H25: =VLOOKUP(Tableau1[[#This Row],[HRS]],TABLEAUX!$A$2:$B$49,2,1) -> 2 | I25: =VLOOKUP(Tableau1[[#This Row],[HRS]],TABLEAUX!$C$2:$D$49,2,1) -> 2 | J25: =G25-I25 -> 10 | K25: =IF(I25=2,12.65,0) -> 12.65 | L25: =N25*7.45% -> 17.4181 | M25: =IF(WEEKDAY(Tableau1[[#This Row],[DATE]],2)<>7,"",SUMIFS(Tableau1[CHARGE/JRS],Tableau1[DATE],">="&Tableau1[[#This Row],[DATE]]-(WEEKDAY(Tableau1[[#This Row],[DATE]],1)-1),Tableau1[DATE],"<="&Tableau1[[#This Row],[DATE]]-(WEEKDAY(Tableau1[[#This Row],[DATE]],1)-7))) | N25: =(IF(C25="CV",OPTIONS!$C$2,IF(C25="COS",OPTIONS!$C$3,IF(C25="FORM",OPTIONS!$C$4,OPTIONS!$C$1))))*J25 -> 233.8 | O25: =Tableau1[[#This Row],[S-TOT $/JOUR]]+Tableau1[[#This Row],[PRIME REPAS]] -> 246.45 | P25: =IF(WEEKDAY(Tableau1[[#This Row],[DATE]],2)<>7,"",SUMIFS(Tableau1[HRS2],Tableau1[DATE],">="&Tableau1[[#This Row],[DATE]]-(WEEKDAY(Tableau1[[#This Row],[DATE]],1)-1),Tableau1[DATE],"<="&Tableau1[[#This Row],[DATE]]-(WEEKDAY(Tableau1[[#This Row],[DATE]],1)-7))) | Q25: =IF(WEEKDAY(Tableau1[[#This Row],[DATE]],2)<>7,"",SUMIFS(Tableau1[$/JOUR],Tableau1[DATE],">="&Tableau1[[#This Row],[DATE]]-(WEEKDAY(Tableau1[[#This Row],[DATE]],1)-1),Tableau1[DATE],"<="&Tableau1[[#This Row],[DATE]]-(WEEKDAY(Tableau1[[#This Row],[DATE]],1)-7)))
A26: 43890 | B26: =A26 -> 43890 | C26: CV | D26: 33524 | E26: 0.6875 | F26: 0.8125 | G26: =(Tableau1[[#This Row],[FIN]]-Tableau1[[#This Row],[DÉBUT]])*24 -> 3 | H26: =VLOOKUP(Tableau1[[#This Row],[HRS]],TABLEAUX!$A$2:$B$49,2,1) -> 0 | I26: =VLOOKUP(Tableau1[[#This Row],[HRS]],TABLEAUX!$C$2:$D$49,2,1) -> 0 | J26: =G26-I26 -> 3 | K26: =IF(I26=2,12.65,0) -> 0 | L26: =N26*7.45% -> 4.57281 | M26: =IF(WEEKDAY(Tableau1[[#This Row],[DATE]],2)<>7,"",SUMIFS(Tableau1[CHARGE/JRS],Tableau1[DATE],">="&Tableau1[[#This Row],[DATE]]-(WEEKDAY(Tableau1[[#This Row],[DATE]],1)-1),Tableau1[DATE],"<="&Tableau1[[#This Row],[DATE]]-(WEEKDAY(Tableau1[[#This Row],[DATE]],1)-7))) | N26: =(IF(C26="CV",OPTIONS!$C$2,IF(C26="COS",OPTIONS!$C$3,IF(C26="FORM",OPTIONS!$C$4,OPTIONS!$C$1))))*J26 -> 61.38 | O26: =Tableau1[[#This Row],[S-TOT $/JOUR]]+Tableau1[[#This Row],[PRIME REPAS]] -> 61.38 | P26: =IF(WEEKDAY(Tableau1[[#This Row],[DATE]],2)<>7,"",SUMIFS(Tableau1[HRS2],Tableau1[DATE],">="&Tableau1[[#This Row],[DATE]]-(WEEKDAY(Tableau1[[#This Row],[DATE]],1)-1),Tableau1[DATE],"<="&Tableau1[[#This Row],[DATE]]-(WEEKDAY(Tableau1[[#This Row],[DATE]],1)-7))) | Q26: =IF(WEEKDAY(Tableau1[[#This Row],[DATE]],2)<>7,"",SUMIFS(Tableau1[$/JOUR],Tableau1[DATE],">="&Tableau1[[#This Row],[DATE]]-(WEEKDAY(Tableau1[[#This Row],[DATE]],1)-1),Tableau1[DATE],"<="&Tableau1[[#This Row],[DATE]]-(WEEKDAY(Tableau1[[#This Row],[DATE]],1)-7)))
A27: 43891 | B27: =A27 -> 43891 | C27: CV | D27: 33595 | E27: 0.58333333 | F27: 0.70833333 | G27: =(Tableau1[[#This Row],[FIN]]-Tableau1[[#This Row],[DÉBUT]])*24 -> 3 | H27: =VLOOKUP(Tableau1[[#This Row],[HRS]],TABLEAUX!$A$2:$B$49,2,1) -> 0 | I27: =VLOOKUP(Tableau1[[#This Row],[HRS]],TABLEAUX!$C$2:$D$49,2,1) -> 0 | J27: =G27-I27 -> 3 | K27: =IF(I27=2,12.65,0) -> 0 | L27: =N27*7.45% -> 4.57281 | M27: =IF(WEEKDAY(Tableau1[[#This Row],[DATE]],2)<>7,"",SUMIFS(Tableau1[CHARGE/JRS],Tableau1[DATE],">="&Tableau1[[#This Row],[DATE]]-(WEEKDAY(Tableau1[[#This Row],[DATE]],1)-1),Tableau1[DATE],"<="&Tableau1[[#This Row],[DATE]]-(WEEKDAY(Tableau1[[#This Row],[DATE]],1)-7))) -> #N/A | N27: =(IF(C27="CV",OPTIONS!$C$2,IF(C27="COS",OPTIONS!$C$3,IF(C27="FORM",OPTIONS!$C$4,OPTIONS!$C$1))))*J27 -> 61.38 | O27: =Tableau1[[#This Row],[S-TOT $/JOUR]]+Tableau1[[#This Row],[PRIME REPAS]] -> 61.38 | P27: =IF(WEEKDAY(Tableau1[[#This Row],[DATE]],2)<>7,"",SUMIFS(Tableau1[HRS2],Tableau1[DATE],">="&Tableau1[[#This Row],[DATE]]-(WEEKDAY(Tableau1[[#This Row],[DATE]],1)-1),Tableau1[DATE],"<="&Tableau1[[#This Row],[DATE]]-(WEEKDAY(Tableau1[[#This Row],[DATE]],1)-7))) -> #N/A | Q27: =IF(WEEKDAY(Tableau1[[#This Row],[DATE]],2)<>7,"",SUMIFS(Tableau1[$/JOUR],Tableau1[DATE],">="&Tableau1[[#This Row],[DATE]]-(WEEKDAY(Tableau1[[#This Row],[DATE]],1)-1),Tableau1[DATE],"<="&Tableau1[[#This Row],[DATE]]-(WEEKDAY(Tableau1[[#This Row],[DATE]],1)-7)))+Tableau1[[#This Row],[CHARGE3]] -> #N/A
A28: 43892 | B28: =A28 -> 43892 | C28: FORM | D28: DOM | E28: 0.47916667 | F28: 0.75 | G28: =(Tableau1[[#This Row],[FIN]]-Tableau1[[#This Row],[DÉBUT]])*24 -> 6.5 | H28: =VLOOKUP(Tableau1[[#This Row],[HRS]],TABLEAUX!$A$2:$B$49,2,1) -> 2 | I28: =VLOOKUP(Tableau1[[#This Row],[HRS]],TABLEAUX!$C$2:$D$49,2,1) -> 0 | J28: =G28-I28 -> 6.5 | K28: =IF(I28=2,12.65,0) -> 0 | L28: =N28*7.45% -> 9.907755 | M28: =IF(WEEKDAY(Tableau1[[#This Row],[DATE]],2)<>7,"",SUMIFS(Tableau1[CHARGE/JRS],Tableau1[DATE],">="&Tableau1[[#This Row],[DATE]]-(WEEKDAY(Tableau1[[#This Row],[DATE]],1)-1),Tableau1[DATE],"<="&Tableau1[[#This Row],[DATE]]-(WEEKDAY(Tableau1[[#This Row],[DATE]],1)-7))) | N28: =(IF(C28="CV",OPTIONS!$C$2,IF(C28="COS",OPTIONS!$C$3,IF(C28="FORM",OPTIONS!$C$4,OPTIONS!$C$1))))*J28 -> 132.99 | O28: =Tableau1[[#This Row],[S-TOT $/JOUR]]+Tableau1[[#This Row],[PRIME REPAS]] -> 132.99 | P28: =IF(WEEKDAY(Tableau1[[#This Row],[DATE]],2)<>7,"",SUMIFS(Tableau1[HRS2],Tableau1[DATE],">="&Tableau1[[#This Row],[DATE]]-(WEEKDAY(Tableau1[[#This Row],[DATE]],1)-1),Tableau1[DATE],"<="&Tableau1[[#This Row],[DATE]]-(WEEKDAY(Tableau1[[#This Row],[DATE]],1)-7))) | Q28: =IF(WEEKDAY(Tableau1[[#This Row],[DATE]],2)<>7,"",SUMIFS(Tableau1[$/JOUR],Tableau1[DATE],">="&Tableau1[[#This Row],[DATE]]-(WEEKDAY(Tableau1[[#This Row],[DATE]],1)-1),Tableau1[DATE],"<="&Tableau1[[#This Row],[DATE]]-(WEEKDAY(Tableau1[[#This Row],[DATE]],1)-7)))
A29: 43893 | B29: =A29 -> 43893 | C29: CV | D29: 33524 | E29: 0.66666667 | F29: 0.79166667 | G29: =(Tableau1[[#This Row],[FIN]]-Tableau1[[#This Row],[DÉBUT]])*24 -> 3 | H29: =VLOOKUP(Tableau1[[#This Row],[HRS]],TABLEAUX!$A$2:$B$49,2,1) -> 0 | I29: =VLOOKUP(Tableau1[[#This Row],[HRS]],TABLEAUX!$C$2:$D$49,2,1) -> 0 | J29: =G29-I29 -> 3 | K29: =IF(I29=2,12.65,0) -> 0 | L29: =N29*7.45% -> 4.57281 | M29: =IF(WEEKDAY(Tableau1[[#This Row],[DATE]],2)<>7,"",SUMIFS(Tableau1[CHARGE/JRS],Tableau1[DATE],">="&Tableau1[[#This Row],[DATE]]-(WEEKDAY(Tableau1[[#This Row],[DATE]],1)-1),Tableau1[DATE],"<="&Tableau1[[#This Row],[DATE]]-(WEEKDAY(Tableau1[[#This Row],[DATE]],1)-7))) | N29: =(IF(C29="CV",OPTIONS!$C$2,IF(C29="COS",OPTIONS!$C$3,IF(C29="FORM",OPTIONS!$C$4,OPTIONS!$C$1))))*J29 -> 61.38 | O29: =Tableau1[[#This Row],[S-TOT $/JOUR]]+Tableau1[[#This Row],[PRIME REPAS]] -> 61.38 | P29: =IF(WEEKDAY(Tableau1[[#This Row],[DATE]],2)<>7,"",SUMIFS(Tableau1[HRS2],Tableau1[DATE],">="&Tableau1[[#This Row],[DATE]]-(WEEKDAY(Tableau1[[#This Row],[DATE]],1)-1),Tableau1[DATE],"<="&Tableau1[[#This Row],[DATE]]-(WEEKDAY(Tableau1[[#This Row],[DATE]],1)-7))) | Q29: =IF(WEEKDAY(Tableau1[[#This Row],[DATE]],2)<>7,"",SUMIFS(Tableau1[$/JOUR],Tableau1[DATE],">="&Tableau1[[#This Row],[DATE]]-(WEEKDAY(Tableau1[[#This Row],[DATE]],1)-1),Tableau1[DATE],"<="&Tableau1[[#This Row],[DATE]]-(WEEKDAY(Tableau1[[#This Row],[DATE]],1)-7)))
A30: 43894 | B30: =A30 -> 43894 | C30: COS | D30: 33538 | E30: 0.5 | F30: 0.75 | G30: =(Tableau1[[#This Row],[FIN]]-Tableau1[[#This Row],[DÉBUT]])*24 -> 6 | H30: =VLOOKUP(Tableau1[[#This Row],[HRS]],TABLEAUX!$A$2:$B$49,2,1) -> 2 | I30: =VLOOKUP(Tableau1[[#This Row],[HRS]],TABLEAUX!$C$2:$D$49,2,1) -> 0 | J30: =G30-I30 -> 6 | K30: =IF(I30=2,12.65,0) -> 0 | L30: =N30*7.45% -> 10.45086 | M30: =IF(WEEKDAY(Tableau1[[#This Row],[DATE]],2)<>7,"",SUMIFS(Tableau1[CHARGE/JRS],Tableau1[DATE],">="&Tableau1[[#This Row],[DATE]]-(WEEKDAY(Tableau1[[#This Row],[DATE]],1)-1),Tableau1[DATE],"<="&Tableau1[[#This Row],[DATE]]-(WEEKDAY(Tableau1[[#This Row],[DATE]],1)-7))) | N30: =(IF(C30="CV",OPTIONS!$C$2,IF(C30="COS",OPTIONS!$C$3,IF(C30="FORM",OPTIONS!$C$4,OPTIONS!$C$1))))*J30 -> 140.28 | O30: =Tableau1[[#This Row],[S-TOT $/JOUR]]+Tableau1[[#This Row],[PRIME REPAS]] -> 140.28 | P30: =IF(WEEKDAY(Tableau1[[#This Row],[DATE]],2)<>7,"",SUMIFS(Tableau1[HRS2],Tableau1[DATE],">="&Tableau1[[#This Row],[DATE]]-(WEEKDAY(Tableau1[[#This Row],[DATE]],1)-1),Tableau1[DATE],"<="&Tableau1[[#This Row],[DATE]]-(WEEKDAY(Tableau1[[#This Row],[DATE]],1)-7))) | Q30: =IF(WEEKDAY(Tableau1[[#This Row],[DATE]],2)<>7,"",SUMIFS(Tableau1[$/JOUR],Tableau1[DATE],">="&Tableau1[[#This Row],[DATE]]-(WEEKDAY(Tableau1[[#This Row],[DATE]],1)-1),Tableau1[DATE],"<="&Tableau1[[#This Row],[DATE]]-(WEEKDAY(Tableau1[[#This Row],[DATE]],1)-7)))
A31: 43895 | B31: =A31 -> 43895 | C31: CV | D31: 33538 | E31: 0.41666667 | F31: 0.83333333 | G31: =(Tableau1[[#This Row],[FIN]]-Tableau1[[#This Row],[DÉBUT]])*24 -> 10 | H31: =VLOOKUP(Tableau1[[#This Row],[HRS]],TABLEAUX!$A$2:$B$49,2,1) -> 2 | I31: =VLOOKUP(Tableau1[[#This Row],[HRS]],TABLEAUX!$C$2:$D$49,2,1) -> 1 | J31: =G31-I31 -> 9 | K31: =IF(I31=2,12.65,0) -> 0 | L31: =N31*7.45% -> 13.71843 | M31: =IF(WEEKDAY(Tableau1[[#This Row],[DATE]],2)<>7,"",SUMIFS(Tableau1[CHARGE/JRS],Tableau1[DATE],">="&Tableau1[[#This Row],[DATE]]-(WEEKDAY(Tableau1[[#This Row],[DATE]],1)-1),Tableau1[DATE],"<="&Tableau1[[#This Row],[DATE]]-(WEEKDAY(Tableau1[[#This Row],[DATE]],1)-7))) | N31: =(IF(C31="CV",OPTIONS!$C$2,IF(C31="COS",OPTIONS!$C$3,IF(C31="FORM",OPTIONS!$C$4,OPTIONS!$C$1))))*J31 -> 184.14 | O31: =Tableau1[[#This Row],[S-TOT $/JOUR]]+Tableau1[[#This Row],[PRIME REPAS]] -> 184.14 | P31: =IF(WEEKDAY(Tableau1[[#This Row],[DATE]],2)<>7,"",SUMIFS(Tableau1[HRS2],Tableau1[DATE],">="&Tableau1[[#This Row],[DATE]]-(WEEKDAY(Tableau1[[#This Row],[DATE]],1)-1),Tableau1[DATE],"<="&Tableau1[[#This Row],[DATE]]-(WEEKDAY(Tableau1[[#This Row],[DATE]],1)-7))) | Q31: =IF(WEEKDAY(Tableau1[[#This Row],[DATE]],2)<>7,"",SUMIFS(Tableau1[$/JOUR],Tableau1[DATE],">="&Tableau1[[#This Row],[DATE]]-(WEEKDAY(Tableau1[[#This Row],[DATE]],1)-1),Tableau1[DATE],"<="&Tableau1[[#This Row],[DATE]]-(WEEKDAY(Tableau1[[#This Row],[DATE]],1)-7)))
A32: 43896 | B32: =A32 -> 43896 | C32: CV | D32: 33595 | E32: 0.39583333 | F32: 0.875 | G32: =(Tableau1[[#This Row],[FIN]]-Tableau1[[#This Row],[DÉBUT]])*24 -> 11.5 | H32: =VLOOKUP(Tableau1[[#This Row],[HRS]],TABLEAUX!$A$2:$B$49,2,1) -> 2 | I32: =VLOOKUP(Tableau1[[#This Row],[HRS]],TABLEAUX!$C$2:$D$49,2,1) -> 2 | J32: =G32-I32 -> 9.5 | K32: =IF(I32=2,12.65,0) -> 12.65 | L32: =N32*7.45% -> 14.480565 | M32: =IF(WEEKDAY(Tableau1[[#This Row],[DATE]],2)<>7,"",SUMIFS(Tableau1[CHARGE/JRS],Tableau1[DATE],">="&Tableau1[[#This Row],[DATE]]-(WEEKDAY(Tableau1[[#This Row],[DATE]],1)-1),Tableau1[DATE],"<="&Tableau1[[#This Row],[DATE]]-(WEEKDAY(Tableau1[[#This Row],[DATE]],1)-7))) | N32: =(IF(C32="CV",OPTIONS!$C$2,IF(C32="COS",OPTIONS!$C$3,IF(C32="FORM",OPTIONS!$C$4,OPTIONS!$C$1))))*J32 -> 194.37 | O32: =Tableau1[[#This Row],[S-TOT $/JOUR]]+Tableau1[[#This Row],[PRIME REPAS]] -> 207.02 | P32: =IF(WEEKDAY(Tableau1[[#This Row],[DATE]],2)<>7,"",SUMIFS(Tableau1[HRS2],Tableau1[DATE],">="&Tableau1[[#This Row],[DATE]]-(WEEKDAY(Tableau1[[#This Row],[DATE]],1)-1),Tableau1[DATE],"<="&Tableau1[[#This Row],[DATE]]-(WEEKDAY(Tableau1[[#This Row],[DATE]],1)-7))) | Q32: =IF(WEEKDAY(Tableau1[[#This Row],[DATE]],2)<>7,"",SUMIFS(Tableau1[$/JOUR],Tableau1[DATE],">="&Tableau1[[#This Row],[DATE]]-(WEEKDAY(Tableau1[[#This Row],[DATE]],1)-1),Tableau1[DATE],"<="&Tableau1[[#This Row],[DATE]]-(WEEKDAY(Tableau1[[#This Row],[DATE]],1)-7)))
A33: 43897 | B33: =A33 -> 43897 | G33: =(Tableau1[[#This Row],[FIN]]-Tableau1[[#This Row],[DÉBUT]])*24 -> 0 | H33: =VLOOKUP(Tableau1[[#This Row],[HRS]],TABLEAUX!$A$2:$B$49,2,1) -> #N/A | I33: =VLOOKUP(Tableau1[[#This Row],[HRS]],TABLEAUX!$C$2:$D$49,2,1) -> #N/A | J33: =G33-I33 -> #N/A | K33: =IF(I33=2,12.65,0) -> #N/A | L33: =N33*7.45% -> #N/A | M33: =IF(WEEKDAY(Tableau1[[#This Row],[DATE]],2)<>7,"",SUMIFS(Tableau1[CHARGE/JRS],Tableau1[DATE],">="&Tableau1[[#This Row],[DATE]]-(WEEKDAY(Tableau1[[#This Row],[DATE]],1)-1),Tableau1[DATE],"<="&Tableau1[[#This Row],[DATE]]-(WEEKDAY(Tableau1[[#This Row],[DATE]],1)-7))) | N33: =(IF(C33="CV",OPTIONS!$C$2,IF(C33="COS",OPTIONS!$C$3,IF(C33="FORM",OPTIONS!$C$4,OPTIONS!$C$1))))*J33 -> #N/A | O33: =Tableau1[[#This Row],[S-TOT $/JOUR]]+Tableau1[[#This Row],[PRIME REPAS]] -> #N/A | P33: =IF(WEEKDAY(Tableau1[[#This Row],[DATE]],2)<>7,"",SUMIFS(Tableau1[HRS2],Tableau1[DATE],">="&Tableau1[[#This Row],[DATE]]-(WEEKDAY(Tableau1[[#This Row],[DATE]],1)-1),Tableau1[DATE],"<="&Tableau1[[#This Row],[DATE]]-(WEEKDAY(Tableau1[[#This Row],[DATE]],1)-7))) | Q33: =IF(WEEKDAY(Tableau1[[#This Row],[DATE]],2)<>7,"",SUMIFS(Tableau1[$/JOUR],Tableau1[DATE],">="&Tableau1[[#This Row],[DATE]]-(WEEKDAY(Tableau1[[#This Row],[DATE]],1)-1),Tableau1[DATE],"<="&Tableau1[[#This Row],[DATE]]-(WEEKDAY(Tableau1[[#This Row],[DATE]],1)-7)))
A34: 43898 | B34: =A34 -> 43898 | C34: CV | D34: 33595 | E34: 0.58333333 | F34: 0.70833333 | G34: =(Tableau1[[#This Row],[FIN]]-Tableau1[[#This Row],[DÉBUT]])*24 -> 3 | H34: =VLOOKUP(Tableau1[[#This Row],[HRS]],TABLEAUX!$A$2:$B$49,2,1) -> 0 | I34: =VLOOKUP(Tableau1[[#This Row],[HRS]],TABLEAUX!$C$2:$D$49,2,1) -> 0 | J34: =G34-I34 -> 3 | K34: =IF(I34=2,12.65,0) -> 0 | L34: =N34*7.45% -> 4.57281 | M34: =IF(WEEKDAY(Tableau1[[#This Row],[DATE]],2)<>7,"",SUMIFS(Tableau1[CHARGE/JRS],Tableau1[DATE],">="&Tableau1[[#This Row],[DATE]]-(WEEKDAY(Tableau1[[#This Row],[DATE]],1)-1),Tableau1[DATE],"<="&Tableau1[[#This Row],[DATE]]-(WEEKDAY(Tableau1[[#This Row],[DATE]],1)-7))) -> #N/A | N34: =(IF(C34="CV",OPTIONS!$C$2,IF(C34="COS",OPTIONS!$C$3,IF(C34="FORM",OPTIONS!$C$4,OPTIONS!$C$1))))*J34 -> 61.38 | O34: =Tableau1[[#This Row],[S-TOT $/JOUR]]+Tableau1[[#This Row],[PRIME REPAS]] -> 61.38 | P34: =IF(WEEKDAY(Tableau1[[#This Row],[DATE]],2)<>7,"",SUMIFS(Tableau1[HRS2],Tableau1[DATE],">="&Tableau1[[#This Row],[DATE]]-(WEEKDAY(Tableau1[[#This Row],[DATE]],1)-1),Tableau1[DATE],"<="&Tableau1[[#This Row],[DATE]]-(WEEKDAY(Tableau1[[#This Row],[DATE]],1)-7))) -> #N/A | Q34: =IF(WEEKDAY(Tableau1[[#This Row],[DATE]],2)<>7,"",SUMIFS(Tableau1[$/JOUR],Tableau1[DATE],">="&Tableau1[[#This Row],[DATE]]-(WEEKDAY(Tableau1[[#This Row],[DATE]],1)-1),Tableau1[DATE],"<="&Tableau1[[#This Row],[DATE]]-(WEEKDAY(Tableau1[[#This Row],[DATE]],1)-7)))+Tableau1[[#This Row],[CHARGE3]] -> #N/A
A35: 43899 | B35: =A35 -> 43899 | G35: =(Tableau1[[#This Row],[FIN]]-Tableau1[[#This Row],[DÉBUT]])*24 -> 0 | H35: =VLOOKUP(Tableau1[[#This Row],[HRS]],TABLEAUX!$A$2:$B$49,2,1) -> #N/A | I35: =VLOOKUP(Tableau1[[#This Row],[HRS]],TABLEAUX!$C$2:$D$49,2,1) -> #N/A | J35: =G35-I35 -> #N/A | K35: =IF(I35=2,12.65,0) -> #N/A | L35: =N35*7.45% -> #N/A | M35: =IF(WEEKDAY(Tableau1[[#This Row],[DATE]],2)<>7,"",SUMIFS(Tableau1[CHARGE/JRS],Tableau1[DATE],">="&Tableau1[[#This Row],[DATE]]-(WEEKDAY(Tableau1[[#This Row],[DATE]],1)-1),Tableau1[DATE],"<="&Tableau1[[#This Row],[DATE]]-(WEEKDAY(Tableau1[[#This Row],[DATE]],1)-7))) | N35: =(IF(C35="CV",OPTIONS!$C$2,IF(C35="COS",OPTIONS!$C$3,IF(C35="FORM",OPTIONS!$C$4,OPTIONS!$C$1))))*J35 -> #N/A | O35: =Tableau1[[#This Row],[S-TOT $/JOUR]]+Tableau1[[#This Row],[PRIME REPAS]] -> #N/A | P35: =IF(WEEKDAY(Tableau1[[#This Row],[DATE]],2)<>7,"",SUMIFS(Tableau1[HRS2],Tableau1[DATE],">="&Tableau1[[#This Row],[DATE]]-(WEEKDAY(Tableau1[[#This Row],[DATE]],1)-1),Tableau1[DATE],"<="&Tableau1[[#This Row],[DATE]]-(WEEKDAY(Tableau1[[#This Row],[DATE]],1)-7))) | Q35: =IF(WEEKDAY(Tableau1[[#This Row],[DATE]],2)<>7,"",SUMIFS(Tableau1[$/JOUR],Tableau1[DATE],">="&Tableau1[[#This Row],[DATE]]-(WEEKDAY(Tableau1[[#This Row],[DATE]],1)-1),Tableau1[DATE],"<="&Tableau1[[#This Row],[DATE]]-(WEEKDAY(Tableau1[[#This Row],[DATE]],1)-7)))
A36: 43900 | B36: =A36 -> 43900 | C36: COS | D36: 33606 | E36: 0.52083333 | F36: 0.75 | G36: =(Tableau1[[#This Row],[FIN]]-Tableau1[[#This Row],[DÉBUT]])*24 -> 5.5 | H36: =VLOOKUP(Tableau1[[#This Row],[HRS]],TABLEAUX!$A$2:$B$49,2,1) -> 1 | I36: =VLOOKUP(Tableau1[[#This Row],[HRS]],TABLEAUX!$C$2:$D$49,2,1) -> 0 | J36: =G36-I36 -> 5.5 | K36: =IF(I36=2,12.65,0) -> 0 | L36: =N36*7.45% -> 9.579955 | M36: =IF(WEEKDAY(Tableau1[[#This Row],[DATE]],2)<>7,"",SUMIFS(Tableau1[CHARGE/JRS],Tableau1[DATE],">="&Tableau1[[#This Row],[DATE]]-(WEEKDAY(Tableau1[[#This Row],[DATE]],1)-1),Tableau1[DATE],"<="&Tableau1[[#This Row],[DATE]]-(WEEKDAY(Tableau1[[#This Row],[DATE]],1)-7))) | N36: =(IF(C36="CV",OPTIONS!$C$2,IF(C36="COS",OPTIONS!$C$3,IF(C36="FORM",OPTIONS!$C$4,OPTIONS!$C$1))))*J36 -> 128.59 | O36: =Tableau1[[#This Row],[S-TOT $/JOUR]]+Tableau1[[#This Row],[PRIME REPAS]] -> 128.59 | P36: =IF(WEEKDAY(Tableau1[[#This Row],[DATE]],2)<>7,"",SUMIFS(Tableau1[HRS2],Tableau1[DATE],">="&Tableau1[[#This Row],[DATE]]-(WEEKDAY(Tableau1[[#This Row],[DATE]],1)-1),Tableau1[DATE],"<="&Tableau1[[#This Row],[DATE]]-(WEEKDAY(Tableau1[[#This Row],[DATE]],1)-7))) | Q36: =IF(WEEKDAY(Tableau1[[#This Row],[DATE]],2)<>7,"",SUMIFS(Tableau1[$/JOUR],Tableau1[DATE],">="&Tableau1[[#This Row],[DATE]]-(WEEKDAY(Tableau1[[#This Row],[DATE]],1)-1),Tableau1[DATE],"<="&Tableau1[[#This Row],[DATE]]-(WEEKDAY(Tableau1[[#This Row],[DATE]],1)-7)))
A37: 43901 | B37: =A37 -> 43901 | C37: CV | D37: 33538 | E37: 0.54166667 | F37: 0.75 | G37: =(Tableau1[[#This Row],[FIN]]-Tableau1[[#This Row],[DÉBUT]])*24 -> 5 | H37: =VLOOKUP(Tableau1[[#This Row],[HRS]],TABLEAUX!$A$2:$B$49,2,1) -> 1 | I37: =VLOOKUP(Tableau1[[#This Row],[HRS]],TABLEAUX!$C$2:$D$49,2,1) -> 0 | J37: =G37-I37 -> 5 | K37: =IF(I37=2,12.65,0) -> 0 | L37: =N37*7.45% -> 7.62135 | M37: =IF(WEEKDAY(Tableau1[[#This Row],[DATE]],2)<>7,"",SUMIFS(Tableau1[CHARGE/JRS],Tableau1[DATE],">="&Tableau1[[#This Row],[DATE]]-(WEEKDAY(Tableau1[[#This Row],[DATE]],1)-1),Tableau1[DATE],"<="&Tableau1[[#This Row],[DATE]]-(WEEKDAY(Tableau1[[#This Row],[DATE]],1)-7))) | N37: =(IF(C37="CV",OPTIONS!$C$2,IF(C37="COS",OPTIONS!$C$3,IF(C37="FORM",OPTIONS!$C$4,OPTIONS!$C$1))))*J37 -> 102.3 | O37: =Tableau1[[#This Row],[S-TOT $/JOUR]]+Tableau1[[#This Row],[PRIME REPAS]] -> 102.3 | P37: =IF(WEEKDAY(Tableau1[[#This Row],[DATE]],2)<>7,"",SUMIFS(Tableau1[HRS2],Tableau1[DATE],">="&Tableau1[[#This Row],[DATE]]-(WEEKDAY(Tableau1[[#This Row],[DATE]],1)-1),Tableau1[DATE],"<="&Tableau1[[#This Row],[DATE]]-(WEEKDAY(Tableau1[[#This Row],[DATE]],1)-7))) | Q37: =IF(WEEKDAY(Tableau1[[#This Row],[DATE]],2)<>7,"",SUMIFS(Tableau1[$/JOUR],Tableau1[DATE],">="&Tableau1[[#This Row],[DATE]]-(WEEKDAY(Tableau1[[#This Row],[DATE]],1)-1),Tableau1[DATE],"<="&Tableau1[[#This Row],[DATE]]-(WEEKDAY(Tableau1[[#This Row],[DATE]],1)-7)))
A38: 43902 | B38: =A38 -> 43902 | C38: CV | D38: 33524 | E38: 0.41666667 | F38: 0.79166667 | G38: =(Tableau1[[#This Row],[FIN]]-Tableau1[[#This Row],[DÉBUT]])*24 -> 9 | H38: =VLOOKUP(Tableau1[[#This Row],[HRS]],TABLEAUX!$A$2:$B$49,2,1) -> 2 | I38: =VLOOKUP(Tableau1[[#This Row],[HRS]],TABLEAUX!$C$2:$D$49,2,1) -> 1 | J38: =G38-I38 -> 8 | K38: =IF(I38=2,12.65,0) -> 0 | L38: =N38*7.45% -> 12.19416 | M38: =IF(WEEKDAY(Tableau1[[#This Row],[DATE]],2)<>7,"",SUMIFS(Tableau1[CHARGE/JRS],Tableau1[DATE],">="&Tableau1[[#This Row],[DATE]]-(WEEKDAY(Tableau1[[#This Row],[DATE]],1)-1),Tableau1[DATE],"<="&Tableau1[[#This Row],[DATE]]-(WEEKDAY(Tableau1[[#This Row],[DATE]],1)-7))) | N38: =(IF(C38="CV",OPTIONS!$C$2,IF(C38="COS",OPTIONS!$C$3,IF(C38="FORM",OPTIONS!$C$4,OPTIONS!$C$1))))*J38 -> 163.68 | O38: =Tableau1[[#This Row],[S-TOT $/JOUR]]+Tableau1[[#This Row],[PRIME REPAS]] -> 163.68 | P38: =IF(WEEKDAY(Tableau1[[#This Row],[DATE]],2)<>7,"",SUMIFS(Tableau1[HRS2],Tableau1[DATE],">="&Tableau1[[#This Row],[DATE]]-(WEEKDAY(Tableau1[[#This Row],[DATE]],1)-1),Tableau1[DATE],"<="&Tableau1[[#This Row],[DATE]]-(WEEKDAY(Tableau1[[#This Row],[DATE]],1)-7))) | Q38: =IF(WEEKDAY(Tableau1[[#This Row],[DATE]],2)<>7,"",SUMIFS(Tableau1[$/JOUR],Tableau1[DATE],">="&Tableau1[[#This Row],[DATE]]-(WEEKDAY(Tableau1[[#This Row],[DATE]],1)-1),Tableau1[DATE],"<="&Tableau1[[#This Row],[DATE]]-(WEEKDAY(Tableau1[[#This Row],[DATE]],1)-7)))
A39: 43903 | B39: =A39 -> 43903 | C39: CV | D39: 33524 | E39: 0.41666667 | F39: 0.75 | G39: =(Tableau1[[#This Row],[FIN]]-Tableau1[[#This Row],[DÉBUT]])*24 -> 8 | H39: =VLOOKUP(Tableau1[[#This Row],[HRS]],TABLEAUX!$A$2:$B$49,2,1) -> 2 | I39: =VLOOKUP(Tableau1[[#This Row],[HRS]],TABLEAUX!$C$2:$D$49,2,1) -> 1 | J39: =G39-I39 -> 7 | K39: =IF(I39=2,12.65,0) -> 0 | L39: =N39*7.45% -> 10.66989 | M39: =IF(WEEKDAY(Tableau1[[#This Row],[DATE]],2)<>7,"",SUMIFS(Tableau1[CHARGE/JRS],Tableau1[DATE],">="&Tableau1[[#This Row],[DATE]]-(WEEKDAY(Tableau1[[#This Row],[DATE]],1)-1),Tableau1[DATE],"<="&Tableau1[[#This Row],[DATE]]-(WEEKDAY(Tableau1[[#This Row],[DATE]],1)-7))) | N39: =(IF(C39="CV",OPTIONS!$C$2,IF(C39="COS",OPTIONS!$C$3,IF(C39="FORM",OPTIONS!$C$4,OPTIONS!$C$1))))*J39 -> 143.22 | O39: =Tableau1[[#This Row],[S-TOT $/JOUR]]+Tableau1[[#This Row],[PRIME REPAS]] -> 143.22 | P39: =IF(WEEKDAY(Tableau1[[#This Row],[DATE]],2)<>7,"",SUMIFS(Tableau1[HRS2],Tableau1[DATE],">="&Tableau1[[#This Row],[DATE]]-(WEEKDAY(Tableau1[[#This Row],[DATE]],1)-1),Tableau1[DATE],"<="&Tableau1[[#This Row],[DATE]]-(WEEKDAY(Tableau1[[#This Row],[DATE]],1)-7))) | Q39: =IF(WEEKDAY(Tableau1[[#This Row],[DATE]],2)<>7,"",SUMIFS(Tableau1[$/JOUR],Tableau1[DATE],">="&Tableau1[[#This Row],[DATE]]-(WEEKDAY(Tableau1[[#This Row],[DATE]],1)-1),Tableau1[DATE],"<="&Tableau1[[#This Row],[DATE]]-(WEEKDAY(Tableau1[[#This Row],[DATE]],1)-7)))
A40: 43904 | B40: =A40 -> 43904 | C40: CV | G40: =(Tableau1[[#This Row],[FIN]]-Tableau1[[#This Row],[DÉBUT]])*24 -> 0 | H40: =VLOOKUP(Tableau1[[#This Row],[HRS]],TABLEAUX!$A$2:$B$49,2,1) -> #N/A | I40: =VLOOKUP(Tableau1[[#This Row],[HRS]],TABLEAUX!$C$2:$D$49,2,1) -> #N/A | J40: =G40-I40 -> #N/A | K40: =IF(I40=2,12.65,0) -> #N/A | L40: =N40*7.45% -> #N/A | M40: =IF(WEEKDAY(Tableau1[[#This Row],[DATE]],2)<>7,"",SUMIFS(Tableau1[CHARGE/JRS],Tableau1[DATE],">="&Tableau1[[#This Row],[DATE]]-(WEEKDAY(Tableau1[[#This Row],[DATE]],1)-1),Tableau1[DATE],"<="&Tableau1[[#This Row],[DATE]]-(WEEKDAY(Tableau1[[#This Row],[DATE]],1)-7))) | N40: =(IF(C40="CV",OPTIONS!$C$2,IF(C40="COS",OPTIONS!$C$3,IF(C40="FORM",OPTIONS!$C$4,OPTIONS!$C$1))))*J40 -> #N/A | O40: =Tableau1[[#This Row],[S-TOT $/JOUR]]+Tableau1[[#This Row],[PRIME REPAS]] -> #N/A | P40: =IF(WEEKDAY(Tableau1[[#This Row],[DATE]],2)<>7,"",SUMIFS(Tableau1[HRS2],Tableau1[DATE],">="&Tableau1[[#This Row],[DATE]]-(WEEKDAY(Tableau1[[#This Row],[DATE]],1)-1),Tableau1[DATE],"<="&Tableau1[[#This Row],[DATE]]-(WEEKDAY(Tableau1[[#This Row],[DATE]],1)-7))) | Q40: =IF(WEEKDAY(Tableau1[[#This Row],[DATE]],2)<>7,"",SUMIFS(Tableau1[$/JOUR],Tableau1[DATE],">="&Tableau1[[#This Row],[DATE]]-(WEEKDAY(Tableau1[[#This Row],[DATE]],1)-1),Tableau1[DATE],"<="&Tableau1[[#This Row],[DATE]]-(WEEKDAY(Tableau1[[#This Row],[DATE]],1)-7)))
A41: 43905 | B41: =A41 -> 43905 | C41: COS | D41: 33606 | E41: 0.47916667 | F41: 0.72916667 | G41: =(Tableau1[[#This Row],[FIN]]-Tableau1[[#This Row],[DÉBUT]])*24 -> 6 | H41: =VLOOKUP(Tableau1[[#This Row],[HRS]],TABLEAUX!$A$2:$B$49,2,1) -> 1 | I41: =VLOOKUP(Tableau1[[#This Row],[HRS]],TABLEAUX!$C$2:$D$49,2,1) -> 0 | J41: =G41-I41 -> 6 | K41: =IF(I41=2,12.65,0) -> 0 | L41: =N41*7.45% -> 10.45086 | M41: =IF(WEEKDAY(Tableau1[[#This Row],[DATE]],2)<>7,"",SUMIFS(Tableau1[CHARGE/JRS],Tableau1[DATE],">="&Tableau1[[#This Row],[DATE]]-(WEEKDAY(Tableau1[[#This Row],[DATE]],1)-1),Tableau1[DATE],"<="&Tableau1[[#This Row],[DATE]]-(WEEKDAY(Tableau1[[#This Row],[DATE]],1)-7))) -> #N/A | N41: =(IF(C41="CV",OPTIONS!$C$2,IF(C41="COS",OPTIONS!$C$3,IF(C41="FORM",OPTIONS!$C$4,OPTIONS!$C$1))))*J41 -> 140.28 | O41: =Tableau1[[#This Row],[S-TOT $/JOUR]]+Tableau1[[#This Row],[PRIME REPAS]] -> 140.28 | P41: =IF(WEEKDAY(Tableau1[[#This Row],[DATE]],2)<>7,"",SUMIFS(Tableau1[HRS2],Tableau1[DATE],">="&Tableau1[[#This Row],[DATE]]-(WEEKDAY(Tableau1[[#This Row],[DATE]],1)-1),Tableau1[DATE],"<="&Tableau1[[#This Row],[DATE]]-(WEEKDAY(Tableau1[[#This Row],[DATE]],1)-7))) -> #N/A | Q41: =IF(WEEKDAY(Tableau1[[#This Row],[DATE]],2)<>7,"",SUMIFS(Tableau1[$/JOUR],Tableau1[DATE],">="&Tableau1[[#This Row],[DATE]]-(WEEKDAY(Tableau1[[#This Row],[DATE]],1)-1),Tableau1[DATE],"<="&Tableau1[[#This Row],[DATE]]-(WEEKDAY(Tableau1[[#This Row],[DATE]],1)-7)))+Tableau1[[#This Row],[CHARGE3]] -> #N/A
A42: 43906 | B42: =A42 -> 43906 | C42: CV | D42: 33606 | E42: 0.54166667 | F42: 0.75 | G42: =(Tableau1[[#This Row],[FIN]]-Tableau1[[#This Row],[DÉBUT]])*24 -> 5 | H42: =VLOOKUP(Tableau1[[#This Row],[HRS]],TABLEAUX!$A$2:$B$49,2,1) -> 1 | I42: =VLOOKUP(Tableau1[[#This Row],[HRS]],TABLEAUX!$C$2:$D$49,2,1) -> 0 | J42: =G42-I42 -> 5 | K42: =IF(I42=2,12.65,0) -> 0 | L42: =N42*7.45% -> 7.62135 | M42: =IF(WEEKDAY(Tableau1[[#This Row],[DATE]],2)<>7,"",SUMIFS(Tableau1[CHARGE/JRS],Tableau1[DATE],">="&Tableau1[[#This Row],[DATE]]-(WEEKDAY(Tableau1[[#This Row],[DATE]],1)-1),Tableau1[DATE],"<="&Tableau1[[#This Row],[DATE]]-(WEEKDAY(Tableau1[[#This Row],[DATE]],1)-7))) | N42: =(IF(C42="CV",OPTIONS!$C$2,IF(C42="COS",OPTIONS!$C$3,IF(C42="FORM",OPTIONS!$C$4,OPTIONS!$C$1))))*J42 -> 102.3 | O42: =Tableau1[[#This Row],[S-TOT $/JOUR]]+Tableau1[[#This Row],[PRIME REPAS]] -> 102.3 | P42: =IF(WEEKDAY(Tableau1[[#This Row],[DATE]],2)<>7,"",SUMIFS(Tableau1[HRS2],Tableau1[DATE],">="&Tableau1[[#This Row],[DATE]]-(WEEKDAY(Tableau1[[#This Row],[DATE]],1)-1),Tableau1[DATE],"<="&Tableau1[[#This Row],[DATE]]-(WEEKDAY(Tableau1[[#This Row],[DATE]],1)-7))) | Q42: =IF(WEEKDAY(Tableau1[[#This Row],[DATE]],2)<>7,"",SUMIFS(Tableau1[$/JOUR],Tableau1[DATE],">="&Tableau1[[#This Row],[DATE]]-(WEEKDAY(Tableau1[[#This Row],[DATE]],1)-1),Tableau1[DATE],"<="&Tableau1[[#This Row],[DATE]]-(WEEKDAY(Tableau1[[#This Row],[DATE]],1)-7)))
...

Sheet TABLEAUX
A1: H | B1: P | C1: H | D1: R | F1: DE | H1: 1 PAUSE | Q1: 2 PAUSES | X1: 2 PAUSES + 1 REPAS | AK1: 2 PAUSES + 2 REPAS
A2: 0.25 | B2: 0 | C2: 0.25 | D2: 0 | F2: 0.33333333 | H2: 0.5 | I2: 0.51041667 | J2: 0.52083333 | K2: 0.53125 | L2: 0.54166667 | M2: 0.55208333 | N2: 0.5625 | O2: 0.57291667 | Q2: 0.58333333 | R2: 0.59375 | S2: 0.60416667 | T2: 0.61458333 | U2: 0.625 | V2: 0.63541667 | X2: 0.64583333 | Y2: 0.65625 | Z2: 0.66666667 | AA2: 0.67708333 | AB2: 0.6875 | AC2: 0.69791667 | AD2: 0.70833333 | AE2: 0.71875 | AF2: 0.72916667 | AG2: 0.73958333 | AH2: 0.75 | AI2: 0.76041667 | AK2: 0.77083333 | AL2: 0.78125 | AM2: 0.79166667 | AN2: 0.80208333 | AO2: 0.8125 | AP2: 0.82291667 | AQ2: 0.83333333
A3: 0.5 | B3: 0 | C3: 0.5 | D3: 0 | F3: 0.34375 | H3: 0.51041667 | I3: 0.52083333 | J3: 0.53125 | K3: 0.54166667 | L3: 0.55208333 | M3: 0.5625 | N3: 0.57291667 | O3: 0.58333333 | Q3: 0.59375 | R3: 0.60416667 | S3: 0.61458333 | T3: 0.625 | U3: 0.63541667 | V3: 0.64583333 | X3: 0.65625 | Y3: 0.66666667 | Z3: 0.67708333 | AA3: 0.6875 | AB3: 0.69791667 | AC3: 0.70833333 | AD3: 0.71875 | AE3: 0.72916667 | AF3: 0.73958333 | AG3: 0.75 | AH3: 0.76041667 | AI3: 0.77083333 | AK3: 0.78125 | AL3: 0.79166667 | AM3: 0.80208333 | AN3: 0.8125 | AO3: 0.82291667 | AP3: 0.83333333 | AQ3: 0.84375
A4: 0.75 | B4: 0 | C4: 0.75 | D4: 0 | F4: 0.35416667 | H4: 0.52083333 | I4: 0.53125 | J4: 0.54166667 | K4: 0.55208333 | L4: 0.5625 | M4: 0.57291667 | N4: 0.58333333 | O4: 0.59375 | Q4: 0.60416667 | R4: 0.61458333 | S4: 0.625 | T4: 0.63541667 | U4: 0.64583333 | V4: 0.65625 | X4: 0.66666667 | Y4: 0.67708333 | Z4: 0.6875 | AA4: 0.69791667 | AB4: 0.70833333 | AC4: 0.71875 | AD4: 0.72916667 | AE4: 0.73958333 | AF4: 0.75 | AG4: 0.76041667 | AH4: 0.77083333 | AI4: 0.78125 | AK4: 0.79166667 | AL4: 0.80208333 | AM4: 0.8125 | AN4: 0.82291667 | AO4: 0.83333333 | AP4: 0.84375 | AQ4: 0.85416667
A5: 1 | B5: 0 | C5: 1 | D5: 0 | F5: 0.36458333 | H5: 0.53125 | I5: 0.54166667 | J5: 0.55208333 | K5: 0.5625 | L5: 0.57291667 | M5: 0.58333333 | N5: 0.59375 | O5: 0.60416667 | Q5: 0.61458333 | R5: 0.625 | S5: 0.63541667 | T5: 0.64583333 | U5: 0.65625 | V5: 0.66666667 | X5: 0.67708333 | Y5: 0.6875 | Z5: 0.69791667 | AA5: 0.70833333 | AB5: 0.71875 | AC5: 0.72916667 | AD5: 0.73958333 | AE5: 0.75 | AF5: 0.76041667 | AG5: 0.77083333 | AH5: 0.78125 | AI5: 0.79166667 | AK5: 0.80208333 | AL5: 0.8125 | AM5: 0.82291667 | AN5: 0.83333333 | AO5: 0.84375 | AP5: 0.85416667 | AQ5: 0.86458333
A6: 1.25 | B6: 0 | C6: 1.25 | D6: 0 | F6: 0.375 | H6: 0.54166667 | I6: 0.55208333 | J6: 0.5625 | K6: 0.57291667 | L6: 0.58333333 | M6: 0.59375 | N6: 0.60416667 | O6: 0.61458333 | Q6: 0.625 | R6: 0.63541667 | S6: 0.64583333 | T6: 0.65625 | U6: 0.66666667 | V6: 0.67708333 | X6: 0.6875 | Y6: 0.69791667 | Z6: 0.70833333 | AA6: 0.71875 | AB6: 0.72916667 | AC6: 0.73958333 | AD6: 0.75 | AE6: 0.76041667 | AF6: 0.77083333 | AG6: 0.78125 | AH6: 0.79166667 | AI6: 0.80208333 | AK6: 0.8125 | AL6: 0.82291667 | AM6: 0.83333333 | AN6: 0.84375 | AO6: 0.85416667 | AP6: 0.86458333 | AQ6: 0.875
A7: 1.5 | B7: 0 | C7: 1.5 | D7: 0 | F7: 0.38541667 | H7: 0.55208333 | I7: 0.5625 | J7: 0.57291667 | K7: 0.58333333 | L7: 0.59375 | M7: 0.60416667 | N7: 0.61458333 | O7: 0.625 | Q7: 0.63541667 | R7: 0.64583333 | S7: 0.65625 | T7: 0.66666667 | U7: 0.67708333 | V7: 0.6875 | X7: 0.69791667 | Y7: 0.70833333 | Z7: 0.71875 | AA7: 0.72916667 | AB7: 0.73958333 | AC7: 0.75 | AD7: 0.76041667 | AE7: 0.77083333 | AF7: 0.78125 | AG7: 0.79166667 | AH7: 0.80208333 | AI7: 0.8125 | AK7: 0.82291667 | AL7: 0.83333333 | AM7: 0.84375 | AN7: 0.85416667 | AO7: 0.86458333 | AP7: 0.875 | AQ7: 0.88541667
A8: 1.75 | B8: 0 | C8: 1.75 | D8: 0 | F8: 0.39583333 | H8: 0.5625 | I8: 0.57291667 | J8: 0.58333333 | K8: 0.59375 | L8: 0.60416667 | M8: 0.61458333 | N8: 0.625 | O8: 0.63541667 | Q8: 0.64583333 | R8: 0.65625 | S8: 0.66666667 | T8: 0.67708333 | U8: 0.6875 | V8: 0.69791667 | X8: 0.70833333 | Y8: 0.71875 | Z8: 0.72916667 | AA8: 0.73958333 | AB8: 0.75 | AC8: 0.76041667 | AD8: 0.77083333 | AE8: 0.78125 | AF8: 0.79166667 | AG8: 0.80208333 | AH8: 0.8125 | AI8: 0.82291667 | AK8: 0.83333333 | AL8: 0.84375 | AM8: 0.85416667 | AN8: 0.86458333 | AO8: 0.875 | AP8: 0.88541667 | AQ8: 0.89583333
A9: 2 | B9: 0 | C9: 2 | D9: 0 | F9: 0.40625 | H9: 0.57291667 | I9: 0.58333333 | J9: 0.59375 | K9: 0.60416667 | L9: 0.61458333 | M9: 0.625 | N9: 0.63541667 | O9: 0.64583333 | Q9: 0.65625 | R9: 0.66666667 | S9: 0.67708333 | T9: 0.6875 | U9: 0.69791667 | V9: 0.70833333 | X9: 0.71875 | Y9: 0.72916667 | Z9: 0.73958333 | AA9: 0.75 | AB9: 0.76041667 | AC9: 0.77083333 | AD9: 0.78125 | AE9: 0.79166667 | AF9: 0.80208333 | AG9: 0.8125 | AH9: 0.82291667 | AI9: 0.83333333 | AK9: 0.84375 | AL9: 0.85416667 | AM9: 0.86458333 | AN9: 0.875 | AO9: 0.88541667 | AP9: 0.89583333 | AQ9: 0.90625
A10: 2.25 | B10: 0 | C10: 2.25 | D10: 0 | F10: 0.41666667 | H10: 0.58333333 | I10: 0.59375 | J10: 0.60416667 | K10: 0.61458333 | L10: 0.625 | M10: 0.63541667 | N10: 0.64583333 | O10: 0.65625 | Q10: 0.66666667 | R10: 0.67708333 | S10: 0.6875 | T10: 0.69791667 | U10: 0.70833333 | V10: 0.71875 | X10: 0.72916667 | Y10: 0.73958333 | Z10: 0.75 | AA10: 0.76041667 | AB10: 0.77083333 | AC10: 0.78125 | AD10: 0.79166667 | AE10: 0.80208333 | AF10: 0.8125 | AG10: 0.82291667 | AH10: 0.83333333 | AI10: 0.84375 | AK10: 0.85416667 | AL10: 0.86458333 | AM10: 0.875 | AN10: 0.88541667 | AO10: 0.89583333 | AP10: 0.90625 | AQ10: 0.91666667
A11: 2.5 | B11: 0 | C11: 2.5 | D11: 0 | F11: 0.42708333 | H11: 0.59375 | I11: 0.60416667 | J11: 0.61458333 | K11: 0.625 | L11: 0.63541667 | M11: 0.64583333 | N11: 0.65625 | O11: 0.66666667 | Q11: 0.67708333 | R11: 0.6875 | S11: 0.69791667 | T11: 0.70833333 | U11: 0.71875 | V11: 0.72916667 | X11: 0.73958333 | Y11: 0.75 | Z11: 0.76041667 | AA11: 0.77083333 | AB11: 0.78125 | AC11: 0.79166667 | AD11: 0.80208333 | AE11: 0.8125 | AF11: 0.82291667 | AG11: 0.83333333 | AH11: 0.84375 | AI11: 0.85416667 | AK11: 0.86458333 | AL11: 0.875 | AM11: 0.88541667 | AN11: 0.89583333 | AO11: 0.90625 | AP11: 0.91666667 | AQ11: 0.92708333
A12: 2.75 | B12: 0 | C12: 2.75 | D12: 0 | F12: 0.4375 | H12: 0.60416667 | I12: 0.61458333 | J12: 0.625 | K12: 0.63541667 | L12: 0.64583333 | M12: 0.65625 | N12: 0.66666667 | O12: 0.67708333 | Q12: 0.6875 | R12: 0.69791667 | S12: 0.70833333 | T12: 0.71875 | U12: 0.72916667 | V12: 0.73958333 | X12: 0.75 | Y12: 0.76041667 | Z12: 0.77083333 | AA12: 0.78125 | AB12: 0.79166667 | AC12: 0.80208333 | AD12: 0.8125 | AE12: 0.82291667 | AF12: 0.83333333 | AG12: 0.84375 | AH12: 0.85416667 | AI12: 0.86458333 | AK12: 0.875 | AL12: 0.88541667 | AM12: 0.89583333 | AN12: 0.90625 | AO12: 0.91666667 | AP12: 0.92708333 | AQ12: 0.9375
A13: 3 | B13: 0 | C13: 3 | D13: 0 | F13: 0.44791667 | H13: 0.61458333 | I13: 0.625 | J13: 0.63541667 | K13: 0.64583333 | L13: 0.65625 | M13: 0.66666667 | N13: 0.67708333 | O13: 0.6875 | Q13: 0.69791667 | R13: 0.70833333 | S13: 0.71875 | T13: 0.72916667 | U13: 0.73958333 | V13: 0.75 | X13: 0.76041667 | Y13: 0.77083333 | Z13: 0.78125 | AA13: 0.79166667 | AB13: 0.80208333 | AC13: 0.8125 | AD13: 0.82291667 | AE13: 0.83333333 | AF13: 0.84375 | AG13: 0.85416667 | AH13: 0.86458333 | AI13: 0.875 | AK13: 0.88541667 | AL13: 0.89583333 | AM13: 0.90625 | AN13: 0.91666667 | AO13: 0.92708333 | AP13: 0.9375 | AQ13: 0.94791667
