Workbook
Name HORODATEUR: Tableau1[#All]

Sheet HORODATEUR
A1: RAPHAEL GIROUX
P3: =SUM(Tableau1[H]) -> #N/A | Q3: =SUM(Tableau1[$]) -> #N/A
A5: DATE | B5: JOUR | C5: POSTE | D5: SUCC. | E5: DÉBUT | F5: FIN | G5: HRS | H5: P | I5: R | J5: HRS2 | K5: PRIME REPAS | L5: CHARGE/JRS | M5: CHARGE3 | N5: S-TOT $/JOUR | O5: $/JOUR | P5: H | Q5: $
A6: 43870 | B6: =A6 -> 43870 | C6: CV | G6: =(Tableau1[[#This Row],[FIN]]-Tableau1[[#This Row],[DÉBUT]])*24 -> 0 | H6: =VLOOKUP(Tableau1[[#This Row],[HRS]],TABLEAUX!$A$2:$B$49,2,1) -> #N/A | I6: =VLOOKUP(Tableau1[[#This Row],[HRS]],TABLEAUX!$C$2:$D$49,2,1) -> #N/A | J6: =G6-I6 -> #N/A | K6: =IF(I6=2,12.65,0) -> #N/A | L6: =N6*7.45% -> #N/A | M6: =IF(WEEKDAY(Tableau1[[#This Row],[DATE]],2)<>7,"",SUMIFS(Tableau1[CHARGE/JRS],Tableau1[DATE],">="&Tableau1[[#This Row],[DATE]]-(WEEKDAY(Tableau1[[#This Row],[DATE]],1)-1),Tableau1[DATE],"<="&Tableau1[[#This Row],[DATE]]-(WEEKDAY(Tableau1[[#This Row],[DATE]],1)-7))) -> #N/A | N6: =(IF(C6="CV",OPTIONS!$C$2,IF(C6="COS",OPTIONS!$C$3,IF(C6="FORM",OPTIONS!$C$4,OPTIONS!$C$1))))*J6 -> #N/A | O6: =Tableau1[[#This Row],[S-TOT $/JOUR]]+Tableau1[[#This Row],[PRIME REPAS]] -> #N/A | P6: =IF(WEEKDAY(Tableau1[[#This Row],[DATE]],2)<>7,"",SUMIFS(Tableau1[HRS2],Tableau1[DATE],">="&Tableau1[[#This Row],[DATE]]-(WEEKDAY(Tableau1[[#This Row],[DATE]],1)-1),Tableau1[DATE],"<="&Tableau1[[#This Row],[DATE]]-(WEEKDAY(Tableau1[[#This Row],[DATE]],1)-7))) -> #N/A | Q6: =IF(WEEKDAY(Tableau1[[#This Row],[DATE]],2)<>7,"",SUMIFS(Tableau1[$/JOUR],Tableau1[DATE],">="&Tableau1[[#This Row],[DATE]]-(WEEKDAY(Tableau1[[#This Row],[DATE]],1)-1),Tableau1[DATE],"<="&Tableau1[[#This Row],[DATE]]-(WEEKDAY(Tableau1[[#This Row],[DATE]],1)-7)))+Tableau1[[#This Row],[CHARGE3]] -> #N/A
A7: 43871 | B7: =A7 -> 43871 | G7: =(Tableau1[[#This Row],[FIN]]-Tableau1[[#This Row],[DÉBUT]])*24 -> 0 | H7: =VLOOKUP(Tableau1[[#This Row],[HRS]],TABLEAUX!$A$2:$B$49,2,1) -> #N/A | I7: =VLOOKUP(Tableau1[[#This Row],[HRS]],TABLEAUX!$C$2:$D$49,2,1) -> #N/A | J7: =G7-I7 -> #N/A | K7: =IF(I7=2,12.65,0) -> #N/A | L7: =N7*7.45% -> #N/A | M7: =IF(WEEKDAY(Tableau1[[#This Row],[DATE]],2)<>7,"",SUMIFS(Tableau1[CHARGE/JRS],Tableau1[DATE],">="&Tableau1[[#This Row],[DATE]]-(WEEKDAY(Tableau1[[#This Row],[DATE]],1)-1),Tableau1[DATE],"<="&Tableau1[[#This Row],[DATE]]-(WEEKDAY(Tableau1[[#This Row],[DATE]],1)-7))) | N7: =(IF(C7="CV",OPTIONS!$C$2,IF(C7="COS",OPTIONS!$C$3,IF(C7="FORM",OPTIONS!$C$4,OPTIONS!$C$1))))*J7 -> #N/A | O7: =Tableau1[[#This Row],[S-TOT $/JOUR]]+Tableau1[[#This Row],[PRIME REPAS]] -> #N/A | P7: =IF(WEEKDAY(Tableau1[[#This Row],[DATE]],2)<>7,"",SUMIFS(Tableau1[HRS2],Tableau1[DATE],">="&Tableau1[[#This Row],[DATE]]-(WEEKDAY(Tableau1[[#This Row],[DATE]],1)-1),Tableau1[DATE],"<="&Tableau1[[#This Row],[DATE]]-(WEEKDAY(Tableau1[[#This Row],[DATE]],1)-7))) | Q7: =IF(WEEKDAY(Tableau1[[#This Row],[DATE]],2)<>7,"",SUMIFS(Tableau1[$/JOUR],Tableau1[DATE],">="&Tableau1[[#This Row],[DATE]]-(WEEKDAY(Tableau1[[#This Row],[DATE]],1)-1),Tableau1[DATE],"<="&Tableau1[[#This Row],[DATE]]-(WEEKDAY(Tableau1[[#This Row],[DATE]],1)-7)))
A8: 43872 | B8: =A8 -> 43872 | G8: =(Tableau1[[#This Row],[FIN]]-Tableau1[[#This Row],[DÉBUT]])*24 -> 0 | H8: =VLOOKUP(Tableau1[[#This Row],[HRS]],TABLEAUX!$A$2:$B$49,2,1) -> #N/A | I8: =VLOOKUP(Tableau1[[#This Row],[HRS]],TABLEAUX!$C$2:$D$49,2,1) -> #N/A | J8: =G8-I8 -> #N/A | K8: =IF(I8=2,12.65,0) -> #N/A | L8: =N8*7.45% -> #N/A | M8: =IF(WEEKDAY(Tableau1[[#This Row],[DATE]],2)<>7,"",SUMIFS(Tableau1[CHARGE/JRS],Tableau1[DATE],">="&Tableau1[[#This Row],[DATE]]-(WEEKDAY(Tableau1[[#This Row],[DATE]],1)-1),Tableau1[DATE],"<="&Tableau1[[#This Row],[DATE]]-(WEEKDAY(Tableau1[[#This Row],[DATE]],1)-7))) | N8: =(IF(C8="CV",OPTIONS!$C$2,IF(C8="COS",OPTIONS!$C$3,IF(C8="FORM",OPTIONS!$C$4,OPTIONS!$C$1))))*J8 -> #N/A | O8: =Tableau1[[#This Row],[S-TOT $/JOUR]]+Tableau1[[#This Row],[PRIME REPAS]] -> #N/A | P8: =IF(WEEKDAY(Tableau1[[#This Row],[DATE]],2)<>7,"",SUMIFS(Tableau1[HRS2],Tableau1[DATE],">="&Tableau1[[#This Row],[DATE]]-(WEEKDAY(Tableau1[[#This Row],[DATE]],1)-1),Tableau1[DATE],"<="&Tableau1[[#This Row],[DATE]]-(WEEKDAY(Tableau1[[#This Row],[DATE]],1)-7))) | Q8: =IF(WEEKDAY(Tableau1[[#This Row],[DATE]],2)<>7,"",SUMIFS(Tableau1[$/JOUR],Tableau1[DATE],">="&Tableau1[[#This Row],[DATE]]-(WEEKDAY(Tableau1[[#This Row],[DATE]],1)-1),Tableau1[DATE],"<="&Tableau1[[#This Row],[DATE]]-(WEEKDAY(Tableau1[[#This Row],[DATE]],1)-7)))
A9: 43873 | B9: =A9 -> 43873 | G9: =(Tableau1[[#This Row],[FIN]]-Tableau1[[#This Row],[DÉBUT]])*24 -> 0 | H9: =VLOOKUP(Tableau1[[#This Row],[HRS]],TABLEAUX!$A$2:$B$49,2,1) -> #N/A | I9: =VLOOKUP(Tableau1[[#This Row],[HRS]],TABLEAUX!$C$2:$D$49,2,1) -> #N/A | J9: =G9-I9 -> #N/A | K9: =IF(I9=2,12.65,0) -> #N/A | L9: =N9*7.45% -> #N/A | M9: =IF(WEEKDAY(Tableau1[[#This Row],[DATE]],2)<>7,"",SUMIFS(Tableau1[CHARGE/JRS],Tableau1[DATE],">="&Tableau1[[#This Row],[DATE]]-(WEEKDAY(Tableau1[[#This Row],[DATE]],1)-1),Tableau1[DATE],"<="&Tableau1[[#This Row],[DATE]]-(WEEKDAY(Tableau1[[#This Row],[DATE]],1)-7))) | N9: =(IF(C9="CV",OPTIONS!$C$2,IF(C9="COS",OPTIONS!$C$3,IF(C9="FORM",OPTIONS!$C$4,OPTIONS!$C$1))))*J9 -> #N/A | O9: =Tableau1[[#This Row],[S-TOT $/JOUR]]+Tableau1[[#This Row],[PRIME REPAS]] -> #N/A | P9: =IF(WEEKDAY(Tableau1[[#This Row],[DATE]],2)<>7,"",SUMIFS(Tableau1[HRS2],Tableau1[DATE],">="&Tableau1[[#This Row],[DATE]]-(WEEKDAY(Tableau1[[#This Row],[DATE]],1)-1),Tableau1[DATE],"<="&Tableau1[[#This Row],[DATE]]-(WEEKDAY(Tableau1[[#This Row],[DATE]],1)-7))) | Q9: =IF(WEEKDAY(Tableau1[[#This Row],[DATE]],2)<>7,"",SUMIFS(Tableau1[$/JOUR],Tableau1[DATE],">="&Tableau1[[#This Row],[DATE]]-(WEEKDAY(Tableau1[[#This Row],[DATE]],1)-1),Tableau1[DATE],"<="&Tableau1[[#This Row],[DATE]]-(WEEKDAY(Tableau1[[#This Row],[DATE]],1)-7)))
A10: 43874 | B10: =A10 -> 43874 | G10: =(Tableau1[[#This Row],[FIN]]-Tableau1[[#This Row],[DÉBUT]])*24 -> 0 | H10: =VLOOKUP(Tableau1[[#This Row],[HRS]],TABLEAUX!$A$2:$B$49,2,1) -> #N/A | I10: =VLOOKUP(Tableau1[[#This Row],[HRS]],TABLEAUX!$C$2:$D$49,2,1) -> #N/A | J10: =G10-I10 -> #N/A | K10: =IF(I10=2,12.65,0) -> #N/A | L10: =N10*7.45% -> #N/A | M10: =IF(WEEKDAY(Tableau1[[#This Row],[DATE]],2)<>7,"",SUMIFS(Tableau1[CHARGE/JRS],Tableau1[DATE],">="&Tableau1[[#This Row],[DATE]]-(WEEKDAY(Tableau1[[#This Row],[DATE]],1)-1),Tableau1[DATE],"<="&Tableau1[[#This Row],[DATE]]-(WEEKDAY(Tableau1[[#This Row],[DATE]],1)-7))) | N10: =(IF(C10="CV",OPTIONS!$C$2,IF(C10="COS",OPTIONS!$C$3,IF(C10="FORM",OPTIONS!$C$4,OPTIONS!$C$1))))*J10 -> #N/A | O10: =Tableau1[[#This Row],[S-TOT $/JOUR]]+Tableau1[[#This Row],[PRIME REPAS]] -> #N/A | P10: =IF(WEEKDAY(Tableau1[[#This Row],[DATE]],2)<>7,"",SUMIFS(Tableau1[HRS2],Tableau1[DATE],">="&Tableau1[[#This Row],[DATE]]-(WEEKDAY(Tableau1[[#This Row],[DATE]],1)-1),Tableau1[DATE],"<="&Tableau1[[#This Row],[DATE]]-(WEEKDAY(Tableau1[[#This Row],[DATE]],1)-7))) | Q10: =IF(WEEKDAY(Tableau1[[#This Row],[DATE]],2)<>7,"",SUMIFS(Tableau1[$/JOUR],Tableau1[DATE],">="&Tableau1[[#This Row],[DATE]]-(WEEKDAY(Tableau1[[#This Row],[DATE]],1)-1),Tableau1[DATE],"<="&Tableau1[[#This Row],[DATE]]-(WEEKDAY(Tableau1[[#This Row],[DATE]],1)-7)))
A11: 43875 | B11: =A11 -> 43875 | G11: =(Tableau1[[#This Row],[FIN]]-Tableau1[[#This Row],[DÉBUT]])*24 -> 0 | H11: =VLOOKUP(Tableau1[[#This Row],[HRS]],TABLEAUX!$A$2:$B$49,2,1) -> #N/A | I11: =VLOOKUP(Tableau1[[#This Row],[HRS]],TABLEAUX!$C$2:$D$49,2,1) -> #N/A | J11: =G11-I11 -> #N/A | K11: =IF(I11=2,12.65,0) -> #N/A | L11: =N11*7.45% -> #N/A | M11: =IF(WEEKDAY(Tableau1[[#This Row],[DATE]],2)<>7,"",SUMIFS(Tableau1[CHARGE/JRS],Tableau1[DATE],">="&Tableau1[[#This Row],[DATE]]-(WEEKDAY(Tableau1[[#This Row],[DATE]],1)-1),Tableau1[DATE],"<="&Tableau1[[#This Row],[DATE]]-(WEEKDAY(Tableau1[[#This Row],[DATE]],1)-7))) | N11: =(IF(C11="CV",OPTIONS!$C$2,IF(C11="COS",OPTIONS!$C$3,IF(C11="FORM",OPTIONS!$C$4,OPTIONS!$C$1))))*J11 -> #N/A | O11: =Tableau1[[#This Row],[S-TOT $/JOUR]]+Tableau1[[#This Row],[PRIME REPAS]] -> #N/A | P11: =IF(WEEKDAY(Tableau1[[#This Row],[DATE]],2)<>7,"",SUMIFS(Tableau1[HRS2],Tableau1[DATE],">="&Tableau1[[#This Row],[DATE]]-(WEEKDAY(Tableau1[[#This Row],[DATE]],1)-1),Tableau1[DATE],"<="&Tableau1[[#This Row],[DATE]]-(WEEKDAY(Tableau1[[#This Row],[DATE]],1)-7))) | Q11: =IF(WEEKDAY(Tableau1[[#This Row],[DATE]],2)<>7,"",SUMIFS(Tableau1[$/JOUR],Tableau1[DATE],">="&Tableau1[[#This Row],[DATE]]-(WEEKDAY(Tableau1[[#This Row],[DATE]],1)-1),Tableau1[DATE],"<="&Tableau1[[#This Row],[DATE]]-(WEEKDAY(Tableau1[[#This Row],[DATE]],1)-7)))
A12: 43876 | B12: =A12 -> 43876 | G12: =(Tableau1[[#This Row],[FIN]]-Tableau1[[#This Row],[DÉBUT]])*24 -> 0 | H12: =VLOOKUP(Tableau1[[#This Row],[HRS]],TABLEAUX!$A$2:$B$49,2,1) -> #N/A | I12: =VLOOKUP(Tableau1[[#This Row],[HRS]],TABLEAUX!$C$2:$D$49,2,1) -> #N/A | J12: =G12-I12 -> #N/A | K12: =IF(I12=2,12.65,0) -> #N/A | L12: =N12*7.45% -> #N/A | M12: =IF(WEEKDAY(Tableau1[[#This Row],[DATE]],2)<>7,"",SUMIFS(Tableau1[CHARGE/JRS],Tableau1[DATE],">="&Tableau1[[#This Row],[DATE]]-(WEEKDAY(Tableau1[[#This Row],[DATE]],1)-1),Tableau1[DATE],"<="&Tableau1[[#This Row],[DATE]]-(WEEKDAY(Tableau1[[#This Row],[DATE]],1)-7))) | N12: =(IF(C12="CV",OPTIONS!$C$2,IF(C12="COS",OPTIONS!$C$3,IF(C12="FORM",OPTIONS!$C$4,OPTIONS!$C$1))))*J12 -> #N/A | O12: =Tableau1[[#This Row],[S-TOT $/JOUR]]+Tableau1[[#This Row],[PRIME REPAS]] -> #N/A | P12: =IF(WEEKDAY(Tableau1[[#This Row],[DATE]],2)<>7,"",SUMIFS(Tableau1[HRS2],Tableau1[DATE],">="&Tableau1[[#This Row],[DATE]]-(WEEKDAY(Tableau1[[#This Row],[DATE]],1)-1),Tableau1[DATE],"<="&Tableau1[[#This Row],[DATE]]-(WEEKDAY(Tableau1[[#This Row],[DATE]],1)-7))) | Q12: =IF(WEEKDAY(Tableau1[[#This Row],[DATE]],2)<>7,"",SUMIFS(Tableau1[$/JOUR],Tableau1[DATE],">="&Tableau1[[#This Row],[DATE]]-(WEEKDAY(Tableau1[[#This Row],[DATE]],1)-1),Tableau1[DATE],"<="&Tableau1[[#This Row],[DATE]]-(WEEKDAY(Tableau1[[#This Row],[DATE]],1)-7)))
A13: 43877 | B13: =A13 -> 43877 | C13: CV | D13: 33524 | E13: 0.58333333 | F13: 0.70833333 | G13: =(Tableau1[[#This Row],[FIN]]-Tableau1[[#This Row],[DÉBUT]])*24 -> 3 | H13: =VLOOKUP(Tableau1[[#This Row],[HRS]],TABLEAUX!$A$2:$B$49,2,1) -> 0 | I13: =VLOOKUP(Tableau1[[#This Row],[HRS]],TABLEAUX!$C$2:$D$49,2,1) -> 0 | J13: =G13-I13 -> 3 | K13: =IF(I13=2,12.65,0) -> 0 | L13: =N13*7.45% -> 4.57281 | M13: =IF(WEEKDAY(Tableau1[[#This Row],[DATE]],2)<>7,"",SUMIFS(Tableau1[CHARGE/JRS],Tableau1[DATE],">="&Tableau1[[#This Row],[DATE]]-(WEEKDAY(Tableau1[[#This Row],[DATE]],1)-1),Tableau1[DATE],"<="&Tableau1[[#This Row],[DATE]]-(WEEKDAY(Tableau1[[#This Row],[DATE]],1)-7))) -> #N/A | N13: =(IF(C13="CV",OPTIONS!$C$2,IF(C13="COS",OPTIONS!$C$3,IF(C13="FORM",OPTIONS!$C$4,OPTIONS!$C$1))))*J13 -> 61.38 | O13: =Tableau1[[#This Row],[S-TOT $/JOUR]]+Tableau1[[#This Row],[PRIME REPAS]] -> 61.38 | P13: =IF(WEEKDAY(Tableau1[[#This Row],[DATE]],2)<>7,"",SUMIFS(Tableau1[HRS2],Tableau1[DATE],">="&Tableau1[[#This Row],[DATE]]-(WEEKDAY(Tableau1[[#This Row],[DATE]],1)-1),Tableau1[DATE],"<="&Tableau1[[#This Row],[DATE]]-(WEEKDAY(Tableau1[[#This Row],[DATE]],1)-7))) -> #N/A | Q13: =IF(WEEKDAY(Tableau1[[#This Row],[DATE]],2)<>7,"",SUMIFS(Tableau1[$/JOUR],Tableau1[DATE],">="&Tableau1[[#This Row],[DATE]]-(WEEKDAY(Tableau1[[#This Row],[DATE]],1)-1),Tableau1[DATE],"<="&Tableau1[[#This Row],[DATE]]-(WEEKDAY(Tableau1[[#This Row],[DATE]],1)-7)))+Tableau1[[#This Row],[CHARGE3]] -> #N/A
A14: 43878 | B14: =A14 -> 43878 | G14: =(Tableau1[[#This Row],[FIN]]-Tableau1[[#This Row],[DÉBUT]])*24 -> 0 | H14: =VLOOKUP(Tableau1[[#This Row],[HRS]],TABLEAUX!$A$2:$B$49,2,1) -> #N/A | I14: =VLOOKUP(Tableau1[[#This Row],[HRS]],TABLEAUX!$C$2:$D$49,2,1) -> #N/A | J14: =G14-I14 -> #N/A | K14: =IF(I14=2,12.65,0) -> #N/A | L14: =N14*7.45% -> #N/A | M14: =IF(WEEKDAY(Tableau1[[#This Row],[DATE]],2)<>7,"",SUMIFS(Tableau1[CHARGE/JRS],Tableau1[DATE],">="&Tableau1[[#This Row],[DATE]]-(WEEKDAY(Tableau1[[#This Row],[DATE]],1)-1),Tableau1[DATE],"<="&Tableau1[[#This Row],[DATE]]-(WEEKDAY(Tableau1[[#This Row],[DATE]],1)-7))) | N14: =(IF(C14="CV",OPTIONS!$C$2,IF(C14="COS",OPTIONS!$C$3,IF(C14="FORM",OPTIONS!$C$4,OPTIONS!$C$1))))*J14 -> #N/A | O14: =Tableau1[[#This Row],[S-TOT $/JOUR]]+Tableau1[[#This Row],[PRIME REPAS]] -> #N/A | P14: =IF(WEEKDAY(Tableau1[[#This Row],[DATE]],2)<>7,"",SUMIFS(Tableau1[HRS2],Tableau1[DATE],">="&Tableau1[[#This Row],[DATE]]-(WEEKDAY(Tableau1[[#This Row],[DATE]],1)-1),Tableau1[DATE],"<="&Tableau1[[#This Row],[DATE]]-(WEEKDAY(Tableau1[[#This Row],[DATE]],1)-7))) | Q14: =IF(WEEKDAY(Tableau1[[#This Row],[DATE]],2)<>7,"",SUMIFS(Tableau1[$/JOUR],Tableau1[DATE],">="&Tableau1[[#This Row],[DATE]]-(WEEKDAY(Tableau1[[#This Row],[DATE]],1)-1),Tableau1[DATE],"<="&Tableau1[[#This Row],[DATE]]-(WEEKDAY(Tableau1[[#This Row],[DATE]],1)-7)))
A15: 43879 | B15: =A15 -> 43879 | C15: CV | D15: 33538 | E15: 0.625 | F15: 0.75 | G15: =(Tableau1[[#This Row],[FIN]]-Tableau1[[#This Row],[DÉBUT]])*24 -> 3 | H15: =VLOOKUP(Tableau1[[#This Row],[HRS]],TABLEAUX!$A$2:$B$49,2,1) -> 0 | I15: =VLOOKUP(Tableau1[[#This Row],[HRS]],TABLEAUX!$C$2:$D$49,2,1) -> 0 | J15: =G15-I15 -> 3 | K15: =IF(I15=2,12.65,0) -> 0 | L15: =N15*7.45% -> 4.57281 | M15: =IF(WEEKDAY(Tableau1[[#This Row],[DATE]],2)<>7,"",SUMIFS(Tableau1[CHARGE/JRS],Tableau1[DATE],">="&Tableau1[[#This Row],[DATE]]-(WEEKDAY(Tableau1[[#This Row],[DATE]],1)-1),Tableau1[DATE],"<="&Tableau1[[#This Row],[DATE]]-(WEEKDAY(Tableau1[[#This Row],[DATE]],1)-7))) | N15: =(IF(C15="CV",OPTIONS!$C$2,IF(C15="COS",OPTIONS!$C$3,IF(C15="FORM",OPTIONS!$C$4,OPTIONS!$C$1))))*J15 -> 61.38 | O15: =Tableau1[[#This Row],[S-TOT $/JOUR]]+Tableau1[[#This Row],[PRIME REPAS]] -> 61.38 | P15: =IF(WEEKDAY(Tableau1[[#This Row],[DATE]],2)<>7,"",SUMIFS(Tableau1[HRS2],Tableau1[DATE],">="&Tableau1[[#This Row],[DATE]]-(WEEKDAY(Tableau1[[#This Row],[DATE]],1)-1),Tableau1[DATE],"<="&Tableau1[[#This Row],[DATE]]-(WEEKDAY(Tableau1[[#This Row],[DATE]],1)-7))) | Q15: =IF(WEEKDAY(Tableau1[[#This Row],[DATE]],2)<>7,"",SUMIFS(Tableau1[$/JOUR],Tableau1[DATE],">="&Tableau1[[#This Row],[DATE]]-(WEEKDAY(Tableau1[[#This Row],[DATE]],1)-1),Tableau1[DATE],"<="&Tableau1[[#This Row],[DATE]]-(WEEKDAY(Tableau1[[#This Row],[DATE]],1)-7)))
A16: 43880 | B16: =A16 -> 43880 | C16: COS | D16: 33538 | E16: 0.33333333 | F16: 0.70833333 | G16: =(Tableau1[[#This Row],[FIN]]-Tableau1[[#This Row],[DÉBUT]])*24 -> 9 | H16: =VLOOKUP(Tableau1[[#This Row],[HRS]],TABLEAUX!$A$2:$B$49,2,1) -> 2 | I16: =VLOOKUP(Tableau1[[#This Row],[HRS]],TABLEAUX!$C$2:$D$49,2,1) -> 1 | J16: =G16-I16 -> 8 | K16: =IF(I16=2,12.65,0) -> 0 | L16: =N16*7.45% -> 13.93448 | M16: =IF(WEEKDAY(Tableau1[[#This Row],[DATE]],2)<>7,"",SUMIFS(Tableau1[CHARGE/JRS],Tableau1[DATE],">="&Tableau1[[#This Row],[DATE]]-(WEEKDAY(Tableau1[[#This Row],[DATE]],1)-1),Tableau1[DATE],"<="&Tableau1[[#This Row],[DATE]]-(WEEKDAY(Tableau1[[#This Row],[DATE]],1)-7))) | N16: =(IF(C16="CV",OPTIONS!$C$2,IF(C16="COS",OPTIONS!$C$3,IF(C16="FORM",OPTIONS!$C$4,OPTIONS!$C$1))))*J16 -> 187.04 | O16: =Tableau1[[#This Row],[S-TOT $/JOUR]]+Tableau1[[#This Row],[PRIME REPAS]] -> 187.04 | P16: =IF(WEEKDAY(Tableau1[[#This Row],[DATE]],2)<>7,"",SUMIFS(Tableau1[HRS2],Tableau1[DATE],">="&Tableau1[[#This Row],[DATE]]-(WEEKDAY(Tableau1[[#This Row],[DATE]],1)-1),Tableau1[DATE],"<="&Tableau1[[#This Row],[DATE]]-(WEEKDAY(Tableau1[[#This Row],[DATE]],1)-7))) | Q16: =IF(WEEKDAY(Tableau1[[#This Row],[DATE]],2)<>7,"",SUMIFS(Tableau1[$/JOUR],Tableau1[DATE],">="&Tableau1[[#This Row],[DATE]]-(WEEKDAY(Tableau1[[#This Row],[DATE]],1)-1),Tableau1[DATE],"<="&Tableau1[[#This Row],[DATE]]-(WEEKDAY(Tableau1[[#This Row],[DATE]],1)-7)))
A17: 43881 | B17: =A17 -> 43881 | C17: COS | D17: 33538 | E17: 0.40625 | F17: 0.875 | G17: =(Tableau1[[#This Row],[FIN]]-Tableau1[[#This Row],[DÉBUT]])*24 -> 11.25 | H17: =VLOOKUP(Tableau1[[#This Row],[HRS]],TABLEAUX!$A$2:$B$49,2,1) -> 2 | I17: =VLOOKUP(Tableau1[[#This Row],[HRS]],TABLEAUX!$C$2:$D$49,2,1) -> 2 | J17: =G17-I17 -> 9.25 | K17: =IF(I17=2,12.65,0) -> 12.65 | L17: =N17*7.45% -> 16.111742 | M17: =IF(WEEKDAY(Tableau1[[#This Row],[DATE]],2)<>7,"",SUMIFS(Tableau1[CHARGE/JRS],Tableau1[DATE],">="&Tableau1[[#This Row],[DATE]]-(WEEKDAY(Tableau1[[#This Row],[DATE]],1)-1),Tableau1[DATE],"<="&Tableau1[[#This Row],[DATE]]-(WEEKDAY(Tableau1[[#This Row],[DATE]],1)-7))) | N17: =(IF(C17="CV",OPTIONS!$C$2,IF(C17="COS",OPTIONS!$C$3,IF(C17="FORM",OPTIONS!$C$4,OPTIONS!$C$1))))*J17 -> 216.265 | O17: =Tableau1[[#This Row],[S-TOT $/JOUR]]+Tableau1[[#This Row],[PRIME REPAS]] -> 228.915 | P17: =IF(WEEKDAY(Tableau1[[#This Row],[DATE]],2)<>7,"",SUMIFS(Tableau1[HRS2],Tableau1[DATE],">="&Tableau1[[#This Row],[DATE]]-(WEEKDAY(Tableau1[[#This Row],[DATE]],1)-1),Tableau1[DATE],"<="&Tableau1[[#This Row],[DATE]]-(WEEKDAY(Tableau1[[#This Row],[DATE]],1)-7))) | Q17: =IF(WEEKDAY(Tableau1[[#This Row],[DATE]],2)<>7,"",SUMIFS(Tableau1[$/JOUR],Tableau1[DATE],">="&Tableau1[[#This Row],[DATE]]-(WEEKDAY(Tableau1[[#This Row],[DATE]],1)-1),Tableau1[DATE],"<="&Tableau1[[#This Row],[DATE]]-(WEEKDAY(Tableau1[[#This Row],[DATE]],1)-7)))
A18: 43882 | B18: =A18 -> 43882 | C18: CV | D18: 33538 | E18: 0.66666667 | F18: 0.79166667 | G18: =(Tableau1[[#This Row],[FIN]]-Tableau1[[#This Row],[DÉBUT]])*24 -> 3 | H18: =VLOOKUP(Tableau1[[#This Row],[HRS]],TABLEAUX!$A$2:$B$49,2,1) -> 0 | I18: =VLOOKUP(Tableau1[[#This Row],[HRS]],TABLEAUX!$C$2:$D$49,2,1) -> 0 | J18: =G18-I18 -> 3 | K18: =IF(I18=2,12.65,0) -> 0 | L18: =N18*7.45% -> 4.57281 | M18: =IF(WEEKDAY(Tableau1[[#This Row],[DATE]],2)<>7,"",SUMIFS(Tableau1[CHARGE/JRS],Tableau1[DATE],">="&Tableau1[[#This Row],[DATE]]-(WEEKDAY(Tableau1[[#This Row],[DATE]],1)-1),Tableau1[DATE],"<="&Tableau1[[#This Row],[DATE]]-(WEEKDAY(Tableau1[[#This Row],[DATE]],1)-7))) | N18: =(IF(C18="CV",OPTIONS!$C$2,IF(C18="COS",OPTIONS!$C$3,IF(C18="FORM",OPTIONS!$C$4,OPTIONS!$C$1))))*J18 -> 61.38 | O18: =Tableau1[[#This Row],[S-TOT $/JOUR]]+Tableau1[[#This Row],[PRIME REPAS]] -> 61.38 | P18: =IF(WEEKDAY(Tableau1[[#This Row],[DATE]],2)<>7,"",SUMIFS(Tableau1[HRS2],Tableau1[DATE],">="&Tableau1[[#This Row],[DATE]]-(WEEKDAY(Tableau1[[#This Row],[DATE]],1)-1),Tableau1[DATE],"<="&Tableau1[[#This Row],[DATE]]-(WEEKDAY(Tableau1[[#This Row],[DATE]],1)-7))) | Q18: =IF(WEEKDAY(Tableau1[[#This Row],[DATE]],2)<>7,"",SUMIFS(Tableau1[$/JOUR],Tableau1[DATE],">="&Tableau1[[#This Row],[DATE]]-(WEEKDAY(Tableau1[[#This Row],[DATE]],1)-1),Tableau1[DATE],"<="&Tableau1[[#This Row],[DATE]]-(WEEKDAY(Tableau1[[#This Row],[DATE]],1)-7)))
A19: 43883 | B19: =A19 -> 43883 | C19: CV | D19: 33606 | G19: =(Tableau1[[#This Row],[FIN]]-Tableau1[[#This Row],[DÉBUT]])*24 -> 0 | H19: =VLOOKUP(Tableau1[[#This Row],[HRS]],TABLEAUX!$A$2:$B$49,2,1) -> #N/A | I19: =VLOOKUP(Tableau1[[#This Row],[HRS]],TABLEAUX!$C$2:$D$49,2,1) -> #N/A | J19: =G19-I19 -> #N/A | K19: =IF(I19=2,12.65,0) -> #N/A | L19: =N19*7.45% -> #N/A | M19: =IF(WEEKDAY(Tableau1[[#This Row],[DATE]],2)<>7,"",SUMIFS(Tableau1[CHARGE/JRS],Tableau1[DATE],">="&Tableau1[[#This Row],[DATE]]-(WEEKDAY(Tableau1[[#This Row],[DATE]],1)-1),Tableau1[DATE],"<="&Tableau1[[#This Row],[DATE]]-(WEEKDAY(Tableau1[[#This Row],[DATE]],1)-7))) | N19: =(IF(C19="CV",OPTIONS!$C$2,IF(C19="COS",OPTIONS!$C$3,IF(C19="FORM",OPTIONS!$C$4,OPTIONS!$C$1))))*J19 -> #N/A | O19: =Tableau1[[#This Row],[S-TOT $/JOUR]]+Tableau1[[#This Row],[PRIME REPAS]] -> #N/A | P19: =IF(WEEKDAY(Tableau1[[#This Row],[DATE]],2)<>7,"",SUMIFS(Tableau1[HRS2],Tableau1[DATE],">="&Tableau1[[#This Row],[DATE]]-(WEEKDAY(Tableau1[[#This Row],[DATE]],1)-1),Tableau1[DATE],"<="&Tableau1[[#This Row],[DATE]]-(WEEKDAY(Tableau1[[#This Row],[DATE]],1)-7))) | Q19: =IF(WEEKDAY(Tableau1[[#This Row],[DATE]],2)<>7,"",SUMIFS(Tableau1[$/JOUR],Tableau1[DATE],">="&Tableau1[[#This Row],[DATE]]-(WEEKDAY(Tableau1[[#This Row],[DATE]],1)-1),Tableau1[DATE],"<="&Tableau1[[#This Row],[DATE]]-(WEEKDAY(Tableau1[[#This Row],[DATE]],1)-7)))
A20: 43884 | B20: =A20 -> 43884 | C20: CV | D20: 33524 | E20: 0.5 | F20: 0.875 | G20: =(Tableau1[[#This Row],[FIN]]-Tableau1[[#This Row],[DÉBUT]])*24 -> 9 | H20: =VLOOKUP(Tableau1[[#This Row],[HRS]],TABLEAUX!$A$2:$B$49,2,1) -> 2 | I20: =VLOOKUP(Tableau1[[#This Row],[HRS]],TABLEAUX!$C$2:$D$49,2,1) -> 1 | J20: =G20-I20 -> 8 | K20: =IF(I20=2,12.65,0) -> 0 | L20: =N20*7.45% -> 12.19416 | M20: =IF(WEEKDAY(Tableau1[[#This Row],[DATE]],2)<>7,"",SUMIFS(Tableau1[CHARGE/JRS],Tableau1[DATE],">="&Tableau1[[#This Row],[DATE]]-(WEEKDAY(Tableau1[[#This Row],[DATE]],1)-1),Tableau1[DATE],"<="&Tableau1[[#This Row],[DATE]]-(WEEKDAY(Tableau1[[#This Row],[DATE]],1)-7))) -> 59.08148 | N20: =(IF(C20="CV",OPTIONS!$C$2,IF(C20="COS",OPTIONS!$C$3,IF(C20="FORM",OPTIONS!$C$4,OPTIONS!$C$1))))*J20 -> 163.68 | O20: =Tableau1[[#This Row],[S-TOT $/JOUR]]+Tableau1[[#This Row],[PRIME REPAS]] -> 163.68 | P20: =IF(WEEKDAY(Tableau1[[#This Row],[DATE]],2)<>7,"",SUMIFS(Tableau1[HRS2],Tableau1[DATE],">="&Tableau1[[#This Row],[DATE]]-(WEEKDAY(Tableau1[[#This Row],[DATE]],1)-1),Tableau1[DATE],"<="&Tableau1[[#This Row],[DATE]]-(WEEKDAY(Tableau1[[#This Row],[DATE]],1)-7))) -> 37.333333 | Q20: =IF(WEEKDAY(Tableau1[[#This Row],[DATE]],2)<>7,"",SUMIFS(Tableau1[$/JOUR],Tableau1[DATE],">="&Tableau1[[#This Row],[DATE]]-(WEEKDAY(Tableau1[[#This Row],[DATE]],1)-1),Tableau1[DATE],"<="&Tableau1[[#This Row],[DATE]]-(WEEKDAY(Tableau1[[#This Row],[DATE]],1)-7)))+Tableau1[[#This Row],[CHARGE3]] -> 864.77148
A21: 43885 | B21: =A21 -> 43885 | C21: CV | D21: 33538 | E21: 0.47916667 | F21: 0.60416667 | G21: =(Tableau1[[#This Row],[FIN]]-Tableau1[[#This Row],[DÉBUT]])*24 -> 3 | H21: =VLOOKUP(Tableau1[[#This Row],[HRS]],TABLEAUX!$A$2:$B$49,2,1) -> 0 | I21: =VLOOKUP(Tableau1[[#This Row],[HRS]],TABLEAUX!$C$2:$D$49,2,1) -> 0 | J21: =G21-I21 -> 3 | K21: =IF(I21=2,12.65,0) -> 0 | L21: =N21*7.45% -> 4.57281 | M21: =IF(WEEKDAY(Tableau1[[#This Row],[DATE]],2)<>7,"",SUMIFS(Tableau1[CHARGE/JRS],Tableau1[DATE],">="&Tableau1[[#This Row],[DATE]]-(WEEKDAY(Tableau1[[#This Row],[DATE]],1)-1),Tableau1[DATE],"<="&Tableau1[[#This Row],[DATE]]-(WEEKDAY(Tableau1[[#This Row],[DATE]],1)-7))) | N21: =(IF(C21="CV",OPTIONS!$C$2,IF(C21="COS",OPTIONS!$C$3,IF(C21="FORM",OPTIONS!$C$4,OPTIONS!$C$1))))*J21 -> 61.38 | O21: =Tableau1[[#This Row],[S-TOT $/JOUR]]+Tableau1[[#This Row],[PRIME REPAS]] -> 61.38 | P21: =IF(WEEKDAY(Tableau1[[#This Row],[DATE]],2)<>7,"",SUMIFS(Tableau1[HRS2],Tableau1[DATE],">="&Tableau1[[#This Row],[DATE]]-(WEEKDAY(Tableau1[[#This Row],[DATE]],1)-1),Tableau1[DATE],"<="&Tableau1[[#This Row],[DATE]]-(WEEKDAY(Tableau1[[#This Row],[DATE]],1)-7))) | Q21: =IF(WEEKDAY(Tableau1[[#This Row],[DATE]],2)<>7,"",SUMIFS(Tableau1[$/JOUR],Tableau1[DATE],">="&Tableau1[[#This Row],[DATE]]-(WEEKDAY(Tableau1[[#This Row],[DATE]],1)-1),Tableau1[DATE],"<="&Tableau1[[#This Row],[DATE]]-(WEEKDAY(Tableau1[[#This Row],[DATE]],1)-7)))
A22: 43886 | B22: =A22 -> 43886 | C22: FORM | D22: DOM | E22: 0 | F22: 0.034722222 | G22: =(Tableau1[[#This Row],[FIN]]-Tableau1[[#This Row],[DÉBUT]])*24 -> 0.83333333 | H22: =VLOOKUP(Tableau1[[#This Row],[HRS]],TABLEAUX!$A$2:$B$49,2,1) -> 0 | I22: =VLOOKUP(Tableau1[[#This Row],[HRS]],TABLEAUX!$C$2:$D$49,2,1) -> 0 | J22: =G22-I22 -> 0.83333333 | K22: =IF(I22=2,12.65,0) -> 0 | L22: =N22*7.45% -> 1.270225 | M22: =IF(WEEKDAY(Tableau1[[#This Row],[DATE]],2)<>7,"",SUMIFS(Tableau1[CHARGE/JRS],Tableau1[DATE],">="&Tableau1[[#This Row],[DATE]]-(WEEKDAY(Tableau1[[#This Row],[DATE]],1)-1),Tableau1[DATE],"<="&Tableau1[[#This Row],[DATE]]-(WEEKDAY(Tableau1[[#This Row],[DATE]],1)-7))) | N22: =(IF(C22="CV",OPTIONS!$C$2,IF(C22="COS",OPTIONS!$C$3,IF(C22="FORM",OPTIONS!$C$4,OPTIONS!$C$1))))*J22 -> 17.05 | O22: =Tableau1[[#This Row],[S-TOT $/JOUR]]+Tableau1[[#This Row],[PRIME REPAS]] -> 17.05 | P22: =IF(WEEKDAY(Tableau1[[#This Row],[DATE]],2)<>7,"",SUMIFS(Tableau1[HRS2],Tableau1[DATE],">="&Tableau1[[#This Row],[DATE]]-(WEEKDAY(Tableau1[[#This Row],[DATE]],1)-1),Tableau1[DATE],"<="&Tableau1[[#This Row],[DATE]]-(WEEKDAY(Tableau1[[#This Row],[DATE]],1)-7))) | Q22: =IF(WEEKDAY(Tableau1[[#This Row],[DATE]],2)<>7,"",SUMIFS(Tableau1[$/JOUR],Tableau1[DATE],">="&Tableau1[[#This Row],[DATE]]-(WEEKDAY(Tableau1[[#This Row],[DATE]],1)-1),Tableau1[DATE],"<="&Tableau1[[#This Row],[DATE]]-(WEEKDAY(Tableau1[[#This Row],[DATE]],1)-7)))
A23: 43887 | B23: =A23 -> 43887 | C23: CV | D23: 33538 | E23: 0.45833333 | F23: 0.79166667 | G23: =(Tableau1[[#This Row],[FIN]]-Tableau1[[#This Row],[DÉBUT]])*24 -> 8 | H23: =VLOOKUP(Tableau1[[#This Row],[HRS]],TABLEAUX!$A$2:$B$49,2,1) -> 2 | I23: =VLOOKUP(Tableau1[[#This Row],[HRS]],TABLEAUX!$C$2:$D$49,2,1) -> 1 | J23: =G23-I23 -> 7 | K23: =IF(I23=2,12.65,0) -> 0 | L23: =N23*7.45% -> 10.66989 | M23: =IF(WEEKDAY(Tableau1[[#This Row],[DATE]],2)<>7,"",SUMIFS(Tableau1[CHARGE/JRS],Tableau1[DATE],">="&Tableau1[[#This Row],[DATE]]-(WEEKDAY(Tableau1[[#This Row],[DATE]],1)-1),Tableau1[DATE],"<="&Tableau1[[#This Row],[DATE]]-(WEEKDAY(Tableau1[[#This Row],[DATE]],1)-7))) | N23: =(IF(C23="CV",OPTIONS!$C$2,IF(C23="COS",OPTIONS!$C$3,IF(C23="FORM",OPTIONS!$C$4,OPTIONS!$C$1))))*J23 -> 143.22 | O23: =Tableau1[[#This Row],[S-TOT $/JOUR]]+Tableau1[[#This Row],[PRIME REPAS]] -> 143.22 | P23: =IF(WEEKDAY(Tableau1[[#This Row],[DATE]],2)<>7,"",SUMIFS(Tableau1[HRS2],Tableau1[DATE],">="&Tableau1[[#This Row],[DATE]]-(WEEKDAY(Tableau1[[#This Row],[DATE]],1)-1),Tableau1[DATE],"<="&Tableau1[[#This Row],[DATE]]-(WEEKDAY(Tableau1[[#This Row],[DATE]],1)-7))) | Q23: =IF(WEEKDAY(Tableau1[[#This Row],[DATE]],2)<>7,"",SUMIFS(Tableau1[$/JOUR],Tableau1[DATE],">="&Tableau1[[#This Row],[DATE]]-(WEEKDAY(Tableau1[[#This Row],[DATE]],1)-1),Tableau1[DATE],"<="&Tableau1[[#This Row],[DATE]]-(WEEKDAY(Tableau1[[#This Row],[DATE]],1)-7)))
A24: 43888 | B24: =A24 -> 43888 | C24: CV | D24: 33606 | E24: 0.58333333 | F24: 0.8125 | G24: =(Tableau1[[#This Row],[FIN]]-Tableau1[[#This Row],[DÉBUT]])*24 -> 5.5 | H24: =VLOOKUP(Tableau1[[#This Row],[HRS]],TABLEAUX!$A$2:$B$49,2,1) -> 1 | I24: =VLOOKUP(Tableau1[[#This Row],[HRS]],TABLEAUX!$C$2:$D$49,2,1) -> 0 | J24: =G24-I24 -> 5.5 | K24: =IF(I24=2,12.65,0) -> 0 | L24: =N24*7.45% -> 8.383485 | M24: =IF(WEEKDAY(Tableau1[[#This Row],[DATE]],2)<>7,"",SUMIFS(Tableau1[CHARGE/JRS],Tableau1[DATE],">="&Tableau1[[#This Row],[DATE]]-(WEEKDAY(Tableau1[[#This Row],[DATE]],1)-1),Tableau1[DATE],"<="&Tableau1[[#This Row],[DATE]]-(WEEKDAY(Tableau1[[#This Row],[DATE]],1)-7))) | N24: =(IF(C24="CV",OPTIONS!$C$2,IF(C24="COS",OPTIONS!$C$3,IF(C24="FORM",OPTIONS!$C$4,OPTIONS!$C$1))))*J24 -> 112.53 | O24: =Tableau1[[#This Row],[S-TOT $/JOUR]]+Tableau1[[#This Row],[PRIME REPAS]] -> 112.53 | P24: =IF(WEEKDAY(Tableau1[[#This Row],[DATE]],2)<>7,"",SUMIFS(Tableau1[HRS2],Tableau1[DATE],">="&Tableau1[[#This Row],[DATE]]-(WEEKDAY(Tableau1[[#This Row],[DATE]],1)-1),Tableau1[DATE],"<="&Tableau1[[#This Row],[DATE]]-(WEEKDAY(Tableau1[[#This Row],[DATE]],1)-7))) | Q24: =IF(WEEKDAY(Tableau1[[#This Row],[DATE]],2)<>7,"",SUMIFS(Tableau1[$/JOUR],Tableau1[DATE],">="&Tableau1[[#This Row],[DATE]]-(WEEKDAY(Tableau1[[#This Row],[DATE]],1)-1),Tableau1[DATE],"<="&Tableau1[[#This Row],[DATE]]-(WEEKDAY(Tableau1[[#This Row],[DATE]],1)-7)))
A25: 43889 | B25: =A25 -> 43889 | C25: COS | D25: 33538 | E25: 0.375 | F25: 0.875 | G25: =(Tableau1[[#This Row],[FIN]]-Tableau1[[#This Row],[DÉBUT]])*24 -> 12 | H25: =VLOOKUP(Tableau1[[#This Row],[HRS]],TABLEAUX!$A$2:$B$49,2,1) -> 2 | I25: =VLOOKUP(Tableau1[[#This Row],[HRS]],TABLEAUX!$C$2:$D$49,2,1) -> 2 | J25: =G25-I25 -> 10 | K25: =IF(I25=2,12.65,0) -> 12.65 | L25: =N25*7.45% -> 17.4181 | M25: =IF(WEEKDAY(Tableau1[[#This Row],[DATE]],2)<>7,"",SUMIFS(Tableau1[CHARGE/JRS],Tableau1[DATE],">="&Tableau1[[#This Row],[DATE]]-(WEEKDAY(Tableau1[[#This Row],[DATE]],1)-1),Tableau1[DATE],"<="&Tableau1[[#This Row],[DATE]]-(WEEKDAY(Tableau1[[#This Row],[DATE]],1)-7))) | N25: =(IF(C25="CV",OPTIONS!$C$2,IF(C25="COS",OPTIONS!$C$3,IF(C25="FORM",OPTIONS!$C$4,OPTIONS!$C$1))))*J25 -> 233.8 | O25: =Tableau1[[#This Row],[S-TOT $/JOUR]]+Tableau1[[#This Row],[PRIME REPAS]] -> 246.45 | P25: =IF(WEEKDAY(Tableau1[[#This Row],[DATE]],2)<>7,"",SUMIFS(Tableau1[HRS2],Tableau1[DATE],">="&Tableau1[[#This Row],[DATE]]-(WEEKDAY(Tableau1[[#This Row],[DATE]],1)-1),Tableau1[DATE],"<="&Tableau1[[#This Row],[DATE]]-(WEEKDAY(Tableau1[[#This Row],[DATE]],1)-7))) | Q25: =IF(WEEKDAY(Tableau1[[#This Row],[DATE]],2)<>7,"",SUMIFS(Tableau1[$/JOUR],Tableau1[DATE],">="&Tableau1[[#This Row],[DATE]]-(WEEKDAY(Tableau1[[#This Row],[DATE]],1)-1),Tableau1[DATE],"<="&Tableau1[[#This Row],[DATE]]-(WEEKDAY(Tableau1[[#This Row],[DATE]],1)-7)))
A26: 43890 | B26: =A26 -> 43890 | C26: CV | D26: 33524 | E26: 0.6875 | F26: 0.8125 | G26: =(Tableau1[[#This Row],[FIN]]-Tableau1[[#This Row],[DÉBUT]])*24 -> 3 | H26: =VLOOKUP(Tableau1[[#This Row],[HRS]],TABLEAUX!$A$2:$B$49,2,1) -> 0 | I26: =VLOOKUP(Tableau1[[#This Row],[HRS]],TABLEAUX!$C$2:$D$49,2,1) -> 0 | J26: =G26-I26 -> 3 | K26: =IF(I26=2,12.65,0) -> 0 | L26: =N26*7.45% -> 4.57281 | M26: =IF(WEEKDAY(Tableau1[[#This Row],[DATE]],2)<>7,"",SUMIFS(Tableau1[CHARGE/JRS],Tableau1[DATE],">="&Tableau1[[#This Row],[DATE]]-(WEEKDAY(Tableau1[[#This Row],[DATE]],1)-1),Tableau1[DATE],"<="&Tableau1[[#This Row],[DATE]]-(WEEKDAY(Tableau1[[#This Row],[DATE]],1)-7))) | N26: =(IF(C26="CV",OPTIONS!$C$2,IF(C26="COS",OPTIONS!$C$3,IF(C26="FORM",OPTIONS!$C$4,OPTIONS!$C$1))))*J26 -> 61.38 | O26: =Tableau1[[#This Row],[S-TOT $/JOUR]]+Tableau1[[#This Row],[PRIME REPAS]] -> 61.38 | P26: =IF(WEEKDAY(Tableau1[[#This Row],[DATE]],2)<>7,"",SUMIFS(Tableau1[HRS2],Tableau1[DATE],">="&Tableau1[[#This Row],[DATE]]-(WEEKDAY(Tableau1[[#This Row],[DATE]],1)-1),Tableau1[DATE],"<="&Tableau1[[#This Row],[DATE]]-(WEEKDAY(Tableau1[[#This Row],[DATE]],1)-7))) | Q26: =IF(WEEKDAY(Tableau1[[#This Row],[DATE]],2)<>7,"",SUMIFS(Tableau1[$/JOUR],Tableau1[DATE],">="&Tableau1[[#This Row],[DATE]]-(WEEKDAY(Tableau1[[#This Row],[DATE]],1)-1),Tableau1[DATE],"<="&Tableau1[[#This Row],[DATE]]-(WEEKDAY(Tableau1[[#This Row],[DATE]],1)-7)))
A27: 43891 | B27: =A27 -> 43891 | C27: CV | D27: 33595 | E27: 0.58333333 | F27: 0.70833333 | G27: =(Tableau1[[#This Row],[FIN]]-Tableau1[[#This Row],[DÉBUT]])*24 -> 3 | H27: =VLOOKUP(Tableau1[[#This Row],[HRS]],TABLEAUX!$A$2:$B$49,2,1) -> 0 | I27: =VLOOKUP(Tableau1[[#This Row],[HRS]],TABLEAUX!$C$2:$D$49,2,1) -> 0 | J27: =G27-I27 -> 3 | K27: =IF(I27=2,12.65,0) -> 0 | L27: =N27*7.45% -> 4.57281 | M27: =IF(WEEKDAY(Tableau1[[#This Row],[DATE]],2)<>7,"",SUMIFS(Tableau1[CHARGE/JRS],Tableau1[DATE],">="&Tableau1[[#This Row],[DATE]]-(WEEKDAY(Tableau1[[#This Row],[DATE]],1)-1),Tableau1[DATE],"<="&Tableau1[[#This Row],[DATE]]-(WEEKDAY(Tableau1[[#This Row],[DATE]],1)-7))) -> #N/A | N27: =(IF(C27="CV",OPTIONS!$C$2,IF(C27="COS",OPTIONS!$C$3,IF(C27="FORM",OPTIONS!$C$4,OPTIONS!$C$1))))*J27 -> 61.38 | O27: =Tableau1[[#This Row],[S-TOT $/JOUR]]+Tableau1[[#This Row],[PRIME REPAS]] -> 61.38 | P27: =IF(WEEKDAY(Tableau1[[#This Row],[DATE]],2)<>7,"",SUMIFS(Tableau1[HRS2],Tableau1[DATE],">="&Tableau1[[#This Row],[DATE]]-(WEEKDAY(Tableau1[[#This Row],[DATE]],1)-1),Tableau1[DATE],"<="&Tableau1[[#This Row],[DATE]]-(WEEKDAY(Tableau1[[#This Row],[DATE]],1)-7))) -> #N/A | Q27: =IF(WEEKDAY(Tableau1[[#This Row],[DATE]],2)<>7,"",SUMIFS(Tableau1[$/JOUR],Tableau1[DATE],">="&Tableau1[[#This Row],[DATE]]-(WEEKDAY(Tableau1[[#This Row],[DATE]],1)-1),Tableau1[DATE],"<="&Tableau1[[#This Row],[DATE]]-(WEEKDAY(Tableau1[[#This Row],[DATE]],1)-7)))+Tableau1[[#This Row],[CHARGE3]] -> #N/A
A28: 43892 | B28: =A28 -> 43892 | C28: FORM | D28: DOM | E28: 0.47916667 | F28: 0.75 | G28: =(Tableau1[[#This Row],[FIN]]-Tableau1[[#This Row],[DÉBUT]])*24 -> 6.5 | H28: =VLOOKUP(Tableau1[[#This Row],[HRS]],TABLEAUX!$A$2:$B$49,2,1) -> 2 | I28: =VLOOKUP(Tableau1[[#This Row],[HRS]],TABLEAUX!$C$2:$D$49,2,1) -> 0 | J28: =G28-I28 -> 6.5 | K28: =IF(I28=2,12.65,0) -> 0 | L28: =N28*7.45% -> 9.907755 | M28: =IF(WEEKDAY(Tableau1[[#This Row],[DATE]],2)<>7,"",SUMIFS(Tableau1[CHARGE/JRS],Tableau1[DATE],">="&Tableau1[[#This Row],[DATE]]-(WEEKDAY(Tableau1[[#This Row],[DATE]],1)-1),Tableau1[DATE],"<="&Tableau1[[#This Row],[DATE]]-(WEEKDAY(Tableau1[[#This Row],[DATE]],1)-7))) | N28: =(IF(C28="CV",OPTIONS!$C$2,IF(C28="COS",OPTIONS!$C$3,IF(C28="FORM",OPTIONS!$C$4,OPTIONS!$C$1))))*J28 -> 132.99 | O28: =Tableau1[[#This Row],[S-TOT $/JOUR]]+Tableau1[[#This Row],[PRIME REPAS]] -> 132.99 | P28: =IF(WEEKDAY(Tableau1[[#This Row],[DATE]],2)<>7,"",SUMIFS(Tableau1[HRS2],Tableau1[DATE],">="&Tableau1[[#This Row],[DATE]]-(WEEKDAY(Tableau1[[#This Row],[DATE]],1)-1),Tableau1[DATE],"<="&Tableau1[[#This Row],[DATE]]-(WEEKDAY(Tableau1[[#This Row],[DATE]],1)-7))) | Q28: =IF(WEEKDAY(Tableau1[[#This Row],[DATE]],2)<>7,"",SUMIFS(Tableau1[$/JOUR],Tableau1[DATE],">="&Tableau1[[#This Row],[DATE]]-(WEEKDAY(Tableau1[[#This Row],[DATE]],1)-1),Tableau1[DATE],"<="&Tableau1[[#This Row],[DATE]]-(WEEKDAY(Tableau1[[#This Row],[DATE]],1)-7)))
A29: 43893 | B29: =A29 -> 43893 | C29: CV | D29: 33524 | E29: 0.66666667 | F29: 0.79166667 | G29: =(Tableau1[[#This Row],[FIN]]-Tableau1[[#This Row],[DÉBUT]])*24 -> 3 | H29: =VLOOKUP(Tableau1[[#This Row],[HRS]],TABLEAUX!$A$2:$B$49,2,1) -> 0 | I29: =VLOOKUP(Tableau1[[#This Row],[HRS]],TABLEAUX!$C$2:$D$49,2,1) -> 0 | J29: =G29-I29 -> 3 | K29: =IF(I29=2,12.65,0) -> 0 | L29: =N29*7.45% -> 4.57281 | M29: =IF(WEEKDAY(Tableau1[[#This Row],[DATE]],2)<>7,"",SUMIFS(Tableau1[CHARGE/JRS],Tableau1[DATE],">="&Tableau1[[#This Row],[DATE]]-(WEEKDAY(Tableau1[[#This Row],[DATE]],1)-1),Tableau1[DATE],"<="&Tableau1[[#This Row],[DATE]]-(WEEKDAY(Tableau1[[#This Row],[DATE]],1)-7))) | N29: =(IF(C29="CV",OPTIONS!$C$2,IF(C29="COS",OPTIONS!$C$3,IF(C29="FORM",OPTIONS!$C$4,OPTIONS!$C$1))))*J29 -> 61.38 | O29: =Tableau1[[#This Row],[S-TOT $/JOUR]]+Tableau1[[#This Row],[PRIME REPAS]] -> 61.38 | P29: =IF(WEEKDAY(Tableau1[[#This Row],[DATE]],2)<>7,"",SUMIFS(Tableau1[HRS2],Tableau1[DATE],">="&Tableau1[[#This Row],[DATE]]-(WEEKDAY(Tableau1[[#This Row],[DATE]],1)-1),Tableau1[DATE],"<="&Tableau1[[#This Row],[DATE]]-(WEEKDAY(Tableau1[[#This Row],[DATE]],1)-7))) | Q29: =IF(WEEKDAY(Tableau1[[#This Row],[DATE]],2)<>7,"",SUMIFS(Tableau1[$/JOUR],Tableau1[DATE],">="&Tableau1[[#This Row],[DATE]]-(WEEKDAY(Tableau1[[#This Row],[DATE]],1)-1),Tableau1[DATE],"<="&Tableau1[[#This Row],[DATE]]-(WEEKDAY(Tableau1[[#This Row],[DATE]],1)-7)))
A30: 43894 | B30: =A30 -> 43894 | C30: COS | D30: 33538 | E30: 0.5 | F30: 0.75 | G30: =(Tableau1[[#This Row],[FIN]]-Tableau1[[#This Row],[DÉBUT]])*24 -> 6 | H30: =VLOOKUP(Tableau1[[#This Row],[HRS]],TABLEAUX!$A$2:$B$49,2,1) -> 2 | I30: =VLOOKUP(Tableau1[[#This Row],[HRS]],TABLEAUX!$C$2:$D$49,2,1) -> 0 | J30: =G30-I30 -> 6 | K30: =IF(I30=2,12.65,0) -> 0 | L30: =N30*7.45% -> 10.45086 | M30: =IF(WEEKDAY(Tableau1[[#This Row],[DATE]],2)<>7,"",SUMIFS(Tableau1[CHARGE/JRS],Tableau1[DATE],">="&Tableau1[[#This Row],[DATE]]-(WEEKDAY(Tableau1[[#This Row],[DATE]],1)-1),Tableau1[DATE],"<="&Tableau1[[#This Row],[DATE]]-(WEEKDAY(Tableau1[[#This Row],[DATE]],1)-7))) | N30: =(IF(C30="CV",OPTIONS!$C$2,IF(C30="COS",OPTIONS!$C$3,IF(C30="FORM",OPTIONS!$C$4,OPTIONS!$C$1))))*J30 -> 140.28 | O30: =Tableau1[[#This Row],[S-TOT $/JOUR]]+Tableau1[[#This Row],[PRIME REPAS]] -> 140.28 | P30: =IF(WEEKDAY(Tableau1[[#This Row],[DATE]],2)<>7,"",SUMIFS(Tableau1[HRS2],Tableau1[DATE],">="&Tableau1[[#This Row],[DATE]]-(WEEKDAY(Tableau1[[#This Row],[DATE]],1)-1),Tableau1[DATE],"<="&Tableau1[[#This Row],[DATE]]-(WEEKDAY(Tableau1[[#This Row],[DATE]],1)-7))) | Q30: =IF(WEEKDAY(Tableau1[[#This Row],[DATE]],2)<>7,"",SUMIFS(Tableau1[$/JOUR],Tableau1[DATE],">="&Tableau1[[#This Row],[DATE]]-(WEEKDAY(Tableau1[[#This Row],[DATE]],1)-1),Tableau1[DATE],"<="&Tableau1[[#This Row],[DATE]]-(WEEKDAY(Tableau1[[#This Row],[DATE]],1)-7)))
A31: 43895 | B31: =A31 -> 43895 | C31: CV | D31: 33538 | E31: 0.41666667 | F31: 0.83333333 | G31: =(Tableau1[[#This Row],[FIN]]-Tableau1[[#This Row],[DÉBUT]])*24 -> 10 | H31: =VLOOKUP(Tableau1[[#This Row],[HRS]],TABLEAUX!$A$2:$B$49,2,1) -> 2 | I31: =VLOOKUP(Tableau1[[#This Row],[HRS]],TABLEAUX!$C$2:$D$49,2,1) -> 1 | J31: =G31-I31 -> 9 | K31: =IF(I31=2,12.65,0) -> 0 | L31: =N31*7.45% -> 13.71843 | M31: =IF(WEEKDAY(Tableau1[[#This Row],[DATE]],2)<>7,"",SUMIFS(Tableau1[CHARGE/JRS],Tableau1[DATE],">="&Tableau1[[#This Row],[DATE]]-(WEEKDAY(Tableau1[[#This Row],[DATE]],1)-1),Tableau1[DATE],"<="&Tableau1[[#This Row],[DATE]]-(WEEKDAY(Tableau1[[#This Row],[DATE]],1)-7))) | N31: =(IF(C31="CV",OPTIONS!$C$2,IF(C31="COS",OPTIONS!$C$3,IF(C31="FORM",OPTIONS!$C$4,OPTIONS!$C$1))))*J31 -> 184.14 | O31: =Tableau1[[#This Row],[S-TOT $/JOUR]]+Tableau1[[#This Row],[PRIME REPAS]] -> 184.14 | P31: =IF(WEEKDAY(Tableau1[[#This Row],[DATE]],2)<>7,"",SUMIFS(Tableau1[HRS2],Tableau1[DATE],">="&Tableau1[[#This Row],[DATE]]-(WEEKDAY(Tableau1[[#This Row],[DATE]],1)-1),Tableau1[DATE],"<="&Tableau1[[#This Row],[DATE]]-(WEEKDAY(Tableau1[[#This Row],[DATE]],1)-7))) | Q31: =IF(WEEKDAY(Tableau1[[#This Row],[DATE]],2)<>7,"",SUMIFS(Tableau1[$/JOUR],Tableau1[DATE],">="&Tableau1[[#This Row],[DATE]]-(WEEKDAY(Tableau1[[#This Row],[DATE]],1)-1),Tableau1[DATE],"<="&Tableau1[[#This Row],[DATE]]-(WEEKDAY(Tableau1[[#This Row],[DATE]],1)-7)))
A32: 43896 | B32: =A32 -> 43896 | C32: CV | D32: 33595 | E32: 0.39583333 | F32: 0.875 | G32: =(Tableau1[[#This Row],[FIN]]-Tableau1[[#This Row],[DÉBUT]])*24 -> 11.5 | H32: =VLOOKUP(Tableau1[[#This Row],[HRS]],TABLEAUX!$A$2:$B$49,2,1) -> 2 | I32: =VLOOKUP(Tableau1[[#This Row],[HRS]],TABLEAUX!$C$2:$D$49,2,1) -> 2 | J32: =G32-I32 -> 9.5 | K32: =IF(I32=2,12.65,0) -> 12.65 | L32: =N32*7.45% -> 14.480565 | M32: =IF(WEEKDAY(Tableau1[[#This Row],[DATE]],2)<>7,"",SUMIFS(Tableau1[CHARGE/JRS],Tableau1[DATE],">="&Tableau1[[#This Row],[DATE]]-(WEEKDAY(Tableau1[[#This Row],[DATE]],1)-1),Tableau1[DATE],"<="&Tableau1[[#This Row],[DATE]]-(WEEKDAY(Tableau1[[#This Row],[DATE]],1)-7))) | N32: =(IF(C32="CV",OPTIONS!$C$2,IF(C32="COS",OPTIONS!$C$3,IF(C32="FORM",OPTIONS!$C$4,OPTIONS!$C$1))))*J32 -> 194.37 | O32: =Tableau1[[#This Row],[S-TOT $/JOUR]]+Tableau1[[#This Row],[PRIME REPAS]] -> 207.02 | P32: =IF(WEEKDAY(Tableau1[[#This Row],[DATE]],2)<>7,"",SUMIFS(Tableau1[HRS2],Tableau1[DATE],">="&Tableau1[[#This Row],[DATE]]-(WEEKDAY(Tableau1[[#This Row],[DATE]],1)-1),Tableau1[DATE],"<="&Tableau1[[#This Row],[DATE]]-(WEEKDAY(Tableau1[[#This Row],[DATE]],1)-7))) | Q32: =IF(WEEKDAY(Tableau1[[#This Row],[DATE]],2)<>7,"",SUMIFS(Tableau1[$/JOUR],Tableau1[DATE],">="&Tableau1[[#This Row],[DATE]]-(WEEKDAY(Tableau1[[#This Row],[DATE]],1)-1),Tableau1[DATE],"<="&Tableau1[[#This Row],[DATE]]-(WEEKDAY(Tableau1[[#This Row],[DATE]],1)-7)))
A33: 43897 | B33: =A33 -> 43897 | G33: =(Tableau1[[#This Row],[FIN]]-Tableau1[[#This Row],[DÉBUT]])*24 -> 0 | H33: =VLOOKUP(Tableau1[[#This Row],[HRS]],TABLEAUX!$A$2:$B$49,2,1) -> #N/A | I33: =VLOOKUP(Tableau1[[#This Row],[HRS]],TABLEAUX!$C$2:$D$49,2,1) -> #N/A | J33: =G33-I33 -> #N/A | K33: =IF(I33=2,12.65,0) -> #N/A | L33: =N33*7.45% -> #N/A | M33: =IF(WEEKDAY(Tableau1[[#This Row],[DATE]],2)<>7,"",SUMIFS(Tableau1[CHARGE/JRS],Tableau1[DATE],">="&Tableau1[[#This Row],[DATE]]-(WEEKDAY(Tableau1[[#This Row],[DATE]],1)-1),Tableau1[DATE],"<="&Tableau1[[#This Row],[DATE]]-(WEEKDAY(Tableau1[[#This Row],[DATE]],1)-7))) | N33: =(IF(C33="CV",OPTIONS!$C$2,IF(C33="COS",OPTIONS!$C$3,IF(C33="FORM",OPTIONS!$C$4,OPTIONS!$C$1))))*J33 -> #N/A | O33: =Tableau1[[#This Row],[S-TOT $/JOUR]]+Tableau1[[#This Row],[PRIME REPAS]] -> #N/A | P33: =IF(WEEKDAY(Tableau1[[#This Row],[DATE]],2)<>7,"",SUMIFS(Tableau1[HRS2],Tableau1[DATE],">="&Tableau1[[#This Row],[DATE]]-(WEEKDAY(Tableau1[[#This Row],[DATE]],1)-1),Tableau1[DATE],"<="&Tableau1[[#This Row],[DATE]]-(WEEKDAY(Tableau1[[#This Row],[DATE]],1)-7))) | Q33: =IF(WEEKDAY(Tableau1[[#This Row],[DATE]],2)<>7,"",SUMIFS(Tableau1[$/JOUR],Tableau1[DATE],">="&Tableau1[[#This Row],[DATE]]-(WEEKDAY(Tableau1[[#This Row],[DATE]],1)-1),Tableau1[DATE],"<="&Tableau1[[#This Row],[DATE]]-(WEEKDAY(Tableau1[[#This Row],[DATE]],1)-7)))
A34: 43898 | B34: =A34 -> 43898 | C34: CV | D34: 33595 | E34: 0.58333333 | F34: 0.70833333 | G34: =(Tableau1[[#This Row],[FIN]]-Tableau1[[#This Row],[DÉBUT]])*24 -> 3 | H34: =VLOOKUP(Tableau1[[#This Row],[HRS]],TABLEAUX!$A$2:$B$49,2,1) -> 0 | I34: =VLOOKUP(Tableau1[[#This Row],[HRS]],TABLEAUX!$C$2:$D$49,2,1) -> 0 | J34: =G34-I34 -> 3 | K34: =IF(I34=2,12.65,0) -> 0 | L34: =N34*7.45% -> 4.57281 | M34: =IF(WEEKDAY(Tableau1[[#This Row],[DATE]],2)<>7,"",SUMIFS(Tableau1[CHARGE/JRS],Tableau1[DATE],">="&Tableau1[[#This Row],[DATE]]-(WEEKDAY(Tableau1[[#This Row],[DATE]],1)-1),Tableau1[DATE],"<="&Tableau1[[#This Row],[DATE]]-(WEEKDAY(Tableau1[[#This Row],[DATE]],1)-7))) -> #N/A | N34: =(IF(C34="CV",OPTIONS!$C$2,IF(C34="COS",OPTIONS!$C$3,IF(C34="FORM",OPTIONS!$C$4,OPTIONS!$C$1))))*J34 -> 61.38 | O34: =Tableau1[[#This Row],[S-TOT $/JOUR]]+Tableau1[[#This Row],[PRIME REPAS]] -> 61.38 | P34: =IF(WEEKDAY(Tableau1[[#This Row],[DATE]],2)<>7,"",SUMIFS(Tableau1[HRS2],Tableau1[DATE],">="&Tableau1[[#This Row],[DATE]]-(WEEKDAY(Tableau1[[#This Row],[DATE]],1)-1),Tableau1[DATE],"<="&Tableau1[[#This Row],[DATE]]-(WEEKDAY(Tableau1[[#This Row],[DATE]],1)-7))) -> #N/A | Q34: =IF(WEEKDAY(Tableau1[[#This Row],[DATE]],2)<>7,"",SUMIFS(Tableau1[$/JOUR],Tableau1[DATE],">="&Tableau1[[#This Row],[DATE]]-(WEEKDAY(Tableau1[[#This Row],[DATE]],1)-1),Tableau1[DATE],"<="&Tableau1[[#This Row],[DATE]]-(WEEKDAY(Tableau1[[#This Row],[DATE]],1)-7)))+Tableau1[[#This Row],[CHARGE3]] -> #N/A
A35: 43899 | B35: =A35 -> 43899 | G35: =(Tableau1[[#This Row],[FIN]]-Tableau1[[#This Row],[DÉBUT]])*24 -> 0 | H35: =VLOOKUP(Tableau1[[#This Row],[HRS]],TABLEAUX!$A$2:$B$49,2,1) -> #N/A | I35: =VLOOKUP(Tableau1[[#This Row],[HRS]],TABLEAUX!$C$2:$D$49,2,1) -> #N/A | J35: =G35-I35 -> #N/A | K35: =IF(I35=2,12.65,0) -> #N/A | L35: =N35*7.45% -> #N/A | M35: =IF(WEEKDAY(Tableau1[[#This Row],[DATE]],2)<>7,"",SUMIFS(Tableau1[CHARGE/JRS],Tableau1[DATE],">="&Tableau1[[#This Row],[DATE]]-(WEEKDAY(Tableau1[[#This Row],[DATE]],1)-1),Tableau1[DATE],"<="&Tableau1[[#This Row],[DATE]]-(WEEKDAY(Tableau1[[#This Row],[DATE]],1)-7))) | N35: =(IF(C35="CV",OPTIONS!$C$2,IF(C35="COS",OPTIONS!$C$3,IF(C35="FORM",OPTIONS!$C$4,OPTIONS!$C$1))))*J35 -> #N/A | O35: =Tableau1[[#This Row],[S-TOT $/JOUR]]+Tableau1[[#This Row],[PRIME REPAS]] -> #N/A | P35: =IF(WEEKDAY(Tableau1[[#This Row],[DATE]],2)<>7,"",SUMIFS(Tableau1[HRS2],Tableau1[DATE],">="&Tableau1[[#This Row],[DATE]]-(WEEKDAY(Tableau1[[#This Row],[DATE]],1)-1),Tableau1[DATE],"<="&Tableau1[[#This Row],[DATE]]-(WEEKDAY(Tableau1[[#This Row],[DATE]],1)-7))) | Q35: =IF(WEEKDAY(Tableau1[[#This Row],[DATE]],2)<>7,"",SUMIFS(Tableau1[$/JOUR],Tableau1[DATE],">="&Tableau1[[#This Row],[DATE]]-(WEEKDAY(Tableau1[[#This Row],[DATE]],1)-1),Tableau1[DATE],"<="&Tableau1[[#This Row],[DATE]]-(WEEKDAY(Tableau1[[#This Row],[DATE]],1)-7)))
A36: 43900 | B36: =A36 -> 43900 | C36: COS | D36: 33606 | E36: 0.52083333 | F36: 0.75 | G36: =(Tableau1[[#This Row],[FIN]]-Tableau1[[#This Row],[DÉBUT]])*24 -> 5.5 | H36: =VLOOKUP(Tableau1[[#This Row],[HRS]],TABLEAUX!$A$2:$B$49,2,1) -> 1 | I36: =VLOOKUP(Tableau1[[#This Row],[HRS]],TABLEAUX!$C$2:$D$49,2,1) -> 0 | J36: =G36-I36 -> 5.5 | K36: =IF(I36=2,12.65,0) -> 0 | L36: =N36*7.45% -> 9.579955 | M36: =IF(WEEKDAY(Tableau1[[#This Row],[DATE]],2)<>7,"",SUMIFS(Tableau1[CHARGE/JRS],Tableau1[DATE],">="&Tableau1[[#This Row],[DATE]]-(WEEKDAY(Tableau1[[#This Row],[DATE]],1)-1),Tableau1[DATE],"<="&Tableau1[[#This Row],[DATE]]-(WEEKDAY(Tableau1[[#This Row],[DATE]],1)-7))) | N36: =(IF(C36="CV",OPTIONS!$C$2,IF(C36="COS",OPTIONS!$C$3,IF(C36="FORM",OPTIONS!$C$4,OPTIONS!$C$1))))*J36 -> 128.59 | O36: =Tableau1[[#This Row],[S-TOT $/JOUR]]+Tableau1[[#This Row],[PRIME REPAS]] -> 128.59 | P36: =IF(WEEKDAY(Tableau1[[#This Row],[DATE]],2)<>7,"",SUMIFS(Tableau1[HRS2],Tableau1[DATE],">="&Tableau1[[#This Row],[DATE]]-(WEEKDAY(Tableau1[[#This Row],[DATE]],1)-1),Tableau1[DATE],"<="&Tableau1[[#This Row],[DATE]]-(WEEKDAY(Tableau1[[#This Row],[DATE]],1)-7))) | Q36: =IF(WEEKDAY(Tableau1[[#This Row],[DATE]],2)<>7,"",SUMIFS(Tableau1[$/JOUR],Tableau1[DATE],">="&Tableau1[[#This Row],[DATE]]-(WEEKDAY(Tableau1[[#This Row],[DATE]],1)-1),Tableau1[DATE],"<="&Tableau1[[#This Row],[DATE]]-(WEEKDAY(Tableau1[[#This Row],[DATE]],1)-7)))
A37: 43901 | B37: =A37 -> 43901 | C37: CV | D37: 33538 | E37: 0.54166667 | F37: 0.75 | G37: =(Tableau1[[#This Row],[FIN]]-Tableau1[[#This Row],[DÉBUT]])*24 -> 5 | H37: =VLOOKUP(Tableau1[[#This Row],[HRS]],TABLEAUX!$A$2:$B$49,2,1) -> 1 | I37: =VLOOKUP(Tableau1[[#This Row],[HRS]],TABLEAUX!$C$2:$D$49,2,1) -> 0 | J37: =G37-I37 -> 5 | K37: =IF(I37=2,12.65,0) -> 0 | L37: =N37*7.45% -> 7.62135 | M37: =IF(WEEKDAY(Tableau1[[#This Row],[DATE]],2)<>7,"",SUMIFS(Tableau1[CHARGE/JRS],Tableau1[DATE],">="&Tableau1[[#This Row],[DATE]]-(WEEKDAY(Tableau1[[#This Row],[DATE]],1)-1),Tableau1[DATE],"<="&Tableau1[[#This Row],[DATE]]-(WEEKDAY(Tableau1[[#This Row],[DATE]],1)-7))) | N37: =(IF(C37="CV",OPTIONS!$C$2,IF(C37="COS",OPTIONS!$C$3,IF(C37="FORM",OPTIONS!$C$4,OPTIONS!$C$1))))*J37 -> 102.3 | O37: =Tableau1[[#This Row],[S-TOT $/JOUR]]+Tableau1[[#This Row],[PRIME REPAS]] -> 102.3 | P37: =IF(WEEKDAY(Tableau1[[#This Row],[DATE]],2)<>7,"",SUMIFS(Tableau1[HRS2],Tableau1[DATE],">="&Tableau1[[#This Row],[DATE]]-(WEEKDAY(Tableau1[[#This Row],[DATE]],1)-1),Tableau1[DATE],"<="&Tableau1[[#This Row],[DATE]]-(WEEKDAY(Tableau1[[#This Row],[DATE]],1)-7))) | Q37: =IF(WEEKDAY(Tableau1[[#This Row],[DATE]],2)<>7,"",SUMIFS(Tableau1[$/JOUR],Tableau1[DATE],">="&Tableau1[[#This Row],[DATE]]-(WEEKDAY(Tableau1[[#This Row],[DATE]],1)-1),Tableau1[DATE],"<="&Tableau1[[#This Row],[DATE]]-(WEEKDAY(Tableau1[[#This Row],[DATE]],1)-7)))
A38: 43902 | B38: =A38 -> 43902 | C38: CV | D38: 33524 | E38: 0.41666667 | F38: 0.79166667 | G38: =(Tableau1[[#This Row],[FIN]]-Tableau1[[#This Row],[DÉBUT]])*24 -> 9 | H38: =VLOOKUP(Tableau1[[#This Row],[HRS]],TABLEAUX!$A$2:$B$49,2,1) -> 2 | I38: =VLOOKUP(Tableau1[[#This Row],[HRS]],TABLEAUX!$C$2:$D$49,2,1) -> 1 | J38: =G38-I38 -> 8 | K38: =IF(I38=2,12.65,0) -> 0 | L38: =N38*7.45% -> 12.19416 | M38: =IF(WEEKDAY(Tableau1[[#This Row],[DATE]],2)<>7,"",SUMIFS(Tableau1[CHARGE/JRS],Tableau1[DATE],">="&Tableau1[[#This Row],[DATE]]-(WEEKDAY(Tableau1[[#This Row],[DATE]],1)-1),Tableau1[DATE],"<="&Tableau1[[#This Row],[DATE]]-(WEEKDAY(Tableau1[[#This Row],[DATE]],1)-7))) | N38: =(IF(C38="CV",OPTIONS!$C$2,IF(C38="COS",OPTIONS!$C$3,IF(C38="FORM",OPTIONS!$C$4,OPTIONS!$C$1))))*J38 -> 163.68 | O38: =Tableau1[[#This Row],[S-TOT $/JOUR]]+Tableau1[[#This Row],[PRIME REPAS]] -> 163.68 | P38: =IF(WEEKDAY(Tableau1[[#This Row],[DATE]],2)<>7,"",SUMIFS(Tableau1[HRS2],Tableau1[DATE],">="&Tableau1[[#This Row],[DATE]]-(WEEKDAY(Tableau1[[#This Row],[DATE]],1)-1),Tableau1[DATE],"<="&Tableau1[[#This Row],[DATE]]-(WEEKDAY(Tableau1[[#This Row],[DATE]],1)-7))) | Q38: =IF(WEEKDAY(Tableau1[[#This Row],[DATE]],2)<>7,"",SUMIFS(Tableau1[$/JOUR],Tableau1[DATE],">="&Tableau1[[#This Row],[DATE]]-(WEEKDAY(Tableau1[[#This Row],[DATE]],1)-1),Tableau1[DATE],"<="&Tableau1[[#This Row],[DATE]]-(WEEKDAY(Tableau1[[#This Row],[DATE]],1)-7)))
A39: 43903 | B39: =A39 -> 43903 | C39: CV | D39: 33524 | E39: 0.41666667 | F39: 0.75 | G39: =(Tableau1[[#This Row],[FIN]]-Tableau1[[#This Row],[DÉBUT]])*24 -> 8 | H39: =VLOOKUP(Tableau1[[#This Row],[HRS]],TABLEAUX!$A$2:$B$49,2,1) -> 2 | I39: =VLOOKUP(Tableau1[[#This Row],[HRS]],TABLEAUX!$C$2:$D$49,2,1) -> 1 | J39: =G39-I39 -> 7 | K39: =IF(I39=2,12.65,0) -> 0 | L39: =N39*7.45% -> 10.66989 | M39: =IF(WEEKDAY(Tableau1[[#This Row],[DATE]],2)<>7,"",SUMIFS(Tableau1[CHARGE/JRS],Tableau1[DATE],">="&Tableau1[[#This Row],[DATE]]-(WEEKDAY(Tableau1[[#This Row],[DATE]],1)-1),Tableau1[DATE],"<="&Tableau1[[#This Row],[DATE]]-(WEEKDAY(Tableau1[[#This Row],[DATE]],1)-7))) | N39: =(IF(C39="CV",OPTIONS!$C$2,IF(C39="COS",OPTIONS!$C$3,IF(C39="FORM",OPTIONS!$C$4,OPTIONS!$C$1))))*J39 -> 143.22 | O39: =Tableau1[[#This Row],[S-TOT $/JOUR]]+Tableau1[[#This Row],[PRIME REPAS]] -> 143.22 | P39: =IF(WEEKDAY(Tableau1[[#This Row],[DATE]],2)<>7,"",SUMIFS(Tableau1[HRS2],Tableau1[DATE],">="&Tableau1[[#This Row],[DATE]]-(WEEKDAY(Tableau1[[#This Row],[DATE]],1)-1),Tableau1[DATE],"<="&Tableau1[[#This Row],[DATE]]-(WEEKDAY(Tableau1[[#This Row],[DATE]],1)-7))) | Q39: =IF(WEEKDAY(Tableau1[[#This Row],[DATE]],2)<>7,"",SUMIFS(Tableau1[$/JOUR],Tableau1[DATE],">="&Tableau1[[#This Row],[DATE]]-(WEEKDAY(Tableau1[[#This Row],[DATE]],1)-1),Tableau1[DATE],"<="&Tableau1[[#This Row],[DATE]]-(WEEKDAY(Tableau1[[#This Row],[DATE]],1)-7)))
A40: 43904 | B40: =A40 -> 43904 | C40: CV | G40: =(Tableau1[[#This Row],[FIN]]-Tableau1[[#This Row],[DÉBUT]])*24 -> 0 | H40: =VLOOKUP(Tableau1[[#This Row],[HRS]],TABLEAUX!$A$2:$B$49,2,1) -> #N/A | I40: =VLOOKUP(Tableau1[[#This Row],[HRS]],TABLEAUX!$C$2:$D$49,2,1) -> #N/A | J40: =G40-I40 -> #N/A | K40: =IF(I40=2,12.65,0) -> #N/A | L40: =N40*7.45% -> #N/A | M40: =IF(WEEKDAY(Tableau1[[#This Row],[DATE]],2)<>7,"",SUMIFS(Tableau1[CHARGE/JRS],Tableau1[DATE],">="&Tableau1[[#This Row],[DATE]]-(WEEKDAY(Tableau1[[#This Row],[DATE]],1)-1),Tableau1[DATE],"<="&Tableau1[[#This Row],[DATE]]-(WEEKDAY(Tableau1[[#This Row],[DATE]],1)-7))) | N40: =(IF(C40="CV",OPTIONS!$C$2,IF(C40="COS",OPTIONS!$C$3,IF(C40="FORM",OPTIONS!$C$4,OPTIONS!$C$1))))*J40 -> #N/A | O40: =Tableau1[[#This Row],[S-TOT $/JOUR]]+Tableau1[[#This Row],[PRIME REPAS]] -> #N/A | P40: =IF(WEEKDAY(Tableau1[[#This Row],[DATE]],2)<>7,"",SUMIFS(Tableau1[HRS2],Tableau1[DATE],">="&Tableau1[[#This Row],[DATE]]-(WEEKDAY(Tableau1[[#This Row],[DATE]],1)-1),Tableau1[DATE],"<="&Tableau1[[#This Row],[DATE]]-(WEEKDAY(Tableau1[[#This Row],[DATE]],1)-7))) | Q40: =IF(WEEKDAY(Tableau1[[#This Row],[DATE]],2)<>7,"",SUMIFS(Tableau1[$/JOUR],Tableau1[DATE],">="&Tableau1[[#This Row],[DATE]]-(WEEKDAY(Tableau1[[#This Row],[DATE]],1)-1),Tableau1[DATE],"<="&Tableau1[[#This Row],[DATE]]-(WEEKDAY(Tableau1[[#This Row],[DATE]],1)-7)))
A41: 43905 | B41: =A41 -> 43905 | C41: COS | D41: 33606 | E41: 0.47916667 | F41: 0.72916667 | G41: =(Tableau1[[#This Row],[FIN]]-Tableau1[[#This Row],[DÉBUT]])*24 -> 6 | H41: =VLOOKUP(Tableau1[[#This Row],[HRS]],TABLEAUX!$A$2:$B$49,2,1) -> 1 | I41: =VLOOKUP(Tableau1[[#This Row],[HRS]],TABLEAUX!$C$2:$D$49,2,1) -> 0 | J41: =G41-I41 -> 6 | K41: =IF(I41=2,12.65,0) -> 0 | L41: =N41*7.45% -> 10.45086 | M41: =IF(WEEKDAY(Tableau1[[#This Row],[DATE]],2)<>7,"",SUMIFS(Tableau1[CHARGE/JRS],Tableau1[DATE],">="&Tableau1[[#This Row],[DATE]]-(WEEKDAY(Tableau1[[#This Row],[DATE]],1)-1),Tableau1[DATE],"<="&Tableau1[[#This Row],[DATE]]-(WEEKDAY(Tableau1[[#This Row],[DATE]],1)-7))) -> #N/A | N41: =(IF(C41="CV",OPTIONS!$C$2,IF(C41="COS",OPTIONS!$C$3,IF(C41="FORM",OPTIONS!$C$4,OPTIONS!$C$1))))*J41 -> 140.28 | O41: =Tableau1[[#This Row],[S-TOT $/JOUR]]+Tableau1[[#This Row],[PRIME REPAS]] -> 140.28 | P41: =IF(WEEKDAY(Tableau1[[#This Row],[DATE]],2)<>7,"",SUMIFS(Tableau1[HRS2],Tableau1[DATE],">="&Tableau1[[#This Row],[DATE]]-(WEEKDAY(Tableau1[[#This Row],[DATE]],1)-1),Tableau1[DATE],"<="&Tableau1[[#This Row],[DATE]]-(WEEKDAY(Tableau1[[#This Row],[DATE]],1)-7))) -> #N/A | Q41: =IF(WEEKDAY(Tableau1[[#This Row],[DATE]],2)<>7,"",SUMIFS(Tableau1[$/JOUR],Tableau1[DATE],">="&Tableau1[[#This Row],[DATE]]-(WEEKDAY(Tableau1[[#This Row],[DATE]],1)-1),Tableau1[DATE],"<="&Tableau1[[#This Row],[DATE]]-(WEEKDAY(Tableau1[[#This Row],[DATE]],1)-7)))+Tableau1[[#This Row],[CHARGE3]] -> #N/A
A42: 43906 | B42: =A42 -> 43906 | C42: CV | D42: 33606 | E42: 0.54166667 | F42: 0.75 | G42: =(Tableau1[[#This Row],[FIN]]-Tableau1[[#This Row],[DÉBUT]])*24 -> 5 | H42: =VLOOKUP(Tableau1[[#This Row],[HRS]],TABLEAUX!$A$2:$B$49,2,1) -> 1 | I42: =VLOOKUP(Tableau1[[#This Row],[HRS]],TABLEAUX!$C$2:$D$49,2,1) -> 0 | J42: =G42-I42 -> 5 | K42: =IF(I42=2,12.65,0) -> 0 | L42: =N42*7.45% -> 7.62135 | M42: =IF(WEEKDAY(Tableau1[[#This Row],[DATE]],2)<>7,"",SUMIFS(Tableau1[CHARGE/JRS],Tableau1[DATE],">="&Tableau1[[#This Row],[DATE]]-(WEEKDAY(Tableau1[[#This Row],[DATE]],1)-1),Tableau1[DATE],"<="&Tableau1[[#This Row],[DATE]]-(WEEKDAY(Tableau1[[#This Row],[DATE]],1)-7))) | N42: =(IF(C42="CV",OPTIONS!$C$2,IF(C42="COS",OPTIONS!$C$3,IF(C42="FORM",OPTIONS!$C$4,OPTIONS!$C$1))))*J42 -> 102.3 | O42: =Tableau1[[#This Row],[S-TOT $/JOUR]]+Tableau1[[#This Row],[PRIME REPAS]] -> 102.3 | P42: =IF(WEEKDAY(Tableau1[[#This Row],[DATE]],2)<>7,"",SUMIFS(Tableau1[HRS2],Tableau1[DATE],">="&Tableau1[[#This Row],[DATE]]-(WEEKDAY(Tableau1[[#This Row],[DATE]],1)-1),Tableau1[DATE],"<="&Tableau1[[#This Row],[DATE]]-(WEEKDAY(Tableau1[[#This Row],[DATE]],1)-7))) | Q42: =IF(WEEKDAY(Tableau1[[#This Row],[DATE]],2)<>7,"",SUMIFS(Tableau1[$/JOUR],Tableau1[DATE],">="&Tableau1[[#This Row],[DATE]]-(WEEKDAY(Tableau1[[#This Row],[DATE]],1)-1),Tableau1[DATE],"<="&Tableau1[[#This Row],[DATE]]-(WEEKDAY(Tableau1[[#This Row],[DATE]],1)-7)))
A43: 43907 | B43: =A43 -> 43907 | C43: CV | G43: =(Tableau1[[#This Row],[FIN]]-Tableau1[[#This Row],[DÉBUT]])*24 -> 0 | H43: =VLOOKUP(Tableau1[[#This Row],[HRS]],TABLEAUX!$A$2:$B$49,2,1) -> #N/A | I43: =VLOOKUP(Tableau1[[#This Row],[HRS]],TABLEAUX!$C$2:$D$49,2,1) -> #N/A | J43: =G43-I43 -> #N/A | K43: =IF(I43=2,12.65,0) -> #N/A | L43: =N43*7.45% -> #N/A | M43: =IF(WEEKDAY(Tableau1[[#This Row],[DATE]],2)<>7,"",SUMIFS(Tableau1[CHARGE/JRS],Tableau1[DATE],">="&Tableau1[[#This Row],[DATE]]-(WEEKDAY(Tableau1[[#This Row],[DATE]],1)-1),Tableau1[DATE],"<="&Tableau1[[#This Row],[DATE]]-(WEEKDAY(Tableau1[[#This Row],[DATE]],1)-7))) | N43: =(IF(C43="CV",OPTIONS!$C$2,IF(C43="COS",OPTIONS!$C$3,IF(C43="FORM",OPTIONS!$C$4,OPTIONS!$C$1))))*J43 -> #N/A | O43: =Tableau1[[#This Row],[S-TOT $/JOUR]]+Tableau1[[#This Row],[PRIME REPAS]] -> #N/A | P43: =IF(WEEKDAY(Tableau1[[#This Row],[DATE]],2)<>7,"",SUMIFS(Tableau1[HRS2],Tableau1[DATE],">="&Tableau1[[#This Row],[DATE]]-(WEEKDAY(Tableau1[[#This Row],[DATE]],1)-1),Tableau1[DATE],"<="&Tableau1[[#This Row],[DATE]]-(WEEKDAY(Tableau1[[#This Row],[DATE]],1)-7))) | Q43: =IF(WEEKDAY(Tableau1[[#This Row],[DATE]],2)<>7,"",SUMIFS(Tableau1[$/JOUR],Tableau1[DATE],">="&Tableau1[[#This Row],[DATE]]-(WEEKDAY(Tableau1[[#This Row],[DATE]],1)-1),Tableau1[DATE],"<="&Tableau1[[#This Row],[DATE]]-(WEEKDAY(Tableau1[[#This Row],[DATE]],1)-7)))
A44: 43908 | B44: =A44 -> 43908 | C44: CV | D44: 33606 | E44: 0.375 | F44: 0.75 | G44: =(Tableau1[[#This Row],[FIN]]-Tableau1[[#This Row],[DÉBUT]])*24 -> 9 | H44: =VLOOKUP(Tableau1[[#This Row],[HRS]],TABLEAUX!$A$2:$B$49,2,1) -> 2 | I44: =VLOOKUP(Tableau1[[#This Row],[HRS]],TABLEAUX!$C$2:$D$49,2,1) -> 1 | J44: =G44-I44 -> 8 | K44: =IF(I44=2,12.65,0) -> 0 | L44: =N44*7.45% -> 12.19416 | M44: =IF(WEEKDAY(Tableau1[[#This Row],[DATE]],2)<>7,"",SUMIFS(Tableau1[CHARGE/JRS],Tableau1[DATE],">="&Tableau1[[#This Row],[DATE]]-(WEEKDAY(Tableau1[[#This Row],[DATE]],1)-1),Tableau1[DATE],"<="&Tableau1[[#This Row],[DATE]]-(WEEKDAY(Tableau1[[#This Row],[DATE]],1)-7))) | N44: =(IF(C44="CV",OPTIONS!$C$2,IF(C44="COS",OPTIONS!$C$3,IF(C44="FORM",OPTIONS!$C$4,OPTIONS!$C$1))))*J44 -> 163.68 | O44: =Tableau1[[#This Row],[S-TOT $/JOUR]]+Tableau1[[#This Row],[PRIME REPAS]] -> 163.68 | P44: =IF(WEEKDAY(Tableau1[[#This Row],[DATE]],2)<>7,"",SUMIFS(Tableau1[HRS2],Tableau1[DATE],">="&Tableau1[[#This Row],[DATE]]-(WEEKDAY(Tableau1[[#This Row],[DATE]],1)-1),Tableau1[DATE],"<="&Tableau1[[#This Row],[DATE]]-(WEEKDAY(Tableau1[[#This Row],[DATE]],1)-7))) | Q44: =IF(WEEKDAY(Tableau1[[#This Row],[DATE]],2)<>7,"",SUMIFS(Tableau1[$/JOUR],Tableau1[DATE],">="&Tableau1[[#This Row],[DATE]]-(WEEKDAY(Tableau1[[#This Row],[DATE]],1)-1),Tableau1[DATE],"<="&Tableau1[[#This Row],[DATE]]-(WEEKDAY(Tableau1[[#This Row],[DATE]],1)-7)))
A45: 43909 | B45: =A45 -> 43909 | C45: COS | D45: 33606 | E45: 0.37708333 | F45: 0.75 | G45: =(Tableau1[[#This Row],[FIN]]-Tableau1[[#This Row],[DÉBUT]])*24 -> 8.95 | H45: =VLOOKUP(Tableau1[[#This Row],[HRS]],TABLEAUX!$A$2:$B$49,2,1) -> 2 | I45: =VLOOKUP(Tableau1[[#This Row],[HRS]],TABLEAUX!$C$2:$D$49,2,1) -> 1 | J45: =G45-I45 -> 7.95 | K45: =IF(I45=2,12.65,0) -> 0 | L45: =N45*7.45% -> 13.847389 | M45: =IF(WEEKDAY(Tableau1[[#This Row],[DATE]],2)<>7,"",SUMIFS(Tableau1[CHARGE/JRS],Tableau1[DATE],">="&Tableau1[[#This Row],[DATE]]-(WEEKDAY(Tableau1[[#This Row],[DATE]],1)-1),Tableau1[DATE],"<="&Tableau1[[#This Row],[DATE]]-(WEEKDAY(Tableau1[[#This Row],[DATE]],1)-7))) | N45: =(IF(C45="CV",OPTIONS!$C$2,IF(C45="COS",OPTIONS!$C$3,IF(C45="FORM",OPTIONS!$C$4,OPTIONS!$C$1))))*J45 -> 185.871 | O45: =Tableau1[[#This Row],[S-TOT $/JOUR]]+Tableau1[[#This Row],[PRIME REPAS]] -> 185.871 | P45: =IF(WEEKDAY(Tableau1[[#This Row],[DATE]],2)<>7,"",SUMIFS(Tableau1[HRS2],Tableau1[DATE],">="&Tableau1[[#This Row],[DATE]]-(WEEKDAY(Tableau1[[#This Row],[DATE]],1)-1),Tableau1[DATE],"<="&Tableau1[[#This Row],[DATE]]-(WEEKDAY(Tableau1[[#This Row],[DATE]],1)-7))) | Q45: =IF(WEEKDAY(Tableau1[[#This Row],[DATE]],2)<>7,"",SUMIFS(Tableau1[$/JOUR],Tableau1[DATE],">="&Tableau1[[#This Row],[DATE]]-(WEEKDAY(Tableau1[[#This Row],[DATE]],1)-1),Tableau1[DATE],"<="&Tableau1[[#This Row],[DATE]]-(WEEKDAY(Tableau1[[#This Row],[DATE]],1)-7)))
A46: 43910 | B46: =A46 -> 43910 | C46: CV | D46: 33595 | E46: 0.66666667 | F46: 0.79166667 | G46: =(Tableau1[[#This Row],[FIN]]-Tableau1[[#This Row],[DÉBUT]])*24 -> 3 | H46: =VLOOKUP(Tableau1[[#This Row],[HRS]],TABLEAUX!$A$2:$B$49,2,1) -> 0 | I46: =VLOOKUP(Tableau1[[#This Row],[HRS]],TABLEAUX!$C$2:$D$49,2,1) -> 0 | J46: =G46-I46 -> 3 | K46: =IF(I46=2,12.65,0) -> 0 | L46: =N46*7.45% -> 4.57281 | M46: =IF(WEEKDAY(Tableau1[[#This Row],[DATE]],2)<>7,"",SUMIFS(Tableau1[CHARGE/JRS],Tableau1[DATE],">="&Tableau1[[#This Row],[DATE]]-(WEEKDAY(Tableau1[[#This Row],[DATE]],1)-1),Tableau1[DATE],"<="&Tableau1[[#This Row],[DATE]]-(WEEKDAY(Tableau1[[#This Row],[DATE]],1)-7))) | N46: =(IF(C46="CV",OPTIONS!$C$2,IF(C46="COS",OPTIONS!$C$3,IF(C46="FORM",OPTIONS!$C$4,OPTIONS!$C$1))))*J46 -> 61.38 | O46: =Tableau1[[#This Row],[S-TOT $/JOUR]]+Tableau1[[#This Row],[PRIME REPAS]] -> 61.38 | P46: =IF(WEEKDAY(Tableau1[[#This Row],[DATE]],2)<>7,"",SUMIFS(Tableau1[HRS2],Tableau1[DATE],">="&Tableau1[[#This Row],[DATE]]-(WEEKDAY(Tableau1[[#This Row],[DATE]],1)-1),Tableau1[DATE],"<="&Tableau1[[#This Row],[DATE]]-(WEEKDAY(Tableau1[[#This Row],[DATE]],1)-7))) | Q46: =IF(WEEKDAY(Tableau1[[#This Row],[DATE]],2)<>7,"",SUMIFS(Tableau1[$/JOUR],Tableau1[DATE],">="&Tableau1[[#This Row],[DATE]]-(WEEKDAY(Tableau1[[#This Row],[DATE]],1)-1),Tableau1[DATE],"<="&Tableau1[[#This Row],[DATE]]-(WEEKDAY(Tableau1[[#This Row],[DATE]],1)-7)))
A47: 43911 | B47: =A47 -> 43911 | C47: CV | G47: =(Tableau1[[#This Row],[FIN]]-Tableau1[[#This Row],[DÉBUT]])*24 -> 0 | H47: =VLOOKUP(Tableau1[[#This Row],[HRS]],TABLEAUX!$A$2:$B$49,2,1) -> #N/A | I47: =VLOOKUP(Tableau1[[#This Row],[HRS]],TABLEAUX!$C$2:$D$49,2,1) -> #N/A | J47: =G47-I47 -> #N/A | K47: =IF(I47=2,12.65,0) -> #N/A | L47: =N47*7.45% -> #N/A | M47: =IF(WEEKDAY(Tableau1[[#This Row],[DATE]],2)<>7,"",SUMIFS(Tableau1[CHARGE/JRS],Tableau1[DATE],">="&Tableau1[[#This Row],[DATE]]-(WEEKDAY(Tableau1[[#This Row],[DATE]],1)-1),Tableau1[DATE],"<="&Tableau1[[#This Row],[DATE]]-(WEEKDAY(Tableau1[[#This Row],[DATE]],1)-7))) | N47: =(IF(C47="CV",OPTIONS!$C$2,IF(C47="COS",OPTIONS!$C$3,IF(C47="FORM",OPTIONS!$C$4,OPTIONS!$C$1))))*J47 -> #N/A | O47: =Tableau1[[#This Row],[S-TOT $/JOUR]]+Tableau1[[#This Row],[PRIME REPAS]] -> #N/A | P47: =IF(WEEKDAY(Tableau1[[#This Row],[DATE]],2)<>7,"",SUMIFS(Tableau1[HRS2],Tableau1[DATE],">="&Tableau1[[#This Row],[DATE]]-(WEEKDAY(Tableau1[[#This Row],[DATE]],1)-1),Tableau1[DATE],"<="&Tableau1[[#This Row],[DATE]]-(WEEKDAY(Tableau1[[#This Row],[DATE]],1)-7))) | Q47: =IF(WEEKDAY(Tableau1[[#This Row],[DATE]],2)<>7,"",SUMIFS(Tableau1[$/JOUR],Tableau1[DATE],">="&Tableau1[[#This Row],[DATE]]-(WEEKDAY(Tableau1[[#This Row],[DATE]],1)-1),Tableau1[DATE],"<="&Tableau1[[#This Row],[DATE]]-(WEEKDAY(Tableau1[[#This Row],[DATE]],1)-7)))
A48: 43912 | B48: =A48 -> 43912 | C48: CV | G48: =(Tableau1[[#This Row],[FIN]]-Tableau1[[#This Row],[DÉBUT]])*24 -> 0 | H48: =VLOOKUP(Tableau1[[#This Row],[HRS]],TABLEAUX!$A$2:$B$49,2,1) -> #N/A | I48: =VLOOKUP(Tableau1[[#This Row],[HRS]],TABLEAUX!$C$2:$D$49,2,1) -> #N/A | J48: =G48-I48 -> #N/A | K48: =IF(I48=2,12.65,0) -> #N/A | L48: =N48*7.45% -> #N/A | M48: =IF(WEEKDAY(Tableau1[[#This Row],[DATE]],2)<>7,"",SUMIFS(Tableau1[CHARGE/JRS],Tableau1[DATE],">="&Tableau1[[#This Row],[DATE]]-(WEEKDAY(Tableau1[[#This Row],[DATE]],1)-1),Tableau1[DATE],"<="&Tableau1[[#This Row],[DATE]]-(WEEKDAY(Tableau1[[#This Row],[DATE]],1)-7))) -> #N/A | N48: =(IF(C48="CV",OPTIONS!$C$2,IF(C48="COS",OPTIONS!$C$3,IF(C48="FORM",OPTIONS!$C$4,OPTIONS!$C$1))))*J48 -> #N/A | O48: =Tableau1[[#This Row],[S-TOT $/JOUR]]+Tableau1[[#This Row],[PRIME REPAS]] -> #N/A | P48: =IF(WEEKDAY(Tableau1[[#This Row],[DATE]],2)<>7,"",SUMIFS(Tableau1[HRS2],Tableau1[DATE],">="&Tableau1[[#This Row],[DATE]]-(WEEKDAY(Tableau1[[#This Row],[DATE]],1)-1),Tableau1[DATE],"<="&Tableau1[[#This Row],[DATE]]-(WEEKDAY(Tableau1[[#This Row],[DATE]],1)-7))) -> #N/A | Q48: =IF(WEEKDAY(Tableau1[[#This Row],[DATE]],2)<>7,"",SUMIFS(Tableau1[$/JOUR],Tableau1[DATE],">="&Tableau1[[#This Row],[DATE]]-(WEEKDAY(Tableau1[[#This Row],[DATE]],1)-1),Tableau1[DATE],"<="&Tableau1[[#This Row],[DATE]]-(WEEKDAY(Tableau1[[#This Row],[DATE]],1)-7)))+Tableau1[[#This Row],[CHARGE3]] -> #N/A
A49: 43913 | B49: =A49 -> 43913 | C49: CV | G49: =(Tableau1[[#This Row],[FIN]]-Tableau1[[#This Row],[DÉBUT]])*24 -> 0 | H49: =VLOOKUP(Tableau1[[#This Row],[HRS]],TABLEAUX!$A$2:$B$49,2,1) -> #N/A | I49: =VLOOKUP(Tableau1[[#This Row],[HRS]],TABLEAUX!$C$2:$D$49,2,1) -> #N/A | J49: =G49-I49 -> #N/A | K49: =IF(I49=2,12.65,0) -> #N/A | L49: =N49*7.45% -> #N/A | M49: =IF(WEEKDAY(Tableau1[[#This Row],[DATE]],2)<>7,"",SUMIFS(Tableau1[CHARGE/JRS],Tableau1[DATE],">="&Tableau1[[#This Row],[DATE]]-(WEEKDAY(Tableau1[[#This Row],[DATE]],1)-1),Tableau1[DATE],"<="&Tableau1[[#This Row],[DATE]]-(WEEKDAY(Tableau1[[#This Row],[DATE]],1)-7))) | N49: =(IF(C49="CV",OPTIONS!$C$2,IF(C49="COS",OPTIONS!$C$3,IF(C49="FORM",OPTIONS!$C$4,OPTIONS!$C$1))))*J49 -> #N/A | O49: =Tableau1[[#This Row],[S-TOT $/JOUR]]+Tableau1[[#This Row],[PRIME REPAS]] -> #N/A | P49: =IF(WEEKDAY(Tableau1[[#This Row],[DATE]],2)<>7,"",SUMIFS(Tableau1[HRS2],Tableau1[DATE],">="&Tableau1[[#This Row],[DATE]]-(WEEKDAY(Tableau1[[#This Row],[DATE]],1)-1),Tableau1[DATE],"<="&Tableau1[[#This Row],[DATE]]-(WEEKDAY(Tableau1[[#This Row],[DATE]],1)-7))) | Q49: =IF(WEEKDAY(Tableau1[[#This Row],[DATE]],2)<>7,"",SUMIFS(Tableau1[$/JOUR],Tableau1[DATE],">="&Tableau1[[#This Row],[DATE]]-(WEEKDAY(Tableau1[[#This Row],[DATE]],1)-1),Tableau1[DATE],"<="&Tableau1[[#This Row],[DATE]]-(WEEKDAY(Tableau1[[#This Row],[DATE]],1)-7)))
A50: 43914 | B50: =A50 -> 43914 | C50: CV | G50: =(Tableau1[[#This Row],[FIN]]-Tableau1[[#This Row],[DÉBUT]])*24 -> 0 | H50: =VLOOKUP(Tableau1[[#This Row],[HRS]],TABLEAUX!$A$2:$B$49,2,1) -> #N/A | I50: =VLOOKUP(Tableau1[[#This Row],[HRS]],TABLEAUX!$C$2:$D$49,2,1) -> #N/A | J50: =G50-I50 -> #N/A | K50: =IF(I50=2,12.65,0) -> #N/A | L50: =N50*7.45% -> #N/A | M50: =IF(WEEKDAY(Tableau1[[#This Row],[DATE]],2)<>7,"",SUMIFS(Tableau1[CHARGE/JRS],Tableau1[DATE],">="&Tableau1[[#This Row],[DATE]]-(WEEKDAY(Tableau1[[#This Row],[DATE]],1)-1),Tableau1[DATE],"<="&Tableau1[[#This Row],[DATE]]-(WEEKDAY(Tableau1[[#This Row],[DATE]],1)-7))) | N50: =(IF(C50="CV",OPTIONS!$C$2,IF(C50="COS",OPTIONS!$C$3,IF(C50="FORM",OPTIONS!$C$4,OPTIONS!$C$1))))*J50 -> #N/A | O50: =Tableau1[[#This Row],[S-TOT $/JOUR]]+Tableau1[[#This Row],[PRIME REPAS]] -> #N/A | P50: =IF(WEEKDAY(Tableau1[[#This Row],[DATE]],2)<>7,"",SUMIFS(Tableau1[HRS2],Tableau1[DATE],">="&Tableau1[[#This Row],[DATE]]-(WEEKDAY(Tableau1[[#This Row],[DATE]],1)-1),Tableau1[DATE],"<="&Tableau1[[#This Row],[DATE]]-(WEEKDAY(Tableau1[[#This Row],[DATE]],1)-7))) | Q50: =IF(WEEKDAY(Tableau1[[#This Row],[DATE]],2)<>7,"",SUMIFS(Tableau1[$/JOUR],Tableau1[DATE],">="&Tableau1[[#This Row],[DATE]]-(WEEKDAY(Tableau1[[#This Row],[DATE]],1)-1),Tableau1[DATE],"<="&Tableau1[[#This Row],[DATE]]-(WEEKDAY(Tableau1[[#This Row],[DATE]],1)-7)))
A51: 43915 | B51: =A51 -> 43915 | C51: CV | G51: =(Tableau1[[#This Row],[FIN]]-Tableau1[[#This Row],[DÉBUT]])*24 -> 0 | H51: =VLOOKUP(Tableau1[[#This Row],[HRS]],TABLEAUX!$A$2:$B$49,2,1) -> #N/A | I51: =VLOOKUP(Tableau1[[#This Row],[HRS]],TABLEAUX!$C$2:$D$49,2,1) -> #N/A | J51: =G51-I51 -> #N/A | K51: =IF(I51=2,12.65,0) -> #N/A | L51: =N51*7.45% -> #N/A | M51: =IF(WEEKDAY(Tableau1[[#This Row],[DATE]],2)<>7,"",SUMIFS(Tableau1[CHARGE/JRS],Tableau1[DATE],">="&Tableau1[[#This Row],[DATE]]-(WEEKDAY(Tableau1[[#This Row],[DATE]],1)-1),Tableau1[DATE],"<="&Tableau1[[#This Row],[DATE]]-(WEEKDAY(Tableau1[[#This Row],[DATE]],1)-7))) | N51: =(IF(C51="CV",OPTIONS!$C$2,IF(C51="COS",OPTIONS!$C$3,IF(C51="FORM",OPTIONS!$C$4,OPTIONS!$C$1))))*J51 -> #N/A | O51: =Tableau1[[#This Row],[S-TOT $/JOUR]]+Tableau1[[#This Row],[PRIME REPAS]] -> #N/A | P51: =IF(WEEKDAY(Tableau1[[#This Row],[DATE]],2)<>7,"",SUMIFS(Tableau1[HRS2],Tableau1[DATE],">="&Tableau1[[#This Row],[DATE]]-(WEEKDAY(Tableau1[[#This Row],[DATE]],1)-1),Tableau1[DATE],"<="&Tableau1[[#This Row],[DATE]]-(WEEKDAY(Tableau1[[#This Row],[DATE]],1)-7))) | Q51: =IF(WEEKDAY(Tableau1[[#This Row],[DATE]],2)<>7,"",SUMIFS(Tableau1[$/JOUR],Tableau1[DATE],">="&Tableau1[[#This Row],[DATE]]-(WEEKDAY(Tableau1[[#This Row],[DATE]],1)-1),Tableau1[DATE],"<="&Tableau1[[#This Row],[DATE]]-(WEEKDAY(Tableau1[[#This Row],[DATE]],1)-7)))
A52: 43916 | B52: =A52 -> 43916 | C52: CV | D52: 33595 | E52: 0.66666667 | F52: 0.79166667 | G52: =(Tableau1[[#This Row],[FIN]]-Tableau1[[#This Row],[DÉBUT]])*24 -> 3 | H52: =VLOOKUP(Tableau1[[#This Row],[HRS]],TABLEAUX!$A$2:$B$49,2,1) -> 0 | I52: =VLOOKUP(Tableau1[[#This Row],[HRS]],TABLEAUX!$C$2:$D$49,2,1) -> 0 | J52: =G52-I52 -> 3 | K52: =IF(I52=2,12.65,0) -> 0 | L52: =N52*7.45% -> 4.57281 | M52: =IF(WEEKDAY(Tableau1[[#This Row],[DATE]],2)<>7,"",SUMIFS(Tableau1[CHARGE/JRS],Tableau1[DATE],">="&Tableau1[[#This Row],[DATE]]-(WEEKDAY(Tableau1[[#This Row],[DATE]],1)-1),Tableau1[DATE],"<="&Tableau1[[#This Row],[DATE]]-(WEEKDAY(Tableau1[[#This Row],[DATE]],1)-7))) | N52: =(IF(C52="CV",OPTIONS!$C$2,IF(C52="COS",OPTIONS!$C$3,IF(C52="FORM",OPTIONS!$C$4,OPTIONS!$C$1))))*J52 -> 61.38 | O52: =Tableau1[[#This Row],[S-TOT $/JOUR]]+Tableau1[[#This Row],[PRIME REPAS]] -> 61.38 | P52: =IF(WEEKDAY(Tableau1[[#This Row],[DATE]],2)<>7,"",SUMIFS(Tableau1[HRS2],Tableau1[DATE],">="&Tableau1[[#This Row],[DATE]]-(WEEKDAY(Tableau1[[#This Row],[DATE]],1)-1),Tableau1[DATE],"<="&Tableau1[[#This Row],[DATE]]-(WEEKDAY(Tableau1[[#This Row],[DATE]],1)-7))) | Q52: =IF(WEEKDAY(Tableau1[[#This Row],[DATE]],2)<>7,"",SUMIFS(Tableau1[$/JOUR],Tableau1[DATE],">="&Tableau1[[#This Row],[DATE]]-(WEEKDAY(Tableau1[[#This Row],[DATE]],1)-1),Tableau1[DATE],"<="&Tableau1[[#This Row],[DATE]]-(WEEKDAY(Tableau1[[#This Row],[DATE]],1)-7)))
A53: 43917 | B53: =A53 -> 43917 | C53: COS | D53: 33538 | E53: 0.58333333 | F53: 0.75 | G53: =(Tableau1[[#This Row],[FIN]]-Tableau1[[#This Row],[DÉBUT]])*24 -> 4 | H53: =VLOOKUP(Tableau1[[#This Row],[HRS]],TABLEAUX!$A$2:$B$49,2,1) -> 0 | I53: =VLOOKUP(Tableau1[[#This Row],[HRS]],TABLEAUX!$C$2:$D$49,2,1) -> 0 | J53: =G53-I53 -> 4 | K53: =IF(I53=2,12.65,0) -> 0 | L53: =N53*7.45% -> 6.96724 | M53: =IF(WEEKDAY(Tableau1[[#This Row],[DATE]],2)<>7,"",SUMIFS(Tableau1[CHARGE/JRS],Tableau1[DATE],">="&Tableau1[[#This Row],[DATE]]-(WEEKDAY(Tableau1[[#This Row],[DATE]],1)-1),Tableau1[DATE],"<="&Tableau1[[#This Row],[DATE]]-(WEEKDAY(Tableau1[[#This Row],[DATE]],1)-7))) | N53: =(IF(C53="CV",OPTIONS!$C$2,IF(C53="COS",OPTIONS!$C$3,IF(C53="FORM",OPTIONS!$C$4,OPTIONS!$C$1))))*J53 -> 93.52 | O53: =Tableau1[[#This Row],[S-TOT $/JOUR]]+Tableau1[[#This Row],[PRIME REPAS]] -> 93.52 | P53: =IF(WEEKDAY(Tableau1[[#This Row],[DATE]],2)<>7,"",SUMIFS(Tableau1[HRS2],Tableau1[DATE],">="&Tableau1[[#This Row],[DATE]]-(WEEKDAY(Tableau1[[#This Row],[DATE]],1)-1),Tableau1[DATE],"<="&Tableau1[[#This Row],[DATE]]-(WEEKDAY(Tableau1[[#This Row],[DATE]],1)-7))) | Q53: =IF(WEEKDAY(Tableau1[[#This Row],[DATE]],2)<>7,"",SUMIFS(Tableau1[$/JOUR],Tableau1[DATE],">="&Tableau1[[#This Row],[DATE]]-(WEEKDAY(Tableau1[[#This Row],[DATE]],1)-1),Tableau1[DATE],"<="&Tableau1[[#This Row],[DATE]]-(WEEKDAY(Tableau1[[#This Row],[DATE]],1)-7)))
A54: 43918 | B54: =A54 -> 43918 | G54: =(Tableau1[[#This Row],[FIN]]-Tableau1[[#This Row],[DÉBUT]])*24 -> 0 | H54: =VLOOKUP(Tableau1[[#This Row],[HRS]],TABLEAUX!$A$2:$B$49,2,1) -> #N/A | I54: =VLOOKUP(Tableau1[[#This Row],[HRS]],TABLEAUX!$C$2:$D$49,2,1) -> #N/A | J54: =G54-I54 -> #N/A | K54: =IF(I54=2,12.65,0) -> #N/A | L54: =N54*7.45% -> #N/A | M54: =IF(WEEKDAY(Tableau1[[#This Row],[DATE]],2)<>7,"",SUMIFS(Tableau1[CHARGE/JRS],Tableau1[DATE],">="&Tableau1[[#This Row],[DATE]]-(WEEKDAY(Tableau1[[#This Row],[DATE]],1)-1),Tableau1[DATE],"<="&Tableau1[[#This Row],[DATE]]-(WEEKDAY(Tableau1[[#This Row],[DATE]],1)-7))) | N54: =(IF(C54="CV",OPTIONS!$C$2,IF(C54="COS",OPTIONS!$C$3,IF(C54="FORM",OPTIONS!$C$4,OPTIONS!$C$1))))*J54 -> #N/A | O54: =Tableau1[[#This Row],[S-TOT $/JOUR]]+Tableau1[[#This Row],[PRIME REPAS]] -> #N/A | P54: =IF(WEEKDAY(Tableau1[[#This Row],[DATE]],2)<>7,"",SUMIFS(Tableau1[HRS2],Tableau1[DATE],">="&Tableau1[[#This Row],[DATE]]-(WEEKDAY(Tableau1[[#This Row],[DATE]],1)-1),Tableau1[DATE],"<="&Tableau1[[#This Row],[DATE]]-(WEEKDAY(Tableau1[[#This Row],[DATE]],1)-7))) | Q54: =IF(WEEKDAY(Tableau1[[#This Row],[DATE]],2)<>7,"",SUMIFS(Tableau1[$/JOUR],Tableau1[DATE],">="&Tableau1[[#This Row],[DATE]]-(WEEKDAY(Tableau1[[#This Row],[DATE]],1)-1),Tableau1[DATE],"<="&Tableau1[[#This Row],[DATE]]-(WEEKDAY(Tableau1[[#This Row],[DATE]],1)-7)))
A55: 43919 | B55: =A55 -> 43919 | G55: =(Tableau1[[#This Row],[FIN]]-Tableau1[[#This Row],[DÉBUT]])*24 -> 0 | H55: =VLOOKUP(Tableau1[[#This Row],[HRS]],TABLEAUX!$A$2:$B$49,2,1) -> #N/A | I55: =VLOOKUP(Tableau1[[#This Row],[HRS]],TABLEAUX!$C$2:$D$49,2,1) -> #N/A | J55: =G55-I55 -> #N/A | K55: =IF(I55=2,12.65,0) -> #N/A | L55: =N55*7.45% -> #N/A | M55: =IF(WEEKDAY(Tableau1[[#This Row],[DATE]],2)<>7,"",SUMIFS(Tableau1[CHARGE/JRS],Tableau1[DATE],">="&Tableau1[[#This Row],[DATE]]-(WEEKDAY(Tableau1[[#This Row],[DATE]],1)-1),Tableau1[DATE],"<="&Tableau1[[#This Row],[DATE]]-(WEEKDAY(Tableau1[[#This Row],[DATE]],1)-7))) -> #N/A | N55: =(IF(C55="CV",OPTIONS!$C$2,IF(C55="COS",OPTIONS!$C$3,IF(C55="FORM",OPTIONS!$C$4,OPTIONS!$C$1))))*J55 -> #N/A | O55: =Tableau1[[#This Row],[S-TOT $/JOUR]]+Tableau1[[#This Row],[PRIME REPAS]] -> #N/A | P55: =IF(WEEKDAY(Tableau1[[#This Row],[DATE]],2)<>7,"",SUMIFS(Tableau1[HRS2],Tableau1[DATE],">="&Tableau1[[#This Row],[DATE]]-(WEEKDAY(Tableau1[[#This Row],[DATE]],1)-1),Tableau1[DATE],"<="&Tableau1[[#This Row],[DATE]]-(WEEKDAY(Tableau1[[#This Row],[DATE]],1)-7))) -> #N/A | Q55: =IF(WEEKDAY(Tableau1[[#This Row],[DATE]],2)<>7,"",SUMIFS(Tableau1[$/JOUR],Tableau1[DATE],">="&Tableau1[[#This Row],[DATE]]-(WEEKDAY(Tableau1[[#This Row],[DATE]],1)-1),Tableau1[DATE],"<="&Tableau1[[#This Row],[DATE]]-(WEEKDAY(Tableau1[[#This Row],[DATE]],1)-7)))+Tableau1[[#This Row],[CHARGE3]] -> #N/A
A56: 43920 | B56: =A56 -> 43920 | G56: =(Tableau1[[#This Row],[FIN]]-Tableau1[[#This Row],[DÉBUT]])*24 -> 0 | H56: =VLOOKUP(Tableau1[[#This Row],[HRS]],TABLEAUX!$A$2:$B$49,2,1) -> #N/A | I56: =VLOOKUP(Tableau1[[#This Row],[HRS]],TABLEAUX!$C$2:$D$49,2,1) -> #N/A | J56: =G56-I56 -> #N/A | K56: =IF(I56=2,12.65,0) -> #N/A | L56: =N56*7.45% -> #N/A | M56: =IF(WEEKDAY(Tableau1[[#This Row],[DATE]],2)<>7,"",SUMIFS(Tableau1[CHARGE/JRS],Tableau1[DATE],">="&Tableau1[[#This Row],[DATE]]-(WEEKDAY(Tableau1[[#This Row],[DATE]],1)-1),Tableau1[DATE],"<="&Tableau1[[#This Row],[DATE]]-(WEEKDAY(Tableau1[[#This Row],[DATE]],1)-7))) | N56: =(IF(C56="CV",OPTIONS!$C$2,IF(C56="COS",OPTIONS!$C$3,IF(C56="FORM",OPTIONS!$C$4,OPTIONS!$C$1))))*J56 -> #N/A | O56: =Tableau1[[#This Row],[S-TOT $/JOUR]]+Tableau1[[#This Row],[PRIME REPAS]] -> #N/A | P56: =IF(WEEKDAY(Tableau1[[#This Row],[DATE]],2)<>7,"",SUMIFS(Tableau1[HRS2],Tableau1[DATE],">="&Tableau1[[#This Row],[DATE]]-(WEEKDAY(Tableau1[[#This Row],[DATE]],1)-1),Tableau1[DATE],"<="&Tableau1[[#This Row],[DATE]]-(WEEKDAY(Tableau1[[#This Row],[DATE]],1)-7))) | Q56: =IF(WEEKDAY(Tableau1[[#This Row],[DATE]],2)<>7,"",SUMIFS(Tableau1[$/JOUR],Tableau1[DATE],">="&Tableau1[[#This Row],[DATE]]-(WEEKDAY(Tableau1[[#This Row],[DATE]],1)-1),Tableau1[DATE],"<="&Tableau1[[#This Row],[DATE]]-(WEEKDAY(Tableau1[[#This Row],[DATE]],1)-7)))
A57: 43921 | B57: =A57 -> 43921 | G57: =(Tableau1[[#This Row],[FIN]]-Tableau1[[#This Row],[DÉBUT]])*24 -> 0 | H57: =VLOOKUP(Tableau1[[#This Row],[HRS]],TABLEAUX!$A$2:$B$49,2,1) -> #N/A | I57: =VLOOKUP(Tableau1[[#This Row],[HRS]],TABLEAUX!$C$2:$D$49,2,1) -> #N/A | J57: =G57-I57 -> #N/A | K57: =IF(I57=2,12.65,0) -> #N/A | L57: =N57*7.45% -> #N/A | M57: =IF(WEEKDAY(Tableau1[[#This Row],[DATE]],2)<>7,"",SUMIFS(Tableau1[CHARGE/JRS],Tableau1[DATE],">="&Tableau1[[#This Row],[DATE]]-(WEEKDAY(Tableau1[[#This Row],[DATE]],1)-1),Tableau1[DATE],"<="&Tableau1[[#This Row],[DATE]]-(WEEKDAY(Tableau1[[#This Row],[DATE]],1)-7))) | N57: =(IF(C57="CV",OPTIONS!$C$2,IF(C57="COS",OPTIONS!$C$3,IF(C57="FORM",OPTIONS!$C$4,OPTIONS!$C$1))))*J57 -> #N/A | O57: =Tableau1[[#This Row],[S-TOT $/JOUR]]+Tableau1[[#This Row],[PRIME REPAS]] -> #N/A | P57: =IF(WEEKDAY(Tableau1[[#This Row],[DATE]],2)<>7,"",SUMIFS(Tableau1[HRS2],Tableau1[DATE],">="&Tableau1[[#This Row],[DATE]]-(WEEKDAY(Tableau1[[#This Row],[DATE]],1)-1),Tableau1[DATE],"<="&Tableau1[[#This Row],[DATE]]-(WEEKDAY(Tableau1[[#This Row],[DATE]],1)-7))) | Q57: =IF(WEEKDAY(Tableau1[[#This Row],[DATE]],2)<>7,"",SUMIFS(Tableau1[$/JOUR],Tableau1[DATE],">="&Tableau1[[#This Row],[DATE]]-(WEEKDAY(Tableau1[[#This Row],[DATE]],1)-1),Tableau1[DATE],"<="&Tableau1[[#This Row],[DATE]]-(WEEKDAY(Tableau1[[#This Row],[DATE]],1)-7)))
A58: 43922 | B58: =A58 -> 43922 | G58: =(Tableau1[[#This Row],[FIN]]-Tableau1[[#This Row],[DÉBUT]])*24 -> 0 | H58: =VLOOKUP(Tableau1[[#This Row],[HRS]],TABLEAUX!$A$2:$B$49,2,1) -> #N/A | I58: =VLOOKUP(Tableau1[[#This Row],[HRS]],TABLEAUX!$C$2:$D$49,2,1) -> #N/A | J58: =G58-I58 -> #N/A | K58: =IF(I58=2,12.65,0) -> #N/A | L58: =N58*7.45% -> #N/A | M58: =IF(WEEKDAY(Tableau1[[#This Row],[DATE]],2)<>7,"",SUMIFS(Tableau1[CHARGE/JRS],Tableau1[DATE],">="&Tableau1[[#This Row],[DATE]]-(WEEKDAY(Tableau1[[#This Row],[DATE]],1)-1),Tableau1[DATE],"<="&Tableau1[[#This Row],[DATE]]-(WEEKDAY(Tableau1[[#This Row],[DATE]],1)-7))) | N58: =(IF(C58="CV",OPTIONS!$C$2,IF(C58="COS",OPTIONS!$C$3,IF(C58="FORM",OPTIONS!$C$4,OPTIONS!$C$1))))*J58 -> #N/A | O58: =Tableau1[[#This Row],[S-TOT $/JOUR]]+Tableau1[[#This Row],[PRIME REPAS]] -> #N/A | P58: =IF(WEEKDAY(Tableau1[[#This Row],[DATE]],2)<>7,"",SUMIFS(Tableau1[HRS2],Tableau1[DATE],">="&Tableau1[[#This Row],[DATE]]-(WEEKDAY(Tableau1[[#This Row],[DATE]],1)-1),Tableau1[DATE],"<="&Tableau1[[#This Row],[DATE]]-(WEEKDAY(Tableau1[[#This Row],[DATE]],1)-7))) | Q58: =IF(WEEKDAY(Tableau1[[#This Row],[DATE]],2)<>7,"",SUMIFS(Tableau1[$/JOUR],Tableau1[DATE],">="&Tableau1[[#This Row],[DATE]]-(WEEKDAY(Tableau1[[#This Row],[DATE]],1)-1),Tableau1[DATE],"<="&Tableau1[[#This Row],[DATE]]-(WEEKDAY(Tableau1[[#This Row],[DATE]],1)-7)))
A59: 43923 | B59: =A59 -> 43923 | G59: =(Tableau1[[#This Row],[FIN]]-Tableau1[[#This Row],[DÉBUT]])*24 -> 0 | H59: =VLOOKUP(Tableau1[[#This Row],[HRS]],TABLEAUX!$A$2:$B$49,2,1) -> #N/A | I59: =VLOOKUP(Tableau1[[#This Row],[HRS]],TABLEAUX!$C$2:$D$49,2,1) -> #N/A | J59: =G59-I59 -> #N/A | K59: =IF(I59=2,12.65,0) -> #N/A | L59: =N59*7.45% -> #N/A | M59: =IF(WEEKDAY(Tableau1[[#This Row],[DATE]],2)<>7,"",SUMIFS(Tableau1[CHARGE/JRS],Tableau1[DATE],">="&Tableau1[[#This Row],[DATE]]-(WEEKDAY(Tableau1[[#This Row],[DATE]],1)-1),Tableau1[DATE],"<="&Tableau1[[#This Row],[DATE]]-(WEEKDAY(Tableau1[[#This Row],[DATE]],1)-7))) | N59: =(IF(C59="CV",OPTIONS!$C$2,IF(C59="COS",OPTIONS!$C$3,IF(C59="FORM",OPTIONS!$C$4,OPTIONS!$C$1))))*J59 -> #N/A | O59: =Tableau1[[#This Row],[S-TOT $/JOUR]]+Tableau1[[#This Row],[PRIME REPAS]] -> #N/A | P59: =IF(WEEKDAY(Tableau1[[#This Row],[DATE]],2)<>7,"",SUMIFS(Tableau1[HRS2],Tableau1[DATE],">="&Tableau1[[#This Row],[DATE]]-(WEEKDAY(Tableau1[[#This Row],[DATE]],1)-1),Tableau1[DATE],"<="&Tableau1[[#This Row],[DATE]]-(WEEKDAY(Tableau1[[#This Row],[DATE]],1)-7))) | Q59: =IF(WEEKDAY(Tableau1[[#This Row],[DATE]],2)<>7,"",SUMIFS(Tableau1[$/JOUR],Tableau1[DATE],">="&Tableau1[[#This Row],[DATE]]-(WEEKDAY(Tableau1[[#This Row],[DATE]],1)-1),Tableau1[DATE],"<="&Tableau1[[#This Row],[DATE]]-(WEEKDAY(Tableau1[[#This Row],[DATE]],1)-7)))
A60: 43924 | B60: =A60 -> 43924 | G60: =(Tableau1[[#This Row],[FIN]]-Tableau1[[#This Row],[DÉBUT]])*24 -> 0 | H60: =VLOOKUP(Tableau1[[#This Row],[HRS]],TABLEAUX!$A$2:$B$49,2,1) -> #N/A | I60: =VLOOKUP(Tableau1[[#This Row],[HRS]],TABLEAUX!$C$2:$D$49,2,1) -> #N/A | J60: =G60-I60 -> #N/A | K60: =IF(I60=2,12.65,0) -> #N/A | L60: =N60*7.45% -> #N/A | M60: =IF(WEEKDAY(Tableau1[[#This Row],[DATE]],2)<>7,"",SUMIFS(Tableau1[CHARGE/JRS],Tableau1[DATE],">="&Tableau1[[#This Row],[DATE]]-(WEEKDAY(Tableau1[[#This Row],[DATE]],1)-1),Tableau1[DATE],"<="&Tableau1[[#This Row],[DATE]]-(WEEKDAY(Tableau1[[#This Row],[DATE]],1)-7))) | N60: =(IF(C60="CV",OPTIONS!$C$2,IF(C60="COS",OPTIONS!$C$3,IF(C60="FORM",OPTIONS!$C$4,OPTIONS!$C$1))))*J60 -> #N/A | O60: =Tableau1[[#This Row],[S-TOT $/JOUR]]+Tableau1[[#This Row],[PRIME REPAS]] -> #N/A | P60: =IF(WEEKDAY(Tableau1[[#This Row],[DATE]],2)<>7,"",SUMIFS(Tableau1[HRS2],Tableau1[DATE],">="&Tableau1[[#This Row],[DATE]]-(WEEKDAY(Tableau1[[#This Row],[DATE]],1)-1),Tableau1[DATE],"<="&Tableau1[[#This Row],[DATE]]-(WEEKDAY(Tableau1[[#This Row],[DATE]],1)-7))) | Q60: =IF(WEEKDAY(Tableau1[[#This Row],[DATE]],2)<>7,"",SUMIFS(Tableau1[$/JOUR],Tableau1[DATE],">="&Tableau1[[#This Row],[DATE]]-(WEEKDAY(Tableau1[[#This Row],[DATE]],1)-1),Tableau1[DATE],"<="&Tableau1[[#This Row],[DATE]]-(WEEKDAY(Tableau1[[#This Row],[DATE]],1)-7)))
A61: 43925 | B61: =A61 -> 43925 | G61: =(Tableau1[[#This Row],[FIN]]-Tableau1[[#This Row],[DÉBUT]])*24 -> 0 | H61: =VLOOKUP(Tableau1[[#This Row],[HRS]],TABLEAUX!$A$2:$B$49,2,1) -> #N/A | I61: =VLOOKUP(Tableau1[[#This Row],[HRS]],TABLEAUX!$C$2:$D$49,2,1) -> #N/A | J61: =G61-I61 -> #N/A | K61: =IF(I61=2,12.65,0) -> #N/A | L61: =N61*7.45% -> #N/A | M61: =IF(WEEKDAY(Tableau1[[#This Row],[DATE]],2)<>7,"",SUMIFS(Tableau1[CHARGE/JRS],Tableau1[DATE],">="&Tableau1[[#This Row],[DATE]]-(WEEKDAY(Tableau1[[#This Row],[DATE]],1)-1),Tableau1[DATE],"<="&Tableau1[[#This Row],[DATE]]-(WEEKDAY(Tableau1[[#This Row],[DATE]],1)-7))) | N61: =(IF(C61="CV",OPTIONS!$C$2,IF(C61="COS",OPTIONS!$C$3,IF(C61="FORM",OPTIONS!$C$4,OPTIONS!$C$1))))*J61 -> #N/A | O61: =Tableau1[[#This Row],[S-TOT $/JOUR]]+Tableau1[[#This Row],[PRIME REPAS]] -> #N/A | P61: =IF(WEEKDAY(Tableau1[[#This Row],[DATE]],2)<>7,"",SUMIFS(Tableau1[HRS2],Tableau1[DATE],">="&Tableau1[[#This Row],[DATE]]-(WEEKDAY(Tableau1[[#This Row],[DATE]],1)-1),Tableau1[DATE],"<="&Tableau1[[#This Row],[DATE]]-(WEEKDAY(Tableau1[[#This Row],[DATE]],1)-7))) | Q61: =IF(WEEKDAY(Tableau1[[#This Row],[DATE]],2)<>7,"",SUMIFS(Tableau1[$/JOUR],Tableau1[DATE],">="&Tableau1[[#This Row],[DATE]]-(WEEKDAY(Tableau1[[#This Row],[DATE]],1)-1),Tableau1[DATE],"<="&Tableau1[[#This Row],[DATE]]-(WEEKDAY(Tableau1[[#This Row],[DATE]],1)-7)))

Sheet TABLEAUX
A1: H | B1: P | C1: H | D1: R | F1: DE | H1: 1 PAUSE | Q1: 2 PAUSES | X1: 2 PAUSES + 1 REPAS | AK1: 2 PAUSES + 2 REPAS
A2: 0.25 | B2: 0 | C2: 0.25 | D2: 0 | F2: 0.33333333 | H2: 0.5 | I2: 0.51041667 | J2: 0.52083333 | K2: 0.53125 | L2: 0.54166667 | M2: 0.55208333 | N2: 0.5625 | O2: 0.57291667 | Q2: 0.58333333 | R2: 0.59375 | S2: 0.60416667 | T2: 0.61458333 | U2: 0.625 | V2: 0.63541667 | X2: 0.64583333 | Y2: 0.65625 | Z2: 0.66666667 | AA2: 0.67708333 | AB2: 0.6875 | AC2: 0.69791667 | AD2: 0.70833333 | AE2: 0.71875 | AF2: 0.72916667 | AG2: 0.73958333 | AH2: 0.75 | AI2: 0.76041667 | AK2: 0.77083333 | AL2: 0.78125 | AM2: 0.79166667 | AN2: 0.80208333 | AO2: 0.8125 | AP2: 0.82291667 | AQ2: 0.83333333
A3: 0.5 | B3: 0 | C3: 0.5 | D3: 0 | F3: 0.34375 | H3: 0.51041667 | I3: 0.52083333 | J3: 0.53125 | K3: 0.54166667 | L3: 0.55208333 | M3: 0.5625 | N3: 0.57291667 | O3: 0.58333333 | Q3: 0.59375 | R3: 0.60416667 | S3: 0.61458333 | T3: 0.625 | U3: 0.63541667 | V3: 0.64583333 | X3: 0.65625 | Y3: 0.66666667 | Z3: 0.67708333 | AA3: 0.6875 | AB3: 0.69791667 | AC3: 0.70833333 | AD3: 0.71875 | AE3: 0.72916667 | AF3: 0.73958333 | AG3: 0.75 | AH3: 0.76041667 | AI3: 0.77083333 | AK3: 0.78125 | AL3: 0.79166667 | AM3: 0.80208333 | AN3: 0.8125 | AO3: 0.82291667 | AP3: 0.83333333 | AQ3: 0.84375
A4: 0.75 | B4: 0 | C4: 0.75 | D4: 0 | F4: 0.35416667 | H4: 0.52083333 | I4: 0.53125 | J4: 0.54166667 | K4: 0.55208333 | L4: 0.5625 | M4: 0.57291667 | N4: 0.58333333 | O4: 0.59375 | Q4: 0.60416667 | R4: 0.61458333 | S4: 0.625 | T4: 0.63541667 | U4: 0.64583333 | V4: 0.65625 | X4: 0.66666667 | Y4: 0.67708333 | Z4: 0.6875 | AA4: 0.69791667 | AB4: 0.70833333 | AC4: 0.71875 | AD4: 0.72916667 | AE4: 0.73958333 | AF4: 0.75 | AG4: 0.76041667 | AH4: 0.77083333 | AI4: 0.78125 | AK4: 0.79166667 | AL4: 0.80208333 | AM4: 0.8125 | AN4: 0.82291667 | AO4: 0.83333333 | AP4: 0.84375 | AQ4: 0.85416667
A5: 1 | B5: 0 | C5: 1 | D5: 0 | F5: 0.36458333 | H5: 0.53125 | I5: 0.54166667 | J5: 0.55208333 | K5: 0.5625 | L5: 0.57291667 | M5: 0.58333333 | N5: 0.59375 | O5: 0.60416667 | Q5: 0.61458333 | R5: 0.625 | S5: 0.63541667 | T5: 0.64583333 | U5: 0.65625 | V5: 0.66666667 | X5: 0.67708333 | Y5: 0.6875 | Z5: 0.69791667 | AA5: 0.70833333 | AB5: 0.71875 | AC5: 0.72916667 | AD5: 0.73958333 | AE5: 0.75 | AF5: 0.76041667 | AG5: 0.77083333 | AH5: 0.78125 | AI5: 0.79166667 | AK5: 0.80208333 | AL5: 0.8125 | AM5: 0.82291667 | AN5: 0.83333333 | AO5: 0.84375 | AP5: 0.85416667 | AQ5: 0.86458333
A6: 1.25 | B6: 0 | C6: 1.25 | D6: 0 | F6: 0.375 | H6: 0.54166667 | I6: 0.55208333 | J6: 0.5625 | K6: 0.57291667 | L6: 0.58333333 | M6: 0.59375 | N6: 0.60416667 | O6: 0.61458333 | Q6: 0.625 | R6: 0.63541667 | S6: 0.64583333 | T6: 0.65625 | U6: 0.66666667 | V6: 0.67708333 | X6: 0.6875 | Y6: 0.69791667 | Z6: 0.70833333 | AA6: 0.71875 | AB6: 0.72916667 | AC6: 0.73958333 | AD6: 0.75 | AE6: 0.76041667 | AF6: 0.77083333 | AG6: 0.78125 | AH6: 0.79166667 | AI6: 0.80208333 | AK6: 0.8125 | AL6: 0.82291667 | AM6: 0.83333333 | AN6: 0.84375 | AO6: 0.85416667 | AP6: 0.86458333 | AQ6: 0.875
A7: 1.5 | B7: 0 | C7: 1.5 | D7: 0 | F7: 0.38541667 | H7: 0.55208333 | I7: 0.5625 | J7: 0.57291667 | K7: 0.58333333 | L7: 0.59375 | M7: 0.60416667 | N7: 0.61458333 | O7: 0.625 | Q7: 0.63541667 | R7: 0.64583333 | S7: 0.65625 | T7: 0.66666667 | U7: 0.67708333 | V7: 0.6875 | X7: 0.69791667 | Y7: 0.70833333 | Z7: 0.71875 | AA7: 0.72916667 | AB7: 0.73958333 | AC7: 0.75 | AD7: 0.76041667 | AE7: 0.77083333 | AF7: 0.78125 | AG7: 0.79166667 | AH7: 0.80208333 | AI7: 0.8125 | AK7: 0.82291667 | AL7: 0.83333333 | AM7: 0.84375 | AN7: 0.85416667 | AO7: 0.86458333 | AP7: 0.875 | AQ7: 0.88541667
A8: 1.75 | B8: 0 | C8: 1.75 | D8: 0 | F8: 0.39583333 | H8: 0.5625 | I8: 0.57291667 | J8: 0.58333333 | K8: 0.59375 | L8: 0.60416667 | M8: 0.61458333 | N8: 0.625 | O8: 0.63541667 | Q8: 0.64583333 | R8: 0.65625 | S8: 0.66666667 | T8: 0.67708333 | U8: 0.6875 | V8: 0.69791667 | X8: 0.70833333 | Y8: 0.71875 | Z8: 0.72916667 | AA8: 0.73958333 | AB8: 0.75 | AC8: 0.76041667 | AD8: 0.77083333 | AE8: 0.78125 | AF8: 0.79166667 | AG8: 0.80208333 | AH8: 0.8125 | AI8: 0.82291667 | AK8: 0.83333333 | AL8: 0.84375 | AM8: 0.85416667 | AN8: 0.86458333 | AO8: 0.875 | AP8: 0.88541667 | AQ8: 0.89583333
A9: 2 | B9: 0 | C9: 2 | D9: 0 | F9: 0.40625 | H9: 0.57291667 | I9: 0.58333333 | J9: 0.59375 | K9: 0.60416667 | L9: 0.61458333 | M9: 0.625 | N9: 0.63541667 | O9: 0.64583333 | Q9: 0.65625 | R9: 0.66666667 | S9: 0.67708333 | T9: 0.6875 | U9: 0.69791667 | V9: 0.70833333 | X9: 0.71875 | Y9: 0.72916667 | Z9: 0.73958333 | AA9: 0.75 | AB9: 0.76041667 | AC9: 0.77083333 | AD9: 0.78125 | AE9: 0.79166667 | AF9: 0.80208333 | AG9: 0.8125 | AH9: 0.82291667 | AI9: 0.83333333 | AK9: 0.84375 | AL9: 0.85416667 | AM9: 0.86458333 | AN9: 0.875 | AO9: 0.88541667 | AP9: 0.89583333 | AQ9: 0.90625
A10: 2.25 | B10: 0 | C10: 2.25 | D10: 0 | F10: 0.41666667 | H10: 0.58333333 | I10: 0.59375 | J10: 0.60416667 | K10: 0.61458333 | L10: 0.625 | M10: 0.63541667 | N10: 0.64583333 | O10: 0.65625 | Q10: 0.66666667 | R10: 0.67708333 | S10: 0.6875 | T10: 0.69791667 | U10: 0.70833333 | V10: 0.71875 | X10: 0.72916667 | Y10: 0.73958333 | Z10: 0.75 | AA10: 0.76041667 | AB10: 0.77083333 | AC10: 0.78125 | AD10: 0.79166667 | AE10: 0.80208333 | AF10: 0.8125 | AG10: 0.82291667 | AH10: 0.83333333 | AI10: 0.84375 | AK10: 0.85416667 | AL10: 0.86458333 | AM10: 0.875 | AN10: 0.88541667 | AO10: 0.89583333 | AP10: 0.90625 | AQ10: 0.91666667
A11: 2.5 | B11: 0 | C11: 2.5 | D11: 0 | F11: 0.42708333 | H11: 0.59375 | I11: 0.60416667 | J11: 0.61458333 | K11: 0.625 | L11: 0.63541667 | M11: 0.64583333 | N11: 0.65625 | O11: 0.66666667 | Q11: 0.67708333 | R11: 0.6875 | S11: 0.69791667 | T11: 0.70833333 | U11: 0.71875 | V11: 0.72916667 | X11: 0.73958333 | Y11: 0.75 | Z11: 0.76041667 | AA11: 0.77083333 | AB11: 0.78125 | AC11: 0.79166667 | AD11: 0.80208333 | AE11: 0.8125 | AF11: 0.82291667 | AG11: 0.83333333 | AH11: 0.84375 | AI11: 0.85416667 | AK11: 0.86458333 | AL11: 0.875 | AM11: 0.88541667 | AN11: 0.89583333 | AO11: 0.90625 | AP11: 0.91666667 | AQ11: 0.92708333
A12: 2.75 | B12: 0 | C12: 2.75 | D12: 0 | F12: 0.4375 | H12: 0.60416667 | I12: 0.61458333 | J12: 0.625 | K12: 0.63541667 | L12: 0.64583333 | M12: 0.65625 | N12: 0.66666667 | O12: 0.67708333 | Q12: 0.6875 | R12: 0.69791667 | S12: 0.70833333 | T12: 0.71875 | U12: 0.72916667 | V12: 0.73958333 | X12: 0.75 | Y12: 0.76041667 | Z12: 0.77083333 | AA12: 0.78125 | AB12: 0.79166667 | AC12: 0.80208333 | AD12: 0.8125 | AE12: 0.82291667 | AF12: 0.83333333 | AG12: 0.84375 | AH12: 0.85416667 | AI12: 0.86458333 | AK12: 0.875 | AL12: 0.88541667 | AM12: 0.89583333 | AN12: 0.90625 | AO12: 0.91666667 | AP12: 0.92708333 | AQ12: 0.9375
A13: 3 | B13: 0 | C13: 3 | D13: 0 | F13: 0.44791667 | H13: 0.61458333 | I13: 0.625 | J13: 0.63541667 | K13: 0.64583333 | L13: 0.65625 | M13: 0.66666667 | N13: 0.67708333 | O13: 0.6875 | Q13: 0.69791667 | R13: 0.70833333 | S13: 0.71875 | T13: 0.72916667 | U13: 0.73958333 | V13: 0.75 | X13: 0.76041667 | Y13: 0.77083333 | Z13: 0.78125 | AA13: 0.79166667 | AB13: 0.80208333 | AC13: 0.8125 | AD13: 0.82291667 | AE13: 0.83333333 | AF13: 0.84375 | AG13: 0.85416667 | AH13: 0.86458333 | AI13: 0.875 | AK13: 0.88541667 | AL13: 0.89583333 | AM13: 0.90625 | AN13: 0.91666667 | AO13: 0.92708333 | AP13: 0.9375 | AQ13: 0.94791667
A14: 3.25 | B14: 0 | C14: 3.25 | D14: 0 | F14: 0.45833333 | H14: 0.625 | I14: 0.63541667 | J14: 0.64583333 | K14: 0.65625 | L14: 0.66666667 | M14: 0.67708333 | N14: 0.6875 | O14: 0.69791667 | Q14: 0.70833333 | R14: 0.71875 | S14: 0.72916667 | T14: 0.73958333 | U14: 0.75 | V14: 0.76041667 | X14: 0.77083333 | Y14: 0.78125 | Z14: 0.79166667 | AA14: 0.80208333 | AB14: 0.8125 | AC14: 0.82291667 | AD14: 0.83333333 | AE14: 0.84375 | AF14: 0.85416667 | AG14: 0.86458333 | AH14: 0.875 | AI14: 0.88541667 | AK14: 0.89583333 | AL14: 0.90625 | AM14: 0.91666667 | AN14: 0.92708333 | AO14: 0.9375 | AP14: 0.94791667 | AQ14: 0.95833333
A15: 3.5 | B15: 0 | C15: 3.5 | D15: 0 | F15: 0.46875 | H15: 0.63541667 | I15: 0.64583333 | J15: 0.65625 | K15: 0.66666667 | L15: 0.67708333 | M15: 0.6875 | N15: 0.69791667 | O15: 0.70833333 | Q15: 0.71875 | R15: 0.72916667 | S15: 0.73958333 | T15: 0.75 | U15: 0.76041667 | V15: 0.77083333 | X15: 0.78125 | Y15: 0.79166667 | Z15: 0.80208333 | AA15: 0.8125 | AB15: 0.82291667 | AC15: 0.83333333 | AD15: 0.84375 | AE15: 0.85416667 | AF15: 0.86458333 | AG15: 0.875 | AH15: 0.88541667 | AI15: 0.89583333 | AK15: 0.90625 | AL15: 0.91666667 | AM15: 0.92708333 | AN15: 0.9375 | AO15: 0.94791667 | AP15: 0.95833333
A16: 3.75 | B16: 0 | C16: 3.75 | D16: 0 | F16: 0.47916667 | H16: 0.64583333 | I16: 0.65625 | J16: 0.66666667 | K16: 0.67708333 | L16: 0.6875 | M16: 0.69791667 | N16: 0.70833333 | O16: 0.71875 | Q16: 0.72916667 | R16: 0.73958333 | S16: 0.75 | T16: 0.76041667 | U16: 0.77083333 | V16: 0.78125 | X16: 0.79166667 | Y16: 0.80208333 | Z16: 0.8125 | AA16: 0.82291667 | AB16: 0.83333333 | AC16: 0.84375 | AD16: 0.85416667 | AE16: 0.86458333 | AF16: 0.875 | AG16: 0.88541667 | AH16: 0.89583333 | AI16: 0.90625 | AK16: 0.91666667 | AL16: 0.92708333 | AM16: 0.9375 | AN16: 0.94791667 | AO16: 0.95833333
A17: 4 | B17: 1 | C17: 4 | D17: 0 | F17: 0.48958333 | H17: 0.65625 | I17: 0.66666667 | J17: 0.67708333 | K17: 0.6875 | L17: 0.69791667 | M17: 0.70833333 | N17: 0.71875 | O17: 0.72916667 | Q17: 0.73958333 | R17: 0.75 | S17: 0.76041667 | T17: 0.77083333 | U17: 0.78125 | V17: 0.79166667 | X17: 0.80208333 | Y17: 0.8125 | Z17: 0.82291667 | AA17: 0.83333333 | AB17: 0.84375 | AC17: 0.85416667 | AD17: 0.86458333 | AE17: 0.875 | AF17: 0.88541667 | AG17: 0.89583333 | AH17: 0.90625 | AI17: 0.91666667 | AK17: 0.92708333 | AL17: 0.9375 | AM17: 0.94791667 | AN17: 0.95833333
A18: 4.25 | B18: 1 | C18: 4.25 | D18: 0 | F18: 0.5 | H18: 0.66666667 | I18: 0.67708333 | J18: 0.6875 | K18: 0.69791667 | L18: 0.70833333 | M18: 0.71875 | N18: 0.72916667 | O18: 0.73958333 | Q18: 0.75 | R18: 0.76041667 | S18: 0.77083333 | T18: 0.78125 | U18: 0.79166667 | V18: 0.80208333 | X18: 0.8125 | Y18: 0.82291667 | Z18: 0.83333333 | AA18: 0.84375 | AB18: 0.85416667 | AC18: 0.86458333 | AD18: 0.875 | AE18: 0.88541667 | AF18: 0.89583333 | AG18: 0.90625 | AH18: 0.91666667 | AI18: 0.92708333 | AK18: 0.9375 | AL18: 0.94791667 | AM18: 0.95833333
A19: 4.5 | B19: 1 | C19: 4.5 | D19: 0 | F19: 0.51041667 | H19: 0.67708333 | I19: 0.6875 | J19: 0.69791667 | K19: 0.70833333 | L19: 0.71875 | M19: 0.72916667 | N19: 0.73958333 | O19: 0.75 | Q19: 0.76041667 | R19: 0.77083333 | S19: 0.78125 | T19: 0.79166667 | U19: 0.80208333 | V19: 0.8125 | X19: 0.82291667 | Y19: 0.83333333 | Z19: 0.84375 | AA19: 0.85416667 | AB19: 0.86458333 | AC19: 0.875 | AD19: 0.88541667 | AE19: 0.89583333 | AF19: 0.90625 | AG19: 0.91666667 | AH19: 0.92708333 | AI19: 0.9375 | AK19: 0.94791667 | AL19: 0.95833333
A20: 4.75 | B20: 1 | C20: 4.75 | D20: 0 | F20: 0.52083333 | H20: 0.6875 | I20: 0.69791667 | J20: 0.70833333 | K20: 0.71875 | L20: 0.72916667 | M20: 0.73958333 | N20: 0.75 | O20: 0.76041667 | Q20: 0.77083333 | R20: 0.78125 | S20: 0.79166667 | T20: 0.80208333 | U20: 0.8125 | V20: 0.82291667 | X20: 0.83333333 | Y20: 0.84375 | Z20: 0.85416667 | AA20: 0.86458333 | AB20: 0.875 | AC20: 0.88541667 | AD20: 0.89583333 | AE20: 0.90625 | AF20: 0.91666667 | AG20: 0.92708333 | AH20: 0.9375 | AI20: 0.94791667 | AK20: 0.95833333
A21: 5 | B21: 1 | C21: 5 | D21: 0 | F21: 0.53125 | H21: 0.69791667 | I21: 0.70833333 | J21: 0.71875 | K21: 0.72916667 | L21: 0.73958333 | M21: 0.75 | N21: 0.76041667 | O21: 0.77083333 | Q21: 0.78125 | R21: 0.79166667 | S21: 0.80208333 | T21: 0.8125 | U21: 0.82291667 | V21: 0.83333333 | X21: 0.84375 | Y21: 0.85416667 | Z21: 0.86458333 | AA21: 0.875 | AB21: 0.88541667 | AC21: 0.89583333 | AD21: 0.90625 | AE21: 0.91666667 | AF21: 0.92708333 | AG21: 0.9375 | AH21: 0.94791667 | AI21: 0.95833333
A22: 5.25 | B22: 1 | C22: 5.25 | D22: 0 | F22: 0.54166667 | H22: 0.70833333 | I22: 0.71875 | J22: 0.72916667 | K22: 0.73958333 | L22: 0.75 | M22: 0.76041667 | N22: 0.77083333 | O22: 0.78125 | Q22: 0.79166667 | R22: 0.80208333 | S22: 0.8125 | T22: 0.82291667 | U22: 0.83333333 | V22: 0.84375 | X22: 0.85416667 | Y22: 0.86458333 | Z22: 0.875 | AA22: 0.88541667 | AB22: 0.89583333 | AC22: 0.90625 | AD22: 0.91666667 | AE22: 0.92708333 | AF22: 0.9375 | AG22: 0.94791667 | AH22: 0.95833333
A23: 5.5 | B23: 1 | C23: 5.5 | D23: 0 | F23: 0.55208333 | H23: 0.71875 | I23: 0.72916667 | J23: 0.73958333 | K23: 0.75 | L23: 0.76041667 | M23: 0.77083333 | N23: 0.78125 | O23: 0.79166667 | Q23: 0.80208333 | R23: 0.8125 | S23: 0.82291667 | T23: 0.83333333 | U23: 0.84375 | V23: 0.85416667 | X23: 0.86458333 | Y23: 0.875 | Z23: 0.88541667 | AA23: 0.89583333 | AB23: 0.90625 | AC23: 0.91666667 | AD23: 0.92708333 | AE23: 0.9375 | AF23: 0.94791667 | AG23: 0.95833333
A24: 5.75 | B24: 1 | C24: 5.75 | D24: 0 | F24: 0.5625 | H24: 0.72916667 | I24: 0.73958333 | J24: 0.75 | K24: 0.76041667 | L24: 0.77083333 | M24: 0.78125 | N24: 0.79166667 | O24: 0.80208333 | Q24: 0.8125 | R24: 0.82291667 | S24: 0.83333333 | T24: 0.84375 | U24: 0.85416667 | V24: 0.86458333 | X24: 0.875 | Y24: 0.88541667 | Z24: 0.89583333 | AA24: 0.90625 | AB24: 0.91666667 | AC24: 0.92708333 | AD24: 0.9375 | AE24: 0.94791667 | AF24: 0.95833333
A25: 6 | B25: 2 | C25: 6 | D25: 0 | F25: 0.57291667 | H25: 0.73958333 | I25: 0.75 | J25: 0.76041667 | K25: 0.77083333 | L25: 0.78125 | M25: 0.79166667 | N25: 0.80208333 | O25: 0.8125 | Q25: 0.82291667 | R25: 0.83333333 | S25: 0.84375 | T25: 0.85416667 | U25: 0.86458333 | V25: 0.875 | X25: 0.88541667 | Y25: 0.89583333 | Z25: 0.90625 | AA25: 0.91666667 | AB25: 0.92708333 | AC25: 0.9375 | AD25: 0.94791667 | AE25: 0.95833333
A26: 6.25 | B26: 2 | C26: 6.25 | D26: 0 | F26: 0.58333333 | H26: 0.75 | I26: 0.76041667 | J26: 0.77083333 | K26: 0.78125 | L26: 0.79166667 | M26: 0.80208333 | N26: 0.8125 | O26: 0.82291667 | Q26: 0.83333333 | R26: 0.84375 | S26: 0.85416667 | T26: 0.86458333 | U26: 0.875 | V26: 0.88541667 | X26: 0.89583333 | Y26: 0.90625 | Z26: 0.91666667 | AA26: 0.92708333 | AB26: 0.9375 | AC26: 0.94791667 | AD26: 0.95833333
A27: 6.5 | B27: 2 | C27: 6.5 | D27: 0 | F27: 0.59375 | H27: 0.76041667 | I27: 0.77083333 | J27: 0.78125 | K27: 0.79166667 | L27: 0.80208333 | M27: 0.8125 | N27: 0.82291667 | O27: 0.83333333 | Q27: 0.84375 | R27: 0.85416667 | S27: 0.86458333 | T27: 0.875 | U27: 0.88541667 | V27: 0.89583333 | X27: 0.90625 | Y27: 0.91666667 | Z27: 0.92708333 | AA27: 0.9375 | AB27: 0.94791667 | AC27: 0.95833333
A28: 6.75 | B28: 2 | C28: 6.75 | D28: 0 | F28: 0.60416667 | H28: 0.77083333 | I28: 0.78125 | J28: 0.79166667 | K28: 0.80208333 | L28: 0.8125 | M28: 0.82291667 | N28: 0.83333333 | O28: 0.84375 | Q28: 0.85416667 | R28: 0.86458333 | S28: 0.875 | T28: 0.88541667 | U28: 0.89583333 | V28: 0.90625 | X28: 0.91666667 | Y28: 0.92708333 | Z28: 0.9375 | AA28: 0.94791667 | AB28: 0.95833333
A29: 7 | B29: 2 | C29: 7 | D29: 0 | F29: 0.61458333 | H29: 0.78125 | I29: 0.79166667 | J29: 0.80208333 | K29: 0.8125 | L29: 0.82291667 | M29: 0.83333333 | N29: 0.84375 | O29: 0.85416667 | Q29: 0.86458333 | R29: 0.875 | S29: 0.88541667 | T29: 0.89583333 | U29: 0.90625 | V29: 0.91666667 | X29: 0.92708333 | Y29: 0.9375 | Z29: 0.94791667 | AA29: 0.95833333
A30: 7.25 | B30: 2 | C30: 7.25 | D30: 0 | F30: 0.625 | H30: 0.79166667 | I30: 0.80208333 | J30: 0.8125 | K30: 0.82291667 | L30: 0.83333333 | M30: 0.84375 | N30: 0.85416667 | O30: 0.86458333 | Q30: 0.875 | R30: 0.88541667 | S30: 0.89583333 | T30: 0.90625 | U30: 0.91666667 | V30: 0.92708333 | X30: 0.9375 | Y30: 0.94791667 | Z30: 0.95833333
A31: 7.5 | B31: 2 | C31: 7.5 | D31: 1 | F31: 0.63541667 | H31: 0.80208333 | I31: 0.8125 | J31: 0.82291667 | K31: 0.83333333 | L31: 0.84375 | M31: 0.85416667 | N31: 0.86458333 | O31: 0.875 | Q31: 0.88541667 | R31: 0.89583333 | S31: 0.90625 | T31: 0.91666667 | U31: 0.92708333 | V31: 0.9375 | X31: 0.94791667 | Y31: 0.95833333
A32: 7.75 | B32: 2 | C32: 7.75 | D32: 1 | F32: 0.64583333 | H32: 0.8125 | I32: 0.82291667 | J32: 0.83333333 | K32: 0.84375 | L32: 0.85416667 | M32: 0.86458333 | N32: 0.875 | O32: 0.88541667 | Q32: 0.89583333 | R32: 0.90625 | S32: 0.91666667 | T32: 0.92708333 | U32: 0.9375 | V32: 0.94791667 | X32: 0.95833333
A33: 8 | B33: 2 | C33: 8 | D33: 1 | F33: 0.65625 | H33: 0.82291667 | I33: 0.83333333 | J33: 0.84375 | K33: 0.85416667 | L33: 0.86458333 | M33: 0.875 | N33: 0.88541667 | O33: 0.89583333 | Q33: 0.90625 | R33: 0.91666667 | S33: 0.92708333 | T33: 0.9375 | U33: 0.94791667 | V33: 0.95833333
A34: 8.25 | B34: 2 | C34: 8.25 | D34: 1 | F34: 0.66666667 | H34: 0.83333333 | I34: 0.84375 | J34: 0.85416667 | K34: 0.86458333 | L34: 0.875 | M34: 0.88541667 | N34: 0.89583333 | O34: 0.90625 | Q34: 0.91666667 | R34: 0.92708333 | S34: 0.9375 | T34: 0.94791667 | U34: 0.95833333
A35: 8.5 | B35: 2 | C35: 8.5 | D35: 1 | F35: 0.67708333 | H35: 0.84375 | I35: 0.85416667 | J35: 0.86458333 | K35: 0.875 | L35: 0.88541667 | M35: 0.89583333 | N35: 0.90625 | O35: 0.91666667 | Q35: 0.92708333 | R35: 0.9375 | S35: 0.94791667 | T35: 0.95833333
A36: 8.75 | B36: 2 | C36: 8.75 | D36: 1 | F36: 0.6875 | H36: 0.85416667 | I36: 0.86458333 | J36: 0.875 | K36: 0.88541667 | L36: 0.89583333 | M36: 0.90625 | N36: 0.91666667 | O36: 0.92708333 | Q36: 0.9375 | R36: 0.94791667 | S36: 0.95833333
A37: 9 | B37: 2 | C37: 9 | D37: 1 | F37: 0.69791667 | H37: 0.86458333 | I37: 0.875 | J37: 0.88541667 | K37: 0.89583333 | L37: 0.90625 | M37: 0.91666667 | N37: 0.92708333 | O37: 0.9375 | Q37: 0.94791667 | R37: 0.95833333
A38: 9.25 | B38: 2 | C38: 9.25 | D38: 1 | F38: 0.70833333 | H38: 0.875 | I38: 0.88541667 | J38: 0.89583333 | K38: 0.90625 | L38: 0.91666667 | M38: 0.92708333 | N38: 0.9375 | O38: 0.94791667 | Q38: 0.95833333
A39: 9.5 | B39: 2 | C39: 9.5 | D39: 1 | F39: 0.71875 | H39: 0.88541667 | I39: 0.89583333 | J39: 0.90625 | K39: 0.91666667 | L39: 0.92708333 | M39: 0.9375 | N39: 0.94791667 | O39: 0.95833333
A40: 9.75 | B40: 2 | C40: 9.75 | D40: 1 | F40: 0.72916667 | H40: 0.89583333 | I40: 0.90625 | J40: 0.91666667 | K40: 0.92708333 | L40: 0.9375 | M40: 0.94791667 | N40: 0.95833333
A41: 10 | B41: 2 | C41: 10 | D41: 1 | F41: 0.73958333 | H41: 0.90625 | I41: 0.91666667 | J41: 0.92708333 | K41: 0.9375 | L41: 0.94791667 | M41: 0.95833333
A42: 10.25 | B42: 2 | C42: 10.25 | D42: 1 | F42: 0.75 | H42: 0.91666667 | I42: 0.92708333 | J42: 0.9375 | K42: 0.94791667 | L42: 0.95833333
A43: 10.5 | B43: 2 | C43: 10.5 | D43: 2 | F43: 0.76041667 | H43: 0.92708333 | I43: 0.9375 | J43: 0.94791667 | K43: 0.95833333
A44: 10.75 | B44: 2 | C44: 10.75 | D44: 2 | F44: 0.77083333 | H44: 0.9375 | I44: 0.94791667 | J44: 0.95833333
A45: 11 | B45: 2 | C45: 11 | D45: 2 | F45: 0.78125 | H45: 0.94791667 | I45: 0.95833333
A46: 11.25 | B46: 2 | C46: 11.25 | D46: 2 | F46: 0.79166667 | H46: 0.95833333
A47: 11.5 | B47: 2 | C47: 11.5 | D47: 2
A48: 11.75 | B48: 2 | C48: 11.75 | D48: 2
A49: 12 | B49: 2 | C49: 12 | D49: 2

Sheet OPTIONS
A1: POSTES | D1: REPAS | F1: SUCCURSALES | I1: DÉDUCTIONS STATUAIRES | N1: AUTRES DÉDUCTIONS
B2: CV | C2: 20.46 | D2: 12.65 | F2: Express Charest | G2: 33524 | I2: Impôt sur revenu / normal | L2: ? | N2: Cotisation SEMB | P2: ?
B3: COS | C3: 23.38 | F3: St-Sacrement | G3: 33606 | I3: Cotisation salaire RRQ | L3: ? | N3: Cotisation RREGOP | P3: 0.058
B4: FORM | C4: 20.46 | F4: Maguire | G4: 33538 | I4: Cotisation salaire AE | L4: ?
F5: St-Louis | G5: 33595 | I5: QC/Impôt sur revenu/norm. | L5: ?
G6: DOM | I6: QC/Cotisation employé RQAP | L6: ?
