Workbook
Name pause: Sheet2!$A$2:$B$49
Name repas: Sheet2!$D$2:$E$49
Name vpauses: Sheet2!$A$2:$B$49
Name vrepas: Sheet2!$D$2:$E$49

Sheet Feuille de temps
A1: RAPHAËL GIROUX
K3: T | P3: =SUM(P5:INDEX) -> #NAME? | Q3: =SUM(Q5:Q48) -> 3422.9412
A4: DATE | B4: JOUR | C4: POSTE | D4: SUCC | E4: DÉBUT | F4: FIN | G4: S-TOT HRS | H4: P | I4: R | J4: $/R | K4: HEURES | L4: CHARGES SOCIALES TP | N4: $/JOUR | P4: TOTAL
A5: 43870 | B5: =WEEKDAY(A5, 1) -> 1 | C5: FORM | D5: DOM | E5: 0 | F5: 0.41666667 | G5: =(F5-E5)*24 -> 10 | H5: =VLOOKUP(Sheet2!A2:A49,vpauses,Sheet2!B2:B49,1) -> #VALUE! | I5: =IF(G5<7.25,0,IF(G5<10.25,1,IF(G5>=10.5,2,""))) -> 1 | J5: =IF(I5=2,12.65,0) -> 0 | K5: =(G5-I5) -> 9 | L5: =N5*7.45% -> 13.71843 | M5: =L5:L10 -> 13.71843 | N5: =(IF(C5="CV",Options!$C$2,IF(C5="COS",Options!$C$3,IF(C5="FORM",Options!$C$4,Options!$C$1))))*K5 -> 184.14 | O5: =SUM(N5+J5) -> 184.14 | P5: =SUM(K5:K10) -> 9 | Q5: =SUM(O5:O10)+M5 -> 197.85843 | R5: * | S5: Colonne A: Date seulement
A6: 43871 | B6: =WEEKDAY(A6, 1) -> 2 | G6: =(F6-E6)*24 -> 0 | H6: =IF(G6<4,0,IF(G6<5.75,1,IF(G6<12,2,0))) -> 0 | I6: =IF(G6<7.25,0,IF(G6<10.25,1,IF(G6>=10.5,2,""))) -> 0 | J6: =IF(I6=2,12.65,0) -> 0 | K6: =G6-I6 -> 0 | L6: =N6*7.45% -> 0 | N6: =(IF(C6="CV",Options!$C$2,IF(C6="COS",Options!$C$3,IF(C6="FORM",Options!$C$4,Options!$C$1))))*K6 -> 0 | O6: =SUM(N6+J6) -> 0 | S6: Colonne B: Jour de la semaine formatée jjj. Formule =WEEKDAY(A5; 1)
A7: 43872 | B7: =WEEKDAY(A7, 1) -> 3 | G7: =(F7-E7)*24 -> 0 | H7: =IF(G7<4,0,IF(G7<5.75,1,IF(G7<12,2,0))) -> 0 | I7: =IF(G7<7.25,0,IF(G7<10.25,1,IF(G7>=10.5,2,""))) -> 0 | J7: =IF(I7=2,12.65,0) -> 0 | K7: =(G7-I7) -> 0 | L7: =N7*7.45% -> 0 | N7: =(IF(C7="CV",Options!$C$2,IF(C7="COS",Options!$C$3,IF(C7="FORM",Options!$C$4,Options!$C$1))))*K7 -> 0 | O7: =SUM(N7+J7) -> 0 | S7: Colonne C: Liste déroulante selon salaire dans la Feuille Options!C2:C4
A8: 43874 | B8: =WEEKDAY(A8, 1) -> 5 | G8: =(F8-E8)*24 -> 0 | H8: =IF(G8<4,0,IF(G8<5.75,1,IF(G8<12,2,0))) -> 0 | I8: =IF(G8<7.25,0,IF(G8<10.25,1,IF(G8>=10.5,2,""))) -> 0 | J8: =IF(I8=2,12.65,0) -> 0 | K8: =(G8-I8) -> 0 | L8: =N8*7.45% -> 0 | N8: =(IF(C8="CV",Options!$C$2,IF(C8="COS",Options!$C$3,IF(C8="FORM",Options!$C$4,Options!$C$1))))*K8 -> 0 | O8: =SUM(N8+J8) -> 0 | S8: Colonne D: Liste déroulante selon succursale travaillée dans la Feuille Options!G2:G6
A9: 43875 | B9: =WEEKDAY(A9, 1) -> 6 | G9: =(F9-E9)*24 -> 0 | H9: =IF(G9<4,0,IF(G9<5.75,1,IF(G9<12,2,0))) -> 0 | I9: =IF(G9<7.25,0,IF(G9<10.25,1,IF(G9>=10.5,2,""))) -> 0 | J9: =IF(I9=2,12.65,0) -> 0 | K9: =(G9-I9) -> 0 | L9: =N9*7.45% -> 0 | N9: =(IF(C9="CV",Options!$C$2,IF(C9="COS",Options!$C$3,IF(C9="FORM",Options!$C$4,Options!$C$1))))*K9 -> 0 | O9: =SUM(N9+J9) -> 0 | S9: Colonne E: Inscrire début de la journée de travail en heures.
A10: 43876 | B10: =WEEKDAY(A10, 1) -> 7 | G10: =(F10-E10)*24 -> 0 | H10: =IF(G10<4,0,IF(G10<5.75,1,IF(G10<12,2,0))) -> 0 | I10: =IF(G10<7.25,0,IF(G10<10.25,1,IF(G10>=10.5,2,""))) -> 0 | J10: =IF(I10=2,12.65,0) -> 0 | K10: =(G10-I10) -> 0 | L10: =N10*7.45% -> 0 | N10: =(IF(C10="CV",Options!$C$2,IF(C10="COS",Options!$C$3,IF(C10="FORM",Options!$C$4,Options!$C$1))))*K10 -> 0 | O10: =SUM(N10+J10) -> 0 | S10: Colonne F: Inscrire la fin de la journée de travail en heures.
A11: 43877 | B11: =WEEKDAY(A11, 1) -> 1 | C11: CV | D11: 33595 | E11: 0.58333333 | F11: 0.70833333 | G11: =(F11-E11)*24 -> 3 | H11: =IF(G11<4,0,IF(G11<5.75,1,IF(G11<12,2,0))) -> 0 | I11: =IF(G11<7.25,0,IF(G11<10.25,1,IF(G11>=10.5,2,""))) -> 0 | J11: =IF(I11=2,12.65,0) -> 0 | K11: =(G11-I11) -> 3 | L11: =N11*7.45% -> 4.57281 | M11: =SUM(L11:L17) -> 43.764652 | N11: =(IF(C11="CV",Options!$C$2,IF(C11="COS",Options!$C$3,IF(C11="FORM",Options!$C$4,Options!$C$1))))*K11 -> 61.38 | O11: =SUM(N11+J11) -> 61.38 | P11: =SUM(K11:K17) -> 26.25 | Q11: =SUM(O11:O17)+M11 -> 643.85965 | S11: Colonne G: Total automatique de F-E en nombre décimal. Formule =(F5-E5)*24
A12: 43878 | B12: =WEEKDAY(A12, 1) -> 2 | G12: =(F12-E12)*24 -> 0 | H12: =IF(G12<4,0,IF(G12<5.75,1,IF(G12<12,2,0))) -> 0 | I12: =IF(G12<7.25,0,IF(G12<10.25,1,IF(G12>=10.5,2,""))) -> 0 | J12: =IF(I12=2,12.65,0) -> 0 | K12: =(G12-I12) -> 0 | L12: =N12*7.45% -> 0 | N12: =(IF(C12="CV",Options!$C$2,IF(C12="COS",Options!$C$3,IF(C12="FORM",Options!$C$4,Options!$C$1))))*K12 -> 0 | O12: =SUM(N12+J12) -> 0 | S12: Colonne H: Nombre de pauses (d'une valeur de 15 minutes) prises selon le montant en G. Référence dans la Feuille!Tableau de pauses. Ce montant ne se calcule nulle part ailleurs. Formule: =IF(G5<4;0;IF(G5<5,75;1;IF(G5<12;2;0)))
A13: 43879 | B13: =WEEKDAY(A13, 1) -> 3 | C13: CV | D13: 33538 | E13: 0.625 | F13: 0.75 | G13: =(F13-E13)*24 -> 3 | H13: =IF(G13<4,0,IF(G13<5.75,1,IF(G13<12,2,0))) -> 0 | I13: =IF(G13<7.25,0,IF(G13<10.25,1,IF(G13>=10.5,2,""))) -> 0 | J13: =IF(I13=2,12.65,0) -> 0 | K13: =(G13-I13) -> 3 | L13: =N13*7.45% -> 4.57281 | N13: =(IF(C13="CV",Options!$C$2,IF(C13="COS",Options!$C$3,IF(C13="FORM",Options!$C$4,Options!$C$1))))*K13 -> 61.38 | O13: =SUM(N13+J13) -> 61.38 | S13: Colonne I: Nombre de repas (valeur d'une heure chaque) prises selon le même tableau de pauses. Ce nombre sera important pour d'autres calculs. Formule: =IF(G5<7,25;0;IF(G5<10,25;1;IF(G5>=10,5;2;"")))
A14: 43880 | B14: =WEEKDAY(A14, 1) -> 4 | C14: COS | D14: 33538 | E14: 0.33333333 | F14: 0.70833333 | G14: =(F14-E14)*24 -> 9 | H14: =IF(G14<4,0,IF(G14<5.75,1,IF(G14<12,2,0))) -> 2 | I14: =IF(G14<7.25,0,IF(G14<10.25,1,IF(G14>=10.5,2,""))) -> 1 | J14: =IF(I14=2,12.65,0) -> 0 | K14: =(G14-I14) -> 8 | L14: =N14*7.45% -> 13.93448 | N14: =(IF(C14="CV",Options!$C$2,IF(C14="COS",Options!$C$3,IF(C14="FORM",Options!$C$4,Options!$C$1))))*K14 -> 187.04 | O14: =SUM(N14+J14) -> 187.04 | S14: Colonne J: Fonctionne selon le nombre de repas pris. Si 2 repas sont indiqués, afficher 12,65$. Sinon, ne rien afficher (il sagit d'une prime). Formule: =IF(I5=2;12,65;0)
A15: 43881 | B15: =WEEKDAY(A15, 1) -> 5 | C15: COS | D15: 33538 | E15: 0.40625 | F15: 0.875 | G15: =(F15-E15)*24 -> 11.25 | H15: =IF(G15<4,0,IF(G15<5.75,1,IF(G15<12,2,0))) -> 2 | I15: =IF(G15<7.25,0,IF(G15<10.25,1,IF(G15>=10.5,2,""))) -> 2 | J15: =IF(I15=2,12.65,0) -> 12.65 | K15: =(G15-I15) -> 9.25 | L15: =N15*7.45% -> 16.111742 | N15: =(IF(C15="CV",Options!$C$2,IF(C15="COS",Options!$C$3,IF(C15="FORM",Options!$C$4,Options!$C$1))))*K15 -> 216.265 | O15: =SUM(N15+J15) -> 228.915 | S15: Colonne K: Calcul de G-I. ce qui donne le nombre d'heures moins le nombre de repas inscrits. Formule: =(G5-I5)
A16: 43882 | B16: =WEEKDAY(A16, 1) -> 6 | C16: CV | D16: 33538 | E16: 0.66666667 | F16: 0.79166667 | G16: =(F16-E16)*24 -> 3 | H16: =IF(G16<4,0,IF(G16<5.75,1,IF(G16<12,2,0))) -> 0 | I16: =IF(G16<7.25,0,IF(G16<10.25,1,IF(G16>=10.5,2,""))) -> 0 | J16: =IF(I16=2,12.65,0) -> 0 | K16: =(G16-I16) -> 3 | L16: =N16*7.45% -> 4.57281 | N16: =(IF(C16="CV",Options!$C$2,IF(C16="COS",Options!$C$3,IF(C16="FORM",Options!$C$4,Options!$C$1))))*K16 -> 61.38 | O16: =SUM(N16+J16) -> 61.38 | S16: Colonne L: Prime journalière de 7,45% sur N qui est le salaire d'une journée complétée. Formule: =N5*7,45%
A17: 43883 | B17: =WEEKDAY(A17, 1) -> 7 | C17: CV | D17: 33606 | G17: =(F17-E17)*24 -> 0 | H17: =IF(G17<4,0,IF(G17<5.75,1,IF(G17<12,2,0))) -> 0 | I17: =IF(G17<7.25,0,IF(G17<10.25,1,IF(G17>=10.5,2,""))) -> 0 | J17: =IF(I17=2,12.65,0) -> 0 | K17: =(G17-I17) -> 0 | L17: =N17*7.45% -> 0 | N17: =(IF(C17="CV",Options!$C$2,IF(C17="COS",Options!$C$3,IF(C17="FORM",Options!$C$4,Options!$C$1))))*K17 -> 0 | O17: =SUM(N17+J17) -> 0 | R17: * | S17: Colonne M: (Indiquée seulement sur la ligne de chaque dimanche) Total de tout les montants en L pour une semaine entière. Formule: =L5:L10
A18: 43884 | B18: =WEEKDAY(A18, 1) -> 1 | C18: CV | D18: 33524 | E18: 0.5 | F18: 0.875 | G18: =(F18-E18)*24 -> 9 | H18: =IF(G18<4,0,IF(G18<5.75,1,IF(G18<12,2,0))) -> 2 | I18: =IF(G18<7.25,0,IF(G18<10.25,1,IF(G18>=10.5,2,""))) -> 1 | J18: =IF(I18=2,12.65,0) -> 0 | K18: =(G18-I18) -> 8 | L18: =N18*7.45% -> 12.19416 | M18: =SUM(L18:L26) -> 78.569935 | N18: =(IF(C18="CV",Options!$C$2,IF(C18="COS",Options!$C$3,IF(C18="FORM",Options!$C$4,Options!$C$1))))*K18 -> 163.68 | O18: =SUM(N18+J18) -> 163.68 | P18: =SUM(K18:K26) -> 49.833333 | Q18: =SUM(O18:O26)+M18 -> 1133.1999 | S18: Colonne N: Calcul monétaire de la journée de travail selon le poste occupé en C. Formule: =(IF(C5="CV";Options!$C$2;IF(C5="COS";Options!$C$3;IF(C5="FORM";Options!$C$4;Options!$C$1))))*K5=(IF(C5="CV";Options!$C$2;IF(C5="COS";Options!$C$3;IF(C5="FORM";Options!$C$4;Options!$C$1))))*K5
A19: 43885 | B19: =WEEKDAY(A19, 1) -> 2 | C19: CV | D19: 33538 | E19: 0.47916667 | F19: 0.60416667 | G19: =(F19-E19)*24 -> 3 | H19: =IF(G19<4,0,IF(G19<5.75,1,IF(G19<12,2,0))) -> 0 | I19: =IF(G19<7.25,0,IF(G19<10.25,1,IF(G19>=10.5,2,""))) -> 0 | J19: =IF(I19=2,12.65,0) -> 0 | K19: =(G19-I19) -> 3 | L19: =N19*7.45% -> 4.57281 | N19: =(IF(C19="CV",Options!$C$2,IF(C19="COS",Options!$C$3,IF(C19="FORM",Options!$C$4,Options!$C$1))))*K19 -> 61.38 | O19: =SUM(N19+J19) -> 61.38 | S19: Colonne O:Total de tout les salaires en N pour la semaine entière. Formule: =SUM(N5+J5)
A20: 43886 | B20: =WEEKDAY(A20, 1) -> 3 | C20: FORM | D20: DOM | E20: 0 | F20: 0.034722222 | G20: =(F20-E20)*24 -> 0.83333333 | H20: =IF(G20<4,0,IF(G20<5.75,1,IF(G20<12,2,0))) -> 0 | I20: =IF(G20<7.25,0,IF(G20<10.25,1,IF(G20>=10.5,2,""))) -> 0 | K20: =(G20-I20) -> 0.83333333 | L20: =N20*7.45% -> 1.270225 | N20: =(IF(C20="CV",Options!$C$2,IF(C20="COS",Options!$C$3,IF(C20="FORM",Options!$C$4,Options!$C$1))))*K20 -> 17.05 | O20: =SUM(N20+J20) -> 17.05 | S20: Colonne P: TOTAL des heures de la semaine entière en K. Formule: =SUM(K5:K10)
A21: 43887 | B21: =WEEKDAY(A21, 1) -> 4 | C21: CV | D21: 33538 | E21: 0.45833333 | F21: 0.79166667 | G21: =(F21-E21)*24 -> 8 | H21: =IF(G21<4,0,IF(G21<5.75,1,IF(G21<12,2,0))) -> 2 | I21: =IF(G21<7.25,0,IF(G21<10.25,1,IF(G21>=10.5,2,""))) -> 1 | K21: =(G21-I21) -> 7 | L21: =N21*7.45% -> 10.66989 | N21: =(IF(C21="CV",Options!$C$2,IF(C21="COS",Options!$C$3,IF(C21="FORM",Options!$C$4,Options!$C$1))))*K21 -> 143.22 | O21: =SUM(N21+J21) -> 143.22 | S21: Colonne Q: TOTAL des salaires de la semaine entière en O. Y est ajouté le bonus hebdomadaire en M. Formule: =SUM(O5:O10)+M5
A22: 43888 | B22: =WEEKDAY(A22, 1) -> 5 | C22: CV | D22: 33606 | E22: 0.58333333 | F22: 0.8125 | G22: =(F22-E22)*24 -> 5.5 | H22: =IF(G22<4,0,IF(G22<5.75,1,IF(G22<12,2,0))) -> 1 | I22: =IF(G22<7.25,0,IF(G22<10.25,1,IF(G22>=10.5,2,""))) -> 0 | J22: =IF(I22=2,12.65,0) -> 0 | K22: =(G22-I22) -> 5.5 | L22: =N22*7.45% -> 8.383485 | N22: =(IF(C22="CV",Options!$C$2,IF(C22="COS",Options!$C$3,IF(C22="FORM",Options!$C$4,Options!$C$1))))*K22 -> 112.53 | O22: =SUM(N22+J22) -> 112.53
C23: FORM | D23: DOM | E23: 0.16666667 | F23: 0.35416667 | G23: =(F23-E23)*24 -> 4.5 | H23: =IF(G23<4,0,IF(G23<5.75,1,IF(G23<12,2,0))) -> 1 | I23: =IF(G23<7.25,0,IF(G23<10.25,1,IF(G23>=10.5,2,""))) -> 0 | K23: =(G23-I23) -> 4.5 | L23: =N23*7.45% -> 6.859215 | N23: =(IF(C23="CV",Options!$C$2,IF(C23="COS",Options!$C$3,IF(C23="FORM",Options!$C$4,Options!$C$1))))*K23 -> 92.07 | O23: =SUM(N23+J23) -> 92.07 | S23: Cellule P3: Total des heures hebdomadaires en P. Formule: =SUM(P11:P48)
C24: CV | D24: 33606 | E24: 0.45833333 | F24: 0.70833333 | G24: =(F24-E24)*24 -> 6 | H24: =IF(G24<4,0,IF(G24<5.75,1,IF(G24<12,2,0))) -> 2 | I24: =IF(G24<7.25,0,IF(G24<10.25,1,IF(G24>=10.5,2,""))) -> 0 | J24: =IF(I24=2,12.65,0) -> 0 | K24: =(G24-I24) -> 6 | L24: =N24*7.45% -> 9.14562 | N24: =(IF(C24="CV",Options!$C$2,IF(C24="COS",Options!$C$3,IF(C24="FORM",Options!$C$4,Options!$C$1))))*K24 -> 122.76 | O24: =SUM(N24+J24) -> 122.76 | R24: * | S24: Cellule Q3: Total des salaires hebdomadaires en Q. Formule: =SUM(Q5:Q48)
A25: 43889 | B25: =WEEKDAY(A25, 1) -> 6 | C25: COS | D25: 33538 | E25: 0.375 | F25: 0.875 | G25: =(F25-E25)*24 -> 12 | H25: =IF(G25<4,0,IF(G25<5.75,1,IF(G25<12,2,0))) -> 0 | J25: =IF(I25=2,12.65,0) -> 0 | K25: =(G25-I25) -> 12 | L25: =N25*7.45% -> 20.90172 | N25: =(IF(C25="CV",Options!$C$2,IF(C25="COS",Options!$C$3,IF(C25="FORM",Options!$C$4,Options!$C$1))))*K25 -> 280.56 | O25: =SUM(N25+J25) -> 280.56
A26: 43890 | B26: =WEEKDAY(A26, 1) -> 7 | C26: CV | D26: 33524 | E26: 0.6875 | F26: 0.8125 | G26: =(F26-E26)*24 -> 3 | H26: =IF(G26<4,0,IF(G26<5.75,1,IF(G26<12,2,0))) -> 0 | I26: =IF(G26<7.25,0,IF(G26<10.25,1,IF(G26>=10.5,2,""))) -> 0 | J26: =IF(I26=2,12.65,0) -> 0 | K26: =(G26-I26) -> 3 | L26: =N26*7.45% -> 4.57281 | N26: =(IF(C26="CV",Options!$C$2,IF(C26="COS",Options!$C$3,IF(C26="FORM",Options!$C$4,Options!$C$1))))*K26 -> 61.38 | O26: =SUM(N26+J26) -> 61.38 | S26: À noter que je veux ajouter des lignes selon ajouts à l'horaire ou ajouts monétaires (exemples: lignes 23, 24 et 32.) Cela fait n sorte que chaque semaines ne comportent pas nécessairement 7 lignes.
A27: 43891 | B27: =WEEKDAY(A27, 1) -> 1 | C27: CV | D27: 33595 | E27: 0.58333333 | F27: 0.70833333 | G27: =(F27-E27)*24 -> 3 | H27: =IF(G27<4,0,IF(G27<5.75,1,IF(G27<12,2,0))) -> 0 | I27: =IF(G27<7.25,0,IF(G27<10.25,1,IF(G27>=10.5,2,""))) -> 0 | J27: =IF(I27=2,12.65,0) -> 0 | K27: =(G27-I27) -> 3 | L27: =N27*7.45% -> 4.57281 | M27: =SUM(L27:L34) -> 57.70323 | N27: =(IF(C27="CV",Options!$C$2,IF(C27="COS",Options!$C$3,IF(C27="FORM",Options!$C$4,Options!$C$1))))*K27 -> 61.38 | O27: =SUM(N27+J27) -> 61.38 | P27: =SUM(K27:K34) -> 37 | Q27: =SUM(O27:O34)+M27 -> 544.89323 | S27: Note pour la feuille TABLEAU DE PAUSES. Pour l'instant j'utilise les formules citées en H et I pour calculer le nombre de pauses et de repas prises dan une journée. Le tableau est à titre indicatif. Y aurait-il un moyen de l'utiliser plus concrètement dans mes calculs?
A28: 43892 | B28: =WEEKDAY(A28, 1) -> 2 | C28: FORM | D28: DOM | E28: 0.47916667 | F28: 0.75 | G28: =(F28-E28)*24 -> 6.5 | H28: =IF(G28<4,0,IF(G28<5.75,1,IF(G28<12,2,0))) -> 2 | I28: =IF(G28<7.25,0,IF(G28<10.25,1,IF(G28>=10.5,2,""))) -> 0 | J28: =IF(I28=2,12.65,0) -> 0 | K28: =(G28-I28) -> 6.5 | L28: =N28*7.45% -> 9.907755 | N28: =(IF(C28="CV",Options!$C$2,IF(C28="COS",Options!$C$3,IF(C28="FORM",Options!$C$4,Options!$C$1))))*K28 -> 132.99 | O28: =SUM(N28+J28) -> 132.99 | S28: * Les colonnes avec des valeurs "0" sont formatées avec le code 0;;;@ pour alléger la feuille.
A29: 43893 | B29: =WEEKDAY(A29, 1) -> 3 | C29: CV | D29: 33524 | E29: 0.66666667 | F29: 0.79166667 | G29: =(F29-E29)*24 -> 3 | H29: =IF(G29<4,0,IF(G29<5.75,1,IF(G29<12,2,0))) -> 0 | I29: =IF(G29<7.25,0,IF(G29<10.25,1,IF(G29>=10.5,2,""))) -> 0 | J29: =IF(I29=2,12.65,0) -> 0 | K29: =(G29-I29) -> 3 | L29: =N29*7.45% -> 4.57281 | N29: =(IF(C29="CV",Options!$C$2,IF(C29="COS",Options!$C$3,IF(C29="FORM",Options!$C$4,Options!$C$1))))*K29 -> 61.38 | O29: =SUM(N29+J29) -> 61.38 | S29: *Y aurait-il moyen, sans groupage, de pouvoir afficher les lignes de semaines seulement, ou les dimanches en plus des 14 derniers jours? Ou de mettre des boutons d'action devant chaque début de semaine pour les faire apparaître/disparaitre?
A30: 43894 | B30: =WEEKDAY(A30, 1) -> 4 | C30: COS | D30: 33538 | E30: 0.5 | F30: 0.75 | G30: =(F30-E30)*24 -> 6 | H30: =IF(G30<4,0,IF(G30<5.75,1,IF(G30<12,2,0))) -> 2 | I30: =IF(G30<7.25,0,IF(G30<10.25,1,IF(G30>=10.5,2,""))) -> 0 | J30: =IF(I30=2,12.65,0) -> 0 | K30: =(G30-I30) -> 6 | L30: =N30*7.45% -> 10.45086 | N30: =(IF(C30="CV",Options!$C$2,IF(C30="COS",Options!$C$3,IF(C30="FORM",Options!$C$4,Options!$C$1))))*K30 -> 140.28 | O30: =SUM(N30+J30) -> 140.28
A31: 43895 | B31: =WEEKDAY(A31, 1) -> 5 | C31: CV | D31: 33538 | E31: 0.41666667 | F31: 0.83333333 | G31: =(F31-E31)*24 -> 10 | H31: =IF(G31<4,0,IF(G31<5.75,1,IF(G31<12,2,0))) -> 2 | I31: =IF(G31<7.25,0,IF(G31<10.25,1,IF(G31>=10.5,2,""))) -> 1 | J31: =IF(I31=2,12.65,0) -> 0 | K31: =(G31-I31) -> 9 | L31: =N31*7.45% -> 13.71843 | N31: =(IF(C31="CV",Options!$C$2,IF(C31="COS",Options!$C$3,IF(C31="FORM",Options!$C$4,Options!$C$1))))*K31 -> 184.14 | O31: =SUM(N31+J31) -> 184.14
D32: 33538 | E32: *déduction de 300$ | G32: =(F32-E32)*24 -> #VALUE! | H32: =IF(G32<4,0,IF(G32<5.75,1,IF(G32<12,2,0))) -> #VALUE! | I32: =IF(G32<7.25,0,IF(G32<10.25,1,IF(G32>=10.5,2,""))) -> #VALUE! | L32: =N32*7.45% -> 0 | M32: =L32:L38 -> 0 | N32: =(IF(C32="CV",Options!$C$2,IF(C32="COS",Options!$C$3,IF(C32="FORM",Options!$C$4,Options!$C$1))))*K32 -> 0 | O32: -300
A33: 43896 | B33: =WEEKDAY(A33, 1) -> 6 | C33: CV | D33: 33595 | E33: 0.39583333 | F33: 0.875 | G33: =(F33-E33)*24 -> 11.5 | H33: =IF(G33<4,0,IF(G33<5.75,1,IF(G33<12,2,0))) -> 2 | I33: =IF(G33<7.25,0,IF(G33<10.25,1,IF(G33>=10.5,2,""))) -> 2 | J33: =IF(I33=2,12.65,0) -> 12.65 | K33: =(G33-I33) -> 9.5 | L33: =N33*7.45% -> 14.480565 | N33: =(IF(C33="CV",Options!$C$2,IF(C33="COS",Options!$C$3,IF(C33="FORM",Options!$C$4,Options!$C$1))))*K33 -> 194.37 | O33: =SUM(N33+J33) -> 207.02
A34: 43897 | B34: =WEEKDAY(A34, 1) -> 7 | G34: =(F34-E34)*24 -> 0 | H34: =IF(G34<4,0,IF(G34<5.75,1,IF(G34<12,2,0))) -> 0 | I34: =IF(G34<7.25,0,IF(G34<10.25,1,IF(G34>=10.5,2,""))) -> 0 | J34: =IF(I34=2,12.65,0) -> 0 | K34: =(G34-I34) -> 0 | L34: =N34*7.45% -> 0 | N34: =(IF(C34="CV",Options!$C$2,IF(C34="COS",Options!$C$3,IF(C34="FORM",Options!$C$4,Options!$C$1))))*K34 -> 0 | O34: =SUM(N34+J34) -> 0
A35: 43898 | B35: =WEEKDAY(A35, 1) -> 1 | C35: CV | D35: 33595 | E35: 0.58333333 | F35: 0.70833333 | G35: =(F35-E35)*24 -> 3 | H35: =IF(G35<4,0,IF(G35<5.75,1,IF(G35<12,2,0))) -> 0 | I35: =IF(G35<7.25,0,IF(G35<10.25,1,IF(G35>=10.5,2,""))) -> 0 | J35: =IF(I35=2,12.65,0) -> 0 | K35: =(G35-I35) -> 3 | L35: =N35*7.45% -> 4.57281 | M35: =SUM(L35:L41) -> 44.638165 | N35: =(IF(C35="CV",Options!$C$2,IF(C35="COS",Options!$C$3,IF(C35="FORM",Options!$C$4,Options!$C$1))))*K35 -> 61.38 | O35: =SUM(N35+J35) -> 61.38 | P35: =SUM(K35:K41) -> 28.5 | Q35: =SUM(O35:O41) -> 599.17
A36: 43899 | B36: =WEEKDAY(A36, 1) -> 2 | G36: =(F36-E36)*24 -> 0 | H36: =IF(G36<4,0,IF(G36<5.75,1,IF(G36<12,2,0))) -> 0 | I36: =IF(G36<7.25,0,IF(G36<10.25,1,IF(G36>=10.5,2,""))) -> 0 | J36: =IF(I36=2,12.65,0) -> 0 | K36: =(G36-I36) -> 0 | L36: =N36*7.45% -> 0 | N36: =(IF(C36="CV",Options!$C$2,IF(C36="COS",Options!$C$3,IF(C36="FORM",Options!$C$4,Options!$C$1))))*K36 -> 0 | O36: =SUM(N36+J36) -> 0
A37: 43900 | B37: =WEEKDAY(A37, 1) -> 3 | C37: COS | D37: 33606 | E37: 0.52083333 | F37: 0.75 | G37: =(F37-E37)*24 -> 5.5 | H37: =IF(G37<4,0,IF(G37<5.75,1,IF(G37<12,2,0))) -> 1 | I37: =IF(G37<7.25,0,IF(G37<10.25,1,IF(G37>=10.5,2,""))) -> 0 | J37: =IF(I37=2,12.65,0) -> 0 | K37: =(G37-I37) -> 5.5 | L37: =N37*7.45% -> 9.579955 | N37: =(IF(C37="CV",Options!$C$2,IF(C37="COS",Options!$C$3,IF(C37="FORM",Options!$C$4,Options!$C$1))))*K37 -> 128.59 | O37: =SUM(N37+J37) -> 128.59
A38: 43901 | B38: =WEEKDAY(A38, 1) -> 4 | C38: CV | D38: 33538 | E38: 0.54166667 | F38: 0.75 | G38: =(F38-E38)*24 -> 5 | H38: =IF(G38<4,0,IF(G38<5.75,1,IF(G38<12,2,0))) -> 1 | I38: =IF(G38<7.25,0,IF(G38<10.25,1,IF(G38>=10.5,2,""))) -> 0 | J38: =IF(I38=2,12.65,0) -> 0 | K38: =(G38-I38) -> 5 | L38: =N38*7.45% -> 7.62135 | N38: =(IF(C38="CV",Options!$C$2,IF(C38="COS",Options!$C$3,IF(C38="FORM",Options!$C$4,Options!$C$1))))*K38 -> 102.3 | O38: =SUM(N38+J38) -> 102.3
A39: 43902 | B39: =WEEKDAY(A39, 1) -> 5 | C39: CV | D39: 33524 | E39: 0.41666667 | F39: 0.79166667 | G39: =(F39-E39)*24 -> 9 | H39: =IF(G39<4,0,IF(G39<5.75,1,IF(G39<12,2,0))) -> 2 | I39: =IF(G39<7.25,0,IF(G39<10.25,1,IF(G39>=10.5,2,""))) -> 1 | J39: =IF(I39=2,12.65,0) -> 0 | K39: =(G39-I39) -> 8 | L39: =N39*7.45% -> 12.19416 | N39: =(IF(C39="CV",Options!$C$2,IF(C39="COS",Options!$C$3,IF(C39="FORM",Options!$C$4,Options!$C$1))))*K39 -> 163.68 | O39: =SUM(N39+J39) -> 163.68
A40: 43903 | B40: =WEEKDAY(A40, 1) -> 6 | C40: CV | D40: 33524 | E40: 0.41666667 | F40: 0.75 | G40: =(F40-E40)*24 -> 8 | H40: =IF(G40<4,0,IF(G40<5.75,1,IF(G40<12,2,0))) -> 2 | I40: =IF(G40<7.25,0,IF(G40<10.25,1,IF(G40>=10.5,2,""))) -> 1 | J40: =IF(I40=2,12.65,0) -> 0 | K40: =(G40-I40) -> 7 | L40: =N40*7.45% -> 10.66989 | N40: =(IF(C40="CV",Options!$C$2,IF(C40="COS",Options!$C$3,IF(C40="FORM",Options!$C$4,Options!$C$1))))*K40 -> 143.22 | O40: =SUM(N40+J40) -> 143.22
A41: 43904 | B41: =WEEKDAY(A41, 1) -> 7 | G41: =(F41-E41)*24 -> 0 | H41: =IF(G41<4,0,IF(G41<5.75,1,IF(G41<12,2,0))) -> 0 | I41: =IF(G41<7.25,0,IF(G41<10.25,1,IF(G41>=10.5,2,""))) -> 0 | J41: =IF(I41=2,12.65,0) -> 0 | K41: =(G41-I41) -> 0 | L41: =N41*7.45% -> 0 | N41: =(IF(C41="CV",Options!$C$2,IF(C41="COS",Options!$C$3,IF(C41="FORM",Options!$C$4,Options!$C$1))))*K41 -> 0 | O41: =SUM(N41+J41) -> 0
...

Sheet Sheet2
A1: H | B1: P | D1: H | E1: R
A2: 0.010416667 | B2: 0 | D2: 0.010416667 | E2: 0
A3: 0.020833333 | B3: 0 | D3: 0.020833333 | E3: 0
A4: 0.03125 | B4: 0 | D4: 0.03125 | E4: 0
A5: 0.041666667 | B5: 0 | D5: 0.041666667 | E5: 0
A6: 0.052083333 | B6: 0 | D6: 0.052083333 | E6: 0
A7: 0.0625 | B7: 0 | D7: 0.0625 | E7: 0
A8: 0.072916667 | B8: 0 | D8: 0.072916667 | E8: 0
A9: 0.083333333 | B9: 0 | D9: 0.083333333 | E9: 0
A10: 0.09375 | B10: 0 | D10: 0.09375 | E10: 0
A11: 0.10416667 | B11: 0 | D11: 0.10416667 | E11: 0
A12: 0.11458333 | B12: 0 | D12: 0.11458333 | E12: 0
A13: 0.125 | B13: 0 | D13: 0.125 | E13: 0
... A49: 0.5 | B49: 2 | D49: 0.5 | E49: 2

Sheet Tableau de pauses
A2: DE | C2: 1 PAUSE | L2: 2 PAUSES | S2: 2 PAUSES + 1 REPAS | AF2: 2 PAUSES + 2 REPAS | AN2: H | AO2: P | AP2: R
A3: 0.33333333 | C3: 0.5 | D3: 0.51041667 | E3: 0.52083333 | F3: 0.53125 | G3: 0.54166667 | H3: 0.55208333 | I3: 0.5625 | J3: 0.57291667 | L3: 0.58333333 | M3: 0.59375 | N3: 0.60416667 | O3: 0.61458333 | P3: 0.625 | Q3: 0.63541667 | S3: 0.64583333 | T3: 0.65625 | U3: 0.66666667 | V3: 0.67708333 | W3: 0.6875 | X3: 0.69791667 | Y3: 0.70833333 | Z3: 0.71875 | AA3: 0.72916667 | AB3: 0.73958333 | AC3: 0.75 | AD3: 0.76041667 | AF3: 0.77083333 | AG3: 0.78125 | AH3: 0.79166667 | AI3: 0.80208333 | AJ3: 0.8125 | AK3: 0.82291667 | AL3: 0.83333333 | AN3: 0.010416667 | AO3: 0 | AP3: 0
A4: 0.34375 | C4: 0.51041667 | D4: 0.52083333 | E4: 0.53125 | F4: 0.54166667 | G4: 0.55208333 | H4: 0.5625 | I4: 0.57291667 | J4: 0.58333333 | L4: 0.59375 | M4: 0.60416667 | N4: 0.61458333 | O4: 0.625 | P4: 0.63541667 | Q4: 0.64583333 | S4: 0.65625 | T4: 0.66666667 | U4: 0.67708333 | V4: 0.6875 | W4: 0.69791667 | X4: 0.70833333 | Y4: 0.71875 | Z4: 0.72916667 | AA4: 0.73958333 | AB4: 0.75 | AC4: 0.76041667 | AD4: 0.77083333 | AF4: 0.78125 | AG4: 0.79166667 | AH4: 0.80208333 | AI4: 0.8125 | AJ4: 0.82291667 | AK4: 0.83333333 | AL4: 0.84375 | AN4: 0.020833333 | AO4: 0 | AP4: 0
A5: 0.35416667 | C5: 0.52083333 | D5: 0.53125 | E5: 0.54166667 | F5: 0.55208333 | G5: 0.5625 | H5: 0.57291667 | I5: 0.58333333 | J5: 0.59375 | L5: 0.60416667 | M5: 0.61458333 | N5: 0.625 | O5: 0.63541667 | P5: 0.64583333 | Q5: 0.65625 | S5: 0.66666667 | T5: 0.67708333 | U5: 0.6875 | V5: 0.69791667 | W5: 0.70833333 | X5: 0.71875 | Y5: 0.72916667 | Z5: 0.73958333 | AA5: 0.75 | AB5: 0.76041667 | AC5: 0.77083333 | AD5: 0.78125 | AF5: 0.79166667 | AG5: 0.80208333 | AH5: 0.8125 | AI5: 0.82291667 | AJ5: 0.83333333 | AK5: 0.84375 | AL5: 0.85416667 | AN5: 0.03125 | AO5: 0 | AP5: 0
A6: 0.36458333 | C6: 0.53125 | D6: 0.54166667 | E6: 0.55208333 | F6: 0.5625 | G6: 0.57291667 | H6: 0.58333333 | I6: 0.59375 | J6: 0.60416667 | L6: 0.61458333 | M6: 0.625 | N6: 0.63541667 | O6: 0.64583333 | P6: 0.65625 | Q6: 0.66666667 | S6: 0.67708333 | T6: 0.6875 | U6: 0.69791667 | V6: 0.70833333 | W6: 0.71875 | X6: 0.72916667 | Y6: 0.73958333 | Z6: 0.75 | AA6: 0.76041667 | AB6: 0.77083333 | AC6: 0.78125 | AD6: 0.79166667 | AF6: 0.80208333 | AG6: 0.8125 | AH6: 0.82291667 | AI6: 0.83333333 | AJ6: 0.84375 | AK6: 0.85416667 | AL6: 0.86458333 | AN6: 0.041666667 | AO6: 0 | AP6: 0
A7: 0.375 | C7: 0.54166667 | D7: 0.55208333 | E7: 0.5625 | F7: 0.57291667 | G7: 0.58333333 | H7: 0.59375 | I7: 0.60416667 | J7: 0.61458333 | L7: 0.625 | M7: 0.63541667 | N7: 0.64583333 | O7: 0.65625 | P7: 0.66666667 | Q7: 0.67708333 | S7: 0.6875 | T7: 0.69791667 | U7: 0.70833333 | V7: 0.71875 | W7: 0.72916667 | X7: 0.73958333 | Y7: 0.75 | Z7: 0.76041667 | AA7: 0.77083333 | AB7: 0.78125 | AC7: 0.79166667 | AD7: 0.80208333 | AF7: 0.8125 | AG7: 0.82291667 | AH7: 0.83333333 | AI7: 0.84375 | AJ7: 0.85416667 | AK7: 0.86458333 | AL7: 0.875 | AN7: 0.052083333 | AO7: 0 | AP7: 0
A8: 0.38541667 | C8: 0.55208333 | D8: 0.5625 | E8: 0.57291667 | F8: 0.58333333 | G8: 0.59375 | H8: 0.60416667 | I8: 0.61458333 | J8: 0.625 | L8: 0.63541667 | M8: 0.64583333 | N8: 0.65625 | O8: 0.66666667 | P8: 0.67708333 | Q8: 0.6875 | S8: 0.69791667 | T8: 0.70833333 | U8: 0.71875 | V8: 0.72916667 | W8: 0.73958333 | X8: 0.75 | Y8: 0.76041667 | Z8: 0.77083333 | AA8: 0.78125 | AB8: 0.79166667 | AC8: 0.80208333 | AD8: 0.8125 | AF8: 0.82291667 | AG8: 0.83333333 | AH8: 0.84375 | AI8: 0.85416667 | AJ8: 0.86458333 | AK8: 0.875 | AL8: 0.88541667 | AN8: 0.0625 | AO8: 0 | AP8: 0
A9: 0.39583333 | C9: 0.5625 | D9: 0.57291667 | E9: 0.58333333 | F9: 0.59375 | G9: 0.60416667 | H9: 0.61458333 | I9: 0.625 | J9: 0.63541667 | L9: 0.64583333 | M9: 0.65625 | N9: 0.66666667 | O9: 0.67708333 | P9: 0.6875 | Q9: 0.69791667 | S9: 0.70833333 | T9: 0.71875 | U9: 0.72916667 | V9: 0.73958333 | W9: 0.75 | X9: 0.76041667 | Y9: 0.77083333 | Z9: 0.78125 | AA9: 0.79166667 | AB9: 0.80208333 | AC9: 0.8125 | AD9: 0.82291667 | AF9: 0.83333333 | AG9: 0.84375 | AH9: 0.85416667 | AI9: 0.86458333 | AJ9: 0.875 | AK9: 0.88541667 | AL9: 0.89583333 | AN9: 0.072916667 | AO9: 0 | AP9: 0
A10: 0.40625 | C10: 0.57291667 | D10: 0.58333333 | E10: 0.59375 | F10: 0.60416667 | G10: 0.61458333 | H10: 0.625 | I10: 0.63541667 | J10: 0.64583333 | L10: 0.65625 | M10: 0.66666667 | N10: 0.67708333 | O10: 0.6875 | P10: 0.69791667 | Q10: 0.70833333 | S10: 0.71875 | T10: 0.72916667 | U10: 0.73958333 | V10: 0.75 | W10: 0.76041667 | X10: 0.77083333 | Y10: 0.78125 | Z10: 0.79166667 | AA10: 0.80208333 | AB10: 0.8125 | AC10: 0.82291667 | AD10: 0.83333333 | AF10: 0.84375 | AG10: 0.85416667 | AH10: 0.86458333 | AI10: 0.875 | AJ10: 0.88541667 | AK10: 0.89583333 | AL10: 0.90625 | AN10: 0.083333333 | AO10: 0 | AP10: 0
A11: 0.41666667 | C11: 0.58333333 | D11: 0.59375 | E11: 0.60416667 | F11: 0.61458333 | G11: 0.625 | H11: 0.63541667 | I11: 0.64583333 | J11: 0.65625 | L11: 0.66666667 | M11: 0.67708333 | N11: 0.6875 | O11: 0.69791667 | P11: 0.70833333 | Q11: 0.71875 | S11: 0.72916667 | T11: 0.73958333 | U11: 0.75 | V11: 0.76041667 | W11: 0.77083333 | X11: 0.78125 | Y11: 0.79166667 | Z11: 0.80208333 | AA11: 0.8125 | AB11: 0.82291667 | AC11: 0.83333333 | AD11: 0.84375 | AF11: 0.85416667 | AG11: 0.86458333 | AH11: 0.875 | AI11: 0.88541667 | AJ11: 0.89583333 | AK11: 0.90625 | AL11: 0.91666667 | AN11: 0.09375 | AO11: 0 | AP11: 0
A12: 0.42708333 | C12: 0.59375 | D12: 0.60416667 | E12: 0.61458333 | F12: 0.625 | G12: 0.63541667 | H12: 0.64583333 | I12: 0.65625 | J12: 0.66666667 | L12: 0.67708333 | M12: 0.6875 | N12: 0.69791667 | O12: 0.70833333 | P12: 0.71875 | Q12: 0.72916667 | S12: 0.73958333 | T12: 0.75 | U12: 0.76041667 | V12: 0.77083333 | W12: 0.78125 | X12: 0.79166667 | Y12: 0.80208333 | Z12: 0.8125 | AA12: 0.82291667 | AB12: 0.83333333 | AC12: 0.84375 | AD12: 0.85416667 | AF12: 0.86458333 | AG12: 0.875 | AH12: 0.88541667 | AI12: 0.89583333 | AJ12: 0.90625 | AK12: 0.91666667 | AL12: 0.92708333 | AN12: 0.10416667 | AO12: 0 | AP12: 0
A13: 0.4375 | C13: 0.60416667 | D13: 0.61458333 | E13: 0.625 | F13: 0.63541667 | G13: 0.64583333 | H13: 0.65625 | I13: 0.66666667 | J13: 0.67708333 | L13: 0.6875 | M13: 0.69791667 | N13: 0.70833333 | O13: 0.71875 | P13: 0.72916667 | Q13: 0.73958333 | S13: 0.75 | T13: 0.76041667 | U13: 0.77083333 | V13: 0.78125 | W13: 0.79166667 | X13: 0.80208333 | Y13: 0.8125 | Z13: 0.82291667 | AA13: 0.83333333 | AB13: 0.84375 | AC13: 0.85416667 | AD13: 0.86458333 | AF13: 0.875 | AG13: 0.88541667 | AH13: 0.89583333 | AI13: 0.90625 | AJ13: 0.91666667 | AK13: 0.92708333 | AL13: 0.9375 | AN13: 0.11458333 | AO13: 0 | AP13: 0
A14: 0.44791667 | C14: 0.61458333 | D14: 0.625 | E14: 0.63541667 | F14: 0.64583333 | G14: 0.65625 | H14: 0.66666667 | I14: 0.67708333 | J14: 0.6875 | L14: 0.69791667 | M14: 0.70833333 | N14: 0.71875 | O14: 0.72916667 | P14: 0.73958333 | Q14: 0.75 | S14: 0.76041667 | T14: 0.77083333 | U14: 0.78125 | V14: 0.79166667 | W14: 0.80208333 | X14: 0.8125 | Y14: 0.82291667 | Z14: 0.83333333 | AA14: 0.84375 | AB14: 0.85416667 | AC14: 0.86458333 | AD14: 0.875 | AF14: 0.88541667 | AG14: 0.89583333 | AH14: 0.90625 | AI14: 0.91666667 | AJ14: 0.92708333 | AK14: 0.9375 | AL14: 0.94791667 | AN14: 0.125 | AO14: 0 | AP14: 0
A15: 0.45833333 | C15: 0.625 | D15: 0.63541667 | E15: 0.64583333 | F15: 0.65625 | G15: 0.66666667 | H15: 0.67708333 | I15: 0.6875 | J15: 0.69791667 | L15: 0.70833333 | M15: 0.71875 | N15: 0.72916667 | O15: 0.73958333 | P15: 0.75 | Q15: 0.76041667 | S15: 0.77083333 | T15: 0.78125 | U15: 0.79166667 | V15: 0.80208333 | W15: 0.8125 | X15: 0.82291667 | Y15: 0.83333333 | Z15: 0.84375 | AA15: 0.85416667 | AB15: 0.86458333 | AC15: 0.875 | AD15: 0.88541667 | AF15: 0.89583333 | AG15: 0.90625 | AH15: 0.91666667 | AI15: 0.92708333 | AJ15: 0.9375 | AK15: 0.94791667 | AL15: 0.95833333 | AN15: 0.13541667 | AO15: 0 | AP15: 0
A16: 0.46875 | C16: 0.63541667 | D16: 0.64583333 | E16: 0.65625 | F16: 0.66666667 | G16: 0.67708333 | H16: 0.6875 | I16: 0.69791667 | J16: 0.70833333 | L16: 0.71875 | M16: 0.72916667 | N16: 0.73958333 | O16: 0.75 | P16: 0.76041667 | Q16: 0.77083333 | S16: 0.78125 | T16: 0.79166667 | U16: 0.80208333 | V16: 0.8125 | W16: 0.82291667 | X16: 0.83333333 | Y16: 0.84375 | Z16: 0.85416667 | AA16: 0.86458333 | AB16: 0.875 | AC16: 0.88541667 | AD16: 0.89583333 | AF16: 0.90625 | AG16: 0.91666667 | AH16: 0.92708333 | AI16: 0.9375 | AJ16: 0.94791667 | AK16: 0.95833333 | AN16: 0.14583333 | AO16: 0 | AP16: 0
A17: 0.47916667 | C17: 0.64583333 | D17: 0.65625 | E17: 0.66666667 | F17: 0.67708333 | G17: 0.6875 | H17: 0.69791667 | I17: 0.70833333 | J17: 0.71875 | L17: 0.72916667 | M17: 0.73958333 | N17: 0.75 | O17: 0.76041667 | P17: 0.77083333 | Q17: 0.78125 | S17: 0.79166667 | T17: 0.80208333 | U17: 0.8125 | V17: 0.82291667 | W17: 0.83333333 | X17: 0.84375 | Y17: 0.85416667 | Z17: 0.86458333 | AA17: 0.875 | AB17: 0.88541667 | AC17: 0.89583333 | AD17: 0.90625 | AF17: 0.91666667 | AG17: 0.92708333 | AH17: 0.9375 | AI17: 0.94791667 | AJ17: 0.95833333 | AN17: 0.15625 | AO17: 0 | AP17: 0
A18: 0.48958333 | C18: 0.65625 | D18: 0.66666667 | E18: 0.67708333 | F18: 0.6875 | G18: 0.69791667 | H18: 0.70833333 | I18: 0.71875 | J18: 0.72916667 | L18: 0.73958333 | M18: 0.75 | N18: 0.76041667 | O18: 0.77083333 | P18: 0.78125 | Q18: 0.79166667 | S18: 0.80208333 | T18: 0.8125 | U18: 0.82291667 | V18: 0.83333333 | W18: 0.84375 | X18: 0.85416667 | Y18: 0.86458333 | Z18: 0.875 | AA18: 0.88541667 | AB18: 0.89583333 | AC18: 0.90625 | AD18: 0.91666667 | AF18: 0.92708333 | AG18: 0.9375 | AH18: 0.94791667 | AI18: 0.95833333 | AN18: 0.16666667 | AO18: 1 | AP18: 0
A19: 0.5 | C19: 0.66666667 | D19: 0.67708333 | E19: 0.6875 | F19: 0.69791667 | G19: 0.70833333 | H19: 0.71875 | I19: 0.72916667 | J19: 0.73958333 | L19: 0.75 | M19: 0.76041667 | N19: 0.77083333 | O19: 0.78125 | P19: 0.79166667 | Q19: 0.80208333 | S19: 0.8125 | T19: 0.82291667 | U19: 0.83333333 | V19: 0.84375 | W19: 0.85416667 | X19: 0.86458333 | Y19: 0.875 | Z19: 0.88541667 | AA19: 0.89583333 | AB19: 0.90625 | AC19: 0.91666667 | AD19: 0.92708333 | AF19: 0.9375 | AG19: 0.94791667 | AH19: 0.95833333 | AN19: 0.17708333 | AO19: 1 | AP19: 0
A20: 0.51041667 | C20: 0.67708333 | D20: 0.6875 | E20: 0.69791667 | F20: 0.70833333 | G20: 0.71875 | H20: 0.72916667 | I20: 0.73958333 | J20: 0.75 | L20: 0.76041667 | M20: 0.77083333 | N20: 0.78125 | O20: 0.79166667 | P20: 0.80208333 | Q20: 0.8125 | S20: 0.82291667 | T20: 0.83333333 | U20: 0.84375 | V20: 0.85416667 | W20: 0.86458333 | X20: 0.875 | Y20: 0.88541667 | Z20: 0.89583333 | AA20: 0.90625 | AB20: 0.91666667 | AC20: 0.92708333 | AD20: 0.9375 | AF20: 0.94791667 | AG20: 0.95833333 | AN20: 0.1875 | AO20: 1 | AP20: 0
A21: 0.52083333 | C21: 0.6875 | D21: 0.69791667 | E21: 0.70833333 | F21: 0.71875 | G21: 0.72916667 | H21: 0.73958333 | I21: 0.75 | J21: 0.76041667 | L21: 0.77083333 | M21: 0.78125 | N21: 0.79166667 | O21: 0.80208333 | P21: 0.8125 | Q21: 0.82291667 | S21: 0.83333333 | T21: 0.84375 | U21: 0.85416667 | V21: 0.86458333 | W21: 0.875 | X21: 0.88541667 | Y21: 0.89583333 | Z21: 0.90625 | AA21: 0.91666667 | AB21: 0.92708333 | AC21: 0.9375 | AD21: 0.94791667 | AF21: 0.95833333 | AN21: 0.19791667 | AO21: 1 | AP21: 0
A22: 0.53125 | C22: 0.69791667 | D22: 0.70833333 | E22: 0.71875 | F22: 0.72916667 | G22: 0.73958333 | H22: 0.75 | I22: 0.76041667 | J22: 0.77083333 | L22: 0.78125 | M22: 0.79166667 | N22: 0.80208333 | O22: 0.8125 | P22: 0.82291667 | Q22: 0.83333333 | S22: 0.84375 | T22: 0.85416667 | U22: 0.86458333 | V22: 0.875 | W22: 0.88541667 | X22: 0.89583333 | Y22: 0.90625 | Z22: 0.91666667 | AA22: 0.92708333 | AB22: 0.9375 | AC22: 0.94791667 | AD22: 0.95833333 | AN22: 0.20833333 | AO22: 1 | AP22: 0
A23: 0.54166667 | C23: 0.70833333 | D23: 0.71875 | E23: 0.72916667 | F23: 0.73958333 | G23: 0.75 | H23: 0.76041667 | I23: 0.77083333 | J23: 0.78125 | L23: 0.79166667 | M23: 0.80208333 | N23: 0.8125 | O23: 0.82291667 | P23: 0.83333333 | Q23: 0.84375 | S23: 0.85416667 | T23: 0.86458333 | U23: 0.875 | V23: 0.88541667 | W23: 0.89583333 | X23: 0.90625 | Y23: 0.91666667 | Z23: 0.92708333 | AA23: 0.9375 | AB23: 0.94791667 | AC23: 0.95833333 | AN23: 0.21875 | AO23: 1 | AP23: 0
A24: 0.55208333 | C24: 0.71875 | D24: 0.72916667 | E24: 0.73958333 | F24: 0.75 | G24: 0.76041667 | H24: 0.77083333 | I24: 0.78125 | J24: 0.79166667 | L24: 0.80208333 | M24: 0.8125 | N24: 0.82291667 | O24: 0.83333333 | P24: 0.84375 | Q24: 0.85416667 | S24: 0.86458333 | T24: 0.875 | U24: 0.88541667 | V24: 0.89583333 | W24: 0.90625 | X24: 0.91666667 | Y24: 0.92708333 | Z24: 0.9375 | AA24: 0.94791667 | AB24: 0.95833333 | AN24: 0.22916667 | AO24: 1 | AP24: 0
A25: 0.5625 | C25: 0.72916667 | D25: 0.73958333 | E25: 0.75 | F25: 0.76041667 | G25: 0.77083333 | H25: 0.78125 | I25: 0.79166667 | J25: 0.80208333 | L25: 0.8125 | M25: 0.82291667 | N25: 0.83333333 | O25: 0.84375 | P25: 0.85416667 | Q25: 0.86458333 | S25: 0.875 | T25: 0.88541667 | U25: 0.89583333 | V25: 0.90625 | W25: 0.91666667 | X25: 0.92708333 | Y25: 0.9375 | Z25: 0.94791667 | AA25: 0.95833333 | AN25: 0.23958333 | AO25: 1 | AP25: 0
A26: 0.57291667 | C26: 0.73958333 | D26: 0.75 | E26: 0.76041667 | F26: 0.77083333 | G26: 0.78125 | H26: 0.79166667 | I26: 0.80208333 | J26: 0.8125 | L26: 0.82291667 | M26: 0.83333333 | N26: 0.84375 | O26: 0.85416667 | P26: 0.86458333 | Q26: 0.875 | S26: 0.88541667 | T26: 0.89583333 | U26: 0.90625 | V26: 0.91666667 | W26: 0.92708333 | X26: 0.9375 | Y26: 0.94791667 | Z26: 0.95833333 | AN26: 0.25 | AO26: 2 | AP26: 0
A27: 0.58333333 | C27: 0.75 | D27: 0.76041667 | E27: 0.77083333 | F27: 0.78125 | G27: 0.79166667 | H27: 0.80208333 | I27: 0.8125 | J27: 0.82291667 | L27: 0.83333333 | M27: 0.84375 | N27: 0.85416667 | O27: 0.86458333 | P27: 0.875 | Q27: 0.88541667 | S27: 0.89583333 | T27: 0.90625 | U27: 0.91666667 | V27: 0.92708333 | W27: 0.9375 | X27: 0.94791667 | Y27: 0.95833333 | AN27: 0.26041667 | AO27: 2 | AP27: 0
A28: 0.59375 | C28: 0.76041667 | D28: 0.77083333 | E28: 0.78125 | F28: 0.79166667 | G28: 0.80208333 | H28: 0.8125 | I28: 0.82291667 | J28: 0.83333333 | L28: 0.84375 | M28: 0.85416667 | N28: 0.86458333 | O28: 0.875 | P28: 0.88541667 | Q28: 0.89583333 | S28: 0.90625 | T28: 0.91666667 | U28: 0.92708333 | V28: 0.9375 | W28: 0.94791667 | X28: 0.95833333 | AN28: 0.27083333 | AO28: 2 | AP28: 0
A29: 0.60416667 | C29: 0.77083333 | D29: 0.78125 | E29: 0.79166667 | F29: 0.80208333 | G29: 0.8125 | H29: 0.82291667 | I29: 0.83333333 | J29: 0.84375 | L29: 0.85416667 | M29: 0.86458333 | N29: 0.875 | O29: 0.88541667 | P29: 0.89583333 | Q29: 0.90625 | S29: 0.91666667 | T29: 0.92708333 | U29: 0.9375 | V29: 0.94791667 | W29: 0.95833333 | AN29: 0.28125 | AO29: 2 | AP29: 0
A30: 0.61458333 | C30: 0.78125 | D30: 0.79166667 | E30: 0.80208333 | F30: 0.8125 | G30: 0.82291667 | H30: 0.83333333 | I30: 0.84375 | J30: 0.85416667 | L30: 0.86458333 | M30: 0.875 | N30: 0.88541667 | O30: 0.89583333 | P30: 0.90625 | Q30: 0.91666667 | S30: 0.92708333 | T30: 0.9375 | U30: 0.94791667 | V30: 0.95833333 | AN30: 0.29166667 | AO30: 2 | AP30: 0
A31: 0.625 | C31: 0.79166667 | D31: 0.80208333 | E31: 0.8125 | F31: 0.82291667 | G31: 0.83333333 | H31: 0.84375 | I31: 0.85416667 | J31: 0.86458333 | L31: 0.875 | M31: 0.88541667 | N31: 0.89583333 | O31: 0.90625 | P31: 0.91666667 | Q31: 0.92708333 | S31: 0.9375 | T31: 0.94791667 | U31: 0.95833333 | AN31: 0.30208333 | AO31: 2 | AP31: 0
A32: 0.63541667 | C32: 0.80208333 | D32: 0.8125 | E32: 0.82291667 | F32: 0.83333333 | G32: 0.84375 | H32: 0.85416667 | I32: 0.86458333 | J32: 0.875 | L32: 0.88541667 | M32: 0.89583333 | N32: 0.90625 | O32: 0.91666667 | P32: 0.92708333 | Q32: 0.9375 | S32: 0.94791667 | T32: 0.95833333 | AN32: 0.3125 | AO32: 2 | AP32: 1
A33: 0.64583333 | C33: 0.8125 | D33: 0.82291667 | E33: 0.83333333 | F33: 0.84375 | G33: 0.85416667 | H33: 0.86458333 | I33: 0.875 | J33: 0.88541667 | L33: 0.89583333 | M33: 0.90625 | N33: 0.91666667 | O33: 0.92708333 | P33: 0.9375 | Q33: 0.94791667 | S33: 0.95833333 | AN33: 0.32291667 | AO33: 2 | AP33: 1
A34: 0.65625 | C34: 0.82291667 | D34: 0.83333333 | E34: 0.84375 | F34: 0.85416667 | G34: 0.86458333 | H34: 0.875 | I34: 0.88541667 | J34: 0.89583333 | L34: 0.90625 | M34: 0.91666667 | N34: 0.92708333 | O34: 0.9375 | P34: 0.94791667 | Q34: 0.95833333 | AN34: 0.33333333 | AO34: 2 | AP34: 1
A35: 0.66666667 | C35: 0.83333333 | D35: 0.84375 | E35: 0.85416667 | F35: 0.86458333 | G35: 0.875 | H35: 0.88541667 | I35: 0.89583333 | J35: 0.90625 | L35: 0.91666667 | M35: 0.92708333 | N35: 0.9375 | O35: 0.94791667 | P35: 0.95833333 | AN35: 0.34375 | AO35: 2 | AP35: 1
A36: 0.67708333 | C36: 0.84375 | D36: 0.85416667 | E36: 0.86458333 | F36: 0.875 | G36: 0.88541667 | H36: 0.89583333 | I36: 0.90625 | J36: 0.91666667 | L36: 0.92708333 | M36: 0.9375 | N36: 0.94791667 | O36: 0.95833333 | AN36: 0.35416667 | AO36: 2 | AP36: 1
A37: 0.6875 | C37: 0.85416667 | D37: 0.86458333 | E37: 0.875 | F37: 0.88541667 | G37: 0.89583333 | H37: 0.90625 | I37: 0.91666667 | J37: 0.92708333 | L37: 0.9375 | M37: 0.94791667 | N37: 0.95833333 | AN37: 0.36458333 | AO37: 2 | AP37: 1
A38: 0.69791667 | C38: 0.86458333 | D38: 0.875 | E38: 0.88541667 | F38: 0.89583333 | G38: 0.90625 | H38: 0.91666667 | I38: 0.92708333 | J38: 0.9375 | L38: 0.94791667 | M38: 0.95833333 | AN38: 0.375 | AO38: 2 | AP38: 1
A39: 0.70833333 | C39: 0.875 | D39: 0.88541667 | E39: 0.89583333 | F39: 0.90625 | G39: 0.91666667 | H39: 0.92708333 | I39: 0.9375 | J39: 0.94791667 | L39: 0.95833333 | AN39: 0.38541667 | AO39: 2 | AP39: 1
A40: 0.71875 | C40: 0.88541667 | D40: 0.89583333 | E40: 0.90625 | F40: 0.91666667 | G40: 0.92708333 | H40: 0.9375 | I40: 0.94791667 | J40: 0.95833333 | AN40: 0.39583333 | AO40: 2 | AP40: 1
A41: 0.72916667 | C41: 0.89583333 | D41: 0.90625 | E41: 0.91666667 | F41: 0.92708333 | G41: 0.9375 | H41: 0.94791667 | I41: 0.95833333 | AN41: 0.40625 | AO41: 2 | AP41: 1
...

Sheet Paies
B1: JOUR PAIE | C1: PRÉVISION SALAIRE | I1: À CE JOUR | J1: =SUM(F2:F55) -> 0
B2: 43888 | C2: 43870 | D2: au | E2: 43876
K3: Colonne B: Jour de paie à titre indicatif. Chaque paie apparaît le mercredi de chaque semaine. Serait-il possible de les ajouter automatiquement lorsqu'une semaine est ajoutée dans la Feuille de temps? Sinon, inscrire manuellement. Les dates sont groupées par mois.
B4: =$B2+7 -> 43895 | C4: =C2+7 -> 43877 | D4: au | E4: =E2+7 -> 43883 | K4: Colonne C: Le montant payé en B est le total d'une semaine antérieure (2 semaines plus tôt) Exemple: Si B= 27 février, inscrire la date du 09 février. Possible de le faire automatiquement?
B5: =$B4+7 -> 43902 | C5: =C4+7 -> 43884 | D5: au | E5: =E4+7 -> 43890 | K5: Colonne D: Texte, question esthétique.
B6: =$B5+7 -> 43909 | C6: =C5+7 -> 43891 | D6: au | E6: =E5+7 -> 43897 | K6: Colonne E: Fin de la semaine mentionnée en C, question esthétique. Possible d'ajouter automatiquement?
B7: =$B6+7 -> 43916 | C7: =C6+7 -> 43898 | D7: au | E7: =E6+7 -> 43904 | G7: T: | H7: =SUM(F4:F7) -> 0 | K7: Colonne F: J'aimerais ajouter automatiquement le montant en O de la FEUILLE DE TEMPS, selon la date inscrite en B.
K8: Colonne G: Explicatif de total, simplement esthétique.
B9: =$B7+7 -> 43923 | C9: =C7+7 -> 43905 | D9: au | E9: =E7+7 -> 43911 | K9: Colonne H: Total automatique des montants inscrits en F. Formule: =SUM(F4:F7)
B10: =$B9+7 -> 43930 | C10: =C9+7 -> 43912 | D10: au | E10: =E9+7 -> 43918
B11: =$B10+7 -> 43937 | C11: =C10+7 -> 43919 | D11: au | E11: =E10+7 -> 43925
B12: =$B11+7 -> 43944 | C12: =C11+7 -> 43926 | D12: au | E12: =E11+7 -> 43932
B13: =$B12+7 -> 43951 | C13: =C12+7 -> 43933 | D13: au | E13: =E12+7 -> 43939 | G13: T: | H13: =SUM(F8:F12) -> 0
B15: =$B13+7 -> 43958 | C15: =C13+7 -> 43940 | D15: au | E15: =E13+7 -> 43946
B16: =$B15+7 -> 43965 | C16: =C15+7 -> 43947 | D16: au | E16: =E15+7 -> 43953
B17: =$B16+7 -> 43972 | C17: =C16+7 -> 43954 | D17: au | E17: =E16+7 -> 43960
B18: =$B17+7 -> 43979 | C18: =C17+7 -> 43961 | D18: au | E18: =E17+7 -> 43967 | G18: T: | H18: =SUM(F14:F17) -> 0
B20: =$B18+7 -> 43986 | C20: =C18+7 -> 43968 | D20: au | E20: =E18+7 -> 43974
B21: =$B20+7 -> 43993 | C21: =C20+7 -> 43975 | D21: au | E21: =E20+7 -> 43981
B22: =$B21+7 -> 44000 | C22: =C21+7 -> 43982 | D22: au | E22: =E21+7 -> 43988
B23: =$B22+7 -> 44007 | C23: =C22+7 -> 43989 | D23: au | E23: =E22+7 -> 43995 | G23: T: | H23: =SUM(F19:F22) -> 0
B25: =$B23+7 -> 44014 | C25: =C23+7 -> 43996 | D25: au | E25: =E23+7 -> 44002
B26: =$B25+7 -> 44021 | C26: =C25+7 -> 44003 | D26: au | E26: =E25+7 -> 44009
B27: =$B26+7 -> 44028 | C27: =C26+7 -> 44010 | D27: au | E27: =E26+7 -> 44016
B28: =$B27+7 -> 44035 | C28: =C27+7 -> 44017 | D28: au | E28: =E27+7 -> 44023
B29: =$B28+7 -> 44042 | C29: =C28+7 -> 44024 | D29: au | E29: =E28+7 -> 44030 | G29: T: | H29: =SUM(F24:F28) -> 0
B31: =$B29+7 -> 44049 | C31: =C29+7 -> 44031 | D31: au | E31: =E29+7 -> 44037
B32: =$B31+7 -> 44056 | C32: =C31+7 -> 44038 | D32: au | E32: =E31+7 -> 44044
B33: =$B32+7 -> 44063 | C33: =C32+7 -> 44045 | D33: au | E33: =E32+7 -> 44051
B34: =$B33+7 -> 44070 | C34: =C33+7 -> 44052 | D34: au | E34: =E33+7 -> 44058 | G34: T: | H34: =SUM(F30:F33) -> 0
B36: =$B34+7 -> 44077 | C36: =C34+7 -> 44059 | D36: au | E36: =E34+7 -> 44065
B37: =$B36+7 -> 44084 | C37: =C36+7 -> 44066 | D37: au | E37: =E36+7 -> 44072
B38: =$B37+7 -> 44091 | C38: =C37+7 -> 44073 | D38: au | E38: =E37+7 -> 44079
B39: =$B38+7 -> 44098 | C39: =C38+7 -> 44080 | D39: au | E39: =E38+7 -> 44086
B40: =$B39+7 -> 44105 | C40: =C39+7 -> 44087 | D40: au | E40: =E39+7 -> 44093 | G40: T: | H40: =SUM(F35:F39) -> 0
B42: =$B40+7 -> 44112 | C42: =C40+7 -> 44094 | D42: au | E42: =E40+7 -> 44100
B43: =$B42+7 -> 44119 | C43: =C42+7 -> 44101 | D43: au | E43: =E42+7 -> 44107
B44: =$B43+7 -> 44126 | C44: =C43+7 -> 44108 | D44: au | E44: =E43+7 -> 44114
B45: =$B44+7 -> 44133 | C45: =C44+7 -> 44115 | D45: au | E45: =E44+7 -> 44121 | G45: T: | H45: =SUM(F41:F44) -> 0
B47: =$B45+7 -> 44140 | C47: =C45+7 -> 44122 | D47: au | E47: =E45+7 -> 44128
...

Sheet Options
A1: POSTES | D1: REPAS | F1: SUCCURSALES | J1: DÉDUCTIONS STATUAIRES | N1: AUTRES DÉDUCTIONS
B2: CV | C2: 20.46 | D2: 12.65 | F2: Express Charest | G2: 33524 | I2: Impôt sur revenu / normal | L2: ? | N2: Cotisation SEMB | P2: ?
B3: COS | C3: 23.38 | F3: St-Sacrement | G3: 33606 | I3: Cotisation salaire RRQ | L3: ? | N3: Cotisation RREGOP | P3: 0.058
B4: FORM | C4: 20.46 | F4: Maguire | G4: 33538 | I4: Cotisation salaire AE | L4: ?
F5: St-Louis | G5: 33595 | I5: QC/Impôt sur revenu/norm. | L5: ?
G6: DOM | I6: QC/Cotisation employé RQAP | L6: ?
A8: * Les tableaux DÉDUCTIONS STATUAIRES et AUTRES DÉDUCTIONS seront à travailler plus tard selon des chiffres et pourcentages établis.
