Workbook
Name _05_DARTY_RHONE_ALPES: #REF!
Name _05_DARTY_RHONE_ALPES: #REF!
Name _05_DARTY_RHONE_ALPES: #REF!
Name _BAL061: [4]BALANCE!$C$1:$E$65536
Name _INS8: #REF!
Name _INS8: #REF!
Name _INS8: #REF!
Name _TCD1: [5]tcd!$A$1:$P$14
Name _TCD2: [6]TCD2!$A$1:$O$36
Name _TCD3: [6]TCD3!$A$1:$O$36
Name _TCD4: [6]TCD4!$A$1:$O$36
Name AG: [7]tables!$G$8:$H$10
Name AS: [8]!synth
Name AS: [8]!synth
Name AS: [8]!synth
Name AZ: [9]!Module2.synth
Name AZ: [9]!Module2.synth
Name AZ: [9]!Module2.synth
Name b: [10]Tables!$D$1:$K$13
Name bdd: #REF!
Name bdd: #REF!
Name bdd: #REF!
Name BU: #REF!
Name BU: #REF!
Name BU: #REF!
Name CA_enseigne_N: #REF!
Name CA_enseigne_N: #REF!
Name CA_enseigne_N: #REF!
Name Col_AccTyp: #REF!
Name Col_AccTyp: #REF!
Name Col_AccTyp: #REF!
Name Col_Att1: #REF!
Name Col_Att1: #REF!
Name Col_Att1: #REF!
Name Col_Att2: #REF!
Name Col_Att2: #REF!
Name Col_Att2: #REF!
Name Col_Att3: #REF!
Name Col_Att3: #REF!
Name Col_Att3: #REF!
Name Col_Conso: #REF!
Name Col_Conso: #REF!
Name Col_Conso: #REF!
Name Col_ConsoBS: #REF!
Name Col_ConsoBS: #REF!
Name Col_ConsoBS: #REF!
Name Col_ConsoPeople: #REF!
Name Col_ConsoPeople: #REF!
Name Col_ConsoPeople: #REF!
Name Col_DataSto: #REF!
Name Col_DataSto: #REF!
Name Col_DataSto: #REF!
Name Col_DataTyp: #REF!
Name Col_DataTyp: #REF!
Name Col_DataTyp: #REF!
Name Col_Description: #REF!
Name Col_Description: #REF!
Name Col_Description: #REF!
Name Col_Devises: #REF!
Name Col_Devises: #REF!

Sheet LLD (24m)
F2: Hypothèses 24 mois
F3: Encours LLD 24 | G3: 24
F4: % upgrade | G4: 0.6
F5: Mois upgrage | G5: 16
F7: Mois | G7: 1 | H7: =G7+1 -> 2 | I7: =H7+1 -> 3 | J7: =I7+1 -> 4 | K7: =J7+1 -> 5 | L7: =K7+1 -> 6 | M7: =L7+1 -> 7 | N7: =M7+1 -> 8 | O7: =N7+1 -> 9 | ... AD7: =AC7+1 -> 24
F8: Encours fin | G8: ='[1]24 mois smartphone upg'!D89 -> 674.75083 | H8: ='[1]24 mois smartphone upg'!E89 -> 654.86463 | I8: ='[1]24 mois smartphone upg'!F89 -> 634.76242 | J8: ='[1]24 mois smartphone upg'!G89 -> 614.44184 | K8: ='[1]24 mois smartphone upg'!H89 -> 593.90053 | L8: ='[1]24 mois smartphone upg'!I89 -> 573.13609 | M8: ='[1]24 mois smartphone upg'!J89 -> 552.14608 | N8: ='[1]24 mois smartphone upg'!K89 -> 530.92807 | ... AD8: ='[1]24 mois smartphone upg'!AA89 -> 158.325
F9: Agios dossier unitaire | G9: ='[1]24 mois smartphone upg'!D95 -> 7.2508266 | H9: ='[1]24 mois smartphone upg'!E95 -> 7.0371309 | I9: ='[1]24 mois smartphone upg'!F95 -> 6.8211139 | J9: ='[1]24 mois smartphone upg'!G95 -> 6.6027503 | K9: ='[1]24 mois smartphone upg'!H95 -> 6.3820148 | L9: ='[1]24 mois smartphone upg'!I95 -> 6.1588815 | M9: ='[1]24 mois smartphone upg'!J95 -> 5.9333243 | N9: ='[1]24 mois smartphone upg'!K95 -> 5.705317 | ... AD9: ='[1]24 mois smartphone upg'!AA95 -> 1.7013497
F12: Evolution portefeuille type 24 mois Check
F13: Encours upgrade 1 | V13: 1 | W13: =1+V13 -> 2 | X13: =1+W13 -> 3 | Y13: =1+X13 -> 4 | Z13: =1+Y13 -> 5 | AA13: =1+Z13 -> 6 | AB13: =1+AA13 -> 7 | AC13: =1+AB13 -> 8 | AD13: =1+AC13 -> 9 | ... AS13: =1+AR13 -> 24
F14: Encours upgrade 2 | AK14: 1 | AL14: =1+AK14 -> 2 | AM14: =1+AL14 -> 3 | AN14: =1+AM14 -> 4 | AO14: =1+AN14 -> 5 | AP14: =1+AO14 -> 6 | AQ14: =1+AP14 -> 7 | AR14: =1+AQ14 -> 8 | AS14: =1+AR14 -> 9 | ... BH14: =1+BG14 -> 24
F15: Encours upgrade 3 | AZ15: 1 | BA15: =1+AZ15 -> 2 | BB15: =1+BA15 -> 3 | BC15: =1+BB15 -> 4 | BD15: =1+BC15 -> 5 | BE15: =1+BD15 -> 6 | BF15: =1+BE15 -> 7 | BG15: =1+BF15 -> 8 | BH15: =1+BG15 -> 9 | ... BW15: =1+BV15 -> 24
F16: Mois | G16: 1 | H16: =1+G16 -> 2 | I16: =1+H16 -> 3 | J16: =1+I16 -> 4 | K16: =1+J16 -> 5 | L16: =1+K16 -> 6 | M16: =1+L16 -> 7 | N16: =1+M16 -> 8 | O16: =1+N16 -> 9 | ... BZ16: =1+BY16 -> 72
F18: Encours LLD 24m | G18: ='[1]24 mois smartphone upg'!D103 -> 158.33333 | H18: =IF(H16>24,0,IF(H16<$G$5,$G$18,(1-$G$4)*$G$18)) -> 158.33333 | I18: =IF(I16>24,0,IF(I16<$G$5,$G$18,(1-$G$4)*$G$18)) -> 158.33333 | J18: =IF(J16>24,0,IF(J16<$G$5,$G$18,(1-$G$4)*$G$18)) -> 158.33333 | K18: =IF(K16>24,0,IF(K16<$G$5,$G$18,(1-$G$4)*$G$18)) -> 158.33333 | L18: =IF(L16>24,0,IF(L16<$G$5,$G$18,(1-$G$4)*$G$18)) -> 158.33333 | M18: =IF(M16>24,0,IF(M16<$G$5,$G$18,(1-$G$4)*$G$18)) -> 158.33333 | N18: =IF(N16>24,0,IF(N16<$G$5,$G$18,(1-$G$4)*$G$18)) -> 158.33333 | O18: =IF(O16>24,0,IF(O16<$G$5,$G$18,(1-$G$4)*$G$18)) -> 158.33333 | ... BZ18: =IF(BZ16>24,0,IF(BZ16<$G$5,$G$18,(1-$G$4)*$G$18)) -> 0
E19: 1 | F19: Encours upgrade 1 | G19: =IF(G16>($G$3+$G$5),0,IF(AND(G16<($G$5+$G$5-1),G16>($E$19*($G$5-1))),($G$18*$G$4),IF(AND(G16<($G$3+$G$5),G16>($G$5+$G$5-2)),$G$18*$G$4*(1-$G$4),IF(AND(G16>($G$3+$G$5)),$G$18*$G$4*(1-$G$4)*0,0)))) -> 0 | H19: =IF(H16>($G$3+$G$5),0,IF(AND(H16<($G$5+$G$5-1),H16>($E$19*($G$5-1))),($G$18*$G$4),IF(AND(H16<($G$3+$G$5),H16>($G$5+$G$5-2)),$G$18*$G$4*(1-$G$4),IF(AND(H16>($G$3+$G$5)),$G$18*$G$4*(1-$G$4)*0,0)))) -> 0 | I19: =IF(I16>($G$3+$G$5),0,IF(AND(I16<($G$5+$G$5-1),I16>($E$19*($G$5-1))),($G$18*$G$4),IF(AND(I16<($G$3+$G$5),I16>($G$5+$G$5-2)),$G$18*$G$4*(1-$G$4),IF(AND(I16>($G$3+$G$5)),$G$18*$G$4*(1-$G$4)*0,0)))) -> 0 | J19: =IF(J16>($G$3+$G$5),0,IF(AND(J16<($G$5+$G$5-1),J16>($E$19*($G$5-1))),($G$18*$G$4),IF(AND(J16<($G$3+$G$5),J16>($G$5+$G$5-2)),$G$18*$G$4*(1-$G$4),IF(AND(J16>($G$3+$G$5)),$G$18*$G$4*(1-$G$4)*0,0)))) -> 0 | K19: =IF(K16>($G$3+$G$5),0,IF(AND(K16<($G$5+$G$5-1),K16>($E$19*($G$5-1))),($G$18*$G$4),IF(AND(K16<($G$3+$G$5),K16>($G$5+$G$5-2)),$G$18*$G$4*(1-$G$4),IF(AND(K16>($G$3+$G$5)),$G$18*$G$4*(1-$G$4)*0,0)))) -> 0 | L19: =IF(L16>($G$3+$G$5),0,IF(AND(L16<($G$5+$G$5-1),L16>($E$19*($G$5-1))),($G$18*$G$4),IF(AND(L16<($G$3+$G$5),L16>($G$5+$G$5-2)),$G$18*$G$4*(1-$G$4),IF(AND(L16>($G$3+$G$5)),$G$18*$G$4*(1-$G$4)*0,0)))) -> 0 | M19: =IF(M16>($G$3+$G$5),0,IF(AND(M16<($G$5+$G$5-1),M16>($E$19*($G$5-1))),($G$18*$G$4),IF(AND(M16<($G$3+$G$5),M16>($G$5+$G$5-2)),$G$18*$G$4*(1-$G$4),IF(AND(M16>($G$3+$G$5)),$G$18*$G$4*(1-$G$4)*0,0)))) -> 0 | N19: =IF(N16>($G$3+$G$5),0,IF(AND(N16<($G$5+$G$5-1),N16>($E$19*($G$5-1))),($G$18*$G$4),IF(AND(N16<($G$3+$G$5),N16>($G$5+$G$5-2)),$G$18*$G$4*(1-$G$4),IF(AND(N16>($G$3+$G$5)),$G$18*$G$4*(1-$G$4)*0,0)))) -> 0 | ... BZ19: =IF(BZ16>($G$3+$G$5),0,IF(AND(BZ16<($G$5+$G$5-1),BZ16>($E$19*($G$5-1))),($G$18*$G$4),IF(AND(BZ16<($G$3+$G$5),BZ16>($G$5+$G$5-2)),$G$18*$G$4*(1-$G$4),IF(AND(BZ16>($G$3+$G$5)),$G$18*$G$4*(1-$G$4)*0,0)))) -> 0
E20: 2 | F20: Encours upgrade 2 | G20: =IF(G16>($G$3+$G$5+$G$5),0,IF(AND(G16<($G$5+$G$5+$G$5-2),G16>($E$20*$G$5-2)),$G$18*($G$4*$G$4),IF(AND(G16<($G$5+$G$5+$G$3-1),G16>($G$5+$G$5+$G$5-3)),$G$18*$G$4*$G$4*(1-$G$4),0))) -> 0 | H20: =IF(H16>($G$3+$G$5+$G$5),0,IF(AND(H16<($G$5+$G$5+$G$5-2),H16>($E$20*$G$5-2)),$G$18*($G$4*$G$4),IF(AND(H16<($G$5+$G$5+$G$3-1),H16>($G$5+$G$5+$G$5-3)),$G$18*$G$4*$G$4*(1-$G$4),0))) -> 0 | I20: =IF(I16>($G$3+$G$5+$G$5),0,IF(AND(I16<($G$5+$G$5+$G$5-2),I16>($E$20*$G$5-2)),$G$18*($G$4*$G$4),IF(AND(I16<($G$5+$G$5+$G$3-1),I16>($G$5+$G$5+$G$5-3)),$G$18*$G$4*$G$4*(1-$G$4),0))) -> 0 | J20: =IF(J16>($G$3+$G$5+$G$5),0,IF(AND(J16<($G$5+$G$5+$G$5-2),J16>($E$20*$G$5-2)),$G$18*($G$4*$G$4),IF(AND(J16<($G$5+$G$5+$G$3-1),J16>($G$5+$G$5+$G$5-3)),$G$18*$G$4*$G$4*(1-$G$4),0))) -> 0 | K20: =IF(K16>($G$3+$G$5+$G$5),0,IF(AND(K16<($G$5+$G$5+$G$5-2),K16>($E$20*$G$5-2)),$G$18*($G$4*$G$4),IF(AND(K16<($G$5+$G$5+$G$3-1),K16>($G$5+$G$5+$G$5-3)),$G$18*$G$4*$G$4*(1-$G$4),0))) -> 0 | L20: =IF(L16>($G$3+$G$5+$G$5),0,IF(AND(L16<($G$5+$G$5+$G$5-2),L16>($E$20*$G$5-2)),$G$18*($G$4*$G$4),IF(AND(L16<($G$5+$G$5+$G$3-1),L16>($G$5+$G$5+$G$5-3)),$G$18*$G$4*$G$4*(1-$G$4),0))) -> 0 | M20: =IF(M16>($G$3+$G$5+$G$5),0,IF(AND(M16<($G$5+$G$5+$G$5-2),M16>($E$20*$G$5-2)),$G$18*($G$4*$G$4),IF(AND(M16<($G$5+$G$5+$G$3-1),M16>($G$5+$G$5+$G$5-3)),$G$18*$G$4*$G$4*(1-$G$4),0))) -> 0 | N20: =IF(N16>($G$3+$G$5+$G$5),0,IF(AND(N16<($G$5+$G$5+$G$5-2),N16>($E$20*$G$5-2)),$G$18*($G$4*$G$4),IF(AND(N16<($G$5+$G$5+$G$3-1),N16>($G$5+$G$5+$G$5-3)),$G$18*$G$4*$G$4*(1-$G$4),0))) -> 0 | ... BZ20: =IF(BZ16>($G$3+$G$5+$G$5),0,IF(AND(BZ16<($G$5+$G$5+$G$5-2),BZ16>($E$20*$G$5-2)),$G$18*($G$4*$G$4),IF(AND(BZ16<($G$5+$G$5+$G$3-1),BZ16>($G$5+$G$5+$G$5-3)),$G$18*$G$4*$G$4*(1-$G$4),0))) -> 0
E21: 3 | F21: Encours upgrade 3 | G21: =IF(G16>($G$3+$G$5+$G$5+$G$5),0,IF(AND(G16<($G$5+$G$5+$G$5+$G$5),G16>($E$21*$G$5-1)),$G$18*($G$4*$G$4*$G$4),IF(AND(G16<($G$5+$G$5+$G$5+$G$3),G16>($G$5+$G$5+$G$5+$G$5-1)),$G$18*$G$4*$G$4*$G$4*(1-$G$4),0))) -> 0 | H21: =IF(H16>($G$3+$G$5+$G$5+$G$5),0,IF(AND(H16<($G$5+$G$5+$G$5+$G$5),H16>($E$21*$G$5-1)),$G$18*($G$4*$G$4*$G$4),IF(AND(H16<($G$5+$G$5+$G$5+$G$3),H16>($G$5+$G$5+$G$5+$G$5-1)),$G$18*$G$4*$G$4*$G$4*(1-$G$4),0))) -> 0 | I21: =IF(I16>($G$3+$G$5+$G$5+$G$5),0,IF(AND(I16<($G$5+$G$5+$G$5+$G$5),I16>($E$21*$G$5-1)),$G$18*($G$4*$G$4*$G$4),IF(AND(I16<($G$5+$G$5+$G$5+$G$3),I16>($G$5+$G$5+$G$5+$G$5-1)),$G$18*$G$4*$G$4*$G$4*(1-$G$4),0))) -> 0 | J21: =IF(J16>($G$3+$G$5+$G$5+$G$5),0,IF(AND(J16<($G$5+$G$5+$G$5+$G$5),J16>($E$21*$G$5-1)),$G$18*($G$4*$G$4*$G$4),IF(AND(J16<($G$5+$G$5+$G$5+$G$3),J16>($G$5+$G$5+$G$5+$G$5-1)),$G$18*$G$4*$G$4*$G$4*(1-$G$4),0))) -> 0 | K21: =IF(K16>($G$3+$G$5+$G$5+$G$5),0,IF(AND(K16<($G$5+$G$5+$G$5+$G$5),K16>($E$21*$G$5-1)),$G$18*($G$4*$G$4*$G$4),IF(AND(K16<($G$5+$G$5+$G$5+$G$3),K16>($G$5+$G$5+$G$5+$G$5-1)),$G$18*$G$4*$G$4*$G$4*(1-$G$4),0))) -> 0 | L21: =IF(L16>($G$3+$G$5+$G$5+$G$5),0,IF(AND(L16<($G$5+$G$5+$G$5+$G$5),L16>($E$21*$G$5-1)),$G$18*($G$4*$G$4*$G$4),IF(AND(L16<($G$5+$G$5+$G$5+$G$3),L16>($G$5+$G$5+$G$5+$G$5-1)),$G$18*$G$4*$G$4*$G$4*(1-$G$4),0))) -> 0 | M21: =IF(M16>($G$3+$G$5+$G$5+$G$5),0,IF(AND(M16<($G$5+$G$5+$G$5+$G$5),M16>($E$21*$G$5-1)),$G$18*($G$4*$G$4*$G$4),IF(AND(M16<($G$5+$G$5+$G$5+$G$3),M16>($G$5+$G$5+$G$5+$G$5-1)),$G$18*$G$4*$G$4*$G$4*(1-$G$4),0))) -> 0 | N21: =IF(N16>($G$3+$G$5+$G$5+$G$5),0,IF(AND(N16<($G$5+$G$5+$G$5+$G$5),N16>($E$21*$G$5-1)),$G$18*($G$4*$G$4*$G$4),IF(AND(N16<($G$5+$G$5+$G$5+$G$3),N16>($G$5+$G$5+$G$5+$G$5-1)),$G$18*$G$4*$G$4*$G$4*(1-$G$4),0))) -> 0 | ... AX21: =IF(AX16>($G$3+$G$5+$G$5+$G$5),0,IF(AND(AX16<($G$5+$G$5+$G$5+$G$5),AX16>($E$21*$G$5-1)),$G$18*($G$4*$G$4*$G$4),IF(AND(AX16<($G$5+$G$5+$G$5+$G$3),AX16>($G$5+$G$5+$G$5+$G$5-1)),$G$18*$G$4*$G$4*$G$4*(1-$G$4),0))) -> 0 | AY21: =IF(AY16>($G$3+$G$5+$G$5+$G$5),0,IF(AND(AY16<($G$5+$G$5+$G$5+$G$5-2),AY16>($E$21*$G$5-3)),$G$18*($G$4*$G$4*$G$4),IF(AND(AY16<($G$5+$G$5+$G$5+$G$3),AY16>($G$5+$G$5+$G$5+$G$5-3)),$G$18*$G$4*$G$4*$G$4*(1-$G$4),0))) -> 0 | AZ21: =IF(AZ16>($G$3+$G$5+$G$5+$G$5),0,IF(AND(AZ16<($G$5+$G$5+$G$5+$G$5-2),AZ16>($E$21*$G$5-3)),$G$18*($G$4*$G$4*$G$4),IF(AND(AZ16<($G$5+$G$5+$G$5+$G$3),AZ16>($G$5+$G$5+$G$5+$G$5-3)),$G$18*$G$4*$G$4*$G$4*(1-$G$4),0))) -> 34.2 | BA21: =IF(BA16>($G$3+$G$5+$G$5+$G$5),0,IF(AND(BA16<($G$5+$G$5+$G$5+$G$5-2),BA16>($E$21*$G$5-3)),$G$18*($G$4*$G$4*$G$4),IF(AND(BA16<($G$5+$G$5+$G$5+$G$3),BA16>($G$5+$G$5+$G$5+$G$5-3)),$G$18*$G$4*$G$4*$G$4*(1-$G$4),0))) -> 34.2 | BB21: =IF(BB16>($G$3+$G$5+$G$5+$G$5),0,IF(AND(BB16<($G$5+$G$5+$G$5+$G$5-2),BB16>($E$21*$G$5-3)),$G$18*($G$4*$G$4*$G$4),IF(AND(BB16<($G$5+$G$5+$G$5+$G$3),BB16>($G$5+$G$5+$G$5+$G$5-3)),$G$18*$G$4*$G$4*$G$4*(1-$G$4),0))) -> 34.2 | BC21: =IF(BC16>($G$3+$G$5+$G$5+$G$5),0,IF(AND(BC16<($G$5+$G$5+$G$5+$G$5-2),BC16>($E$21*$G$5-3)),$G$18*($G$4*$G$4*$G$4),IF(AND(BC16<($G$5+$G$5+$G$5+$G$3),BC16>($G$5+$G$5+$G$5+$G$5-3)),$G$18*$G$4*$G$4*$G$4*(1-$G$4),0))) -> 34.2 | BD21: =IF(BD16>($G$3+$G$5+$G$5+$G$5),0,IF(AND(BD16<($G$5+$G$5+$G$5+$G$5-2),BD16>($E$21*$G$5-3)),$G$18*($G$4*$G$4*$G$4),IF(AND(BD16<($G$5+$G$5+$G$5+$G$3),BD16>($G$5+$G$5+$G$5+$G$5-3)),$G$18*$G$4*$G$4*$G$4*(1-$G$4),0))) -> 34.2 | BE21: =IF(BE16>($G$3+$G$5+$G$5+$G$5),0,IF(AND(BE16<($G$5+$G$5+$G$5+$G$5-2),BE16>($E$21*$G$5-3)),$G$18*($G$4*$G$4*$G$4),IF(AND(BE16<($G$5+$G$5+$G$5+$G$3),BE16>($G$5+$G$5+$G$5+$G$5-3)),$G$18*$G$4*$G$4*$G$4*(1-$G$4),0))) -> 34.2 | BF21: =IF(BF16>($G$3+$G$5+$G$5+$G$5),0,IF(AND(BF16<($G$5+$G$5+$G$5+$G$5-2),BF16>($E$21*$G$5-3)),$G$18*($G$4*$G$4*$G$4),IF(AND(BF16<($G$5+$G$5+$G$5+$G$3),BF16>($G$5+$G$5+$G$5+$G$5-3)),$G$18*$G$4*$G$4*$G$4*(1-$G$4),0))) -> 34.2 | ... BZ21: =IF(BZ16>($G$3+$G$5+$G$5+$G$5),0,IF(AND(BZ16<($G$5+$G$5+$G$5+$G$5-2),BZ16>($E$21*$G$5-3)),$G$18*($G$4*$G$4*$G$4),IF(AND(BZ16<($G$5+$G$5+$G$5+$G$3),BZ16>($G$5+$G$5+$G$5+$G$5-3)),$G$18*$G$4*$G$4*$G$4*(1-$G$4),0))) -> 0
F23: Encours total en nombre | G23: =SUM(G18:G21) -> 158.33333 | H23: =SUM(H18:H21) -> 158.33333 | I23: =SUM(I18:I21) -> 158.33333 | J23: =SUM(J18:J21) -> 158.33333 | K23: =SUM(K18:K21) -> 158.33333 | L23: =SUM(L18:L21) -> 158.33333 | M23: =SUM(M18:M21) -> 158.33333 | N23: =SUM(N18:N21) -> 158.33333 | ... BZ23: =SUM(BZ18:BZ21) -> 0
F25: Encours LLD 24m | G25: =(IFERROR(G18*HLOOKUP(G16,$G$7:$AD$8,2),"n.a."))/10^3 -> 106.83555 | H25: =(IFERROR(H18*HLOOKUP(H16,$G$7:$AD$8,2),"n.a."))/10^3 -> 103.6869 | I25: =(IFERROR(I18*HLOOKUP(I16,$G$7:$AD$8,2),"n.a."))/10^3 -> 100.50405 | J25: =(IFERROR(J18*HLOOKUP(J16,$G$7:$AD$8,2),"n.a."))/10^3 -> 97.286625 | K25: =(IFERROR(K18*HLOOKUP(K16,$G$7:$AD$8,2),"n.a."))/10^3 -> 94.034251 | L25: =(IFERROR(L18*HLOOKUP(L16,$G$7:$AD$8,2),"n.a."))/10^3 -> 90.746547 | M25: =(IFERROR(M18*HLOOKUP(M16,$G$7:$AD$8,2),"n.a."))/10^3 -> 87.42313 | N25: =(IFERROR(N18*HLOOKUP(N16,$G$7:$AD$8,2),"n.a."))/10^3 -> 84.063612 | ... BY25: =(IFERROR(BY18*HLOOKUP(BY16,$G$7:$AD$8,2),"n.a."))/10^3 -> 0
F26: Encours upgrade 1 | G26: =IFERROR(G19*HLOOKUP(G13,$G$7:$AD$8,2)/1000,"n.a.") -> n.a. | H26: =IFERROR(H19*HLOOKUP(H13,$G$7:$AD$8,2)/1000,"n.a.") -> n.a. | I26: =IFERROR(I19*HLOOKUP(I13,$G$7:$AD$8,2)/1000,"n.a.") -> n.a. | J26: =IFERROR(J19*HLOOKUP(J13,$G$7:$AD$8,2)/1000,"n.a.") -> n.a. | K26: =IFERROR(K19*HLOOKUP(K13,$G$7:$AD$8,2)/1000,"n.a.") -> n.a. | L26: =IFERROR(L19*HLOOKUP(L13,$G$7:$AD$8,2)/1000,"n.a.") -> n.a. | M26: =IFERROR(M19*HLOOKUP(M13,$G$7:$AD$8,2)/1000,"n.a.") -> n.a. | N26: =IFERROR(N19*HLOOKUP(N13,$G$7:$AD$8,2)/1000,"n.a.") -> n.a. | ... BY26: =IFERROR(BY19*HLOOKUP(BY13,$G$7:$AD$8,2)/1000,"n.a.") -> n.a.
F27: Encours upgrade 2 | G27: =IFERROR(G20*HLOOKUP(G14,$G$7:$AD$8,2)/1000,"n.a.") -> n.a. | H27: =IFERROR(H20*HLOOKUP(H14,$G$7:$AD$8,2)/1000,"n.a.") -> n.a. | I27: =IFERROR(I20*HLOOKUP(I14,$G$7:$AD$8,2)/1000,"n.a.") -> n.a. | J27: =IFERROR(J20*HLOOKUP(J14,$G$7:$AD$8,2)/1000,"n.a.") -> n.a. | K27: =IFERROR(K20*HLOOKUP(K14,$G$7:$AD$8,2)/1000,"n.a.") -> n.a. | L27: =IFERROR(L20*HLOOKUP(L14,$G$7:$AD$8,2)/1000,"n.a.") -> n.a. | M27: =IFERROR(M20*HLOOKUP(M14,$G$7:$AD$8,2)/1000,"n.a.") -> n.a. | N27: =IFERROR(N20*HLOOKUP(N14,$G$7:$AD$8,2)/1000,"n.a.") -> n.a. | ... BY27: =IFERROR(BY20*HLOOKUP(BY14,$G$7:$AD$8,2)/1000,"n.a.") -> n.a.
F28: Encours upgrade 3 | G28: =IFERROR(G21*HLOOKUP(G15,$G$7:$AD$8,2)/1000,"n.a.") -> n.a. | H28: =IFERROR(H21*HLOOKUP(H15,$G$7:$AD$8,2)/1000,"n.a.") -> n.a. | I28: =IFERROR(I21*HLOOKUP(I15,$G$7:$AD$8,2)/1000,"n.a.") -> n.a. | J28: =IFERROR(J21*HLOOKUP(J15,$G$7:$AD$8,2)/1000,"n.a.") -> n.a. | K28: =IFERROR(K21*HLOOKUP(K15,$G$7:$AD$8,2)/1000,"n.a.") -> n.a. | L28: =IFERROR(L21*HLOOKUP(L15,$G$7:$AD$8,2)/1000,"n.a.") -> n.a. | M28: =IFERROR(M21*HLOOKUP(M15,$G$7:$AD$8,2)/1000,"n.a.") -> n.a. | N28: =IFERROR(N21*HLOOKUP(N15,$G$7:$AD$8,2)/1000,"n.a.") -> n.a. | ... BY28: =IFERROR(BY21*HLOOKUP(BY15,$G$7:$AD$8,2)/1000,"n.a.") -> n.a.
F30: Encours total en k€ | G30: =SUM(G25:G28) -> 106.83555 | H30: =SUM(H25:H28) -> 103.6869 | I30: =SUM(I25:I28) -> 100.50405 | J30: =SUM(J25:J28) -> 97.286625 | K30: =SUM(K25:K28) -> 94.034251 | L30: =SUM(L25:L28) -> 90.746547 | M30: =SUM(M25:M28) -> 87.42313 | N30: =SUM(N25:N28) -> 84.063612 | ... BY30: =SUM(BY25:BY28) -> 0
F32: Encours LLD 24m | G32: =IFERROR(G18*HLOOKUP(G16,$G$7:$AD$9,3),"n.a.") -> 1148.0475 | H32: =IFERROR(H18*HLOOKUP(H16,$G$7:$AD$9,3),"n.a.") -> 1114.2124 | I32: =IFERROR(I18*HLOOKUP(I16,$G$7:$AD$9,3),"n.a.") -> 1080.0097 | J32: =IFERROR(J18*HLOOKUP(J16,$G$7:$AD$9,3),"n.a.") -> 1045.4355 | K32: =IFERROR(K18*HLOOKUP(K16,$G$7:$AD$9,3),"n.a.") -> 1010.4857 | L32: =IFERROR(L18*HLOOKUP(L16,$G$7:$AD$9,3),"n.a.") -> 975.15623 | M32: =IFERROR(M18*HLOOKUP(M16,$G$7:$AD$9,3),"n.a.") -> 939.44302 | N32: =IFERROR(N18*HLOOKUP(N16,$G$7:$AD$9,3),"n.a.") -> 903.34186 | ... BY32: =IFERROR(BY18*HLOOKUP(BY16,$G$7:$AD$9,3),"n.a.") -> 0
F33: Encours upgrade 1 | G33: =IFERROR(G19*HLOOKUP(G13,$G$7:$AD$9,3),"n.a.") -> n.a. | H33: =IFERROR(H19*HLOOKUP(H13,$G$7:$AD$9,3),"n.a.") -> n.a. | I33: =IFERROR(I19*HLOOKUP(I13,$G$7:$AD$9,3),"n.a.") -> n.a. | J33: =IFERROR(J19*HLOOKUP(J13,$G$7:$AD$9,3),"n.a.") -> n.a. | K33: =IFERROR(K19*HLOOKUP(K13,$G$7:$AD$9,3),"n.a.") -> n.a. | L33: =IFERROR(L19*HLOOKUP(L13,$G$7:$AD$9,3),"n.a.") -> n.a. | M33: =IFERROR(M19*HLOOKUP(M13,$G$7:$AD$9,3),"n.a.") -> n.a. | N33: =IFERROR(N19*HLOOKUP(N13,$G$7:$AD$9,3),"n.a.") -> n.a. | ... BY33: =IFERROR(BY19*HLOOKUP(BY13,$G$7:$AD$9,3),"n.a.") -> n.a.
F34: Encours upgrade 2 | G34: =IFERROR(G20*HLOOKUP(G14,$G$7:$AD$9,3),"n.a.") -> n.a. | H34: =IFERROR(H20*HLOOKUP(H14,$G$7:$AD$9,3),"n.a.") -> n.a. | I34: =IFERROR(I20*HLOOKUP(I14,$G$7:$AD$9,3),"n.a.") -> n.a. | J34: =IFERROR(J20*HLOOKUP(J14,$G$7:$AD$9,3),"n.a.") -> n.a. | K34: =IFERROR(K20*HLOOKUP(K14,$G$7:$AD$9,3),"n.a.") -> n.a. | L34: =IFERROR(L20*HLOOKUP(L14,$G$7:$AD$9,3),"n.a.") -> n.a. | M34: =IFERROR(M20*HLOOKUP(M14,$G$7:$AD$9,3),"n.a.") -> n.a. | N34: =IFERROR(N20*HLOOKUP(N14,$G$7:$AD$9,3),"n.a.") -> n.a. | ... BY34: =IFERROR(BY20*HLOOKUP(BY14,$G$7:$AD$9,3),"n.a.") -> n.a.
F35: Encours upgrade 3 | G35: =IFERROR(G21*HLOOKUP(G15,$G$7:$AD$9,3),"n.a.") -> n.a. | H35: =IFERROR(H21*HLOOKUP(H15,$G$7:$AD$9,3),"n.a.") -> n.a. | I35: =IFERROR(I21*HLOOKUP(I15,$G$7:$AD$9,3),"n.a.") -> n.a. | J35: =IFERROR(J21*HLOOKUP(J15,$G$7:$AD$9,3),"n.a.") -> n.a. | K35: =IFERROR(K21*HLOOKUP(K15,$G$7:$AD$9,3),"n.a.") -> n.a. | L35: =IFERROR(L21*HLOOKUP(L15,$G$7:$AD$9,3),"n.a.") -> n.a. | M35: =IFERROR(M21*HLOOKUP(M15,$G$7:$AD$9,3),"n.a.") -> n.a. | N35: =IFERROR(N21*HLOOKUP(N15,$G$7:$AD$9,3),"n.a.") -> n.a. | ... BY35: =IFERROR(BY21*HLOOKUP(BY15,$G$7:$AD$9,3),"n.a.") -> n.a.
F37: Agios en k€ | G37: =SUM(G32:G35) -> 1148.0475 | H37: =SUM(H32:H35) -> 1114.2124 | I37: =SUM(I32:I35) -> 1080.0097 | J37: =SUM(J32:J35) -> 1045.4355 | K37: =SUM(K32:K35) -> 1010.4857 | L37: =SUM(L32:L35) -> 975.15623 | M37: =SUM(M32:M35) -> 939.44302 | N37: =SUM(N32:N35) -> 903.34186 | ... BY37: =SUM(BY32:BY35) -> 0
F39: Check agios
F40: Encours LLD 24m | G40: ='[1]24 mois smartphone upg'!D132-G32 -> 0 | H40: ='[1]24 mois smartphone upg'!E132-H32 -> 0 | I40: ='[1]24 mois smartphone upg'!F132-I32 -> 0 | J40: ='[1]24 mois smartphone upg'!G132-J32 -> 0 | K40: ='[1]24 mois smartphone upg'!H132-K32 -> 0 | L40: ='[1]24 mois smartphone upg'!I132-L32 -> 0 | M40: ='[1]24 mois smartphone upg'!J132-M32 -> 0 | N40: ='[1]24 mois smartphone upg'!K132-N32 -> 0 | ... BY40: ='[1]24 mois smartphone upg'!BV132-BY32 -> 0
F41: Encours upgrade 1 | G41: =IFERROR('[1]24 mois smartphone upg'!D177-G33,"n.a.") -> n.a. | H41: =IFERROR('[1]24 mois smartphone upg'!E177-H33,"n.a.") -> n.a. | I41: =IFERROR('[1]24 mois smartphone upg'!F177-I33,"n.a.") -> n.a. | J41: =IFERROR('[1]24 mois smartphone upg'!G177-J33,"n.a.") -> n.a. | K41: =IFERROR('[1]24 mois smartphone upg'!H177-K33,"n.a.") -> n.a. | L41: =IFERROR('[1]24 mois smartphone upg'!I177-L33,"n.a.") -> n.a. | M41: =IFERROR('[1]24 mois smartphone upg'!J177-M33,"n.a.") -> n.a. | N41: =IFERROR('[1]24 mois smartphone upg'!K177-N33,"n.a.") -> n.a. | ... BY41: =IFERROR('[1]24 mois smartphone upg'!BV177-BY33,"n.a.") -> n.a.
F42: Encours upgrade 2 | G42: =IFERROR('[1]24 mois smartphone upg'!D223-G34,"n.a.") -> n.a. | H42: =IFERROR('[1]24 mois smartphone upg'!E223-H34,"n.a.") -> n.a. | I42: =IFERROR('[1]24 mois smartphone upg'!F223-I34,"n.a.") -> n.a. | J42: =IFERROR('[1]24 mois smartphone upg'!G223-J34,"n.a.") -> n.a. | K42: =IFERROR('[1]24 mois smartphone upg'!H223-K34,"n.a.") -> n.a. | L42: =IFERROR('[1]24 mois smartphone upg'!I223-L34,"n.a.") -> n.a. | M42: =IFERROR('[1]24 mois smartphone upg'!J223-M34,"n.a.") -> n.a. | N42: =IFERROR('[1]24 mois smartphone upg'!K223-N34,"n.a.") -> n.a. | ... BY42: =IFERROR('[1]24 mois smartphone upg'!BV223-BY34,"n.a.") -> n.a.
F43: Encours upgrade 3 | G43: =IFERROR('[1]24 mois smartphone upg'!D268-G35,"n.a.") -> n.a. | H43: =IFERROR('[1]24 mois smartphone upg'!E268-H35,"n.a.") -> n.a. | I43: =IFERROR('[1]24 mois smartphone upg'!F268-I35,"n.a.") -> n.a. | J43: =IFERROR('[1]24 mois smartphone upg'!G268-J35,"n.a.") -> n.a. | K43: =IFERROR('[1]24 mois smartphone upg'!H268-K35,"n.a.") -> n.a. | L43: =IFERROR('[1]24 mois smartphone upg'!I268-L35,"n.a.") -> n.a. | M43: =IFERROR('[1]24 mois smartphone upg'!J268-M35,"n.a.") -> n.a. | N43: =IFERROR('[1]24 mois smartphone upg'!K268-N35,"n.a.") -> n.a. | ... BY43: =IFERROR('[1]24 mois smartphone upg'!BV268-BY35,"n.a.") -> n.a.
F45: Evolution portefeuille type 24 mois Check
F46: Encours upgrade 1 | V46: 1 | W46: =1+V46 -> 2 | X46: =1+W46 -> 3 | Y46: =1+X46 -> 4 | Z46: =1+Y46 -> 5 | AA46: =1+Z46 -> 6 | AB46: =1+AA46 -> 7 | AC46: =1+AB46 -> 8 | AD46: =1+AC46 -> 9 | ... AS46: =1+AR46 -> 24
F47: Encours upgrade 2 | AK47: 1 | AL47: =1+AK47 -> 2 | AM47: =1+AL47 -> 3 | AN47: =1+AM47 -> 4 | AO47: =1+AN47 -> 5 | AP47: =1+AO47 -> 6 | AQ47: =1+AP47 -> 7 | AR47: =1+AQ47 -> 8 | AS47: =1+AR47 -> 9 | ... BH47: =1+BG47 -> 24
F48: Encours upgrade 3 | AZ48: 1 | BA48: =1+AZ48 -> 2 | BB48: =1+BA48 -> 3 | BC48: =1+BB48 -> 4 | BD48: =1+BC48 -> 5 | BE48: =1+BD48 -> 6 | BF48: =1+BE48 -> 7 | BG48: =1+BF48 -> 8 | BH48: =1+BG48 -> 9 | ... BX48: =1+BW48 -> 25
G49: 43861 | H49: =EDATE(G49,1) -> 43890 | I49: =EDATE(H49,1) -> 43919 | J49: =EDATE(I49,1) -> 43950 | K49: =EDATE(J49,1) -> 43980 | L49: =EDATE(K49,1) -> 44011 | M49: =EDATE(L49,1) -> 44041 | N49: =EDATE(M49,1) -> 44072 | O49: =EDATE(N49,1) -> 44103 | ... BZ49: =EDATE(BY49,1) -> 46019
C50: 43861 | F50: Mois | G50: 1 | H50: =1+G50 -> 2 | I50: =1+H50 -> 3 | J50: =1+I50 -> 4 | K50: =1+J50 -> 5 | L50: =1+K50 -> 6 | M50: =1+L50 -> 7 | N50: =1+M50 -> 8 | O50: =1+N50 -> 9 | ... BZ50: =1+BY50 -> 72
F52: Encours LLD 24m | G52: =INDEX('[1]DARTY - Production'!$D$8:$DH$26,MATCH("Leasing",'[1]DARTY - Production'!$D$8:$D$26,0),MATCH('LLD (24m)'!C50,'[1]DARTY - Production'!$D$8:$DH$8,0)) -> 723.34909 | H52: =IF(H50>24,0,IF(H50<$G$5,$G$18,(1-$G$4)*$G$18)) -> 158.33333 | I52: =IF(I50>24,0,IF(I50<$G$5,$G$18,(1-$G$4)*$G$18)) -> 158.33333 | J52: =IF(J50>24,0,IF(J50<$G$5,$G$18,(1-$G$4)*$G$18)) -> 158.33333 | K52: =IF(K50>24,0,IF(K50<$G$5,$G$18,(1-$G$4)*$G$18)) -> 158.33333 | L52: =IF(L50>24,0,IF(L50<$G$5,$G$18,(1-$G$4)*$G$18)) -> 158.33333 | M52: =IF(M50>24,0,IF(M50<$G$5,$G$18,(1-$G$4)*$G$18)) -> 158.33333 | N52: =IF(N50>24,0,IF(N50<$G$5,$G$18,(1-$G$4)*$G$18)) -> 158.33333 | O52: =IF(O50>24,0,IF(O50<$G$5,$G$18,(1-$G$4)*$G$18)) -> 158.33333 | ... BW52: =IF(BW50>24,0,IF(BW50<$G$5,$G$18,(1-$G$4)*$G$18)) -> 0 | BX52: =IF(BX50>24,0,IF(BX50<$G$5,$G52,(1-$G$4)*$G52)) -> 0 | BY52: =IF(BY50>24,0,IF(BY50<$G$5,$G52,(1-$G$4)*$G52)) -> 0 | BZ52: =IF(BZ50>24,0,IF(BZ50<$G$5,$G52,(1-$G$4)*$G52)) -> 0
E53: 1 | F53: Encours upgrade 1 | G53: =IF(G50>($G$3+$G$5),0,IF(AND(G50<($G$5+$G$5-1),G50>($E$19*($G$5-1))),($G$18*$G$4),IF(AND(G50<($G$3+$G$5),G50>($G$5+$G$5-2)),$G$18*$G$4*(1-$G$4),IF(AND(G50>($G$3+$G$5)),$G$18*$G$4*(1-$G$4)*0,0)))) -> 0 | H53: =IF(H50>($G$3+$G$5),0,IF(AND(H50<($G$5+$G$5-1),H50>($E$19*($G$5-1))),($G$18*$G$4),IF(AND(H50<($G$3+$G$5),H50>($G$5+$G$5-2)),$G$18*$G$4*(1-$G$4),IF(AND(H50>($G$3+$G$5)),$G$18*$G$4*(1-$G$4)*0,0)))) -> 0 | I53: =IF(I50>($G$3+$G$5),0,IF(AND(I50<($G$5+$G$5-1),I50>($E$19*($G$5-1))),($G$18*$G$4),IF(AND(I50<($G$3+$G$5),I50>($G$5+$G$5-2)),$G$18*$G$4*(1-$G$4),IF(AND(I50>($G$3+$G$5)),$G$18*$G$4*(1-$G$4)*0,0)))) -> 0 | J53: =IF(J50>($G$3+$G$5),0,IF(AND(J50<($G$5+$G$5-1),J50>($E$19*($G$5-1))),($G$18*$G$4),IF(AND(J50<($G$3+$G$5),J50>($G$5+$G$5-2)),$G$18*$G$4*(1-$G$4),IF(AND(J50>($G$3+$G$5)),$G$18*$G$4*(1-$G$4)*0,0)))) -> 0 | K53: =IF(K50>($G$3+$G$5),0,IF(AND(K50<($G$5+$G$5-1),K50>($E$19*($G$5-1))),($G$18*$G$4),IF(AND(K50<($G$3+$G$5),K50>($G$5+$G$5-2)),$G$18*$G$4*(1-$G$4),IF(AND(K50>($G$3+$G$5)),$G$18*$G$4*(1-$G$4)*0,0)))) -> 0 | L53: =IF(L50>($G$3+$G$5),0,IF(AND(L50<($G$5+$G$5-1),L50>($E$19*($G$5-1))),($G$18*$G$4),IF(AND(L50<($G$3+$G$5),L50>($G$5+$G$5-2)),$G$18*$G$4*(1-$G$4),IF(AND(L50>($G$3+$G$5)),$G$18*$G$4*(1-$G$4)*0,0)))) -> 0 | M53: =IF(M50>($G$3+$G$5),0,IF(AND(M50<($G$5+$G$5-1),M50>($E$19*($G$5-1))),($G$18*$G$4),IF(AND(M50<($G$3+$G$5),M50>($G$5+$G$5-2)),$G$18*$G$4*(1-$G$4),IF(AND(M50>($G$3+$G$5)),$G$18*$G$4*(1-$G$4)*0,0)))) -> 0 | N53: =IF(N50>($G$3+$G$5),0,IF(AND(N50<($G$5+$G$5-1),N50>($E$19*($G$5-1))),($G$18*$G$4),IF(AND(N50<($G$3+$G$5),N50>($G$5+$G$5-2)),$G$18*$G$4*(1-$G$4),IF(AND(N50>($G$3+$G$5)),$G$18*$G$4*(1-$G$4)*0,0)))) -> 0 | ... BW53: =IF(BW50>($G$3+$G$5),0,IF(AND(BW50<($G$5+$G$5-1),BW50>($E$19*($G$5-1))),($G$18*$G$4),IF(AND(BW50<($G$3+$G$5),BW50>($G$5+$G$5-2)),$G$18*$G$4*(1-$G$4),IF(AND(BW50>($G$3+$G$5)),$G$18*$G$4*(1-$G$4)*0,0)))) -> 0 | BX53: =IF(BX50>($G$3+$G$5),0,IF(AND(BX50<($G$5+$G$5-1),BX50>($E53*($G$5-1))),($G52*$G$4),IF(AND(BX50<($G$3+$G$5),BX50>($G$5+$G$5-2)),$G52*$G$4*(1-$G$4),IF(AND(BX50>($G$3+$G$5)),$G52*$G$4*(1-$G$4)*0,0)))) -> 0 | BY53: =IF(BY50>($G$3+$G$5),0,IF(AND(BY50<($G$5+$G$5-1),BY50>($E53*($G$5-1))),($G52*$G$4),IF(AND(BY50<($G$3+$G$5),BY50>($G$5+$G$5-2)),$G52*$G$4*(1-$G$4),IF(AND(BY50>($G$3+$G$5)),$G52*$G$4*(1-$G$4)*0,0)))) -> 0 | BZ53: =IF(BZ50>($G$3+$G$5),0,IF(AND(BZ50<($G$5+$G$5-1),BZ50>($E53*($G$5-1))),($G52*$G$4),IF(AND(BZ50<($G$3+$G$5),BZ50>($G$5+$G$5-2)),$G52*$G$4*(1-$G$4),IF(AND(BZ50>($G$3+$G$5)),$G52*$G$4*(1-$G$4)*0,0)))) -> 0
...

Sheet Objectif
F2: Hypothèses 24 mois
F3: Encours LLD 24 | G3: 24
F4: % upgrade | G4: 0.6
F5: Mois upgrage | G5: 16
F7: Mois | G7: 1 | H7: =G7+1 -> 2 | I7: =H7+1 -> 3 | J7: =I7+1 -> 4 | K7: =J7+1 -> 5 | L7: =K7+1 -> 6 | M7: =L7+1 -> 7 | N7: =M7+1 -> 8 | O7: =N7+1 -> 9 | ... AD7: =AC7+1 -> 24
F8: Encours fin | G8: ='[1]24 mois smartphone upg'!D89 -> 674.75083 | H8: ='[1]24 mois smartphone upg'!E89 -> 654.86463 | I8: ='[1]24 mois smartphone upg'!F89 -> 634.76242 | J8: ='[1]24 mois smartphone upg'!G89 -> 614.44184 | K8: ='[1]24 mois smartphone upg'!H89 -> 593.90053 | L8: ='[1]24 mois smartphone upg'!I89 -> 573.13609 | M8: ='[1]24 mois smartphone upg'!J89 -> 552.14608 | N8: ='[1]24 mois smartphone upg'!K89 -> 530.92807 | ... AD8: ='[1]24 mois smartphone upg'!AA89 -> 158.325
F9: Agios dossier unitaire | G9: ='[1]24 mois smartphone upg'!D95 -> 7.2508266 | H9: ='[1]24 mois smartphone upg'!E95 -> 7.0371309 | I9: ='[1]24 mois smartphone upg'!F95 -> 6.8211139 | J9: ='[1]24 mois smartphone upg'!G95 -> 6.6027503 | K9: ='[1]24 mois smartphone upg'!H95 -> 6.3820148 | L9: ='[1]24 mois smartphone upg'!I95 -> 6.1588815 | M9: ='[1]24 mois smartphone upg'!J95 -> 5.9333243 | N9: ='[1]24 mois smartphone upg'!K95 -> 5.705317 | ... AD9: ='[1]24 mois smartphone upg'!AA95 -> 1.7013497
F12: Evolution portefeuille type 24 mois Check
F13: Encours upgrade 1 | V13: 1 | W13: =1+V13 -> 2 | X13: =1+W13 -> 3 | Y13: =1+X13 -> 4 | Z13: =1+Y13 -> 5 | AA13: =1+Z13 -> 6 | AB13: =1+AA13 -> 7 | AC13: =1+AB13 -> 8 | AD13: =1+AC13 -> 9 | ... AS13: =1+AR13 -> 24
F14: Encours upgrade 2 | AK14: 1 | AL14: =1+AK14 -> 2 | AM14: =1+AL14 -> 3 | AN14: =1+AM14 -> 4 | AO14: =1+AN14 -> 5 | AP14: =1+AO14 -> 6 | AQ14: =1+AP14 -> 7 | AR14: =1+AQ14 -> 8 | AS14: =1+AR14 -> 9 | ... BH14: =1+BG14 -> 24
F15: Encours upgrade 3 | AZ15: 1 | BA15: =1+AZ15 -> 2 | BB15: =1+BA15 -> 3 | BC15: =1+BB15 -> 4 | BD15: =1+BC15 -> 5 | BE15: =1+BD15 -> 6 | BF15: =1+BE15 -> 7 | BG15: =1+BF15 -> 8 | BH15: =1+BG15 -> 9 | ... BW15: =1+BV15 -> 24
F16: Mois | G16: 1 | H16: =1+G16 -> 2 | I16: =1+H16 -> 3 | J16: =1+I16 -> 4 | K16: =1+J16 -> 5 | L16: =1+K16 -> 6 | M16: =1+L16 -> 7 | N16: =1+M16 -> 8 | O16: =1+N16 -> 9 | ... BZ16: =1+BY16 -> 72
F18: Encours LLD 24m | G18: ='[1]24 mois smartphone upg'!D103 -> 158.33333 | H18: =IF(H16>24,0,IF(H16<$G$5,$G$18,(1-$G$4)*$G$18)) -> 158.33333 | I18: =IF(I16>24,0,IF(I16<$G$5,$G$18,(1-$G$4)*$G$18)) -> 158.33333 | J18: =IF(J16>24,0,IF(J16<$G$5,$G$18,(1-$G$4)*$G$18)) -> 158.33333 | K18: =IF(K16>24,0,IF(K16<$G$5,$G$18,(1-$G$4)*$G$18)) -> 158.33333 | L18: =IF(L16>24,0,IF(L16<$G$5,$G$18,(1-$G$4)*$G$18)) -> 158.33333 | M18: =IF(M16>24,0,IF(M16<$G$5,$G$18,(1-$G$4)*$G$18)) -> 158.33333 | N18: =IF(N16>24,0,IF(N16<$G$5,$G$18,(1-$G$4)*$G$18)) -> 158.33333 | O18: =IF(O16>24,0,IF(O16<$G$5,$G$18,(1-$G$4)*$G$18)) -> 158.33333 | ... BZ18: =IF(BZ16>24,0,IF(BZ16<$G$5,$G$18,(1-$G$4)*$G$18)) -> 0
E19: 1 | F19: Encours upgrade 1 | G19: =IF(G16>($G$3+$G$5),0,IF(AND(G16<($G$5+$G$5-1),G16>($E$19*($G$5-1))),($G$18*$G$4),IF(AND(G16<($G$3+$G$5),G16>($G$5+$G$5-2)),$G$18*$G$4*(1-$G$4),IF(AND(G16>($G$3+$G$5)),$G$18*$G$4*(1-$G$4)*0,0)))) -> 0 | H19: =IF(H16>($G$3+$G$5),0,IF(AND(H16<($G$5+$G$5-1),H16>($E$19*($G$5-1))),($G$18*$G$4),IF(AND(H16<($G$3+$G$5),H16>($G$5+$G$5-2)),$G$18*$G$4*(1-$G$4),IF(AND(H16>($G$3+$G$5)),$G$18*$G$4*(1-$G$4)*0,0)))) -> 0 | I19: =IF(I16>($G$3+$G$5),0,IF(AND(I16<($G$5+$G$5-1),I16>($E$19*($G$5-1))),($G$18*$G$4),IF(AND(I16<($G$3+$G$5),I16>($G$5+$G$5-2)),$G$18*$G$4*(1-$G$4),IF(AND(I16>($G$3+$G$5)),$G$18*$G$4*(1-$G$4)*0,0)))) -> 0 | J19: =IF(J16>($G$3+$G$5),0,IF(AND(J16<($G$5+$G$5-1),J16>($E$19*($G$5-1))),($G$18*$G$4),IF(AND(J16<($G$3+$G$5),J16>($G$5+$G$5-2)),$G$18*$G$4*(1-$G$4),IF(AND(J16>($G$3+$G$5)),$G$18*$G$4*(1-$G$4)*0,0)))) -> 0 | K19: =IF(K16>($G$3+$G$5),0,IF(AND(K16<($G$5+$G$5-1),K16>($E$19*($G$5-1))),($G$18*$G$4),IF(AND(K16<($G$3+$G$5),K16>($G$5+$G$5-2)),$G$18*$G$4*(1-$G$4),IF(AND(K16>($G$3+$G$5)),$G$18*$G$4*(1-$G$4)*0,0)))) -> 0 | L19: =IF(L16>($G$3+$G$5),0,IF(AND(L16<($G$5+$G$5-1),L16>($E$19*($G$5-1))),($G$18*$G$4),IF(AND(L16<($G$3+$G$5),L16>($G$5+$G$5-2)),$G$18*$G$4*(1-$G$4),IF(AND(L16>($G$3+$G$5)),$G$18*$G$4*(1-$G$4)*0,0)))) -> 0 | M19: =IF(M16>($G$3+$G$5),0,IF(AND(M16<($G$5+$G$5-1),M16>($E$19*($G$5-1))),($G$18*$G$4),IF(AND(M16<($G$3+$G$5),M16>($G$5+$G$5-2)),$G$18*$G$4*(1-$G$4),IF(AND(M16>($G$3+$G$5)),$G$18*$G$4*(1-$G$4)*0,0)))) -> 0 | N19: =IF(N16>($G$3+$G$5),0,IF(AND(N16<($G$5+$G$5-1),N16>($E$19*($G$5-1))),($G$18*$G$4),IF(AND(N16<($G$3+$G$5),N16>($G$5+$G$5-2)),$G$18*$G$4*(1-$G$4),IF(AND(N16>($G$3+$G$5)),$G$18*$G$4*(1-$G$4)*0,0)))) -> 0 | ... BZ19: =IF(BZ16>($G$3+$G$5),0,IF(AND(BZ16<($G$5+$G$5-1),BZ16>($E$19*($G$5-1))),($G$18*$G$4),IF(AND(BZ16<($G$3+$G$5),BZ16>($G$5+$G$5-2)),$G$18*$G$4*(1-$G$4),IF(AND(BZ16>($G$3+$G$5)),$G$18*$G$4*(1-$G$4)*0,0)))) -> 0
E20: 2 | F20: Encours upgrade 2 | G20: =IF(G16>($G$3+$G$5+$G$5),0,IF(AND(G16<($G$5+$G$5+$G$5-2),G16>($E$20*$G$5-2)),$G$18*($G$4*$G$4),IF(AND(G16<($G$5+$G$5+$G$3-1),G16>($G$5+$G$5+$G$5-3)),$G$18*$G$4*$G$4*(1-$G$4),0))) -> 0 | H20: =IF(H16>($G$3+$G$5+$G$5),0,IF(AND(H16<($G$5+$G$5+$G$5-2),H16>($E$20*$G$5-2)),$G$18*($G$4*$G$4),IF(AND(H16<($G$5+$G$5+$G$3-1),H16>($G$5+$G$5+$G$5-3)),$G$18*$G$4*$G$4*(1-$G$4),0))) -> 0 | I20: =IF(I16>($G$3+$G$5+$G$5),0,IF(AND(I16<($G$5+$G$5+$G$5-2),I16>($E$20*$G$5-2)),$G$18*($G$4*$G$4),IF(AND(I16<($G$5+$G$5+$G$3-1),I16>($G$5+$G$5+$G$5-3)),$G$18*$G$4*$G$4*(1-$G$4),0))) -> 0 | J20: =IF(J16>($G$3+$G$5+$G$5),0,IF(AND(J16<($G$5+$G$5+$G$5-2),J16>($E$20*$G$5-2)),$G$18*($G$4*$G$4),IF(AND(J16<($G$5+$G$5+$G$3-1),J16>($G$5+$G$5+$G$5-3)),$G$18*$G$4*$G$4*(1-$G$4),0))) -> 0 | K20: =IF(K16>($G$3+$G$5+$G$5),0,IF(AND(K16<($G$5+$G$5+$G$5-2),K16>($E$20*$G$5-2)),$G$18*($G$4*$G$4),IF(AND(K16<($G$5+$G$5+$G$3-1),K16>($G$5+$G$5+$G$5-3)),$G$18*$G$4*$G$4*(1-$G$4),0))) -> 0 | L20: =IF(L16>($G$3+$G$5+$G$5),0,IF(AND(L16<($G$5+$G$5+$G$5-2),L16>($E$20*$G$5-2)),$G$18*($G$4*$G$4),IF(AND(L16<($G$5+$G$5+$G$3-1),L16>($G$5+$G$5+$G$5-3)),$G$18*$G$4*$G$4*(1-$G$4),0))) -> 0 | M20: =IF(M16>($G$3+$G$5+$G$5),0,IF(AND(M16<($G$5+$G$5+$G$5-2),M16>($E$20*$G$5-2)),$G$18*($G$4*$G$4),IF(AND(M16<($G$5+$G$5+$G$3-1),M16>($G$5+$G$5+$G$5-3)),$G$18*$G$4*$G$4*(1-$G$4),0))) -> 0 | N20: =IF(N16>($G$3+$G$5+$G$5),0,IF(AND(N16<($G$5+$G$5+$G$5-2),N16>($E$20*$G$5-2)),$G$18*($G$4*$G$4),IF(AND(N16<($G$5+$G$5+$G$3-1),N16>($G$5+$G$5+$G$5-3)),$G$18*$G$4*$G$4*(1-$G$4),0))) -> 0 | ... BZ20: =IF(BZ16>($G$3+$G$5+$G$5),0,IF(AND(BZ16<($G$5+$G$5+$G$5-2),BZ16>($E$20*$G$5-2)),$G$18*($G$4*$G$4),IF(AND(BZ16<($G$5+$G$5+$G$3-1),BZ16>($G$5+$G$5+$G$5-3)),$G$18*$G$4*$G$4*(1-$G$4),0))) -> 0
E21: 3 | F21: Encours upgrade 3 | G21: =IF(G16>($G$3+$G$5+$G$5+$G$5),0,IF(AND(G16<($G$5+$G$5+$G$5+$G$5),G16>($E$21*$G$5-1)),$G$18*($G$4*$G$4*$G$4),IF(AND(G16<($G$5+$G$5+$G$5+$G$3),G16>($G$5+$G$5+$G$5+$G$5-1)),$G$18*$G$4*$G$4*$G$4*(1-$G$4),0))) -> 0 | H21: =IF(H16>($G$3+$G$5+$G$5+$G$5),0,IF(AND(H16<($G$5+$G$5+$G$5+$G$5),H16>($E$21*$G$5-1)),$G$18*($G$4*$G$4*$G$4),IF(AND(H16<($G$5+$G$5+$G$5+$G$3),H16>($G$5+$G$5+$G$5+$G$5-1)),$G$18*$G$4*$G$4*$G$4*(1-$G$4),0))) -> 0 | I21: =IF(I16>($G$3+$G$5+$G$5+$G$5),0,IF(AND(I16<($G$5+$G$5+$G$5+$G$5),I16>($E$21*$G$5-1)),$G$18*($G$4*$G$4*$G$4),IF(AND(I16<($G$5+$G$5+$G$5+$G$3),I16>($G$5+$G$5+$G$5+$G$5-1)),$G$18*$G$4*$G$4*$G$4*(1-$G$4),0))) -> 0 | J21: =IF(J16>($G$3+$G$5+$G$5+$G$5),0,IF(AND(J16<($G$5+$G$5+$G$5+$G$5),J16>($E$21*$G$5-1)),$G$18*($G$4*$G$4*$G$4),IF(AND(J16<($G$5+$G$5+$G$5+$G$3),J16>($G$5+$G$5+$G$5+$G$5-1)),$G$18*$G$4*$G$4*$G$4*(1-$G$4),0))) -> 0 | K21: =IF(K16>($G$3+$G$5+$G$5+$G$5),0,IF(AND(K16<($G$5+$G$5+$G$5+$G$5),K16>($E$21*$G$5-1)),$G$18*($G$4*$G$4*$G$4),IF(AND(K16<($G$5+$G$5+$G$5+$G$3),K16>($G$5+$G$5+$G$5+$G$5-1)),$G$18*$G$4*$G$4*$G$4*(1-$G$4),0))) -> 0 | L21: =IF(L16>($G$3+$G$5+$G$5+$G$5),0,IF(AND(L16<($G$5+$G$5+$G$5+$G$5),L16>($E$21*$G$5-1)),$G$18*($G$4*$G$4*$G$4),IF(AND(L16<($G$5+$G$5+$G$5+$G$3),L16>($G$5+$G$5+$G$5+$G$5-1)),$G$18*$G$4*$G$4*$G$4*(1-$G$4),0))) -> 0 | M21: =IF(M16>($G$3+$G$5+$G$5+$G$5),0,IF(AND(M16<($G$5+$G$5+$G$5+$G$5),M16>($E$21*$G$5-1)),$G$18*($G$4*$G$4*$G$4),IF(AND(M16<($G$5+$G$5+$G$5+$G$3),M16>($G$5+$G$5+$G$5+$G$5-1)),$G$18*$G$4*$G$4*$G$4*(1-$G$4),0))) -> 0 | N21: =IF(N16>($G$3+$G$5+$G$5+$G$5),0,IF(AND(N16<($G$5+$G$5+$G$5+$G$5),N16>($E$21*$G$5-1)),$G$18*($G$4*$G$4*$G$4),IF(AND(N16<($G$5+$G$5+$G$5+$G$3),N16>($G$5+$G$5+$G$5+$G$5-1)),$G$18*$G$4*$G$4*$G$4*(1-$G$4),0))) -> 0 | ... AX21: =IF(AX16>($G$3+$G$5+$G$5+$G$5),0,IF(AND(AX16<($G$5+$G$5+$G$5+$G$5),AX16>($E$21*$G$5-1)),$G$18*($G$4*$G$4*$G$4),IF(AND(AX16<($G$5+$G$5+$G$5+$G$3),AX16>($G$5+$G$5+$G$5+$G$5-1)),$G$18*$G$4*$G$4*$G$4*(1-$G$4),0))) -> 0 | AY21: =IF(AY16>($G$3+$G$5+$G$5+$G$5),0,IF(AND(AY16<($G$5+$G$5+$G$5+$G$5-2),AY16>($E$21*$G$5-3)),$G$18*($G$4*$G$4*$G$4),IF(AND(AY16<($G$5+$G$5+$G$5+$G$3),AY16>($G$5+$G$5+$G$5+$G$5-3)),$G$18*$G$4*$G$4*$G$4*(1-$G$4),0))) -> 0 | AZ21: =IF(AZ16>($G$3+$G$5+$G$5+$G$5),0,IF(AND(AZ16<($G$5+$G$5+$G$5+$G$5-2),AZ16>($E$21*$G$5-3)),$G$18*($G$4*$G$4*$G$4),IF(AND(AZ16<($G$5+$G$5+$G$5+$G$3),AZ16>($G$5+$G$5+$G$5+$G$5-3)),$G$18*$G$4*$G$4*$G$4*(1-$G$4),0))) -> 34.2 | BA21: =IF(BA16>($G$3+$G$5+$G$5+$G$5),0,IF(AND(BA16<($G$5+$G$5+$G$5+$G$5-2),BA16>($E$21*$G$5-3)),$G$18*($G$4*$G$4*$G$4),IF(AND(BA16<($G$5+$G$5+$G$5+$G$3),BA16>($G$5+$G$5+$G$5+$G$5-3)),$G$18*$G$4*$G$4*$G$4*(1-$G$4),0))) -> 34.2 | BB21: =IF(BB16>($G$3+$G$5+$G$5+$G$5),0,IF(AND(BB16<($G$5+$G$5+$G$5+$G$5-2),BB16>($E$21*$G$5-3)),$G$18*($G$4*$G$4*$G$4),IF(AND(BB16<($G$5+$G$5+$G$5+$G$3),BB16>($G$5+$G$5+$G$5+$G$5-3)),$G$18*$G$4*$G$4*$G$4*(1-$G$4),0))) -> 34.2 | BC21: =IF(BC16>($G$3+$G$5+$G$5+$G$5),0,IF(AND(BC16<($G$5+$G$5+$G$5+$G$5-2),BC16>($E$21*$G$5-3)),$G$18*($G$4*$G$4*$G$4),IF(AND(BC16<($G$5+$G$5+$G$5+$G$3),BC16>($G$5+$G$5+$G$5+$G$5-3)),$G$18*$G$4*$G$4*$G$4*(1-$G$4),0))) -> 34.2 | BD21: =IF(BD16>($G$3+$G$5+$G$5+$G$5),0,IF(AND(BD16<($G$5+$G$5+$G$5+$G$5-2),BD16>($E$21*$G$5-3)),$G$18*($G$4*$G$4*$G$4),IF(AND(BD16<($G$5+$G$5+$G$5+$G$3),BD16>($G$5+$G$5+$G$5+$G$5-3)),$G$18*$G$4*$G$4*$G$4*(1-$G$4),0))) -> 34.2 | BE21: =IF(BE16>($G$3+$G$5+$G$5+$G$5),0,IF(AND(BE16<($G$5+$G$5+$G$5+$G$5-2),BE16>($E$21*$G$5-3)),$G$18*($G$4*$G$4*$G$4),IF(AND(BE16<($G$5+$G$5+$G$5+$G$3),BE16>($G$5+$G$5+$G$5+$G$5-3)),$G$18*$G$4*$G$4*$G$4*(1-$G$4),0))) -> 34.2 | BF21: =IF(BF16>($G$3+$G$5+$G$5+$G$5),0,IF(AND(BF16<($G$5+$G$5+$G$5+$G$5-2),BF16>($E$21*$G$5-3)),$G$18*($G$4*$G$4*$G$4),IF(AND(BF16<($G$5+$G$5+$G$5+$G$3),BF16>($G$5+$G$5+$G$5+$G$5-3)),$G$18*$G$4*$G$4*$G$4*(1-$G$4),0))) -> 34.2 | ... BZ21: =IF(BZ16>($G$3+$G$5+$G$5+$G$5),0,IF(AND(BZ16<($G$5+$G$5+$G$5+$G$5-2),BZ16>($E$21*$G$5-3)),$G$18*($G$4*$G$4*$G$4),IF(AND(BZ16<($G$5+$G$5+$G$5+$G$3),BZ16>($G$5+$G$5+$G$5+$G$5-3)),$G$18*$G$4*$G$4*$G$4*(1-$G$4),0))) -> 0
F23: Encours total en nombre | G23: =SUM(G18:G21) -> 158.33333 | H23: =SUM(H18:H21) -> 158.33333 | I23: =SUM(I18:I21) -> 158.33333 | J23: =SUM(J18:J21) -> 158.33333 | K23: =SUM(K18:K21) -> 158.33333 | L23: =SUM(L18:L21) -> 158.33333 | M23: =SUM(M18:M21) -> 158.33333 | N23: =SUM(N18:N21) -> 158.33333 | ... BZ23: =SUM(BZ18:BZ21) -> 0
F25: Encours LLD 24m | G25: =(IFERROR(G18*HLOOKUP(G16,$G$7:$AD$8,2),"n.a."))/10^3 -> 106.83555 | H25: =(IFERROR(H18*HLOOKUP(H16,$G$7:$AD$8,2),"n.a."))/10^3 -> 103.6869 | I25: =(IFERROR(I18*HLOOKUP(I16,$G$7:$AD$8,2),"n.a."))/10^3 -> 100.50405 | J25: =(IFERROR(J18*HLOOKUP(J16,$G$7:$AD$8,2),"n.a."))/10^3 -> 97.286625 | K25: =(IFERROR(K18*HLOOKUP(K16,$G$7:$AD$8,2),"n.a."))/10^3 -> 94.034251 | L25: =(IFERROR(L18*HLOOKUP(L16,$G$7:$AD$8,2),"n.a."))/10^3 -> 90.746547 | M25: =(IFERROR(M18*HLOOKUP(M16,$G$7:$AD$8,2),"n.a."))/10^3 -> 87.42313 | N25: =(IFERROR(N18*HLOOKUP(N16,$G$7:$AD$8,2),"n.a."))/10^3 -> 84.063612 | ... BY25: =(IFERROR(BY18*HLOOKUP(BY16,$G$7:$AD$8,2),"n.a."))/10^3 -> 0
F26: Encours upgrade 1 | G26: =IFERROR(G19*HLOOKUP(G13,$G$7:$AD$8,2)/1000,"n.a.") -> n.a. | H26: =IFERROR(H19*HLOOKUP(H13,$G$7:$AD$8,2)/1000,"n.a.") -> n.a. | I26: =IFERROR(I19*HLOOKUP(I13,$G$7:$AD$8,2)/1000,"n.a.") -> n.a. | J26: =IFERROR(J19*HLOOKUP(J13,$G$7:$AD$8,2)/1000,"n.a.") -> n.a. | K26: =IFERROR(K19*HLOOKUP(K13,$G$7:$AD$8,2)/1000,"n.a.") -> n.a. | L26: =IFERROR(L19*HLOOKUP(L13,$G$7:$AD$8,2)/1000,"n.a.") -> n.a. | M26: =IFERROR(M19*HLOOKUP(M13,$G$7:$AD$8,2)/1000,"n.a.") -> n.a. | N26: =IFERROR(N19*HLOOKUP(N13,$G$7:$AD$8,2)/1000,"n.a.") -> n.a. | ... BY26: =IFERROR(BY19*HLOOKUP(BY13,$G$7:$AD$8,2)/1000,"n.a.") -> n.a.
F27: Encours upgrade 2 | G27: =IFERROR(G20*HLOOKUP(G14,$G$7:$AD$8,2)/1000,"n.a.") -> n.a. | H27: =IFERROR(H20*HLOOKUP(H14,$G$7:$AD$8,2)/1000,"n.a.") -> n.a. | I27: =IFERROR(I20*HLOOKUP(I14,$G$7:$AD$8,2)/1000,"n.a.") -> n.a. | J27: =IFERROR(J20*HLOOKUP(J14,$G$7:$AD$8,2)/1000,"n.a.") -> n.a. | K27: =IFERROR(K20*HLOOKUP(K14,$G$7:$AD$8,2)/1000,"n.a.") -> n.a. | L27: =IFERROR(L20*HLOOKUP(L14,$G$7:$AD$8,2)/1000,"n.a.") -> n.a. | M27: =IFERROR(M20*HLOOKUP(M14,$G$7:$AD$8,2)/1000,"n.a.") -> n.a. | N27: =IFERROR(N20*HLOOKUP(N14,$G$7:$AD$8,2)/1000,"n.a.") -> n.a. | ... BY27: =IFERROR(BY20*HLOOKUP(BY14,$G$7:$AD$8,2)/1000,"n.a.") -> n.a.
F28: Encours upgrade 3 | G28: =IFERROR(G21*HLOOKUP(G15,$G$7:$AD$8,2)/1000,"n.a.") -> n.a. | H28: =IFERROR(H21*HLOOKUP(H15,$G$7:$AD$8,2)/1000,"n.a.") -> n.a. | I28: =IFERROR(I21*HLOOKUP(I15,$G$7:$AD$8,2)/1000,"n.a.") -> n.a. | J28: =IFERROR(J21*HLOOKUP(J15,$G$7:$AD$8,2)/1000,"n.a.") -> n.a. | K28: =IFERROR(K21*HLOOKUP(K15,$G$7:$AD$8,2)/1000,"n.a.") -> n.a. | L28: =IFERROR(L21*HLOOKUP(L15,$G$7:$AD$8,2)/1000,"n.a.") -> n.a. | M28: =IFERROR(M21*HLOOKUP(M15,$G$7:$AD$8,2)/1000,"n.a.") -> n.a. | N28: =IFERROR(N21*HLOOKUP(N15,$G$7:$AD$8,2)/1000,"n.a.") -> n.a. | ... BY28: =IFERROR(BY21*HLOOKUP(BY15,$G$7:$AD$8,2)/1000,"n.a.") -> n.a.
F30: Encours total en k€ | G30: =SUM(G25:G28) -> 106.83555 | H30: =SUM(H25:H28) -> 103.6869 | I30: =SUM(I25:I28) -> 100.50405 | J30: =SUM(J25:J28) -> 97.286625 | K30: =SUM(K25:K28) -> 94.034251 | L30: =SUM(L25:L28) -> 90.746547 | M30: =SUM(M25:M28) -> 87.42313 | N30: =SUM(N25:N28) -> 84.063612 | ... BY30: =SUM(BY25:BY28) -> 0
F32: Encours LLD 24m | G32: =IFERROR(G18*HLOOKUP(G16,$G$7:$AD$9,3),"n.a.") -> 1148.0475 | H32: =IFERROR(H18*HLOOKUP(H16,$G$7:$AD$9,3),"n.a.") -> 1114.2124 | I32: =IFERROR(I18*HLOOKUP(I16,$G$7:$AD$9,3),"n.a.") -> 1080.0097 | J32: =IFERROR(J18*HLOOKUP(J16,$G$7:$AD$9,3),"n.a.") -> 1045.4355 | K32: =IFERROR(K18*HLOOKUP(K16,$G$7:$AD$9,3),"n.a.") -> 1010.4857 | L32: =IFERROR(L18*HLOOKUP(L16,$G$7:$AD$9,3),"n.a.") -> 975.15623 | M32: =IFERROR(M18*HLOOKUP(M16,$G$7:$AD$9,3),"n.a.") -> 939.44302 | N32: =IFERROR(N18*HLOOKUP(N16,$G$7:$AD$9,3),"n.a.") -> 903.34186 | ... BY32: =IFERROR(BY18*HLOOKUP(BY16,$G$7:$AD$9,3),"n.a.") -> 0
F33: Encours upgrade 1 | G33: =IFERROR(G19*HLOOKUP(G13,$G$7:$AD$9,3),"n.a.") -> n.a. | H33: =IFERROR(H19*HLOOKUP(H13,$G$7:$AD$9,3),"n.a.") -> n.a. | I33: =IFERROR(I19*HLOOKUP(I13,$G$7:$AD$9,3),"n.a.") -> n.a. | J33: =IFERROR(J19*HLOOKUP(J13,$G$7:$AD$9,3),"n.a.") -> n.a. | K33: =IFERROR(K19*HLOOKUP(K13,$G$7:$AD$9,3),"n.a.") -> n.a. | L33: =IFERROR(L19*HLOOKUP(L13,$G$7:$AD$9,3),"n.a.") -> n.a. | M33: =IFERROR(M19*HLOOKUP(M13,$G$7:$AD$9,3),"n.a.") -> n.a. | N33: =IFERROR(N19*HLOOKUP(N13,$G$7:$AD$9,3),"n.a.") -> n.a. | ... BY33: =IFERROR(BY19*HLOOKUP(BY13,$G$7:$AD$9,3),"n.a.") -> n.a.
F34: Encours upgrade 2 | G34: =IFERROR(G20*HLOOKUP(G14,$G$7:$AD$9,3),"n.a.") -> n.a. | H34: =IFERROR(H20*HLOOKUP(H14,$G$7:$AD$9,3),"n.a.") -> n.a. | I34: =IFERROR(I20*HLOOKUP(I14,$G$7:$AD$9,3),"n.a.") -> n.a. | J34: =IFERROR(J20*HLOOKUP(J14,$G$7:$AD$9,3),"n.a.") -> n.a. | K34: =IFERROR(K20*HLOOKUP(K14,$G$7:$AD$9,3),"n.a.") -> n.a. | L34: =IFERROR(L20*HLOOKUP(L14,$G$7:$AD$9,3),"n.a.") -> n.a. | M34: =IFERROR(M20*HLOOKUP(M14,$G$7:$AD$9,3),"n.a.") -> n.a. | N34: =IFERROR(N20*HLOOKUP(N14,$G$7:$AD$9,3),"n.a.") -> n.a. | ... BY34: =IFERROR(BY20*HLOOKUP(BY14,$G$7:$AD$9,3),"n.a.") -> n.a.
F35: Encours upgrade 3 | G35: =IFERROR(G21*HLOOKUP(G15,$G$7:$AD$9,3),"n.a.") -> n.a. | H35: =IFERROR(H21*HLOOKUP(H15,$G$7:$AD$9,3),"n.a.") -> n.a. | I35: =IFERROR(I21*HLOOKUP(I15,$G$7:$AD$9,3),"n.a.") -> n.a. | J35: =IFERROR(J21*HLOOKUP(J15,$G$7:$AD$9,3),"n.a.") -> n.a. | K35: =IFERROR(K21*HLOOKUP(K15,$G$7:$AD$9,3),"n.a.") -> n.a. | L35: =IFERROR(L21*HLOOKUP(L15,$G$7:$AD$9,3),"n.a.") -> n.a. | M35: =IFERROR(M21*HLOOKUP(M15,$G$7:$AD$9,3),"n.a.") -> n.a. | N35: =IFERROR(N21*HLOOKUP(N15,$G$7:$AD$9,3),"n.a.") -> n.a. | ... BY35: =IFERROR(BY21*HLOOKUP(BY15,$G$7:$AD$9,3),"n.a.") -> n.a.
F37: Agios en k€ | G37: =SUM(G32:G35) -> 1148.0475 | H37: =SUM(H32:H35) -> 1114.2124 | I37: =SUM(I32:I35) -> 1080.0097 | J37: =SUM(J32:J35) -> 1045.4355 | K37: =SUM(K32:K35) -> 1010.4857 | L37: =SUM(L32:L35) -> 975.15623 | M37: =SUM(M32:M35) -> 939.44302 | N37: =SUM(N32:N35) -> 903.34186 | ... BY37: =SUM(BY32:BY35) -> 0
F39: Check agios
F40: Encours LLD 24m | G40: ='[1]24 mois smartphone upg'!D132-G32 -> 0 | H40: ='[1]24 mois smartphone upg'!E132-H32 -> 0 | I40: ='[1]24 mois smartphone upg'!F132-I32 -> 0 | J40: ='[1]24 mois smartphone upg'!G132-J32 -> 0 | K40: ='[1]24 mois smartphone upg'!H132-K32 -> 0 | L40: ='[1]24 mois smartphone upg'!I132-L32 -> 0 | M40: ='[1]24 mois smartphone upg'!J132-M32 -> 0 | N40: ='[1]24 mois smartphone upg'!K132-N32 -> 0 | ... BY40: ='[1]24 mois smartphone upg'!BV132-BY32 -> 0
F41: Encours upgrade 1 | G41: =IFERROR('[1]24 mois smartphone upg'!D177-G33,"n.a.") -> n.a. | H41: =IFERROR('[1]24 mois smartphone upg'!E177-H33,"n.a.") -> n.a. | I41: =IFERROR('[1]24 mois smartphone upg'!F177-I33,"n.a.") -> n.a. | J41: =IFERROR('[1]24 mois smartphone upg'!G177-J33,"n.a.") -> n.a. | K41: =IFERROR('[1]24 mois smartphone upg'!H177-K33,"n.a.") -> n.a. | L41: =IFERROR('[1]24 mois smartphone upg'!I177-L33,"n.a.") -> n.a. | M41: =IFERROR('[1]24 mois smartphone upg'!J177-M33,"n.a.") -> n.a. | N41: =IFERROR('[1]24 mois smartphone upg'!K177-N33,"n.a.") -> n.a. | ... BY41: =IFERROR('[1]24 mois smartphone upg'!BV177-BY33,"n.a.") -> n.a.
F42: Encours upgrade 2 | G42: =IFERROR('[1]24 mois smartphone upg'!D223-G34,"n.a.") -> n.a. | H42: =IFERROR('[1]24 mois smartphone upg'!E223-H34,"n.a.") -> n.a. | I42: =IFERROR('[1]24 mois smartphone upg'!F223-I34,"n.a.") -> n.a. | J42: =IFERROR('[1]24 mois smartphone upg'!G223-J34,"n.a.") -> n.a. | K42: =IFERROR('[1]24 mois smartphone upg'!H223-K34,"n.a.") -> n.a. | L42: =IFERROR('[1]24 mois smartphone upg'!I223-L34,"n.a.") -> n.a. | M42: =IFERROR('[1]24 mois smartphone upg'!J223-M34,"n.a.") -> n.a. | N42: =IFERROR('[1]24 mois smartphone upg'!K223-N34,"n.a.") -> n.a. | ... BY42: =IFERROR('[1]24 mois smartphone upg'!BV223-BY34,"n.a.") -> n.a.
F43: Encours upgrade 3 | G43: =IFERROR('[1]24 mois smartphone upg'!D268-G35,"n.a.") -> n.a. | H43: =IFERROR('[1]24 mois smartphone upg'!E268-H35,"n.a.") -> n.a. | I43: =IFERROR('[1]24 mois smartphone upg'!F268-I35,"n.a.") -> n.a. | J43: =IFERROR('[1]24 mois smartphone upg'!G268-J35,"n.a.") -> n.a. | K43: =IFERROR('[1]24 mois smartphone upg'!H268-K35,"n.a.") -> n.a. | L43: =IFERROR('[1]24 mois smartphone upg'!I268-L35,"n.a.") -> n.a. | M43: =IFERROR('[1]24 mois smartphone upg'!J268-M35,"n.a.") -> n.a. | N43: =IFERROR('[1]24 mois smartphone upg'!K268-N35,"n.a.") -> n.a. | ... BY43: =IFERROR('[1]24 mois smartphone upg'!BV268-BY35,"n.a.") -> n.a.
F45: Evolution portefeuille type 24 mois Check
F46: Encours upgrade 1 | V46: 1 | W46: =1+V46 -> 2 | X46: =1+W46 -> 3 | Y46: =1+X46 -> 4 | Z46: =1+Y46 -> 5 | AA46: =1+Z46 -> 6 | AB46: =1+AA46 -> 7 | AC46: =1+AB46 -> 8 | AD46: =1+AC46 -> 9 | ... AS46: =1+AR46 -> 24
F47: Encours upgrade 2 | AK47: 1 | AL47: =1+AK47 -> 2 | AM47: =1+AL47 -> 3 | AN47: =1+AM47 -> 4 | AO47: =1+AN47 -> 5 | AP47: =1+AO47 -> 6 | AQ47: =1+AP47 -> 7 | AR47: =1+AQ47 -> 8 | AS47: =1+AR47 -> 9 | ... BH47: =1+BG47 -> 24
F48: Encours upgrade 3 | AZ48: 1 | BA48: =1+AZ48 -> 2 | BB48: =1+BA48 -> 3 | BC48: =1+BB48 -> 4 | BD48: =1+BC48 -> 5 | BE48: =1+BD48 -> 6 | BF48: =1+BE48 -> 7 | BG48: =1+BF48 -> 8 | BH48: =1+BG48 -> 9 | ... BX48: =1+BW48 -> 25
G49: 43861 | H49: =EDATE(G49,1) -> 43890 | I49: =EDATE(H49,1) -> 43919 | J49: =EDATE(I49,1) -> 43950 | K49: =EDATE(J49,1) -> 43980 | L49: =EDATE(K49,1) -> 44011 | M49: =EDATE(L49,1) -> 44041 | N49: =EDATE(M49,1) -> 44072 | O49: =EDATE(N49,1) -> 44103 | ... BZ49: =EDATE(BY49,1) -> 46019
C50: 43861 | F50: Mois | G50: 1 | H50: =1+G50 -> 2 | I50: =1+H50 -> 3 | J50: =1+I50 -> 4 | K50: =1+J50 -> 5 | L50: =1+K50 -> 6 | M50: =1+L50 -> 7 | N50: =1+M50 -> 8 | O50: =1+N50 -> 9 | ... BZ50: =1+BY50 -> 72
F52: Encours LLD 24m | G52: =INDEX('[1]DARTY - Production'!$D$8:$DH$26,MATCH("Leasing",'[1]DARTY - Production'!$D$8:$D$26,0),MATCH(Objectif!C50,'[1]DARTY - Production'!$D$8:$DH$8,0)) -> 723.34909 | H52: =IF(H50>24,0,IF(H50<$G$5,$G$18,(1-$G$4)*$G$18)) -> 158.33333 | I52: =IF(I50>24,0,IF(I50<$G$5,$G$18,(1-$G$4)*$G$18)) -> 158.33333 | J52: =IF(J50>24,0,IF(J50<$G$5,$G$18,(1-$G$4)*$G$18)) -> 158.33333 | K52: =IF(K50>24,0,IF(K50<$G$5,$G$18,(1-$G$4)*$G$18)) -> 158.33333 | L52: =IF(L50>24,0,IF(L50<$G$5,$G$18,(1-$G$4)*$G$18)) -> 158.33333 | M52: =IF(M50>24,0,IF(M50<$G$5,$G$18,(1-$G$4)*$G$18)) -> 158.33333 | N52: =IF(N50>24,0,IF(N50<$G$5,$G$18,(1-$G$4)*$G$18)) -> 158.33333 | O52: =IF(O50>24,0,IF(O50<$G$5,$G$18,(1-$G$4)*$G$18)) -> 158.33333 | ... BW52: =IF(BW50>24,0,IF(BW50<$G$5,$G$18,(1-$G$4)*$G$18)) -> 0 | BX52: =IF(BX50>24,0,IF(BX50<$G$5,$G52,(1-$G$4)*$G52)) -> 0 | BY52: =IF(BY50>24,0,IF(BY50<$G$5,$G52,(1-$G$4)*$G52)) -> 0 | BZ52: =IF(BZ50>24,0,IF(BZ50<$G$5,$G52,(1-$G$4)*$G52)) -> 0
E53: 1 | F53: Encours upgrade 1 | G53: =IF(G50>($G$3+$G$5),0,IF(AND(G50<($G$5+$G$5-1),G50>($E$19*($G$5-1))),($G$18*$G$4),IF(AND(G50<($G$3+$G$5),G50>($G$5+$G$5-2)),$G$18*$G$4*(1-$G$4),IF(AND(G50>($G$3+$G$5)),$G$18*$G$4*(1-$G$4)*0,0)))) -> 0 | H53: =IF(H50>($G$3+$G$5),0,IF(AND(H50<($G$5+$G$5-1),H50>($E$19*($G$5-1))),($G$18*$G$4),IF(AND(H50<($G$3+$G$5),H50>($G$5+$G$5-2)),$G$18*$G$4*(1-$G$4),IF(AND(H50>($G$3+$G$5)),$G$18*$G$4*(1-$G$4)*0,0)))) -> 0 | I53: =IF(I50>($G$3+$G$5),0,IF(AND(I50<($G$5+$G$5-1),I50>($E$19*($G$5-1))),($G$18*$G$4),IF(AND(I50<($G$3+$G$5),I50>($G$5+$G$5-2)),$G$18*$G$4*(1-$G$4),IF(AND(I50>($G$3+$G$5)),$G$18*$G$4*(1-$G$4)*0,0)))) -> 0 | J53: =IF(J50>($G$3+$G$5),0,IF(AND(J50<($G$5+$G$5-1),J50>($E$19*($G$5-1))),($G$18*$G$4),IF(AND(J50<($G$3+$G$5),J50>($G$5+$G$5-2)),$G$18*$G$4*(1-$G$4),IF(AND(J50>($G$3+$G$5)),$G$18*$G$4*(1-$G$4)*0,0)))) -> 0 | K53: =IF(K50>($G$3+$G$5),0,IF(AND(K50<($G$5+$G$5-1),K50>($E$19*($G$5-1))),($G$18*$G$4),IF(AND(K50<($G$3+$G$5),K50>($G$5+$G$5-2)),$G$18*$G$4*(1-$G$4),IF(AND(K50>($G$3+$G$5)),$G$18*$G$4*(1-$G$4)*0,0)))) -> 0 | L53: =IF(L50>($G$3+$G$5),0,IF(AND(L50<($G$5+$G$5-1),L50>($E$19*($G$5-1))),($G$18*$G$4),IF(AND(L50<($G$3+$G$5),L50>($G$5+$G$5-2)),$G$18*$G$4*(1-$G$4),IF(AND(L50>($G$3+$G$5)),$G$18*$G$4*(1-$G$4)*0,0)))) -> 0 | M53: =IF(M50>($G$3+$G$5),0,IF(AND(M50<($G$5+$G$5-1),M50>($E$19*($G$5-1))),($G$18*$G$4),IF(AND(M50<($G$3+$G$5),M50>($G$5+$G$5-2)),$G$18*$G$4*(1-$G$4),IF(AND(M50>($G$3+$G$5)),$G$18*$G$4*(1-$G$4)*0,0)))) -> 0 | N53: =IF(N50>($G$3+$G$5),0,IF(AND(N50<($G$5+$G$5-1),N50>($E$19*($G$5-1))),($G$18*$G$4),IF(AND(N50<($G$3+$G$5),N50>($G$5+$G$5-2)),$G$18*$G$4*(1-$G$4),IF(AND(N50>($G$3+$G$5)),$G$18*$G$4*(1-$G$4)*0,0)))) -> 0 | ... BW53: =IF(BW50>($G$3+$G$5),0,IF(AND(BW50<($G$5+$G$5-1),BW50>($E$19*($G$5-1))),($G$18*$G$4),IF(AND(BW50<($G$3+$G$5),BW50>($G$5+$G$5-2)),$G$18*$G$4*(1-$G$4),IF(AND(BW50>($G$3+$G$5)),$G$18*$G$4*(1-$G$4)*0,0)))) -> 0 | BX53: =IF(BX50>($G$3+$G$5),0,IF(AND(BX50<($G$5+$G$5-1),BX50>($E53*($G$5-1))),($G52*$G$4),IF(AND(BX50<($G$3+$G$5),BX50>($G$5+$G$5-2)),$G52*$G$4*(1-$G$4),IF(AND(BX50>($G$3+$G$5)),$G52*$G$4*(1-$G$4)*0,0)))) -> 0 | BY53: =IF(BY50>($G$3+$G$5),0,IF(AND(BY50<($G$5+$G$5-1),BY50>($E53*($G$5-1))),($G52*$G$4),IF(AND(BY50<($G$3+$G$5),BY50>($G$5+$G$5-2)),$G52*$G$4*(1-$G$4),IF(AND(BY50>($G$3+$G$5)),$G52*$G$4*(1-$G$4)*0,0)))) -> 0 | BZ53: =IF(BZ50>($G$3+$G$5),0,IF(AND(BZ50<($G$5+$G$5-1),BZ50>($E53*($G$5-1))),($G52*$G$4),IF(AND(BZ50<($G$3+$G$5),BZ50>($G$5+$G$5-2)),$G52*$G$4*(1-$G$4),IF(AND(BZ50>($G$3+$G$5)),$G52*$G$4*(1-$G$4)*0,0)))) -> 0
...
