Workbook
Name _05_DARTY_RHONE_ALPES: #REF!
Name _05_DARTY_RHONE_ALPES: #REF!
Name _05_DARTY_RHONE_ALPES: #REF!
Name _BAL061: [4]BALANCE!$C$1:$E$65536
Name _INS8: #REF!
Name _INS8: #REF!
Name _INS8: #REF!
Name _TCD1: [5]tcd!$A$1:$P$14
Name _TCD2: [6]TCD2!$A$1:$O$36
Name _TCD3: [6]TCD3!$A$1:$O$36
Name _TCD4: [6]TCD4!$A$1:$O$36
Name AG: [7]tables!$G$8:$H$10
Name AS: [8]!synth
Name AS: [8]!synth
Name AS: [8]!synth
Name AZ: [9]!Module2.synth
Name AZ: [9]!Module2.synth
Name AZ: [9]!Module2.synth
Name b: [10]Tables!$D$1:$K$13
Name bdd: #REF!
Name bdd: #REF!
Name bdd: #REF!
Name BU: #REF!
Name BU: #REF!
Name BU: #REF!
Name CA_enseigne_N: #REF!
Name CA_enseigne_N: #REF!
Name CA_enseigne_N: #REF!
Name Col_AccTyp: #REF!
Name Col_AccTyp: #REF!
Name Col_AccTyp: #REF!
Name Col_Att1: #REF!
Name Col_Att1: #REF!
Name Col_Att1: #REF!
Name Col_Att2: #REF!
Name Col_Att2: #REF!
Name Col_Att2: #REF!
Name Col_Att3: #REF!
Name Col_Att3: #REF!
Name Col_Att3: #REF!
Name Col_Conso: #REF!
Name Col_Conso: #REF!
Name Col_Conso: #REF!
Name Col_ConsoBS: #REF!
Name Col_ConsoBS: #REF!
Name Col_ConsoBS: #REF!
Name Col_ConsoPeople: #REF!
Name Col_ConsoPeople: #REF!
Name Col_ConsoPeople: #REF!
Name Col_DataSto: #REF!
Name Col_DataSto: #REF!
Name Col_DataSto: #REF!
Name Col_DataTyp: #REF!
Name Col_DataTyp: #REF!
Name Col_DataTyp: #REF!
Name Col_Description: #REF!
Name Col_Description: #REF!
Name Col_Description: #REF!
Name Col_Devises: #REF!
Name Col_Devises: #REF!

Sheet LLD (24m)
F2: Hypothèses 24 mois
F3: Encours LLD 24 | G3: 24
F4: % upgrade | G4: 0.6
F5: Mois upgrage | G5: 16
F7: Mois | G7: 1 | H7: =G7+1 -> 2 | I7: =H7+1 -> 3 | J7: =I7+1 -> 4 | K7: =J7+1 -> 5 | L7: =K7+1 -> 6 | M7: =L7+1 -> 7 | N7: =M7+1 -> 8 | O7: =N7+1 -> 9 | ... AD7: =AC7+1 -> 24
F8: Encours fin | G8: ='[1]24 mois smartphone upg'!D89 -> 674.75083 | H8: ='[1]24 mois smartphone upg'!E89 -> 654.86463 | I8: ='[1]24 mois smartphone upg'!F89 -> 634.76242 | J8: ='[1]24 mois smartphone upg'!G89 -> 614.44184 | K8: ='[1]24 mois smartphone upg'!H89 -> 593.90053 | L8: ='[1]24 mois smartphone upg'!I89 -> 573.13609 | M8: ='[1]24 mois smartphone upg'!J89 -> 552.14608 | N8: ='[1]24 mois smartphone upg'!K89 -> 530.92807 | ... AD8: ='[1]24 mois smartphone upg'!AA89 -> 158.325
F9: Agios dossier unitaire | G9: ='[1]24 mois smartphone upg'!D95 -> 7.2508266 | H9: ='[1]24 mois smartphone upg'!E95 -> 7.0371309 | I9: ='[1]24 mois smartphone upg'!F95 -> 6.8211139 | J9: ='[1]24 mois smartphone upg'!G95 -> 6.6027503 | K9: ='[1]24 mois smartphone upg'!H95 -> 6.3820148 | L9: ='[1]24 mois smartphone upg'!I95 -> 6.1588815 | M9: ='[1]24 mois smartphone upg'!J95 -> 5.9333243 | N9: ='[1]24 mois smartphone upg'!K95 -> 5.705317 | ... AD9: ='[1]24 mois smartphone upg'!AA95 -> 1.7013497
F12: Evolution portefeuille type 24 mois Check
F13: Encours upgrade 1 | V13: 1 | W13: =1+V13 -> 2 | X13: =1+W13 -> 3 | Y13: =1+X13 -> 4 | Z13: =1+Y13 -> 5 | AA13: =1+Z13 -> 6 | AB13: =1+AA13 -> 7 | AC13: =1+AB13 -> 8 | AD13: =1+AC13 -> 9 | ... AS13: =1+AR13 -> 24
F14: Encours upgrade 2 | AK14: 1 | AL14: =1+AK14 -> 2 | AM14: =1+AL14 -> 3 | AN14: =1+AM14 -> 4 | AO14: =1+AN14 -> 5 | AP14: =1+AO14 -> 6 | AQ14: =1+AP14 -> 7 | AR14: =1+AQ14 -> 8 | AS14: =1+AR14 -> 9 | ... BH14: =1+BG14 -> 24
F15: Encours upgrade 3 | AZ15: 1 | BA15: =1+AZ15 -> 2 | BB15: =1+BA15 -> 3 | BC15: =1+BB15 -> 4 | BD15: =1+BC15 -> 5 | BE15: =1+BD15 -> 6 | BF15: =1+BE15 -> 7 | BG15: =1+BF15 -> 8 | BH15: =1+BG15 -> 9 | ... BW15: =1+BV15 -> 24
F16: Mois | G16: 1 | H16: =1+G16 -> 2 | I16: =1+H16 -> 3 | J16: =1+I16 -> 4 | K16: =1+J16 -> 5 | L16: =1+K16 -> 6 | M16: =1+L16 -> 7 | N16: =1+M16 -> 8 | O16: =1+N16 -> 9 | ... BZ16: =1+BY16 -> 72
F18: Encours LLD 24m | G18: ='[1]24 mois smartphone upg'!D103 -> 158.33333 | H18: =IF(H16>24,0,IF(H16<$G$5,$G$18,(1-$G$4)*$G$18)) -> 158.33333 | I18: =IF(I16>24,0,IF(I16<$G$5,$G$18,(1-$G$4)*$G$18)) -> 158.33333 | J18: =IF(J16>24,0,IF(J16<$G$5,$G$18,(1-$G$4)*$G$18)) -> 158.33333 | K18: =IF(K16>24,0,IF(K16<$G$5,$G$18,(1-$G$4)*$G$18)) -> 158.33333 | L18: =IF(L16>24,0,IF(L16<$G$5,$G$18,(1-$G$4)*$G$18)) -> 158.33333 | M18: =IF(M16>24,0,IF(M16<$G$5,$G$18,(1-$G$4)*$G$18)) -> 158.33333 | N18: =IF(N16>24,0,IF(N16<$G$5,$G$18,(1-$G$4)*$G$18)) -> 158.33333 | O18: =IF(O16>24,0,IF(O16<$G$5,$G$18,(1-$G$4)*$G$18)) -> 158.33333 | ... BZ18: =IF(BZ16>24,0,IF(BZ16<$G$5,$G$18,(1-$G$4)*$G$18)) -> 0
E19: 1 | F19: Encours upgrade 1 | G19: =IF(G16>($G$3+$G$5),0,IF(AND(G16<($G$5+$G$5-1),G16>($E$19*($G$5-1))),($G$18*$G$4),IF(AND(G16<($G$3+$G$5),G16>($G$5+$G$5-2)),$G$18*$G$4*(1-$G$4),IF(AND(G16>($G$3+$G$5)),$G$18*$G$4*(1-$G$4)*0,0)))) -> 0 | H19: =IF(H16>($G$3+$G$5),0,IF(AND(H16<($G$5+$G$5-1),H16>($E$19*($G$5-1))),($G$18*$G$4),IF(AND(H16<($G$3+$G$5),H16>($G$5+$G$5-2)),$G$18*$G$4*(1-$G$4),IF(AND(H16>($G$3+$G$5)),$G$18*$G$4*(1-$G$4)*0,0)))) -> 0 | I19: =IF(I16>($G$3+$G$5),0,IF(AND(I16<($G$5+$G$5-1),I16>($E$19*($G$5-1))),($G$18*$G$4),IF(AND(I16<($G$3+$G$5),I16>($G$5+$G$5-2)),$G$18*$G$4*(1-$G$4),IF(AND(I16>($G$3+$G$5)),$G$18*$G$4*(1-$G$4)*0,0)))) -> 0 | J19: =IF(J16>($G$3+$G$5),0,IF(AND(J16<($G$5+$G$5-1),J16>($E$19*($G$5-1))),($G$18*$G$4),IF(AND(J16<($G$3+$G$5),J16>($G$5+$G$5-2)),$G$18*$G$4*(1-$G$4),IF(AND(J16>($G$3+$G$5)),$G$18*$G$4*(1-$G$4)*0,0)))) -> 0 | K19: =IF(K16>($G$3+$G$5),0,IF(AND(K16<($G$5+$G$5-1),K16>($E$19*($G$5-1))),($G$18*$G$4),IF(AND(K16<($G$3+$G$5),K16>($G$5+$G$5-2)),$G$18*$G$4*(1-$G$4),IF(AND(K16>($G$3+$G$5)),$G$18*$G$4*(1-$G$4)*0,0)))) -> 0 | L19: =IF(L16>($G$3+$G$5),0,IF(AND(L16<($G$5+$G$5-1),L16>($E$19*($G$5-1))),($G$18*$G$4),IF(AND(L16<($G$3+$G$5),L16>($G$5+$G$5-2)),$G$18*$G$4*(1-$G$4),IF(AND(L16>($G$3+$G$5)),$G$18*$G$4*(1-$G$4)*0,0)))) -> 0 | M19: =IF(M16>($G$3+$G$5),0,IF(AND(M16<($G$5+$G$5-1),M16>($E$19*($G$5-1))),($G$18*$G$4),IF(AND(M16<($G$3+$G$5),M16>($G$5+$G$5-2)),$G$18*$G$4*(1-$G$4),IF(AND(M16>($G$3+$G$5)),$G$18*$G$4*(1-$G$4)*0,0)))) -> 0 | N19: =IF(N16>($G$3+$G$5),0,IF(AND(N16<($G$5+$G$5-1),N16>($E$19*($G$5-1))),($G$18*$G$4),IF(AND(N16<($G$3+$G$5),N16>($G$5+$G$5-2)),$G$18*$G$4*(1-$G$4),IF(AND(N16>($G$3+$G$5)),$G$18*$G$4*(1-$G$4)*0,0)))) -> 0 | ... BZ19: =IF(BZ16>($G$3+$G$5),0,IF(AND(BZ16<($G$5+$G$5-1),BZ16>($E$19*($G$5-1))),($G$18*$G$4),IF(AND(BZ16<($G$3+$G$5),BZ16>($G$5+$G$5-2)),$G$18*$G$4*(1-$G$4),IF(AND(BZ16>($G$3+$G$5)),$G$18*$G$4*(1-$G$4)*0,0)))) -> 0
E20: 2 | F20: Encours upgrade 2 | G20: =IF(G16>($G$3+$G$5+$G$5),0,IF(AND(G16<($G$5+$G$5+$G$5-2),G16>($E$20*$G$5-2)),$G$18*($G$4*$G$4),IF(AND(G16<($G$5+$G$5+$G$3-1),G16>($G$5+$G$5+$G$5-3)),$G$18*$G$4*$G$4*(1-$G$4),0))) -> 0 | H20: =IF(H16>($G$3+$G$5+$G$5),0,IF(AND(H16<($G$5+$G$5+$G$5-2),H16>($E$20*$G$5-2)),$G$18*($G$4*$G$4),IF(AND(H16<($G$5+$G$5+$G$3-1),H16>($G$5+$G$5+$G$5-3)),$G$18*$G$4*$G$4*(1-$G$4),0))) -> 0 | I20: =IF(I16>($G$3+$G$5+$G$5),0,IF(AND(I16<($G$5+$G$5+$G$5-2),I16>($E$20*$G$5-2)),$G$18*($G$4*$G$4),IF(AND(I16<($G$5+$G$5+$G$3-1),I16>($G$5+$G$5+$G$5-3)),$G$18*$G$4*$G$4*(1-$G$4),0))) -> 0 | J20: =IF(J16>($G$3+$G$5+$G$5),0,IF(AND(J16<($G$5+$G$5+$G$5-2),J16>($E$20*$G$5-2)),$G$18*($G$4*$G$4),IF(AND(J16<($G$5+$G$5+$G$3-1),J16>($G$5+$G$5+$G$5-3)),$G$18*$G$4*$G$4*(1-$G$4),0))) -> 0 | K20: =IF(K16>($G$3+$G$5+$G$5),0,IF(AND(K16<($G$5+$G$5+$G$5-2),K16>($E$20*$G$5-2)),$G$18*($G$4*$G$4),IF(AND(K16<($G$5+$G$5+$G$3-1),K16>($G$5+$G$5+$G$5-3)),$G$18*$G$4*$G$4*(1-$G$4),0))) -> 0 | L20: =IF(L16>($G$3+$G$5+$G$5),0,IF(AND(L16<($G$5+$G$5+$G$5-2),L16>($E$20*$G$5-2)),$G$18*($G$4*$G$4),IF(AND(L16<($G$5+$G$5+$G$3-1),L16>($G$5+$G$5+$G$5-3)),$G$18*$G$4*$G$4*(1-$G$4),0))) -> 0 | M20: =IF(M16>($G$3+$G$5+$G$5),0,IF(AND(M16<($G$5+$G$5+$G$5-2),M16>($E$20*$G$5-2)),$G$18*($G$4*$G$4),IF(AND(M16<($G$5+$G$5+$G$3-1),M16>($G$5+$G$5+$G$5-3)),$G$18*$G$4*$G$4*(1-$G$4),0))) -> 0 | N20: =IF(N16>($G$3+$G$5+$G$5),0,IF(AND(N16<($G$5+$G$5+$G$5-2),N16>($E$20*$G$5-2)),$G$18*($G$4*$G$4),IF(AND(N16<($G$5+$G$5+$G$3-1),N16>($G$5+$G$5+$G$5-3)),$G$18*$G$4*$G$4*(1-$G$4),0))) -> 0 | ... BZ20: =IF(BZ16>($G$3+$G$5+$G$5),0,IF(AND(BZ16<($G$5+$G$5+$G$5-2),BZ16>($E$20*$G$5-2)),$G$18*($G$4*$G$4),IF(AND(BZ16<($G$5+$G$5+$G$3-1),BZ16>($G$5+$G$5+$G$5-3)),$G$18*$G$4*$G$4*(1-$G$4),0))) -> 0
E21: 3 | F21: Encours upgrade 3 | G21: =IF(G16>($G$3+$G$5+$G$5+$G$5),0,IF(AND(G16<($G$5+$G$5+$G$5+$G$5),G16>($E$21*$G$5-1)),$G$18*($G$4*$G$4*$G$4),IF(AND(G16<($G$5+$G$5+$G$5+$G$3),G16>($G$5+$G$5+$G$5+$G$5-1)),$G$18*$G$4*$G$4*$G$4*(1-$G$4),0))) -> 0 | H21: =IF(H16>($G$3+$G$5+$G$5+$G$5),0,IF(AND(H16<($G$5+$G$5+$G$5+$G$5),H16>($E$21*$G$5-1)),$G$18*($G$4*$G$4*$G$4),IF(AND(H16<($G$5+$G$5+$G$5+$G$3),H16>($G$5+$G$5+$G$5+$G$5-1)),$G$18*$G$4*$G$4*$G$4*(1-$G$4),0))) -> 0 | I21: =IF(I16>($G$3+$G$5+$G$5+$G$5),0,IF(AND(I16<($G$5+$G$5+$G$5+$G$5),I16>($E$21*$G$5-1)),$G$18*($G$4*$G$4*$G$4),IF(AND(I16<($G$5+$G$5+$G$5+$G$3),I16>($G$5+$G$5+$G$5+$G$5-1)),$G$18*$G$4*$G$4*$G$4*(1-$G$4),0))) -> 0 | J21: =IF(J16>($G$3+$G$5+$G$5+$G$5),0,IF(AND(J16<($G$5+$G$5+$G$5+$G$5),J16>($E$21*$G$5-1)),$G$18*($G$4*$G$4*$G$4),IF(AND(J16<($G$5+$G$5+$G$5+$G$3),J16>($G$5+$G$5+$G$5+$G$5-1)),$G$18*$G$4*$G$4*$G$4*(1-$G$4),0))) -> 0 | K21: =IF(K16>($G$3+$G$5+$G$5+$G$5),0,IF(AND(K16<($G$5+$G$5+$G$5+$G$5),K16>($E$21*$G$5-1)),$G$18*($G$4*$G$4*$G$4),IF(AND(K16<($G$5+$G$5+$G$5+$G$3),K16>($G$5+$G$5+$G$5+$G$5-1)),$G$18*$G$4*$G$4*$G$4*(1-$G$4),0))) -> 0 | L21: =IF(L16>($G$3+$G$5+$G$5+$G$5),0,IF(AND(L16<($G$5+$G$5+$G$5+$G$5),L16>($E$21*$G$5-1)),$G$18*($G$4*$G$4*$G$4),IF(AND(L16<($G$5+$G$5+$G$5+$G$3),L16>($G$5+$G$5+$G$5+$G$5-1)),$G$18*$G$4*$G$4*$G$4*(1-$G$4),0))) -> 0 | M21: =IF(M16>($G$3+$G$5+$G$5+$G$5),0,IF(AND(M16<($G$5+$G$5+$G$5+$G$5),M16>($E$21*$G$5-1)),$G$18*($G$4*$G$4*$G$4),IF(AND(M16<($G$5+$G$5+$G$5+$G$3),M16>($G$5+$G$5+$G$5+$G$5-1)),$G$18*$G$4*$G$4*$G$4*(1-$G$4),0))) -> 0 | N21: =IF(N16>($G$3+$G$5+$G$5+$G$5),0,IF(AND(N16<($G$5+$G$5+$G$5+$G$5),N16>($E$21*$G$5-1)),$G$18*($G$4*$G$4*$G$4),IF(AND(N16<($G$5+$G$5+$G$5+$G$3),N16>($G$5+$G$5+$G$5+$G$5-1)),$G$18*$G$4*$G$4*$G$4*(1-$G$4),0))) -> 0 | ... AX21: =IF(AX16>($G$3+$G$5+$G$5+$G$5),0,IF(AND(AX16<($G$5+$G$5+$G$5+$G$5),AX16>($E$21*$G$5-1)),$G$18*($G$4*$G$4*$G$4),IF(AND(AX16<($G$5+$G$5+$G$5+$G$3),AX16>($G$5+$G$5+$G$5+$G$5-1)),$G$18*$G$4*$G$4*$G$4*(1-$G$4),0))) -> 0 | AY21: =IF(AY16>($G$3+$G$5+$G$5+$G$5),0,IF(AND(AY16<($G$5+$G$5+$G$5+$G$5-2),AY16>($E$21*$G$5-3)),$G$18*($G$4*$G$4*$G$4),IF(AND(AY16<($G$5+$G$5+$G$5+$G$3),AY16>($G$5+$G$5+$G$5+$G$5-3)),$G$18*$G$4*$G$4*$G$4*(1-$G$4),0))) -> 0 | AZ21: =IF(AZ16>($G$3+$G$5+$G$5+$G$5),0,IF(AND(AZ16<($G$5+$G$5+$G$5+$G$5-2),AZ16>($E$21*$G$5-3)),$G$18*($G$4*$G$4*$G$4),IF(AND(AZ16<($G$5+$G$5+$G$5+$G$3),AZ16>($G$5+$G$5+$G$5+$G$5-3)),$G$18*$G$4*$G$4*$G$4*(1-$G$4),0))) -> 34.2 | BA21: =IF(BA16>($G$3+$G$5+$G$5+$G$5),0,IF(AND(BA16<($G$5+$G$5+$G$5+$G$5-2),BA16>($E$21*$G$5-3)),$G$18*($G$4*$G$4*$G$4),IF(AND(BA16<($G$5+$G$5+$G$5+$G$3),BA16>($G$5+$G$5+$G$5+$G$5-3)),$G$18*$G$4*$G$4*$G$4*(1-$G$4),0))) -> 34.2 | BB21: =IF(BB16>($G$3+$G$5+$G$5+$G$5),0,IF(AND(BB16<($G$5+$G$5+$G$5+$G$5-2),BB16>($E$21*$G$5-3)),$G$18*($G$4*$G$4*$G$4),IF(AND(BB16<($G$5+$G$5+$G$5+$G$3),BB16>($G$5+$G$5+$G$5+$G$5-3)),$G$18*$G$4*$G$4*$G$4*(1-$G$4),0))) -> 34.2 | BC21: =IF(BC16>($G$3+$G$5+$G$5+$G$5),0,IF(AND(BC16<($G$5+$G$5+$G$5+$G$5-2),BC16>($E$21*$G$5-3)),$G$18*($G$4*$G$4*$G$4),IF(AND(BC16<($G$5+$G$5+$G$5+$G$3),BC16>($G$5+$G$5+$G$5+$G$5-3)),$G$18*$G$4*$G$4*$G$4*(1-$G$4),0))) -> 34.2 | BD21: =IF(BD16>($G$3+$G$5+$G$5+$G$5),0,IF(AND(BD16<($G$5+$G$5+$G$5+$G$5-2),BD16>($E$21*$G$5-3)),$G$18*($G$4*$G$4*$G$4),IF(AND(BD16<($G$5+$G$5+$G$5+$G$3),BD16>($G$5+$G$5+$G$5+$G$5-3)),$G$18*$G$4*$G$4*$G$4*(1-$G$4),0))) -> 34.2 | BE21: =IF(BE16>($G$3+$G$5+$G$5+$G$5),0,IF(AND(BE16<($G$5+$G$5+$G$5+$G$5-2),BE16>($E$21*$G$5-3)),$G$18*($G$4*$G$4*$G$4),IF(AND(BE16<($G$5+$G$5+$G$5+$G$3),BE16>($G$5+$G$5+$G$5+$G$5-3)),$G$18*$G$4*$G$4*$G$4*(1-$G$4),0))) -> 34.2 | BF21: =IF(BF16>($G$3+$G$5+$G$5+$G$5),0,IF(AND(BF16<($G$5+$G$5+$G$5+$G$5-2),BF16>($E$21*$G$5-3)),$G$18*($G$4*$G$4*$G$4),IF(AND(BF16<($G$5+$G$5+$G$5+$G$3),BF16>($G$5+$G$5+$G$5+$G$5-3)),$G$18*$G$4*$G$4*$G$4*(1-$G$4),0))) -> 34.2 | ... BZ21: =IF(BZ16>($G$3+$G$5+$G$5+$G$5),0,IF(AND(BZ16<($G$5+$G$5+$G$5+$G$5-2),BZ16>($E$21*$G$5-3)),$G$18*($G$4*$G$4*$G$4),IF(AND(BZ16<($G$5+$G$5+$G$5+$G$3),BZ16>($G$5+$G$5+$G$5+$G$5-3)),$G$18*$G$4*$G$4*$G$4*(1-$G$4),0))) -> 0
F23: Encours total en nombre | G23: =SUM(G18:G21) -> 158.33333 | H23: =SUM(H18:H21) -> 158.33333 | I23: =SUM(I18:I21) -> 158.33333 | J23: =SUM(J18:J21) -> 158.33333 | K23: =SUM(K18:K21) -> 158.33333 | L23: =SUM(L18:L21) -> 158.33333 | M23: =SUM(M18:M21) -> 158.33333 | N23: =SUM(N18:N21) -> 158.33333 | ... BZ23: =SUM(BZ18:BZ21) -> 0
F25: Encours LLD 24m | G25: =(IFERROR(G18*HLOOKUP(G16,$G$7:$AD$8,2),"n.a."))/10^3 -> 106.83555 | H25: =(IFERROR(H18*HLOOKUP(H16,$G$7:$AD$8,2),"n.a."))/10^3 -> 103.6869 | I25: =(IFERROR(I18*HLOOKUP(I16,$G$7:$AD$8,2),"n.a."))/10^3 -> 100.50405 | J25: =(IFERROR(J18*HLOOKUP(J16,$G$7:$AD$8,2),"n.a."))/10^3 -> 97.286625 | K25: =(IFERROR(K18*HLOOKUP(K16,$G$7:$AD$8,2),"n.a."))/10^3 -> 94.034251 | L25: =(IFERROR(L18*HLOOKUP(L16,$G$7:$AD$8,2),"n.a."))/10^3 -> 90.746547 | M25: =(IFERROR(M18*HLOOKUP(M16,$G$7:$AD$8,2),"n.a."))/10^3 -> 87.42313 | N25: =(IFERROR(N18*HLOOKUP(N16,$G$7:$AD$8,2),"n.a."))/10^3 -> 84.063612 | ... BY25: =(IFERROR(BY18*HLOOKUP(BY16,$G$7:$AD$8,2),"n.a."))/10^3 -> 0
F26: Encours upgrade 1 | G26: =IFERROR(G19*HLOOKUP(G13,$G$7:$AD$8,2)/1000,"n.a.") -> n.a. | H26: =IFERROR(H19*HLOOKUP(H13,$G$7:$AD$8,2)/1000,"n.a.") -> n.a. | I26: =IFERROR(I19*HLOOKUP(I13,$G$7:$AD$8,2)/1000,"n.a.") -> n.a. | J26: =IFERROR(J19*HLOOKUP(J13,$G$7:$AD$8,2)/1000,"n.a.") -> n.a. | K26: =IFERROR(K19*HLOOKUP(K13,$G$7:$AD$8,2)/1000,"n.a.") -> n.a. | L26: =IFERROR(L19*HLOOKUP(L13,$G$7:$AD$8,2)/1000,"n.a.") -> n.a. | M26: =IFERROR(M19*HLOOKUP(M13,$G$7:$AD$8,2)/1000,"n.a.") -> n.a. | N26: =IFERROR(N19*HLOOKUP(N13,$G$7:$AD$8,2)/1000,"n.a.") -> n.a. | ... BY26: =IFERROR(BY19*HLOOKUP(BY13,$G$7:$AD$8,2)/1000,"n.a.") -> n.a.
F27: Encours upgrade 2 | G27: =IFERROR(G20*HLOOKUP(G14,$G$7:$AD$8,2)/1000,"n.a.") -> n.a. | H27: =IFERROR(H20*HLOOKUP(H14,$G$7:$AD$8,2)/1000,"n.a.") -> n.a. | I27: =IFERROR(I20*HLOOKUP(I14,$G$7:$AD$8,2)/1000,"n.a.") -> n.a. | J27: =IFERROR(J20*HLOOKUP(J14,$G$7:$AD$8,2)/1000,"n.a.") -> n.a. | K27: =IFERROR(K20*HLOOKUP(K14,$G$7:$AD$8,2)/1000,"n.a.") -> n.a. | L27: =IFERROR(L20*HLOOKUP(L14,$G$7:$AD$8,2)/1000,"n.a.") -> n.a. | M27: =IFERROR(M20*HLOOKUP(M14,$G$7:$AD$8,2)/1000,"n.a.") -> n.a. | N27: =IFERROR(N20*HLOOKUP(N14,$G$7:$AD$8,2)/1000,"n.a.") -> n.a. | ... BY27: =IFERROR(BY20*HLOOKUP(BY14,$G$7:$AD$8,2)/1000,"n.a.") -> n.a.
F28: Encours upgrade 3 | G28: =IFERROR(G21*HLOOKUP(G15,$G$7:$AD$8,2)/1000,"n.a.") -> n.a. | H28: =IFERROR(H21*HLOOKUP(H15,$G$7:$AD$8,2)/1000,"n.a.") -> n.a. | I28: =IFERROR(I21*HLOOKUP(I15,$G$7:$AD$8,2)/1000,"n.a.") -> n.a. | J28: =IFERROR(J21*HLOOKUP(J15,$G$7:$AD$8,2)/1000,"n.a.") -> n.a. | K28: =IFERROR(K21*HLOOKUP(K15,$G$7:$AD$8,2)/1000,"n.a.") -> n.a. | L28: =IFERROR(L21*HLOOKUP(L15,$G$7:$AD$8,2)/1000,"n.a.") -> n.a. | M28: =IFERROR(M21*HLOOKUP(M15,$G$7:$AD$8,2)/1000,"n.a.") -> n.a. | N28: =IFERROR(N21*HLOOKUP(N15,$G$7:$AD$8,2)/1000,"n.a.") -> n.a. | ... BY28: =IFERROR(BY21*HLOOKUP(BY15,$G$7:$AD$8,2)/1000,"n.a.") -> n.a.
F30: Encours total en k€ | G30: =SUM(G25:G28) -> 106.83555 | H30: =SUM(H25:H28) -> 103.6869 | I30: =SUM(I25:I28) -> 100.50405 | J30: =SUM(J25:J28) -> 97.286625 | K30: =SUM(K25:K28) -> 94.034251 | L30: =SUM(L25:L28) -> 90.746547 | M30: =SUM(M25:M28) -> 87.42313 | N30: =SUM(N25:N28) -> 84.063612 | ... BY30: =SUM(BY25:BY28) -> 0
F32: Encours LLD 24m | G32: =IFERROR(G18*HLOOKUP(G16,$G$7:$AD$9,3),"n.a.") -> 1148.0475 | H32: =IFERROR(H18*HLOOKUP(H16,$G$7:$AD$9,3),"n.a.") -> 1114.2124 | I32: =IFERROR(I18*HLOOKUP(I16,$G$7:$AD$9,3),"n.a.") -> 1080.0097 | J32: =IFERROR(J18*HLOOKUP(J16,$G$7:$AD$9,3),"n.a.") -> 1045.4355 | K32: =IFERROR(K18*HLOOKUP(K16,$G$7:$AD$9,3),"n.a.") -> 1010.4857 | L32: =IFERROR(L18*HLOOKUP(L16,$G$7:$AD$9,3),"n.a.") -> 975.15623 | M32: =IFERROR(M18*HLOOKUP(M16,$G$7:$AD$9,3),"n.a.") -> 939.44302 | N32: =IFERROR(N18*HLOOKUP(N16,$G$7:$AD$9,3),"n.a.") -> 903.34186 | ... BY32: =IFERROR(BY18*HLOOKUP(BY16,$G$7:$AD$9,3),"n.a.") -> 0
F33: Encours upgrade 1 | G33: =IFERROR(G19*HLOOKUP(G13,$G$7:$AD$9,3),"n.a.") -> n.a. | H33: =IFERROR(H19*HLOOKUP(H13,$G$7:$AD$9,3),"n.a.") -> n.a. | I33: =IFERROR(I19*HLOOKUP(I13,$G$7:$AD$9,3),"n.a.") -> n.a. | J33: =IFERROR(J19*HLOOKUP(J13,$G$7:$AD$9,3),"n.a.") -> n.a. | K33: =IFERROR(K19*HLOOKUP(K13,$G$7:$AD$9,3),"n.a.") -> n.a. | L33: =IFERROR(L19*HLOOKUP(L13,$G$7:$AD$9,3),"n.a.") -> n.a. | M33: =IFERROR(M19*HLOOKUP(M13,$G$7:$AD$9,3),"n.a.") -> n.a. | N33: =IFERROR(N19*HLOOKUP(N13,$G$7:$AD$9,3),"n.a.") -> n.a. | ... BY33: =IFERROR(BY19*HLOOKUP(BY13,$G$7:$AD$9,3),"n.a.") -> n.a.
F34: Encours upgrade 2 | G34: =IFERROR(G20*HLOOKUP(G14,$G$7:$AD$9,3),"n.a.") -> n.a. | H34: =IFERROR(H20*HLOOKUP(H14,$G$7:$AD$9,3),"n.a.") -> n.a. | I34: =IFERROR(I20*HLOOKUP(I14,$G$7:$AD$9,3),"n.a.") -> n.a. | J34: =IFERROR(J20*HLOOKUP(J14,$G$7:$AD$9,3),"n.a.") -> n.a. | K34: =IFERROR(K20*HLOOKUP(K14,$G$7:$AD$9,3),"n.a.") -> n.a. | L34: =IFERROR(L20*HLOOKUP(L14,$G$7:$AD$9,3),"n.a.") -> n.a. | M34: =IFERROR(M20*HLOOKUP(M14,$G$7:$AD$9,3),"n.a.") -> n.a. | N34: =IFERROR(N20*HLOOKUP(N14,$G$7:$AD$9,3),"n.a.") -> n.a. | ... BY34: =IFERROR(BY20*HLOOKUP(BY14,$G$7:$AD$9,3),"n.a.") -> n.a.
F35: Encours upgrade 3 | G35: =IFERROR(G21*HLOOKUP(G15,$G$7:$AD$9,3),"n.a.") -> n.a. | H35: =IFERROR(H21*HLOOKUP(H15,$G$7:$AD$9,3),"n.a.") -> n.a. | I35: =IFERROR(I21*HLOOKUP(I15,$G$7:$AD$9,3),"n.a.") -> n.a. | J35: =IFERROR(J21*HLOOKUP(J15,$G$7:$AD$9,3),"n.a.") -> n.a. | K35: =IFERROR(K21*HLOOKUP(K15,$G$7:$AD$9,3),"n.a.") -> n.a. | L35: =IFERROR(L21*HLOOKUP(L15,$G$7:$AD$9,3),"n.a.") -> n.a. | M35: =IFERROR(M21*HLOOKUP(M15,$G$7:$AD$9,3),"n.a.") -> n.a. | N35: =IFERROR(N21*HLOOKUP(N15,$G$7:$AD$9,3),"n.a.") -> n.a. | ... BY35: =IFERROR(BY21*HLOOKUP(BY15,$G$7:$AD$9,3),"n.a.") -> n.a.
F37: Agios en k€ | G37: =SUM(G32:G35) -> 1148.0475 | H37: =SUM(H32:H35) -> 1114.2124 | I37: =SUM(I32:I35) -> 1080.0097 | J37: =SUM(J32:J35) -> 1045.4355 | K37: =SUM(K32:K35) -> 1010.4857 | L37: =SUM(L32:L35) -> 975.15623 | M37: =SUM(M32:M35) -> 939.44302 | N37: =SUM(N32:N35) -> 903.34186 | ... BY37: =SUM(BY32:BY35) -> 0
F39: Check agios
F40: Encours LLD 24m | G40: ='[1]24 mois smartphone upg'!D132-G32 -> 0 | H40: ='[1]24 mois smartphone upg'!E132-H32 -> 0 | I40: ='[1]24 mois smartphone upg'!F132-I32 -> 0 | J40: ='[1]24 mois smartphone upg'!G132-J32 -> 0 | K40: ='[1]24 mois smartphone upg'!H132-K32 -> 0 | L40: ='[1]24 mois smartphone upg'!I132-L32 -> 0 | M40: ='[1]24 mois smartphone upg'!J132-M32 -> 0 | N40: ='[1]24 mois smartphone upg'!K132-N32 -> 0 | ... BY40: ='[1]24 mois smartphone upg'!BV132-BY32 -> 0
F41: Encours upgrade 1 | G41: =IFERROR('[1]24 mois smartphone upg'!D177-G33,"n.a.") -> n.a. | H41: =IFERROR('[1]24 mois smartphone upg'!E177-H33,"n.a.") -> n.a. | I41: =IFERROR('[1]24 mois smartphone upg'!F177-I33,"n.a.") -> n.a. | J41: =IFERROR('[1]24 mois smartphone upg'!G177-J33,"n.a.") -> n.a. | K41: =IFERROR('[1]24 mois smartphone upg'!H177-K33,"n.a.") -> n.a. | L41: =IFERROR('[1]24 mois smartphone upg'!I177-L33,"n.a.") -> n.a. | M41: =IFERROR('[1]24 mois smartphone upg'!J177-M33,"n.a.") -> n.a. | N41: =IFERROR('[1]24 mois smartphone upg'!K177-N33,"n.a.") -> n.a. | ... BY41: =IFERROR('[1]24 mois smartphone upg'!BV177-BY33,"n.a.") -> n.a.
F42: Encours upgrade 2 | G42: =IFERROR('[1]24 mois smartphone upg'!D223-G34,"n.a.") -> n.a. | H42: =IFERROR('[1]24 mois smartphone upg'!E223-H34,"n.a.") -> n.a. | I42: =IFERROR('[1]24 mois smartphone upg'!F223-I34,"n.a.") -> n.a. | J42: =IFERROR('[1]24 mois smartphone upg'!G223-J34,"n.a.") -> n.a. | K42: =IFERROR('[1]24 mois smartphone upg'!H223-K34,"n.a.") -> n.a. | L42: =IFERROR('[1]24 mois smartphone upg'!I223-L34,"n.a.") -> n.a. | M42: =IFERROR('[1]24 mois smartphone upg'!J223-M34,"n.a.") -> n.a. | N42: =IFERROR('[1]24 mois smartphone upg'!K223-N34,"n.a.") -> n.a. | ... BY42: =IFERROR('[1]24 mois smartphone upg'!BV223-BY34,"n.a.") -> n.a.
F43: Encours upgrade 3 | G43: =IFERROR('[1]24 mois smartphone upg'!D268-G35,"n.a.") -> n.a. | H43: =IFERROR('[1]24 mois smartphone upg'!E268-H35,"n.a.") -> n.a. | I43: =IFERROR('[1]24 mois smartphone upg'!F268-I35,"n.a.") -> n.a. | J43: =IFERROR('[1]24 mois smartphone upg'!G268-J35,"n.a.") -> n.a. | K43: =IFERROR('[1]24 mois smartphone upg'!H268-K35,"n.a.") -> n.a. | L43: =IFERROR('[1]24 mois smartphone upg'!I268-L35,"n.a.") -> n.a. | M43: =IFERROR('[1]24 mois smartphone upg'!J268-M35,"n.a.") -> n.a. | N43: =IFERROR('[1]24 mois smartphone upg'!K268-N35,"n.a.") -> n.a. | ... BY43: =IFERROR('[1]24 mois smartphone upg'!BV268-BY35,"n.a.") -> n.a.
F45: Evolution portefeuille type 24 mois Check
F46: Encours upgrade 1 | V46: 1 | W46: =1+V46 -> 2 | X46: =1+W46 -> 3 | Y46: =1+X46 -> 4 | Z46: =1+Y46 -> 5 | AA46: =1+Z46 -> 6 | AB46: =1+AA46 -> 7 | AC46: =1+AB46 -> 8 | AD46: =1+AC46 -> 9 | ... AS46: =1+AR46 -> 24
F47: Encours upgrade 2 | AK47: 1 | AL47: =1+AK47 -> 2 | AM47: =1+AL47 -> 3 | AN47: =1+AM47 -> 4 | AO47: =1+AN47 -> 5 | AP47: =1+AO47 -> 6 | AQ47: =1+AP47 -> 7 | AR47: =1+AQ47 -> 8 | AS47: =1+AR47 -> 9 | ... BH47: =1+BG47 -> 24
F48: Encours upgrade 3 | AZ48: 1 | BA48: =1+AZ48 -> 2 | BB48: =1+BA48 -> 3 | BC48: =1+BB48 -> 4 | BD48: =1+BC48 -> 5 | BE48: =1+BD48 -> 6 | BF48: =1+BE48 -> 7 | BG48: =1+BF48 -> 8 | BH48: =1+BG48 -> 9 | ... BX48: =1+BW48 -> 25
G49: 43861 | H49: =EDATE(G49,1) -> 43890 | I49: =EDATE(H49,1) -> 43919 | J49: =EDATE(I49,1) -> 43950 | K49: =EDATE(J49,1) -> 43980 | L49: =EDATE(K49,1) -> 44011 | M49: =EDATE(L49,1) -> 44041 | N49: =EDATE(M49,1) -> 44072 | O49: =EDATE(N49,1) -> 44103 | ... BZ49: =EDATE(BY49,1) -> 46019
C50: 43861 | F50: Mois | G50: 1 | H50: =1+G50 -> 2 | I50: =1+H50 -> 3 | J50: =1+I50 -> 4 | K50: =1+J50 -> 5 | L50: =1+K50 -> 6 | M50: =1+L50 -> 7 | N50: =1+M50 -> 8 | O50: =1+N50 -> 9 | ... BZ50: =1+BY50 -> 72
F52: Encours LLD 24m | G52: =INDEX('[1]DARTY - Production'!$D$8:$DH$26,MATCH("Leasing",'[1]DARTY - Production'!$D$8:$D$26,0),MATCH('LLD (24m)'!C50,'[1]DARTY - Production'!$D$8:$DH$8,0)) -> 723.34909 | H52: =IF(H50>24,0,IF(H50<$G$5,$G$18,(1-$G$4)*$G$18)) -> 158.33333 | I52: =IF(I50>24,0,IF(I50<$G$5,$G$18,(1-$G$4)*$G$18)) -> 158.33333 | J52: =IF(J50>24,0,IF(J50<$G$5,$G$18,(1-$G$4)*$G$18)) -> 158.33333 | K52: =IF(K50>24,0,IF(K50<$G$5,$G$18,(1-$G$4)*$G$18)) -> 158.33333 | L52: =IF(L50>24,0,IF(L50<$G$5,$G$18,(1-$G$4)*$G$18)) -> 158.33333 | M52: =IF(M50>24,0,IF(M50<$G$5,$G$18,(1-$G$4)*$G$18)) -> 158.33333 | N52: =IF(N50>24,0,IF(N50<$G$5,$G$18,(1-$G$4)*$G$18)) -> 158.33333 | O52: =IF(O50>24,0,IF(O50<$G$5,$G$18,(1-$G$4)*$G$18)) -> 158.33333 | ... BW52: =IF(BW50>24,0,IF(BW50<$G$5,$G$18,(1-$G$4)*$G$18)) -> 0 | BX52: =IF(BX50>24,0,IF(BX50<$G$5,$G52,(1-$G$4)*$G52)) -> 0 | BY52: =IF(BY50>24,0,IF(BY50<$G$5,$G52,(1-$G$4)*$G52)) -> 0 | BZ52: =IF(BZ50>24,0,IF(BZ50<$G$5,$G52,(1-$G$4)*$G52)) -> 0
E53: 1 | F53: Encours upgrade 1 | G53: =IF(G50>($G$3+$G$5),0,IF(AND(G50<($G$5+$G$5-1),G50>($E$19*($G$5-1))),($G$18*$G$4),IF(AND(G50<($G$3+$G$5),G50>($G$5+$G$5-2)),$G$18*$G$4*(1-$G$4),IF(AND(G50>($G$3+$G$5)),$G$18*$G$4*(1-$G$4)*0,0)))) -> 0 | H53: =IF(H50>($G$3+$G$5),0,IF(AND(H50<($G$5+$G$5-1),H50>($E$19*($G$5-1))),($G$18*$G$4),IF(AND(H50<($G$3+$G$5),H50>($G$5+$G$5-2)),$G$18*$G$4*(1-$G$4),IF(AND(H50>($G$3+$G$5)),$G$18*$G$4*(1-$G$4)*0,0)))) -> 0 | I53: =IF(I50>($G$3+$G$5),0,IF(AND(I50<($G$5+$G$5-1),I50>($E$19*($G$5-1))),($G$18*$G$4),IF(AND(I50<($G$3+$G$5),I50>($G$5+$G$5-2)),$G$18*$G$4*(1-$G$4),IF(AND(I50>($G$3+$G$5)),$G$18*$G$4*(1-$G$4)*0,0)))) -> 0 | J53: =IF(J50>($G$3+$G$5),0,IF(AND(J50<($G$5+$G$5-1),J50>($E$19*($G$5-1))),($G$18*$G$4),IF(AND(J50<($G$3+$G$5),J50>($G$5+$G$5-2)),$G$18*$G$4*(1-$G$4),IF(AND(J50>($G$3+$G$5)),$G$18*$G$4*(1-$G$4)*0,0)))) -> 0 | K53: =IF(K50>($G$3+$G$5),0,IF(AND(K50<($G$5+$G$5-1),K50>($E$19*($G$5-1))),($G$18*$G$4),IF(AND(K50<($G$3+$G$5),K50>($G$5+$G$5-2)),$G$18*$G$4*(1-$G$4),IF(AND(K50>($G$3+$G$5)),$G$18*$G$4*(1-$G$4)*0,0)))) -> 0 | L53: =IF(L50>($G$3+$G$5),0,IF(AND(L50<($G$5+$G$5-1),L50>($E$19*($G$5-1))),($G$18*$G$4),IF(AND(L50<($G$3+$G$5),L50>($G$5+$G$5-2)),$G$18*$G$4*(1-$G$4),IF(AND(L50>($G$3+$G$5)),$G$18*$G$4*(1-$G$4)*0,0)))) -> 0 | M53: =IF(M50>($G$3+$G$5),0,IF(AND(M50<($G$5+$G$5-1),M50>($E$19*($G$5-1))),($G$18*$G$4),IF(AND(M50<($G$3+$G$5),M50>($G$5+$G$5-2)),$G$18*$G$4*(1-$G$4),IF(AND(M50>($G$3+$G$5)),$G$18*$G$4*(1-$G$4)*0,0)))) -> 0 | N53: =IF(N50>($G$3+$G$5),0,IF(AND(N50<($G$5+$G$5-1),N50>($E$19*($G$5-1))),($G$18*$G$4),IF(AND(N50<($G$3+$G$5),N50>($G$5+$G$5-2)),$G$18*$G$4*(1-$G$4),IF(AND(N50>($G$3+$G$5)),$G$18*$G$4*(1-$G$4)*0,0)))) -> 0 | ... BW53: =IF(BW50>($G$3+$G$5),0,IF(AND(BW50<($G$5+$G$5-1),BW50>($E$19*($G$5-1))),($G$18*$G$4),IF(AND(BW50<($G$3+$G$5),BW50>($G$5+$G$5-2)),$G$18*$G$4*(1-$G$4),IF(AND(BW50>($G$3+$G$5)),$G$18*$G$4*(1-$G$4)*0,0)))) -> 0 | BX53: =IF(BX50>($G$3+$G$5),0,IF(AND(BX50<($G$5+$G$5-1),BX50>($E53*($G$5-1))),($G52*$G$4),IF(AND(BX50<($G$3+$G$5),BX50>($G$5+$G$5-2)),$G52*$G$4*(1-$G$4),IF(AND(BX50>($G$3+$G$5)),$G52*$G$4*(1-$G$4)*0,0)))) -> 0 | BY53: =IF(BY50>($G$3+$G$5),0,IF(AND(BY50<($G$5+$G$5-1),BY50>($E53*($G$5-1))),($G52*$G$4),IF(AND(BY50<($G$3+$G$5),BY50>($G$5+$G$5-2)),$G52*$G$4*(1-$G$4),IF(AND(BY50>($G$3+$G$5)),$G52*$G$4*(1-$G$4)*0,0)))) -> 0 | BZ53: =IF(BZ50>($G$3+$G$5),0,IF(AND(BZ50<($G$5+$G$5-1),BZ50>($E53*($G$5-1))),($G52*$G$4),IF(AND(BZ50<($G$3+$G$5),BZ50>($G$5+$G$5-2)),$G52*$G$4*(1-$G$4),IF(AND(BZ50>($G$3+$G$5)),$G52*$G$4*(1-$G$4)*0,0)))) -> 0
E54: 2 | F54: Encours upgrade 2 | G54: =IF(G50>($G$3+$G$5+$G$5),0,IF(AND(G50<($G$5+$G$5+$G$5-2),G50>($E$20*$G$5-2)),$G$18*($G$4*$G$4),IF(AND(G50<($G$5+$G$5+$G$3-1),G50>($G$5+$G$5+$G$5-3)),$G$18*$G$4*$G$4*(1-$G$4),0))) -> 0 | H54: =IF(H50>($G$3+$G$5+$G$5),0,IF(AND(H50<($G$5+$G$5+$G$5-2),H50>($E$20*$G$5-2)),$G$18*($G$4*$G$4),IF(AND(H50<($G$5+$G$5+$G$3-1),H50>($G$5+$G$5+$G$5-3)),$G$18*$G$4*$G$4*(1-$G$4),0))) -> 0 | I54: =IF(I50>($G$3+$G$5+$G$5),0,IF(AND(I50<($G$5+$G$5+$G$5-2),I50>($E$20*$G$5-2)),$G$18*($G$4*$G$4),IF(AND(I50<($G$5+$G$5+$G$3-1),I50>($G$5+$G$5+$G$5-3)),$G$18*$G$4*$G$4*(1-$G$4),0))) -> 0 | J54: =IF(J50>($G$3+$G$5+$G$5),0,IF(AND(J50<($G$5+$G$5+$G$5-2),J50>($E$20*$G$5-2)),$G$18*($G$4*$G$4),IF(AND(J50<($G$5+$G$5+$G$3-1),J50>($G$5+$G$5+$G$5-3)),$G$18*$G$4*$G$4*(1-$G$4),0))) -> 0 | K54: =IF(K50>($G$3+$G$5+$G$5),0,IF(AND(K50<($G$5+$G$5+$G$5-2),K50>($E$20*$G$5-2)),$G$18*($G$4*$G$4),IF(AND(K50<($G$5+$G$5+$G$3-1),K50>($G$5+$G$5+$G$5-3)),$G$18*$G$4*$G$4*(1-$G$4),0))) -> 0 | L54: =IF(L50>($G$3+$G$5+$G$5),0,IF(AND(L50<($G$5+$G$5+$G$5-2),L50>($E$20*$G$5-2)),$G$18*($G$4*$G$4),IF(AND(L50<($G$5+$G$5+$G$3-1),L50>($G$5+$G$5+$G$5-3)),$G$18*$G$4*$G$4*(1-$G$4),0))) -> 0 | M54: =IF(M50>($G$3+$G$5+$G$5),0,IF(AND(M50<($G$5+$G$5+$G$5-2),M50>($E$20*$G$5-2)),$G$18*($G$4*$G$4),IF(AND(M50<($G$5+$G$5+$G$3-1),M50>($G$5+$G$5+$G$5-3)),$G$18*$G$4*$G$4*(1-$G$4),0))) -> 0 | N54: =IF(N50>($G$3+$G$5+$G$5),0,IF(AND(N50<($G$5+$G$5+$G$5-2),N50>($E$20*$G$5-2)),$G$18*($G$4*$G$4),IF(AND(N50<($G$5+$G$5+$G$3-1),N50>($G$5+$G$5+$G$5-3)),$G$18*$G$4*$G$4*(1-$G$4),0))) -> 0 | ... BW54: =IF(BW50>($G$3+$G$5+$G$5),0,IF(AND(BW50<($G$5+$G$5+$G$5-2),BW50>($E$20*$G$5-2)),$G$18*($G$4*$G$4),IF(AND(BW50<($G$5+$G$5+$G$3-1),BW50>($G$5+$G$5+$G$5-3)),$G$18*$G$4*$G$4*(1-$G$4),0))) -> 0 | BX54: =IF(BX50>($G$3+$G$5+$G$5),0,IF(AND(BX50<($G$5+$G$5+$G$5-2),BX50>($E54*$G$5-2)),$G52*($G$4*$G$4),IF(AND(BX50<($G$5+$G$5+$G$3-1),BX50>($G$5+$G$5+$G$5-3)),$G52*$G$4*$G$4*(1-$G$4),0))) -> 0 | BY54: =IF(BY50>($G$3+$G$5+$G$5),0,IF(AND(BY50<($G$5+$G$5+$G$5-2),BY50>($E54*$G$5-2)),$G52*($G$4*$G$4),IF(AND(BY50<($G$5+$G$5+$G$3-1),BY50>($G$5+$G$5+$G$5-3)),$G52*$G$4*$G$4*(1-$G$4),0))) -> 0 | BZ54: =IF(BZ50>($G$3+$G$5+$G$5),0,IF(AND(BZ50<($G$5+$G$5+$G$5-2),BZ50>($E54*$G$5-2)),$G52*($G$4*$G$4),IF(AND(BZ50<($G$5+$G$5+$G$3-1),BZ50>($G$5+$G$5+$G$5-3)),$G52*$G$4*$G$4*(1-$G$4),0))) -> 0
E55: 3 | F55: Encours upgrade 3 | G55: =IF(G50>($G$3+$G$5+$G$5+$G$5),0,IF(AND(G50<($G$5+$G$5+$G$5+$G$5),G50>($E$21*$G$5-1)),$G$18*($G$4*$G$4*$G$4),IF(AND(G50<($G$5+$G$5+$G$5+$G$3),G50>($G$5+$G$5+$G$5+$G$5-1)),$G$18*$G$4*$G$4*$G$4*(1-$G$4),0))) -> 0 | H55: =IF(H50>($G$3+$G$5+$G$5+$G$5),0,IF(AND(H50<($G$5+$G$5+$G$5+$G$5),H50>($E$21*$G$5-1)),$G$18*($G$4*$G$4*$G$4),IF(AND(H50<($G$5+$G$5+$G$5+$G$3),H50>($G$5+$G$5+$G$5+$G$5-1)),$G$18*$G$4*$G$4*$G$4*(1-$G$4),0))) -> 0 | I55: =IF(I50>($G$3+$G$5+$G$5+$G$5),0,IF(AND(I50<($G$5+$G$5+$G$5+$G$5),I50>($E$21*$G$5-1)),$G$18*($G$4*$G$4*$G$4),IF(AND(I50<($G$5+$G$5+$G$5+$G$3),I50>($G$5+$G$5+$G$5+$G$5-1)),$G$18*$G$4*$G$4*$G$4*(1-$G$4),0))) -> 0 | J55: =IF(J50>($G$3+$G$5+$G$5+$G$5),0,IF(AND(J50<($G$5+$G$5+$G$5+$G$5),J50>($E$21*$G$5-1)),$G$18*($G$4*$G$4*$G$4),IF(AND(J50<($G$5+$G$5+$G$5+$G$3),J50>($G$5+$G$5+$G$5+$G$5-1)),$G$18*$G$4*$G$4*$G$4*(1-$G$4),0))) -> 0 | K55: =IF(K50>($G$3+$G$5+$G$5+$G$5),0,IF(AND(K50<($G$5+$G$5+$G$5+$G$5),K50>($E$21*$G$5-1)),$G$18*($G$4*$G$4*$G$4),IF(AND(K50<($G$5+$G$5+$G$5+$G$3),K50>($G$5+$G$5+$G$5+$G$5-1)),$G$18*$G$4*$G$4*$G$4*(1-$G$4),0))) -> 0 | L55: =IF(L50>($G$3+$G$5+$G$5+$G$5),0,IF(AND(L50<($G$5+$G$5+$G$5+$G$5),L50>($E$21*$G$5-1)),$G$18*($G$4*$G$4*$G$4),IF(AND(L50<($G$5+$G$5+$G$5+$G$3),L50>($G$5+$G$5+$G$5+$G$5-1)),$G$18*$G$4*$G$4*$G$4*(1-$G$4),0))) -> 0 | M55: =IF(M50>($G$3+$G$5+$G$5+$G$5),0,IF(AND(M50<($G$5+$G$5+$G$5+$G$5),M50>($E$21*$G$5-1)),$G$18*($G$4*$G$4*$G$4),IF(AND(M50<($G$5+$G$5+$G$5+$G$3),M50>($G$5+$G$5+$G$5+$G$5-1)),$G$18*$G$4*$G$4*$G$4*(1-$G$4),0))) -> 0 | N55: =IF(N50>($G$3+$G$5+$G$5+$G$5),0,IF(AND(N50<($G$5+$G$5+$G$5+$G$5),N50>($E$21*$G$5-1)),$G$18*($G$4*$G$4*$G$4),IF(AND(N50<($G$5+$G$5+$G$5+$G$3),N50>($G$5+$G$5+$G$5+$G$5-1)),$G$18*$G$4*$G$4*$G$4*(1-$G$4),0))) -> 0 | ... AX55: =IF(AX50>($G$3+$G$5+$G$5+$G$5),0,IF(AND(AX50<($G$5+$G$5+$G$5+$G$5),AX50>($E$21*$G$5-1)),$G$18*($G$4*$G$4*$G$4),IF(AND(AX50<($G$5+$G$5+$G$5+$G$3),AX50>($G$5+$G$5+$G$5+$G$5-1)),$G$18*$G$4*$G$4*$G$4*(1-$G$4),0))) -> 0 | AY55: =IF(AY50>($G$3+$G$5+$G$5+$G$5),0,IF(AND(AY50<($G$5+$G$5+$G$5+$G$5-2),AY50>($E$21*$G$5-3)),$G$18*($G$4*$G$4*$G$4),IF(AND(AY50<($G$5+$G$5+$G$5+$G$3),AY50>($G$5+$G$5+$G$5+$G$5-3)),$G$18*$G$4*$G$4*$G$4*(1-$G$4),0))) -> 0 | AZ55: =IF(AZ50>($G$3+$G$5+$G$5+$G$5),0,IF(AND(AZ50<($G$5+$G$5+$G$5+$G$5-2),AZ50>($E$21*$G$5-3)),$G$18*($G$4*$G$4*$G$4),IF(AND(AZ50<($G$5+$G$5+$G$5+$G$3),AZ50>($G$5+$G$5+$G$5+$G$5-3)),$G$18*$G$4*$G$4*$G$4*(1-$G$4),0))) -> 34.2 | BA55: =IF(BA50>($G$3+$G$5+$G$5+$G$5),0,IF(AND(BA50<($G$5+$G$5+$G$5+$G$5-2),BA50>($E$21*$G$5-3)),$G$18*($G$4*$G$4*$G$4),IF(AND(BA50<($G$5+$G$5+$G$5+$G$3),BA50>($G$5+$G$5+$G$5+$G$5-3)),$G$18*$G$4*$G$4*$G$4*(1-$G$4),0))) -> 34.2 | BB55: =IF(BB50>($G$3+$G$5+$G$5+$G$5),0,IF(AND(BB50<($G$5+$G$5+$G$5+$G$5-2),BB50>($E$21*$G$5-3)),$G$18*($G$4*$G$4*$G$4),IF(AND(BB50<($G$5+$G$5+$G$5+$G$3),BB50>($G$5+$G$5+$G$5+$G$5-3)),$G$18*$G$4*$G$4*$G$4*(1-$G$4),0))) -> 34.2 | BC55: =IF(BC50>($G$3+$G$5+$G$5+$G$5),0,IF(AND(BC50<($G$5+$G$5+$G$5+$G$5-2),BC50>($E$21*$G$5-3)),$G$18*($G$4*$G$4*$G$4),IF(AND(BC50<($G$5+$G$5+$G$5+$G$3),BC50>($G$5+$G$5+$G$5+$G$5-3)),$G$18*$G$4*$G$4*$G$4*(1-$G$4),0))) -> 34.2 | BD55: =IF(BD50>($G$3+$G$5+$G$5+$G$5),0,IF(AND(BD50<($G$5+$G$5+$G$5+$G$5-2),BD50>($E$21*$G$5-3)),$G$18*($G$4*$G$4*$G$4),IF(AND(BD50<($G$5+$G$5+$G$5+$G$3),BD50>($G$5+$G$5+$G$5+$G$5-3)),$G$18*$G$4*$G$4*$G$4*(1-$G$4),0))) -> 34.2 | BE55: =IF(BE50>($G$3+$G$5+$G$5+$G$5),0,IF(AND(BE50<($G$5+$G$5+$G$5+$G$5-2),BE50>($E$21*$G$5-3)),$G$18*($G$4*$G$4*$G$4),IF(AND(BE50<($G$5+$G$5+$G$5+$G$3),BE50>($G$5+$G$5+$G$5+$G$5-3)),$G$18*$G$4*$G$4*$G$4*(1-$G$4),0))) -> 34.2 | BF55: =IF(BF50>($G$3+$G$5+$G$5+$G$5),0,IF(AND(BF50<($G$5+$G$5+$G$5+$G$5-2),BF50>($E$21*$G$5-3)),$G$18*($G$4*$G$4*$G$4),IF(AND(BF50<($G$5+$G$5+$G$5+$G$3),BF50>($G$5+$G$5+$G$5+$G$5-3)),$G$18*$G$4*$G$4*$G$4*(1-$G$4),0))) -> 34.2 | ... BW55: =IF(BW50>($G$3+$G$5+$G$5+$G$5),0,IF(AND(BW50<($G$5+$G$5+$G$5+$G$5-2),BW50>($E$21*$G$5-3)),$G$18*($G$4*$G$4*$G$4),IF(AND(BW50<($G$5+$G$5+$G$5+$G$3),BW50>($G$5+$G$5+$G$5+$G$5-3)),$G$18*$G$4*$G$4*$G$4*(1-$G$4),0))) -> 13.68 | BX55: =IF(BX50>($G$3+$G$5+$G$5+$G$5),0,IF(AND(BX50<($G$5+$G$5+$G$5+$G$5),BX50>($E55*$G$5-1)),$G52*($G$4*$G$4*$G$4),IF(AND(BX50<($G$5+$G$5+$G$5+$G$3),BX50>($G$5+$G$5+$G$5+$G$5-1)),$G52*$G$4*$G$4*$G$4*(1-$G$4),0))) -> 62.497361 | BY55: =IF(BY50>($G$3+$G$5+$G$5+$G$5),0,IF(AND(BY50<($G$5+$G$5+$G$5+$G$5),BY50>($E55*$G$5-1)),$G52*($G$4*$G$4*$G$4),IF(AND(BY50<($G$5+$G$5+$G$5+$G$3),BY50>($G$5+$G$5+$G$5+$G$5-1)),$G52*$G$4*$G$4*$G$4*(1-$G$4),0))) -> 62.497361 | BZ55: =IF(BZ50>($G$3+$G$5+$G$5+$G$5),0,IF(AND(BZ50<($G$5+$G$5+$G$5+$G$5),BZ50>($E55*$G$5-1)),$G52*($G$4*$G$4*$G$4),IF(AND(BZ50<($G$5+$G$5+$G$5+$G$3),BZ50>($G$5+$G$5+$G$5+$G$5-1)),$G52*$G$4*$G$4*$G$4*(1-$G$4),0))) -> 0
B57: Encours en nb | F57: Encours total en nombre | G57: =SUM(G52:G55) -> 723.34909 | H57: =SUM(H52:H55) -> 158.33333 | I57: =SUM(I52:I55) -> 158.33333 | J57: =SUM(J52:J55) -> 158.33333 | K57: =SUM(K52:K55) -> 158.33333 | L57: =SUM(L52:L55) -> 158.33333 | M57: =SUM(M52:M55) -> 158.33333 | N57: =SUM(N52:N55) -> 158.33333 | ... BZ57: =SUM(BZ52:BZ55) -> 0
F59: Encours LLD 24m | G59: =(IFERROR(G52*HLOOKUP(G50,$G$7:$AD$8,2),"n.a."))/10^3 -> 488.0804 | H59: =(IFERROR(H52*HLOOKUP(H50,$G$7:$AD$8,2),"n.a."))/10^3 -> 103.6869 | I59: =(IFERROR(I52*HLOOKUP(I50,$G$7:$AD$8,2),"n.a."))/10^3 -> 100.50405 | J59: =(IFERROR(J52*HLOOKUP(J50,$G$7:$AD$8,2),"n.a."))/10^3 -> 97.286625 | K59: =(IFERROR(K52*HLOOKUP(K50,$G$7:$AD$8,2),"n.a."))/10^3 -> 94.034251 | L59: =(IFERROR(L52*HLOOKUP(L50,$G$7:$AD$8,2),"n.a."))/10^3 -> 90.746547 | M59: =(IFERROR(M52*HLOOKUP(M50,$G$7:$AD$8,2),"n.a."))/10^3 -> 87.42313 | N59: =(IFERROR(N52*HLOOKUP(N50,$G$7:$AD$8,2),"n.a."))/10^3 -> 84.063612 | ... BW59: =(IFERROR(BW52*HLOOKUP(BW50,$G$7:$AD$8,2),"n.a."))/10^3 -> 0 | BX59: =IFERROR(BX52*HLOOKUP(BX50,$G$7:$AD$8,2),"n.a.") -> 0 | BY59: =IFERROR(BY52*HLOOKUP(BY50,$G$7:$AD$8,2),"n.a.") -> 0
F60: Encours upgrade 1 | G60: =IFERROR(G53*HLOOKUP(G46,$G$7:$AD$8,2)/1000,"n.a.") -> n.a. | H60: =IFERROR(H53*HLOOKUP(H46,$G$7:$AD$8,2)/1000,"n.a.") -> n.a. | I60: =IFERROR(I53*HLOOKUP(I46,$G$7:$AD$8,2)/1000,"n.a.") -> n.a. | J60: =IFERROR(J53*HLOOKUP(J46,$G$7:$AD$8,2)/1000,"n.a.") -> n.a. | K60: =IFERROR(K53*HLOOKUP(K46,$G$7:$AD$8,2)/1000,"n.a.") -> n.a. | L60: =IFERROR(L53*HLOOKUP(L46,$G$7:$AD$8,2)/1000,"n.a.") -> n.a. | M60: =IFERROR(M53*HLOOKUP(M46,$G$7:$AD$8,2)/1000,"n.a.") -> n.a. | N60: =IFERROR(N53*HLOOKUP(N46,$G$7:$AD$8,2)/1000,"n.a.") -> n.a. | ... BW60: =IFERROR(BW53*HLOOKUP(BW46,$G$7:$AD$8,2)/1000,"n.a.") -> n.a. | BX60: =IFERROR(BX53*HLOOKUP(BX46,$G$7:$AD$8,2),"n.a.") -> n.a. | BY60: =IFERROR(BY53*HLOOKUP(BY46,$G$7:$AD$8,2),"n.a.") -> n.a.
F61: Encours upgrade 2 | G61: =IFERROR(G54*HLOOKUP(G47,$G$7:$AD$8,2)/1000,"n.a.") -> n.a. | H61: =IFERROR(H54*HLOOKUP(H47,$G$7:$AD$8,2)/1000,"n.a.") -> n.a. | I61: =IFERROR(I54*HLOOKUP(I47,$G$7:$AD$8,2)/1000,"n.a.") -> n.a. | J61: =IFERROR(J54*HLOOKUP(J47,$G$7:$AD$8,2)/1000,"n.a.") -> n.a. | K61: =IFERROR(K54*HLOOKUP(K47,$G$7:$AD$8,2)/1000,"n.a.") -> n.a. | L61: =IFERROR(L54*HLOOKUP(L47,$G$7:$AD$8,2)/1000,"n.a.") -> n.a. | M61: =IFERROR(M54*HLOOKUP(M47,$G$7:$AD$8,2)/1000,"n.a.") -> n.a. | N61: =IFERROR(N54*HLOOKUP(N47,$G$7:$AD$8,2)/1000,"n.a.") -> n.a. | ... BW61: =IFERROR(BW54*HLOOKUP(BW47,$G$7:$AD$8,2)/1000,"n.a.") -> n.a. | BX61: =IFERROR(BX54*HLOOKUP(BX47,$G$7:$AD$8,2),"n.a.") -> n.a. | BY61: =IFERROR(BY54*HLOOKUP(BY47,$G$7:$AD$8,2),"n.a.") -> n.a.
F62: Encours upgrade 3 | G62: =IFERROR(G55*HLOOKUP(G48,$G$7:$AD$8,2)/1000,"n.a.") -> n.a. | H62: =IFERROR(H55*HLOOKUP(H48,$G$7:$AD$8,2)/1000,"n.a.") -> n.a. | I62: =IFERROR(I55*HLOOKUP(I48,$G$7:$AD$8,2)/1000,"n.a.") -> n.a. | J62: =IFERROR(J55*HLOOKUP(J48,$G$7:$AD$8,2)/1000,"n.a.") -> n.a. | K62: =IFERROR(K55*HLOOKUP(K48,$G$7:$AD$8,2)/1000,"n.a.") -> n.a. | L62: =IFERROR(L55*HLOOKUP(L48,$G$7:$AD$8,2)/1000,"n.a.") -> n.a. | M62: =IFERROR(M55*HLOOKUP(M48,$G$7:$AD$8,2)/1000,"n.a.") -> n.a. | N62: =IFERROR(N55*HLOOKUP(N48,$G$7:$AD$8,2)/1000,"n.a.") -> n.a. | ... BW62: =IFERROR(BW55*HLOOKUP(BW48,$G$7:$AD$8,2)/1000,"n.a.") -> 2.165886 | BX62: =IFERROR(BX55*HLOOKUP(BX48,$G$7:$AD$8,2),"n.a.") -> 9894.8947 | BY62: =IFERROR(BY55*HLOOKUP(BY48,$G$7:$AD$8,2),"n.a.") -> n.a.
B64: Encours en k€ | F64: Encours total en k€ | G64: =SUM(G59:G62) -> 488.0804 | H64: =SUM(H59:H62) -> 103.6869 | I64: =SUM(I59:I62) -> 100.50405 | J64: =SUM(J59:J62) -> 97.286625 | K64: =SUM(K59:K62) -> 94.034251 | L64: =SUM(L59:L62) -> 90.746547 | M64: =SUM(M59:M62) -> 87.42313 | N64: =SUM(N59:N62) -> 84.063612 | ... BY64: =SUM(BY59:BY62) -> 0
F66: Encours LLD 24m | G66: =IFERROR(G52*HLOOKUP(G50,$G$7:$AD$9,3),"n.a.") -> 5244.8788 | H66: =IFERROR(H52*HLOOKUP(H50,$G$7:$AD$9,3),"n.a.") -> 1114.2124 | I66: =IFERROR(I52*HLOOKUP(I50,$G$7:$AD$9,3),"n.a.") -> 1080.0097 | J66: =IFERROR(J52*HLOOKUP(J50,$G$7:$AD$9,3),"n.a.") -> 1045.4355 | K66: =IFERROR(K52*HLOOKUP(K50,$G$7:$AD$9,3),"n.a.") -> 1010.4857 | L66: =IFERROR(L52*HLOOKUP(L50,$G$7:$AD$9,3),"n.a.") -> 975.15623 | M66: =IFERROR(M52*HLOOKUP(M50,$G$7:$AD$9,3),"n.a.") -> 939.44302 | N66: =IFERROR(N52*HLOOKUP(N50,$G$7:$AD$9,3),"n.a.") -> 903.34186 | ... BY66: =IFERROR(BY52*HLOOKUP(BY50,$G$7:$AD$9,3),"n.a.") -> 0
F67: Encours upgrade 1 | G67: =IFERROR(G53*HLOOKUP(G46,$G$7:$AD$9,3),"n.a.") -> n.a. | H67: =IFERROR(H53*HLOOKUP(H46,$G$7:$AD$9,3),"n.a.") -> n.a. | I67: =IFERROR(I53*HLOOKUP(I46,$G$7:$AD$9,3),"n.a.") -> n.a. | J67: =IFERROR(J53*HLOOKUP(J46,$G$7:$AD$9,3),"n.a.") -> n.a. | K67: =IFERROR(K53*HLOOKUP(K46,$G$7:$AD$9,3),"n.a.") -> n.a. | L67: =IFERROR(L53*HLOOKUP(L46,$G$7:$AD$9,3),"n.a.") -> n.a. | M67: =IFERROR(M53*HLOOKUP(M46,$G$7:$AD$9,3),"n.a.") -> n.a. | N67: =IFERROR(N53*HLOOKUP(N46,$G$7:$AD$9,3),"n.a.") -> n.a. | ... BY67: =IFERROR(BY53*HLOOKUP(BY46,$G$7:$AD$9,3),"n.a.") -> n.a.
F68: Encours upgrade 2 | G68: =IFERROR(G54*HLOOKUP(G47,$G$7:$AD$9,3),"n.a.") -> n.a. | H68: =IFERROR(H54*HLOOKUP(H47,$G$7:$AD$9,3),"n.a.") -> n.a. | I68: =IFERROR(I54*HLOOKUP(I47,$G$7:$AD$9,3),"n.a.") -> n.a. | J68: =IFERROR(J54*HLOOKUP(J47,$G$7:$AD$9,3),"n.a.") -> n.a. | K68: =IFERROR(K54*HLOOKUP(K47,$G$7:$AD$9,3),"n.a.") -> n.a. | L68: =IFERROR(L54*HLOOKUP(L47,$G$7:$AD$9,3),"n.a.") -> n.a. | M68: =IFERROR(M54*HLOOKUP(M47,$G$7:$AD$9,3),"n.a.") -> n.a. | N68: =IFERROR(N54*HLOOKUP(N47,$G$7:$AD$9,3),"n.a.") -> n.a. | ... BY68: =IFERROR(BY54*HLOOKUP(BY47,$G$7:$AD$9,3),"n.a.") -> n.a.
F69: Encours upgrade 3 | G69: =IFERROR(G55*HLOOKUP(G48,$G$7:$AD$9,3),"n.a.") -> n.a. | H69: =IFERROR(H55*HLOOKUP(H48,$G$7:$AD$9,3),"n.a.") -> n.a. | I69: =IFERROR(I55*HLOOKUP(I48,$G$7:$AD$9,3),"n.a.") -> n.a. | J69: =IFERROR(J55*HLOOKUP(J48,$G$7:$AD$9,3),"n.a.") -> n.a. | K69: =IFERROR(K55*HLOOKUP(K48,$G$7:$AD$9,3),"n.a.") -> n.a. | L69: =IFERROR(L55*HLOOKUP(L48,$G$7:$AD$9,3),"n.a.") -> n.a. | M69: =IFERROR(M55*HLOOKUP(M48,$G$7:$AD$9,3),"n.a.") -> n.a. | N69: =IFERROR(N55*HLOOKUP(N48,$G$7:$AD$9,3),"n.a.") -> n.a. | ... BY69: =IFERROR(BY55*HLOOKUP(BY48,$G$7:$AD$9,3),"n.a.") -> n.a.
B71: Agios en k€ | F71: Agios en k€ | G71: =SUM(G66:G69) -> 5244.8788 | H71: =SUM(H66:H69) -> 1114.2124 | I71: =SUM(I66:I69) -> 1080.0097 | J71: =SUM(J66:J69) -> 1045.4355 | K71: =SUM(K66:K69) -> 1010.4857 | L71: =SUM(L66:L69) -> 975.15623 | M71: =SUM(M66:M69) -> 939.44302 | N71: =SUM(N66:N69) -> 903.34186 | ... BY71: =SUM(BY66:BY69) -> 0
CB107: =EDATE(CA107,1) -> 31
CB108: =1+CA108 -> 1
CB110: =IF(CB108>24,0,IF(CB108<$G$5,$I110,(1-$G$4)*$I110)) -> 0
CB111: =IF(CB108>($G$3+$G$5),0,IF(AND(CB108<($G$5+$G$5-1),CB108>($E111*($G$5-1))),($I110*$G$4),IF(AND(CB108<($G$3+$G$5),CB108>($G$5+$G$5-2)),$I110*$G$4*(1-$G$4),IF(AND(CB108>($G$3+$G$5)),$I110*$G$4*(1-$G$4)*0,0)))) -> 0
CB112: =IF(CB108>($G$3+$G$5+$G$5),0,IF(AND(CB108<($G$5+$G$5+$G$5-2),CB108>($E112*$G$5-2)),$I110*($G$4*$G$4),IF(AND(CB108<($G$5+$G$5+$G$3-1),CB108>($G$5+$G$5+$G$5-3)),$I110*$G$4*$G$4*(1-$G$4),0))) -> 0
CB113: =IF(CB108>($G$3+$G$5+$G$5+$G$5),0,IF(AND(CB108<($G$5+$G$5+$G$5+$G$5),CB108>($E113*$G$5-1)),$I110*($G$4*$G$4*$G$4),IF(AND(CB108<($G$5+$G$5+$G$5+$G$3),CB108>($G$5+$G$5+$G$5+$G$5-1)),$I110*$G$4*$G$4*$G$4*(1-$G$4),0))) -> 0
CB115: =SUM(CB110:CB113) -> 0
CB136: =EDATE(CA136,1) -> 31 | CC136: =EDATE(CB136,1) -> 59
CB137: =1+CA137 -> 1 | CC137: =1+CB137 -> 2
CB139: =IF(CB137>24,0,IF(CB137<$G$5,$J139,(1-$G$4)*$J139)) -> 0 | CC139: =IF(CC137>24,0,IF(CC137<$G$5,$J139,(1-$G$4)*$J139)) -> 0
CB140: =IF(CB137>($G$3+$G$5),0,IF(AND(CB137<($G$5+$G$5-1),CB137>($E140*($G$5-1))),($J139*$G$4),IF(AND(CB137<($G$3+$G$5),CB137>($G$5+$G$5-2)),$J139*$G$4*(1-$G$4),IF(AND(CB137>($G$3+$G$5)),$J139*$G$4*(1-$G$4)*0,0)))) -> 0 | CC140: =IF(CC137>($G$3+$G$5),0,IF(AND(CC137<($G$5+$G$5-1),CC137>($E140*($G$5-1))),($J139*$G$4),IF(AND(CC137<($G$3+$G$5),CC137>($G$5+$G$5-2)),$J139*$G$4*(1-$G$4),IF(AND(CC137>($G$3+$G$5)),$J139*$G$4*(1-$G$4)*0,0)))) -> 0
CB141: =IF(CB137>($G$3+$G$5+$G$5),0,IF(AND(CB137<($G$5+$G$5+$G$5-2),CB137>($E141*$G$5-2)),$J139*($G$4*$G$4),IF(AND(CB137<($G$5+$G$5+$G$3-1),CB137>($G$5+$G$5+$G$5-3)),$J139*$G$4*$G$4*(1-$G$4),0))) -> 0 | CC141: =IF(CC137>($G$3+$G$5+$G$5),0,IF(AND(CC137<($G$5+$G$5+$G$5-2),CC137>($E141*$G$5-2)),$J139*($G$4*$G$4),IF(AND(CC137<($G$5+$G$5+$G$3-1),CC137>($G$5+$G$5+$G$5-3)),$J139*$G$4*$G$4*(1-$G$4),0))) -> 0
CB142: =IF(CB137>($G$3+$G$5+$G$5+$G$5),0,IF(AND(CB137<($G$5+$G$5+$G$5+$G$5),CB137>($E142*$G$5-1)),$J139*($G$4*$G$4*$G$4),IF(AND(CB137<($G$5+$G$5+$G$5+$G$3),CB137>($G$5+$G$5+$G$5+$G$5-1)),$J139*$G$4*$G$4*$G$4*(1-$G$4),0))) -> 0 | CC142: =IF(CC137>($G$3+$G$5+$G$5+$G$5),0,IF(AND(CC137<($G$5+$G$5+$G$5+$G$5),CC137>($E142*$G$5-1)),$J139*($G$4*$G$4*$G$4),IF(AND(CC137<($G$5+$G$5+$G$5+$G$3),CC137>($G$5+$G$5+$G$5+$G$5-1)),$J139*$G$4*$G$4*$G$4*(1-$G$4),0))) -> 0
CB144: =SUM(CB139:CB142) -> 0 | CC144: =SUM(CC139:CC142) -> 0
CB146: =IFERROR(CB139*HLOOKUP(CB137,$G$7:$AD$8,2),"n.a.") -> 0
CB147: =IFERROR(CB140*HLOOKUP(CB133,$G$7:$AD$8,2),"n.a.") -> n.a.
CB148: =IFERROR(CB141*HLOOKUP(CB134,$G$7:$AD$8,2),"n.a.") -> n.a.
CB149: =IFERROR(CB142*HLOOKUP(CB135,$G$7:$AD$8,2),"n.a.") -> n.a.
CB151: =SUM(CB146:CB149) -> 0
CB153: =IFERROR(CB139*HLOOKUP(CB137,$G$7:$AD$9,3),"n.a.") -> 0
CB154: =IFERROR(CB140*HLOOKUP(CB133,$G$7:$AD$9,3),"n.a.") -> n.a.
CB155: =IFERROR(CB141*HLOOKUP(CB134,$G$7:$AD$9,3),"n.a.") -> n.a.
CB156: =IFERROR(CB142*HLOOKUP(CB135,$G$7:$AD$9,3),"n.a.") -> n.a.
CB158: =SUM(CB153:CB156) -> 0

Sheet Objectif
F2: Hypothèses 24 mois
F3: Encours LLD 24 | G3: 24
F4: % upgrade | G4: 0.6
F5: Mois upgrage | G5: 16
F7: Mois | G7: 1 | H7: =G7+1 -> 2 | I7: =H7+1 -> 3 | J7: =I7+1 -> 4 | K7: =J7+1 -> 5 | L7: =K7+1 -> 6 | M7: =L7+1 -> 7 | N7: =M7+1 -> 8 | O7: =N7+1 -> 9 | ... AD7: =AC7+1 -> 24
F8: Encours fin | G8: ='[1]24 mois smartphone upg'!D89 -> 674.75083 | H8: ='[1]24 mois smartphone upg'!E89 -> 654.86463 | I8: ='[1]24 mois smartphone upg'!F89 -> 634.76242 | J8: ='[1]24 mois smartphone upg'!G89 -> 614.44184 | K8: ='[1]24 mois smartphone upg'!H89 -> 593.90053 | L8: ='[1]24 mois smartphone upg'!I89 -> 573.13609 | M8: ='[1]24 mois smartphone upg'!J89 -> 552.14608 | N8: ='[1]24 mois smartphone upg'!K89 -> 530.92807 | ... AD8: ='[1]24 mois smartphone upg'!AA89 -> 158.325
F9: Agios dossier unitaire | G9: ='[1]24 mois smartphone upg'!D95 -> 7.2508266 | H9: ='[1]24 mois smartphone upg'!E95 -> 7.0371309 | I9: ='[1]24 mois smartphone upg'!F95 -> 6.8211139 | J9: ='[1]24 mois smartphone upg'!G95 -> 6.6027503 | K9: ='[1]24 mois smartphone upg'!H95 -> 6.3820148 | L9: ='[1]24 mois smartphone upg'!I95 -> 6.1588815 | M9: ='[1]24 mois smartphone upg'!J95 -> 5.9333243 | N9: ='[1]24 mois smartphone upg'!K95 -> 5.705317 | ... AD9: ='[1]24 mois smartphone upg'!AA95 -> 1.7013497
F12: Evolution portefeuille type 24 mois Check
F13: Encours upgrade 1 | V13: 1 | W13: =1+V13 -> 2 | X13: =1+W13 -> 3 | Y13: =1+X13 -> 4 | Z13: =1+Y13 -> 5 | AA13: =1+Z13 -> 6 | AB13: =1+AA13 -> 7 | AC13: =1+AB13 -> 8 | AD13: =1+AC13 -> 9 | ... AS13: =1+AR13 -> 24
F14: Encours upgrade 2 | AK14: 1 | AL14: =1+AK14 -> 2 | AM14: =1+AL14 -> 3 | AN14: =1+AM14 -> 4 | AO14: =1+AN14 -> 5 | AP14: =1+AO14 -> 6 | AQ14: =1+AP14 -> 7 | AR14: =1+AQ14 -> 8 | AS14: =1+AR14 -> 9 | ... BH14: =1+BG14 -> 24
F15: Encours upgrade 3 | AZ15: 1 | BA15: =1+AZ15 -> 2 | BB15: =1+BA15 -> 3 | BC15: =1+BB15 -> 4 | BD15: =1+BC15 -> 5 | BE15: =1+BD15 -> 6 | BF15: =1+BE15 -> 7 | BG15: =1+BF15 -> 8 | BH15: =1+BG15 -> 9 | ... BW15: =1+BV15 -> 24
F16: Mois | G16: 1 | H16: =1+G16 -> 2 | I16: =1+H16 -> 3 | J16: =1+I16 -> 4 | K16: =1+J16 -> 5 | L16: =1+K16 -> 6 | M16: =1+L16 -> 7 | N16: =1+M16 -> 8 | O16: =1+N16 -> 9 | ... BZ16: =1+BY16 -> 72
F18: Encours LLD 24m | G18: ='[1]24 mois smartphone upg'!D103 -> 158.33333 | H18: =IF(H16>24,0,IF(H16<$G$5,$G$18,(1-$G$4)*$G$18)) -> 158.33333 | I18: =IF(I16>24,0,IF(I16<$G$5,$G$18,(1-$G$4)*$G$18)) -> 158.33333 | J18: =IF(J16>24,0,IF(J16<$G$5,$G$18,(1-$G$4)*$G$18)) -> 158.33333 | K18: =IF(K16>24,0,IF(K16<$G$5,$G$18,(1-$G$4)*$G$18)) -> 158.33333 | L18: =IF(L16>24,0,IF(L16<$G$5,$G$18,(1-$G$4)*$G$18)) -> 158.33333 | M18: =IF(M16>24,0,IF(M16<$G$5,$G$18,(1-$G$4)*$G$18)) -> 158.33333 | N18: =IF(N16>24,0,IF(N16<$G$5,$G$18,(1-$G$4)*$G$18)) -> 158.33333 | O18: =IF(O16>24,0,IF(O16<$G$5,$G$18,(1-$G$4)*$G$18)) -> 158.33333 | ... BZ18: =IF(BZ16>24,0,IF(BZ16<$G$5,$G$18,(1-$G$4)*$G$18)) -> 0
E19: 1 | F19: Encours upgrade 1 | G19: =IF(G16>($G$3+$G$5),0,IF(AND(G16<($G$5+$G$5-1),G16>($E$19*($G$5-1))),($G$18*$G$4),IF(AND(G16<($G$3+$G$5),G16>($G$5+$G$5-2)),$G$18*$G$4*(1-$G$4),IF(AND(G16>($G$3+$G$5)),$G$18*$G$4*(1-$G$4)*0,0)))) -> 0 | H19: =IF(H16>($G$3+$G$5),0,IF(AND(H16<($G$5+$G$5-1),H16>($E$19*($G$5-1))),($G$18*$G$4),IF(AND(H16<($G$3+$G$5),H16>($G$5+$G$5-2)),$G$18*$G$4*(1-$G$4),IF(AND(H16>($G$3+$G$5)),$G$18*$G$4*(1-$G$4)*0,0)))) -> 0 | I19: =IF(I16>($G$3+$G$5),0,IF(AND(I16<($G$5+$G$5-1),I16>($E$19*($G$5-1))),($G$18*$G$4),IF(AND(I16<($G$3+$G$5),I16>($G$5+$G$5-2)),$G$18*$G$4*(1-$G$4),IF(AND(I16>($G$3+$G$5)),$G$18*$G$4*(1-$G$4)*0,0)))) -> 0 | J19: =IF(J16>($G$3+$G$5),0,IF(AND(J16<($G$5+$G$5-1),J16>($E$19*($G$5-1))),($G$18*$G$4),IF(AND(J16<($G$3+$G$5),J16>($G$5+$G$5-2)),$G$18*$G$4*(1-$G$4),IF(AND(J16>($G$3+$G$5)),$G$18*$G$4*(1-$G$4)*0,0)))) -> 0 | K19: =IF(K16>($G$3+$G$5),0,IF(AND(K16<($G$5+$G$5-1),K16>($E$19*($G$5-1))),($G$18*$G$4),IF(AND(K16<($G$3+$G$5),K16>($G$5+$G$5-2)),$G$18*$G$4*(1-$G$4),IF(AND(K16>($G$3+$G$5)),$G$18*$G$4*(1-$G$4)*0,0)))) -> 0 | L19: =IF(L16>($G$3+$G$5),0,IF(AND(L16<($G$5+$G$5-1),L16>($E$19*($G$5-1))),($G$18*$G$4),IF(AND(L16<($G$3+$G$5),L16>($G$5+$G$5-2)),$G$18*$G$4*(1-$G$4),IF(AND(L16>($G$3+$G$5)),$G$18*$G$4*(1-$G$4)*0,0)))) -> 0 | M19: =IF(M16>($G$3+$G$5),0,IF(AND(M16<($G$5+$G$5-1),M16>($E$19*($G$5-1))),($G$18*$G$4),IF(AND(M16<($G$3+$G$5),M16>($G$5+$G$5-2)),$G$18*$G$4*(1-$G$4),IF(AND(M16>($G$3+$G$5)),$G$18*$G$4*(1-$G$4)*0,0)))) -> 0 | N19: =IF(N16>($G$3+$G$5),0,IF(AND(N16<($G$5+$G$5-1),N16>($E$19*($G$5-1))),($G$18*$G$4),IF(AND(N16<($G$3+$G$5),N16>($G$5+$G$5-2)),$G$18*$G$4*(1-$G$4),IF(AND(N16>($G$3+$G$5)),$G$18*$G$4*(1-$G$4)*0,0)))) -> 0 | ... BZ19: =IF(BZ16>($G$3+$G$5),0,IF(AND(BZ16<($G$5+$G$5-1),BZ16>($E$19*($G$5-1))),($G$18*$G$4),IF(AND(BZ16<($G$3+$G$5),BZ16>($G$5+$G$5-2)),$G$18*$G$4*(1-$G$4),IF(AND(BZ16>($G$3+$G$5)),$G$18*$G$4*(1-$G$4)*0,0)))) -> 0
E20: 2 | F20: Encours upgrade 2 | G20: =IF(G16>($G$3+$G$5+$G$5),0,IF(AND(G16<($G$5+$G$5+$G$5-2),G16>($E$20*$G$5-2)),$G$18*($G$4*$G$4),IF(AND(G16<($G$5+$G$5+$G$3-1),G16>($G$5+$G$5+$G$5-3)),$G$18*$G$4*$G$4*(1-$G$4),0))) -> 0 | H20: =IF(H16>($G$3+$G$5+$G$5),0,IF(AND(H16<($G$5+$G$5+$G$5-2),H16>($E$20*$G$5-2)),$G$18*($G$4*$G$4),IF(AND(H16<($G$5+$G$5+$G$3-1),H16>($G$5+$G$5+$G$5-3)),$G$18*$G$4*$G$4*(1-$G$4),0))) -> 0 | I20: =IF(I16>($G$3+$G$5+$G$5),0,IF(AND(I16<($G$5+$G$5+$G$5-2),I16>($E$20*$G$5-2)),$G$18*($G$4*$G$4),IF(AND(I16<($G$5+$G$5+$G$3-1),I16>($G$5+$G$5+$G$5-3)),$G$18*$G$4*$G$4*(1-$G$4),0))) -> 0 | J20: =IF(J16>($G$3+$G$5+$G$5),0,IF(AND(J16<($G$5+$G$5+$G$5-2),J16>($E$20*$G$5-2)),$G$18*($G$4*$G$4),IF(AND(J16<($G$5+$G$5+$G$3-1),J16>($G$5+$G$5+$G$5-3)),$G$18*$G$4*$G$4*(1-$G$4),0))) -> 0 | K20: =IF(K16>($G$3+$G$5+$G$5),0,IF(AND(K16<($G$5+$G$5+$G$5-2),K16>($E$20*$G$5-2)),$G$18*($G$4*$G$4),IF(AND(K16<($G$5+$G$5+$G$3-1),K16>($G$5+$G$5+$G$5-3)),$G$18*$G$4*$G$4*(1-$G$4),0))) -> 0 | L20: =IF(L16>($G$3+$G$5+$G$5),0,IF(AND(L16<($G$5+$G$5+$G$5-2),L16>($E$20*$G$5-2)),$G$18*($G$4*$G$4),IF(AND(L16<($G$5+$G$5+$G$3-1),L16>($G$5+$G$5+$G$5-3)),$G$18*$G$4*$G$4*(1-$G$4),0))) -> 0 | M20: =IF(M16>($G$3+$G$5+$G$5),0,IF(AND(M16<($G$5+$G$5+$G$5-2),M16>($E$20*$G$5-2)),$G$18*($G$4*$G$4),IF(AND(M16<($G$5+$G$5+$G$3-1),M16>($G$5+$G$5+$G$5-3)),$G$18*$G$4*$G$4*(1-$G$4),0))) -> 0 | N20: =IF(N16>($G$3+$G$5+$G$5),0,IF(AND(N16<($G$5+$G$5+$G$5-2),N16>($E$20*$G$5-2)),$G$18*($G$4*$G$4),IF(AND(N16<($G$5+$G$5+$G$3-1),N16>($G$5+$G$5+$G$5-3)),$G$18*$G$4*$G$4*(1-$G$4),0))) -> 0 | ... BZ20: =IF(BZ16>($G$3+$G$5+$G$5),0,IF(AND(BZ16<($G$5+$G$5+$G$5-2),BZ16>($E$20*$G$5-2)),$G$18*($G$4*$G$4),IF(AND(BZ16<($G$5+$G$5+$G$3-1),BZ16>($G$5+$G$5+$G$5-3)),$G$18*$G$4*$G$4*(1-$G$4),0))) -> 0
E21: 3 | F21: Encours upgrade 3 | G21: =IF(G16>($G$3+$G$5+$G$5+$G$5),0,IF(AND(G16<($G$5+$G$5+$G$5+$G$5),G16>($E$21*$G$5-1)),$G$18*($G$4*$G$4*$G$4),IF(AND(G16<($G$5+$G$5+$G$5+$G$3),G16>($G$5+$G$5+$G$5+$G$5-1)),$G$18*$G$4*$G$4*$G$4*(1-$G$4),0))) -> 0 | H21: =IF(H16>($G$3+$G$5+$G$5+$G$5),0,IF(AND(H16<($G$5+$G$5+$G$5+$G$5),H16>($E$21*$G$5-1)),$G$18*($G$4*$G$4*$G$4),IF(AND(H16<($G$5+$G$5+$G$5+$G$3),H16>($G$5+$G$5+$G$5+$G$5-1)),$G$18*$G$4*$G$4*$G$4*(1-$G$4),0))) -> 0 | I21: =IF(I16>($G$3+$G$5+$G$5+$G$5),0,IF(AND(I16<($G$5+$G$5+$G$5+$G$5),I16>($E$21*$G$5-1)),$G$18*($G$4*$G$4*$G$4),IF(AND(I16<($G$5+$G$5+$G$5+$G$3),I16>($G$5+$G$5+$G$5+$G$5-1)),$G$18*$G$4*$G$4*$G$4*(1-$G$4),0))) -> 0 | J21: =IF(J16>($G$3+$G$5+$G$5+$G$5),0,IF(AND(J16<($G$5+$G$5+$G$5+$G$5),J16>($E$21*$G$5-1)),$G$18*($G$4*$G$4*$G$4),IF(AND(J16<($G$5+$G$5+$G$5+$G$3),J16>($G$5+$G$5+$G$5+$G$5-1)),$G$18*$G$4*$G$4*$G$4*(1-$G$4),0))) -> 0 | K21: =IF(K16>($G$3+$G$5+$G$5+$G$5),0,IF(AND(K16<($G$5+$G$5+$G$5+$G$5),K16>($E$21*$G$5-1)),$G$18*($G$4*$G$4*$G$4),IF(AND(K16<($G$5+$G$5+$G$5+$G$3),K16>($G$5+$G$5+$G$5+$G$5-1)),$G$18*$G$4*$G$4*$G$4*(1-$G$4),0))) -> 0 | L21: =IF(L16>($G$3+$G$5+$G$5+$G$5),0,IF(AND(L16<($G$5+$G$5+$G$5+$G$5),L16>($E$21*$G$5-1)),$G$18*($G$4*$G$4*$G$4),IF(AND(L16<($G$5+$G$5+$G$5+$G$3),L16>($G$5+$G$5+$G$5+$G$5-1)),$G$18*$G$4*$G$4*$G$4*(1-$G$4),0))) -> 0 | M21: =IF(M16>($G$3+$G$5+$G$5+$G$5),0,IF(AND(M16<($G$5+$G$5+$G$5+$G$5),M16>($E$21*$G$5-1)),$G$18*($G$4*$G$4*$G$4),IF(AND(M16<($G$5+$G$5+$G$5+$G$3),M16>($G$5+$G$5+$G$5+$G$5-1)),$G$18*$G$4*$G$4*$G$4*(1-$G$4),0))) -> 0 | N21: =IF(N16>($G$3+$G$5+$G$5+$G$5),0,IF(AND(N16<($G$5+$G$5+$G$5+$G$5),N16>($E$21*$G$5-1)),$G$18*($G$4*$G$4*$G$4),IF(AND(N16<($G$5+$G$5+$G$5+$G$3),N16>($G$5+$G$5+$G$5+$G$5-1)),$G$18*$G$4*$G$4*$G$4*(1-$G$4),0))) -> 0 | ... AX21: =IF(AX16>($G$3+$G$5+$G$5+$G$5),0,IF(AND(AX16<($G$5+$G$5+$G$5+$G$5),AX16>($E$21*$G$5-1)),$G$18*($G$4*$G$4*$G$4),IF(AND(AX16<($G$5+$G$5+$G$5+$G$3),AX16>($G$5+$G$5+$G$5+$G$5-1)),$G$18*$G$4*$G$4*$G$4*(1-$G$4),0))) -> 0 | AY21: =IF(AY16>($G$3+$G$5+$G$5+$G$5),0,IF(AND(AY16<($G$5+$G$5+$G$5+$G$5-2),AY16>($E$21*$G$5-3)),$G$18*($G$4*$G$4*$G$4),IF(AND(AY16<($G$5+$G$5+$G$5+$G$3),AY16>($G$5+$G$5+$G$5+$G$5-3)),$G$18*$G$4*$G$4*$G$4*(1-$G$4),0))) -> 0 | AZ21: =IF(AZ16>($G$3+$G$5+$G$5+$G$5),0,IF(AND(AZ16<($G$5+$G$5+$G$5+$G$5-2),AZ16>($E$21*$G$5-3)),$G$18*($G$4*$G$4*$G$4),IF(AND(AZ16<($G$5+$G$5+$G$5+$G$3),AZ16>($G$5+$G$5+$G$5+$G$5-3)),$G$18*$G$4*$G$4*$G$4*(1-$G$4),0))) -> 34.2 | BA21: =IF(BA16>($G$3+$G$5+$G$5+$G$5),0,IF(AND(BA16<($G$5+$G$5+$G$5+$G$5-2),BA16>($E$21*$G$5-3)),$G$18*($G$4*$G$4*$G$4),IF(AND(BA16<($G$5+$G$5+$G$5+$G$3),BA16>($G$5+$G$5+$G$5+$G$5-3)),$G$18*$G$4*$G$4*$G$4*(1-$G$4),0))) -> 34.2 | BB21: =IF(BB16>($G$3+$G$5+$G$5+$G$5),0,IF(AND(BB16<($G$5+$G$5+$G$5+$G$5-2),BB16>($E$21*$G$5-3)),$G$18*($G$4*$G$4*$G$4),IF(AND(BB16<($G$5+$G$5+$G$5+$G$3),BB16>($G$5+$G$5+$G$5+$G$5-3)),$G$18*$G$4*$G$4*$G$4*(1-$G$4),0))) -> 34.2 | BC21: =IF(BC16>($G$3+$G$5+$G$5+$G$5),0,IF(AND(BC16<($G$5+$G$5+$G$5+$G$5-2),BC16>($E$21*$G$5-3)),$G$18*($G$4*$G$4*$G$4),IF(AND(BC16<($G$5+$G$5+$G$5+$G$3),BC16>($G$5+$G$5+$G$5+$G$5-3)),$G$18*$G$4*$G$4*$G$4*(1-$G$4),0))) -> 34.2 | BD21: =IF(BD16>($G$3+$G$5+$G$5+$G$5),0,IF(AND(BD16<($G$5+$G$5+$G$5+$G$5-2),BD16>($E$21*$G$5-3)),$G$18*($G$4*$G$4*$G$4),IF(AND(BD16<($G$5+$G$5+$G$5+$G$3),BD16>($G$5+$G$5+$G$5+$G$5-3)),$G$18*$G$4*$G$4*$G$4*(1-$G$4),0))) -> 34.2 | BE21: =IF(BE16>($G$3+$G$5+$G$5+$G$5),0,IF(AND(BE16<($G$5+$G$5+$G$5+$G$5-2),BE16>($E$21*$G$5-3)),$G$18*($G$4*$G$4*$G$4),IF(AND(BE16<($G$5+$G$5+$G$5+$G$3),BE16>($G$5+$G$5+$G$5+$G$5-3)),$G$18*$G$4*$G$4*$G$4*(1-$G$4),0))) -> 34.2 | BF21: =IF(BF16>($G$3+$G$5+$G$5+$G$5),0,IF(AND(BF16<($G$5+$G$5+$G$5+$G$5-2),BF16>($E$21*$G$5-3)),$G$18*($G$4*$G$4*$G$4),IF(AND(BF16<($G$5+$G$5+$G$5+$G$3),BF16>($G$5+$G$5+$G$5+$G$5-3)),$G$18*$G$4*$G$4*$G$4*(1-$G$4),0))) -> 34.2 | ... BZ21: =IF(BZ16>($G$3+$G$5+$G$5+$G$5),0,IF(AND(BZ16<($G$5+$G$5+$G$5+$G$5-2),BZ16>($E$21*$G$5-3)),$G$18*($G$4*$G$4*$G$4),IF(AND(BZ16<($G$5+$G$5+$G$5+$G$3),BZ16>($G$5+$G$5+$G$5+$G$5-3)),$G$18*$G$4*$G$4*$G$4*(1-$G$4),0))) -> 0
F23: Encours total en nombre | G23: =SUM(G18:G21) -> 158.33333 | H23: =SUM(H18:H21) -> 158.33333 | I23: =SUM(I18:I21) -> 158.33333 | J23: =SUM(J18:J21) -> 158.33333 | K23: =SUM(K18:K21) -> 158.33333 | L23: =SUM(L18:L21) -> 158.33333 | M23: =SUM(M18:M21) -> 158.33333 | N23: =SUM(N18:N21) -> 158.33333 | ... BZ23: =SUM(BZ18:BZ21) -> 0
F25: Encours LLD 24m | G25: =(IFERROR(G18*HLOOKUP(G16,$G$7:$AD$8,2),"n.a."))/10^3 -> 106.83555 | H25: =(IFERROR(H18*HLOOKUP(H16,$G$7:$AD$8,2),"n.a."))/10^3 -> 103.6869 | I25: =(IFERROR(I18*HLOOKUP(I16,$G$7:$AD$8,2),"n.a."))/10^3 -> 100.50405 | J25: =(IFERROR(J18*HLOOKUP(J16,$G$7:$AD$8,2),"n.a."))/10^3 -> 97.286625 | K25: =(IFERROR(K18*HLOOKUP(K16,$G$7:$AD$8,2),"n.a."))/10^3 -> 94.034251 | L25: =(IFERROR(L18*HLOOKUP(L16,$G$7:$AD$8,2),"n.a."))/10^3 -> 90.746547 | M25: =(IFERROR(M18*HLOOKUP(M16,$G$7:$AD$8,2),"n.a."))/10^3 -> 87.42313 | N25: =(IFERROR(N18*HLOOKUP(N16,$G$7:$AD$8,2),"n.a."))/10^3 -> 84.063612 | ... BY25: =(IFERROR(BY18*HLOOKUP(BY16,$G$7:$AD$8,2),"n.a."))/10^3 -> 0
F26: Encours upgrade 1 | G26: =IFERROR(G19*HLOOKUP(G13,$G$7:$AD$8,2)/1000,"n.a.") -> n.a. | H26: =IFERROR(H19*HLOOKUP(H13,$G$7:$AD$8,2)/1000,"n.a.") -> n.a. | I26: =IFERROR(I19*HLOOKUP(I13,$G$7:$AD$8,2)/1000,"n.a.") -> n.a. | J26: =IFERROR(J19*HLOOKUP(J13,$G$7:$AD$8,2)/1000,"n.a.") -> n.a. | K26: =IFERROR(K19*HLOOKUP(K13,$G$7:$AD$8,2)/1000,"n.a.") -> n.a. | L26: =IFERROR(L19*HLOOKUP(L13,$G$7:$AD$8,2)/1000,"n.a.") -> n.a. | M26: =IFERROR(M19*HLOOKUP(M13,$G$7:$AD$8,2)/1000,"n.a.") -> n.a. | N26: =IFERROR(N19*HLOOKUP(N13,$G$7:$AD$8,2)/1000,"n.a.") -> n.a. | ... BY26: =IFERROR(BY19*HLOOKUP(BY13,$G$7:$AD$8,2)/1000,"n.a.") -> n.a.
F27: Encours upgrade 2 | G27: =IFERROR(G20*HLOOKUP(G14,$G$7:$AD$8,2)/1000,"n.a.") -> n.a. | H27: =IFERROR(H20*HLOOKUP(H14,$G$7:$AD$8,2)/1000,"n.a.") -> n.a. | I27: =IFERROR(I20*HLOOKUP(I14,$G$7:$AD$8,2)/1000,"n.a.") -> n.a. | J27: =IFERROR(J20*HLOOKUP(J14,$G$7:$AD$8,2)/1000,"n.a.") -> n.a. | K27: =IFERROR(K20*HLOOKUP(K14,$G$7:$AD$8,2)/1000,"n.a.") -> n.a. | L27: =IFERROR(L20*HLOOKUP(L14,$G$7:$AD$8,2)/1000,"n.a.") -> n.a. | M27: =IFERROR(M20*HLOOKUP(M14,$G$7:$AD$8,2)/1000,"n.a.") -> n.a. | N27: =IFERROR(N20*HLOOKUP(N14,$G$7:$AD$8,2)/1000,"n.a.") -> n.a. | ... BY27: =IFERROR(BY20*HLOOKUP(BY14,$G$7:$AD$8,2)/1000,"n.a.") -> n.a.
F28: Encours upgrade 3 | G28: =IFERROR(G21*HLOOKUP(G15,$G$7:$AD$8,2)/1000,"n.a.") -> n.a. | H28: =IFERROR(H21*HLOOKUP(H15,$G$7:$AD$8,2)/1000,"n.a.") -> n.a. | I28: =IFERROR(I21*HLOOKUP(I15,$G$7:$AD$8,2)/1000,"n.a.") -> n.a. | J28: =IFERROR(J21*HLOOKUP(J15,$G$7:$AD$8,2)/1000,"n.a.") -> n.a. | K28: =IFERROR(K21*HLOOKUP(K15,$G$7:$AD$8,2)/1000,"n.a.") -> n.a. | L28: =IFERROR(L21*HLOOKUP(L15,$G$7:$AD$8,2)/1000,"n.a.") -> n.a. | M28: =IFERROR(M21*HLOOKUP(M15,$G$7:$AD$8,2)/1000,"n.a.") -> n.a. | N28: =IFERROR(N21*HLOOKUP(N15,$G$7:$AD$8,2)/1000,"n.a.") -> n.a. | ... BY28: =IFERROR(BY21*HLOOKUP(BY15,$G$7:$AD$8,2)/1000,"n.a.") -> n.a.
F30: Encours total en k€ | G30: =SUM(G25:G28) -> 106.83555 | H30: =SUM(H25:H28) -> 103.6869 | I30: =SUM(I25:I28) -> 100.50405 | J30: =SUM(J25:J28) -> 97.286625 | K30: =SUM(K25:K28) -> 94.034251 | L30: =SUM(L25:L28) -> 90.746547 | M30: =SUM(M25:M28) -> 87.42313 | N30: =SUM(N25:N28) -> 84.063612 | ... BY30: =SUM(BY25:BY28) -> 0
F32: Encours LLD 24m | G32: =IFERROR(G18*HLOOKUP(G16,$G$7:$AD$9,3),"n.a.") -> 1148.0475 | H32: =IFERROR(H18*HLOOKUP(H16,$G$7:$AD$9,3),"n.a.") -> 1114.2124 | I32: =IFERROR(I18*HLOOKUP(I16,$G$7:$AD$9,3),"n.a.") -> 1080.0097 | J32: =IFERROR(J18*HLOOKUP(J16,$G$7:$AD$9,3),"n.a.") -> 1045.4355 | K32: =IFERROR(K18*HLOOKUP(K16,$G$7:$AD$9,3),"n.a.") -> 1010.4857 | L32: =IFERROR(L18*HLOOKUP(L16,$G$7:$AD$9,3),"n.a.") -> 975.15623 | M32: =IFERROR(M18*HLOOKUP(M16,$G$7:$AD$9,3),"n.a.") -> 939.44302 | N32: =IFERROR(N18*HLOOKUP(N16,$G$7:$AD$9,3),"n.a.") -> 903.34186 | ... BY32: =IFERROR(BY18*HLOOKUP(BY16,$G$7:$AD$9,3),"n.a.") -> 0
F33: Encours upgrade 1 | G33: =IFERROR(G19*HLOOKUP(G13,$G$7:$AD$9,3),"n.a.") -> n.a. | H33: =IFERROR(H19*HLOOKUP(H13,$G$7:$AD$9,3),"n.a.") -> n.a. | I33: =IFERROR(I19*HLOOKUP(I13,$G$7:$AD$9,3),"n.a.") -> n.a. | J33: =IFERROR(J19*HLOOKUP(J13,$G$7:$AD$9,3),"n.a.") -> n.a. | K33: =IFERROR(K19*HLOOKUP(K13,$G$7:$AD$9,3),"n.a.") -> n.a. | L33: =IFERROR(L19*HLOOKUP(L13,$G$7:$AD$9,3),"n.a.") -> n.a. | M33: =IFERROR(M19*HLOOKUP(M13,$G$7:$AD$9,3),"n.a.") -> n.a. | N33: =IFERROR(N19*HLOOKUP(N13,$G$7:$AD$9,3),"n.a.") -> n.a. | ... BY33: =IFERROR(BY19*HLOOKUP(BY13,$G$7:$AD$9,3),"n.a.") -> n.a.
F34: Encours upgrade 2 | G34: =IFERROR(G20*HLOOKUP(G14,$G$7:$AD$9,3),"n.a.") -> n.a. | H34: =IFERROR(H20*HLOOKUP(H14,$G$7:$AD$9,3),"n.a.") -> n.a. | I34: =IFERROR(I20*HLOOKUP(I14,$G$7:$AD$9,3),"n.a.") -> n.a. | J34: =IFERROR(J20*HLOOKUP(J14,$G$7:$AD$9,3),"n.a.") -> n.a. | K34: =IFERROR(K20*HLOOKUP(K14,$G$7:$AD$9,3),"n.a.") -> n.a. | L34: =IFERROR(L20*HLOOKUP(L14,$G$7:$AD$9,3),"n.a.") -> n.a. | M34: =IFERROR(M20*HLOOKUP(M14,$G$7:$AD$9,3),"n.a.") -> n.a. | N34: =IFERROR(N20*HLOOKUP(N14,$G$7:$AD$9,3),"n.a.") -> n.a. | ... BY34: =IFERROR(BY20*HLOOKUP(BY14,$G$7:$AD$9,3),"n.a.") -> n.a.
F35: Encours upgrade 3 | G35: =IFERROR(G21*HLOOKUP(G15,$G$7:$AD$9,3),"n.a.") -> n.a. | H35: =IFERROR(H21*HLOOKUP(H15,$G$7:$AD$9,3),"n.a.") -> n.a. | I35: =IFERROR(I21*HLOOKUP(I15,$G$7:$AD$9,3),"n.a.") -> n.a. | J35: =IFERROR(J21*HLOOKUP(J15,$G$7:$AD$9,3),"n.a.") -> n.a. | K35: =IFERROR(K21*HLOOKUP(K15,$G$7:$AD$9,3),"n.a.") -> n.a. | L35: =IFERROR(L21*HLOOKUP(L15,$G$7:$AD$9,3),"n.a.") -> n.a. | M35: =IFERROR(M21*HLOOKUP(M15,$G$7:$AD$9,3),"n.a.") -> n.a. | N35: =IFERROR(N21*HLOOKUP(N15,$G$7:$AD$9,3),"n.a.") -> n.a. | ... BY35: =IFERROR(BY21*HLOOKUP(BY15,$G$7:$AD$9,3),"n.a.") -> n.a.
F37: Agios en k€ | G37: =SUM(G32:G35) -> 1148.0475 | H37: =SUM(H32:H35) -> 1114.2124 | I37: =SUM(I32:I35) -> 1080.0097 | J37: =SUM(J32:J35) -> 1045.4355 | K37: =SUM(K32:K35) -> 1010.4857 | L37: =SUM(L32:L35) -> 975.15623 | M37: =SUM(M32:M35) -> 939.44302 | N37: =SUM(N32:N35) -> 903.34186 | ... BY37: =SUM(BY32:BY35) -> 0
F39: Check agios
F40: Encours LLD 24m | G40: ='[1]24 mois smartphone upg'!D132-G32 -> 0 | H40: ='[1]24 mois smartphone upg'!E132-H32 -> 0 | I40: ='[1]24 mois smartphone upg'!F132-I32 -> 0 | J40: ='[1]24 mois smartphone upg'!G132-J32 -> 0 | K40: ='[1]24 mois smartphone upg'!H132-K32 -> 0 | L40: ='[1]24 mois smartphone upg'!I132-L32 -> 0 | M40: ='[1]24 mois smartphone upg'!J132-M32 -> 0 | N40: ='[1]24 mois smartphone upg'!K132-N32 -> 0 | ... BY40: ='[1]24 mois smartphone upg'!BV132-BY32 -> 0
F41: Encours upgrade 1 | G41: =IFERROR('[1]24 mois smartphone upg'!D177-G33,"n.a.") -> n.a. | H41: =IFERROR('[1]24 mois smartphone upg'!E177-H33,"n.a.") -> n.a. | I41: =IFERROR('[1]24 mois smartphone upg'!F177-I33,"n.a.") -> n.a. | J41: =IFERROR('[1]24 mois smartphone upg'!G177-J33,"n.a.") -> n.a. | K41: =IFERROR('[1]24 mois smartphone upg'!H177-K33,"n.a.") -> n.a. | L41: =IFERROR('[1]24 mois smartphone upg'!I177-L33,"n.a.") -> n.a. | M41: =IFERROR('[1]24 mois smartphone upg'!J177-M33,"n.a.") -> n.a. | N41: =IFERROR('[1]24 mois smartphone upg'!K177-N33,"n.a.") -> n.a. | ... BY41: =IFERROR('[1]24 mois smartphone upg'!BV177-BY33,"n.a.") -> n.a.
F42: Encours upgrade 2 | G42: =IFERROR('[1]24 mois smartphone upg'!D223-G34,"n.a.") -> n.a. | H42: =IFERROR('[1]24 mois smartphone upg'!E223-H34,"n.a.") -> n.a. | I42: =IFERROR('[1]24 mois smartphone upg'!F223-I34,"n.a.") -> n.a. | J42: =IFERROR('[1]24 mois smartphone upg'!G223-J34,"n.a.") -> n.a. | K42: =IFERROR('[1]24 mois smartphone upg'!H223-K34,"n.a.") -> n.a. | L42: =IFERROR('[1]24 mois smartphone upg'!I223-L34,"n.a.") -> n.a. | M42: =IFERROR('[1]24 mois smartphone upg'!J223-M34,"n.a.") -> n.a. | N42: =IFERROR('[1]24 mois smartphone upg'!K223-N34,"n.a.") -> n.a. | ... BY42: =IFERROR('[1]24 mois smartphone upg'!BV223-BY34,"n.a.") -> n.a.
F43: Encours upgrade 3 | G43: =IFERROR('[1]24 mois smartphone upg'!D268-G35,"n.a.") -> n.a. | H43: =IFERROR('[1]24 mois smartphone upg'!E268-H35,"n.a.") -> n.a. | I43: =IFERROR('[1]24 mois smartphone upg'!F268-I35,"n.a.") -> n.a. | J43: =IFERROR('[1]24 mois smartphone upg'!G268-J35,"n.a.") -> n.a. | K43: =IFERROR('[1]24 mois smartphone upg'!H268-K35,"n.a.") -> n.a. | L43: =IFERROR('[1]24 mois smartphone upg'!I268-L35,"n.a.") -> n.a. | M43: =IFERROR('[1]24 mois smartphone upg'!J268-M35,"n.a.") -> n.a. | N43: =IFERROR('[1]24 mois smartphone upg'!K268-N35,"n.a.") -> n.a. | ... BY43: =IFERROR('[1]24 mois smartphone upg'!BV268-BY35,"n.a.") -> n.a.
F45: Evolution portefeuille type 24 mois Check
F46: Encours upgrade 1 | V46: 1 | W46: =1+V46 -> 2 | X46: =1+W46 -> 3 | Y46: =1+X46 -> 4 | Z46: =1+Y46 -> 5 | AA46: =1+Z46 -> 6 | AB46: =1+AA46 -> 7 | AC46: =1+AB46 -> 8 | AD46: =1+AC46 -> 9 | ... AS46: =1+AR46 -> 24
F47: Encours upgrade 2 | AK47: 1 | AL47: =1+AK47 -> 2 | AM47: =1+AL47 -> 3 | AN47: =1+AM47 -> 4 | AO47: =1+AN47 -> 5 | AP47: =1+AO47 -> 6 | AQ47: =1+AP47 -> 7 | AR47: =1+AQ47 -> 8 | AS47: =1+AR47 -> 9 | ... BH47: =1+BG47 -> 24
F48: Encours upgrade 3 | AZ48: 1 | BA48: =1+AZ48 -> 2 | BB48: =1+BA48 -> 3 | BC48: =1+BB48 -> 4 | BD48: =1+BC48 -> 5 | BE48: =1+BD48 -> 6 | BF48: =1+BE48 -> 7 | BG48: =1+BF48 -> 8 | BH48: =1+BG48 -> 9 | ... BX48: =1+BW48 -> 25
G49: 43861 | H49: =EDATE(G49,1) -> 43890 | I49: =EDATE(H49,1) -> 43919 | J49: =EDATE(I49,1) -> 43950 | K49: =EDATE(J49,1) -> 43980 | L49: =EDATE(K49,1) -> 44011 | M49: =EDATE(L49,1) -> 44041 | N49: =EDATE(M49,1) -> 44072 | O49: =EDATE(N49,1) -> 44103 | ... BZ49: =EDATE(BY49,1) -> 46019
C50: 43861 | F50: Mois | G50: 1 | H50: =1+G50 -> 2 | I50: =1+H50 -> 3 | J50: =1+I50 -> 4 | K50: =1+J50 -> 5 | L50: =1+K50 -> 6 | M50: =1+L50 -> 7 | N50: =1+M50 -> 8 | O50: =1+N50 -> 9 | ... BZ50: =1+BY50 -> 72
F52: Encours LLD 24m | G52: =INDEX('[1]DARTY - Production'!$D$8:$DH$26,MATCH("Leasing",'[1]DARTY - Production'!$D$8:$D$26,0),MATCH(Objectif!C50,'[1]DARTY - Production'!$D$8:$DH$8,0)) -> 723.34909 | H52: =IF(H50>24,0,IF(H50<$G$5,$G$18,(1-$G$4)*$G$18)) -> 158.33333 | I52: =IF(I50>24,0,IF(I50<$G$5,$G$18,(1-$G$4)*$G$18)) -> 158.33333 | J52: =IF(J50>24,0,IF(J50<$G$5,$G$18,(1-$G$4)*$G$18)) -> 158.33333 | K52: =IF(K50>24,0,IF(K50<$G$5,$G$18,(1-$G$4)*$G$18)) -> 158.33333 | L52: =IF(L50>24,0,IF(L50<$G$5,$G$18,(1-$G$4)*$G$18)) -> 158.33333 | M52: =IF(M50>24,0,IF(M50<$G$5,$G$18,(1-$G$4)*$G$18)) -> 158.33333 | N52: =IF(N50>24,0,IF(N50<$G$5,$G$18,(1-$G$4)*$G$18)) -> 158.33333 | O52: =IF(O50>24,0,IF(O50<$G$5,$G$18,(1-$G$4)*$G$18)) -> 158.33333 | ... BW52: =IF(BW50>24,0,IF(BW50<$G$5,$G$18,(1-$G$4)*$G$18)) -> 0 | BX52: =IF(BX50>24,0,IF(BX50<$G$5,$G52,(1-$G$4)*$G52)) -> 0 | BY52: =IF(BY50>24,0,IF(BY50<$G$5,$G52,(1-$G$4)*$G52)) -> 0 | BZ52: =IF(BZ50>24,0,IF(BZ50<$G$5,$G52,(1-$G$4)*$G52)) -> 0
E53: 1 | F53: Encours upgrade 1 | G53: =IF(G50>($G$3+$G$5),0,IF(AND(G50<($G$5+$G$5-1),G50>($E$19*($G$5-1))),($G$18*$G$4),IF(AND(G50<($G$3+$G$5),G50>($G$5+$G$5-2)),$G$18*$G$4*(1-$G$4),IF(AND(G50>($G$3+$G$5)),$G$18*$G$4*(1-$G$4)*0,0)))) -> 0 | H53: =IF(H50>($G$3+$G$5),0,IF(AND(H50<($G$5+$G$5-1),H50>($E$19*($G$5-1))),($G$18*$G$4),IF(AND(H50<($G$3+$G$5),H50>($G$5+$G$5-2)),$G$18*$G$4*(1-$G$4),IF(AND(H50>($G$3+$G$5)),$G$18*$G$4*(1-$G$4)*0,0)))) -> 0 | I53: =IF(I50>($G$3+$G$5),0,IF(AND(I50<($G$5+$G$5-1),I50>($E$19*($G$5-1))),($G$18*$G$4),IF(AND(I50<($G$3+$G$5),I50>($G$5+$G$5-2)),$G$18*$G$4*(1-$G$4),IF(AND(I50>($G$3+$G$5)),$G$18*$G$4*(1-$G$4)*0,0)))) -> 0 | J53: =IF(J50>($G$3+$G$5),0,IF(AND(J50<($G$5+$G$5-1),J50>($E$19*($G$5-1))),($G$18*$G$4),IF(AND(J50<($G$3+$G$5),J50>($G$5+$G$5-2)),$G$18*$G$4*(1-$G$4),IF(AND(J50>($G$3+$G$5)),$G$18*$G$4*(1-$G$4)*0,0)))) -> 0 | K53: =IF(K50>($G$3+$G$5),0,IF(AND(K50<($G$5+$G$5-1),K50>($E$19*($G$5-1))),($G$18*$G$4),IF(AND(K50<($G$3+$G$5),K50>($G$5+$G$5-2)),$G$18*$G$4*(1-$G$4),IF(AND(K50>($G$3+$G$5)),$G$18*$G$4*(1-$G$4)*0,0)))) -> 0 | L53: =IF(L50>($G$3+$G$5),0,IF(AND(L50<($G$5+$G$5-1),L50>($E$19*($G$5-1))),($G$18*$G$4),IF(AND(L50<($G$3+$G$5),L50>($G$5+$G$5-2)),$G$18*$G$4*(1-$G$4),IF(AND(L50>($G$3+$G$5)),$G$18*$G$4*(1-$G$4)*0,0)))) -> 0 | M53: =IF(M50>($G$3+$G$5),0,IF(AND(M50<($G$5+$G$5-1),M50>($E$19*($G$5-1))),($G$18*$G$4),IF(AND(M50<($G$3+$G$5),M50>($G$5+$G$5-2)),$G$18*$G$4*(1-$G$4),IF(AND(M50>($G$3+$G$5)),$G$18*$G$4*(1-$G$4)*0,0)))) -> 0 | N53: =IF(N50>($G$3+$G$5),0,IF(AND(N50<($G$5+$G$5-1),N50>($E$19*($G$5-1))),($G$18*$G$4),IF(AND(N50<($G$3+$G$5),N50>($G$5+$G$5-2)),$G$18*$G$4*(1-$G$4),IF(AND(N50>($G$3+$G$5)),$G$18*$G$4*(1-$G$4)*0,0)))) -> 0 | ... BW53: =IF(BW50>($G$3+$G$5),0,IF(AND(BW50<($G$5+$G$5-1),BW50>($E$19*($G$5-1))),($G$18*$G$4),IF(AND(BW50<($G$3+$G$5),BW50>($G$5+$G$5-2)),$G$18*$G$4*(1-$G$4),IF(AND(BW50>($G$3+$G$5)),$G$18*$G$4*(1-$G$4)*0,0)))) -> 0 | BX53: =IF(BX50>($G$3+$G$5),0,IF(AND(BX50<($G$5+$G$5-1),BX50>($E53*($G$5-1))),($G52*$G$4),IF(AND(BX50<($G$3+$G$5),BX50>($G$5+$G$5-2)),$G52*$G$4*(1-$G$4),IF(AND(BX50>($G$3+$G$5)),$G52*$G$4*(1-$G$4)*0,0)))) -> 0 | BY53: =IF(BY50>($G$3+$G$5),0,IF(AND(BY50<($G$5+$G$5-1),BY50>($E53*($G$5-1))),($G52*$G$4),IF(AND(BY50<($G$3+$G$5),BY50>($G$5+$G$5-2)),$G52*$G$4*(1-$G$4),IF(AND(BY50>($G$3+$G$5)),$G52*$G$4*(1-$G$4)*0,0)))) -> 0 | BZ53: =IF(BZ50>($G$3+$G$5),0,IF(AND(BZ50<($G$5+$G$5-1),BZ50>($E53*($G$5-1))),($G52*$G$4),IF(AND(BZ50<($G$3+$G$5),BZ50>($G$5+$G$5-2)),$G52*$G$4*(1-$G$4),IF(AND(BZ50>($G$3+$G$5)),$G52*$G$4*(1-$G$4)*0,0)))) -> 0
E54: 2 | F54: Encours upgrade 2 | G54: =IF(G50>($G$3+$G$5+$G$5),0,IF(AND(G50<($G$5+$G$5+$G$5-2),G50>($E$20*$G$5-2)),$G$18*($G$4*$G$4),IF(AND(G50<($G$5+$G$5+$G$3-1),G50>($G$5+$G$5+$G$5-3)),$G$18*$G$4*$G$4*(1-$G$4),0))) -> 0 | H54: =IF(H50>($G$3+$G$5+$G$5),0,IF(AND(H50<($G$5+$G$5+$G$5-2),H50>($E$20*$G$5-2)),$G$18*($G$4*$G$4),IF(AND(H50<($G$5+$G$5+$G$3-1),H50>($G$5+$G$5+$G$5-3)),$G$18*$G$4*$G$4*(1-$G$4),0))) -> 0 | I54: =IF(I50>($G$3+$G$5+$G$5),0,IF(AND(I50<($G$5+$G$5+$G$5-2),I50>($E$20*$G$5-2)),$G$18*($G$4*$G$4),IF(AND(I50<($G$5+$G$5+$G$3-1),I50>($G$5+$G$5+$G$5-3)),$G$18*$G$4*$G$4*(1-$G$4),0))) -> 0 | J54: =IF(J50>($G$3+$G$5+$G$5),0,IF(AND(J50<($G$5+$G$5+$G$5-2),J50>($E$20*$G$5-2)),$G$18*($G$4*$G$4),IF(AND(J50<($G$5+$G$5+$G$3-1),J50>($G$5+$G$5+$G$5-3)),$G$18*$G$4*$G$4*(1-$G$4),0))) -> 0 | K54: =IF(K50>($G$3+$G$5+$G$5),0,IF(AND(K50<($G$5+$G$5+$G$5-2),K50>($E$20*$G$5-2)),$G$18*($G$4*$G$4),IF(AND(K50<($G$5+$G$5+$G$3-1),K50>($G$5+$G$5+$G$5-3)),$G$18*$G$4*$G$4*(1-$G$4),0))) -> 0 | L54: =IF(L50>($G$3+$G$5+$G$5),0,IF(AND(L50<($G$5+$G$5+$G$5-2),L50>($E$20*$G$5-2)),$G$18*($G$4*$G$4),IF(AND(L50<($G$5+$G$5+$G$3-1),L50>($G$5+$G$5+$G$5-3)),$G$18*$G$4*$G$4*(1-$G$4),0))) -> 0 | M54: =IF(M50>($G$3+$G$5+$G$5),0,IF(AND(M50<($G$5+$G$5+$G$5-2),M50>($E$20*$G$5-2)),$G$18*($G$4*$G$4),IF(AND(M50<($G$5+$G$5+$G$3-1),M50>($G$5+$G$5+$G$5-3)),$G$18*$G$4*$G$4*(1-$G$4),0))) -> 0 | N54: =IF(N50>($G$3+$G$5+$G$5),0,IF(AND(N50<($G$5+$G$5+$G$5-2),N50>($E$20*$G$5-2)),$G$18*($G$4*$G$4),IF(AND(N50<($G$5+$G$5+$G$3-1),N50>($G$5+$G$5+$G$5-3)),$G$18*$G$4*$G$4*(1-$G$4),0))) -> 0 | ... BW54: =IF(BW50>($G$3+$G$5+$G$5),0,IF(AND(BW50<($G$5+$G$5+$G$5-2),BW50>($E$20*$G$5-2)),$G$18*($G$4*$G$4),IF(AND(BW50<($G$5+$G$5+$G$3-1),BW50>($G$5+$G$5+$G$5-3)),$G$18*$G$4*$G$4*(1-$G$4),0))) -> 0 | BX54: =IF(BX50>($G$3+$G$5+$G$5),0,IF(AND(BX50<($G$5+$G$5+$G$5-2),BX50>($E54*$G$5-2)),$G52*($G$4*$G$4),IF(AND(BX50<($G$5+$G$5+$G$3-1),BX50>($G$5+$G$5+$G$5-3)),$G52*$G$4*$G$4*(1-$G$4),0))) -> 0 | BY54: =IF(BY50>($G$3+$G$5+$G$5),0,IF(AND(BY50<($G$5+$G$5+$G$5-2),BY50>($E54*$G$5-2)),$G52*($G$4*$G$4),IF(AND(BY50<($G$5+$G$5+$G$3-1),BY50>($G$5+$G$5+$G$5-3)),$G52*$G$4*$G$4*(1-$G$4),0))) -> 0 | BZ54: =IF(BZ50>($G$3+$G$5+$G$5),0,IF(AND(BZ50<($G$5+$G$5+$G$5-2),BZ50>($E54*$G$5-2)),$G52*($G$4*$G$4),IF(AND(BZ50<($G$5+$G$5+$G$3-1),BZ50>($G$5+$G$5+$G$5-3)),$G52*$G$4*$G$4*(1-$G$4),0))) -> 0
E55: 3 | F55: Encours upgrade 3 | G55: =IF(G50>($G$3+$G$5+$G$5+$G$5),0,IF(AND(G50<($G$5+$G$5+$G$5+$G$5),G50>($E$21*$G$5-1)),$G$18*($G$4*$G$4*$G$4),IF(AND(G50<($G$5+$G$5+$G$5+$G$3),G50>($G$5+$G$5+$G$5+$G$5-1)),$G$18*$G$4*$G$4*$G$4*(1-$G$4),0))) -> 0 | H55: =IF(H50>($G$3+$G$5+$G$5+$G$5),0,IF(AND(H50<($G$5+$G$5+$G$5+$G$5),H50>($E$21*$G$5-1)),$G$18*($G$4*$G$4*$G$4),IF(AND(H50<($G$5+$G$5+$G$5+$G$3),H50>($G$5+$G$5+$G$5+$G$5-1)),$G$18*$G$4*$G$4*$G$4*(1-$G$4),0))) -> 0 | I55: =IF(I50>($G$3+$G$5+$G$5+$G$5),0,IF(AND(I50<($G$5+$G$5+$G$5+$G$5),I50>($E$21*$G$5-1)),$G$18*($G$4*$G$4*$G$4),IF(AND(I50<($G$5+$G$5+$G$5+$G$3),I50>($G$5+$G$5+$G$5+$G$5-1)),$G$18*$G$4*$G$4*$G$4*(1-$G$4),0))) -> 0 | J55: =IF(J50>($G$3+$G$5+$G$5+$G$5),0,IF(AND(J50<($G$5+$G$5+$G$5+$G$5),J50>($E$21*$G$5-1)),$G$18*($G$4*$G$4*$G$4),IF(AND(J50<($G$5+$G$5+$G$5+$G$3),J50>($G$5+$G$5+$G$5+$G$5-1)),$G$18*$G$4*$G$4*$G$4*(1-$G$4),0))) -> 0 | K55: =IF(K50>($G$3+$G$5+$G$5+$G$5),0,IF(AND(K50<($G$5+$G$5+$G$5+$G$5),K50>($E$21*$G$5-1)),$G$18*($G$4*$G$4*$G$4),IF(AND(K50<($G$5+$G$5+$G$5+$G$3),K50>($G$5+$G$5+$G$5+$G$5-1)),$G$18*$G$4*$G$4*$G$4*(1-$G$4),0))) -> 0 | L55: =IF(L50>($G$3+$G$5+$G$5+$G$5),0,IF(AND(L50<($G$5+$G$5+$G$5+$G$5),L50>($E$21*$G$5-1)),$G$18*($G$4*$G$4*$G$4),IF(AND(L50<($G$5+$G$5+$G$5+$G$3),L50>($G$5+$G$5+$G$5+$G$5-1)),$G$18*$G$4*$G$4*$G$4*(1-$G$4),0))) -> 0 | M55: =IF(M50>($G$3+$G$5+$G$5+$G$5),0,IF(AND(M50<($G$5+$G$5+$G$5+$G$5),M50>($E$21*$G$5-1)),$G$18*($G$4*$G$4*$G$4),IF(AND(M50<($G$5+$G$5+$G$5+$G$3),M50>($G$5+$G$5+$G$5+$G$5-1)),$G$18*$G$4*$G$4*$G$4*(1-$G$4),0))) -> 0 | N55: =IF(N50>($G$3+$G$5+$G$5+$G$5),0,IF(AND(N50<($G$5+$G$5+$G$5+$G$5),N50>($E$21*$G$5-1)),$G$18*($G$4*$G$4*$G$4),IF(AND(N50<($G$5+$G$5+$G$5+$G$3),N50>($G$5+$G$5+$G$5+$G$5-1)),$G$18*$G$4*$G$4*$G$4*(1-$G$4),0))) -> 0 | ... AX55: =IF(AX50>($G$3+$G$5+$G$5+$G$5),0,IF(AND(AX50<($G$5+$G$5+$G$5+$G$5),AX50>($E$21*$G$5-1)),$G$18*($G$4*$G$4*$G$4),IF(AND(AX50<($G$5+$G$5+$G$5+$G$3),AX50>($G$5+$G$5+$G$5+$G$5-1)),$G$18*$G$4*$G$4*$G$4*(1-$G$4),0))) -> 0 | AY55: =IF(AY50>($G$3+$G$5+$G$5+$G$5),0,IF(AND(AY50<($G$5+$G$5+$G$5+$G$5-2),AY50>($E$21*$G$5-3)),$G$18*($G$4*$G$4*$G$4),IF(AND(AY50<($G$5+$G$5+$G$5+$G$3),AY50>($G$5+$G$5+$G$5+$G$5-3)),$G$18*$G$4*$G$4*$G$4*(1-$G$4),0))) -> 0 | AZ55: =IF(AZ50>($G$3+$G$5+$G$5+$G$5),0,IF(AND(AZ50<($G$5+$G$5+$G$5+$G$5-2),AZ50>($E$21*$G$5-3)),$G$18*($G$4*$G$4*$G$4),IF(AND(AZ50<($G$5+$G$5+$G$5+$G$3),AZ50>($G$5+$G$5+$G$5+$G$5-3)),$G$18*$G$4*$G$4*$G$4*(1-$G$4),0))) -> 34.2 | BA55: =IF(BA50>($G$3+$G$5+$G$5+$G$5),0,IF(AND(BA50<($G$5+$G$5+$G$5+$G$5-2),BA50>($E$21*$G$5-3)),$G$18*($G$4*$G$4*$G$4),IF(AND(BA50<($G$5+$G$5+$G$5+$G$3),BA50>($G$5+$G$5+$G$5+$G$5-3)),$G$18*$G$4*$G$4*$G$4*(1-$G$4),0))) -> 34.2 | BB55: =IF(BB50>($G$3+$G$5+$G$5+$G$5),0,IF(AND(BB50<($G$5+$G$5+$G$5+$G$5-2),BB50>($E$21*$G$5-3)),$G$18*($G$4*$G$4*$G$4),IF(AND(BB50<($G$5+$G$5+$G$5+$G$3),BB50>($G$5+$G$5+$G$5+$G$5-3)),$G$18*$G$4*$G$4*$G$4*(1-$G$4),0))) -> 34.2 | BC55: =IF(BC50>($G$3+$G$5+$G$5+$G$5),0,IF(AND(BC50<($G$5+$G$5+$G$5+$G$5-2),BC50>($E$21*$G$5-3)),$G$18*($G$4*$G$4*$G$4),IF(AND(BC50<($G$5+$G$5+$G$5+$G$3),BC50>($G$5+$G$5+$G$5+$G$5-3)),$G$18*$G$4*$G$4*$G$4*(1-$G$4),0))) -> 34.2 | BD55: =IF(BD50>($G$3+$G$5+$G$5+$G$5),0,IF(AND(BD50<($G$5+$G$5+$G$5+$G$5-2),BD50>($E$21*$G$5-3)),$G$18*($G$4*$G$4*$G$4),IF(AND(BD50<($G$5+$G$5+$G$5+$G$3),BD50>($G$5+$G$5+$G$5+$G$5-3)),$G$18*$G$4*$G$4*$G$4*(1-$G$4),0))) -> 34.2 | BE55: =IF(BE50>($G$3+$G$5+$G$5+$G$5),0,IF(AND(BE50<($G$5+$G$5+$G$5+$G$5-2),BE50>($E$21*$G$5-3)),$G$18*($G$4*$G$4*$G$4),IF(AND(BE50<($G$5+$G$5+$G$5+$G$3),BE50>($G$5+$G$5+$G$5+$G$5-3)),$G$18*$G$4*$G$4*$G$4*(1-$G$4),0))) -> 34.2 | BF55: =IF(BF50>($G$3+$G$5+$G$5+$G$5),0,IF(AND(BF50<($G$5+$G$5+$G$5+$G$5-2),BF50>($E$21*$G$5-3)),$G$18*($G$4*$G$4*$G$4),IF(AND(BF50<($G$5+$G$5+$G$5+$G$3),BF50>($G$5+$G$5+$G$5+$G$5-3)),$G$18*$G$4*$G$4*$G$4*(1-$G$4),0))) -> 34.2 | ... BW55: =IF(BW50>($G$3+$G$5+$G$5+$G$5),0,IF(AND(BW50<($G$5+$G$5+$G$5+$G$5-2),BW50>($E$21*$G$5-3)),$G$18*($G$4*$G$4*$G$4),IF(AND(BW50<($G$5+$G$5+$G$5+$G$3),BW50>($G$5+$G$5+$G$5+$G$5-3)),$G$18*$G$4*$G$4*$G$4*(1-$G$4),0))) -> 13.68 | BX55: =IF(BX50>($G$3+$G$5+$G$5+$G$5),0,IF(AND(BX50<($G$5+$G$5+$G$5+$G$5),BX50>($E55*$G$5-1)),$G52*($G$4*$G$4*$G$4),IF(AND(BX50<($G$5+$G$5+$G$5+$G$3),BX50>($G$5+$G$5+$G$5+$G$5-1)),$G52*$G$4*$G$4*$G$4*(1-$G$4),0))) -> 62.497361 | BY55: =IF(BY50>($G$3+$G$5+$G$5+$G$5),0,IF(AND(BY50<($G$5+$G$5+$G$5+$G$5),BY50>($E55*$G$5-1)),$G52*($G$4*$G$4*$G$4),IF(AND(BY50<($G$5+$G$5+$G$5+$G$3),BY50>($G$5+$G$5+$G$5+$G$5-1)),$G52*$G$4*$G$4*$G$4*(1-$G$4),0))) -> 62.497361 | BZ55: =IF(BZ50>($G$3+$G$5+$G$5+$G$5),0,IF(AND(BZ50<($G$5+$G$5+$G$5+$G$5),BZ50>($E55*$G$5-1)),$G52*($G$4*$G$4*$G$4),IF(AND(BZ50<($G$5+$G$5+$G$5+$G$3),BZ50>($G$5+$G$5+$G$5+$G$5-1)),$G52*$G$4*$G$4*$G$4*(1-$G$4),0))) -> 0
B57: Encours en nb | F57: Encours total en nombre | G57: =SUM(G52:G55) -> 723.34909 | H57: =SUM(H52:H55) -> 158.33333 | I57: =SUM(I52:I55) -> 158.33333 | J57: =SUM(J52:J55) -> 158.33333 | K57: =SUM(K52:K55) -> 158.33333 | L57: =SUM(L52:L55) -> 158.33333 | M57: =SUM(M52:M55) -> 158.33333 | N57: =SUM(N52:N55) -> 158.33333 | ... BZ57: =SUM(BZ52:BZ55) -> 0
F59: Encours LLD 24m | G59: =(IFERROR(G52*HLOOKUP(G50,$G$7:$AD$8,2),"n.a."))/10^3 -> 488.0804 | H59: =(IFERROR(H52*HLOOKUP(H50,$G$7:$AD$8,2),"n.a."))/10^3 -> 103.6869 | I59: =(IFERROR(I52*HLOOKUP(I50,$G$7:$AD$8,2),"n.a."))/10^3 -> 100.50405 | J59: =(IFERROR(J52*HLOOKUP(J50,$G$7:$AD$8,2),"n.a."))/10^3 -> 97.286625 | K59: =(IFERROR(K52*HLOOKUP(K50,$G$7:$AD$8,2),"n.a."))/10^3 -> 94.034251 | L59: =(IFERROR(L52*HLOOKUP(L50,$G$7:$AD$8,2),"n.a."))/10^3 -> 90.746547 | M59: =(IFERROR(M52*HLOOKUP(M50,$G$7:$AD$8,2),"n.a."))/10^3 -> 87.42313 | N59: =(IFERROR(N52*HLOOKUP(N50,$G$7:$AD$8,2),"n.a."))/10^3 -> 84.063612 | ... BW59: =(IFERROR(BW52*HLOOKUP(BW50,$G$7:$AD$8,2),"n.a."))/10^3 -> 0 | BX59: =IFERROR(BX52*HLOOKUP(BX50,$G$7:$AD$8,2),"n.a.") -> 0 | BY59: =IFERROR(BY52*HLOOKUP(BY50,$G$7:$AD$8,2),"n.a.") -> 0
F60: Encours upgrade 1 | G60: =IFERROR(G53*HLOOKUP(G46,$G$7:$AD$8,2)/1000,"n.a.") -> n.a. | H60: =IFERROR(H53*HLOOKUP(H46,$G$7:$AD$8,2)/1000,"n.a.") -> n.a. | I60: =IFERROR(I53*HLOOKUP(I46,$G$7:$AD$8,2)/1000,"n.a.") -> n.a. | J60: =IFERROR(J53*HLOOKUP(J46,$G$7:$AD$8,2)/1000,"n.a.") -> n.a. | K60: =IFERROR(K53*HLOOKUP(K46,$G$7:$AD$8,2)/1000,"n.a.") -> n.a. | L60: =IFERROR(L53*HLOOKUP(L46,$G$7:$AD$8,2)/1000,"n.a.") -> n.a. | M60: =IFERROR(M53*HLOOKUP(M46,$G$7:$AD$8,2)/1000,"n.a.") -> n.a. | N60: =IFERROR(N53*HLOOKUP(N46,$G$7:$AD$8,2)/1000,"n.a.") -> n.a. | ... BW60: =IFERROR(BW53*HLOOKUP(BW46,$G$7:$AD$8,2)/1000,"n.a.") -> n.a. | BX60: =IFERROR(BX53*HLOOKUP(BX46,$G$7:$AD$8,2),"n.a.") -> n.a. | BY60: =IFERROR(BY53*HLOOKUP(BY46,$G$7:$AD$8,2),"n.a.") -> n.a.
F61: Encours upgrade 2 | G61: =IFERROR(G54*HLOOKUP(G47,$G$7:$AD$8,2)/1000,"n.a.") -> n.a. | H61: =IFERROR(H54*HLOOKUP(H47,$G$7:$AD$8,2)/1000,"n.a.") -> n.a. | I61: =IFERROR(I54*HLOOKUP(I47,$G$7:$AD$8,2)/1000,"n.a.") -> n.a. | J61: =IFERROR(J54*HLOOKUP(J47,$G$7:$AD$8,2)/1000,"n.a.") -> n.a. | K61: =IFERROR(K54*HLOOKUP(K47,$G$7:$AD$8,2)/1000,"n.a.") -> n.a. | L61: =IFERROR(L54*HLOOKUP(L47,$G$7:$AD$8,2)/1000,"n.a.") -> n.a. | M61: =IFERROR(M54*HLOOKUP(M47,$G$7:$AD$8,2)/1000,"n.a.") -> n.a. | N61: =IFERROR(N54*HLOOKUP(N47,$G$7:$AD$8,2)/1000,"n.a.") -> n.a. | ... BW61: =IFERROR(BW54*HLOOKUP(BW47,$G$7:$AD$8,2)/1000,"n.a.") -> n.a. | BX61: =IFERROR(BX54*HLOOKUP(BX47,$G$7:$AD$8,2),"n.a.") -> n.a. | BY61: =IFERROR(BY54*HLOOKUP(BY47,$G$7:$AD$8,2),"n.a.") -> n.a.
F62: Encours upgrade 3 | G62: =IFERROR(G55*HLOOKUP(G48,$G$7:$AD$8,2)/1000,"n.a.") -> n.a. | H62: =IFERROR(H55*HLOOKUP(H48,$G$7:$AD$8,2)/1000,"n.a.") -> n.a. | I62: =IFERROR(I55*HLOOKUP(I48,$G$7:$AD$8,2)/1000,"n.a.") -> n.a. | J62: =IFERROR(J55*HLOOKUP(J48,$G$7:$AD$8,2)/1000,"n.a.") -> n.a. | K62: =IFERROR(K55*HLOOKUP(K48,$G$7:$AD$8,2)/1000,"n.a.") -> n.a. | L62: =IFERROR(L55*HLOOKUP(L48,$G$7:$AD$8,2)/1000,"n.a.") -> n.a. | M62: =IFERROR(M55*HLOOKUP(M48,$G$7:$AD$8,2)/1000,"n.a.") -> n.a. | N62: =IFERROR(N55*HLOOKUP(N48,$G$7:$AD$8,2)/1000,"n.a.") -> n.a. | ... BW62: =IFERROR(BW55*HLOOKUP(BW48,$G$7:$AD$8,2)/1000,"n.a.") -> 2.165886 | BX62: =IFERROR(BX55*HLOOKUP(BX48,$G$7:$AD$8,2),"n.a.") -> 9894.8947 | BY62: =IFERROR(BY55*HLOOKUP(BY48,$G$7:$AD$8,2),"n.a.") -> n.a.
B64: Encours en k€ | F64: Encours total en k€ | G64: =SUM(G59:G62) -> 488.0804 | H64: =SUM(H59:H62) -> 103.6869 | I64: =SUM(I59:I62) -> 100.50405 | J64: =SUM(J59:J62) -> 97.286625 | K64: =SUM(K59:K62) -> 94.034251 | L64: =SUM(L59:L62) -> 90.746547 | M64: =SUM(M59:M62) -> 87.42313 | N64: =SUM(N59:N62) -> 84.063612 | ... BY64: =SUM(BY59:BY62) -> 0
F66: Encours LLD 24m | G66: =IFERROR(G52*HLOOKUP(G50,$G$7:$AD$9,3),"n.a.") -> 5244.8788 | H66: =IFERROR(H52*HLOOKUP(H50,$G$7:$AD$9,3),"n.a.") -> 1114.2124 | I66: =IFERROR(I52*HLOOKUP(I50,$G$7:$AD$9,3),"n.a.") -> 1080.0097 | J66: =IFERROR(J52*HLOOKUP(J50,$G$7:$AD$9,3),"n.a.") -> 1045.4355 | K66: =IFERROR(K52*HLOOKUP(K50,$G$7:$AD$9,3),"n.a.") -> 1010.4857 | L66: =IFERROR(L52*HLOOKUP(L50,$G$7:$AD$9,3),"n.a.") -> 975.15623 | M66: =IFERROR(M52*HLOOKUP(M50,$G$7:$AD$9,3),"n.a.") -> 939.44302 | N66: =IFERROR(N52*HLOOKUP(N50,$G$7:$AD$9,3),"n.a.") -> 903.34186 | ... BY66: =IFERROR(BY52*HLOOKUP(BY50,$G$7:$AD$9,3),"n.a.") -> 0
F67: Encours upgrade 1 | G67: =IFERROR(G53*HLOOKUP(G46,$G$7:$AD$9,3),"n.a.") -> n.a. | H67: =IFERROR(H53*HLOOKUP(H46,$G$7:$AD$9,3),"n.a.") -> n.a. | I67: =IFERROR(I53*HLOOKUP(I46,$G$7:$AD$9,3),"n.a.") -> n.a. | J67: =IFERROR(J53*HLOOKUP(J46,$G$7:$AD$9,3),"n.a.") -> n.a. | K67: =IFERROR(K53*HLOOKUP(K46,$G$7:$AD$9,3),"n.a.") -> n.a. | L67: =IFERROR(L53*HLOOKUP(L46,$G$7:$AD$9,3),"n.a.") -> n.a. | M67: =IFERROR(M53*HLOOKUP(M46,$G$7:$AD$9,3),"n.a.") -> n.a. | N67: =IFERROR(N53*HLOOKUP(N46,$G$7:$AD$9,3),"n.a.") -> n.a. | ... BY67: =IFERROR(BY53*HLOOKUP(BY46,$G$7:$AD$9,3),"n.a.") -> n.a.
F68: Encours upgrade 2 | G68: =IFERROR(G54*HLOOKUP(G47,$G$7:$AD$9,3),"n.a.") -> n.a. | H68: =IFERROR(H54*HLOOKUP(H47,$G$7:$AD$9,3),"n.a.") -> n.a. | I68: =IFERROR(I54*HLOOKUP(I47,$G$7:$AD$9,3),"n.a.") -> n.a. | J68: =IFERROR(J54*HLOOKUP(J47,$G$7:$AD$9,3),"n.a.") -> n.a. | K68: =IFERROR(K54*HLOOKUP(K47,$G$7:$AD$9,3),"n.a.") -> n.a. | L68: =IFERROR(L54*HLOOKUP(L47,$G$7:$AD$9,3),"n.a.") -> n.a. | M68: =IFERROR(M54*HLOOKUP(M47,$G$7:$AD$9,3),"n.a.") -> n.a. | N68: =IFERROR(N54*HLOOKUP(N47,$G$7:$AD$9,3),"n.a.") -> n.a. | ... BY68: =IFERROR(BY54*HLOOKUP(BY47,$G$7:$AD$9,3),"n.a.") -> n.a.
F69: Encours upgrade 3 | G69: =IFERROR(G55*HLOOKUP(G48,$G$7:$AD$9,3),"n.a.") -> n.a. | H69: =IFERROR(H55*HLOOKUP(H48,$G$7:$AD$9,3),"n.a.") -> n.a. | I69: =IFERROR(I55*HLOOKUP(I48,$G$7:$AD$9,3),"n.a.") -> n.a. | J69: =IFERROR(J55*HLOOKUP(J48,$G$7:$AD$9,3),"n.a.") -> n.a. | K69: =IFERROR(K55*HLOOKUP(K48,$G$7:$AD$9,3),"n.a.") -> n.a. | L69: =IFERROR(L55*HLOOKUP(L48,$G$7:$AD$9,3),"n.a.") -> n.a. | M69: =IFERROR(M55*HLOOKUP(M48,$G$7:$AD$9,3),"n.a.") -> n.a. | N69: =IFERROR(N55*HLOOKUP(N48,$G$7:$AD$9,3),"n.a.") -> n.a. | ... BY69: =IFERROR(BY55*HLOOKUP(BY48,$G$7:$AD$9,3),"n.a.") -> n.a.
B71: Agios en k€ | F71: Agios en k€ | G71: =SUM(G66:G69) -> 5244.8788 | H71: =SUM(H66:H69) -> 1114.2124 | I71: =SUM(I66:I69) -> 1080.0097 | J71: =SUM(J66:J69) -> 1045.4355 | K71: =SUM(K66:K69) -> 1010.4857 | L71: =SUM(L66:L69) -> 975.15623 | M71: =SUM(M66:M69) -> 939.44302 | N71: =SUM(N66:N69) -> 903.34186 | ... BY71: =SUM(BY66:BY69) -> 0
F74: Evolution portefeuille type 24 mois Check
F75: Encours upgrade 1 | W75: 1 | X75: =1+W75 -> 2 | Y75: =1+X75 -> 3 | Z75: =1+Y75 -> 4 | AA75: =1+Z75 -> 5 | AB75: =1+AA75 -> 6 | AC75: =1+AB75 -> 7 | AD75: =1+AC75 -> 8 | AE75: =1+AD75 -> 9 | ... AT75: =1+AS75 -> 24
F76: Encours upgrade 2 | AL76: 1 | AM76: =1+AL76 -> 2 | AN76: =1+AM76 -> 3 | AO76: =1+AN76 -> 4 | AP76: =1+AO76 -> 5 | AQ76: =1+AP76 -> 6 | AR76: =1+AQ76 -> 7 | AS76: =1+AR76 -> 8 | AT76: =1+AS76 -> 9 | ... BI76: =1+BH76 -> 24
F77: Encours upgrade 3 | BA77: 1 | BB77: =1+BA77 -> 2 | BC77: =1+BB77 -> 3 | BD77: =1+BC77 -> 4 | BE77: =1+BD77 -> 5 | BF77: =1+BE77 -> 6 | BG77: =1+BF77 -> 7 | BH77: =1+BG77 -> 8 | BI77: =1+BH77 -> 9 | ... BY77: =1+BX77 -> 25
H78: =C79 -> 43890 | I78: =EDATE(H78,1) -> 43919 | J78: =EDATE(I78,1) -> 43950 | K78: =EDATE(J78,1) -> 43980 | L78: =EDATE(K78,1) -> 44011 | M78: =EDATE(L78,1) -> 44041 | N78: =EDATE(M78,1) -> 44072 | O78: =EDATE(N78,1) -> 44103 | P78: =EDATE(O78,1) -> 44133 | ... CA78: =EDATE(BZ78,1) -> 46050
C79: =EDATE(C50,1) -> 43890 | F79: Mois | H79: 1 | I79: =1+H79 -> 2 | J79: =1+I79 -> 3 | K79: =1+J79 -> 4 | L79: =1+K79 -> 5 | M79: =1+L79 -> 6 | N79: =1+M79 -> 7 | O79: =1+N79 -> 8 | P79: =1+O79 -> 9 | ... CA79: =1+BZ79 -> 72
F81: Encours LLD 24m | H81: =INDEX('[1]DARTY - Production'!$D$8:$DH$26,MATCH("Leasing",'[1]DARTY - Production'!$D$8:$D$26,0),MATCH(Objectif!C79,'[1]DARTY - Production'!$D$8:$DH$8,0)) -> 575.52265 | I81: =IF(I79>24,0,IF(I79<$G$5,$G$18,(1-$G$4)*$G$18)) -> 158.33333 | J81: =IF(J79>24,0,IF(J79<$G$5,$G$18,(1-$G$4)*$G$18)) -> 158.33333 | K81: =IF(K79>24,0,IF(K79<$G$5,$G$18,(1-$G$4)*$G$18)) -> 158.33333 | L81: =IF(L79>24,0,IF(L79<$G$5,$G$18,(1-$G$4)*$G$18)) -> 158.33333 | M81: =IF(M79>24,0,IF(M79<$G$5,$G$18,(1-$G$4)*$G$18)) -> 158.33333 | N81: =IF(N79>24,0,IF(N79<$G$5,$G$18,(1-$G$4)*$G$18)) -> 158.33333 | O81: =IF(O79>24,0,IF(O79<$G$5,$G$18,(1-$G$4)*$G$18)) -> 158.33333 | P81: =IF(P79>24,0,IF(P79<$G$5,$G$18,(1-$G$4)*$G$18)) -> 158.33333 | ... BX81: =IF(BX79>24,0,IF(BX79<$G$5,$G$18,(1-$G$4)*$G$18)) -> 0 | BY81: =IF(BY79>24,0,IF(BY79<$G$5,$H81,(1-$G$4)*$H81)) -> 0 | BZ81: =IF(BZ79>24,0,IF(BZ79<$G$5,$H81,(1-$G$4)*$H81)) -> 0 | CA81: =IF(CA79>24,0,IF(CA79<$G$5,$H81,(1-$G$4)*$H81)) -> 0
E82: 1 | F82: Encours upgrade 1 | H82: =IF(H79>($G$3+$G$5),0,IF(AND(H79<($G$5+$G$5-1),H79>($E$19*($G$5-1))),($G$18*$G$4),IF(AND(H79<($G$3+$G$5),H79>($G$5+$G$5-2)),$G$18*$G$4*(1-$G$4),IF(AND(H79>($G$3+$G$5)),$G$18*$G$4*(1-$G$4)*0,0)))) -> 0 | I82: =IF(I79>($G$3+$G$5),0,IF(AND(I79<($G$5+$G$5-1),I79>($E$19*($G$5-1))),($G$18*$G$4),IF(AND(I79<($G$3+$G$5),I79>($G$5+$G$5-2)),$G$18*$G$4*(1-$G$4),IF(AND(I79>($G$3+$G$5)),$G$18*$G$4*(1-$G$4)*0,0)))) -> 0 | J82: =IF(J79>($G$3+$G$5),0,IF(AND(J79<($G$5+$G$5-1),J79>($E$19*($G$5-1))),($G$18*$G$4),IF(AND(J79<($G$3+$G$5),J79>($G$5+$G$5-2)),$G$18*$G$4*(1-$G$4),IF(AND(J79>($G$3+$G$5)),$G$18*$G$4*(1-$G$4)*0,0)))) -> 0 | K82: =IF(K79>($G$3+$G$5),0,IF(AND(K79<($G$5+$G$5-1),K79>($E$19*($G$5-1))),($G$18*$G$4),IF(AND(K79<($G$3+$G$5),K79>($G$5+$G$5-2)),$G$18*$G$4*(1-$G$4),IF(AND(K79>($G$3+$G$5)),$G$18*$G$4*(1-$G$4)*0,0)))) -> 0 | L82: =IF(L79>($G$3+$G$5),0,IF(AND(L79<($G$5+$G$5-1),L79>($E$19*($G$5-1))),($G$18*$G$4),IF(AND(L79<($G$3+$G$5),L79>($G$5+$G$5-2)),$G$18*$G$4*(1-$G$4),IF(AND(L79>($G$3+$G$5)),$G$18*$G$4*(1-$G$4)*0,0)))) -> 0 | M82: =IF(M79>($G$3+$G$5),0,IF(AND(M79<($G$5+$G$5-1),M79>($E$19*($G$5-1))),($G$18*$G$4),IF(AND(M79<($G$3+$G$5),M79>($G$5+$G$5-2)),$G$18*$G$4*(1-$G$4),IF(AND(M79>($G$3+$G$5)),$G$18*$G$4*(1-$G$4)*0,0)))) -> 0 | N82: =IF(N79>($G$3+$G$5),0,IF(AND(N79<($G$5+$G$5-1),N79>($E$19*($G$5-1))),($G$18*$G$4),IF(AND(N79<($G$3+$G$5),N79>($G$5+$G$5-2)),$G$18*$G$4*(1-$G$4),IF(AND(N79>($G$3+$G$5)),$G$18*$G$4*(1-$G$4)*0,0)))) -> 0 | O82: =IF(O79>($G$3+$G$5),0,IF(AND(O79<($G$5+$G$5-1),O79>($E$19*($G$5-1))),($G$18*$G$4),IF(AND(O79<($G$3+$G$5),O79>($G$5+$G$5-2)),$G$18*$G$4*(1-$G$4),IF(AND(O79>($G$3+$G$5)),$G$18*$G$4*(1-$G$4)*0,0)))) -> 0 | ... BX82: =IF(BX79>($G$3+$G$5),0,IF(AND(BX79<($G$5+$G$5-1),BX79>($E$19*($G$5-1))),($G$18*$G$4),IF(AND(BX79<($G$3+$G$5),BX79>($G$5+$G$5-2)),$G$18*$G$4*(1-$G$4),IF(AND(BX79>($G$3+$G$5)),$G$18*$G$4*(1-$G$4)*0,0)))) -> 0 | BY82: =IF(BY79>($G$3+$G$5),0,IF(AND(BY79<($G$5+$G$5-1),BY79>($E82*($G$5-1))),($H81*$G$4),IF(AND(BY79<($G$3+$G$5),BY79>($G$5+$G$5-2)),$H81*$G$4*(1-$G$4),IF(AND(BY79>($G$3+$G$5)),$H81*$G$4*(1-$G$4)*0,0)))) -> 0 | BZ82: =IF(BZ79>($G$3+$G$5),0,IF(AND(BZ79<($G$5+$G$5-1),BZ79>($E82*($G$5-1))),($H81*$G$4),IF(AND(BZ79<($G$3+$G$5),BZ79>($G$5+$G$5-2)),$H81*$G$4*(1-$G$4),IF(AND(BZ79>($G$3+$G$5)),$H81*$G$4*(1-$G$4)*0,0)))) -> 0 | CA82: =IF(CA79>($G$3+$G$5),0,IF(AND(CA79<($G$5+$G$5-1),CA79>($E82*($G$5-1))),($H81*$G$4),IF(AND(CA79<($G$3+$G$5),CA79>($G$5+$G$5-2)),$H81*$G$4*(1-$G$4),IF(AND(CA79>($G$3+$G$5)),$H81*$G$4*(1-$G$4)*0,0)))) -> 0
E83: 2 | F83: Encours upgrade 2 | H83: =IF(H79>($G$3+$G$5+$G$5),0,IF(AND(H79<($G$5+$G$5+$G$5-2),H79>($E$20*$G$5-2)),$G$18*($G$4*$G$4),IF(AND(H79<($G$5+$G$5+$G$3-1),H79>($G$5+$G$5+$G$5-3)),$G$18*$G$4*$G$4*(1-$G$4),0))) -> 0 | I83: =IF(I79>($G$3+$G$5+$G$5),0,IF(AND(I79<($G$5+$G$5+$G$5-2),I79>($E$20*$G$5-2)),$G$18*($G$4*$G$4),IF(AND(I79<($G$5+$G$5+$G$3-1),I79>($G$5+$G$5+$G$5-3)),$G$18*$G$4*$G$4*(1-$G$4),0))) -> 0 | J83: =IF(J79>($G$3+$G$5+$G$5),0,IF(AND(J79<($G$5+$G$5+$G$5-2),J79>($E$20*$G$5-2)),$G$18*($G$4*$G$4),IF(AND(J79<($G$5+$G$5+$G$3-1),J79>($G$5+$G$5+$G$5-3)),$G$18*$G$4*$G$4*(1-$G$4),0))) -> 0 | K83: =IF(K79>($G$3+$G$5+$G$5),0,IF(AND(K79<($G$5+$G$5+$G$5-2),K79>($E$20*$G$5-2)),$G$18*($G$4*$G$4),IF(AND(K79<($G$5+$G$5+$G$3-1),K79>($G$5+$G$5+$G$5-3)),$G$18*$G$4*$G$4*(1-$G$4),0))) -> 0 | L83: =IF(L79>($G$3+$G$5+$G$5),0,IF(AND(L79<($G$5+$G$5+$G$5-2),L79>($E$20*$G$5-2)),$G$18*($G$4*$G$4),IF(AND(L79<($G$5+$G$5+$G$3-1),L79>($G$5+$G$5+$G$5-3)),$G$18*$G$4*$G$4*(1-$G$4),0))) -> 0 | M83: =IF(M79>($G$3+$G$5+$G$5),0,IF(AND(M79<($G$5+$G$5+$G$5-2),M79>($E$20*$G$5-2)),$G$18*($G$4*$G$4),IF(AND(M79<($G$5+$G$5+$G$3-1),M79>($G$5+$G$5+$G$5-3)),$G$18*$G$4*$G$4*(1-$G$4),0))) -> 0 | N83: =IF(N79>($G$3+$G$5+$G$5),0,IF(AND(N79<($G$5+$G$5+$G$5-2),N79>($E$20*$G$5-2)),$G$18*($G$4*$G$4),IF(AND(N79<($G$5+$G$5+$G$3-1),N79>($G$5+$G$5+$G$5-3)),$G$18*$G$4*$G$4*(1-$G$4),0))) -> 0 | O83: =IF(O79>($G$3+$G$5+$G$5),0,IF(AND(O79<($G$5+$G$5+$G$5-2),O79>($E$20*$G$5-2)),$G$18*($G$4*$G$4),IF(AND(O79<($G$5+$G$5+$G$3-1),O79>($G$5+$G$5+$G$5-3)),$G$18*$G$4*$G$4*(1-$G$4),0))) -> 0 | ... BX83: =IF(BX79>($G$3+$G$5+$G$5),0,IF(AND(BX79<($G$5+$G$5+$G$5-2),BX79>($E$20*$G$5-2)),$G$18*($G$4*$G$4),IF(AND(BX79<($G$5+$G$5+$G$3-1),BX79>($G$5+$G$5+$G$5-3)),$G$18*$G$4*$G$4*(1-$G$4),0))) -> 0 | BY83: =IF(BY79>($G$3+$G$5+$G$5),0,IF(AND(BY79<($G$5+$G$5+$G$5-2),BY79>($E83*$G$5-2)),$H81*($G$4*$G$4),IF(AND(BY79<($G$5+$G$5+$G$3-1),BY79>($G$5+$G$5+$G$5-3)),$H81*$G$4*$G$4*(1-$G$4),0))) -> 0 | BZ83: =IF(BZ79>($G$3+$G$5+$G$5),0,IF(AND(BZ79<($G$5+$G$5+$G$5-2),BZ79>($E83*$G$5-2)),$H81*($G$4*$G$4),IF(AND(BZ79<($G$5+$G$5+$G$3-1),BZ79>($G$5+$G$5+$G$5-3)),$H81*$G$4*$G$4*(1-$G$4),0))) -> 0 | CA83: =IF(CA79>($G$3+$G$5+$G$5),0,IF(AND(CA79<($G$5+$G$5+$G$5-2),CA79>($E83*$G$5-2)),$H81*($G$4*$G$4),IF(AND(CA79<($G$5+$G$5+$G$3-1),CA79>($G$5+$G$5+$G$5-3)),$H81*$G$4*$G$4*(1-$G$4),0))) -> 0
E84: 3 | F84: Encours upgrade 3 | H84: =IF(H79>($G$3+$G$5+$G$5+$G$5),0,IF(AND(H79<($G$5+$G$5+$G$5+$G$5),H79>($E$21*$G$5-1)),$G$18*($G$4*$G$4*$G$4),IF(AND(H79<($G$5+$G$5+$G$5+$G$3),H79>($G$5+$G$5+$G$5+$G$5-1)),$G$18*$G$4*$G$4*$G$4*(1-$G$4),0))) -> 0 | I84: =IF(I79>($G$3+$G$5+$G$5+$G$5),0,IF(AND(I79<($G$5+$G$5+$G$5+$G$5),I79>($E$21*$G$5-1)),$G$18*($G$4*$G$4*$G$4),IF(AND(I79<($G$5+$G$5+$G$5+$G$3),I79>($G$5+$G$5+$G$5+$G$5-1)),$G$18*$G$4*$G$4*$G$4*(1-$G$4),0))) -> 0 | J84: =IF(J79>($G$3+$G$5+$G$5+$G$5),0,IF(AND(J79<($G$5+$G$5+$G$5+$G$5),J79>($E$21*$G$5-1)),$G$18*($G$4*$G$4*$G$4),IF(AND(J79<($G$5+$G$5+$G$5+$G$3),J79>($G$5+$G$5+$G$5+$G$5-1)),$G$18*$G$4*$G$4*$G$4*(1-$G$4),0))) -> 0 | K84: =IF(K79>($G$3+$G$5+$G$5+$G$5),0,IF(AND(K79<($G$5+$G$5+$G$5+$G$5),K79>($E$21*$G$5-1)),$G$18*($G$4*$G$4*$G$4),IF(AND(K79<($G$5+$G$5+$G$5+$G$3),K79>($G$5+$G$5+$G$5+$G$5-1)),$G$18*$G$4*$G$4*$G$4*(1-$G$4),0))) -> 0 | L84: =IF(L79>($G$3+$G$5+$G$5+$G$5),0,IF(AND(L79<($G$5+$G$5+$G$5+$G$5),L79>($E$21*$G$5-1)),$G$18*($G$4*$G$4*$G$4),IF(AND(L79<($G$5+$G$5+$G$5+$G$3),L79>($G$5+$G$5+$G$5+$G$5-1)),$G$18*$G$4*$G$4*$G$4*(1-$G$4),0))) -> 0 | M84: =IF(M79>($G$3+$G$5+$G$5+$G$5),0,IF(AND(M79<($G$5+$G$5+$G$5+$G$5),M79>($E$21*$G$5-1)),$G$18*($G$4*$G$4*$G$4),IF(AND(M79<($G$5+$G$5+$G$5+$G$3),M79>($G$5+$G$5+$G$5+$G$5-1)),$G$18*$G$4*$G$4*$G$4*(1-$G$4),0))) -> 0 | N84: =IF(N79>($G$3+$G$5+$G$5+$G$5),0,IF(AND(N79<($G$5+$G$5+$G$5+$G$5),N79>($E$21*$G$5-1)),$G$18*($G$4*$G$4*$G$4),IF(AND(N79<($G$5+$G$5+$G$5+$G$3),N79>($G$5+$G$5+$G$5+$G$5-1)),$G$18*$G$4*$G$4*$G$4*(1-$G$4),0))) -> 0 | O84: =IF(O79>($G$3+$G$5+$G$5+$G$5),0,IF(AND(O79<($G$5+$G$5+$G$5+$G$5),O79>($E$21*$G$5-1)),$G$18*($G$4*$G$4*$G$4),IF(AND(O79<($G$5+$G$5+$G$5+$G$3),O79>($G$5+$G$5+$G$5+$G$5-1)),$G$18*$G$4*$G$4*$G$4*(1-$G$4),0))) -> 0 | ... AY84: =IF(AY79>($G$3+$G$5+$G$5+$G$5),0,IF(AND(AY79<($G$5+$G$5+$G$5+$G$5),AY79>($E$21*$G$5-1)),$G$18*($G$4*$G$4*$G$4),IF(AND(AY79<($G$5+$G$5+$G$5+$G$3),AY79>($G$5+$G$5+$G$5+$G$5-1)),$G$18*$G$4*$G$4*$G$4*(1-$G$4),0))) -> 0 | AZ84: =IF(AZ79>($G$3+$G$5+$G$5+$G$5),0,IF(AND(AZ79<($G$5+$G$5+$G$5+$G$5-2),AZ79>($E$21*$G$5-3)),$G$18*($G$4*$G$4*$G$4),IF(AND(AZ79<($G$5+$G$5+$G$5+$G$3),AZ79>($G$5+$G$5+$G$5+$G$5-3)),$G$18*$G$4*$G$4*$G$4*(1-$G$4),0))) -> 0 | BA84: =IF(BA79>($G$3+$G$5+$G$5+$G$5),0,IF(AND(BA79<($G$5+$G$5+$G$5+$G$5-2),BA79>($E$21*$G$5-3)),$G$18*($G$4*$G$4*$G$4),IF(AND(BA79<($G$5+$G$5+$G$5+$G$3),BA79>($G$5+$G$5+$G$5+$G$5-3)),$G$18*$G$4*$G$4*$G$4*(1-$G$4),0))) -> 34.2 | BB84: =IF(BB79>($G$3+$G$5+$G$5+$G$5),0,IF(AND(BB79<($G$5+$G$5+$G$5+$G$5-2),BB79>($E$21*$G$5-3)),$G$18*($G$4*$G$4*$G$4),IF(AND(BB79<($G$5+$G$5+$G$5+$G$3),BB79>($G$5+$G$5+$G$5+$G$5-3)),$G$18*$G$4*$G$4*$G$4*(1-$G$4),0))) -> 34.2 | BC84: =IF(BC79>($G$3+$G$5+$G$5+$G$5),0,IF(AND(BC79<($G$5+$G$5+$G$5+$G$5-2),BC79>($E$21*$G$5-3)),$G$18*($G$4*$G$4*$G$4),IF(AND(BC79<($G$5+$G$5+$G$5+$G$3),BC79>($G$5+$G$5+$G$5+$G$5-3)),$G$18*$G$4*$G$4*$G$4*(1-$G$4),0))) -> 34.2 | BD84: =IF(BD79>($G$3+$G$5+$G$5+$G$5),0,IF(AND(BD79<($G$5+$G$5+$G$5+$G$5-2),BD79>($E$21*$G$5-3)),$G$18*($G$4*$G$4*$G$4),IF(AND(BD79<($G$5+$G$5+$G$5+$G$3),BD79>($G$5+$G$5+$G$5+$G$5-3)),$G$18*$G$4*$G$4*$G$4*(1-$G$4),0))) -> 34.2 | BE84: =IF(BE79>($G$3+$G$5+$G$5+$G$5),0,IF(AND(BE79<($G$5+$G$5+$G$5+$G$5-2),BE79>($E$21*$G$5-3)),$G$18*($G$4*$G$4*$G$4),IF(AND(BE79<($G$5+$G$5+$G$5+$G$3),BE79>($G$5+$G$5+$G$5+$G$5-3)),$G$18*$G$4*$G$4*$G$4*(1-$G$4),0))) -> 34.2 | BF84: =IF(BF79>($G$3+$G$5+$G$5+$G$5),0,IF(AND(BF79<($G$5+$G$5+$G$5+$G$5-2),BF79>($E$21*$G$5-3)),$G$18*($G$4*$G$4*$G$4),IF(AND(BF79<($G$5+$G$5+$G$5+$G$3),BF79>($G$5+$G$5+$G$5+$G$5-3)),$G$18*$G$4*$G$4*$G$4*(1-$G$4),0))) -> 34.2 | BG84: =IF(BG79>($G$3+$G$5+$G$5+$G$5),0,IF(AND(BG79<($G$5+$G$5+$G$5+$G$5-2),BG79>($E$21*$G$5-3)),$G$18*($G$4*$G$4*$G$4),IF(AND(BG79<($G$5+$G$5+$G$5+$G$3),BG79>($G$5+$G$5+$G$5+$G$5-3)),$G$18*$G$4*$G$4*$G$4*(1-$G$4),0))) -> 34.2 | ... BX84: =IF(BX79>($G$3+$G$5+$G$5+$G$5),0,IF(AND(BX79<($G$5+$G$5+$G$5+$G$5-2),BX79>($E$21*$G$5-3)),$G$18*($G$4*$G$4*$G$4),IF(AND(BX79<($G$5+$G$5+$G$5+$G$3),BX79>($G$5+$G$5+$G$5+$G$5-3)),$G$18*$G$4*$G$4*$G$4*(1-$G$4),0))) -> 13.68 | BY84: =IF(BY79>($G$3+$G$5+$G$5+$G$5),0,IF(AND(BY79<($G$5+$G$5+$G$5+$G$5),BY79>($E84*$G$5-1)),$H81*($G$4*$G$4*$G$4),IF(AND(BY79<($G$5+$G$5+$G$5+$G$3),BY79>($G$5+$G$5+$G$5+$G$5-1)),$H81*$G$4*$G$4*$G$4*(1-$G$4),0))) -> 49.725157 | BZ84: =IF(BZ79>($G$3+$G$5+$G$5+$G$5),0,IF(AND(BZ79<($G$5+$G$5+$G$5+$G$5),BZ79>($E84*$G$5-1)),$H81*($G$4*$G$4*$G$4),IF(AND(BZ79<($G$5+$G$5+$G$5+$G$3),BZ79>($G$5+$G$5+$G$5+$G$5-1)),$H81*$G$4*$G$4*$G$4*(1-$G$4),0))) -> 49.725157 | CA84: =IF(CA79>($G$3+$G$5+$G$5+$G$5),0,IF(AND(CA79<($G$5+$G$5+$G$5+$G$5),CA79>($E84*$G$5-1)),$H81*($G$4*$G$4*$G$4),IF(AND(CA79<($G$5+$G$5+$G$5+$G$3),CA79>($G$5+$G$5+$G$5+$G$5-1)),$H81*$G$4*$G$4*$G$4*(1-$G$4),0))) -> 0
B86: Encours en nb | F86: Encours total en nombre | H86: =SUM(H81:H84) -> 575.52265 | I86: =SUM(I81:I84) -> 158.33333 | J86: =SUM(J81:J84) -> 158.33333 | K86: =SUM(K81:K84) -> 158.33333 | L86: =SUM(L81:L84) -> 158.33333 | M86: =SUM(M81:M84) -> 158.33333 | N86: =SUM(N81:N84) -> 158.33333 | O86: =SUM(O81:O84) -> 158.33333 | ... CA86: =SUM(CA81:CA84) -> 0
F88: Encours LLD 24m | H88: =(IFERROR(H81*HLOOKUP(H79,$G$7:$AD$8,2),"n.a."))/10^3 -> 388.33439 | I88: =(IFERROR(I81*HLOOKUP(I79,$G$7:$AD$8,2),"n.a."))/10^3 -> 103.6869 | J88: =(IFERROR(J81*HLOOKUP(J79,$G$7:$AD$8,2),"n.a."))/10^3 -> 100.50405 | K88: =(IFERROR(K81*HLOOKUP(K79,$G$7:$AD$8,2),"n.a."))/10^3 -> 97.286625 | L88: =(IFERROR(L81*HLOOKUP(L79,$G$7:$AD$8,2),"n.a."))/10^3 -> 94.034251 | M88: =(IFERROR(M81*HLOOKUP(M79,$G$7:$AD$8,2),"n.a."))/10^3 -> 90.746547 | N88: =(IFERROR(N81*HLOOKUP(N79,$G$7:$AD$8,2),"n.a."))/10^3 -> 87.42313 | O88: =(IFERROR(O81*HLOOKUP(O79,$G$7:$AD$8,2),"n.a."))/10^3 -> 84.063612 | ... BX88: =(IFERROR(BX81*HLOOKUP(BX79,$G$7:$AD$8,2),"n.a."))/10^3 -> 0 | BY88: =IFERROR(BY81*HLOOKUP(BY79,$G$7:$AD$8,2),"n.a.") -> 0 | BZ88: =IFERROR(BZ81*HLOOKUP(BZ79,$G$7:$AD$8,2),"n.a.") -> 0
F89: Encours upgrade 1 | H89: =IFERROR(H82*HLOOKUP(H75,$G$7:$AD$8,2)/1000,"n.a.") -> n.a. | I89: =IFERROR(I82*HLOOKUP(I75,$G$7:$AD$8,2)/1000,"n.a.") -> n.a. | J89: =IFERROR(J82*HLOOKUP(J75,$G$7:$AD$8,2)/1000,"n.a.") -> n.a. | K89: =IFERROR(K82*HLOOKUP(K75,$G$7:$AD$8,2)/1000,"n.a.") -> n.a. | L89: =IFERROR(L82*HLOOKUP(L75,$G$7:$AD$8,2)/1000,"n.a.") -> n.a. | M89: =IFERROR(M82*HLOOKUP(M75,$G$7:$AD$8,2)/1000,"n.a.") -> n.a. | N89: =IFERROR(N82*HLOOKUP(N75,$G$7:$AD$8,2)/1000,"n.a.") -> n.a. | O89: =IFERROR(O82*HLOOKUP(O75,$G$7:$AD$8,2)/1000,"n.a.") -> n.a. | ... BX89: =IFERROR(BX82*HLOOKUP(BX75,$G$7:$AD$8,2)/1000,"n.a.") -> n.a. | BY89: =IFERROR(BY82*HLOOKUP(BY75,$G$7:$AD$8,2),"n.a.") -> n.a. | BZ89: =IFERROR(BZ82*HLOOKUP(BZ75,$G$7:$AD$8,2),"n.a.") -> n.a.
F90: Encours upgrade 2 | H90: =IFERROR(H83*HLOOKUP(H76,$G$7:$AD$8,2)/1000,"n.a.") -> n.a. | I90: =IFERROR(I83*HLOOKUP(I76,$G$7:$AD$8,2)/1000,"n.a.") -> n.a. | J90: =IFERROR(J83*HLOOKUP(J76,$G$7:$AD$8,2)/1000,"n.a.") -> n.a. | K90: =IFERROR(K83*HLOOKUP(K76,$G$7:$AD$8,2)/1000,"n.a.") -> n.a. | L90: =IFERROR(L83*HLOOKUP(L76,$G$7:$AD$8,2)/1000,"n.a.") -> n.a. | M90: =IFERROR(M83*HLOOKUP(M76,$G$7:$AD$8,2)/1000,"n.a.") -> n.a. | N90: =IFERROR(N83*HLOOKUP(N76,$G$7:$AD$8,2)/1000,"n.a.") -> n.a. | O90: =IFERROR(O83*HLOOKUP(O76,$G$7:$AD$8,2)/1000,"n.a.") -> n.a. | ... BX90: =IFERROR(BX83*HLOOKUP(BX76,$G$7:$AD$8,2)/1000,"n.a.") -> n.a. | BY90: =IFERROR(BY83*HLOOKUP(BY76,$G$7:$AD$8,2),"n.a.") -> n.a. | BZ90: =IFERROR(BZ83*HLOOKUP(BZ76,$G$7:$AD$8,2),"n.a.") -> n.a.
F91: Encours upgrade 3 | H91: =IFERROR(H84*HLOOKUP(H77,$G$7:$AD$8,2)/1000,"n.a.") -> n.a. | I91: =IFERROR(I84*HLOOKUP(I77,$G$7:$AD$8,2)/1000,"n.a.") -> n.a. | J91: =IFERROR(J84*HLOOKUP(J77,$G$7:$AD$8,2)/1000,"n.a.") -> n.a. | K91: =IFERROR(K84*HLOOKUP(K77,$G$7:$AD$8,2)/1000,"n.a.") -> n.a. | L91: =IFERROR(L84*HLOOKUP(L77,$G$7:$AD$8,2)/1000,"n.a.") -> n.a. | M91: =IFERROR(M84*HLOOKUP(M77,$G$7:$AD$8,2)/1000,"n.a.") -> n.a. | N91: =IFERROR(N84*HLOOKUP(N77,$G$7:$AD$8,2)/1000,"n.a.") -> n.a. | O91: =IFERROR(O84*HLOOKUP(O77,$G$7:$AD$8,2)/1000,"n.a.") -> n.a. | ... BX91: =IFERROR(BX84*HLOOKUP(BX77,$G$7:$AD$8,2)/1000,"n.a.") -> 2.165886 | BY91: =IFERROR(BY84*HLOOKUP(BY77,$G$7:$AD$8,2),"n.a.") -> 7872.7355 | BZ91: =IFERROR(BZ84*HLOOKUP(BZ77,$G$7:$AD$8,2),"n.a.") -> n.a.
B93: Encours total en k€ | F93: Encours total en k€ | H93: =SUM(H88:H91) -> 388.33439 | I93: =SUM(I88:I91) -> 103.6869 | J93: =SUM(J88:J91) -> 100.50405 | K93: =SUM(K88:K91) -> 97.286625 | L93: =SUM(L88:L91) -> 94.034251 | M93: =SUM(M88:M91) -> 90.746547 | N93: =SUM(N88:N91) -> 87.42313 | O93: =SUM(O88:O91) -> 84.063612 | ... BZ93: =SUM(BZ88:BZ91) -> 0
F95: Encours LLD 24m | H95: =IFERROR(H81*HLOOKUP(H79,$G$7:$AD$9,3),"n.a.") -> 4173.0149 | I95: =IFERROR(I81*HLOOKUP(I79,$G$7:$AD$9,3),"n.a.") -> 1114.2124 | J95: =IFERROR(J81*HLOOKUP(J79,$G$7:$AD$9,3),"n.a.") -> 1080.0097 | K95: =IFERROR(K81*HLOOKUP(K79,$G$7:$AD$9,3),"n.a.") -> 1045.4355 | L95: =IFERROR(L81*HLOOKUP(L79,$G$7:$AD$9,3),"n.a.") -> 1010.4857 | M95: =IFERROR(M81*HLOOKUP(M79,$G$7:$AD$9,3),"n.a.") -> 975.15623 | N95: =IFERROR(N81*HLOOKUP(N79,$G$7:$AD$9,3),"n.a.") -> 939.44302 | O95: =IFERROR(O81*HLOOKUP(O79,$G$7:$AD$9,3),"n.a.") -> 903.34186 | ... BZ95: =IFERROR(BZ81*HLOOKUP(BZ79,$G$7:$AD$9,3),"n.a.") -> 0
F96: Encours upgrade 1 | H96: =IFERROR(H82*HLOOKUP(H75,$G$7:$AD$9,3),"n.a.") -> n.a. | I96: =IFERROR(I82*HLOOKUP(I75,$G$7:$AD$9,3),"n.a.") -> n.a. | J96: =IFERROR(J82*HLOOKUP(J75,$G$7:$AD$9,3),"n.a.") -> n.a. | K96: =IFERROR(K82*HLOOKUP(K75,$G$7:$AD$9,3),"n.a.") -> n.a. | L96: =IFERROR(L82*HLOOKUP(L75,$G$7:$AD$9,3),"n.a.") -> n.a. | M96: =IFERROR(M82*HLOOKUP(M75,$G$7:$AD$9,3),"n.a.") -> n.a. | N96: =IFERROR(N82*HLOOKUP(N75,$G$7:$AD$9,3),"n.a.") -> n.a. | O96: =IFERROR(O82*HLOOKUP(O75,$G$7:$AD$9,3),"n.a.") -> n.a. | ... BZ96: =IFERROR(BZ82*HLOOKUP(BZ75,$G$7:$AD$9,3),"n.a.") -> n.a.
F97: Encours upgrade 2 | H97: =IFERROR(H83*HLOOKUP(H76,$G$7:$AD$9,3),"n.a.") -> n.a. | I97: =IFERROR(I83*HLOOKUP(I76,$G$7:$AD$9,3),"n.a.") -> n.a. | J97: =IFERROR(J83*HLOOKUP(J76,$G$7:$AD$9,3),"n.a.") -> n.a. | K97: =IFERROR(K83*HLOOKUP(K76,$G$7:$AD$9,3),"n.a.") -> n.a. | L97: =IFERROR(L83*HLOOKUP(L76,$G$7:$AD$9,3),"n.a.") -> n.a. | M97: =IFERROR(M83*HLOOKUP(M76,$G$7:$AD$9,3),"n.a.") -> n.a. | N97: =IFERROR(N83*HLOOKUP(N76,$G$7:$AD$9,3),"n.a.") -> n.a. | O97: =IFERROR(O83*HLOOKUP(O76,$G$7:$AD$9,3),"n.a.") -> n.a. | ... BZ97: =IFERROR(BZ83*HLOOKUP(BZ76,$G$7:$AD$9,3),"n.a.") -> n.a.
F98: Encours upgrade 3 | H98: =IFERROR(H84*HLOOKUP(H77,$G$7:$AD$9,3),"n.a.") -> n.a. | I98: =IFERROR(I84*HLOOKUP(I77,$G$7:$AD$9,3),"n.a.") -> n.a. | J98: =IFERROR(J84*HLOOKUP(J77,$G$7:$AD$9,3),"n.a.") -> n.a. | K98: =IFERROR(K84*HLOOKUP(K77,$G$7:$AD$9,3),"n.a.") -> n.a. | L98: =IFERROR(L84*HLOOKUP(L77,$G$7:$AD$9,3),"n.a.") -> n.a. | M98: =IFERROR(M84*HLOOKUP(M77,$G$7:$AD$9,3),"n.a.") -> n.a. | N98: =IFERROR(N84*HLOOKUP(N77,$G$7:$AD$9,3),"n.a.") -> n.a. | O98: =IFERROR(O84*HLOOKUP(O77,$G$7:$AD$9,3),"n.a.") -> n.a. | ... BZ98: =IFERROR(BZ84*HLOOKUP(BZ77,$G$7:$AD$9,3),"n.a.") -> n.a.
B100: Agios en k€ | F100: Agios en k€ | H100: =SUM(H95:H98) -> 4173.0149 | I100: =SUM(I95:I98) -> 1114.2124 | J100: =SUM(J95:J98) -> 1080.0097 | K100: =SUM(K95:K98) -> 1045.4355 | L100: =SUM(L95:L98) -> 1010.4857 | M100: =SUM(M95:M98) -> 975.15623 | N100: =SUM(N95:N98) -> 939.44302 | O100: =SUM(O95:O98) -> 903.34186 | ... BZ100: =SUM(BZ95:BZ98) -> 0
F103: Evolution portefeuille type 24 mois Check
F104: Encours upgrade 1 | V104: 1 | W104: =1+V104 -> 2 | X104: =1+W104 -> 3 | Y104: =1+X104 -> 4 | Z104: =1+Y104 -> 5 | AA104: =1+Z104 -> 6 | AB104: =1+AA104 -> 7 | AC104: =1+AB104 -> 8 | AD104: =1+AC104 -> 9 | ... AS104: =1+AR104 -> 24
F105: Encours upgrade 2 | AK105: 1 | AL105: =1+AK105 -> 2 | AM105: =1+AL105 -> 3 | AN105: =1+AM105 -> 4 | AO105: =1+AN105 -> 5 | AP105: =1+AO105 -> 6 | AQ105: =1+AP105 -> 7 | AR105: =1+AQ105 -> 8 | AS105: =1+AR105 -> 9 | ... BH105: =1+BG105 -> 24
F106: Encours upgrade 3 | AZ106: 1 | BA106: =1+AZ106 -> 2 | BB106: =1+BA106 -> 3 | BC106: =1+BB106 -> 4 | BD106: =1+BC106 -> 5 | BE106: =1+BD106 -> 6 | BF106: =1+BE106 -> 7 | BG106: =1+BF106 -> 8 | BH106: =1+BG106 -> 9 | ... BX106: =1+BW106 -> 25
I107: =C108 -> 43919 | J107: =EDATE(I107,1) -> 43950 | K107: =EDATE(J107,1) -> 43980 | L107: =EDATE(K107,1) -> 44011 | M107: =EDATE(L107,1) -> 44041 | N107: =EDATE(M107,1) -> 44072 | O107: =EDATE(N107,1) -> 44103 | P107: =EDATE(O107,1) -> 44133 | Q107: =EDATE(P107,1) -> 44164 | ... CB107: =EDATE(CA107,1) -> 46081
C108: =EDATE(C79,1) -> 43919 | F108: Mois | I108: 1 | J108: =1+I108 -> 2 | K108: =1+J108 -> 3 | L108: =1+K108 -> 4 | M108: =1+L108 -> 5 | N108: =1+M108 -> 6 | O108: =1+N108 -> 7 | P108: =1+O108 -> 8 | Q108: =1+P108 -> 9 | ... CB108: =1+CA108 -> 72
F110: Encours LLD 24m | I110: =INDEX('[1]DARTY - Production'!$D$8:$DH$26,MATCH("Leasing",'[1]DARTY - Production'!$D$8:$D$26,0),MATCH(Objectif!C108,'[1]DARTY - Production'!$D$8:$DH$8,0)) -> 627.84504 | J110: =IF(J108>24,0,IF(J108<$G$5,$G$18,(1-$G$4)*$G$18)) -> 158.33333 | K110: =IF(K108>24,0,IF(K108<$G$5,$G$18,(1-$G$4)*$G$18)) -> 158.33333 | L110: =IF(L108>24,0,IF(L108<$G$5,$G$18,(1-$G$4)*$G$18)) -> 158.33333 | M110: =IF(M108>24,0,IF(M108<$G$5,$G$18,(1-$G$4)*$G$18)) -> 158.33333 | N110: =IF(N108>24,0,IF(N108<$G$5,$G$18,(1-$G$4)*$G$18)) -> 158.33333 | O110: =IF(O108>24,0,IF(O108<$G$5,$G$18,(1-$G$4)*$G$18)) -> 158.33333 | P110: =IF(P108>24,0,IF(P108<$G$5,$G$18,(1-$G$4)*$G$18)) -> 158.33333 | Q110: =IF(Q108>24,0,IF(Q108<$G$5,$G$18,(1-$G$4)*$G$18)) -> 158.33333 | ... BY110: =IF(BY108>24,0,IF(BY108<$G$5,$G$18,(1-$G$4)*$G$18)) -> 0 | BZ110: =IF(BZ108>24,0,IF(BZ108<$G$5,$I110,(1-$G$4)*$I110)) -> 0 | CA110: =IF(CA108>24,0,IF(CA108<$G$5,$I110,(1-$G$4)*$I110)) -> 0 | CB110: =IF(CB108>24,0,IF(CB108<$G$5,$I110,(1-$G$4)*$I110)) -> 0
E111: 1 | F111: Encours upgrade 1 | I111: =IF(I108>($G$3+$G$5),0,IF(AND(I108<($G$5+$G$5-1),I108>($E$19*($G$5-1))),($G$18*$G$4),IF(AND(I108<($G$3+$G$5),I108>($G$5+$G$5-2)),$G$18*$G$4*(1-$G$4),IF(AND(I108>($G$3+$G$5)),$G$18*$G$4*(1-$G$4)*0,0)))) -> 0 | J111: =IF(J108>($G$3+$G$5),0,IF(AND(J108<($G$5+$G$5-1),J108>($E$19*($G$5-1))),($G$18*$G$4),IF(AND(J108<($G$3+$G$5),J108>($G$5+$G$5-2)),$G$18*$G$4*(1-$G$4),IF(AND(J108>($G$3+$G$5)),$G$18*$G$4*(1-$G$4)*0,0)))) -> 0 | K111: =IF(K108>($G$3+$G$5),0,IF(AND(K108<($G$5+$G$5-1),K108>($E$19*($G$5-1))),($G$18*$G$4),IF(AND(K108<($G$3+$G$5),K108>($G$5+$G$5-2)),$G$18*$G$4*(1-$G$4),IF(AND(K108>($G$3+$G$5)),$G$18*$G$4*(1-$G$4)*0,0)))) -> 0 | L111: =IF(L108>($G$3+$G$5),0,IF(AND(L108<($G$5+$G$5-1),L108>($E$19*($G$5-1))),($G$18*$G$4),IF(AND(L108<($G$3+$G$5),L108>($G$5+$G$5-2)),$G$18*$G$4*(1-$G$4),IF(AND(L108>($G$3+$G$5)),$G$18*$G$4*(1-$G$4)*0,0)))) -> 0 | M111: =IF(M108>($G$3+$G$5),0,IF(AND(M108<($G$5+$G$5-1),M108>($E$19*($G$5-1))),($G$18*$G$4),IF(AND(M108<($G$3+$G$5),M108>($G$5+$G$5-2)),$G$18*$G$4*(1-$G$4),IF(AND(M108>($G$3+$G$5)),$G$18*$G$4*(1-$G$4)*0,0)))) -> 0 | N111: =IF(N108>($G$3+$G$5),0,IF(AND(N108<($G$5+$G$5-1),N108>($E$19*($G$5-1))),($G$18*$G$4),IF(AND(N108<($G$3+$G$5),N108>($G$5+$G$5-2)),$G$18*$G$4*(1-$G$4),IF(AND(N108>($G$3+$G$5)),$G$18*$G$4*(1-$G$4)*0,0)))) -> 0 | O111: =IF(O108>($G$3+$G$5),0,IF(AND(O108<($G$5+$G$5-1),O108>($E$19*($G$5-1))),($G$18*$G$4),IF(AND(O108<($G$3+$G$5),O108>($G$5+$G$5-2)),$G$18*$G$4*(1-$G$4),IF(AND(O108>($G$3+$G$5)),$G$18*$G$4*(1-$G$4)*0,0)))) -> 0 | P111: =IF(P108>($G$3+$G$5),0,IF(AND(P108<($G$5+$G$5-1),P108>($E$19*($G$5-1))),($G$18*$G$4),IF(AND(P108<($G$3+$G$5),P108>($G$5+$G$5-2)),$G$18*$G$4*(1-$G$4),IF(AND(P108>($G$3+$G$5)),$G$18*$G$4*(1-$G$4)*0,0)))) -> 0 | ... BY111: =IF(BY108>($G$3+$G$5),0,IF(AND(BY108<($G$5+$G$5-1),BY108>($E$19*($G$5-1))),($G$18*$G$4),IF(AND(BY108<($G$3+$G$5),BY108>($G$5+$G$5-2)),$G$18*$G$4*(1-$G$4),IF(AND(BY108>($G$3+$G$5)),$G$18*$G$4*(1-$G$4)*0,0)))) -> 0 | BZ111: =IF(BZ108>($G$3+$G$5),0,IF(AND(BZ108<($G$5+$G$5-1),BZ108>($E111*($G$5-1))),($I110*$G$4),IF(AND(BZ108<($G$3+$G$5),BZ108>($G$5+$G$5-2)),$I110*$G$4*(1-$G$4),IF(AND(BZ108>($G$3+$G$5)),$I110*$G$4*(1-$G$4)*0,0)))) -> 0 | CA111: =IF(CA108>($G$3+$G$5),0,IF(AND(CA108<($G$5+$G$5-1),CA108>($E111*($G$5-1))),($I110*$G$4),IF(AND(CA108<($G$3+$G$5),CA108>($G$5+$G$5-2)),$I110*$G$4*(1-$G$4),IF(AND(CA108>($G$3+$G$5)),$I110*$G$4*(1-$G$4)*0,0)))) -> 0 | CB111: =IF(CB108>($G$3+$G$5),0,IF(AND(CB108<($G$5+$G$5-1),CB108>($E111*($G$5-1))),($I110*$G$4),IF(AND(CB108<($G$3+$G$5),CB108>($G$5+$G$5-2)),$I110*$G$4*(1-$G$4),IF(AND(CB108>($G$3+$G$5)),$I110*$G$4*(1-$G$4)*0,0)))) -> 0
E112: 2 | F112: Encours upgrade 2 | I112: =IF(I108>($G$3+$G$5+$G$5),0,IF(AND(I108<($G$5+$G$5+$G$5-2),I108>($E$20*$G$5-2)),$G$18*($G$4*$G$4),IF(AND(I108<($G$5+$G$5+$G$3-1),I108>($G$5+$G$5+$G$5-3)),$G$18*$G$4*$G$4*(1-$G$4),0))) -> 0 | J112: =IF(J108>($G$3+$G$5+$G$5),0,IF(AND(J108<($G$5+$G$5+$G$5-2),J108>($E$20*$G$5-2)),$G$18*($G$4*$G$4),IF(AND(J108<($G$5+$G$5+$G$3-1),J108>($G$5+$G$5+$G$5-3)),$G$18*$G$4*$G$4*(1-$G$4),0))) -> 0 | K112: =IF(K108>($G$3+$G$5+$G$5),0,IF(AND(K108<($G$5+$G$5+$G$5-2),K108>($E$20*$G$5-2)),$G$18*($G$4*$G$4),IF(AND(K108<($G$5+$G$5+$G$3-1),K108>($G$5+$G$5+$G$5-3)),$G$18*$G$4*$G$4*(1-$G$4),0))) -> 0 | L112: =IF(L108>($G$3+$G$5+$G$5),0,IF(AND(L108<($G$5+$G$5+$G$5-2),L108>($E$20*$G$5-2)),$G$18*($G$4*$G$4),IF(AND(L108<($G$5+$G$5+$G$3-1),L108>($G$5+$G$5+$G$5-3)),$G$18*$G$4*$G$4*(1-$G$4),0))) -> 0 | M112: =IF(M108>($G$3+$G$5+$G$5),0,IF(AND(M108<($G$5+$G$5+$G$5-2),M108>($E$20*$G$5-2)),$G$18*($G$4*$G$4),IF(AND(M108<($G$5+$G$5+$G$3-1),M108>($G$5+$G$5+$G$5-3)),$G$18*$G$4*$G$4*(1-$G$4),0))) -> 0 | N112: =IF(N108>($G$3+$G$5+$G$5),0,IF(AND(N108<($G$5+$G$5+$G$5-2),N108>($E$20*$G$5-2)),$G$18*($G$4*$G$4),IF(AND(N108<($G$5+$G$5+$G$3-1),N108>($G$5+$G$5+$G$5-3)),$G$18*$G$4*$G$4*(1-$G$4),0))) -> 0 | O112: =IF(O108>($G$3+$G$5+$G$5),0,IF(AND(O108<($G$5+$G$5+$G$5-2),O108>($E$20*$G$5-2)),$G$18*($G$4*$G$4),IF(AND(O108<($G$5+$G$5+$G$3-1),O108>($G$5+$G$5+$G$5-3)),$G$18*$G$4*$G$4*(1-$G$4),0))) -> 0 | P112: =IF(P108>($G$3+$G$5+$G$5),0,IF(AND(P108<($G$5+$G$5+$G$5-2),P108>($E$20*$G$5-2)),$G$18*($G$4*$G$4),IF(AND(P108<($G$5+$G$5+$G$3-1),P108>($G$5+$G$5+$G$5-3)),$G$18*$G$4*$G$4*(1-$G$4),0))) -> 0 | ... BY112: =IF(BY108>($G$3+$G$5+$G$5),0,IF(AND(BY108<($G$5+$G$5+$G$5-2),BY108>($E$20*$G$5-2)),$G$18*($G$4*$G$4),IF(AND(BY108<($G$5+$G$5+$G$3-1),BY108>($G$5+$G$5+$G$5-3)),$G$18*$G$4*$G$4*(1-$G$4),0))) -> 0 | BZ112: =IF(BZ108>($G$3+$G$5+$G$5),0,IF(AND(BZ108<($G$5+$G$5+$G$5-2),BZ108>($E112*$G$5-2)),$I110*($G$4*$G$4),IF(AND(BZ108<($G$5+$G$5+$G$3-1),BZ108>($G$5+$G$5+$G$5-3)),$I110*$G$4*$G$4*(1-$G$4),0))) -> 0 | CA112: =IF(CA108>($G$3+$G$5+$G$5),0,IF(AND(CA108<($G$5+$G$5+$G$5-2),CA108>($E112*$G$5-2)),$I110*($G$4*$G$4),IF(AND(CA108<($G$5+$G$5+$G$3-1),CA108>($G$5+$G$5+$G$5-3)),$I110*$G$4*$G$4*(1-$G$4),0))) -> 0 | CB112: =IF(CB108>($G$3+$G$5+$G$5),0,IF(AND(CB108<($G$5+$G$5+$G$5-2),CB108>($E112*$G$5-2)),$I110*($G$4*$G$4),IF(AND(CB108<($G$5+$G$5+$G$3-1),CB108>($G$5+$G$5+$G$5-3)),$I110*$G$4*$G$4*(1-$G$4),0))) -> 0
E113: 3 | F113: Encours upgrade 3 | I113: =IF(I108>($G$3+$G$5+$G$5+$G$5),0,IF(AND(I108<($G$5+$G$5+$G$5+$G$5),I108>($E$21*$G$5-1)),$G$18*($G$4*$G$4*$G$4),IF(AND(I108<($G$5+$G$5+$G$5+$G$3),I108>($G$5+$G$5+$G$5+$G$5-1)),$G$18*$G$4*$G$4*$G$4*(1-$G$4),0))) -> 0 | J113: =IF(J108>($G$3+$G$5+$G$5+$G$5),0,IF(AND(J108<($G$5+$G$5+$G$5+$G$5),J108>($E$21*$G$5-1)),$G$18*($G$4*$G$4*$G$4),IF(AND(J108<($G$5+$G$5+$G$5+$G$3),J108>($G$5+$G$5+$G$5+$G$5-1)),$G$18*$G$4*$G$4*$G$4*(1-$G$4),0))) -> 0 | K113: =IF(K108>($G$3+$G$5+$G$5+$G$5),0,IF(AND(K108<($G$5+$G$5+$G$5+$G$5),K108>($E$21*$G$5-1)),$G$18*($G$4*$G$4*$G$4),IF(AND(K108<($G$5+$G$5+$G$5+$G$3),K108>($G$5+$G$5+$G$5+$G$5-1)),$G$18*$G$4*$G$4*$G$4*(1-$G$4),0))) -> 0 | L113: =IF(L108>($G$3+$G$5+$G$5+$G$5),0,IF(AND(L108<($G$5+$G$5+$G$5+$G$5),L108>($E$21*$G$5-1)),$G$18*($G$4*$G$4*$G$4),IF(AND(L108<($G$5+$G$5+$G$5+$G$3),L108>($G$5+$G$5+$G$5+$G$5-1)),$G$18*$G$4*$G$4*$G$4*(1-$G$4),0))) -> 0 | M113: =IF(M108>($G$3+$G$5+$G$5+$G$5),0,IF(AND(M108<($G$5+$G$5+$G$5+$G$5),M108>($E$21*$G$5-1)),$G$18*($G$4*$G$4*$G$4),IF(AND(M108<($G$5+$G$5+$G$5+$G$3),M108>($G$5+$G$5+$G$5+$G$5-1)),$G$18*$G$4*$G$4*$G$4*(1-$G$4),0))) -> 0 | N113: =IF(N108>($G$3+$G$5+$G$5+$G$5),0,IF(AND(N108<($G$5+$G$5+$G$5+$G$5),N108>($E$21*$G$5-1)),$G$18*($G$4*$G$4*$G$4),IF(AND(N108<($G$5+$G$5+$G$5+$G$3),N108>($G$5+$G$5+$G$5+$G$5-1)),$G$18*$G$4*$G$4*$G$4*(1-$G$4),0))) -> 0 | O113: =IF(O108>($G$3+$G$5+$G$5+$G$5),0,IF(AND(O108<($G$5+$G$5+$G$5+$G$5),O108>($E$21*$G$5-1)),$G$18*($G$4*$G$4*$G$4),IF(AND(O108<($G$5+$G$5+$G$5+$G$3),O108>($G$5+$G$5+$G$5+$G$5-1)),$G$18*$G$4*$G$4*$G$4*(1-$G$4),0))) -> 0 | P113: =IF(P108>($G$3+$G$5+$G$5+$G$5),0,IF(AND(P108<($G$5+$G$5+$G$5+$G$5),P108>($E$21*$G$5-1)),$G$18*($G$4*$G$4*$G$4),IF(AND(P108<($G$5+$G$5+$G$5+$G$3),P108>($G$5+$G$5+$G$5+$G$5-1)),$G$18*$G$4*$G$4*$G$4*(1-$G$4),0))) -> 0 | ... AZ113: =IF(AZ108>($G$3+$G$5+$G$5+$G$5),0,IF(AND(AZ108<($G$5+$G$5+$G$5+$G$5),AZ108>($E$21*$G$5-1)),$G$18*($G$4*$G$4*$G$4),IF(AND(AZ108<($G$5+$G$5+$G$5+$G$3),AZ108>($G$5+$G$5+$G$5+$G$5-1)),$G$18*$G$4*$G$4*$G$4*(1-$G$4),0))) -> 0 | BA113: =IF(BA108>($G$3+$G$5+$G$5+$G$5),0,IF(AND(BA108<($G$5+$G$5+$G$5+$G$5-2),BA108>($E$21*$G$5-3)),$G$18*($G$4*$G$4*$G$4),IF(AND(BA108<($G$5+$G$5+$G$5+$G$3),BA108>($G$5+$G$5+$G$5+$G$5-3)),$G$18*$G$4*$G$4*$G$4*(1-$G$4),0))) -> 0 | BB113: =IF(BB108>($G$3+$G$5+$G$5+$G$5),0,IF(AND(BB108<($G$5+$G$5+$G$5+$G$5-2),BB108>($E$21*$G$5-3)),$G$18*($G$4*$G$4*$G$4),IF(AND(BB108<($G$5+$G$5+$G$5+$G$3),BB108>($G$5+$G$5+$G$5+$G$5-3)),$G$18*$G$4*$G$4*$G$4*(1-$G$4),0))) -> 34.2 | BC113: =IF(BC108>($G$3+$G$5+$G$5+$G$5),0,IF(AND(BC108<($G$5+$G$5+$G$5+$G$5-2),BC108>($E$21*$G$5-3)),$G$18*($G$4*$G$4*$G$4),IF(AND(BC108<($G$5+$G$5+$G$5+$G$3),BC108>($G$5+$G$5+$G$5+$G$5-3)),$G$18*$G$4*$G$4*$G$4*(1-$G$4),0))) -> 34.2 | BD113: =IF(BD108>($G$3+$G$5+$G$5+$G$5),0,IF(AND(BD108<($G$5+$G$5+$G$5+$G$5-2),BD108>($E$21*$G$5-3)),$G$18*($G$4*$G$4*$G$4),IF(AND(BD108<($G$5+$G$5+$G$5+$G$3),BD108>($G$5+$G$5+$G$5+$G$5-3)),$G$18*$G$4*$G$4*$G$4*(1-$G$4),0))) -> 34.2 | BE113: =IF(BE108>($G$3+$G$5+$G$5+$G$5),0,IF(AND(BE108<($G$5+$G$5+$G$5+$G$5-2),BE108>($E$21*$G$5-3)),$G$18*($G$4*$G$4*$G$4),IF(AND(BE108<($G$5+$G$5+$G$5+$G$3),BE108>($G$5+$G$5+$G$5+$G$5-3)),$G$18*$G$4*$G$4*$G$4*(1-$G$4),0))) -> 34.2 | BF113: =IF(BF108>($G$3+$G$5+$G$5+$G$5),0,IF(AND(BF108<($G$5+$G$5+$G$5+$G$5-2),BF108>($E$21*$G$5-3)),$G$18*($G$4*$G$4*$G$4),IF(AND(BF108<($G$5+$G$5+$G$5+$G$3),BF108>($G$5+$G$5+$G$5+$G$5-3)),$G$18*$G$4*$G$4*$G$4*(1-$G$4),0))) -> 34.2 | BG113: =IF(BG108>($G$3+$G$5+$G$5+$G$5),0,IF(AND(BG108<($G$5+$G$5+$G$5+$G$5-2),BG108>($E$21*$G$5-3)),$G$18*($G$4*$G$4*$G$4),IF(AND(BG108<($G$5+$G$5+$G$5+$G$3),BG108>($G$5+$G$5+$G$5+$G$5-3)),$G$18*$G$4*$G$4*$G$4*(1-$G$4),0))) -> 34.2 | BH113: =IF(BH108>($G$3+$G$5+$G$5+$G$5),0,IF(AND(BH108<($G$5+$G$5+$G$5+$G$5-2),BH108>($E$21*$G$5-3)),$G$18*($G$4*$G$4*$G$4),IF(AND(BH108<($G$5+$G$5+$G$5+$G$3),BH108>($G$5+$G$5+$G$5+$G$5-3)),$G$18*$G$4*$G$4*$G$4*(1-$G$4),0))) -> 34.2 | ... BY113: =IF(BY108>($G$3+$G$5+$G$5+$G$5),0,IF(AND(BY108<($G$5+$G$5+$G$5+$G$5-2),BY108>($E$21*$G$5-3)),$G$18*($G$4*$G$4*$G$4),IF(AND(BY108<($G$5+$G$5+$G$5+$G$3),BY108>($G$5+$G$5+$G$5+$G$5-3)),$G$18*$G$4*$G$4*$G$4*(1-$G$4),0))) -> 13.68 | BZ113: =IF(BZ108>($G$3+$G$5+$G$5+$G$5),0,IF(AND(BZ108<($G$5+$G$5+$G$5+$G$5),BZ108>($E113*$G$5-1)),$I110*($G$4*$G$4*$G$4),IF(AND(BZ108<($G$5+$G$5+$G$5+$G$3),BZ108>($G$5+$G$5+$G$5+$G$5-1)),$I110*$G$4*$G$4*$G$4*(1-$G$4),0))) -> 54.245812 | CA113: =IF(CA108>($G$3+$G$5+$G$5+$G$5),0,IF(AND(CA108<($G$5+$G$5+$G$5+$G$5),CA108>($E113*$G$5-1)),$I110*($G$4*$G$4*$G$4),IF(AND(CA108<($G$5+$G$5+$G$5+$G$3),CA108>($G$5+$G$5+$G$5+$G$5-1)),$I110*$G$4*$G$4*$G$4*(1-$G$4),0))) -> 54.245812 | CB113: =IF(CB108>($G$3+$G$5+$G$5+$G$5),0,IF(AND(CB108<($G$5+$G$5+$G$5+$G$5),CB108>($E113*$G$5-1)),$I110*($G$4*$G$4*$G$4),IF(AND(CB108<($G$5+$G$5+$G$5+$G$3),CB108>($G$5+$G$5+$G$5+$G$5-1)),$I110*$G$4*$G$4*$G$4*(1-$G$4),0))) -> 0
B115: Encours en nb | F115: Encours total en nombre | I115: =SUM(I110:I113) -> 627.84504 | J115: =SUM(J110:J113) -> 158.33333 | K115: =SUM(K110:K113) -> 158.33333 | L115: =SUM(L110:L113) -> 158.33333 | M115: =SUM(M110:M113) -> 158.33333 | N115: =SUM(N110:N113) -> 158.33333 | O115: =SUM(O110:O113) -> 158.33333 | P115: =SUM(P110:P113) -> 158.33333 | ... CB115: =SUM(CB110:CB113) -> 0
F117: Encours LLD 24m | I117: =(IFERROR(I110*HLOOKUP(I108,$G$7:$AD$8,2),"n.a."))/10^3 -> 423.63896 | J117: =(IFERROR(J110*HLOOKUP(J108,$G$7:$AD$8,2),"n.a."))/10^3 -> 103.6869 | K117: =(IFERROR(K110*HLOOKUP(K108,$G$7:$AD$8,2),"n.a."))/10^3 -> 100.50405 | L117: =(IFERROR(L110*HLOOKUP(L108,$G$7:$AD$8,2),"n.a."))/10^3 -> 97.286625 | M117: =(IFERROR(M110*HLOOKUP(M108,$G$7:$AD$8,2),"n.a."))/10^3 -> 94.034251 | N117: =(IFERROR(N110*HLOOKUP(N108,$G$7:$AD$8,2),"n.a."))/10^3 -> 90.746547 | O117: =(IFERROR(O110*HLOOKUP(O108,$G$7:$AD$8,2),"n.a."))/10^3 -> 87.42313 | P117: =(IFERROR(P110*HLOOKUP(P108,$G$7:$AD$8,2),"n.a."))/10^3 -> 84.063612 | ... BY117: =(IFERROR(BY110*HLOOKUP(BY108,$G$7:$AD$8,2),"n.a."))/10^3 -> 0 | BZ117: =IFERROR(BZ110*HLOOKUP(BZ108,$G$7:$AD$8,2),"n.a.") -> 0 | CA117: =IFERROR(CA110*HLOOKUP(CA108,$G$7:$AD$8,2),"n.a.") -> 0
F118: Encours upgrade 1 | I118: =IFERROR(I111*HLOOKUP(G104,$G$7:$AD$8,2)/1000,"n.a.") -> n.a. | J118: =IFERROR(J111*HLOOKUP(H104,$G$7:$AD$8,2)/1000,"n.a.") -> n.a. | K118: =IFERROR(K111*HLOOKUP(I104,$G$7:$AD$8,2)/1000,"n.a.") -> n.a. | L118: =IFERROR(L111*HLOOKUP(J104,$G$7:$AD$8,2)/1000,"n.a.") -> n.a. | M118: =IFERROR(M111*HLOOKUP(K104,$G$7:$AD$8,2)/1000,"n.a.") -> n.a. | N118: =IFERROR(N111*HLOOKUP(L104,$G$7:$AD$8,2)/1000,"n.a.") -> n.a. | O118: =IFERROR(O111*HLOOKUP(M104,$G$7:$AD$8,2)/1000,"n.a.") -> n.a. | P118: =IFERROR(P111*HLOOKUP(N104,$G$7:$AD$8,2)/1000,"n.a.") -> n.a. | ... BY118: =IFERROR(BY111*HLOOKUP(BW104,$G$7:$AD$8,2)/1000,"n.a.") -> n.a. | BZ118: =IFERROR(BZ111*HLOOKUP(BX104,$G$7:$AD$8,2),"n.a.") -> n.a. | CA118: =IFERROR(CA111*HLOOKUP(BY104,$G$7:$AD$8,2),"n.a.") -> n.a.
F119: Encours upgrade 2 | I119: =IFERROR(I112*HLOOKUP(G105,$G$7:$AD$8,2)/1000,"n.a.") -> n.a. | J119: =IFERROR(J112*HLOOKUP(H105,$G$7:$AD$8,2)/1000,"n.a.") -> n.a. | K119: =IFERROR(K112*HLOOKUP(I105,$G$7:$AD$8,2)/1000,"n.a.") -> n.a. | L119: =IFERROR(L112*HLOOKUP(J105,$G$7:$AD$8,2)/1000,"n.a.") -> n.a. | M119: =IFERROR(M112*HLOOKUP(K105,$G$7:$AD$8,2)/1000,"n.a.") -> n.a. | N119: =IFERROR(N112*HLOOKUP(L105,$G$7:$AD$8,2)/1000,"n.a.") -> n.a. | O119: =IFERROR(O112*HLOOKUP(M105,$G$7:$AD$8,2)/1000,"n.a.") -> n.a. | P119: =IFERROR(P112*HLOOKUP(N105,$G$7:$AD$8,2)/1000,"n.a.") -> n.a. | ... BY119: =IFERROR(BY112*HLOOKUP(BW105,$G$7:$AD$8,2)/1000,"n.a.") -> n.a. | BZ119: =IFERROR(BZ112*HLOOKUP(BX105,$G$7:$AD$8,2),"n.a.") -> n.a. | CA119: =IFERROR(CA112*HLOOKUP(BY105,$G$7:$AD$8,2),"n.a.") -> n.a.
F120: Encours upgrade 3 | I120: =IFERROR(I113*HLOOKUP(G106,$G$7:$AD$8,2)/1000,"n.a.") -> n.a. | J120: =IFERROR(J113*HLOOKUP(H106,$G$7:$AD$8,2)/1000,"n.a.") -> n.a. | K120: =IFERROR(K113*HLOOKUP(I106,$G$7:$AD$8,2)/1000,"n.a.") -> n.a. | L120: =IFERROR(L113*HLOOKUP(J106,$G$7:$AD$8,2)/1000,"n.a.") -> n.a. | M120: =IFERROR(M113*HLOOKUP(K106,$G$7:$AD$8,2)/1000,"n.a.") -> n.a. | N120: =IFERROR(N113*HLOOKUP(L106,$G$7:$AD$8,2)/1000,"n.a.") -> n.a. | O120: =IFERROR(O113*HLOOKUP(M106,$G$7:$AD$8,2)/1000,"n.a.") -> n.a. | P120: =IFERROR(P113*HLOOKUP(N106,$G$7:$AD$8,2)/1000,"n.a.") -> n.a. | ... BY120: =IFERROR(BY113*HLOOKUP(BW106,$G$7:$AD$8,2)/1000,"n.a.") -> 2.165886 | BZ120: =IFERROR(BZ113*HLOOKUP(BX106,$G$7:$AD$8,2),"n.a.") -> 8588.4681 | CA120: =IFERROR(CA113*HLOOKUP(BY106,$G$7:$AD$8,2),"n.a.") -> n.a.
B122: Encours total en k€ | F122: Encours total en k€ | I122: =SUM(I117:I120) -> 423.63896 | J122: =SUM(J117:J120) -> 103.6869 | K122: =SUM(K117:K120) -> 100.50405 | L122: =SUM(L117:L120) -> 97.286625 | M122: =SUM(M117:M120) -> 94.034251 | N122: =SUM(N117:N120) -> 90.746547 | O122: =SUM(O117:O120) -> 87.42313 | P122: =SUM(P117:P120) -> 84.063612 | ... CA122: =SUM(CA117:CA120) -> 0
F124: Encours LLD 24m | I124: =IFERROR(I110*HLOOKUP(I108,$G$7:$AD$9,3),"n.a.") -> 4552.3955 | J124: =IFERROR(J110*HLOOKUP(J108,$G$7:$AD$9,3),"n.a.") -> 1114.2124 | K124: =IFERROR(K110*HLOOKUP(K108,$G$7:$AD$9,3),"n.a.") -> 1080.0097 | L124: =IFERROR(L110*HLOOKUP(L108,$G$7:$AD$9,3),"n.a.") -> 1045.4355 | M124: =IFERROR(M110*HLOOKUP(M108,$G$7:$AD$9,3),"n.a.") -> 1010.4857 | N124: =IFERROR(N110*HLOOKUP(N108,$G$7:$AD$9,3),"n.a.") -> 975.15623 | O124: =IFERROR(O110*HLOOKUP(O108,$G$7:$AD$9,3),"n.a.") -> 939.44302 | P124: =IFERROR(P110*HLOOKUP(P108,$G$7:$AD$9,3),"n.a.") -> 903.34186 | ... CA124: =IFERROR(CA110*HLOOKUP(CA108,$G$7:$AD$9,3),"n.a.") -> 0
F125: Encours upgrade 1 | I125: =IFERROR(I111*HLOOKUP(G104,$G$7:$AD$9,3),"n.a.") -> n.a. | J125: =IFERROR(J111*HLOOKUP(H104,$G$7:$AD$9,3),"n.a.") -> n.a. | K125: =IFERROR(K111*HLOOKUP(I104,$G$7:$AD$9,3),"n.a.") -> n.a. | L125: =IFERROR(L111*HLOOKUP(J104,$G$7:$AD$9,3),"n.a.") -> n.a. | M125: =IFERROR(M111*HLOOKUP(K104,$G$7:$AD$9,3),"n.a.") -> n.a. | N125: =IFERROR(N111*HLOOKUP(L104,$G$7:$AD$9,3),"n.a.") -> n.a. | O125: =IFERROR(O111*HLOOKUP(M104,$G$7:$AD$9,3),"n.a.") -> n.a. | P125: =IFERROR(P111*HLOOKUP(N104,$G$7:$AD$9,3),"n.a.") -> n.a. | ... CA125: =IFERROR(CA111*HLOOKUP(BY104,$G$7:$AD$9,3),"n.a.") -> n.a.
F126: Encours upgrade 2 | I126: =IFERROR(I112*HLOOKUP(G105,$G$7:$AD$9,3),"n.a.") -> n.a. | J126: =IFERROR(J112*HLOOKUP(H105,$G$7:$AD$9,3),"n.a.") -> n.a. | K126: =IFERROR(K112*HLOOKUP(I105,$G$7:$AD$9,3),"n.a.") -> n.a. | L126: =IFERROR(L112*HLOOKUP(J105,$G$7:$AD$9,3),"n.a.") -> n.a. | M126: =IFERROR(M112*HLOOKUP(K105,$G$7:$AD$9,3),"n.a.") -> n.a. | N126: =IFERROR(N112*HLOOKUP(L105,$G$7:$AD$9,3),"n.a.") -> n.a. | O126: =IFERROR(O112*HLOOKUP(M105,$G$7:$AD$9,3),"n.a.") -> n.a. | P126: =IFERROR(P112*HLOOKUP(N105,$G$7:$AD$9,3),"n.a.") -> n.a. | ... CA126: =IFERROR(CA112*HLOOKUP(BY105,$G$7:$AD$9,3),"n.a.") -> n.a.
F127: Encours upgrade 3 | I127: =IFERROR(I113*HLOOKUP(G106,$G$7:$AD$9,3),"n.a.") -> n.a. | J127: =IFERROR(J113*HLOOKUP(H106,$G$7:$AD$9,3),"n.a.") -> n.a. | K127: =IFERROR(K113*HLOOKUP(I106,$G$7:$AD$9,3),"n.a.") -> n.a. | L127: =IFERROR(L113*HLOOKUP(J106,$G$7:$AD$9,3),"n.a.") -> n.a. | M127: =IFERROR(M113*HLOOKUP(K106,$G$7:$AD$9,3),"n.a.") -> n.a. | N127: =IFERROR(N113*HLOOKUP(L106,$G$7:$AD$9,3),"n.a.") -> n.a. | O127: =IFERROR(O113*HLOOKUP(M106,$G$7:$AD$9,3),"n.a.") -> n.a. | P127: =IFERROR(P113*HLOOKUP(N106,$G$7:$AD$9,3),"n.a.") -> n.a. | ... CA127: =IFERROR(CA113*HLOOKUP(BY106,$G$7:$AD$9,3),"n.a.") -> n.a.
B129: Agios en k€ | F129: Agios en k€ | I129: =SUM(I124:I127) -> 4552.3955 | J129: =SUM(J124:J127) -> 1114.2124 | K129: =SUM(K124:K127) -> 1080.0097 | L129: =SUM(L124:L127) -> 1045.4355 | M129: =SUM(M124:M127) -> 1010.4857 | N129: =SUM(N124:N127) -> 975.15623 | O129: =SUM(O124:O127) -> 939.44302 | P129: =SUM(P124:P127) -> 903.34186 | ... CA129: =SUM(CA124:CA127) -> 0
F132: Evolution portefeuille type 24 mois Check
F133: Encours upgrade 1 | Y133: 1 | Z133: =1+Y133 -> 2 | AA133: =1+Z133 -> 3 | AB133: =1+AA133 -> 4 | AC133: =1+AB133 -> 5 | AD133: =1+AC133 -> 6 | AE133: =1+AD133 -> 7 | AF133: =1+AE133 -> 8 | AG133: =1+AF133 -> 9 | ... AV133: =1+AU133 -> 24
F134: Encours upgrade 2 | AN134: 1 | AO134: =1+AN134 -> 2 | AP134: =1+AO134 -> 3 | AQ134: =1+AP134 -> 4 | AR134: =1+AQ134 -> 5 | AS134: =1+AR134 -> 6 | AT134: =1+AS134 -> 7 | AU134: =1+AT134 -> 8 | AV134: =1+AU134 -> 9 | ... BK134: =1+BJ134 -> 24
F135: Encours upgrade 3 | BC135: 1 | BD135: =1+BC135 -> 2 | BE135: =1+BD135 -> 3 | BF135: =1+BE135 -> 4 | BG135: =1+BF135 -> 5 | BH135: =1+BG135 -> 6 | BI135: =1+BH135 -> 7 | BJ135: =1+BI135 -> 8 | BK135: =1+BJ135 -> 9 | ... CA135: =1+BZ135 -> 25
J136: =C137 -> 43950 | K136: =EDATE(J136,1) -> 43980 | L136: =EDATE(K136,1) -> 44011 | M136: =EDATE(L136,1) -> 44041 | N136: =EDATE(M136,1) -> 44072 | O136: =EDATE(N136,1) -> 44103 | P136: =EDATE(O136,1) -> 44133 | Q136: =EDATE(P136,1) -> 44164 | R136: =EDATE(Q136,1) -> 44194 | ... CC136: =EDATE(CB136,1) -> 46109
...
