Workbook
Name DEMANDE_D_AUTORISATION_DE_CONSTRUIRE_N: [2]ART50!#REF!
Name DEMANDE_D_AUTORISATION_DE_CONSTRUIRE_N: [2]ART50!#REF!
Name devis: #REF!
Name devis: #REF!
Name ELECTRICITE_DE_FRANCE: #REF!
Name ELECTRICITE_DE_FRANCE: #REF!
Name euro: 6.55957
Name matos: #REF!
Name matos: #REF!
Name MOINS: #REF!
Name MOINS: #REF!
Name p: [2]ART50!#REF!
Name p: [2]ART50!#REF!
Name PLUS: #REF!
Name PLUS: #REF!
Name TATA: #REF!
Name TATA: #REF!
Name TOTO: #REF!
Name TOTO: #REF!

Sheet Bordereau
C3: Quantité | D3: AA | E3: AB | F3: AC | G3: AD | H3: Prix unitaire | I3: Total
B4: Mise en place horloge astro | C4: =SUM(D4:G4) -> 19 | D4: 4 | E4: 3 | F4: 2 | G4: 10 | H4: 100 | I4: =H4*C4 -> 1900
B5: Luminaire LED | C5: =SUM(D5:G5) -> 13 | D5: 2 | E5: 6 | F5: 2 | G5: 3 | H5: 200 | I5: =H5*C5 -> 2600
B6: Luminaire SHP | C6: =SUM(D6:G6) -> 11 | D6: 5 | E6: 3 | F6: 1 | G6: 2 | H6: 300 | I6: =H6*C6 -> 3300
B7: Luminaire BF | C7: =SUM(D7:G7) -> 14 | D7: 1 | E7: 4 | F7: 5 | G7: 4 | H7: 400 | I7: =H7*C7 -> 5600

Sheet Devis
A1: Affaire : | B1: =[1]A!C1 -> 0
A2: Client : | B2: =[1]A!C2 -> 0
F3: 41179.494
A6: DEVIS N°
A7: =[1]A!C3 -> 0
A9: N° de prix | B9: DESCRIPTIF | C9: Unité | D9: Qte | E9: PRIX UNITAIRE en Euro | F9: PRIX TOTAL en Euros
B11: =Bordereau!B4:C4 -> Mise en place horloge astro | D11: =Bordereau!C4 -> 19 | E11: =Bordereau!H4 -> 100 | F11: =D11*E11 -> 1900
B13: =Bordereau!B5 -> Luminaire LED | D13: =Bordereau!C5 -> 13 | E13: =Bordereau!H5 -> 200 | F13: =E13*D13 -> 2600
A14: =[1]Récap!B19 -> 0 | B14: =[1]Récap!C19 -> 0 | C14: =[1]Récap!U19 -> 0 | F14: =[1]Récap!AJ19 -> 0
B15: =Bordereau!B6 -> Luminaire SHP | D15: =Bordereau!C6 -> 11 | E15: =Bordereau!H6 -> 300 | F15: =D15*E15 -> 3300
B17: =Bordereau!B7 -> Luminaire BF | D17: =Bordereau!C7 -> 14 | E17: =Bordereau!H7 -> 400 | F17: =D17*E17 -> 5600
A161: Nous vous serions obligés de bien vouloir nous retourner un exemplaire du présent devis revêtu de votre signature, avec la mention "Bon pour accord" et votre cachet. | C161: MONTANT TOTAL HT | F161: =SUM(F9:F160) -> 13400
C162: T.V.A | D162: 0.196 | F162: =ROUND(F161*D162,2) -> 2626.4
C163: TOTAL T.T.C | F163: =SUM(F161:F162) -> 16026.4
A165: Offre valable : 2 mois
A166: Condition de paiement : 45 jours à compter de la date d'émission de la facture
A174: CLIENT PRIVE :
A175: 45 jours à compter de la date d'émission de la facture
A177: CLIENT PUBLIC :
A178: 30 jours à compter de la date d'émission de la facture
A180: CLIENT ETAT : (DDE - DIRCO)
A181: 30 jours à compter de la date d'émission de la facture

Sheet Devis par amoire
A1: Affaire : | B1: =[1]A!C1 -> 0
A2: Client : | B2: =[1]A!C2 -> 0
F3: 41179.494
A6: DEVIS N°
A7: Armoire | B7: AA
A9: N° de prix | B9: DESCRIPTIF | C9: Unité | D9: Qte | E9: PRIX UNITAIRE en Euro | F9: PRIX TOTAL en Euros
A14: =[1]Récap!B19 -> 0
A161: Nous vous serions obligés de bien vouloir nous retourner un exemplaire du présent devis revêtu de votre signature, avec la mention "Bon pour accord" et votre cachet. | C161: MONTANT TOTAL HT | F161: =SUM(F9:F160) -> 0
C162: T.V.A | D162: 0.196 | F162: =ROUND(F161*D162,2) -> 0
C163: TOTAL T.T.C | F163: =SUM(F161:F162) -> 0
A165: Offre valable : 2 mois
A166: Condition de paiement : 45 jours à compter de la date d'émission de la facture
A174: CLIENT PRIVE :
A175: 45 jours à compter de la date d'émission de la facture
A177: CLIENT PUBLIC :
A178: 30 jours à compter de la date d'émission de la facture
A180: CLIENT ETAT : (DDE - DIRCO)
A181: 30 jours à compter de la date d'émission de la facture
