Workbook

Sheet aus_stats
A1: clé_gp | B1: clé | C1: date | D1: saison | E1: circuit | F1: pays | G1: position_course | H1: n° | I1: pilote | J1: constructeur | K1: moteur | L1: tours_course | M1: points | O1: rang | P1: meilleur_tour | Q1: position_grille | R1: temps_qualification | S1: tour_en_tête | T1: conversion_tour | U1: conversion_qualif | V1: écart_tour_qualif
A2: =D2&"_"&UPPER(LEFT(F2,3)) -> 2019_AUS | B2: =$D2&"_"&UPPER(LEFT($F2,3))&"#"&$G2 -> 2019_AUS#1 | C2: 43541 | D2: =YEAR(C2) -> 2019 | E2: Melbourne | F2: Australie | G2: 1 | H2: 77 | I2: Valtteri BOTTAS | J2: Mercedes | K2: Mercedes | L2: 58 | M2: 26 | O2: =RANK($T2,INDIRECT(VLOOKUP(aus_stats!$A2,zone!$A:$K,6,FALSE),1),1) -> #N/A | P2: 1'25''580 | Q2: 2 | R2: 1'20''598 | S2: 56 | T2: =IF(ISBLANK($P2),"",LEFT($P2,1)*60+(RIGHT(LEFT($P2,4),2))+("0,"&RIGHT($P2,3))) -> 85.58 | U2: =IF(ISBLANK($R2),"",LEFT($R2,1)*60+(RIGHT(LEFT($R2,4),2))+("0,"&RIGHT($R2,3))) -> 80.598 | V2: =IF(OR($T2="",$U2=""),"",$T2-$U2) -> 4.982
A3: =D3&"_"&UPPER(LEFT(F3,3)) -> 2019_AUS | B3: =$D3&"_"&UPPER(LEFT($F3,3))&"#"&$G3 -> 2019_AUS#2 | C3: 43541 | D3: =YEAR(C3) -> 2019 | E3: Melbourne | F3: Australie | G3: 2 | H3: 44 | I3: Lewis HAMILTON | J3: Mercedes | K3: Mercedes | L3: 58 | M3: 18 | O3: =RANK($T3,INDIRECT(VLOOKUP(aus_stats!$A3,zone!$A:$K,6,FALSE),1),1) -> #N/A | P3: 1'26''057 | Q3: 1 | R3: 1'20''486 | T3: =IF(ISBLANK($P3),"",LEFT($P3,1)*60+(RIGHT(LEFT($P3,4),2))+("0,"&RIGHT($P3,3))) -> 86.057 | U3: =IF(ISBLANK($R3),"",LEFT($R3,1)*60+(RIGHT(LEFT($R3,4),2))+("0,"&RIGHT($R3,3))) -> 80.486 | V3: =IF(OR($T3="",$U3=""),"",$T3-$U3) -> 5.571
A4: =D4&"_"&UPPER(LEFT(F4,3)) -> 2019_AUS | B4: =$D4&"_"&UPPER(LEFT($F4,3))&"#"&$G4 -> 2019_AUS#3 | C4: 43541 | D4: =YEAR(C4) -> 2019 | E4: Melbourne | F4: Australie | G4: 3 | H4: 33 | I4: Max VERSTAPPEN | J4: Red Bull | K4: Honda | L4: 58 | M4: 15 | O4: =RANK($T4,INDIRECT(VLOOKUP(aus_stats!$A4,zone!$A:$K,6,FALSE),1),1) -> #N/A | P4: 1'26''256 | Q4: 4 | R4: 1'21''320 | S4: 2 | T4: =IF(ISBLANK($P4),"",LEFT($P4,1)*60+(RIGHT(LEFT($P4,4),2))+("0,"&RIGHT($P4,3))) -> 86.256 | U4: =IF(ISBLANK($R4),"",LEFT($R4,1)*60+(RIGHT(LEFT($R4,4),2))+("0,"&RIGHT($R4,3))) -> 81.32 | V4: =IF(OR($T4="",$U4=""),"",$T4-$U4) -> 4.936
A5: =D5&"_"&UPPER(LEFT(F5,3)) -> 2019_AUS | B5: =$D5&"_"&UPPER(LEFT($F5,3))&"#"&$G5 -> 2019_AUS#4 | C5: 43541 | D5: =YEAR(C5) -> 2019 | E5: Melbourne | F5: Australie | G5: 4 | H5: 5 | I5: Sebastian VETTEL | J5: Ferrari | K5: Ferrari | L5: 58 | M5: 12 | P5: 1'27''954 | Q5: 3 | R5: 1'21''190 | T5: =IF(ISBLANK($P5),"",LEFT($P5,1)*60+(RIGHT(LEFT($P5,4),2))+("0,"&RIGHT($P5,3))) -> 87.954 | U5: =IF(ISBLANK($R5),"",LEFT($R5,1)*60+(RIGHT(LEFT($R5,4),2))+("0,"&RIGHT($R5,3))) -> 81.19 | V5: =IF(OR($T5="",$U5=""),"",$T5-$U5) -> 6.764
A6: =D6&"_"&UPPER(LEFT(F6,3)) -> 2019_AUS | B6: =$D6&"_"&UPPER(LEFT($F6,3))&"#"&$G6 -> 2019_AUS#5 | C6: 43541 | D6: =YEAR(C6) -> 2019 | E6: Melbourne | F6: Australie | G6: 5 | H6: 16 | I6: Charles LECLERC | J6: Ferrari | K6: Ferrari | L6: 58 | M6: 10 | P6: 1'26''926 | Q6: 5 | R6: 1'21''442 | T6: =IF(ISBLANK($P6),"",LEFT($P6,1)*60+(RIGHT(LEFT($P6,4),2))+("0,"&RIGHT($P6,3))) -> 86.926 | U6: =IF(ISBLANK($R6),"",LEFT($R6,1)*60+(RIGHT(LEFT($R6,4),2))+("0,"&RIGHT($R6,3))) -> 81.442 | V6: =IF(OR($T6="",$U6=""),"",$T6-$U6) -> 5.484
A7: =D7&"_"&UPPER(LEFT(F7,3)) -> 2019_AUS | B7: =$D7&"_"&UPPER(LEFT($F7,3))&"#"&$G7 -> 2019_AUS#6 | C7: 43541 | D7: =YEAR(C7) -> 2019 | E7: Melbourne | F7: Australie | G7: 6 | H7: 20 | I7: Kevin MAGNUSSEN | J7: Haas | K7: Ferrari | L7: 58 | M7: 8 | P7: 1'28''182 | Q7: 7 | R7: 1'22''099 | T7: =IF(ISBLANK($P7),"",LEFT($P7,1)*60+(RIGHT(LEFT($P7,4),2))+("0,"&RIGHT($P7,3))) -> 88.182 | U7: =IF(ISBLANK($R7),"",LEFT($R7,1)*60+(RIGHT(LEFT($R7,4),2))+("0,"&RIGHT($R7,3))) -> 82.099 | V7: =IF(OR($T7="",$U7=""),"",$T7-$U7) -> 6.083
A8: =D8&"_"&UPPER(LEFT(F8,3)) -> 2019_AUS | B8: =$D8&"_"&UPPER(LEFT($F8,3))&"#"&$G8 -> 2019_AUS#7 | C8: 43541 | D8: =YEAR(C8) -> 2019 | E8: Melbourne | F8: Australie | G8: 7 | H8: 27 | I8: Nico HULKENBERG | J8: Renault | K8: Renault | L8: 57 | M8: 6 | P8: 1'28''444 | Q8: 11 | R8: 1'22''562 | T8: =IF(ISBLANK($P8),"",LEFT($P8,1)*60+(RIGHT(LEFT($P8,4),2))+("0,"&RIGHT($P8,3))) -> 88.444 | U8: =IF(ISBLANK($R8),"",LEFT($R8,1)*60+(RIGHT(LEFT($R8,4),2))+("0,"&RIGHT($R8,3))) -> 82.562 | V8: =IF(OR($T8="",$U8=""),"",$T8-$U8) -> 5.882
A9: =D9&"_"&UPPER(LEFT(F9,3)) -> 2019_AUS | B9: =$D9&"_"&UPPER(LEFT($F9,3))&"#"&$G9 -> 2019_AUS#8 | C9: 43541 | D9: =YEAR(C9) -> 2019 | E9: Melbourne | F9: Australie | G9: 8 | H9: 7 | I9: Kimi RAIKKONEN | J9: Alfa Romeo | K9: Ferrari | L9: 57 | M9: 4 | P9: 1'28''270 | Q9: 9 | R9: 1'22''314 | T9: =IF(ISBLANK($P9),"",LEFT($P9,1)*60+(RIGHT(LEFT($P9,4),2))+("0,"&RIGHT($P9,3))) -> 88.27 | U9: =IF(ISBLANK($R9),"",LEFT($R9,1)*60+(RIGHT(LEFT($R9,4),2))+("0,"&RIGHT($R9,3))) -> 82.314 | V9: =IF(OR($T9="",$U9=""),"",$T9-$U9) -> 5.956
A10: =D10&"_"&UPPER(LEFT(F10,3)) -> 2019_AUS | B10: =$D10&"_"&UPPER(LEFT($F10,3))&"#"&$G10 -> 2019_AUS#9 | C10: 43541 | D10: =YEAR(C10) -> 2019 | E10: Melbourne | F10: Australie | G10: 9 | H10: 18 | I10: Lance STROLL | J10: Racing Point | K10: BWT Mercedes | L10: 57 | M10: 2 | P10: 1'27''568 | Q10: 16 | R10: 1'23''017 | T10: =IF(ISBLANK($P10),"",LEFT($P10,1)*60+(RIGHT(LEFT($P10,4),2))+("0,"&RIGHT($P10,3))) -> 87.568 | U10: =IF(ISBLANK($R10),"",LEFT($R10,1)*60+(RIGHT(LEFT($R10,4),2))+("0,"&RIGHT($R10,3))) -> 83.017 | V10: =IF(OR($T10="",$U10=""),"",$T10-$U10) -> 4.551
A11: =D11&"_"&UPPER(LEFT(F11,3)) -> 2019_AUS | B11: =$D11&"_"&UPPER(LEFT($F11,3))&"#"&$G11 -> 2019_AUS#10 | C11: 43541 | D11: =YEAR(C11) -> 2019 | E11: Melbourne | F11: Australie | G11: 10 | H11: 26 | I11: Daniil KVYAT | J11: Toro Rosso | K11: Honda | L11: 57 | M11: 1 | P11: 1'27''448 | Q11: 15 | R11: 1'22''774 | T11: =IF(ISBLANK($P11),"",LEFT($P11,1)*60+(RIGHT(LEFT($P11,4),2))+("0,"&RIGHT($P11,3))) -> 87.448 | U11: =IF(ISBLANK($R11),"",LEFT($R11,1)*60+(RIGHT(LEFT($R11,4),2))+("0,"&RIGHT($R11,3))) -> 82.774 | V11: =IF(OR($T11="",$U11=""),"",$T11-$U11) -> 4.674
A12: =D12&"_"&UPPER(LEFT(F12,3)) -> 2019_AUS | B12: =$D12&"_"&UPPER(LEFT($F12,3))&"#"&$G12 -> 2019_AUS#11 | C12: 43541 | D12: =YEAR(C12) -> 2019 | E12: Melbourne | F12: Australie | G12: 11 | H12: 10 | I12: Pierre GASLY | J12: Red Bull | K12: Honda | L12: 57 | P12: 1'27''229 | Q12: 17 | R12: 1'23''020 | T12: =IF(ISBLANK($P12),"",LEFT($P12,1)*60+(RIGHT(LEFT($P12,4),2))+("0,"&RIGHT($P12,3))) -> 87.229 | U12: =IF(ISBLANK($R12),"",LEFT($R12,1)*60+(RIGHT(LEFT($R12,4),2))+("0,"&RIGHT($R12,3))) -> 83.02 | V12: =IF(OR($T12="",$U12=""),"",$T12-$U12) -> 4.209
A13: =D13&"_"&UPPER(LEFT(F13,3)) -> 2019_AUS | B13: =$D13&"_"&UPPER(LEFT($F13,3))&"#"&$G13 -> 2019_AUS#12 | C13: 43541 | D13: =YEAR(C13) -> 2019 | E13: Melbourne | F13: Australie | G13: 12 | H13: 4 | I13: Lando NORRIS | J13: McLaren | K13: Renault | L13: 57 | P13: 1'28''555 | Q13: 8 | R13: 1'22''304 | T13: =IF(ISBLANK($P13),"",LEFT($P13,1)*60+(RIGHT(LEFT($P13,4),2))+("0,"&RIGHT($P13,3))) -> 88.555 | U13: =IF(ISBLANK($R13),"",LEFT($R13,1)*60+(RIGHT(LEFT($R13,4),2))+("0,"&RIGHT($R13,3))) -> 82.304 | V13: =IF(OR($T13="",$U13=""),"",$T13-$U13) -> 6.251
A14: =D14&"_"&UPPER(LEFT(F14,3)) -> 2019_AUS | B14: =$D14&"_"&UPPER(LEFT($F14,3))&"#"&$G14 -> 2019_AUS#13 | C14: 43541 | D14: =YEAR(C14) -> 2019 | E14: Melbourne | F14: Australie | G14: 13 | H14: 11 | I14: Sergio PEREZ | J14: Racing Point | K14: BWT Mercedes | L14: 57 | P14: 1'28''485 | Q14: 10 | R14: 1'22''781 | T14: =IF(ISBLANK($P14),"",LEFT($P14,1)*60+(RIGHT(LEFT($P14,4),2))+("0,"&RIGHT($P14,3))) -> 88.485 | U14: =IF(ISBLANK($R14),"",LEFT($R14,1)*60+(RIGHT(LEFT($R14,4),2))+("0,"&RIGHT($R14,3))) -> 82.781 | V14: =IF(OR($T14="",$U14=""),"",$T14-$U14) -> 5.704
A15: =D15&"_"&UPPER(LEFT(F15,3)) -> 2019_AUS | B15: =$D15&"_"&UPPER(LEFT($F15,3))&"#"&$G15 -> 2019_AUS#14 | C15: 43541 | D15: =YEAR(C15) -> 2019 | E15: Melbourne | F15: Australie | G15: 14 | H15: 23 | I15: Alexander ALBON | J15: Toro Rosso | K15: Honda | L15: 57 | P15: 1'28''188 | Q15: 13 | R15: 1'22''636 | T15: =IF(ISBLANK($P15),"",LEFT($P15,1)*60+(RIGHT(LEFT($P15,4),2))+("0,"&RIGHT($P15,3))) -> 88.188 | U15: =IF(ISBLANK($R15),"",LEFT($R15,1)*60+(RIGHT(LEFT($R15,4),2))+("0,"&RIGHT($R15,3))) -> 82.636 | V15: =IF(OR($T15="",$U15=""),"",$T15-$U15) -> 5.552
A16: =D16&"_"&UPPER(LEFT(F16,3)) -> 2019_AUS | B16: =$D16&"_"&UPPER(LEFT($F16,3))&"#"&$G16 -> 2019_AUS#15 | C16: 43541 | D16: =YEAR(C16) -> 2019 | E16: Melbourne | F16: Australie | G16: 15 | H16: 99 | I16: Antonio GIOVINAZZI | J16: Alfa Romeo | K16: Ferrari | L16: 57 | P16: 1'28''479 | Q16: 14 | R16: 1'22''714 | T16: =IF(ISBLANK($P16),"",LEFT($P16,1)*60+(RIGHT(LEFT($P16,4),2))+("0,"&RIGHT($P16,3))) -> 88.479 | U16: =IF(ISBLANK($R16),"",LEFT($R16,1)*60+(RIGHT(LEFT($R16,4),2))+("0,"&RIGHT($R16,3))) -> 82.714 | V16: =IF(OR($T16="",$U16=""),"",$T16-$U16) -> 5.765
A17: =D17&"_"&UPPER(LEFT(F17,3)) -> 2019_AUS | B17: =$D17&"_"&UPPER(LEFT($F17,3))&"#"&$G17 -> 2019_AUS#16 | C17: 43541 | D17: =YEAR(C17) -> 2019 | E17: Melbourne | F17: Australie | G17: 16 | H17: 63 | I17: George RUSSELL | J17: Williams | K17: Mercedes | L17: 56 | P17: 1'28''713 | Q17: 19 | R17: 1'24''360 | T17: =IF(ISBLANK($P17),"",LEFT($P17,1)*60+(RIGHT(LEFT($P17,4),2))+("0,"&RIGHT($P17,3))) -> 88.713 | U17: =IF(ISBLANK($R17),"",LEFT($R17,1)*60+(RIGHT(LEFT($R17,4),2))+("0,"&RIGHT($R17,3))) -> 84.36 | V17: =IF(OR($T17="",$U17=""),"",$T17-$U17) -> 4.353
A18: =D18&"_"&UPPER(LEFT(F18,3)) -> 2019_AUS | B18: =$D18&"_"&UPPER(LEFT($F18,3))&"#"&$G18 -> 2019_AUS#17 | C18: 43541 | D18: =YEAR(C18) -> 2019 | E18: Melbourne | F18: Australie | G18: 17 | H18: 88 | I18: Robert KUBICA | J18: Williams | K18: Mercedes | L18: 55 | P18: 1'29''284 | Q18: 20 | R18: 1'26''067 | T18: =IF(ISBLANK($P18),"",LEFT($P18,1)*60+(RIGHT(LEFT($P18,4),2))+("0,"&RIGHT($P18,3))) -> 89.284 | U18: =IF(ISBLANK($R18),"",LEFT($R18,1)*60+(RIGHT(LEFT($R18,4),2))+("0,"&RIGHT($R18,3))) -> 86.067 | V18: =IF(OR($T18="",$U18=""),"",$T18-$U18) -> 3.217
A19: =D19&"_"&UPPER(LEFT(F19,3)) -> 2019_AUS | B19: =$D19&"_"&UPPER(LEFT($F19,3))&"#"&$G19 -> 2019_AUS#ab | C19: 43541 | D19: =YEAR(C19) -> 2019 | E19: Melbourne | F19: Australie | G19: ab | H19: 8 | I19: Romain GROSJEAN | J19: Haas | K19: Ferrari | L19: 29 | P19: 1'28''462 | Q19: 6 | R19: 1'21''826 | T19: =IF(ISBLANK($P19),"",LEFT($P19,1)*60+(RIGHT(LEFT($P19,4),2))+("0,"&RIGHT($P19,3))) -> 88.462 | U19: =IF(ISBLANK($R19),"",LEFT($R19,1)*60+(RIGHT(LEFT($R19,4),2))+("0,"&RIGHT($R19,3))) -> 81.826 | V19: =IF(OR($T19="",$U19=""),"",$T19-$U19) -> 6.636
A20: =D20&"_"&UPPER(LEFT(F20,3)) -> 2019_AUS | B20: =$D20&"_"&UPPER(LEFT($F20,3))&"#"&$G20 -> 2019_AUS#ab | C20: 43541 | D20: =YEAR(C20) -> 2019 | E20: Melbourne | F20: Australie | G20: ab | H20: 3 | I20: Daniel RICCIARDO | J20: Renault | K20: Renault | L20: 28 | P20: 1'29''848 | Q20: 12 | R20: 1'22''570 | T20: =IF(ISBLANK($P20),"",LEFT($P20,1)*60+(RIGHT(LEFT($P20,4),2))+("0,"&RIGHT($P20,3))) -> 89.848 | U20: =IF(ISBLANK($R20),"",LEFT($R20,1)*60+(RIGHT(LEFT($R20,4),2))+("0,"&RIGHT($R20,3))) -> 82.57 | V20: =IF(OR($T20="",$U20=""),"",$T20-$U20) -> 7.278
A21: =D21&"_"&UPPER(LEFT(F21,3)) -> 2019_AUS | B21: =$D21&"_"&UPPER(LEFT($F21,3))&"#"&$G21 -> 2019_AUS#ab | C21: 43541 | D21: =YEAR(C21) -> 2019 | E21: Melbourne | F21: Australie | G21: ab | H21: 55 | I21: Carlos SAINZ | J21: McLaren | K21: Renault | L21: 9 | P21: 1'30''899 | Q21: 18 | R21: 1'23''084 | T21: =IF(ISBLANK($P21),"",LEFT($P21,1)*60+(RIGHT(LEFT($P21,4),2))+("0,"&RIGHT($P21,3))) -> 90.899 | U21: =IF(ISBLANK($R21),"",LEFT($R21,1)*60+(RIGHT(LEFT($R21,4),2))+("0,"&RIGHT($R21,3))) -> 83.084 | V21: =IF(OR($T21="",$U21=""),"",$T21-$U21) -> 7.815
A22: =D22&"_"&UPPER(LEFT(F22,3)) -> 2018_AUS | B22: =$D22&"_"&UPPER(LEFT($F22,3))&"#"&$G22 -> 2018_AUS#1 | C22: 43184 | D22: =YEAR(C22) -> 2018 | E22: Melbourne | F22: Australie | G22: 1 | H22: 5 | I22: Sebastian VETTEL | J22: Ferrari | K22: Ferrari | L22: 58 | M22: 25 | P22: 1'26''469 | Q22: 3 | R22: 1'21''838 | S22: 40 | T22: =IF(ISBLANK($P22),"",LEFT($P22,1)*60+(RIGHT(LEFT($P22,4),2))+("0,"&RIGHT($P22,3))) -> 86.469 | U22: =IF(ISBLANK($R22),"",LEFT($R22,1)*60+(RIGHT(LEFT($R22,4),2))+("0,"&RIGHT($R22,3))) -> 81.838 | V22: =IF(OR($T22="",$U22=""),"",$T22-$U22) -> 4.631
A23: =D23&"_"&UPPER(LEFT(F23,3)) -> 2018_AUS | B23: =$D23&"_"&UPPER(LEFT($F23,3))&"#"&$G23 -> 2018_AUS#2 | C23: 43184 | D23: =YEAR(C23) -> 2018 | E23: Melbourne | F23: Australie | G23: 2 | H23: 44 | I23: Lewis HAMILTON | J23: Mercedes | K23: Mercedes | L23: 58 | M23: 18 | P23: 1'26''444 | Q23: 1 | R23: 1'21''164 | S23: 18 | T23: =IF(ISBLANK($P23),"",LEFT($P23,1)*60+(RIGHT(LEFT($P23,4),2))+("0,"&RIGHT($P23,3))) -> 86.444 | U23: =IF(ISBLANK($R23),"",LEFT($R23,1)*60+(RIGHT(LEFT($R23,4),2))+("0,"&RIGHT($R23,3))) -> 81.164 | V23: =IF(OR($T23="",$U23=""),"",$T23-$U23) -> 5.28
A24: =D24&"_"&UPPER(LEFT(F24,3)) -> 2018_AUS | B24: =$D24&"_"&UPPER(LEFT($F24,3))&"#"&$G24 -> 2018_AUS#3 | C24: 43184 | D24: =YEAR(C24) -> 2018 | E24: Melbourne | F24: Australie | G24: 3 | H24: 7 | I24: Kimi RAIKKONEN | J24: Ferrari | K24: Ferrari | L24: 58 | M24: 15 | P24: 1'26''373 | Q24: 2 | R24: 1'21''828 | T24: =IF(ISBLANK($P24),"",LEFT($P24,1)*60+(RIGHT(LEFT($P24,4),2))+("0,"&RIGHT($P24,3))) -> 86.373 | U24: =IF(ISBLANK($R24),"",LEFT($R24,1)*60+(RIGHT(LEFT($R24,4),2))+("0,"&RIGHT($R24,3))) -> 81.828 | V24: =IF(OR($T24="",$U24=""),"",$T24-$U24) -> 4.545
A25: =D25&"_"&UPPER(LEFT(F25,3)) -> 2018_AUS | B25: =$D25&"_"&UPPER(LEFT($F25,3))&"#"&$G25 -> 2018_AUS#4 | C25: 43184 | D25: =YEAR(C25) -> 2018 | E25: Melbourne | F25: Australie | G25: 4 | H25: 3 | I25: Daniel RICCIARDO | J25: Red Bull | K25: TAG Heuer | L25: 58 | M25: 12 | P25: 1'25''945 | Q25: 5 | R25: 1'22''152 | T25: =IF(ISBLANK($P25),"",LEFT($P25,1)*60+(RIGHT(LEFT($P25,4),2))+("0,"&RIGHT($P25,3))) -> 85.945 | U25: =IF(ISBLANK($R25),"",LEFT($R25,1)*60+(RIGHT(LEFT($R25,4),2))+("0,"&RIGHT($R25,3))) -> 82.152 | V25: =IF(OR($T25="",$U25=""),"",$T25-$U25) -> 3.793
A26: =D26&"_"&UPPER(LEFT(F26,3)) -> 2018_AUS | B26: =$D26&"_"&UPPER(LEFT($F26,3))&"#"&$G26 -> 2018_AUS#5 | C26: 43184 | D26: =YEAR(C26) -> 2018 | E26: Melbourne | F26: Australie | G26: 5 | H26: 14 | I26: Fernando ALONSO | J26: McLaren | K26: Renault | L26: 58 | M26: 10 | P26: 1'26''978 | Q26: 11 | R26: 1'23''692 | T26: =IF(ISBLANK($P26),"",LEFT($P26,1)*60+(RIGHT(LEFT($P26,4),2))+("0,"&RIGHT($P26,3))) -> 86.978 | U26: =IF(ISBLANK($R26),"",LEFT($R26,1)*60+(RIGHT(LEFT($R26,4),2))+("0,"&RIGHT($R26,3))) -> 83.692 | V26: =IF(OR($T26="",$U26=""),"",$T26-$U26) -> 3.286
A27: =D27&"_"&UPPER(LEFT(F27,3)) -> 2018_AUS | B27: =$D27&"_"&UPPER(LEFT($F27,3))&"#"&$G27 -> 2018_AUS#6 | C27: 43184 | D27: =YEAR(C27) -> 2018 | E27: Melbourne | F27: Australie | G27: 6 | H27: 33 | I27: Max VERSTAPPEN | J27: Red Bull | K27: TAG Heuer | L27: 58 | M27: 8 | P27: 1'26''880 | Q27: 4 | R27: 1'21''879 | T27: =IF(ISBLANK($P27),"",LEFT($P27,1)*60+(RIGHT(LEFT($P27,4),2))+("0,"&RIGHT($P27,3))) -> 86.88 | U27: =IF(ISBLANK($R27),"",LEFT($R27,1)*60+(RIGHT(LEFT($R27,4),2))+("0,"&RIGHT($R27,3))) -> 81.879 | V27: =IF(OR($T27="",$U27=""),"",$T27-$U27) -> 5.001
A28: =D28&"_"&UPPER(LEFT(F28,3)) -> 2018_AUS | B28: =$D28&"_"&UPPER(LEFT($F28,3))&"#"&$G28 -> 2018_AUS#7 | C28: 43184 | D28: =YEAR(C28) -> 2018 | E28: Melbourne | F28: Australie | G28: 7 | H28: 27 | I28: Nico HULKENBERG | J28: Renault | K28: Renault | L28: 58 | M28: 6 | P28: 1'27''081 | Q28: 8 | R28: 1'23''532 | T28: =IF(ISBLANK($P28),"",LEFT($P28,1)*60+(RIGHT(LEFT($P28,4),2))+("0,"&RIGHT($P28,3))) -> 87.081 | U28: =IF(ISBLANK($R28),"",LEFT($R28,1)*60+(RIGHT(LEFT($R28,4),2))+("0,"&RIGHT($R28,3))) -> 83.532 | V28: =IF(OR($T28="",$U28=""),"",$T28-$U28) -> 3.549
A29: =D29&"_"&UPPER(LEFT(F29,3)) -> 2018_AUS | B29: =$D29&"_"&UPPER(LEFT($F29,3))&"#"&$G29 -> 2018_AUS#8 | C29: 43184 | D29: =YEAR(C29) -> 2018 | E29: Melbourne | F29: Australie | G29: 8 | H29: 77 | I29: Valtteri BOTTAS | J29: Mercedes | K29: Mercedes | L29: 58 | M29: 4 | P29: 1'27''019 | Q29: 10 | T29: =IF(ISBLANK($P29),"",LEFT($P29,1)*60+(RIGHT(LEFT($P29,4),2))+("0,"&RIGHT($P29,3))) -> 87.019 | U29: =IF(ISBLANK($R29),"",LEFT($R29,1)*60+(RIGHT(LEFT($R29,4),2))+("0,"&RIGHT($R29,3))) | V29: =IF(OR($T29="",$U29=""),"",$T29-$U29)
A30: =D30&"_"&UPPER(LEFT(F30,3)) -> 2018_AUS | B30: =$D30&"_"&UPPER(LEFT($F30,3))&"#"&$G30 -> 2018_AUS#9 | C30: 43184 | D30: =YEAR(C30) -> 2018 | E30: Melbourne | F30: Australie | G30: 9 | H30: 2 | I30: Stoffel VANDOORNE | J30: McLaren | K30: Renault | L30: 58 | M30: 2 | P30: 1'26''958 | Q30: 12 | R30: 1'23''853 | T30: =IF(ISBLANK($P30),"",LEFT($P30,1)*60+(RIGHT(LEFT($P30,4),2))+("0,"&RIGHT($P30,3))) -> 86.958 | U30: =IF(ISBLANK($R30),"",LEFT($R30,1)*60+(RIGHT(LEFT($R30,4),2))+("0,"&RIGHT($R30,3))) -> 83.853 | V30: =IF(OR($T30="",$U30=""),"",$T30-$U30) -> 3.105
A31: =D31&"_"&UPPER(LEFT(F31,3)) -> 2018_AUS | B31: =$D31&"_"&UPPER(LEFT($F31,3))&"#"&$G31 -> 2018_AUS#10 | C31: 43184 | D31: =YEAR(C31) -> 2018 | E31: Melbourne | F31: Australie | G31: 10 | H31: 55 | I31: Carlos SAINZ | J31: Renault | K31: Renault | L31: 58 | M31: 1 | P31: 1'27''944 | Q31: 9 | R31: 1'23''577 | T31: =IF(ISBLANK($P31),"",LEFT($P31,1)*60+(RIGHT(LEFT($P31,4),2))+("0,"&RIGHT($P31,3))) -> 87.944 | U31: =IF(ISBLANK($R31),"",LEFT($R31,1)*60+(RIGHT(LEFT($R31,4),2))+("0,"&RIGHT($R31,3))) -> 83.577 | V31: =IF(OR($T31="",$U31=""),"",$T31-$U31) -> 4.367
A32: =D32&"_"&UPPER(LEFT(F32,3)) -> 2018_AUS | B32: =$D32&"_"&UPPER(LEFT($F32,3))&"#"&$G32 -> 2018_AUS#11 | C32: 43184 | D32: =YEAR(C32) -> 2018 | E32: Melbourne | F32: Australie | G32: 11 | H32: 11 | I32: Sergio PEREZ | J32: Force India | K32: Mercedes | L32: 58 | P32: 1'27''633 | Q32: 13 | R32: 1'24''005 | T32: =IF(ISBLANK($P32),"",LEFT($P32,1)*60+(RIGHT(LEFT($P32,4),2))+("0,"&RIGHT($P32,3))) -> 87.633 | U32: =IF(ISBLANK($R32),"",LEFT($R32,1)*60+(RIGHT(LEFT($R32,4),2))+("0,"&RIGHT($R32,3))) -> 84.005 | V32: =IF(OR($T32="",$U32=""),"",$T32-$U32) -> 3.628
A33: =D33&"_"&UPPER(LEFT(F33,3)) -> 2018_AUS | B33: =$D33&"_"&UPPER(LEFT($F33,3))&"#"&$G33 -> 2018_AUS#12 | C33: 43184 | D33: =YEAR(C33) -> 2018 | E33: Melbourne | F33: Australie | G33: 12 | H33: 31 | I33: Esteban OCON | J33: Force India | K33: Mercedes | L33: 58 | P33: 1'27''600 | Q33: 15 | R33: 1'24''786 | T33: =IF(ISBLANK($P33),"",LEFT($P33,1)*60+(RIGHT(LEFT($P33,4),2))+("0,"&RIGHT($P33,3))) -> 87.6 | U33: =IF(ISBLANK($R33),"",LEFT($R33,1)*60+(RIGHT(LEFT($R33,4),2))+("0,"&RIGHT($R33,3))) -> 84.786 | V33: =IF(OR($T33="",$U33=""),"",$T33-$U33) -> 2.814
A34: =D34&"_"&UPPER(LEFT(F34,3)) -> 2018_AUS | B34: =$D34&"_"&UPPER(LEFT($F34,3))&"#"&$G34 -> 2018_AUS#13 | C34: 43184 | D34: =YEAR(C34) -> 2018 | E34: Melbourne | F34: Australie | G34: 13 | H34: 16 | I34: Charles LECLERC | J34: Sauber | K34: Ferrari | L34: 58 | P34: 1'28''759 | Q34: 18 | R34: 1'24''636 | T34: =IF(ISBLANK($P34),"",LEFT($P34,1)*60+(RIGHT(LEFT($P34,4),2))+("0,"&RIGHT($P34,3))) -> 88.759 | U34: =IF(ISBLANK($R34),"",LEFT($R34,1)*60+(RIGHT(LEFT($R34,4),2))+("0,"&RIGHT($R34,3))) -> 84.636 | V34: =IF(OR($T34="",$U34=""),"",$T34-$U34) -> 4.123
A35: =D35&"_"&UPPER(LEFT(F35,3)) -> 2018_AUS | B35: =$D35&"_"&UPPER(LEFT($F35,3))&"#"&$G35 -> 2018_AUS#14 | C35: 43184 | D35: =YEAR(C35) -> 2018 | E35: Melbourne | F35: Australie | G35: 14 | H35: 18 | I35: Lance STROLL | J35: Williams | K35: Mercedes | L35: 58 | P35: 1'28''511 | Q35: 14 | R35: 1'24''230 | T35: =IF(ISBLANK($P35),"",LEFT($P35,1)*60+(RIGHT(LEFT($P35,4),2))+("0,"&RIGHT($P35,3))) -> 88.511 | U35: =IF(ISBLANK($R35),"",LEFT($R35,1)*60+(RIGHT(LEFT($R35,4),2))+("0,"&RIGHT($R35,3))) -> 84.23 | V35: =IF(OR($T35="",$U35=""),"",$T35-$U35) -> 4.281
A36: =D36&"_"&UPPER(LEFT(F36,3)) -> 2018_AUS | B36: =$D36&"_"&UPPER(LEFT($F36,3))&"#"&$G36 -> 2018_AUS#15 | C36: 43184 | D36: =YEAR(C36) -> 2018 | E36: Melbourne | F36: Australie | G36: 15 | H36: 28 | I36: Brendon HARTLEY | J36: Toro Rosso | K36: Honda | L36: 57 | P36: 1'28''176 | Q36: 16 | R36: 1'24''532 | T36: =IF(ISBLANK($P36),"",LEFT($P36,1)*60+(RIGHT(LEFT($P36,4),2))+("0,"&RIGHT($P36,3))) -> 88.176 | U36: =IF(ISBLANK($R36),"",LEFT($R36,1)*60+(RIGHT(LEFT($R36,4),2))+("0,"&RIGHT($R36,3))) -> 84.532 | V36: =IF(OR($T36="",$U36=""),"",$T36-$U36) -> 3.644
A37: =D37&"_"&UPPER(LEFT(F37,3)) -> 2018_AUS | B37: =$D37&"_"&UPPER(LEFT($F37,3))&"#"&$G37 -> 2018_AUS#ab | C37: 43184 | D37: =YEAR(C37) -> 2018 | E37: Melbourne | F37: Australie | G37: ab | H37: 8 | I37: Romain GROSJEAN | J37: Haas | K37: Ferrari | L37: 24 | P37: 1'28''805 | Q37: 7 | R37: 1'23''339 | T37: =IF(ISBLANK($P37),"",LEFT($P37,1)*60+(RIGHT(LEFT($P37,4),2))+("0,"&RIGHT($P37,3))) -> 88.805 | U37: =IF(ISBLANK($R37),"",LEFT($R37,1)*60+(RIGHT(LEFT($R37,4),2))+("0,"&RIGHT($R37,3))) -> 83.339 | V37: =IF(OR($T37="",$U37=""),"",$T37-$U37) -> 5.466
A38: =D38&"_"&UPPER(LEFT(F38,3)) -> 2018_AUS | B38: =$D38&"_"&UPPER(LEFT($F38,3))&"#"&$G38 -> 2018_AUS#ab | C38: 43184 | D38: =YEAR(C38) -> 2018 | E38: Melbourne | F38: Australie | G38: ab | H38: 20 | I38: Kevin MAGNUSSEN | J38: Haas | K38: Ferrari | L38: 22 | P38: 1'29''534 | Q38: 6 | R38: 1'23''187 | T38: =IF(ISBLANK($P38),"",LEFT($P38,1)*60+(RIGHT(LEFT($P38,4),2))+("0,"&RIGHT($P38,3))) -> 89.534 | U38: =IF(ISBLANK($R38),"",LEFT($R38,1)*60+(RIGHT(LEFT($R38,4),2))+("0,"&RIGHT($R38,3))) -> 83.187 | V38: =IF(OR($T38="",$U38=""),"",$T38-$U38) -> 6.347
A39: =D39&"_"&UPPER(LEFT(F39,3)) -> 2018_AUS | B39: =$D39&"_"&UPPER(LEFT($F39,3))&"#"&$G39 -> 2018_AUS#ab | C39: 43184 | D39: =YEAR(C39) -> 2018 | E39: Melbourne | F39: Australie | G39: ab | H39: 10 | I39: Pierre GASLY | J39: Toro Rosso | K39: Honda | L39: 13 | P39: 1'30''649 | Q39: 20 | R39: 1'25''295 | T39: =IF(ISBLANK($P39),"",LEFT($P39,1)*60+(RIGHT(LEFT($P39,4),2))+("0,"&RIGHT($P39,3))) -> 90.649 | U39: =IF(ISBLANK($R39),"",LEFT($R39,1)*60+(RIGHT(LEFT($R39,4),2))+("0,"&RIGHT($R39,3))) -> 85.295 | V39: =IF(OR($T39="",$U39=""),"",$T39-$U39) -> 5.354
A40: =D40&"_"&UPPER(LEFT(F40,3)) -> 2018_AUS | B40: =$D40&"_"&UPPER(LEFT($F40,3))&"#"&$G40 -> 2018_AUS#ab | C40: 43184 | D40: =YEAR(C40) -> 2018 | E40: Melbourne | F40: Australie | G40: ab | H40: 9 | I40: Marcus ERICSSON | J40: Sauber | K40: Ferrari | L40: 5 | P40: 1'32''210 | Q40: 17 | R40: 1'24''556 | T40: =IF(ISBLANK($P40),"",LEFT($P40,1)*60+(RIGHT(LEFT($P40,4),2))+("0,"&RIGHT($P40,3))) -> 92.21 | U40: =IF(ISBLANK($R40),"",LEFT($R40,1)*60+(RIGHT(LEFT($R40,4),2))+("0,"&RIGHT($R40,3))) -> 84.556 | V40: =IF(OR($T40="",$U40=""),"",$T40-$U40) -> 7.654
...

Sheet zone
A1: clé_gp | B1: saison | C1: pays | D1: engagés | E1: zone_début | F1: zone
A2: =$B2&"_"&UPPER(LEFT($C2,3)) -> 1985_AUS | B2: 1985 | C2: Australie | D2: =COUNTIF(aus_stats!$A:$A,$A2) -> 25 | E2: {=ROW(INDEX(aus_stats!$A:$A,(MATCH($A2,aus_stats!A:A,0))))} -> 816 | F2: ="zone!$P$"&$E2&":$P$"&($E2+$D2-1) -> zone!$P$816:$P$840 | G2: zone! | H2: $P$ | I2: =$E2 -> 816 | J2: :$P$ | K2: =$E2+$D2-1 -> 840 | L2: =VLOOKUP(aus_stats!$A2,zone!$A:$J,7,FALSE) -> zone!
A3: =$B3&"_"&UPPER(LEFT($C3,3)) -> 1986_AUS | B3: 1986 | C3: Australie | D3: =COUNTIF(aus_stats!$A:$A,$A3) -> 26 | E3: {=ROW(INDEX(aus_stats!$A:$A,(MATCH($A3,aus_stats!A:A,0))))} -> 790 | F3: ="zone!$P$"&$E3&":$P$"&($E3+$D3-1) -> zone!$P$790:$P$815 | G3: zone! | H3: $P$ | I3: =$E3 -> 790 | J3: :$P$ | K3: =$E3+$D3-1 -> 815 | L3: =VLOOKUP(aus_stats!$A3,zone!$A:$J,7,FALSE) -> zone!
A4: =$B4&"_"&UPPER(LEFT($C4,3)) -> 1987_AUS | B4: 1987 | C4: Australie | D4: =COUNTIF(aus_stats!$A:$A,$A4) -> 28 | E4: {=ROW(INDEX(aus_stats!$A:$A,(MATCH($A4,aus_stats!A:A,0))))} -> 762 | F4: ="zone!$P$"&$E4&":$P$"&($E4+$D4-1) -> zone!$P$762:$P$789 | G4: zone! | H4: $P$ | I4: =$E4 -> 762 | J4: :$P$ | K4: =$E4+$D4-1 -> 789 | L4: =VLOOKUP(aus_stats!$A4,zone!$A:$J,7,FALSE) -> zone!
A5: =$B5&"_"&UPPER(LEFT($C5,3)) -> 1988_AUS | B5: 1988 | C5: Australie | D5: =COUNTIF(aus_stats!$A:$A,$A5) -> 31 | E5: {=ROW(INDEX(aus_stats!$A:$A,(MATCH($A5,aus_stats!A:A,0))))} -> 731 | F5: ="zone!$P$"&$E5&":$P$"&($E5+$D5-1) -> zone!$P$731:$P$761 | G5: zone! | H5: $P$ | I5: =$E5 -> 731 | J5: :$P$ | K5: =$E5+$D5-1 -> 761 | L5: =VLOOKUP(aus_stats!$A5,zone!$A:$J,7,FALSE) -> zone!
A6: =$B6&"_"&UPPER(LEFT($C6,3)) -> 1989_AUS | B6: 1989 | C6: Australie | D6: =COUNTIF(aus_stats!$A:$A,$A6) -> 39 | E6: {=ROW(INDEX(aus_stats!$A:$A,(MATCH($A6,aus_stats!A:A,0))))} -> 692 | F6: ="zone!$P$"&$E6&":$P$"&($E6+$D6-1) -> zone!$P$692:$P$730 | G6: zone! | H6: $P$ | I6: =$E6 -> 692 | J6: :$P$ | K6: =$E6+$D6-1 -> 730 | L6: =VLOOKUP(aus_stats!$A6,zone!$A:$J,7,FALSE) -> zone!
A7: =$B7&"_"&UPPER(LEFT($C7,3)) -> 1990_AUS | B7: 1990 | C7: Australie | D7: =COUNTIF(aus_stats!$A:$A,$A7) -> 30 | E7: {=ROW(INDEX(aus_stats!$A:$A,(MATCH($A7,aus_stats!A:A,0))))} -> 662 | F7: ="zone!$P$"&$E7&":$P$"&($E7+$D7-1) -> zone!$P$662:$P$691 | G7: zone! | H7: $P$ | I7: =$E7 -> 662 | J7: :$P$ | K7: =$E7+$D7-1 -> 691 | L7: =VLOOKUP(aus_stats!$A7,zone!$A:$J,7,FALSE) -> zone!
A8: =$B8&"_"&UPPER(LEFT($C8,3)) -> 1991_AUS | B8: 1991 | C8: Australie | D8: =COUNTIF(aus_stats!$A:$A,$A8) -> 33 | E8: {=ROW(INDEX(aus_stats!$A:$A,(MATCH($A8,aus_stats!A:A,0))))} -> 629 | F8: ="zone!$P$"&$E8&":$P$"&($E8+$D8-1) -> zone!$P$629:$P$661 | G8: zone! | H8: $P$ | I8: =$E8 -> 629 | J8: :$P$ | K8: =$E8+$D8-1 -> 661 | L8: =VLOOKUP(aus_stats!$A8,zone!$A:$J,7,FALSE) -> zone!
A9: =$B9&"_"&UPPER(LEFT($C9,3)) -> 1992_AUS | B9: 1992 | C9: Australie | D9: =COUNTIF(aus_stats!$A:$A,$A9) -> 26 | E9: {=ROW(INDEX(aus_stats!$A:$A,(MATCH($A9,aus_stats!A:A,0))))} -> 603 | F9: ="zone!$P$"&$E9&":$P$"&($E9+$D9-1) -> zone!$P$603:$P$628 | G9: zone! | H9: $P$ | I9: =$E9 -> 603 | J9: :$P$ | K9: =$E9+$D9-1 -> 628 | L9: =VLOOKUP(aus_stats!$A9,zone!$A:$J,7,FALSE) -> zone!
A10: =$B10&"_"&UPPER(LEFT($C10,3)) -> 1993_AUS | B10: 1993 | C10: Australie | D10: =COUNTIF(aus_stats!$A:$A,$A10) -> 26 | E10: {=ROW(INDEX(aus_stats!$A:$A,(MATCH($A10,aus_stats!A:A,0))))} -> 577 | F10: ="zone!$P$"&$E10&":$P$"&($E10+$D10-1) -> zone!$P$577:$P$602 | G10: zone! | H10: $P$ | I10: =$E10 -> 577 | J10: :$P$ | K10: =$E10+$D10-1 -> 602 | L10: =VLOOKUP(aus_stats!$A10,zone!$A:$J,7,FALSE) -> zone!
A11: =$B11&"_"&UPPER(LEFT($C11,3)) -> 1994_AUS | B11: 1994 | C11: Australie | D11: =COUNTIF(aus_stats!$A:$A,$A11) -> 28 | E11: {=ROW(INDEX(aus_stats!$A:$A,(MATCH($A11,aus_stats!A:A,0))))} -> 549 | F11: ="zone!$P$"&$E11&":$P$"&($E11+$D11-1) -> zone!$P$549:$P$576 | G11: zone! | H11: $P$ | I11: =$E11 -> 549 | J11: :$P$ | K11: =$E11+$D11-1 -> 576 | L11: =VLOOKUP(aus_stats!$A11,zone!$A:$J,7,FALSE) -> zone!
A12: =$B12&"_"&UPPER(LEFT($C12,3)) -> 1995_AUS | B12: 1995 | C12: Australie | D12: =COUNTIF(aus_stats!$A:$A,$A12) -> 25 | E12: {=ROW(INDEX(aus_stats!$A:$A,(MATCH($A12,aus_stats!A:A,0))))} -> 524 | F12: ="zone!$P$"&$E12&":$P$"&($E12+$D12-1) -> zone!$P$524:$P$548 | G12: zone! | H12: $P$ | I12: =$E12 -> 524 | J12: :$P$ | K12: =$E12+$D12-1 -> 548 | L12: =VLOOKUP(aus_stats!$A12,zone!$A:$J,7,FALSE) -> zone!
A13: =$B13&"_"&UPPER(LEFT($C13,3)) -> 1996_AUS | B13: 1996 | C13: Australie | D13: =COUNTIF(aus_stats!$A:$A,$A13) -> 22 | E13: {=ROW(INDEX(aus_stats!$A:$A,(MATCH($A13,aus_stats!A:A,0))))} -> 502 | F13: ="zone!$P$"&$E13&":$P$"&($E13+$D13-1) -> zone!$P$502:$P$523 | G13: zone! | H13: $P$ | I13: =$E13 -> 502 | J13: :$P$ | K13: =$E13+$D13-1 -> 523 | L13: =VLOOKUP(aus_stats!$A13,zone!$A:$J,7,FALSE) -> zone!
... A35: =$B35&"_"&UPPER(LEFT($C35,3)) -> 2018_AUS | B35: 2018 | C35: Australie | D35: =COUNTIF(aus_stats!$A:$A,$A35) -> 20 | E35: {=ROW(INDEX(aus_stats!$A:$A,(MATCH($A35,aus_stats!A:A,0))))} -> 22 | F35: ="zone!$P$"&$E35&":$P$"&($E35+$D35-1) -> zone!$P$22:$P$41 | G35: zone! | H35: $P$ | I35: =$E35 -> 22 | J35: :$P$ | K35: =$E35+$D35-1 -> 41 | L35: =VLOOKUP(aus_stats!$A35,zone!$A:$J,7,FALSE) -> zone!
A36: =$B36&"_"&UPPER(LEFT($C36,3)) -> 2019_AUS | B36: 2019 | C36: Australie | D36: =COUNTIF(aus_stats!$A:$A,$A36) -> 20 | E36: {=ROW(INDEX(aus_stats!$A:$A,(MATCH($A36,aus_stats!A:A,0))))} -> 2 | F36: ="zone!$P$"&$E36&":$P$"&($E36+$D36-1) -> zone!$P$2:$P$21 | G36: zone! | H36: $P$ | I36: =$E36 -> 2 | J36: :$P$ | K36: =$E36+$D36-1 -> 21 | L36: =VLOOKUP(aus_stats!$A36,zone!$A:$K,7,FALSE)&VLOOKUP(aus_stats!$A36,zone!$A:$K,8,FALSE)&VLOOKUP(aus_stats!$A36,zone!$A:$K,9,FALSE)&VLOOKUP(aus_stats!$A36,zone!$A:$K,10,FALSE)&VLOOKUP(aus_stats!$A36,zone!$A:$K,11,FALSE) -> zone!$P$22:$P$41
A37: =$B37&"_"&UPPER(LEFT($C37,3)) -> 2020_AUS | B37: 2020 | C37: Australie | D37: =COUNTIF(aus_stats!$A:$A,$A37) -> 0 | E37: {=ROW(INDEX(aus_stats!$A:$A,(MATCH($A37,aus_stats!A:A,0))))} -> #N/A | F37: ="zone!$P$"&$E37&":$P$"&($E37+$D37-1) -> #N/A | G37: zone! | H37: $P$ | I37: =$E37 -> #N/A | J37: :$P$ | K37: =$E37+$D37-1 -> #N/A | L37: =VLOOKUP(aus_stats!$A37,zone!$A:$J,7,FALSE) -> zone!

Sheet meilleur tour
A1: 1 | B1: Keke ROSBERG | C1: Williams | D1: Honda | E1: 1'23''758 | G1: 57 | H1: 162.382
A2: 2 | B2: Ayrton SENNA | C2: Lotus | D2: Renault | E2: 1'24''140 | F2: 0.382 | G2: 37 | H2: 161.645
A3: 3 | B3: Stefan JOHANSSON | C3: Ferrari | D3: Ferrari | E3: 1'24''337 | F3: 0.579 | G3: 74 | H3: 161.267
A4: 4 | B4: Niki LAUDA | C4: McLaren | D4: TAG Porsche | E4: 1'24''498 | F4: 0.740 | G4: 54 | H4: 160.960
A5: 5 | B5: Michele ALBORETO | C5: Ferrari | D5: Ferrari | E5: 1'24''642 | F5: 0.884 | G5: 57 | H5: 160.686
A6: 6 | B6: Philippe STREIFF | C6: Ligier | D6: Renault | E6: 1'25''032 | F6: 1.274 | G6: 62 | H6: 159.949
A7: 7 | B7: Alain PROST | C7: McLaren | D7: TAG Porsche | E7: 1'25''388 | F7: 1.630 | G7: 26 | H7: 159.282
A8: 8 | B8: Jacques LAFFITE | C8: Ligier | D8: Renault | E8: 1'25''469 | F8: 1.711 | G8: 41 | H8: 159.131
A9: 9 | B9: Marc SURER | C9: Brabham | D9: BMW | E9: 1'25''751 | F9: 1.993 | G9: 24 | H9: 158.608
A10: 10 | B10: Gerhard BERGER | C10: Arrows | D10: BMW | E10: 1'26''216 | F10: 2.458 | G10: 74 | H10: 157.753
A11: 11 | B11: Derek WARWICK | C11: Renault | D11: Renault | E11: 1'26''313 | F11: 2.555 | G11: 56 | H11: 157.575
A12: 12 | B12: Ivan CAPELLI | C12: Tyrrell | D12: Renault | E12: 1'26''497 | F12: 2.739 | G12: 47 | H12: 157.240
A13: 13 | B13: Thierry BOUTSEN | C13: Arrows | D13: BMW | E13: 1'26''668 | F13: 2.910 | G13: 14 | H13: 156.930
... A24: 24 | B24: Huub ROTHENGATTER | C24: Osella | D24: Alfa Romeo | E24: 1'28''942 | F24: 5.184 | G24: 52 | H24: 152.918
A25: 25 | B25: Nigel MANSELL | C25: Williams | D25: Honda | E25: 2'23''614 | F25: 5

Sheet qualif
A1: 1 | B1: Ayrton SENNA | C1: Lotus | D1: Renault | E1: 1'19''843 | G1: 170.344 | I1: =A1 -> 1
A2: 2 | B2: Nigel MANSELL | C2: Williams | D2: Honda | E2: 1'20''537 | F2: 0.694 | G2: 168.876 | H2: 100.869 | I2: =A2 -> 2
A3: 3 | B3: Keke ROSBERG | C3: Williams | D3: Honda | E3: 1'21''887 | F3: 2.044 | G3: 166.092 | H3: 102.560 | I3: =A3 -> 3
A4: 4 | B4: Alain PROST | C4: McLaren | D4: TAG Porsche | E4: 1'21''889 | F4: 2.046 | G4: 166.088 | H4: 102.563 | I4: =A4 -> 4
A5: 5 | B5: Michele ALBORETO | C5: Ferrari | D5: Ferrari | E5: 1'22''337 | F5: 2.494 | G5: 165.185 | H5: 103.124 | I5: =A5 -> 5
A6: 6 | B6: Marc SURER | C6: Brabham | D6: BMW | E6: 1'22''561 | F6: 2.718 | G6: 164.736 | H6: 103.404 | I6: =A6 -> 6
A7: 7 | B7: Gerhard BERGER | C7: Arrows | D7: BMW | E7: 1'22''592 | F7: 2.749 | G7: 164.675 | H7: 103.443 | I7: =A7 -> 7
A8: 8 | B8: Patrick TAMBAY | C8: Renault | D8: Renault | E8: 1'22''683 | F8: 2.840 | G8: 164.493 | H8: 103.557 | I8: =A8 -> 8
A9: 9 | B9: Nelson PIQUET | C9: Brabham | D9: BMW | E9: 1'22''718 | F9: 2.875 | G9: 164.424 | H9: 103.601 | I9: =A9 -> 9
A10: 10 | B10: Elio De ANGELIS | C10: Lotus | D10: Renault | E10: 1'23''077 | F10: 3.234 | G10: 163.713 | H10: 104.050 | I10: =A10 -> 10
A11: 11 | B11: Thierry BOUTSEN | C11: Arrows | D11: BMW | E11: 1'23''196 | F11: 3.353 | G11: 163.479 | H11: 104.199 | I11: =A11 -> 11
A12: 12 | B12: Derek WARWICK | C12: Renault | D12: Renault | E12: 1'23''426 | F12: 3.583 | G12: 163.028 | H12: 104.488 | I12: =A12 -> 12
A13: 13 | B13: Eddie CHEEVER | C13: Alfa Romeo | D13: Alfa Romeo | E13: 1'23''597 | F13: 3.754 | G13: 162.695 | H13: 104.702 | I13: =A13 -> 13
... A24: 24 | B24: Teo FABI | C24: Toleman | D24: Hart | E24: 1'28''110 | F24: 8.267 | G24: 154.362 | H24: 110.354 | I24: =A24 -> 24
A25: 25 | B25: Huub ROTHENGATTER | C25: Osella | D25: Alfa Romeo | E25: 1'30''319 | F25: 10 | I25: =A25 -> 25
I26: =A26 -> 0
I27: =A27 -> 0
I28: =A28 -> 0
I29: =A29 -> 0
I30: =A30 -> 0
I31: =A31 -> 0
I32: =A32 -> 0
I33: =A33 -> 0

Sheet gd_prix
A1: clé | B1: date | C1: saison | D1: circuit | E1: pays | F1: n°_grand_prix | G1: nb_tours | H1: distance | I1: total_course | J1: vainqueur | K1: meilleur_tour | M1: pole_position | O1: tour_en_tête
A2: =C2&E2 -> 1985Australie | B2: 31354 | C2: =YEAR(B2) -> 1985 | D2: Adelaïde | E2: Australie | F2: 420 | G2: 82 | H2: 3.778 | I2: =G2*H2 -> 309.796 | J2: {=INDEX(aus_stats!$I:$I,MATCH($C2&$E2&"1",aus_stats!$D:$D&aus_stats!$F:$F&"1",0))} -> Keke ROSBERG | K2: {=INDEX(aus_stats!$I:$I,(MATCH($C2&$E2&$L2,aus_stats!$D:$D&aus_stats!$F:$F&aus_stats!$P:$P,0)))} -> #N/A | L2: {=INDEX(aus_stats!$P:$P,(MATCH($C2&$E2&"1",aus_stats!$D:$D&aus_stats!$F:$F&aus_stats!#REF!,0)))} -> #N/A | M2: {=INDEX(aus_stats!$I:$I,(MATCH($C2&$E2&"1",aus_stats!$D:$D&aus_stats!$F:$F&aus_stats!$Q:$Q,0)))} -> Ayrton SENNA | N2: {=INDEX(aus_stats!$R:$R,(MATCH($C2&$M2,aus_stats!$D:$D&aus_stats!$I:$I,0)))} -> 1'19''843
A3: =C3&E3 -> 1986Australie | B3: 31711 | C3: =YEAR(B3) -> 1986 | D3: Adelaïde | E3: Australie | F3: 436 | G3: 82 | H3: 3.779 | I3: =G3*H3 -> 309.878 | J3: {=INDEX(aus_stats!$I:$I,MATCH($C3&$E3&"1",aus_stats!$D:$D&aus_stats!$F:$F&"1",0))} -> Alain PROST | K3: {=INDEX(aus_stats!$I:$I,(MATCH($C3&$E3&$L3,aus_stats!$D:$D&aus_stats!$F:$F&aus_stats!$P:$P,0)))} -> #N/A | L3: {=INDEX(aus_stats!$P:$P,(MATCH($C3&$E3&"1",aus_stats!$D:$D&aus_stats!$F:$F&aus_stats!#REF!,0)))} -> #N/A | M3: {=INDEX(aus_stats!$I:$I,(MATCH($C3&$E3&"1",aus_stats!$D:$D&aus_stats!$F:$F&aus_stats!$Q:$Q,0)))} -> Nigel MANSELL | N3: {=INDEX(aus_stats!$R:$R,(MATCH($C3&$M3,aus_stats!$D:$D&aus_stats!$I:$I,0)))} -> 1'18''403
A4: =C4&E4 -> 1987Australie | B4: 32096 | C4: =YEAR(B4) -> 1987 | D4: Adelaïde | E4: Australie | F4: 452 | G4: 82 | H4: 3.779 | I4: =G4*H4 -> 309.878 | J4: {=INDEX(aus_stats!$I:$I,MATCH($C4&$E4&"1",aus_stats!$D:$D&aus_stats!$F:$F&"1",0))} -> Gerhard BERGER | K4: {=INDEX(aus_stats!$I:$I,(MATCH($C4&$E4&$L4,aus_stats!$D:$D&aus_stats!$F:$F&aus_stats!$P:$P,0)))} -> #N/A | L4: {=INDEX(aus_stats!$P:$P,(MATCH($C4&$E4&"1",aus_stats!$D:$D&aus_stats!$F:$F&aus_stats!#REF!,0)))} -> #N/A | M4: {=INDEX(aus_stats!$I:$I,(MATCH($C4&$E4&"1",aus_stats!$D:$D&aus_stats!$F:$F&aus_stats!$Q:$Q,0)))} -> Gerhard BERGER | N4: {=INDEX(aus_stats!$R:$R,(MATCH($C4&$M4,aus_stats!$D:$D&aus_stats!$I:$I,0)))} -> 1'17''267
A5: =C5&E5 -> 1988Australie | B5: 32460 | C5: =YEAR(B5) -> 1988 | D5: Adelaïde | E5: Australie | F5: 468 | G5: 82 | H5: 3.78 | I5: =G5*H5 -> 309.96 | J5: {=INDEX(aus_stats!$I:$I,MATCH($C5&$E5&"1",aus_stats!$D:$D&aus_stats!$F:$F&"1",0))} -> Alain PROST | K5: {=INDEX(aus_stats!$I:$I,(MATCH($C5&$E5&$L5,aus_stats!$D:$D&aus_stats!$F:$F&aus_stats!$P:$P,0)))} -> #N/A | L5: {=INDEX(aus_stats!$P:$P,(MATCH($C5&$E5&"1",aus_stats!$D:$D&aus_stats!$F:$F&aus_stats!#REF!,0)))} -> #N/A | M5: {=INDEX(aus_stats!$I:$I,(MATCH($C5&$E5&"1",aus_stats!$D:$D&aus_stats!$F:$F&aus_stats!$Q:$Q,0)))} -> Ayrton SENNA | N5: {=INDEX(aus_stats!$R:$R,(MATCH($C5&$M5,aus_stats!$D:$D&aus_stats!$I:$I,0)))} -> 1'17''748
A6: =C6&E6 -> 1989Australie | B6: 32817 | C6: =YEAR(B6) -> 1989 | D6: Adelaïde | E6: Australie | F6: 484 | G6: 70 | H6: 3.78 | I6: =G6*H6 -> 264.6 | J6: {=INDEX(aus_stats!$I:$I,MATCH($C6&$E6&"1",aus_stats!$D:$D&aus_stats!$F:$F&"1",0))} -> Thierry BOUTSEN | K6: {=INDEX(aus_stats!$I:$I,(MATCH($C6&$E6&$L6,aus_stats!$D:$D&aus_stats!$F:$F&aus_stats!$P:$P,0)))} -> #N/A | L6: {=INDEX(aus_stats!$P:$P,(MATCH($C6&$E6&"1",aus_stats!$D:$D&aus_stats!$F:$F&aus_stats!#REF!,0)))} -> #N/A | M6: {=INDEX(aus_stats!$I:$I,(MATCH($C6&$E6&"1",aus_stats!$D:$D&aus_stats!$F:$F&aus_stats!$Q:$Q,0)))} -> Ayrton SENNA | N6: {=INDEX(aus_stats!$R:$R,(MATCH($C6&$M6,aus_stats!$D:$D&aus_stats!$I:$I,0)))} -> 1'16''665
A7: =C7&E7 -> 1990Australie | B7: 33181 | C7: =YEAR(B7) -> 1990 | D7: Adelaïde | E7: Australie | F7: 500 | G7: 81 | H7: 3.78 | I7: =G7*H7 -> 306.18 | J7: {=INDEX(aus_stats!$I:$I,MATCH($C7&$E7&"1",aus_stats!$D:$D&aus_stats!$F:$F&"1",0))} -> Nelson PIQUET | K7: {=INDEX(aus_stats!$I:$I,(MATCH($C7&$E7&$L7,aus_stats!$D:$D&aus_stats!$F:$F&aus_stats!$P:$P,0)))} -> #N/A | L7: {=INDEX(aus_stats!$P:$P,(MATCH($C7&$E7&"1",aus_stats!$D:$D&aus_stats!$F:$F&aus_stats!#REF!,0)))} -> #N/A | M7: {=INDEX(aus_stats!$I:$I,(MATCH($C7&$E7&"1",aus_stats!$D:$D&aus_stats!$F:$F&aus_stats!$Q:$Q,0)))} -> Ayrton SENNA | N7: {=INDEX(aus_stats!$R:$R,(MATCH($C7&$M7,aus_stats!$D:$D&aus_stats!$I:$I,0)))} -> 1'15''671
A8: =C8&E8 -> 1991Australie | B8: 33545 | C8: =YEAR(B8) -> 1991 | D8: Adelaïde | E8: Australie | F8: 516 | G8: 14 | H8: 3.78 | I8: =G8*H8 -> 52.92 | J8: {=INDEX(aus_stats!$I:$I,MATCH($C8&$E8&"1",aus_stats!$D:$D&aus_stats!$F:$F&"1",0))} -> Ayrton SENNA | K8: {=INDEX(aus_stats!$I:$I,(MATCH($C8&$E8&$L8,aus_stats!$D:$D&aus_stats!$F:$F&aus_stats!$P:$P,0)))} -> #N/A | L8: {=INDEX(aus_stats!$P:$P,(MATCH($C8&$E8&"1",aus_stats!$D:$D&aus_stats!$F:$F&aus_stats!#REF!,0)))} -> #N/A | M8: {=INDEX(aus_stats!$I:$I,(MATCH($C8&$E8&"1",aus_stats!$D:$D&aus_stats!$F:$F&aus_stats!$Q:$Q,0)))} -> Ayrton SENNA | N8: {=INDEX(aus_stats!$R:$R,(MATCH($C8&$M8,aus_stats!$D:$D&aus_stats!$I:$I,0)))} -> 1'14''041
A9: =C9&E9 -> 1992Australie | B9: 33916 | C9: =YEAR(B9) -> 1992 | D9: Adelaïde | E9: Australie | F9: 532 | G9: 81 | H9: 3.78 | I9: =G9*H9 -> 306.18 | J9: {=INDEX(aus_stats!$I:$I,MATCH($C9&$E9&"1",aus_stats!$D:$D&aus_stats!$F:$F&"1",0))} -> Gerhard BERGER | K9: {=INDEX(aus_stats!$I:$I,(MATCH($C9&$E9&$L9,aus_stats!$D:$D&aus_stats!$F:$F&aus_stats!$P:$P,0)))} -> #N/A | L9: {=INDEX(aus_stats!$P:$P,(MATCH($C9&$E9&"1",aus_stats!$D:$D&aus_stats!$F:$F&aus_stats!#REF!,0)))} -> #N/A | M9: {=INDEX(aus_stats!$I:$I,(MATCH($C9&$E9&"1",aus_stats!$D:$D&aus_stats!$F:$F&aus_stats!$Q:$Q,0)))} -> Nigel MANSELL | N9: {=INDEX(aus_stats!$R:$R,(MATCH($C9&$M9,aus_stats!$D:$D&aus_stats!$I:$I,0)))} -> 1'13''732
A10: =C10&E10 -> 1993Australie | B10: 34280 | C10: =YEAR(B10) -> 1993 | D10: Adelaïde | E10: Australie | F10: 548 | G10: 79 | H10: 3.78 | I10: =G10*H10 -> 298.62 | J10: {=INDEX(aus_stats!$I:$I,MATCH($C10&$E10&"1",aus_stats!$D:$D&aus_stats!$F:$F&"1",0))} -> Ayrton SENNA | K10: {=INDEX(aus_stats!$I:$I,(MATCH($C10&$E10&$L10,aus_stats!$D:$D&aus_stats!$F:$F&aus_stats!$P:$P,0)))} -> #N/A | L10: {=INDEX(aus_stats!$P:$P,(MATCH($C10&$E10&"1",aus_stats!$D:$D&aus_stats!$F:$F&aus_stats!#REF!,0)))} -> #N/A | M10: {=INDEX(aus_stats!$I:$I,(MATCH($C10&$E10&"1",aus_stats!$D:$D&aus_stats!$F:$F&aus_stats!$Q:$Q,0)))} -> Ayrton SENNA | N10: {=INDEX(aus_stats!$R:$R,(MATCH($C10&$M10,aus_stats!$D:$D&aus_stats!$I:$I,0)))} -> 1'13''371
A11: =C11&E11 -> 1994Australie | B11: 34651 | C11: =YEAR(B11) -> 1994 | D11: Adelaïde | E11: Australie | F11: 564 | G11: 81 | H11: 3.78 | I11: =G11*H11 -> 306.18 | J11: {=INDEX(aus_stats!$I:$I,MATCH($C11&$E11&"1",aus_stats!$D:$D&aus_stats!$F:$F&"1",0))} -> Nigel MANSELL | K11: {=INDEX(aus_stats!$I:$I,(MATCH($C11&$E11&$L11,aus_stats!$D:$D&aus_stats!$F:$F&aus_stats!$P:$P,0)))} -> #N/A | L11: {=INDEX(aus_stats!$P:$P,(MATCH($C11&$E11&"1",aus_stats!$D:$D&aus_stats!$F:$F&aus_stats!#REF!,0)))} -> #N/A | M11: {=INDEX(aus_stats!$I:$I,(MATCH($C11&$E11&"1",aus_stats!$D:$D&aus_stats!$F:$F&aus_stats!$Q:$Q,0)))} -> Nigel MANSELL | N11: {=INDEX(aus_stats!$R:$R,(MATCH($C11&$M11,aus_stats!$D:$D&aus_stats!$I:$I,0)))} -> 1'16''179
A12: =C12&E12 -> 1995Australie | B12: 35015 | C12: =YEAR(B12) -> 1995 | D12: Adelaïde | E12: Australie | F12: 581 | G12: 81 | H12: 3.78 | I12: =G12*H12 -> 306.18 | J12: {=INDEX(aus_stats!$I:$I,MATCH($C12&$E12&"1",aus_stats!$D:$D&aus_stats!$F:$F&"1",0))} -> Damon HILL | K12: {=INDEX(aus_stats!$I:$I,(MATCH($C12&$E12&$L12,aus_stats!$D:$D&aus_stats!$F:$F&aus_stats!$P:$P,0)))} -> #N/A | L12: {=INDEX(aus_stats!$P:$P,(MATCH($C12&$E12&"1",aus_stats!$D:$D&aus_stats!$F:$F&aus_stats!#REF!,0)))} -> #N/A | M12: {=INDEX(aus_stats!$I:$I,(MATCH($C12&$E12&"1",aus_stats!$D:$D&aus_stats!$F:$F&aus_stats!$Q:$Q,0)))} -> Damon HILL | N12: {=INDEX(aus_stats!$R:$R,(MATCH($C12&$M12,aus_stats!$D:$D&aus_stats!$I:$I,0)))} -> 1'15''505
A13: =C13&E13 -> 1996Australie | B13: 35134 | C13: =YEAR(B13) -> 1996 | D13: Melbourne | E13: Australie | F13: 582 | G13: 58 | H13: 5.302 | I13: =G13*H13 -> 307.516 | J13: {=INDEX(aus_stats!$I:$I,MATCH($C13&$E13&"1",aus_stats!$D:$D&aus_stats!$F:$F&"1",0))} -> Damon HILL | K13: {=INDEX(aus_stats!$I:$I,(MATCH($C13&$E13&$L13,aus_stats!$D:$D&aus_stats!$F:$F&aus_stats!$P:$P,0)))} -> #N/A | L13: {=INDEX(aus_stats!$P:$P,(MATCH($C13&$E13&"1",aus_stats!$D:$D&aus_stats!$F:$F&aus_stats!#REF!,0)))} -> #N/A | M13: {=INDEX(aus_stats!$I:$I,(MATCH($C13&$E13&"1",aus_stats!$D:$D&aus_stats!$F:$F&aus_stats!$Q:$Q,0)))} -> Jacques VILLENEUVE | N13: {=INDEX(aus_stats!$R:$R,(MATCH($C13&$M13,aus_stats!$D:$D&aus_stats!$I:$I,0)))} -> 1'32''371
... A36: =C36&E36 -> 2019Australie | B36: 43541 | C36: =YEAR(B36) -> 2019 | D36: Melbourne | E36: Australie | F36: 998 | G36: 58 | H36: 5.303 | I36: =G36*H36 -> 307.574 | J36: {=INDEX(aus_stats!$I:$I,MATCH($C36&$E36&"1",aus_stats!$D:$D&aus_stats!$F:$F&"1",0))} -> Valtteri BOTTAS | K36: {=INDEX(aus_stats!$I:$I,(MATCH($C36&$E36&$L36,aus_stats!$D:$D&aus_stats!$F:$F&aus_stats!$P:$P,0)))} -> #N/A | L36: {=INDEX(aus_stats!$P:$P,(MATCH($C36&$E36&"1",aus_stats!$D:$D&aus_stats!$F:$F&aus_stats!#REF!,0)))} -> #N/A | M36: {=INDEX(aus_stats!$I:$I,(MATCH($C36&$E36&"1",aus_stats!$D:$D&aus_stats!$F:$F&aus_stats!$Q:$Q,0)))} -> Lewis HAMILTON | N36: {=INDEX(aus_stats!$R:$R,(MATCH($C36&$M36,aus_stats!$D:$D&aus_stats!$I:$I,0)))} -> 1'20''486
