Workbook

Sheet aus_stats
A1: clé_gp | B1: clé | C1: date | D1: saison | E1: circuit | F1: pays | G1: position_course | H1: n° | I1: pilote | J1: constructeur | K1: moteur | L1: tours_course | M1: points | O1: rang | P1: meilleur_tour | Q1: position_grille | R1: temps_qualification | S1: tour_en_tête | T1: conversion_tour | U1: conversion_qualif | V1: écart_tour_qualif
A2: =D2&"_"&UPPER(LEFT(F2,3)) -> 2019_AUS | B2: =$D2&"_"&UPPER(LEFT($F2,3))&"#"&$G2 -> 2019_AUS#1 | C2: 43541 | D2: =YEAR(C2) -> 2019 | E2: Melbourne | F2: Australie | G2: 1 | H2: 77 | I2: Valtteri BOTTAS | J2: Mercedes | K2: Mercedes | L2: 58 | M2: 26 | O2: =RANK($T2,INDIRECT(VLOOKUP(aus_stats!$A2,zone!$A:$K,6,FALSE),1),1) -> #N/A | P2: 1'25''580 | Q2: 2 | R2: 1'20''598 | S2: 56 | T2: =IF(ISBLANK($P2),"",LEFT($P2,1)*60+(RIGHT(LEFT($P2,4),2))+("0,"&RIGHT($P2,3))) -> 85.58 | U2: =IF(ISBLANK($R2),"",LEFT($R2,1)*60+(RIGHT(LEFT($R2,4),2))+("0,"&RIGHT($R2,3))) -> 80.598 | V2: =IF(OR($T2="",$U2=""),"",$T2-$U2) -> 4.982
A3: =D3&"_"&UPPER(LEFT(F3,3)) -> 2019_AUS | B3: =$D3&"_"&UPPER(LEFT($F3,3))&"#"&$G3 -> 2019_AUS#2 | C3: 43541 | D3: =YEAR(C3) -> 2019 | E3: Melbourne | F3: Australie | G3: 2 | H3: 44 | I3: Lewis HAMILTON | J3: Mercedes | K3: Mercedes | L3: 58 | M3: 18 | O3: =RANK($T3,INDIRECT(VLOOKUP(aus_stats!$A3,zone!$A:$K,6,FALSE),1),1) -> #N/A | P3: 1'26''057 | Q3: 1 | R3: 1'20''486 | T3: =IF(ISBLANK($P3),"",LEFT($P3,1)*60+(RIGHT(LEFT($P3,4),2))+("0,"&RIGHT($P3,3))) -> 86.057 | U3: =IF(ISBLANK($R3),"",LEFT($R3,1)*60+(RIGHT(LEFT($R3,4),2))+("0,"&RIGHT($R3,3))) -> 80.486 | V3: =IF(OR($T3="",$U3=""),"",$T3-$U3) -> 5.571
A4: =D4&"_"&UPPER(LEFT(F4,3)) -> 2019_AUS | B4: =$D4&"_"&UPPER(LEFT($F4,3))&"#"&$G4 -> 2019_AUS#3 | C4: 43541 | D4: =YEAR(C4) -> 2019 | E4: Melbourne | F4: Australie | G4: 3 | H4: 33 | I4: Max VERSTAPPEN | J4: Red Bull | K4: Honda | L4: 58 | M4: 15 | O4: =RANK($T4,INDIRECT(VLOOKUP(aus_stats!$A4,zone!$A:$K,6,FALSE),1),1) -> #N/A | P4: 1'26''256 | Q4: 4 | R4: 1'21''320 | S4: 2 | T4: =IF(ISBLANK($P4),"",LEFT($P4,1)*60+(RIGHT(LEFT($P4,4),2))+("0,"&RIGHT($P4,3))) -> 86.256 | U4: =IF(ISBLANK($R4),"",LEFT($R4,1)*60+(RIGHT(LEFT($R4,4),2))+("0,"&RIGHT($R4,3))) -> 81.32 | V4: =IF(OR($T4="",$U4=""),"",$T4-$U4) -> 4.936
A5: =D5&"_"&UPPER(LEFT(F5,3)) -> 2019_AUS | B5: =$D5&"_"&UPPER(LEFT($F5,3))&"#"&$G5 -> 2019_AUS#4 | C5: 43541 | D5: =YEAR(C5) -> 2019 | E5: Melbourne | F5: Australie | G5: 4 | H5: 5 | I5: Sebastian VETTEL | J5: Ferrari | K5: Ferrari | L5: 58 | M5: 12 | P5: 1'27''954 | Q5: 3 | R5: 1'21''190 | T5: =IF(ISBLANK($P5),"",LEFT($P5,1)*60+(RIGHT(LEFT($P5,4),2))+("0,"&RIGHT($P5,3))) -> 87.954 | U5: =IF(ISBLANK($R5),"",LEFT($R5,1)*60+(RIGHT(LEFT($R5,4),2))+("0,"&RIGHT($R5,3))) -> 81.19 | V5: =IF(OR($T5="",$U5=""),"",$T5-$U5) -> 6.764
A6: =D6&"_"&UPPER(LEFT(F6,3)) -> 2019_AUS | B6: =$D6&"_"&UPPER(LEFT($F6,3))&"#"&$G6 -> 2019_AUS#5 | C6: 43541 | D6: =YEAR(C6) -> 2019 | E6: Melbourne | F6: Australie | G6: 5 | H6: 16 | I6: Charles LECLERC | J6: Ferrari | K6: Ferrari | L6: 58 | M6: 10 | P6: 1'26''926 | Q6: 5 | R6: 1'21''442 | T6: =IF(ISBLANK($P6),"",LEFT($P6,1)*60+(RIGHT(LEFT($P6,4),2))+("0,"&RIGHT($P6,3))) -> 86.926 | U6: =IF(ISBLANK($R6),"",LEFT($R6,1)*60+(RIGHT(LEFT($R6,4),2))+("0,"&RIGHT($R6,3))) -> 81.442 | V6: =IF(OR($T6="",$U6=""),"",$T6-$U6) -> 5.484
A7: =D7&"_"&UPPER(LEFT(F7,3)) -> 2019_AUS | B7: =$D7&"_"&UPPER(LEFT($F7,3))&"#"&$G7 -> 2019_AUS#6 | C7: 43541 | D7: =YEAR(C7) -> 2019 | E7: Melbourne | F7: Australie | G7: 6 | H7: 20 | I7: Kevin MAGNUSSEN | J7: Haas | K7: Ferrari | L7: 58 | M7: 8 | P7: 1'28''182 | Q7: 7 | R7: 1'22''099 | T7: =IF(ISBLANK($P7),"",LEFT($P7,1)*60+(RIGHT(LEFT($P7,4),2))+("0,"&RIGHT($P7,3))) -> 88.182 | U7: =IF(ISBLANK($R7),"",LEFT($R7,1)*60+(RIGHT(LEFT($R7,4),2))+("0,"&RIGHT($R7,3))) -> 82.099 | V7: =IF(OR($T7="",$U7=""),"",$T7-$U7) -> 6.083
A8: =D8&"_"&UPPER(LEFT(F8,3)) -> 2019_AUS | B8: =$D8&"_"&UPPER(LEFT($F8,3))&"#"&$G8 -> 2019_AUS#7 | C8: 43541 | D8: =YEAR(C8) -> 2019 | E8: Melbourne | F8: Australie | G8: 7 | H8: 27 | I8: Nico HULKENBERG | J8: Renault | K8: Renault | L8: 57 | M8: 6 | P8: 1'28''444 | Q8: 11 | R8: 1'22''562 | T8: =IF(ISBLANK($P8),"",LEFT($P8,1)*60+(RIGHT(LEFT($P8,4),2))+("0,"&RIGHT($P8,3))) -> 88.444 | U8: =IF(ISBLANK($R8),"",LEFT($R8,1)*60+(RIGHT(LEFT($R8,4),2))+("0,"&RIGHT($R8,3))) -> 82.562 | V8: =IF(OR($T8="",$U8=""),"",$T8-$U8) -> 5.882
A9: =D9&"_"&UPPER(LEFT(F9,3)) -> 2019_AUS | B9: =$D9&"_"&UPPER(LEFT($F9,3))&"#"&$G9 -> 2019_AUS#8 | C9: 43541 | D9: =YEAR(C9) -> 2019 | E9: Melbourne | F9: Australie | G9: 8 | H9: 7 | I9: Kimi RAIKKONEN | J9: Alfa Romeo | K9: Ferrari | L9: 57 | M9: 4 | P9: 1'28''270 | Q9: 9 | R9: 1'22''314 | T9: =IF(ISBLANK($P9),"",LEFT($P9,1)*60+(RIGHT(LEFT($P9,4),2))+("0,"&RIGHT($P9,3))) -> 88.27 | U9: =IF(ISBLANK($R9),"",LEFT($R9,1)*60+(RIGHT(LEFT($R9,4),2))+("0,"&RIGHT($R9,3))) -> 82.314 | V9: =IF(OR($T9="",$U9=""),"",$T9-$U9) -> 5.956
A10: =D10&"_"&UPPER(LEFT(F10,3)) -> 2019_AUS | B10: =$D10&"_"&UPPER(LEFT($F10,3))&"#"&$G10 -> 2019_AUS#9 | C10: 43541 | D10: =YEAR(C10) -> 2019 | E10: Melbourne | F10: Australie | G10: 9 | H10: 18 | I10: Lance STROLL | J10: Racing Point | K10: BWT Mercedes | L10: 57 | M10: 2 | P10: 1'27''568 | Q10: 16 | R10: 1'23''017 | T10: =IF(ISBLANK($P10),"",LEFT($P10,1)*60+(RIGHT(LEFT($P10,4),2))+("0,"&RIGHT($P10,3))) -> 87.568 | U10: =IF(ISBLANK($R10),"",LEFT($R10,1)*60+(RIGHT(LEFT($R10,4),2))+("0,"&RIGHT($R10,3))) -> 83.017 | V10: =IF(OR($T10="",$U10=""),"",$T10-$U10) -> 4.551
A11: =D11&"_"&UPPER(LEFT(F11,3)) -> 2019_AUS | B11: =$D11&"_"&UPPER(LEFT($F11,3))&"#"&$G11 -> 2019_AUS#10 | C11: 43541 | D11: =YEAR(C11) -> 2019 | E11: Melbourne | F11: Australie | G11: 10 | H11: 26 | I11: Daniil KVYAT | J11: Toro Rosso | K11: Honda | L11: 57 | M11: 1 | P11: 1'27''448 | Q11: 15 | R11: 1'22''774 | T11: =IF(ISBLANK($P11),"",LEFT($P11,1)*60+(RIGHT(LEFT($P11,4),2))+("0,"&RIGHT($P11,3))) -> 87.448 | U11: =IF(ISBLANK($R11),"",LEFT($R11,1)*60+(RIGHT(LEFT($R11,4),2))+("0,"&RIGHT($R11,3))) -> 82.774 | V11: =IF(OR($T11="",$U11=""),"",$T11-$U11) -> 4.674
A12: =D12&"_"&UPPER(LEFT(F12,3)) -> 2019_AUS | B12: =$D12&"_"&UPPER(LEFT($F12,3))&"#"&$G12 -> 2019_AUS#11 | C12: 43541 | D12: =YEAR(C12) -> 2019 | E12: Melbourne | F12: Australie | G12: 11 | H12: 10 | I12: Pierre GASLY | J12: Red Bull | K12: Honda | L12: 57 | P12: 1'27''229 | Q12: 17 | R12: 1'23''020 | T12: =IF(ISBLANK($P12),"",LEFT($P12,1)*60+(RIGHT(LEFT($P12,4),2))+("0,"&RIGHT($P12,3))) -> 87.229 | U12: =IF(ISBLANK($R12),"",LEFT($R12,1)*60+(RIGHT(LEFT($R12,4),2))+("0,"&RIGHT($R12,3))) -> 83.02 | V12: =IF(OR($T12="",$U12=""),"",$T12-$U12) -> 4.209
A13: =D13&"_"&UPPER(LEFT(F13,3)) -> 2019_AUS | B13: =$D13&"_"&UPPER(LEFT($F13,3))&"#"&$G13 -> 2019_AUS#12 | C13: 43541 | D13: =YEAR(C13) -> 2019 | E13: Melbourne | F13: Australie | G13: 12 | H13: 4 | I13: Lando NORRIS | J13: McLaren | K13: Renault | L13: 57 | P13: 1'28''555 | Q13: 8 | R13: 1'22''304 | T13: =IF(ISBLANK($P13),"",LEFT($P13,1)*60+(RIGHT(LEFT($P13,4),2))+("0,"&RIGHT($P13,3))) -> 88.555 | U13: =IF(ISBLANK($R13),"",LEFT($R13,1)*60+(RIGHT(LEFT($R13,4),2))+("0,"&RIGHT($R13,3))) -> 82.304 | V13: =IF(OR($T13="",$U13=""),"",$T13-$U13) -> 6.251
A14: =D14&"_"&UPPER(LEFT(F14,3)) -> 2019_AUS | B14: =$D14&"_"&UPPER(LEFT($F14,3))&"#"&$G14 -> 2019_AUS#13 | C14: 43541 | D14: =YEAR(C14) -> 2019 | E14: Melbourne | F14: Australie | G14: 13 | H14: 11 | I14: Sergio PEREZ | J14: Racing Point | K14: BWT Mercedes | L14: 57 | P14: 1'28''485 | Q14: 10 | R14: 1'22''781 | T14: =IF(ISBLANK($P14),"",LEFT($P14,1)*60+(RIGHT(LEFT($P14,4),2))+("0,"&RIGHT($P14,3))) -> 88.485 | U14: =IF(ISBLANK($R14),"",LEFT($R14,1)*60+(RIGHT(LEFT($R14,4),2))+("0,"&RIGHT($R14,3))) -> 82.781 | V14: =IF(OR($T14="",$U14=""),"",$T14-$U14) -> 5.704
A15: =D15&"_"&UPPER(LEFT(F15,3)) -> 2019_AUS | B15: =$D15&"_"&UPPER(LEFT($F15,3))&"#"&$G15 -> 2019_AUS#14 | C15: 43541 | D15: =YEAR(C15) -> 2019 | E15: Melbourne | F15: Australie | G15: 14 | H15: 23 | I15: Alexander ALBON | J15: Toro Rosso | K15: Honda | L15: 57 | P15: 1'28''188 | Q15: 13 | R15: 1'22''636 | T15: =IF(ISBLANK($P15),"",LEFT($P15,1)*60+(RIGHT(LEFT($P15,4),2))+("0,"&RIGHT($P15,3))) -> 88.188 | U15: =IF(ISBLANK($R15),"",LEFT($R15,1)*60+(RIGHT(LEFT($R15,4),2))+("0,"&RIGHT($R15,3))) -> 82.636 | V15: =IF(OR($T15="",$U15=""),"",$T15-$U15) -> 5.552
A16: =D16&"_"&UPPER(LEFT(F16,3)) -> 2019_AUS | B16: =$D16&"_"&UPPER(LEFT($F16,3))&"#"&$G16 -> 2019_AUS#15 | C16: 43541 | D16: =YEAR(C16) -> 2019 | E16: Melbourne | F16: Australie | G16: 15 | H16: 99 | I16: Antonio GIOVINAZZI | J16: Alfa Romeo | K16: Ferrari | L16: 57 | P16: 1'28''479 | Q16: 14 | R16: 1'22''714 | T16: =IF(ISBLANK($P16),"",LEFT($P16,1)*60+(RIGHT(LEFT($P16,4),2))+("0,"&RIGHT($P16,3))) -> 88.479 | U16: =IF(ISBLANK($R16),"",LEFT($R16,1)*60+(RIGHT(LEFT($R16,4),2))+("0,"&RIGHT($R16,3))) -> 82.714 | V16: =IF(OR($T16="",$U16=""),"",$T16-$U16) -> 5.765
A17: =D17&"_"&UPPER(LEFT(F17,3)) -> 2019_AUS | B17: =$D17&"_"&UPPER(LEFT($F17,3))&"#"&$G17 -> 2019_AUS#16 | C17: 43541 | D17: =YEAR(C17) -> 2019 | E17: Melbourne | F17: Australie | G17: 16 | H17: 63 | I17: George RUSSELL | J17: Williams | K17: Mercedes | L17: 56 | P17: 1'28''713 | Q17: 19 | R17: 1'24''360 | T17: =IF(ISBLANK($P17),"",LEFT($P17,1)*60+(RIGHT(LEFT($P17,4),2))+("0,"&RIGHT($P17,3))) -> 88.713 | U17: =IF(ISBLANK($R17),"",LEFT($R17,1)*60+(RIGHT(LEFT($R17,4),2))+("0,"&RIGHT($R17,3))) -> 84.36 | V17: =IF(OR($T17="",$U17=""),"",$T17-$U17) -> 4.353
A18: =D18&"_"&UPPER(LEFT(F18,3)) -> 2019_AUS | B18: =$D18&"_"&UPPER(LEFT($F18,3))&"#"&$G18 -> 2019_AUS#17 | C18: 43541 | D18: =YEAR(C18) -> 2019 | E18: Melbourne | F18: Australie | G18: 17 | H18: 88 | I18: Robert KUBICA | J18: Williams | K18: Mercedes | L18: 55 | P18: 1'29''284 | Q18: 20 | R18: 1'26''067 | T18: =IF(ISBLANK($P18),"",LEFT($P18,1)*60+(RIGHT(LEFT($P18,4),2))+("0,"&RIGHT($P18,3))) -> 89.284 | U18: =IF(ISBLANK($R18),"",LEFT($R18,1)*60+(RIGHT(LEFT($R18,4),2))+("0,"&RIGHT($R18,3))) -> 86.067 | V18: =IF(OR($T18="",$U18=""),"",$T18-$U18) -> 3.217
A19: =D19&"_"&UPPER(LEFT(F19,3)) -> 2019_AUS | B19: =$D19&"_"&UPPER(LEFT($F19,3))&"#"&$G19 -> 2019_AUS#ab | C19: 43541 | D19: =YEAR(C19) -> 2019 | E19: Melbourne | F19: Australie | G19: ab | H19: 8 | I19: Romain GROSJEAN | J19: Haas | K19: Ferrari | L19: 29 | P19: 1'28''462 | Q19: 6 | R19: 1'21''826 | T19: =IF(ISBLANK($P19),"",LEFT($P19,1)*60+(RIGHT(LEFT($P19,4),2))+("0,"&RIGHT($P19,3))) -> 88.462 | U19: =IF(ISBLANK($R19),"",LEFT($R19,1)*60+(RIGHT(LEFT($R19,4),2))+("0,"&RIGHT($R19,3))) -> 81.826 | V19: =IF(OR($T19="",$U19=""),"",$T19-$U19) -> 6.636
A20: =D20&"_"&UPPER(LEFT(F20,3)) -> 2019_AUS | B20: =$D20&"_"&UPPER(LEFT($F20,3))&"#"&$G20 -> 2019_AUS#ab | C20: 43541 | D20: =YEAR(C20) -> 2019 | E20: Melbourne | F20: Australie | G20: ab | H20: 3 | I20: Daniel RICCIARDO | J20: Renault | K20: Renault | L20: 28 | P20: 1'29''848 | Q20: 12 | R20: 1'22''570 | T20: =IF(ISBLANK($P20),"",LEFT($P20,1)*60+(RIGHT(LEFT($P20,4),2))+("0,"&RIGHT($P20,3))) -> 89.848 | U20: =IF(ISBLANK($R20),"",LEFT($R20,1)*60+(RIGHT(LEFT($R20,4),2))+("0,"&RIGHT($R20,3))) -> 82.57 | V20: =IF(OR($T20="",$U20=""),"",$T20-$U20) -> 7.278
A21: =D21&"_"&UPPER(LEFT(F21,3)) -> 2019_AUS | B21: =$D21&"_"&UPPER(LEFT($F21,3))&"#"&$G21 -> 2019_AUS#ab | C21: 43541 | D21: =YEAR(C21) -> 2019 | E21: Melbourne | F21: Australie | G21: ab | H21: 55 | I21: Carlos SAINZ | J21: McLaren | K21: Renault | L21: 9 | P21: 1'30''899 | Q21: 18 | R21: 1'23''084 | T21: =IF(ISBLANK($P21),"",LEFT($P21,1)*60+(RIGHT(LEFT($P21,4),2))+("0,"&RIGHT($P21,3))) -> 90.899 | U21: =IF(ISBLANK($R21),"",LEFT($R21,1)*60+(RIGHT(LEFT($R21,4),2))+("0,"&RIGHT($R21,3))) -> 83.084 | V21: =IF(OR($T21="",$U21=""),"",$T21-$U21) -> 7.815
A22: =D22&"_"&UPPER(LEFT(F22,3)) -> 2018_AUS | B22: =$D22&"_"&UPPER(LEFT($F22,3))&"#"&$G22 -> 2018_AUS#1 | C22: 43184 | D22: =YEAR(C22) -> 2018 | E22: Melbourne | F22: Australie | G22: 1 | H22: 5 | I22: Sebastian VETTEL | J22: Ferrari | K22: Ferrari | L22: 58 | M22: 25 | P22: 1'26''469 | Q22: 3 | R22: 1'21''838 | S22: 40 | T22: =IF(ISBLANK($P22),"",LEFT($P22,1)*60+(RIGHT(LEFT($P22,4),2))+("0,"&RIGHT($P22,3))) -> 86.469 | U22: =IF(ISBLANK($R22),"",LEFT($R22,1)*60+(RIGHT(LEFT($R22,4),2))+("0,"&RIGHT($R22,3))) -> 81.838 | V22: =IF(OR($T22="",$U22=""),"",$T22-$U22) -> 4.631
A23: =D23&"_"&UPPER(LEFT(F23,3)) -> 2018_AUS | B23: =$D23&"_"&UPPER(LEFT($F23,3))&"#"&$G23 -> 2018_AUS#2 | C23: 43184 | D23: =YEAR(C23) -> 2018 | E23: Melbourne | F23: Australie | G23: 2 | H23: 44 | I23: Lewis HAMILTON | J23: Mercedes | K23: Mercedes | L23: 58 | M23: 18 | P23: 1'26''444 | Q23: 1 | R23: 1'21''164 | S23: 18 | T23: =IF(ISBLANK($P23),"",LEFT($P23,1)*60+(RIGHT(LEFT($P23,4),2))+("0,"&RIGHT($P23,3))) -> 86.444 | U23: =IF(ISBLANK($R23),"",LEFT($R23,1)*60+(RIGHT(LEFT($R23,4),2))+("0,"&RIGHT($R23,3))) -> 81.164 | V23: =IF(OR($T23="",$U23=""),"",$T23-$U23) -> 5.28
A24: =D24&"_"&UPPER(LEFT(F24,3)) -> 2018_AUS | B24: =$D24&"_"&UPPER(LEFT($F24,3))&"#"&$G24 -> 2018_AUS#3 | C24: 43184 | D24: =YEAR(C24) -> 2018 | E24: Melbourne | F24: Australie | G24: 3 | H24: 7 | I24: Kimi RAIKKONEN | J24: Ferrari | K24: Ferrari | L24: 58 | M24: 15 | P24: 1'26''373 | Q24: 2 | R24: 1'21''828 | T24: =IF(ISBLANK($P24),"",LEFT($P24,1)*60+(RIGHT(LEFT($P24,4),2))+("0,"&RIGHT($P24,3))) -> 86.373 | U24: =IF(ISBLANK($R24),"",LEFT($R24,1)*60+(RIGHT(LEFT($R24,4),2))+("0,"&RIGHT($R24,3))) -> 81.828 | V24: =IF(OR($T24="",$U24=""),"",$T24-$U24) -> 4.545
A25: =D25&"_"&UPPER(LEFT(F25,3)) -> 2018_AUS | B25: =$D25&"_"&UPPER(LEFT($F25,3))&"#"&$G25 -> 2018_AUS#4 | C25: 43184 | D25: =YEAR(C25) -> 2018 | E25: Melbourne | F25: Australie | G25: 4 | H25: 3 | I25: Daniel RICCIARDO | J25: Red Bull | K25: TAG Heuer | L25: 58 | M25: 12 | P25: 1'25''945 | Q25: 5 | R25: 1'22''152 | T25: =IF(ISBLANK($P25),"",LEFT($P25,1)*60+(RIGHT(LEFT($P25,4),2))+("0,"&RIGHT($P25,3))) -> 85.945 | U25: =IF(ISBLANK($R25),"",LEFT($R25,1)*60+(RIGHT(LEFT($R25,4),2))+("0,"&RIGHT($R25,3))) -> 82.152 | V25: =IF(OR($T25="",$U25=""),"",$T25-$U25) -> 3.793
A26: =D26&"_"&UPPER(LEFT(F26,3)) -> 2018_AUS | B26: =$D26&"_"&UPPER(LEFT($F26,3))&"#"&$G26 -> 2018_AUS#5 | C26: 43184 | D26: =YEAR(C26) -> 2018 | E26: Melbourne | F26: Australie | G26: 5 | H26: 14 | I26: Fernando ALONSO | J26: McLaren | K26: Renault | L26: 58 | M26: 10 | P26: 1'26''978 | Q26: 11 | R26: 1'23''692 | T26: =IF(ISBLANK($P26),"",LEFT($P26,1)*60+(RIGHT(LEFT($P26,4),2))+("0,"&RIGHT($P26,3))) -> 86.978 | U26: =IF(ISBLANK($R26),"",LEFT($R26,1)*60+(RIGHT(LEFT($R26,4),2))+("0,"&RIGHT($R26,3))) -> 83.692 | V26: =IF(OR($T26="",$U26=""),"",$T26-$U26) -> 3.286
A27: =D27&"_"&UPPER(LEFT(F27,3)) -> 2018_AUS | B27: =$D27&"_"&UPPER(LEFT($F27,3))&"#"&$G27 -> 2018_AUS#6 | C27: 43184 | D27: =YEAR(C27) -> 2018 | E27: Melbourne | F27: Australie | G27: 6 | H27: 33 | I27: Max VERSTAPPEN | J27: Red Bull | K27: TAG Heuer | L27: 58 | M27: 8 | P27: 1'26''880 | Q27: 4 | R27: 1'21''879 | T27: =IF(ISBLANK($P27),"",LEFT($P27,1)*60+(RIGHT(LEFT($P27,4),2))+("0,"&RIGHT($P27,3))) -> 86.88 | U27: =IF(ISBLANK($R27),"",LEFT($R27,1)*60+(RIGHT(LEFT($R27,4),2))+("0,"&RIGHT($R27,3))) -> 81.879 | V27: =IF(OR($T27="",$U27=""),"",$T27-$U27) -> 5.001
A28: =D28&"_"&UPPER(LEFT(F28,3)) -> 2018_AUS | B28: =$D28&"_"&UPPER(LEFT($F28,3))&"#"&$G28 -> 2018_AUS#7 | C28: 43184 | D28: =YEAR(C28) -> 2018 | E28: Melbourne | F28: Australie | G28: 7 | H28: 27 | I28: Nico HULKENBERG | J28: Renault | K28: Renault | L28: 58 | M28: 6 | P28: 1'27''081 | Q28: 8 | R28: 1'23''532 | T28: =IF(ISBLANK($P28),"",LEFT($P28,1)*60+(RIGHT(LEFT($P28,4),2))+("0,"&RIGHT($P28,3))) -> 87.081 | U28: =IF(ISBLANK($R28),"",LEFT($R28,1)*60+(RIGHT(LEFT($R28,4),2))+("0,"&RIGHT($R28,3))) -> 83.532 | V28: =IF(OR($T28="",$U28=""),"",$T28-$U28) -> 3.549
A29: =D29&"_"&UPPER(LEFT(F29,3)) -> 2018_AUS | B29: =$D29&"_"&UPPER(LEFT($F29,3))&"#"&$G29 -> 2018_AUS#8 | C29: 43184 | D29: =YEAR(C29) -> 2018 | E29: Melbourne | F29: Australie | G29: 8 | H29: 77 | I29: Valtteri BOTTAS | J29: Mercedes | K29: Mercedes | L29: 58 | M29: 4 | P29: 1'27''019 | Q29: 10 | T29: =IF(ISBLANK($P29),"",LEFT($P29,1)*60+(RIGHT(LEFT($P29,4),2))+("0,"&RIGHT($P29,3))) -> 87.019 | U29: =IF(ISBLANK($R29),"",LEFT($R29,1)*60+(RIGHT(LEFT($R29,4),2))+("0,"&RIGHT($R29,3))) | V29: =IF(OR($T29="",$U29=""),"",$T29-$U29)
A30: =D30&"_"&UPPER(LEFT(F30,3)) -> 2018_AUS | B30: =$D30&"_"&UPPER(LEFT($F30,3))&"#"&$G30 -> 2018_AUS#9 | C30: 43184 | D30: =YEAR(C30) -> 2018 | E30: Melbourne | F30: Australie | G30: 9 | H30: 2 | I30: Stoffel VANDOORNE | J30: McLaren | K30: Renault | L30: 58 | M30: 2 | P30: 1'26''958 | Q30: 12 | R30: 1'23''853 | T30: =IF(ISBLANK($P30),"",LEFT($P30,1)*60+(RIGHT(LEFT($P30,4),2))+("0,"&RIGHT($P30,3))) -> 86.958 | U30: =IF(ISBLANK($R30),"",LEFT($R30,1)*60+(RIGHT(LEFT($R30,4),2))+("0,"&RIGHT($R30,3))) -> 83.853 | V30: =IF(OR($T30="",$U30=""),"",$T30-$U30) -> 3.105
A31: =D31&"_"&UPPER(LEFT(F31,3)) -> 2018_AUS | B31: =$D31&"_"&UPPER(LEFT($F31,3))&"#"&$G31 -> 2018_AUS#10 | C31: 43184 | D31: =YEAR(C31) -> 2018 | E31: Melbourne | F31: Australie | G31: 10 | H31: 55 | I31: Carlos SAINZ | J31: Renault | K31: Renault | L31: 58 | M31: 1 | P31: 1'27''944 | Q31: 9 | R31: 1'23''577 | T31: =IF(ISBLANK($P31),"",LEFT($P31,1)*60+(RIGHT(LEFT($P31,4),2))+("0,"&RIGHT($P31,3))) -> 87.944 | U31: =IF(ISBLANK($R31),"",LEFT($R31,1)*60+(RIGHT(LEFT($R31,4),2))+("0,"&RIGHT($R31,3))) -> 83.577 | V31: =IF(OR($T31="",$U31=""),"",$T31-$U31) -> 4.367
A32: =D32&"_"&UPPER(LEFT(F32,3)) -> 2018_AUS | B32: =$D32&"_"&UPPER(LEFT($F32,3))&"#"&$G32 -> 2018_AUS#11 | C32: 43184 | D32: =YEAR(C32) -> 2018 | E32: Melbourne | F32: Australie | G32: 11 | H32: 11 | I32: Sergio PEREZ | J32: Force India | K32: Mercedes | L32: 58 | P32: 1'27''633 | Q32: 13 | R32: 1'24''005 | T32: =IF(ISBLANK($P32),"",LEFT($P32,1)*60+(RIGHT(LEFT($P32,4),2))+("0,"&RIGHT($P32,3))) -> 87.633 | U32: =IF(ISBLANK($R32),"",LEFT($R32,1)*60+(RIGHT(LEFT($R32,4),2))+("0,"&RIGHT($R32,3))) -> 84.005 | V32: =IF(OR($T32="",$U32=""),"",$T32-$U32) -> 3.628
A33: =D33&"_"&UPPER(LEFT(F33,3)) -> 2018_AUS | B33: =$D33&"_"&UPPER(LEFT($F33,3))&"#"&$G33 -> 2018_AUS#12 | C33: 43184 | D33: =YEAR(C33) -> 2018 | E33: Melbourne | F33: Australie | G33: 12 | H33: 31 | I33: Esteban OCON | J33: Force India | K33: Mercedes | L33: 58 | P33: 1'27''600 | Q33: 15 | R33: 1'24''786 | T33: =IF(ISBLANK($P33),"",LEFT($P33,1)*60+(RIGHT(LEFT($P33,4),2))+("0,"&RIGHT($P33,3))) -> 87.6 | U33: =IF(ISBLANK($R33),"",LEFT($R33,1)*60+(RIGHT(LEFT($R33,4),2))+("0,"&RIGHT($R33,3))) -> 84.786 | V33: =IF(OR($T33="",$U33=""),"",$T33-$U33) -> 2.814
A34: =D34&"_"&UPPER(LEFT(F34,3)) -> 2018_AUS | B34: =$D34&"_"&UPPER(LEFT($F34,3))&"#"&$G34 -> 2018_AUS#13 | C34: 43184 | D34: =YEAR(C34) -> 2018 | E34: Melbourne | F34: Australie | G34: 13 | H34: 16 | I34: Charles LECLERC | J34: Sauber | K34: Ferrari | L34: 58 | P34: 1'28''759 | Q34: 18 | R34: 1'24''636 | T34: =IF(ISBLANK($P34),"",LEFT($P34,1)*60+(RIGHT(LEFT($P34,4),2))+("0,"&RIGHT($P34,3))) -> 88.759 | U34: =IF(ISBLANK($R34),"",LEFT($R34,1)*60+(RIGHT(LEFT($R34,4),2))+("0,"&RIGHT($R34,3))) -> 84.636 | V34: =IF(OR($T34="",$U34=""),"",$T34-$U34) -> 4.123
A35: =D35&"_"&UPPER(LEFT(F35,3)) -> 2018_AUS | B35: =$D35&"_"&UPPER(LEFT($F35,3))&"#"&$G35 -> 2018_AUS#14 | C35: 43184 | D35: =YEAR(C35) -> 2018 | E35: Melbourne | F35: Australie | G35: 14 | H35: 18 | I35: Lance STROLL | J35: Williams | K35: Mercedes | L35: 58 | P35: 1'28''511 | Q35: 14 | R35: 1'24''230 | T35: =IF(ISBLANK($P35),"",LEFT($P35,1)*60+(RIGHT(LEFT($P35,4),2))+("0,"&RIGHT($P35,3))) -> 88.511 | U35: =IF(ISBLANK($R35),"",LEFT($R35,1)*60+(RIGHT(LEFT($R35,4),2))+("0,"&RIGHT($R35,3))) -> 84.23 | V35: =IF(OR($T35="",$U35=""),"",$T35-$U35) -> 4.281
A36: =D36&"_"&UPPER(LEFT(F36,3)) -> 2018_AUS | B36: =$D36&"_"&UPPER(LEFT($F36,3))&"#"&$G36 -> 2018_AUS#15 | C36: 43184 | D36: =YEAR(C36) -> 2018 | E36: Melbourne | F36: Australie | G36: 15 | H36: 28 | I36: Brendon HARTLEY | J36: Toro Rosso | K36: Honda | L36: 57 | P36: 1'28''176 | Q36: 16 | R36: 1'24''532 | T36: =IF(ISBLANK($P36),"",LEFT($P36,1)*60+(RIGHT(LEFT($P36,4),2))+("0,"&RIGHT($P36,3))) -> 88.176 | U36: =IF(ISBLANK($R36),"",LEFT($R36,1)*60+(RIGHT(LEFT($R36,4),2))+("0,"&RIGHT($R36,3))) -> 84.532 | V36: =IF(OR($T36="",$U36=""),"",$T36-$U36) -> 3.644
A37: =D37&"_"&UPPER(LEFT(F37,3)) -> 2018_AUS | B37: =$D37&"_"&UPPER(LEFT($F37,3))&"#"&$G37 -> 2018_AUS#ab | C37: 43184 | D37: =YEAR(C37) -> 2018 | E37: Melbourne | F37: Australie | G37: ab | H37: 8 | I37: Romain GROSJEAN | J37: Haas | K37: Ferrari | L37: 24 | P37: 1'28''805 | Q37: 7 | R37: 1'23''339 | T37: =IF(ISBLANK($P37),"",LEFT($P37,1)*60+(RIGHT(LEFT($P37,4),2))+("0,"&RIGHT($P37,3))) -> 88.805 | U37: =IF(ISBLANK($R37),"",LEFT($R37,1)*60+(RIGHT(LEFT($R37,4),2))+("0,"&RIGHT($R37,3))) -> 83.339 | V37: =IF(OR($T37="",$U37=""),"",$T37-$U37) -> 5.466
A38: =D38&"_"&UPPER(LEFT(F38,3)) -> 2018_AUS | B38: =$D38&"_"&UPPER(LEFT($F38,3))&"#"&$G38 -> 2018_AUS#ab | C38: 43184 | D38: =YEAR(C38) -> 2018 | E38: Melbourne | F38: Australie | G38: ab | H38: 20 | I38: Kevin MAGNUSSEN | J38: Haas | K38: Ferrari | L38: 22 | P38: 1'29''534 | Q38: 6 | R38: 1'23''187 | T38: =IF(ISBLANK($P38),"",LEFT($P38,1)*60+(RIGHT(LEFT($P38,4),2))+("0,"&RIGHT($P38,3))) -> 89.534 | U38: =IF(ISBLANK($R38),"",LEFT($R38,1)*60+(RIGHT(LEFT($R38,4),2))+("0,"&RIGHT($R38,3))) -> 83.187 | V38: =IF(OR($T38="",$U38=""),"",$T38-$U38) -> 6.347
A39: =D39&"_"&UPPER(LEFT(F39,3)) -> 2018_AUS | B39: =$D39&"_"&UPPER(LEFT($F39,3))&"#"&$G39 -> 2018_AUS#ab | C39: 43184 | D39: =YEAR(C39) -> 2018 | E39: Melbourne | F39: Australie | G39: ab | H39: 10 | I39: Pierre GASLY | J39: Toro Rosso | K39: Honda | L39: 13 | P39: 1'30''649 | Q39: 20 | R39: 1'25''295 | T39: =IF(ISBLANK($P39),"",LEFT($P39,1)*60+(RIGHT(LEFT($P39,4),2))+("0,"&RIGHT($P39,3))) -> 90.649 | U39: =IF(ISBLANK($R39),"",LEFT($R39,1)*60+(RIGHT(LEFT($R39,4),2))+("0,"&RIGHT($R39,3))) -> 85.295 | V39: =IF(OR($T39="",$U39=""),"",$T39-$U39) -> 5.354
A40: =D40&"_"&UPPER(LEFT(F40,3)) -> 2018_AUS | B40: =$D40&"_"&UPPER(LEFT($F40,3))&"#"&$G40 -> 2018_AUS#ab | C40: 43184 | D40: =YEAR(C40) -> 2018 | E40: Melbourne | F40: Australie | G40: ab | H40: 9 | I40: Marcus ERICSSON | J40: Sauber | K40: Ferrari | L40: 5 | P40: 1'32''210 | Q40: 17 | R40: 1'24''556 | T40: =IF(ISBLANK($P40),"",LEFT($P40,1)*60+(RIGHT(LEFT($P40,4),2))+("0,"&RIGHT($P40,3))) -> 92.21 | U40: =IF(ISBLANK($R40),"",LEFT($R40,1)*60+(RIGHT(LEFT($R40,4),2))+("0,"&RIGHT($R40,3))) -> 84.556 | V40: =IF(OR($T40="",$U40=""),"",$T40-$U40) -> 7.654
A41: =D41&"_"&UPPER(LEFT(F41,3)) -> 2018_AUS | B41: =$D41&"_"&UPPER(LEFT($F41,3))&"#"&$G41 -> 2018_AUS#ab | C41: 43184 | D41: =YEAR(C41) -> 2018 | E41: Melbourne | F41: Australie | G41: ab | H41: 35 | I41: Sergey SIROTKIN | J41: Williams | K41: Mercedes | L41: 4 | P41: 1'32''573 | Q41: 19 | R41: 1'24''922 | T41: =IF(ISBLANK($P41),"",LEFT($P41,1)*60+(RIGHT(LEFT($P41,4),2))+("0,"&RIGHT($P41,3))) -> 92.573 | U41: =IF(ISBLANK($R41),"",LEFT($R41,1)*60+(RIGHT(LEFT($R41,4),2))+("0,"&RIGHT($R41,3))) -> 84.922 | V41: =IF(OR($T41="",$U41=""),"",$T41-$U41) -> 7.651
A42: =D42&"_"&UPPER(LEFT(F42,3)) -> 2017_AUS | B42: =$D42&"_"&UPPER(LEFT($F42,3))&"#"&$G42 -> 2017_AUS#1 | C42: 42820 | D42: =YEAR(C42) -> 2017 | E42: Melbourne | F42: Australie | G42: 1 | H42: 5 | I42: Sebastian VETTEL | J42: Ferrari | K42: Ferrari | L42: 57 | M42: 25 | P42: 1'26''638 | Q42: 2 | R42: 1'22''456 | S42: 38 | T42: =IF(ISBLANK($P42),"",LEFT($P42,1)*60+(RIGHT(LEFT($P42,4),2))+("0,"&RIGHT($P42,3))) -> 86.638 | U42: =IF(ISBLANK($R42),"",LEFT($R42,1)*60+(RIGHT(LEFT($R42,4),2))+("0,"&RIGHT($R42,3))) -> 82.456 | V42: =IF(OR($T42="",$U42=""),"",$T42-$U42) -> 4.182
A43: =D43&"_"&UPPER(LEFT(F43,3)) -> 2017_AUS | B43: =$D43&"_"&UPPER(LEFT($F43,3))&"#"&$G43 -> 2017_AUS#2 | C43: 42820 | D43: =YEAR(C43) -> 2017 | E43: Melbourne | F43: Australie | G43: 2 | H43: 44 | I43: Lewis HAMILTON | J43: Mercedes | K43: Mercedes | L43: 57 | M43: 18 | P43: 1'27''033 | Q43: 1 | R43: 1'22''188 | S43: 16 | T43: =IF(ISBLANK($P43),"",LEFT($P43,1)*60+(RIGHT(LEFT($P43,4),2))+("0,"&RIGHT($P43,3))) -> 87.033 | U43: =IF(ISBLANK($R43),"",LEFT($R43,1)*60+(RIGHT(LEFT($R43,4),2))+("0,"&RIGHT($R43,3))) -> 82.188 | V43: =IF(OR($T43="",$U43=""),"",$T43-$U43) -> 4.845
A44: =D44&"_"&UPPER(LEFT(F44,3)) -> 2017_AUS | B44: =$D44&"_"&UPPER(LEFT($F44,3))&"#"&$G44 -> 2017_AUS#3 | C44: 42820 | D44: =YEAR(C44) -> 2017 | E44: Melbourne | F44: Australie | G44: 3 | H44: 77 | I44: Valtteri BOTTAS | J44: Mercedes | K44: Mercedes | L44: 57 | M44: 15 | P44: 1'26''593 | Q44: 3 | R44: 1'22''481 | S44: 2 | T44: =IF(ISBLANK($P44),"",LEFT($P44,1)*60+(RIGHT(LEFT($P44,4),2))+("0,"&RIGHT($P44,3))) -> 86.593 | U44: =IF(ISBLANK($R44),"",LEFT($R44,1)*60+(RIGHT(LEFT($R44,4),2))+("0,"&RIGHT($R44,3))) -> 82.481 | V44: =IF(OR($T44="",$U44=""),"",$T44-$U44) -> 4.112
A45: =D45&"_"&UPPER(LEFT(F45,3)) -> 2017_AUS | B45: =$D45&"_"&UPPER(LEFT($F45,3))&"#"&$G45 -> 2017_AUS#4 | C45: 42820 | D45: =YEAR(C45) -> 2017 | E45: Melbourne | F45: Australie | G45: 4 | H45: 7 | I45: Kimi RAIKKONEN | J45: Ferrari | K45: Ferrari | L45: 57 | M45: 12 | P45: 1'26''538 | Q45: 4 | R45: 1'23''033 | S45: 1 | T45: =IF(ISBLANK($P45),"",LEFT($P45,1)*60+(RIGHT(LEFT($P45,4),2))+("0,"&RIGHT($P45,3))) -> 86.538 | U45: =IF(ISBLANK($R45),"",LEFT($R45,1)*60+(RIGHT(LEFT($R45,4),2))+("0,"&RIGHT($R45,3))) -> 83.033 | V45: =IF(OR($T45="",$U45=""),"",$T45-$U45) -> 3.505
A46: =D46&"_"&UPPER(LEFT(F46,3)) -> 2017_AUS | B46: =$D46&"_"&UPPER(LEFT($F46,3))&"#"&$G46 -> 2017_AUS#5 | C46: 42820 | D46: =YEAR(C46) -> 2017 | E46: Melbourne | F46: Australie | G46: 5 | H46: 33 | I46: Max VERSTAPPEN | J46: Red Bull | K46: TAG Heuer | L46: 57 | M46: 10 | P46: 1'26''964 | Q46: 5 | R46: 1'23''485 | T46: =IF(ISBLANK($P46),"",LEFT($P46,1)*60+(RIGHT(LEFT($P46,4),2))+("0,"&RIGHT($P46,3))) -> 86.964 | U46: =IF(ISBLANK($R46),"",LEFT($R46,1)*60+(RIGHT(LEFT($R46,4),2))+("0,"&RIGHT($R46,3))) -> 83.485 | V46: =IF(OR($T46="",$U46=""),"",$T46-$U46) -> 3.479
A47: =D47&"_"&UPPER(LEFT(F47,3)) -> 2017_AUS | B47: =$D47&"_"&UPPER(LEFT($F47,3))&"#"&$G47 -> 2017_AUS#6 | C47: 42820 | D47: =YEAR(C47) -> 2017 | E47: Melbourne | F47: Australie | G47: 6 | H47: 19 | I47: Felipe MASSA | J47: Williams | K47: Mercedes | L47: 57 | M47: 8 | P47: 1'28''045 | Q47: 7 | R47: 1'24''443 | T47: =IF(ISBLANK($P47),"",LEFT($P47,1)*60+(RIGHT(LEFT($P47,4),2))+("0,"&RIGHT($P47,3))) -> 88.045 | U47: =IF(ISBLANK($R47),"",LEFT($R47,1)*60+(RIGHT(LEFT($R47,4),2))+("0,"&RIGHT($R47,3))) -> 84.443 | V47: =IF(OR($T47="",$U47=""),"",$T47-$U47) -> 3.602
A48: =D48&"_"&UPPER(LEFT(F48,3)) -> 2017_AUS | B48: =$D48&"_"&UPPER(LEFT($F48,3))&"#"&$G48 -> 2017_AUS#7 | C48: 42820 | D48: =YEAR(C48) -> 2017 | E48: Melbourne | F48: Australie | G48: 7 | H48: 11 | I48: Sergio PEREZ | J48: Force India | K48: Mercedes | L48: 56 | M48: 6 | P48: 1'28''336 | Q48: 11 | R48: 1'25''081 | T48: =IF(ISBLANK($P48),"",LEFT($P48,1)*60+(RIGHT(LEFT($P48,4),2))+("0,"&RIGHT($P48,3))) -> 88.336 | U48: =IF(ISBLANK($R48),"",LEFT($R48,1)*60+(RIGHT(LEFT($R48,4),2))+("0,"&RIGHT($R48,3))) -> 85.081 | V48: =IF(OR($T48="",$U48=""),"",$T48-$U48) -> 3.255
A49: =D49&"_"&UPPER(LEFT(F49,3)) -> 2017_AUS | B49: =$D49&"_"&UPPER(LEFT($F49,3))&"#"&$G49 -> 2017_AUS#8 | C49: 42820 | D49: =YEAR(C49) -> 2017 | E49: Melbourne | F49: Australie | G49: 8 | H49: 55 | I49: Carlos SAINZ | J49: Toro Rosso | K49: Renault | L49: 56 | M49: 4 | P49: 1'27''677 | Q49: 8 | R49: 1'24''487 | T49: =IF(ISBLANK($P49),"",LEFT($P49,1)*60+(RIGHT(LEFT($P49,4),2))+("0,"&RIGHT($P49,3))) -> 87.677 | U49: =IF(ISBLANK($R49),"",LEFT($R49,1)*60+(RIGHT(LEFT($R49,4),2))+("0,"&RIGHT($R49,3))) -> 84.487 | V49: =IF(OR($T49="",$U49=""),"",$T49-$U49) -> 3.19
A50: =D50&"_"&UPPER(LEFT(F50,3)) -> 2017_AUS | B50: =$D50&"_"&UPPER(LEFT($F50,3))&"#"&$G50 -> 2017_AUS#9 | C50: 42820 | D50: =YEAR(C50) -> 2017 | E50: Melbourne | F50: Australie | G50: 9 | H50: 26 | I50: Daniil KVYAT | J50: Toro Rosso | K50: Renault | L50: 56 | M50: 2 | P50: 1'26''711 | Q50: 9 | R50: 1'24''512 | T50: =IF(ISBLANK($P50),"",LEFT($P50,1)*60+(RIGHT(LEFT($P50,4),2))+("0,"&RIGHT($P50,3))) -> 86.711 | U50: =IF(ISBLANK($R50),"",LEFT($R50,1)*60+(RIGHT(LEFT($R50,4),2))+("0,"&RIGHT($R50,3))) -> 84.512 | V50: =IF(OR($T50="",$U50=""),"",$T50-$U50) -> 2.199
A51: =D51&"_"&UPPER(LEFT(F51,3)) -> 2017_AUS | B51: =$D51&"_"&UPPER(LEFT($F51,3))&"#"&$G51 -> 2017_AUS#10 | C51: 42820 | D51: =YEAR(C51) -> 2017 | E51: Melbourne | F51: Australie | G51: 10 | H51: 31 | I51: Esteban OCON | J51: Force India | K51: Mercedes | L51: 56 | M51: 1 | P51: 1'28''475 | Q51: 14 | R51: 1'25''568 | T51: =IF(ISBLANK($P51),"",LEFT($P51,1)*60+(RIGHT(LEFT($P51,4),2))+("0,"&RIGHT($P51,3))) -> 88.475 | U51: =IF(ISBLANK($R51),"",LEFT($R51,1)*60+(RIGHT(LEFT($R51,4),2))+("0,"&RIGHT($R51,3))) -> 85.568 | V51: =IF(OR($T51="",$U51=""),"",$T51-$U51) -> 2.907
A52: =D52&"_"&UPPER(LEFT(F52,3)) -> 2017_AUS | B52: =$D52&"_"&UPPER(LEFT($F52,3))&"#"&$G52 -> 2017_AUS#11 | C52: 42820 | D52: =YEAR(C52) -> 2017 | E52: Melbourne | F52: Australie | G52: 11 | H52: 27 | I52: Nico HULKENBERG | J52: Renault | K52: Renault | L52: 56 | P52: 1'28''486 | Q52: 12 | R52: 1'25''091 | T52: =IF(ISBLANK($P52),"",LEFT($P52,1)*60+(RIGHT(LEFT($P52,4),2))+("0,"&RIGHT($P52,3))) -> 88.486 | U52: =IF(ISBLANK($R52),"",LEFT($R52,1)*60+(RIGHT(LEFT($R52,4),2))+("0,"&RIGHT($R52,3))) -> 85.091 | V52: =IF(OR($T52="",$U52=""),"",$T52-$U52) -> 3.395
A53: =D53&"_"&UPPER(LEFT(F53,3)) -> 2017_AUS | B53: =$D53&"_"&UPPER(LEFT($F53,3))&"#"&$G53 -> 2017_AUS#12 | C53: 42820 | D53: =YEAR(C53) -> 2017 | E53: Melbourne | F53: Australie | G53: 12 | H53: 36 | I53: Antonio GIOVINAZZI | J53: Sauber | K53: Ferrari | L53: 55 | P53: 1'29''052 | Q53: 16 | R53: 1'26''419 | T53: =IF(ISBLANK($P53),"",LEFT($P53,1)*60+(RIGHT(LEFT($P53,4),2))+("0,"&RIGHT($P53,3))) -> 89.052 | U53: =IF(ISBLANK($R53),"",LEFT($R53,1)*60+(RIGHT(LEFT($R53,4),2))+("0,"&RIGHT($R53,3))) -> 86.419 | V53: =IF(OR($T53="",$U53=""),"",$T53-$U53) -> 2.633
A54: =D54&"_"&UPPER(LEFT(F54,3)) -> 2017_AUS | B54: =$D54&"_"&UPPER(LEFT($F54,3))&"#"&$G54 -> 2017_AUS#13 | C54: 42820 | D54: =YEAR(C54) -> 2017 | E54: Melbourne | F54: Australie | G54: 13 | H54: 2 | I54: Stoffel VANDOORNE | J54: McLaren | K54: Honda | L54: 55 | P54: 1'29''440 | Q54: 18 | R54: 1'26''858 | T54: =IF(ISBLANK($P54),"",LEFT($P54,1)*60+(RIGHT(LEFT($P54,4),2))+("0,"&RIGHT($P54,3))) -> 89.44 | U54: =IF(ISBLANK($R54),"",LEFT($R54,1)*60+(RIGHT(LEFT($R54,4),2))+("0,"&RIGHT($R54,3))) -> 86.858 | V54: =IF(OR($T54="",$U54=""),"",$T54-$U54) -> 2.582
A55: =D55&"_"&UPPER(LEFT(F55,3)) -> 2017_AUS | B55: =$D55&"_"&UPPER(LEFT($F55,3))&"#"&$G55 -> 2017_AUS#ab | C55: 42820 | D55: =YEAR(C55) -> 2017 | E55: Melbourne | F55: Australie | G55: ab | H55: 14 | I55: Fernando ALONSO | J55: McLaren | K55: Honda | L55: 50 | P55: 1'30''077 | Q55: 13 | R55: 1'25''425 | T55: =IF(ISBLANK($P55),"",LEFT($P55,1)*60+(RIGHT(LEFT($P55,4),2))+("0,"&RIGHT($P55,3))) -> 90.077 | U55: =IF(ISBLANK($R55),"",LEFT($R55,1)*60+(RIGHT(LEFT($R55,4),2))+("0,"&RIGHT($R55,3))) -> 85.425 | V55: =IF(OR($T55="",$U55=""),"",$T55-$U55) -> 4.652
A56: =D56&"_"&UPPER(LEFT(F56,3)) -> 2017_AUS | B56: =$D56&"_"&UPPER(LEFT($F56,3))&"#"&$G56 -> 2017_AUS#ab | C56: 42820 | D56: =YEAR(C56) -> 2017 | E56: Melbourne | F56: Australie | G56: ab | H56: 20 | I56: Kevin MAGNUSSEN | J56: Haas | K56: Ferrari | L56: 46 | P56: 1'27''568 | Q56: 17 | R56: 1'26''847 | T56: =IF(ISBLANK($P56),"",LEFT($P56,1)*60+(RIGHT(LEFT($P56,4),2))+("0,"&RIGHT($P56,3))) -> 87.568 | U56: =IF(ISBLANK($R56),"",LEFT($R56,1)*60+(RIGHT(LEFT($R56,4),2))+("0,"&RIGHT($R56,3))) -> 86.847 | V56: =IF(OR($T56="",$U56=""),"",$T56-$U56) -> 0.721
A57: =D57&"_"&UPPER(LEFT(F57,3)) -> 2017_AUS | B57: =$D57&"_"&UPPER(LEFT($F57,3))&"#"&$G57 -> 2017_AUS#ab | C57: 42820 | D57: =YEAR(C57) -> 2017 | E57: Melbourne | F57: Australie | G57: ab | H57: 18 | I57: Lance STROLL | J57: Williams | K57: Mercedes | L57: 40 | P57: 1'29''389 | Q57: 19 | R57: 1'27''143 | T57: =IF(ISBLANK($P57),"",LEFT($P57,1)*60+(RIGHT(LEFT($P57,4),2))+("0,"&RIGHT($P57,3))) -> 89.389 | U57: =IF(ISBLANK($R57),"",LEFT($R57,1)*60+(RIGHT(LEFT($R57,4),2))+("0,"&RIGHT($R57,3))) -> 87.143 | V57: =IF(OR($T57="",$U57=""),"",$T57-$U57) -> 2.246
A58: =D58&"_"&UPPER(LEFT(F58,3)) -> 2017_AUS | B58: =$D58&"_"&UPPER(LEFT($F58,3))&"#"&$G58 -> 2017_AUS#ab | C58: 42820 | D58: =YEAR(C58) -> 2017 | E58: Melbourne | F58: Australie | G58: ab | H58: 3 | I58: Daniel RICCIARDO | J58: Red Bull | K58: TAG Heuer | L58: 25 | P58: 1'29''447 | Q58: 10 | T58: =IF(ISBLANK($P58),"",LEFT($P58,1)*60+(RIGHT(LEFT($P58,4),2))+("0,"&RIGHT($P58,3))) -> 89.447 | U58: =IF(ISBLANK($R58),"",LEFT($R58,1)*60+(RIGHT(LEFT($R58,4),2))+("0,"&RIGHT($R58,3))) | V58: =IF(OR($T58="",$U58=""),"",$T58-$U58)
A59: =D59&"_"&UPPER(LEFT(F59,3)) -> 2017_AUS | B59: =$D59&"_"&UPPER(LEFT($F59,3))&"#"&$G59 -> 2017_AUS#ab | C59: 42820 | D59: =YEAR(C59) -> 2017 | E59: Melbourne | F59: Australie | G59: ab | H59: 9 | I59: Marcus ERICSSON | J59: Sauber | K59: Ferrari | L59: 21 | P59: 1'32''052 | Q59: 15 | R59: 1'26''465 | T59: =IF(ISBLANK($P59),"",LEFT($P59,1)*60+(RIGHT(LEFT($P59,4),2))+("0,"&RIGHT($P59,3))) -> 92.052 | U59: =IF(ISBLANK($R59),"",LEFT($R59,1)*60+(RIGHT(LEFT($R59,4),2))+("0,"&RIGHT($R59,3))) -> 86.465 | V59: =IF(OR($T59="",$U59=""),"",$T59-$U59) -> 5.587
A60: =D60&"_"&UPPER(LEFT(F60,3)) -> 2017_AUS | B60: =$D60&"_"&UPPER(LEFT($F60,3))&"#"&$G60 -> 2017_AUS#ab | C60: 42820 | D60: =YEAR(C60) -> 2017 | E60: Melbourne | F60: Australie | G60: ab | H60: 30 | I60: Jolyon PALMER | J60: Renault | K60: Renault | L60: 15 | Q60: 20 | R60: 1'28''244 | T60: =IF(ISBLANK($P60),"",LEFT($P60,1)*60+(RIGHT(LEFT($P60,4),2))+("0,"&RIGHT($P60,3))) | U60: =IF(ISBLANK($R60),"",LEFT($R60,1)*60+(RIGHT(LEFT($R60,4),2))+("0,"&RIGHT($R60,3))) -> 88.244 | V60: =IF(OR($T60="",$U60=""),"",$T60-$U60)
A61: =D61&"_"&UPPER(LEFT(F61,3)) -> 2017_AUS | B61: =$D61&"_"&UPPER(LEFT($F61,3))&"#"&$G61 -> 2017_AUS#ab | C61: 42820 | D61: =YEAR(C61) -> 2017 | E61: Melbourne | F61: Australie | G61: ab | H61: 8 | I61: Romain GROSJEAN | J61: Haas | K61: Ferrari | L61: 13 | P61: 1'30''183 | Q61: 6 | R61: 1'24''074 | T61: =IF(ISBLANK($P61),"",LEFT($P61,1)*60+(RIGHT(LEFT($P61,4),2))+("0,"&RIGHT($P61,3))) -> 90.183 | U61: =IF(ISBLANK($R61),"",LEFT($R61,1)*60+(RIGHT(LEFT($R61,4),2))+("0,"&RIGHT($R61,3))) -> 84.074 | V61: =IF(OR($T61="",$U61=""),"",$T61-$U61) -> 6.109
A62: =D62&"_"&UPPER(LEFT(F62,3)) -> 2017_AUS | B62: =$D62&"_"&UPPER(LEFT($F62,3))&"#"&$G62 -> 2017_AUS#f | C62: 42820 | D62: =YEAR(C62) -> 2017 | E62: Melbourne | F62: Australie | G62: f | H62: 94 | I62: Pascal WEHRLEIN | J62: Sauber | K62: Ferrari | T62: =IF(ISBLANK($P62),"",LEFT($P62,1)*60+(RIGHT(LEFT($P62,4),2))+("0,"&RIGHT($P62,3))) | U62: =IF(ISBLANK($R62),"",LEFT($R62,1)*60+(RIGHT(LEFT($R62,4),2))+("0,"&RIGHT($R62,3))) | V62: =IF(OR($T62="",$U62=""),"",$T62-$U62)
A63: =D63&"_"&UPPER(LEFT(F63,3)) -> 2016_AUS | B63: =$D63&"_"&UPPER(LEFT($F63,3))&"#"&$G63 -> 2016_AUS#1 | C63: 42449 | D63: =YEAR(C63) -> 2016 | E63: Melbourne | F63: Australie | G63: 1 | H63: 6 | I63: Nico ROSBERG | J63: Mercedes | K63: Mercedes | L63: 57 | M63: 25 | P63: 1'30''557 | Q63: 2 | R63: 1'24''197 | S63: 23 | T63: =IF(ISBLANK($P63),"",LEFT($P63,1)*60+(RIGHT(LEFT($P63,4),2))+("0,"&RIGHT($P63,3))) -> 90.557 | U63: =IF(ISBLANK($R63),"",LEFT($R63,1)*60+(RIGHT(LEFT($R63,4),2))+("0,"&RIGHT($R63,3))) -> 84.197 | V63: =IF(OR($T63="",$U63=""),"",$T63-$U63) -> 6.36
A64: =D64&"_"&UPPER(LEFT(F64,3)) -> 2016_AUS | B64: =$D64&"_"&UPPER(LEFT($F64,3))&"#"&$G64 -> 2016_AUS#2 | C64: 42449 | D64: =YEAR(C64) -> 2016 | E64: Melbourne | F64: Australie | G64: 2 | H64: 44 | I64: Lewis HAMILTON | J64: Mercedes | K64: Mercedes | L64: 57 | M64: 18 | P64: 1'30''646 | Q64: 1 | R64: 1'23''837 | T64: =IF(ISBLANK($P64),"",LEFT($P64,1)*60+(RIGHT(LEFT($P64,4),2))+("0,"&RIGHT($P64,3))) -> 90.646 | U64: =IF(ISBLANK($R64),"",LEFT($R64,1)*60+(RIGHT(LEFT($R64,4),2))+("0,"&RIGHT($R64,3))) -> 83.837 | V64: =IF(OR($T64="",$U64=""),"",$T64-$U64) -> 6.809
A65: =D65&"_"&UPPER(LEFT(F65,3)) -> 2016_AUS | B65: =$D65&"_"&UPPER(LEFT($F65,3))&"#"&$G65 -> 2016_AUS#3 | C65: 42449 | D65: =YEAR(C65) -> 2016 | E65: Melbourne | F65: Australie | G65: 3 | H65: 5 | I65: Sebastian VETTEL | J65: Ferrari | K65: Ferrari | L65: 57 | M65: 15 | P65: 1'29''951 | Q65: 3 | R65: 1'24''675 | S65: 31 | T65: =IF(ISBLANK($P65),"",LEFT($P65,1)*60+(RIGHT(LEFT($P65,4),2))+("0,"&RIGHT($P65,3))) -> 89.951 | U65: =IF(ISBLANK($R65),"",LEFT($R65,1)*60+(RIGHT(LEFT($R65,4),2))+("0,"&RIGHT($R65,3))) -> 84.675 | V65: =IF(OR($T65="",$U65=""),"",$T65-$U65) -> 5.276
A66: =D66&"_"&UPPER(LEFT(F66,3)) -> 2016_AUS | B66: =$D66&"_"&UPPER(LEFT($F66,3))&"#"&$G66 -> 2016_AUS#4 | C66: 42449 | D66: =YEAR(C66) -> 2016 | E66: Melbourne | F66: Australie | G66: 4 | H66: 3 | I66: Daniel RICCIARDO | J66: Red Bull | K66: TAG Heuer | L66: 57 | M66: 12 | P66: 1'28''997 | Q66: 8 | R66: 1'25''589 | T66: =IF(ISBLANK($P66),"",LEFT($P66,1)*60+(RIGHT(LEFT($P66,4),2))+("0,"&RIGHT($P66,3))) -> 88.997 | U66: =IF(ISBLANK($R66),"",LEFT($R66,1)*60+(RIGHT(LEFT($R66,4),2))+("0,"&RIGHT($R66,3))) -> 85.589 | V66: =IF(OR($T66="",$U66=""),"",$T66-$U66) -> 3.408
A67: =D67&"_"&UPPER(LEFT(F67,3)) -> 2016_AUS | B67: =$D67&"_"&UPPER(LEFT($F67,3))&"#"&$G67 -> 2016_AUS#5 | C67: 42449 | D67: =YEAR(C67) -> 2016 | E67: Melbourne | F67: Australie | G67: 5 | H67: 19 | I67: Felipe MASSA | J67: Williams | K67: Mercedes | L67: 57 | M67: 10 | P67: 1'32''288 | Q67: 6 | R67: 1'25''458 | T67: =IF(ISBLANK($P67),"",LEFT($P67,1)*60+(RIGHT(LEFT($P67,4),2))+("0,"&RIGHT($P67,3))) -> 92.288 | U67: =IF(ISBLANK($R67),"",LEFT($R67,1)*60+(RIGHT(LEFT($R67,4),2))+("0,"&RIGHT($R67,3))) -> 85.458 | V67: =IF(OR($T67="",$U67=""),"",$T67-$U67) -> 6.83
A68: =D68&"_"&UPPER(LEFT(F68,3)) -> 2016_AUS | B68: =$D68&"_"&UPPER(LEFT($F68,3))&"#"&$G68 -> 2016_AUS#6 | C68: 42449 | D68: =YEAR(C68) -> 2016 | E68: Melbourne | F68: Australie | G68: 6 | H68: 8 | I68: Romain GROSJEAN | J68: Haas | K68: Ferrari | L68: 57 | M68: 8 | P68: 1'32''862 | Q68: 19 | R68: 1'28''322 | T68: =IF(ISBLANK($P68),"",LEFT($P68,1)*60+(RIGHT(LEFT($P68,4),2))+("0,"&RIGHT($P68,3))) -> 92.862 | U68: =IF(ISBLANK($R68),"",LEFT($R68,1)*60+(RIGHT(LEFT($R68,4),2))+("0,"&RIGHT($R68,3))) -> 88.322 | V68: =IF(OR($T68="",$U68=""),"",$T68-$U68) -> 4.54
A69: =D69&"_"&UPPER(LEFT(F69,3)) -> 2016_AUS | B69: =$D69&"_"&UPPER(LEFT($F69,3))&"#"&$G69 -> 2016_AUS#7 | C69: 42449 | D69: =YEAR(C69) -> 2016 | E69: Melbourne | F69: Australie | G69: 7 | H69: 27 | I69: Nico HULKENBERG | J69: Force India | K69: Mercedes | L69: 57 | M69: 6 | P69: 1'32''833 | Q69: 10 | R69: 1'25''865 | T69: =IF(ISBLANK($P69),"",LEFT($P69,1)*60+(RIGHT(LEFT($P69,4),2))+("0,"&RIGHT($P69,3))) -> 92.833 | U69: =IF(ISBLANK($R69),"",LEFT($R69,1)*60+(RIGHT(LEFT($R69,4),2))+("0,"&RIGHT($R69,3))) -> 85.865 | V69: =IF(OR($T69="",$U69=""),"",$T69-$U69) -> 6.968
A70: =D70&"_"&UPPER(LEFT(F70,3)) -> 2016_AUS | B70: =$D70&"_"&UPPER(LEFT($F70,3))&"#"&$G70 -> 2016_AUS#8 | C70: 42449 | D70: =YEAR(C70) -> 2016 | E70: Melbourne | F70: Australie | G70: 8 | H70: 77 | I70: Valtteri BOTTAS | J70: Williams | K70: Mercedes | L70: 57 | M70: 4 | P70: 1'32''725 | Q70: 11 | R70: 1'25''961 | T70: =IF(ISBLANK($P70),"",LEFT($P70,1)*60+(RIGHT(LEFT($P70,4),2))+("0,"&RIGHT($P70,3))) -> 92.725 | U70: =IF(ISBLANK($R70),"",LEFT($R70,1)*60+(RIGHT(LEFT($R70,4),2))+("0,"&RIGHT($R70,3))) -> 85.961 | V70: =IF(OR($T70="",$U70=""),"",$T70-$U70) -> 6.764
A71: =D71&"_"&UPPER(LEFT(F71,3)) -> 2016_AUS | B71: =$D71&"_"&UPPER(LEFT($F71,3))&"#"&$G71 -> 2016_AUS#9 | C71: 42449 | D71: =YEAR(C71) -> 2016 | E71: Melbourne | F71: Australie | G71: 9 | H71: 55 | I71: Carlos SAINZ | J71: Toro Rosso | K71: Ferrari | L71: 57 | M71: 2 | P71: 1'31''671 | Q71: 7 | R71: 1'25''582 | T71: =IF(ISBLANK($P71),"",LEFT($P71,1)*60+(RIGHT(LEFT($P71,4),2))+("0,"&RIGHT($P71,3))) -> 91.671 | U71: =IF(ISBLANK($R71),"",LEFT($R71,1)*60+(RIGHT(LEFT($R71,4),2))+("0,"&RIGHT($R71,3))) -> 85.582 | V71: =IF(OR($T71="",$U71=""),"",$T71-$U71) -> 6.089
A72: =D72&"_"&UPPER(LEFT(F72,3)) -> 2016_AUS | B72: =$D72&"_"&UPPER(LEFT($F72,3))&"#"&$G72 -> 2016_AUS#10 | C72: 42449 | D72: =YEAR(C72) -> 2016 | E72: Melbourne | F72: Australie | G72: 10 | H72: 33 | I72: Max VERSTAPPEN | J72: Toro Rosso | K72: Ferrari | L72: 57 | M72: 1 | P72: 1'31''516 | Q72: 5 | R72: 1'25''434 | T72: =IF(ISBLANK($P72),"",LEFT($P72,1)*60+(RIGHT(LEFT($P72,4),2))+("0,"&RIGHT($P72,3))) -> 91.516 | U72: =IF(ISBLANK($R72),"",LEFT($R72,1)*60+(RIGHT(LEFT($R72,4),2))+("0,"&RIGHT($R72,3))) -> 85.434 | V72: =IF(OR($T72="",$U72=""),"",$T72-$U72) -> 6.082
A73: =D73&"_"&UPPER(LEFT(F73,3)) -> 2016_AUS | B73: =$D73&"_"&UPPER(LEFT($F73,3))&"#"&$G73 -> 2016_AUS#11 | C73: 42449 | D73: =YEAR(C73) -> 2016 | E73: Melbourne | F73: Australie | G73: 11 | H73: 30 | I73: Jolyon PALMER | J73: Renault | K73: Renault | L73: 57 | P73: 1'32''955 | Q73: 14 | R73: 1'27''601 | T73: =IF(ISBLANK($P73),"",LEFT($P73,1)*60+(RIGHT(LEFT($P73,4),2))+("0,"&RIGHT($P73,3))) -> 92.955 | U73: =IF(ISBLANK($R73),"",LEFT($R73,1)*60+(RIGHT(LEFT($R73,4),2))+("0,"&RIGHT($R73,3))) -> 87.601 | V73: =IF(OR($T73="",$U73=""),"",$T73-$U73) -> 5.354
A74: =D74&"_"&UPPER(LEFT(F74,3)) -> 2016_AUS | B74: =$D74&"_"&UPPER(LEFT($F74,3))&"#"&$G74 -> 2016_AUS#12 | C74: 42449 | D74: =YEAR(C74) -> 2016 | E74: Melbourne | F74: Australie | G74: 12 | H74: 20 | I74: Kevin MAGNUSSEN | J74: Renault | K74: Renault | L74: 57 | P74: 1'32''452 | Q74: 15 | R74: 1'27''742 | T74: =IF(ISBLANK($P74),"",LEFT($P74,1)*60+(RIGHT(LEFT($P74,4),2))+("0,"&RIGHT($P74,3))) -> 92.452 | U74: =IF(ISBLANK($R74),"",LEFT($R74,1)*60+(RIGHT(LEFT($R74,4),2))+("0,"&RIGHT($R74,3))) -> 87.742 | V74: =IF(OR($T74="",$U74=""),"",$T74-$U74) -> 4.71
A75: =D75&"_"&UPPER(LEFT(F75,3)) -> 2016_AUS | B75: =$D75&"_"&UPPER(LEFT($F75,3))&"#"&$G75 -> 2016_AUS#13 | C75: 42449 | D75: =YEAR(C75) -> 2016 | E75: Melbourne | F75: Australie | G75: 13 | H75: 11 | I75: Sergio PEREZ | J75: Force India | K75: Mercedes | L75: 57 | P75: 1'32''780 | Q75: 9 | R75: 1'25''753 | T75: =IF(ISBLANK($P75),"",LEFT($P75,1)*60+(RIGHT(LEFT($P75,4),2))+("0,"&RIGHT($P75,3))) -> 92.78 | U75: =IF(ISBLANK($R75),"",LEFT($R75,1)*60+(RIGHT(LEFT($R75,4),2))+("0,"&RIGHT($R75,3))) -> 85.753 | V75: =IF(OR($T75="",$U75=""),"",$T75-$U75) -> 7.027
A76: =D76&"_"&UPPER(LEFT(F76,3)) -> 2016_AUS | B76: =$D76&"_"&UPPER(LEFT($F76,3))&"#"&$G76 -> 2016_AUS#14 | C76: 42449 | D76: =YEAR(C76) -> 2016 | E76: Melbourne | F76: Australie | G76: 14 | H76: 22 | I76: Jenson BUTTON | J76: McLaren | K76: Honda | L76: 56 | P76: 1'31''684 | Q76: 13 | R76: 1'26''304 | T76: =IF(ISBLANK($P76),"",LEFT($P76,1)*60+(RIGHT(LEFT($P76,4),2))+("0,"&RIGHT($P76,3))) -> 91.684 | U76: =IF(ISBLANK($R76),"",LEFT($R76,1)*60+(RIGHT(LEFT($R76,4),2))+("0,"&RIGHT($R76,3))) -> 86.304 | V76: =IF(OR($T76="",$U76=""),"",$T76-$U76) -> 5.38
A77: =D77&"_"&UPPER(LEFT(F77,3)) -> 2016_AUS | B77: =$D77&"_"&UPPER(LEFT($F77,3))&"#"&$G77 -> 2016_AUS#15 | C77: 42449 | D77: =YEAR(C77) -> 2016 | E77: Melbourne | F77: Australie | G77: 15 | H77: 12 | I77: Felipe NASR | J77: Sauber | K77: Ferrari | L77: 56 | P77: 1'32''711 | Q77: 17 | R77: 1'27''958 | T77: =IF(ISBLANK($P77),"",LEFT($P77,1)*60+(RIGHT(LEFT($P77,4),2))+("0,"&RIGHT($P77,3))) -> 92.711 | U77: =IF(ISBLANK($R77),"",LEFT($R77,1)*60+(RIGHT(LEFT($R77,4),2))+("0,"&RIGHT($R77,3))) -> 87.958 | V77: =IF(OR($T77="",$U77=""),"",$T77-$U77) -> 4.753
A78: =D78&"_"&UPPER(LEFT(F78,3)) -> 2016_AUS | B78: =$D78&"_"&UPPER(LEFT($F78,3))&"#"&$G78 -> 2016_AUS#16 | C78: 42449 | D78: =YEAR(C78) -> 2016 | E78: Melbourne | F78: Australie | G78: 16 | H78: 94 | I78: Pascal WEHRLEIN | J78: Manor | K78: Mercedes | L78: 56 | P78: 1'32''673 | Q78: 22 | R78: 1'29''642 | T78: =IF(ISBLANK($P78),"",LEFT($P78,1)*60+(RIGHT(LEFT($P78,4),2))+("0,"&RIGHT($P78,3))) -> 92.673 | U78: =IF(ISBLANK($R78),"",LEFT($R78,1)*60+(RIGHT(LEFT($R78,4),2))+("0,"&RIGHT($R78,3))) -> 89.642 | V78: =IF(OR($T78="",$U78=""),"",$T78-$U78) -> 3.031
A79: =D79&"_"&UPPER(LEFT(F79,3)) -> 2016_AUS | B79: =$D79&"_"&UPPER(LEFT($F79,3))&"#"&$G79 -> 2016_AUS#ab | C79: 42449 | D79: =YEAR(C79) -> 2016 | E79: Melbourne | F79: Australie | G79: ab | H79: 9 | I79: Marcus ERICSSON | J79: Sauber | K79: Ferrari | L79: 38 | P79: 1'33''892 | Q79: 16 | R79: 1'27''435 | T79: =IF(ISBLANK($P79),"",LEFT($P79,1)*60+(RIGHT(LEFT($P79,4),2))+("0,"&RIGHT($P79,3))) -> 93.892 | U79: =IF(ISBLANK($R79),"",LEFT($R79,1)*60+(RIGHT(LEFT($R79,4),2))+("0,"&RIGHT($R79,3))) -> 87.435 | V79: =IF(OR($T79="",$U79=""),"",$T79-$U79) -> 6.457
A80: =D80&"_"&UPPER(LEFT(F80,3)) -> 2016_AUS | B80: =$D80&"_"&UPPER(LEFT($F80,3))&"#"&$G80 -> 2016_AUS#ab | C80: 42449 | D80: =YEAR(C80) -> 2016 | E80: Melbourne | F80: Australie | G80: ab | H80: 7 | I80: Kimi RAIKKONEN | J80: Ferrari | K80: Ferrari | L80: 21 | P80: 1'30''701 | Q80: 4 | R80: 1'25''033 | S80: 3 | T80: =IF(ISBLANK($P80),"",LEFT($P80,1)*60+(RIGHT(LEFT($P80,4),2))+("0,"&RIGHT($P80,3))) -> 90.701 | U80: =IF(ISBLANK($R80),"",LEFT($R80,1)*60+(RIGHT(LEFT($R80,4),2))+("0,"&RIGHT($R80,3))) -> 85.033 | V80: =IF(OR($T80="",$U80=""),"",$T80-$U80) -> 5.668
A81: =D81&"_"&UPPER(LEFT(F81,3)) -> 2016_AUS | B81: =$D81&"_"&UPPER(LEFT($F81,3))&"#"&$G81 -> 2016_AUS#ab | C81: 42449 | D81: =YEAR(C81) -> 2016 | E81: Melbourne | F81: Australie | G81: ab | H81: 88 | I81: Rio HARYANTO | J81: Manor | K81: Mercedes | L81: 17 | P81: 1'33''847 | Q81: 21 | R81: 1'29''627 | T81: =IF(ISBLANK($P81),"",LEFT($P81,1)*60+(RIGHT(LEFT($P81,4),2))+("0,"&RIGHT($P81,3))) -> 93.847 | U81: =IF(ISBLANK($R81),"",LEFT($R81,1)*60+(RIGHT(LEFT($R81,4),2))+("0,"&RIGHT($R81,3))) -> 89.627 | V81: =IF(OR($T81="",$U81=""),"",$T81-$U81) -> 4.22
A82: =D82&"_"&UPPER(LEFT(F82,3)) -> 2016_AUS | B82: =$D82&"_"&UPPER(LEFT($F82,3))&"#"&$G82 -> 2016_AUS#ab | C82: 42449 | D82: =YEAR(C82) -> 2016 | E82: Melbourne | F82: Australie | G82: ab | H82: 21 | I82: Esteban GUTIERREZ | J82: Haas | K82: Ferrari | L82: 16 | P82: 1'32''998 | Q82: 20 | R82: 1'29''606 | T82: =IF(ISBLANK($P82),"",LEFT($P82,1)*60+(RIGHT(LEFT($P82,4),2))+("0,"&RIGHT($P82,3))) -> 92.998 | U82: =IF(ISBLANK($R82),"",LEFT($R82,1)*60+(RIGHT(LEFT($R82,4),2))+("0,"&RIGHT($R82,3))) -> 89.606 | V82: =IF(OR($T82="",$U82=""),"",$T82-$U82) -> 3.392
A83: =D83&"_"&UPPER(LEFT(F83,3)) -> 2016_AUS | B83: =$D83&"_"&UPPER(LEFT($F83,3))&"#"&$G83 -> 2016_AUS#ab | C83: 42449 | D83: =YEAR(C83) -> 2016 | E83: Melbourne | F83: Australie | G83: ab | H83: 14 | I83: Fernando ALONSO | J83: McLaren | K83: Honda | L83: 16 | P83: 1'32''553 | Q83: 12 | R83: 1'26''125 | T83: =IF(ISBLANK($P83),"",LEFT($P83,1)*60+(RIGHT(LEFT($P83,4),2))+("0,"&RIGHT($P83,3))) -> 92.553 | U83: =IF(ISBLANK($R83),"",LEFT($R83,1)*60+(RIGHT(LEFT($R83,4),2))+("0,"&RIGHT($R83,3))) -> 86.125 | V83: =IF(OR($T83="",$U83=""),"",$T83-$U83) -> 6.428
A84: =D84&"_"&UPPER(LEFT(F84,3)) -> 2016_AUS | B84: =$D84&"_"&UPPER(LEFT($F84,3))&"#"&$G84 -> 2016_AUS#np | C84: 42449 | D84: =YEAR(C84) -> 2016 | E84: Melbourne | F84: Australie | G84: np | H84: 26 | I84: Daniil KVYAT | J84: Red Bull | K84: TAG Heuer | T84: =IF(ISBLANK($P84),"",LEFT($P84,1)*60+(RIGHT(LEFT($P84,4),2))+("0,"&RIGHT($P84,3))) | U84: =IF(ISBLANK($R84),"",LEFT($R84,1)*60+(RIGHT(LEFT($R84,4),2))+("0,"&RIGHT($R84,3))) | V84: =IF(OR($T84="",$U84=""),"",$T84-$U84)
A85: =D85&"_"&UPPER(LEFT(F85,3)) -> 2015_AUS | B85: =$D85&"_"&UPPER(LEFT($F85,3))&"#"&$G85 -> 2015_AUS#1 | C85: 42078 | D85: =YEAR(C85) -> 2015 | E85: Melbourne | F85: Australie | G85: 1 | H85: 44 | I85: Lewis HAMILTON | J85: Mercedes | K85: Mercedes | L85: 58 | M85: 25 | P85: 1'30''945 | Q85: 1 | R85: 1'26''327 | S85: 56 | T85: =IF(ISBLANK($P85),"",LEFT($P85,1)*60+(RIGHT(LEFT($P85,4),2))+("0,"&RIGHT($P85,3))) -> 90.945 | U85: =IF(ISBLANK($R85),"",LEFT($R85,1)*60+(RIGHT(LEFT($R85,4),2))+("0,"&RIGHT($R85,3))) -> 86.327 | V85: =IF(OR($T85="",$U85=""),"",$T85-$U85) -> 4.618
A86: =D86&"_"&UPPER(LEFT(F86,3)) -> 2015_AUS | B86: =$D86&"_"&UPPER(LEFT($F86,3))&"#"&$G86 -> 2015_AUS#2 | C86: 42078 | D86: =YEAR(C86) -> 2015 | E86: Melbourne | F86: Australie | G86: 2 | H86: 6 | I86: Nico ROSBERG | J86: Mercedes | K86: Mercedes | L86: 58 | M86: 18 | P86: 1'31''092 | Q86: 2 | R86: 1'26''921 | S86: 2 | T86: =IF(ISBLANK($P86),"",LEFT($P86,1)*60+(RIGHT(LEFT($P86,4),2))+("0,"&RIGHT($P86,3))) -> 91.092 | U86: =IF(ISBLANK($R86),"",LEFT($R86,1)*60+(RIGHT(LEFT($R86,4),2))+("0,"&RIGHT($R86,3))) -> 86.921 | V86: =IF(OR($T86="",$U86=""),"",$T86-$U86) -> 4.171
A87: =D87&"_"&UPPER(LEFT(F87,3)) -> 2015_AUS | B87: =$D87&"_"&UPPER(LEFT($F87,3))&"#"&$G87 -> 2015_AUS#3 | C87: 42078 | D87: =YEAR(C87) -> 2015 | E87: Melbourne | F87: Australie | G87: 3 | H87: 5 | I87: Sebastian VETTEL | J87: Ferrari | K87: Ferrari | L87: 58 | M87: 15 | P87: 1'31''457 | Q87: 4 | R87: 1'27''757 | T87: =IF(ISBLANK($P87),"",LEFT($P87,1)*60+(RIGHT(LEFT($P87,4),2))+("0,"&RIGHT($P87,3))) -> 91.457 | U87: =IF(ISBLANK($R87),"",LEFT($R87,1)*60+(RIGHT(LEFT($R87,4),2))+("0,"&RIGHT($R87,3))) -> 87.757 | V87: =IF(OR($T87="",$U87=""),"",$T87-$U87) -> 3.7
A88: =D88&"_"&UPPER(LEFT(F88,3)) -> 2015_AUS | B88: =$D88&"_"&UPPER(LEFT($F88,3))&"#"&$G88 -> 2015_AUS#4 | C88: 42078 | D88: =YEAR(C88) -> 2015 | E88: Melbourne | F88: Australie | G88: 4 | H88: 19 | I88: Felipe MASSA | J88: Williams | K88: Mercedes | L88: 58 | M88: 12 | P88: 1'31''719 | Q88: 3 | R88: 1'27''718 | T88: =IF(ISBLANK($P88),"",LEFT($P88,1)*60+(RIGHT(LEFT($P88,4),2))+("0,"&RIGHT($P88,3))) -> 91.719 | U88: =IF(ISBLANK($R88),"",LEFT($R88,1)*60+(RIGHT(LEFT($R88,4),2))+("0,"&RIGHT($R88,3))) -> 87.718 | V88: =IF(OR($T88="",$U88=""),"",$T88-$U88) -> 4.001
A89: =D89&"_"&UPPER(LEFT(F89,3)) -> 2015_AUS | B89: =$D89&"_"&UPPER(LEFT($F89,3))&"#"&$G89 -> 2015_AUS#5 | C89: 42078 | D89: =YEAR(C89) -> 2015 | E89: Melbourne | F89: Australie | G89: 5 | H89: 12 | I89: Felipe NASR | J89: Sauber | K89: Ferrari | L89: 58 | M89: 10 | P89: 1'32''612 | Q89: 11 | R89: 1'28''800 | T89: =IF(ISBLANK($P89),"",LEFT($P89,1)*60+(RIGHT(LEFT($P89,4),2))+("0,"&RIGHT($P89,3))) -> 92.612 | U89: =IF(ISBLANK($R89),"",LEFT($R89,1)*60+(RIGHT(LEFT($R89,4),2))+("0,"&RIGHT($R89,3))) -> 88.8 | V89: =IF(OR($T89="",$U89=""),"",$T89-$U89) -> 3.812
A90: =D90&"_"&UPPER(LEFT(F90,3)) -> 2015_AUS | B90: =$D90&"_"&UPPER(LEFT($F90,3))&"#"&$G90 -> 2015_AUS#6 | C90: 42078 | D90: =YEAR(C90) -> 2015 | E90: Melbourne | F90: Australie | G90: 6 | H90: 3 | I90: Daniel RICCIARDO | J90: Red Bull | K90: Renault | L90: 57 | M90: 8 | P90: 1'32''797 | Q90: 7 | R90: 1'28''329 | T90: =IF(ISBLANK($P90),"",LEFT($P90,1)*60+(RIGHT(LEFT($P90,4),2))+("0,"&RIGHT($P90,3))) -> 92.797 | U90: =IF(ISBLANK($R90),"",LEFT($R90,1)*60+(RIGHT(LEFT($R90,4),2))+("0,"&RIGHT($R90,3))) -> 88.329 | V90: =IF(OR($T90="",$U90=""),"",$T90-$U90) -> 4.468
A91: =D91&"_"&UPPER(LEFT(F91,3)) -> 2015_AUS | B91: =$D91&"_"&UPPER(LEFT($F91,3))&"#"&$G91 -> 2015_AUS#7 | C91: 42078 | D91: =YEAR(C91) -> 2015 | E91: Melbourne | F91: Australie | G91: 7 | H91: 27 | I91: Nico HULKENBERG | J91: Force India | K91: Mercedes | L91: 57 | M91: 6 | P91: 1'31''970 | Q91: 14 | R91: 1'29''208 | T91: =IF(ISBLANK($P91),"",LEFT($P91,1)*60+(RIGHT(LEFT($P91,4),2))+("0,"&RIGHT($P91,3))) -> 91.97 | U91: =IF(ISBLANK($R91),"",LEFT($R91,1)*60+(RIGHT(LEFT($R91,4),2))+("0,"&RIGHT($R91,3))) -> 89.208 | V91: =IF(OR($T91="",$U91=""),"",$T91-$U91) -> 2.762
A92: =D92&"_"&UPPER(LEFT(F92,3)) -> 2015_AUS | B92: =$D92&"_"&UPPER(LEFT($F92,3))&"#"&$G92 -> 2015_AUS#8 | C92: 42078 | D92: =YEAR(C92) -> 2015 | E92: Melbourne | F92: Australie | G92: 8 | H92: 9 | I92: Marcus ERICSSON | J92: Sauber | K92: Ferrari | L92: 57 | M92: 4 | P92: 1'31''560 | Q92: 16 | R92: 1'31''376 | T92: =IF(ISBLANK($P92),"",LEFT($P92,1)*60+(RIGHT(LEFT($P92,4),2))+("0,"&RIGHT($P92,3))) -> 91.56 | U92: =IF(ISBLANK($R92),"",LEFT($R92,1)*60+(RIGHT(LEFT($R92,4),2))+("0,"&RIGHT($R92,3))) -> 91.376 | V92: =IF(OR($T92="",$U92=""),"",$T92-$U92) -> 0.184
A93: =D93&"_"&UPPER(LEFT(F93,3)) -> 2015_AUS | B93: =$D93&"_"&UPPER(LEFT($F93,3))&"#"&$G93 -> 2015_AUS#9 | C93: 42078 | D93: =YEAR(C93) -> 2015 | E93: Melbourne | F93: Australie | G93: 9 | H93: 55 | I93: Carlos SAINZ | J93: Toro Rosso | K93: Renault | L93: 57 | M93: 2 | P93: 1'32''872 | Q93: 8 | R93: 1'28''510 | T93: =IF(ISBLANK($P93),"",LEFT($P93,1)*60+(RIGHT(LEFT($P93,4),2))+("0,"&RIGHT($P93,3))) -> 92.872 | U93: =IF(ISBLANK($R93),"",LEFT($R93,1)*60+(RIGHT(LEFT($R93,4),2))+("0,"&RIGHT($R93,3))) -> 88.51 | V93: =IF(OR($T93="",$U93=""),"",$T93-$U93) -> 4.362
A94: =D94&"_"&UPPER(LEFT(F94,3)) -> 2015_AUS | B94: =$D94&"_"&UPPER(LEFT($F94,3))&"#"&$G94 -> 2015_AUS#10 | C94: 42078 | D94: =YEAR(C94) -> 2015 | E94: Melbourne | F94: Australie | G94: 10 | H94: 11 | I94: Sergio PEREZ | J94: Force India | K94: Mercedes | L94: 57 | M94: 1 | P94: 1'31''959 | Q94: 15 | R94: 1'29''209 | T94: =IF(ISBLANK($P94),"",LEFT($P94,1)*60+(RIGHT(LEFT($P94,4),2))+("0,"&RIGHT($P94,3))) -> 91.959 | U94: =IF(ISBLANK($R94),"",LEFT($R94,1)*60+(RIGHT(LEFT($R94,4),2))+("0,"&RIGHT($R94,3))) -> 89.209 | V94: =IF(OR($T94="",$U94=""),"",$T94-$U94) -> 2.75
A95: =D95&"_"&UPPER(LEFT(F95,3)) -> 2015_AUS | B95: =$D95&"_"&UPPER(LEFT($F95,3))&"#"&$G95 -> 2015_AUS#11 | C95: 42078 | D95: =YEAR(C95) -> 2015 | E95: Melbourne | F95: Australie | G95: 11 | H95: 22 | I95: Jenson BUTTON | J95: McLaren | K95: Honda | L95: 56 | P95: 1'33''338 | Q95: 17 | R95: 1'31''422 | T95: =IF(ISBLANK($P95),"",LEFT($P95,1)*60+(RIGHT(LEFT($P95,4),2))+("0,"&RIGHT($P95,3))) -> 93.338 | U95: =IF(ISBLANK($R95),"",LEFT($R95,1)*60+(RIGHT(LEFT($R95,4),2))+("0,"&RIGHT($R95,3))) -> 91.422 | V95: =IF(OR($T95="",$U95=""),"",$T95-$U95) -> 1.916
A96: =D96&"_"&UPPER(LEFT(F96,3)) -> 2015_AUS | B96: =$D96&"_"&UPPER(LEFT($F96,3))&"#"&$G96 -> 2015_AUS#ab | C96: 42078 | D96: =YEAR(C96) -> 2015 | E96: Melbourne | F96: Australie | G96: ab | H96: 7 | I96: Kimi RAIKKONEN | J96: Ferrari | K96: Ferrari | L96: 40 | P96: 1'31''426 | Q96: 5 | R96: 1'27''790 | T96: =IF(ISBLANK($P96),"",LEFT($P96,1)*60+(RIGHT(LEFT($P96,4),2))+("0,"&RIGHT($P96,3))) -> 91.426 | U96: =IF(ISBLANK($R96),"",LEFT($R96,1)*60+(RIGHT(LEFT($R96,4),2))+("0,"&RIGHT($R96,3))) -> 87.79 | V96: =IF(OR($T96="",$U96=""),"",$T96-$U96) -> 3.636
A97: =D97&"_"&UPPER(LEFT(F97,3)) -> 2015_AUS | B97: =$D97&"_"&UPPER(LEFT($F97,3))&"#"&$G97 -> 2015_AUS#ab | C97: 42078 | D97: =YEAR(C97) -> 2015 | E97: Melbourne | F97: Australie | G97: ab | H97: 33 | I97: Max VERSTAPPEN | J97: Toro Rosso | K97: Renault | L97: 32 | P97: 1'34''295 | Q97: 12 | R97: 1'28''868 | T97: =IF(ISBLANK($P97),"",LEFT($P97,1)*60+(RIGHT(LEFT($P97,4),2))+("0,"&RIGHT($P97,3))) -> 94.295 | U97: =IF(ISBLANK($R97),"",LEFT($R97,1)*60+(RIGHT(LEFT($R97,4),2))+("0,"&RIGHT($R97,3))) -> 88.868 | V97: =IF(OR($T97="",$U97=""),"",$T97-$U97) -> 5.427
A98: =D98&"_"&UPPER(LEFT(F98,3)) -> 2015_AUS | B98: =$D98&"_"&UPPER(LEFT($F98,3))&"#"&$G98 -> 2015_AUS#ab | C98: 42078 | D98: =YEAR(C98) -> 2015 | E98: Melbourne | F98: Australie | G98: ab | H98: 8 | I98: Romain GROSJEAN | J98: Lotus | K98: Mercedes | Q98: 9 | R98: 1'28''560 | T98: =IF(ISBLANK($P98),"",LEFT($P98,1)*60+(RIGHT(LEFT($P98,4),2))+("0,"&RIGHT($P98,3))) | U98: =IF(ISBLANK($R98),"",LEFT($R98,1)*60+(RIGHT(LEFT($R98,4),2))+("0,"&RIGHT($R98,3))) -> 88.56 | V98: =IF(OR($T98="",$U98=""),"",$T98-$U98)
A99: =D99&"_"&UPPER(LEFT(F99,3)) -> 2015_AUS | B99: =$D99&"_"&UPPER(LEFT($F99,3))&"#"&$G99 -> 2015_AUS#ab | C99: 42078 | D99: =YEAR(C99) -> 2015 | E99: Melbourne | F99: Australie | G99: ab | H99: 13 | I99: Pastor MALDONADO | J99: Lotus | K99: Mercedes | Q99: 10 | R99: 1'29''480 | T99: =IF(ISBLANK($P99),"",LEFT($P99,1)*60+(RIGHT(LEFT($P99,4),2))+("0,"&RIGHT($P99,3))) | U99: =IF(ISBLANK($R99),"",LEFT($R99,1)*60+(RIGHT(LEFT($R99,4),2))+("0,"&RIGHT($R99,3))) -> 89.48 | V99: =IF(OR($T99="",$U99=""),"",$T99-$U99)
A100: =D100&"_"&UPPER(LEFT(F100,3)) -> 2015_AUS | B100: =$D100&"_"&UPPER(LEFT($F100,3))&"#"&$G100 -> 2015_AUS#np | C100: 42078 | D100: =YEAR(C100) -> 2015 | E100: Melbourne | F100: Australie | G100: np | H100: 26 | I100: Daniil KVYAT | J100: Red Bull | K100: Renault | T100: =IF(ISBLANK($P100),"",LEFT($P100,1)*60+(RIGHT(LEFT($P100,4),2))+("0,"&RIGHT($P100,3))) | U100: =IF(ISBLANK($R100),"",LEFT($R100,1)*60+(RIGHT(LEFT($R100,4),2))+("0,"&RIGHT($R100,3))) | V100: =IF(OR($T100="",$U100=""),"",$T100-$U100)
...

Sheet zone
A1: clé_gp | B1: saison | C1: pays | D1: engagés | E1: zone_début | F1: zone
A2: =$B2&"_"&UPPER(LEFT($C2,3)) -> 1985_AUS | B2: 1985 | C2: Australie | D2: =COUNTIF(aus_stats!$A:$A,$A2) -> 25 | E2: {=ROW(INDEX(aus_stats!$A:$A,(MATCH($A2,aus_stats!A:A,0))))} -> 816 | F2: ="zone!$P$"&$E2&":$P$"&($E2+$D2-1) -> zone!$P$816:$P$840 | G2: zone! | H2: $P$ | I2: =$E2 -> 816 | J2: :$P$ | K2: =$E2+$D2-1 -> 840 | L2: =VLOOKUP(aus_stats!$A2,zone!$A:$J,7,FALSE) -> zone!
A3: =$B3&"_"&UPPER(LEFT($C3,3)) -> 1986_AUS | B3: 1986 | C3: Australie | D3: =COUNTIF(aus_stats!$A:$A,$A3) -> 26 | E3: {=ROW(INDEX(aus_stats!$A:$A,(MATCH($A3,aus_stats!A:A,0))))} -> 790 | F3: ="zone!$P$"&$E3&":$P$"&($E3+$D3-1) -> zone!$P$790:$P$815 | G3: zone! | H3: $P$ | I3: =$E3 -> 790 | J3: :$P$ | K3: =$E3+$D3-1 -> 815 | L3: =VLOOKUP(aus_stats!$A3,zone!$A:$J,7,FALSE) -> zone!
A4: =$B4&"_"&UPPER(LEFT($C4,3)) -> 1987_AUS | B4: 1987 | C4: Australie | D4: =COUNTIF(aus_stats!$A:$A,$A4) -> 28 | E4: {=ROW(INDEX(aus_stats!$A:$A,(MATCH($A4,aus_stats!A:A,0))))} -> 762 | F4: ="zone!$P$"&$E4&":$P$"&($E4+$D4-1) -> zone!$P$762:$P$789 | G4: zone! | H4: $P$ | I4: =$E4 -> 762 | J4: :$P$ | K4: =$E4+$D4-1 -> 789 | L4: =VLOOKUP(aus_stats!$A4,zone!$A:$J,7,FALSE) -> zone!
A5: =$B5&"_"&UPPER(LEFT($C5,3)) -> 1988_AUS | B5: 1988 | C5: Australie | D5: =COUNTIF(aus_stats!$A:$A,$A5) -> 31 | E5: {=ROW(INDEX(aus_stats!$A:$A,(MATCH($A5,aus_stats!A:A,0))))} -> 731 | F5: ="zone!$P$"&$E5&":$P$"&($E5+$D5-1) -> zone!$P$731:$P$761 | G5: zone! | H5: $P$ | I5: =$E5 -> 731 | J5: :$P$ | K5: =$E5+$D5-1 -> 761 | L5: =VLOOKUP(aus_stats!$A5,zone!$A:$J,7,FALSE) -> zone!
A6: =$B6&"_"&UPPER(LEFT($C6,3)) -> 1989_AUS | B6: 1989 | C6: Australie | D6: =COUNTIF(aus_stats!$A:$A,$A6) -> 39 | E6: {=ROW(INDEX(aus_stats!$A:$A,(MATCH($A6,aus_stats!A:A,0))))} -> 692 | F6: ="zone!$P$"&$E6&":$P$"&($E6+$D6-1) -> zone!$P$692:$P$730 | G6: zone! | H6: $P$ | I6: =$E6 -> 692 | J6: :$P$ | K6: =$E6+$D6-1 -> 730 | L6: =VLOOKUP(aus_stats!$A6,zone!$A:$J,7,FALSE) -> zone!
A7: =$B7&"_"&UPPER(LEFT($C7,3)) -> 1990_AUS | B7: 1990 | C7: Australie | D7: =COUNTIF(aus_stats!$A:$A,$A7) -> 30 | E7: {=ROW(INDEX(aus_stats!$A:$A,(MATCH($A7,aus_stats!A:A,0))))} -> 662 | F7: ="zone!$P$"&$E7&":$P$"&($E7+$D7-1) -> zone!$P$662:$P$691 | G7: zone! | H7: $P$ | I7: =$E7 -> 662 | J7: :$P$ | K7: =$E7+$D7-1 -> 691 | L7: =VLOOKUP(aus_stats!$A7,zone!$A:$J,7,FALSE) -> zone!
A8: =$B8&"_"&UPPER(LEFT($C8,3)) -> 1991_AUS | B8: 1991 | C8: Australie | D8: =COUNTIF(aus_stats!$A:$A,$A8) -> 33 | E8: {=ROW(INDEX(aus_stats!$A:$A,(MATCH($A8,aus_stats!A:A,0))))} -> 629 | F8: ="zone!$P$"&$E8&":$P$"&($E8+$D8-1) -> zone!$P$629:$P$661 | G8: zone! | H8: $P$ | I8: =$E8 -> 629 | J8: :$P$ | K8: =$E8+$D8-1 -> 661 | L8: =VLOOKUP(aus_stats!$A8,zone!$A:$J,7,FALSE) -> zone!
A9: =$B9&"_"&UPPER(LEFT($C9,3)) -> 1992_AUS | B9: 1992 | C9: Australie | D9: =COUNTIF(aus_stats!$A:$A,$A9) -> 26 | E9: {=ROW(INDEX(aus_stats!$A:$A,(MATCH($A9,aus_stats!A:A,0))))} -> 603 | F9: ="zone!$P$"&$E9&":$P$"&($E9+$D9-1) -> zone!$P$603:$P$628 | G9: zone! | H9: $P$ | I9: =$E9 -> 603 | J9: :$P$ | K9: =$E9+$D9-1 -> 628 | L9: =VLOOKUP(aus_stats!$A9,zone!$A:$J,7,FALSE) -> zone!
A10: =$B10&"_"&UPPER(LEFT($C10,3)) -> 1993_AUS | B10: 1993 | C10: Australie | D10: =COUNTIF(aus_stats!$A:$A,$A10) -> 26 | E10: {=ROW(INDEX(aus_stats!$A:$A,(MATCH($A10,aus_stats!A:A,0))))} -> 577 | F10: ="zone!$P$"&$E10&":$P$"&($E10+$D10-1) -> zone!$P$577:$P$602 | G10: zone! | H10: $P$ | I10: =$E10 -> 577 | J10: :$P$ | K10: =$E10+$D10-1 -> 602 | L10: =VLOOKUP(aus_stats!$A10,zone!$A:$J,7,FALSE) -> zone!
A11: =$B11&"_"&UPPER(LEFT($C11,3)) -> 1994_AUS | B11: 1994 | C11: Australie | D11: =COUNTIF(aus_stats!$A:$A,$A11) -> 28 | E11: {=ROW(INDEX(aus_stats!$A:$A,(MATCH($A11,aus_stats!A:A,0))))} -> 549 | F11: ="zone!$P$"&$E11&":$P$"&($E11+$D11-1) -> zone!$P$549:$P$576 | G11: zone! | H11: $P$ | I11: =$E11 -> 549 | J11: :$P$ | K11: =$E11+$D11-1 -> 576 | L11: =VLOOKUP(aus_stats!$A11,zone!$A:$J,7,FALSE) -> zone!
A12: =$B12&"_"&UPPER(LEFT($C12,3)) -> 1995_AUS | B12: 1995 | C12: Australie | D12: =COUNTIF(aus_stats!$A:$A,$A12) -> 25 | E12: {=ROW(INDEX(aus_stats!$A:$A,(MATCH($A12,aus_stats!A:A,0))))} -> 524 | F12: ="zone!$P$"&$E12&":$P$"&($E12+$D12-1) -> zone!$P$524:$P$548 | G12: zone! | H12: $P$ | I12: =$E12 -> 524 | J12: :$P$ | K12: =$E12+$D12-1 -> 548 | L12: =VLOOKUP(aus_stats!$A12,zone!$A:$J,7,FALSE) -> zone!
A13: =$B13&"_"&UPPER(LEFT($C13,3)) -> 1996_AUS | B13: 1996 | C13: Australie | D13: =COUNTIF(aus_stats!$A:$A,$A13) -> 22 | E13: {=ROW(INDEX(aus_stats!$A:$A,(MATCH($A13,aus_stats!A:A,0))))} -> 502 | F13: ="zone!$P$"&$E13&":$P$"&($E13+$D13-1) -> zone!$P$502:$P$523 | G13: zone! | H13: $P$ | I13: =$E13 -> 502 | J13: :$P$ | K13: =$E13+$D13-1 -> 523 | L13: =VLOOKUP(aus_stats!$A13,zone!$A:$J,7,FALSE) -> zone!
... A35: =$B35&"_"&UPPER(LEFT($C35,3)) -> 2018_AUS | B35: 2018 | C35: Australie | D35: =COUNTIF(aus_stats!$A:$A,$A35) -> 20 | E35: {=ROW(INDEX(aus_stats!$A:$A,(MATCH($A35,aus_stats!A:A,0))))} -> 22 | F35: ="zone!$P$"&$E35&":$P$"&($E35+$D35-1) -> zone!$P$22:$P$41 | G35: zone! | H35: $P$ | I35: =$E35 -> 22 | J35: :$P$ | K35: =$E35+$D35-1 -> 41 | L35: =VLOOKUP(aus_stats!$A35,zone!$A:$J,7,FALSE) -> zone!
A36: =$B36&"_"&UPPER(LEFT($C36,3)) -> 2019_AUS | B36: 2019 | C36: Australie | D36: =COUNTIF(aus_stats!$A:$A,$A36) -> 20 | E36: {=ROW(INDEX(aus_stats!$A:$A,(MATCH($A36,aus_stats!A:A,0))))} -> 2 | F36: ="zone!$P$"&$E36&":$P$"&($E36+$D36-1) -> zone!$P$2:$P$21 | G36: zone! | H36: $P$ | I36: =$E36 -> 2 | J36: :$P$ | K36: =$E36+$D36-1 -> 21 | L36: =VLOOKUP(aus_stats!$A36,zone!$A:$K,7,FALSE)&VLOOKUP(aus_stats!$A36,zone!$A:$K,8,FALSE)&VLOOKUP(aus_stats!$A36,zone!$A:$K,9,FALSE)&VLOOKUP(aus_stats!$A36,zone!$A:$K,10,FALSE)&VLOOKUP(aus_stats!$A36,zone!$A:$K,11,FALSE) -> zone!$P$22:$P$41
A37: =$B37&"_"&UPPER(LEFT($C37,3)) -> 2020_AUS | B37: 2020 | C37: Australie | D37: =COUNTIF(aus_stats!$A:$A,$A37) -> 0 | E37: {=ROW(INDEX(aus_stats!$A:$A,(MATCH($A37,aus_stats!A:A,0))))} -> #N/A | F37: ="zone!$P$"&$E37&":$P$"&($E37+$D37-1) -> #N/A | G37: zone! | H37: $P$ | I37: =$E37 -> #N/A | J37: :$P$ | K37: =$E37+$D37-1 -> #N/A | L37: =VLOOKUP(aus_stats!$A37,zone!$A:$J,7,FALSE) -> zone!

Sheet meilleur tour
A1: 1 | B1: Keke ROSBERG | C1: Williams | D1: Honda | E1: 1'23''758 | G1: 57 | H1: 162.382
A2: 2 | B2: Ayrton SENNA | C2: Lotus | D2: Renault | E2: 1'24''140 | F2: 0.382 | G2: 37 | H2: 161.645
A3: 3 | B3: Stefan JOHANSSON | C3: Ferrari | D3: Ferrari | E3: 1'24''337 | F3: 0.579 | G3: 74 | H3: 161.267
A4: 4 | B4: Niki LAUDA | C4: McLaren | D4: TAG Porsche | E4: 1'24''498 | F4: 0.740 | G4: 54 | H4: 160.960
A5: 5 | B5: Michele ALBORETO | C5: Ferrari | D5: Ferrari | E5: 1'24''642 | F5: 0.884 | G5: 57 | H5: 160.686
A6: 6 | B6: Philippe STREIFF | C6: Ligier | D6: Renault | E6: 1'25''032 | F6: 1.274 | G6: 62 | H6: 159.949
A7: 7 | B7: Alain PROST | C7: McLaren | D7: TAG Porsche | E7: 1'25''388 | F7: 1.630 | G7: 26 | H7: 159.282
A8: 8 | B8: Jacques LAFFITE | C8: Ligier | D8: Renault | E8: 1'25''469 | F8: 1.711 | G8: 41 | H8: 159.131
A9: 9 | B9: Marc SURER | C9: Brabham | D9: BMW | E9: 1'25''751 | F9: 1.993 | G9: 24 | H9: 158.608
A10: 10 | B10: Gerhard BERGER | C10: Arrows | D10: BMW | E10: 1'26''216 | F10: 2.458 | G10: 74 | H10: 157.753
A11: 11 | B11: Derek WARWICK | C11: Renault | D11: Renault | E11: 1'26''313 | F11: 2.555 | G11: 56 | H11: 157.575
A12: 12 | B12: Ivan CAPELLI | C12: Tyrrell | D12: Renault | E12: 1'26''497 | F12: 2.739 | G12: 47 | H12: 157.240
A13: 13 | B13: Thierry BOUTSEN | C13: Arrows | D13: BMW | E13: 1'26''668 | F13: 2.910 | G13: 14 | H13: 156.930
... A24: 24 | B24: Huub ROTHENGATTER | C24: Osella | D24: Alfa Romeo | E24: 1'28''942 | F24: 5.184 | G24: 52 | H24: 152.918
A25: 25 | B25: Nigel MANSELL | C25: Williams | D25: Honda | E25: 2'23''614 | F25: 5

Sheet qualif
A1: 1 | B1: Ayrton SENNA | C1: Lotus | D1: Renault | E1: 1'19''843 | G1: 170.344 | I1: =A1 -> 1
A2: 2 | B2: Nigel MANSELL | C2: Williams | D2: Honda | E2: 1'20''537 | F2: 0.694 | G2: 168.876 | H2: 100.869 | I2: =A2 -> 2
A3: 3 | B3: Keke ROSBERG | C3: Williams | D3: Honda | E3: 1'21''887 | F3: 2.044 | G3: 166.092 | H3: 102.560 | I3: =A3 -> 3
A4: 4 | B4: Alain PROST | C4: McLaren | D4: TAG Porsche | E4: 1'21''889 | F4: 2.046 | G4: 166.088 | H4: 102.563 | I4: =A4 -> 4
A5: 5 | B5: Michele ALBORETO | C5: Ferrari | D5: Ferrari | E5: 1'22''337 | F5: 2.494 | G5: 165.185 | H5: 103.124 | I5: =A5 -> 5
A6: 6 | B6: Marc SURER | C6: Brabham | D6: BMW | E6: 1'22''561 | F6: 2.718 | G6: 164.736 | H6: 103.404 | I6: =A6 -> 6
A7: 7 | B7: Gerhard BERGER | C7: Arrows | D7: BMW | E7: 1'22''592 | F7: 2.749 | G7: 164.675 | H7: 103.443 | I7: =A7 -> 7
A8: 8 | B8: Patrick TAMBAY | C8: Renault | D8: Renault | E8: 1'22''683 | F8: 2.840 | G8: 164.493 | H8: 103.557 | I8: =A8 -> 8
A9: 9 | B9: Nelson PIQUET | C9: Brabham | D9: BMW | E9: 1'22''718 | F9: 2.875 | G9: 164.424 | H9: 103.601 | I9: =A9 -> 9
A10: 10 | B10: Elio De ANGELIS | C10: Lotus | D10: Renault | E10: 1'23''077 | F10: 3.234 | G10: 163.713 | H10: 104.050 | I10: =A10 -> 10
A11: 11 | B11: Thierry BOUTSEN | C11: Arrows | D11: BMW | E11: 1'23''196 | F11: 3.353 | G11: 163.479 | H11: 104.199 | I11: =A11 -> 11
A12: 12 | B12: Derek WARWICK | C12: Renault | D12: Renault | E12: 1'23''426 | F12: 3.583 | G12: 163.028 | H12: 104.488 | I12: =A12 -> 12
A13: 13 | B13: Eddie CHEEVER | C13: Alfa Romeo | D13: Alfa Romeo | E13: 1'23''597 | F13: 3.754 | G13: 162.695 | H13: 104.702 | I13: =A13 -> 13
... A24: 24 | B24: Teo FABI | C24: Toleman | D24: Hart | E24: 1'28''110 | F24: 8.267 | G24: 154.362 | H24: 110.354 | I24: =A24 -> 24
A25: 25 | B25: Huub ROTHENGATTER | C25: Osella | D25: Alfa Romeo | E25: 1'30''319 | F25: 10 | I25: =A25 -> 25
I26: =A26 -> 0
I27: =A27 -> 0
I28: =A28 -> 0
I29: =A29 -> 0
I30: =A30 -> 0
I31: =A31 -> 0
I32: =A32 -> 0
I33: =A33 -> 0

Sheet gd_prix
A1: clé | B1: date | C1: saison | D1: circuit | E1: pays | F1: n°_grand_prix | G1: nb_tours | H1: distance | I1: total_course | J1: vainqueur | K1: meilleur_tour | M1: pole_position | O1: tour_en_tête
A2: =C2&E2 -> 1985Australie | B2: 31354 | C2: =YEAR(B2) -> 1985 | D2: Adelaïde | E2: Australie | F2: 420 | G2: 82 | H2: 3.778 | I2: =G2*H2 -> 309.796 | J2: {=INDEX(aus_stats!$I:$I,MATCH($C2&$E2&"1",aus_stats!$D:$D&aus_stats!$F:$F&"1",0))} -> Keke ROSBERG | K2: {=INDEX(aus_stats!$I:$I,(MATCH($C2&$E2&$L2,aus_stats!$D:$D&aus_stats!$F:$F&aus_stats!$P:$P,0)))} -> #N/A | L2: {=INDEX(aus_stats!$P:$P,(MATCH($C2&$E2&"1",aus_stats!$D:$D&aus_stats!$F:$F&aus_stats!#REF!,0)))} -> #N/A | M2: {=INDEX(aus_stats!$I:$I,(MATCH($C2&$E2&"1",aus_stats!$D:$D&aus_stats!$F:$F&aus_stats!$Q:$Q,0)))} -> Ayrton SENNA | N2: {=INDEX(aus_stats!$R:$R,(MATCH($C2&$M2,aus_stats!$D:$D&aus_stats!$I:$I,0)))} -> 1'19''843
A3: =C3&E3 -> 1986Australie | B3: 31711 | C3: =YEAR(B3) -> 1986 | D3: Adelaïde | E3: Australie | F3: 436 | G3: 82 | H3: 3.779 | I3: =G3*H3 -> 309.878 | J3: {=INDEX(aus_stats!$I:$I,MATCH($C3&$E3&"1",aus_stats!$D:$D&aus_stats!$F:$F&"1",0))} -> Alain PROST | K3: {=INDEX(aus_stats!$I:$I,(MATCH($C3&$E3&$L3,aus_stats!$D:$D&aus_stats!$F:$F&aus_stats!$P:$P,0)))} -> #N/A | L3: {=INDEX(aus_stats!$P:$P,(MATCH($C3&$E3&"1",aus_stats!$D:$D&aus_stats!$F:$F&aus_stats!#REF!,0)))} -> #N/A | M3: {=INDEX(aus_stats!$I:$I,(MATCH($C3&$E3&"1",aus_stats!$D:$D&aus_stats!$F:$F&aus_stats!$Q:$Q,0)))} -> Nigel MANSELL | N3: {=INDEX(aus_stats!$R:$R,(MATCH($C3&$M3,aus_stats!$D:$D&aus_stats!$I:$I,0)))} -> 1'18''403
A4: =C4&E4 -> 1987Australie | B4: 32096 | C4: =YEAR(B4) -> 1987 | D4: Adelaïde | E4: Australie | F4: 452 | G4: 82 | H4: 3.779 | I4: =G4*H4 -> 309.878 | J4: {=INDEX(aus_stats!$I:$I,MATCH($C4&$E4&"1",aus_stats!$D:$D&aus_stats!$F:$F&"1",0))} -> Gerhard BERGER | K4: {=INDEX(aus_stats!$I:$I,(MATCH($C4&$E4&$L4,aus_stats!$D:$D&aus_stats!$F:$F&aus_stats!$P:$P,0)))} -> #N/A | L4: {=INDEX(aus_stats!$P:$P,(MATCH($C4&$E4&"1",aus_stats!$D:$D&aus_stats!$F:$F&aus_stats!#REF!,0)))} -> #N/A | M4: {=INDEX(aus_stats!$I:$I,(MATCH($C4&$E4&"1",aus_stats!$D:$D&aus_stats!$F:$F&aus_stats!$Q:$Q,0)))} -> Gerhard BERGER | N4: {=INDEX(aus_stats!$R:$R,(MATCH($C4&$M4,aus_stats!$D:$D&aus_stats!$I:$I,0)))} -> 1'17''267
A5: =C5&E5 -> 1988Australie | B5: 32460 | C5: =YEAR(B5) -> 1988 | D5: Adelaïde | E5: Australie | F5: 468 | G5: 82 | H5: 3.78 | I5: =G5*H5 -> 309.96 | J5: {=INDEX(aus_stats!$I:$I,MATCH($C5&$E5&"1",aus_stats!$D:$D&aus_stats!$F:$F&"1",0))} -> Alain PROST | K5: {=INDEX(aus_stats!$I:$I,(MATCH($C5&$E5&$L5,aus_stats!$D:$D&aus_stats!$F:$F&aus_stats!$P:$P,0)))} -> #N/A | L5: {=INDEX(aus_stats!$P:$P,(MATCH($C5&$E5&"1",aus_stats!$D:$D&aus_stats!$F:$F&aus_stats!#REF!,0)))} -> #N/A | M5: {=INDEX(aus_stats!$I:$I,(MATCH($C5&$E5&"1",aus_stats!$D:$D&aus_stats!$F:$F&aus_stats!$Q:$Q,0)))} -> Ayrton SENNA | N5: {=INDEX(aus_stats!$R:$R,(MATCH($C5&$M5,aus_stats!$D:$D&aus_stats!$I:$I,0)))} -> 1'17''748
A6: =C6&E6 -> 1989Australie | B6: 32817 | C6: =YEAR(B6) -> 1989 | D6: Adelaïde | E6: Australie | F6: 484 | G6: 70 | H6: 3.78 | I6: =G6*H6 -> 264.6 | J6: {=INDEX(aus_stats!$I:$I,MATCH($C6&$E6&"1",aus_stats!$D:$D&aus_stats!$F:$F&"1",0))} -> Thierry BOUTSEN | K6: {=INDEX(aus_stats!$I:$I,(MATCH($C6&$E6&$L6,aus_stats!$D:$D&aus_stats!$F:$F&aus_stats!$P:$P,0)))} -> #N/A | L6: {=INDEX(aus_stats!$P:$P,(MATCH($C6&$E6&"1",aus_stats!$D:$D&aus_stats!$F:$F&aus_stats!#REF!,0)))} -> #N/A | M6: {=INDEX(aus_stats!$I:$I,(MATCH($C6&$E6&"1",aus_stats!$D:$D&aus_stats!$F:$F&aus_stats!$Q:$Q,0)))} -> Ayrton SENNA | N6: {=INDEX(aus_stats!$R:$R,(MATCH($C6&$M6,aus_stats!$D:$D&aus_stats!$I:$I,0)))} -> 1'16''665
A7: =C7&E7 -> 1990Australie | B7: 33181 | C7: =YEAR(B7) -> 1990 | D7: Adelaïde | E7: Australie | F7: 500 | G7: 81 | H7: 3.78 | I7: =G7*H7 -> 306.18 | J7: {=INDEX(aus_stats!$I:$I,MATCH($C7&$E7&"1",aus_stats!$D:$D&aus_stats!$F:$F&"1",0))} -> Nelson PIQUET | K7: {=INDEX(aus_stats!$I:$I,(MATCH($C7&$E7&$L7,aus_stats!$D:$D&aus_stats!$F:$F&aus_stats!$P:$P,0)))} -> #N/A | L7: {=INDEX(aus_stats!$P:$P,(MATCH($C7&$E7&"1",aus_stats!$D:$D&aus_stats!$F:$F&aus_stats!#REF!,0)))} -> #N/A | M7: {=INDEX(aus_stats!$I:$I,(MATCH($C7&$E7&"1",aus_stats!$D:$D&aus_stats!$F:$F&aus_stats!$Q:$Q,0)))} -> Ayrton SENNA | N7: {=INDEX(aus_stats!$R:$R,(MATCH($C7&$M7,aus_stats!$D:$D&aus_stats!$I:$I,0)))} -> 1'15''671
A8: =C8&E8 -> 1991Australie | B8: 33545 | C8: =YEAR(B8) -> 1991 | D8: Adelaïde | E8: Australie | F8: 516 | G8: 14 | H8: 3.78 | I8: =G8*H8 -> 52.92 | J8: {=INDEX(aus_stats!$I:$I,MATCH($C8&$E8&"1",aus_stats!$D:$D&aus_stats!$F:$F&"1",0))} -> Ayrton SENNA | K8: {=INDEX(aus_stats!$I:$I,(MATCH($C8&$E8&$L8,aus_stats!$D:$D&aus_stats!$F:$F&aus_stats!$P:$P,0)))} -> #N/A | L8: {=INDEX(aus_stats!$P:$P,(MATCH($C8&$E8&"1",aus_stats!$D:$D&aus_stats!$F:$F&aus_stats!#REF!,0)))} -> #N/A | M8: {=INDEX(aus_stats!$I:$I,(MATCH($C8&$E8&"1",aus_stats!$D:$D&aus_stats!$F:$F&aus_stats!$Q:$Q,0)))} -> Ayrton SENNA | N8: {=INDEX(aus_stats!$R:$R,(MATCH($C8&$M8,aus_stats!$D:$D&aus_stats!$I:$I,0)))} -> 1'14''041
A9: =C9&E9 -> 1992Australie | B9: 33916 | C9: =YEAR(B9) -> 1992 | D9: Adelaïde | E9: Australie | F9: 532 | G9: 81 | H9: 3.78 | I9: =G9*H9 -> 306.18 | J9: {=INDEX(aus_stats!$I:$I,MATCH($C9&$E9&"1",aus_stats!$D:$D&aus_stats!$F:$F&"1",0))} -> Gerhard BERGER | K9: {=INDEX(aus_stats!$I:$I,(MATCH($C9&$E9&$L9,aus_stats!$D:$D&aus_stats!$F:$F&aus_stats!$P:$P,0)))} -> #N/A | L9: {=INDEX(aus_stats!$P:$P,(MATCH($C9&$E9&"1",aus_stats!$D:$D&aus_stats!$F:$F&aus_stats!#REF!,0)))} -> #N/A | M9: {=INDEX(aus_stats!$I:$I,(MATCH($C9&$E9&"1",aus_stats!$D:$D&aus_stats!$F:$F&aus_stats!$Q:$Q,0)))} -> Nigel MANSELL | N9: {=INDEX(aus_stats!$R:$R,(MATCH($C9&$M9,aus_stats!$D:$D&aus_stats!$I:$I,0)))} -> 1'13''732
A10: =C10&E10 -> 1993Australie | B10: 34280 | C10: =YEAR(B10) -> 1993 | D10: Adelaïde | E10: Australie | F10: 548 | G10: 79 | H10: 3.78 | I10: =G10*H10 -> 298.62 | J10: {=INDEX(aus_stats!$I:$I,MATCH($C10&$E10&"1",aus_stats!$D:$D&aus_stats!$F:$F&"1",0))} -> Ayrton SENNA | K10: {=INDEX(aus_stats!$I:$I,(MATCH($C10&$E10&$L10,aus_stats!$D:$D&aus_stats!$F:$F&aus_stats!$P:$P,0)))} -> #N/A | L10: {=INDEX(aus_stats!$P:$P,(MATCH($C10&$E10&"1",aus_stats!$D:$D&aus_stats!$F:$F&aus_stats!#REF!,0)))} -> #N/A | M10: {=INDEX(aus_stats!$I:$I,(MATCH($C10&$E10&"1",aus_stats!$D:$D&aus_stats!$F:$F&aus_stats!$Q:$Q,0)))} -> Ayrton SENNA | N10: {=INDEX(aus_stats!$R:$R,(MATCH($C10&$M10,aus_stats!$D:$D&aus_stats!$I:$I,0)))} -> 1'13''371
A11: =C11&E11 -> 1994Australie | B11: 34651 | C11: =YEAR(B11) -> 1994 | D11: Adelaïde | E11: Australie | F11: 564 | G11: 81 | H11: 3.78 | I11: =G11*H11 -> 306.18 | J11: {=INDEX(aus_stats!$I:$I,MATCH($C11&$E11&"1",aus_stats!$D:$D&aus_stats!$F:$F&"1",0))} -> Nigel MANSELL | K11: {=INDEX(aus_stats!$I:$I,(MATCH($C11&$E11&$L11,aus_stats!$D:$D&aus_stats!$F:$F&aus_stats!$P:$P,0)))} -> #N/A | L11: {=INDEX(aus_stats!$P:$P,(MATCH($C11&$E11&"1",aus_stats!$D:$D&aus_stats!$F:$F&aus_stats!#REF!,0)))} -> #N/A | M11: {=INDEX(aus_stats!$I:$I,(MATCH($C11&$E11&"1",aus_stats!$D:$D&aus_stats!$F:$F&aus_stats!$Q:$Q,0)))} -> Nigel MANSELL | N11: {=INDEX(aus_stats!$R:$R,(MATCH($C11&$M11,aus_stats!$D:$D&aus_stats!$I:$I,0)))} -> 1'16''179
A12: =C12&E12 -> 1995Australie | B12: 35015 | C12: =YEAR(B12) -> 1995 | D12: Adelaïde | E12: Australie | F12: 581 | G12: 81 | H12: 3.78 | I12: =G12*H12 -> 306.18 | J12: {=INDEX(aus_stats!$I:$I,MATCH($C12&$E12&"1",aus_stats!$D:$D&aus_stats!$F:$F&"1",0))} -> Damon HILL | K12: {=INDEX(aus_stats!$I:$I,(MATCH($C12&$E12&$L12,aus_stats!$D:$D&aus_stats!$F:$F&aus_stats!$P:$P,0)))} -> #N/A | L12: {=INDEX(aus_stats!$P:$P,(MATCH($C12&$E12&"1",aus_stats!$D:$D&aus_stats!$F:$F&aus_stats!#REF!,0)))} -> #N/A | M12: {=INDEX(aus_stats!$I:$I,(MATCH($C12&$E12&"1",aus_stats!$D:$D&aus_stats!$F:$F&aus_stats!$Q:$Q,0)))} -> Damon HILL | N12: {=INDEX(aus_stats!$R:$R,(MATCH($C12&$M12,aus_stats!$D:$D&aus_stats!$I:$I,0)))} -> 1'15''505
A13: =C13&E13 -> 1996Australie | B13: 35134 | C13: =YEAR(B13) -> 1996 | D13: Melbourne | E13: Australie | F13: 582 | G13: 58 | H13: 5.302 | I13: =G13*H13 -> 307.516 | J13: {=INDEX(aus_stats!$I:$I,MATCH($C13&$E13&"1",aus_stats!$D:$D&aus_stats!$F:$F&"1",0))} -> Damon HILL | K13: {=INDEX(aus_stats!$I:$I,(MATCH($C13&$E13&$L13,aus_stats!$D:$D&aus_stats!$F:$F&aus_stats!$P:$P,0)))} -> #N/A | L13: {=INDEX(aus_stats!$P:$P,(MATCH($C13&$E13&"1",aus_stats!$D:$D&aus_stats!$F:$F&aus_stats!#REF!,0)))} -> #N/A | M13: {=INDEX(aus_stats!$I:$I,(MATCH($C13&$E13&"1",aus_stats!$D:$D&aus_stats!$F:$F&aus_stats!$Q:$Q,0)))} -> Jacques VILLENEUVE | N13: {=INDEX(aus_stats!$R:$R,(MATCH($C13&$M13,aus_stats!$D:$D&aus_stats!$I:$I,0)))} -> 1'32''371
... A36: =C36&E36 -> 2019Australie | B36: 43541 | C36: =YEAR(B36) -> 2019 | D36: Melbourne | E36: Australie | F36: 998 | G36: 58 | H36: 5.303 | I36: =G36*H36 -> 307.574 | J36: {=INDEX(aus_stats!$I:$I,MATCH($C36&$E36&"1",aus_stats!$D:$D&aus_stats!$F:$F&"1",0))} -> Valtteri BOTTAS | K36: {=INDEX(aus_stats!$I:$I,(MATCH($C36&$E36&$L36,aus_stats!$D:$D&aus_stats!$F:$F&aus_stats!$P:$P,0)))} -> #N/A | L36: {=INDEX(aus_stats!$P:$P,(MATCH($C36&$E36&"1",aus_stats!$D:$D&aus_stats!$F:$F&aus_stats!#REF!,0)))} -> #N/A | M36: {=INDEX(aus_stats!$I:$I,(MATCH($C36&$E36&"1",aus_stats!$D:$D&aus_stats!$F:$F&aus_stats!$Q:$Q,0)))} -> Lewis HAMILTON | N36: {=INDEX(aus_stats!$R:$R,(MATCH($C36&$M36,aus_stats!$D:$D&aus_stats!$I:$I,0)))} -> 1'20''486
