Workbook

Sheet Ligue 1 
C3: Ligue 1 Saison 2019-2020
C5: Equipe | D5: Journée | E5: Victoire | G5: Nul | I5: Défaite | K5: BP | M5: BC | O5: Diff | P5: Pts
B6: Rang | E6: Dom | F6: Ext | G6: Dom | H6: Ext | I6: Dom | J6: Ext | K6: Dom | L6: Ext | M6: Dom | N6: Ext
B7: 1 | C7: PSG | D7: =SUM(E7,F7,G7,H7,I7,J7) -> 27 | E7: ='calend equipe'!J625 -> 12 | F7: ='calend equipe'!K625 -> 10 | G7: ='calend equipe'!P625 -> 1 | H7: ='calend equipe'!Q625 -> 1 | I7: ='calend equipe'!M625 -> 1 | J7: ='calend equipe'!N625 -> 2 | K7: ='calend equipe'!J636 -> 44 | L7: ='calend equipe'!K636 -> 31 | M7: ='calend equipe'!M636 -> 11 | N7: ='calend equipe'!N636 -> 13 | O7: =(K7+L7)-(M7+N7) -> 51 | P7: ='calend equipe'!G663 -> 68
B8: 2 | C8: Marseille | D8: =SUM(E8,F8,G8,H8,I8,J8) -> 28 | E8: ='calend equipe'!J317 -> 8 | F8: ='calend equipe'!K317 -> 8 | G8: ='calend equipe'!P317 -> 4 | H8: ='calend equipe'!Q317 -> 4 | I8: ='calend equipe'!M317 -> 2 | J8: ='calend equipe'!N317 -> 2 | K8: ='calend equipe'!J328 -> 21 | L8: ='calend equipe'!K328 -> 14 | M8: ='calend equipe'!M328 -> 14 | N8: ='calend equipe'!N328 -> 15 | O8: =(K8+L8)-(M8+N8) -> 6 | P8: ='calend equipe'!G355 -> 56
B9: 3 | C9: Rennes | D9: =SUM(E9,F9,G9,H9,I9,J9) -> 27 | E9: ='calend equipe'!J713 -> 8 | F9: ='calend equipe'!K713 -> 6 | G9: ='calend equipe'!P713 -> 2 | H9: ='calend equipe'!Q713 -> 3 | I9: ='calend equipe'!M713 -> 3 | J9: ='calend equipe'!N713 -> 5 | K9: ='calend equipe'!J724 -> 20 | L9: ='calend equipe'!K724 -> 11 | M9: ='calend equipe'!M724 -> 14 | N9: ='calend equipe'!N724 -> 8 | O9: =(K9+L9)-(M9+N9) -> 9 | P9: ='calend equipe'!G751 -> 47
B10: 4 | C10: Lille | D10: =SUM(E10,F10,G10,H10,I10,J10) -> 28 | E10: ='calend equipe'!J229 -> 11 | F10: ='calend equipe'!K229 -> 4 | G10: ='calend equipe'!P229 -> 2 | H10: ='calend equipe'!Q229 -> 2 | I10: ='calend equipe'!M229 -> 2 | J10: ='calend equipe'!N229 -> 7 | K10: ='calend equipe'!J240 -> 24 | L10: ='calend equipe'!K240 -> 11 | M10: ='calend equipe'!M240 -> 9 | N10: ='calend equipe'!N240 -> 18 | O10: =(K10+L10)-(M10+N10) -> 8 | P10: ='calend equipe'!G267 -> 49
B11: 5 | C11: Lyon | D11: =SUM(E11,F11,G11,H11,I11,J11) -> 28 | E11: ='calend equipe'!J273 -> 5 | F11: ='calend equipe'!K273 -> 6 | G11: ='calend equipe'!P273 -> 4 | H11: ='calend equipe'!Q273 -> 3 | I11: ='calend equipe'!M273 -> 4 | J11: ='calend equipe'!N273 -> 6 | K11: ='calend equipe'!J284 -> 17 | L11: ='calend equipe'!K284 -> 25 | M11: ='calend equipe'!M284 -> 7 | N11: ='calend equipe'!N284 -> 20 | O11: =(K11+L11)-(M11+N11) -> 15 | P11: ='calend equipe'!G311 -> 40
B12: 6 | C12: Montpellier | D12: =SUM(E12,F12,G12,H12,I12,J12) -> 27 | E12: ='calend equipe'!J449 -> 10 | F12: ='calend equipe'!K449 -> 1 | G12: ='calend equipe'!P449 -> 2 | H12: ='calend equipe'!Q449 -> 5 | I12: ='calend equipe'!M449 -> 2 | J12: ='calend equipe'!N449 -> 7 | K12: ='calend equipe'!J460 -> 26 | L12: ='calend equipe'!K460 -> 9 | M12: ='calend equipe'!M460 -> 10 | N12: ='calend equipe'!N460 -> 19 | O12: =(K12+L12)-(M12+N12) -> 6 | P12: ='calend equipe'!G487 -> 40
B13: 7 | C13: Monaco | D13: =SUM(E13,F13,G13,H13,I13,J13) -> 27 | E13: ='calend equipe'!J405 -> 8 | F13: ='calend equipe'!K405 -> 3 | G13: ='calend equipe'!P405 -> 2 | H13: ='calend equipe'!Q405 -> 5 | I13: ='calend equipe'!M405 -> 4 | J13: ='calend equipe'!N405 -> 5 | K13: ='calend equipe'!J416 -> 29 | L13: ='calend equipe'!K416 -> 14 | M13: ='calend equipe'!M416 -> 22 | N13: ='calend equipe'!N416 -> 20 | O13: =(K13+L13)-(M13+N13) -> 1 | P13: ='calend equipe'!G443 -> 40
B14: 8 | C14: Reims | D14: =SUM(E14,F14,G14,H14,I14,J14) -> 27 | E14: ='calend equipe'!J669 -> 4 | F14: ='calend equipe'!K669 -> 5 | G14: ='calend equipe'!P669 -> 7 | H14: ='calend equipe'!Q669 -> 4 | I14: ='calend equipe'!M669 -> 2 | J14: ='calend equipe'!N669 -> 5 | K14: ='calend equipe'!J680 -> 11 | L14: ='calend equipe'!K680 -> 14 | M14: ='calend equipe'!M680 -> 7 | N14: ='calend equipe'!N680 -> 14 | O14: =(K14+L14)-(M14+N14) -> 4 | P14: ='calend equipe'!G707 -> 38
B15: 9 | C15: Nice | D15: =SUM(E15,F15,G15,H15,I15,J15) -> 27 | E15: ='calend equipe'!J537 -> 7 | F15: ='calend equipe'!K537 -> 3 | G15: ='calend equipe'!P537 -> 4 | H15: ='calend equipe'!Q537 -> 4 | I15: ='calend equipe'!M537 -> 3 | J15: ='calend equipe'!N537 -> 6 | K15: ='calend equipe'!J548 -> 26 | L15: ='calend equipe'!K548 -> 13 | M15: ='calend equipe'!M548 -> 19 | N15: ='calend equipe'!N548 -> 18 | O15: =(K15+L15)-(M15+N15) -> 2 | P15: ='calend equipe'!G575 -> 38
B16: 10 | C16: Strasbourg | D16: =SUM(E16,F16,G16,H16,I16,J16) -> 27 | E16: ='calend equipe'!J801 -> 7 | F16: ='calend equipe'!K801 -> 4 | G16: ='calend equipe'!P801 -> 3 | H16: ='calend equipe'!Q801 -> 2 | I16: ='calend equipe'!M801 -> 3 | J16: ='calend equipe'!N801 -> 8 | K16: ='calend equipe'!J812 -> 22 | L16: ='calend equipe'!K812 -> 10 | M16: ='calend equipe'!M812 -> 14 | N16: ='calend equipe'!N812 -> 18 | O16: =(K16+L16)-(M16+N16) -> 0 | P16: ='calend equipe'!G839 -> 38
B17: 11 | C17: Nantes | D17: =SUM(E17,F17,G17,H17,I17,J17) -> 28 | E17: ='calend equipe'!J493 -> 6 | F17: ='calend equipe'!K493 -> 5 | G17: ='calend equipe'!P493 -> 2 | H17: ='calend equipe'!Q493 -> 2 | I17: ='calend equipe'!M493 -> 6 | J17: ='calend equipe'!N493 -> 7 | K17: ='calend equipe'!J504 -> 11 | L17: ='calend equipe'!K504 -> 17 | M17: ='calend equipe'!M504 -> 11 | N17: ='calend equipe'!N504 -> 20 | O17: =(K17+L17)-(M17+N17) -> -3 | P17: ='calend equipe'!G531 -> 37
B18: 12 | C18: Bordeaux | D18: =SUM(E18,F18,G18,H18,I18,J18) -> 28 | E18: ='calend equipe'!J97 -> 4 | F18: ='calend equipe'!K97 -> 5 | G18: ='calend equipe'!P97 -> 5 | H18: ='calend equipe'!Q97 -> 5 | I18: ='calend equipe'!M97 -> 4 | J18: ='calend equipe'!N97 -> 5 | K18: ='calend equipe'!J108 -> 19 | L18: ='calend equipe'!K108 -> 21 | M18: ='calend equipe'!M108 -> 12 | N18: ='calend equipe'!N108 -> 22 | O18: =(K18+L18)-(M18+N18) -> 6 | P18: ='calend equipe'!G135 -> 37
B19: 13 | C19: Angers | D19: =SUM(E19,F19,G19,H19,I19,J19) -> 28 | E19: ='calend equipe'!J53 -> 8 | F19: ='calend equipe'!K53 -> 3 | G19: ='calend equipe'!P53 -> 3 | H19: ='calend equipe'!Q53 -> 3 | I19: ='calend equipe'!M53 -> 4 | J19: ='calend equipe'!N53 -> 7 | K19: ='calend equipe'!J64 -> 20 | L19: ='calend equipe'!K64 -> 8 | M19: ='calend equipe'!M64 -> 13 | N19: ='calend equipe'!N64 -> 20 | O19: =(K19+L19)-(M19+N19) -> -5 | P19: ='calend equipe'!G91 -> 39
B20: 14 | C20: Brest | D20: =SUM(E20,F20,G20,H20,I20,J20) -> 27 | E20: ='calend equipe'!J141 -> 6 | F20: ='calend equipe'!K141 -> 2 | G20: ='calend equipe'!P141 -> 6 | H20: ='calend equipe'!Q141 -> 4 | I20: ='calend equipe'!M141 -> 2 | J20: ='calend equipe'!N141 -> 7 | K20: ='calend equipe'!J152 -> 21 | L20: ='calend equipe'!K152 -> 13 | M20: ='calend equipe'!M152 -> 11 | N20: ='calend equipe'!N152 -> 26 | O20: =(K20+L20)-(M20+N20) -> -3 | P20: ='calend equipe'!G179 -> 34
B21: 15 | C21: Metz | D21: =SUM(E21,F21,G21,H21,I21,J21) -> 27 | E21: ='calend equipe'!J361 -> 4 | F21: ='calend equipe'!K361 -> 3 | G21: ='calend equipe'!P361 -> 4 | H21: ='calend equipe'!Q361 -> 6 | I21: ='calend equipe'!M361 -> 5 | J21: ='calend equipe'!N361 -> 5 | K21: ='calend equipe'!J372 -> 16 | L21: ='calend equipe'!K372 -> 9 | M21: ='calend equipe'!M372 -> 16 | N21: ='calend equipe'!N372 -> 18 | O21: =(K21+L21)-(M21+N21) -> -9 | P21: ='calend equipe'!G399 -> 31
B22: 16 | C22: Saint Etienne | D22: =SUM(E22,F22,G22,H22,I22,J22) -> 28 | E22: ='calend equipe'!J757 -> 4 | F22: ='calend equipe'!K757 -> 4 | G22: ='calend equipe'!P757 -> 6 | H22: ='calend equipe'!Q757 -> 0 | I22: ='calend equipe'!M757 -> 4 | J22: ='calend equipe'!N757 -> 10 | K22: ='calend equipe'!J768 -> 15 | L22: ='calend equipe'!K768 -> 14 | M22: ='calend equipe'!M768 -> 15 | N22: ='calend equipe'!N768 -> 27 | O22: =(K22+L22)-(M22+N22) -> -13 | P22: ='calend equipe'!G795 -> 30
B23: 17 | C23: Dijon | D23: =SUM(E23,F23,G23,H23,I23,J23) -> 27 | E23: ='calend equipe'!J185 -> 4 | F23: ='calend equipe'!K185 -> 2 | G23: ='calend equipe'!P185 -> 6 | H23: ='calend equipe'!Q185 -> 3 | I23: ='calend equipe'!M185 -> 3 | J23: ='calend equipe'!N185 -> 9 | K23: ='calend equipe'!J196 -> 16 | L23: ='calend equipe'!K196 -> 7 | M23: ='calend equipe'!M196 -> 12 | N23: ='calend equipe'!N196 -> 22 | O23: =(K23+L23)-(M23+N23) -> -11 | P23: ='calend equipe'!G223 -> 27
B24: 18 | C24: Nîmes | D24: =SUM(E24,F24,G24,H24,I24,J24) -> 27 | E24: ='calend equipe'!J581 -> 6 | F24: ='calend equipe'!K581 -> 1 | G24: ='calend equipe'!P581 -> 2 | H24: ='calend equipe'!Q581 -> 4 | I24: ='calend equipe'!M581 -> 6 | J24: ='calend equipe'!N581 -> 8 | K24: ='calend equipe'!J592 -> 17 | L24: ='calend equipe'!K592 -> 11 | M24: ='calend equipe'!M592 -> 15 | N24: ='calend equipe'!N592 -> 27 | O24: =(K24+L24)-(M24+N24) -> -14 | P24: ='calend equipe'!G619 -> 27
B25: 19 | C25: Amiens | D25: =SUM(E25,F25,G25,H25,I25,J25) -> 28 | E25: ='calend equipe'!J9 -> 3 | F25: ='calend equipe'!K9 -> 1 | G25: ='calend equipe'!P9 -> 5 | H25: ='calend equipe'!Q9 -> 6 | I25: ='calend equipe'!M9 -> 6 | J25: ='calend equipe'!N9 -> 7 | K25: ='calend equipe'!J20 -> 17 | L25: ='calend equipe'!K20 -> 14 | M25: ='calend equipe'!M20 -> 23 | N25: ='calend equipe'!N20 -> 27 | O25: =(K25+L25)-(M25+N25) -> -19 | P25: ='calend equipe'!G47 -> 23
B26: 20 | C26: Toulouse | D26: =SUM(E26,F26,G26,H26,I26,J26) -> 27 | E26: ='calend equipe'!J845 -> 3 | F26: ='calend equipe'!K845 -> 0 | G26: ='calend equipe'!P845 -> 0 | H26: ='calend equipe'!Q845 -> 4 | I26: ='calend equipe'!M845 -> 10 | J26: ='calend equipe'!N845 -> 10 | K26: ='calend equipe'!J856 -> 11 | L26: ='calend equipe'!K856 -> 10 | M26: ='calend equipe'!M856 -> 24 | N26: ='calend equipe'!N856 -> 30 | O26: =(K26+L26)-(M26+N26) -> -33 | P26: ='calend equipe'!G883 -> 13
B29: Top 5 BP Domicile

Sheet Journées
M3: =N8 -> 1
C7: Journée 1 | H7: Journée 2 | M7: Journée 3 | R7: Journée 4
C8: Nice | D8: 2 | E8: 1 | F8: Amiens | H8: Amiens | I8: 1 | J8: 0 | K8: Lille | M8: Amiens | N8: 1 | O8: 2 | P8: Nantes | R8: Toulouse | S8: 2 | T8: 0 | U8: Amiens
C9: Angers | D9: 3 | E9: 1 | F9: Bordeaux | H9: Lyon | I9: 6 | J9: 0 | K9: Angers | M9: Angers | N9: 3 | O9: 0 | P9: Metz | R9: Angers | S9: 2 | T9: 0 | U9: Dijon
C10: Brest | D10: 1 | E10: 1 | F10: Toulouse | H10: Bordeaux | I10: 1 | J10: 1 | K10: Montpellier | M10: Dijon | N10: 0 | O10: 2 | P10: Bordeaux | R10: Lyon | S10: 1 | T10: 1 | U10: Bordeaux
C11: Dijon | D11: 1 | E11: 2 | F11: Saint Etienne | H11: Saint Etienne | I11: 1 | J11: 1 | K11: Brest | M11: Brest | N11: 1 | O11: 0 | P11: Reims | R11: Nîmes | S11: 3 | T11: 0 | U11: Brest
C12: Lille | D12: 2 | E12: 1 | F12: Nantes | H12: Toulouse | I12: 1 | J12: 0 | K12: Dijon | M12: Lille | N12: 3 | O12: 0 | P12: Saint Etienne | R12: Reims | S12: 2 | T12: 0 | U12: Lille
C13: Monaco | D13: 0 | E13: 3 | F13: Lyon | H13: Nantes | I13: 0 | J13: 0 | K13: Marseille | M13: Montpellier | N13: 1 | O13: 0 | P13: Lyon | R13: Marseille | S13: 1 | T13: 0 | U13: Saint Etienne
C14: Marseille | D14: 0 | E14: 2 | F14: Reims | H14: Metz | I14: 3 | J14: 0 | K14: Monaco | M14: Nice | N14: 1 | O14: 2 | P14: Marseille | R14: Metz | S14: 0 | T14: 2 | U14: PSG
C15: Strasbourg | D15: 1 | E15: 1 | F15: Metz | H15: Nîmes | I15: 1 | J15: 2 | K15: Nice | M15: Monaco | N15: 2 | O15: 2 | P15: Nîmes | R15: Strasbourg | S15: 2 | T15: 2 | U15: Monaco
C16: Montpellier | D16: 0 | E16: 1 | F16: Rennes | H16: Rennes | I16: 2 | J16: 1 | K16: PSG | M16: PSG | N16: 4 | O16: 0 | P16: Toulouse | R16: Nantes | S16: 1 | T16: 0 | U16: Montpellier
C17: PSG | D17: 3 | E17: 0 | F17: Nîmes | H17: Reims | I17: 0 | J17: 0 | K17: Strasbourg | M17: Strasbourg | N17: 0 | O17: 2 | P17: Rennes | R17: Rennes | S17: 1 | T17: 2 | U17: Nice
C20: Journée 5 | H20: Journée 6 | M20: Journée 7 | R20: Journée 8
C21: Amiens | D21: 2 | E21: 2 | F21: Lyon | H21: Metz | I21: 1 | J21: 2 | K21: Amiens | M21: Monaco | N21: 3 | O21: 1 | P21: Nice | R21: Nice | S21: 1 | T21: 1 | U21: Lille
C22: Lille | D22: 2 | E22: 1 | F22: Angers | H22: Angers | I22: 4 | J22: 1 | K22: Saint Etienne | M22: Brest | N22: 2 | O22: 2 | P22: Lyon | R22: Bordeaux | S22: 0 | T22: 1 | U22: PSG
C23: Bordeaux | D23: 2 | E23: 0 | F23: Metz | H23: Bordeaux | I23: 2 | J23: 2 | K23: Brest | M23: Nantes | N23: 1 | O23: 0 | P23: Rennes | R23: Angers | S23: 1 | T23: 1 | U23: Amiens
C24: Brest | D24: 0 | E24: 0 | F24: Rennes | H24: Nice | I24: 2 | J24: 1 | K24: Dijon | M24: PSG | N24: 0 | O24: 2 | P24: Reims | R24: Monaco | S24: 4 | T24: 1 | U24: Brest
C25: Dijon | D25: 0 | E25: 0 | F25: Nîmes | H25: Rennes | I25: 1 | J25: 1 | K25: Lille | M25: Saint Etienne | N25: 0 | O25: 1 | P25: Metz | R25: Metz | S25: 2 | T25: 2 | U25: Toulouse
C26: Monaco | D26: 3 | E26: 4 | F26: Marseille | H26: Lyon | I26: 0 | J26: 1 | K26: PSG | M26: Montpellier | N26: 1 | O26: 0 | P26: Nîmes | R26: Lyon | S26: 0 | T26: 1 | U26: Nantes
C27: Montpellier | D27: 2 | E27: 1 | F27: Nice | H27: Marseille | I27: 1 | J27: 1 | K27: Montpellier | M27: Dijon | N27: 0 | O27: 0 | P27: Marseille | R27: Strasbourg | S27: 1 | T27: 0 | U27: Montpellier
C28: Nantes | D28: 1 | E28: 0 | F28: Reims | H28: Reims | I28: 0 | J28: 0 | K28: Monaco | M28: Toulouse | N28: 0 | O28: 2 | P28: Angers | R28: Marseille | S28: 1 | T28: 1 | U28: Rennes
C29: PSG | D29: 1 | E29: 0 | F29: Strasbourg | H29: Starsbourg | I29: 2 | J29: 1 | K29: Nantes | M29: Lille | N29: 2 | O29: 0 | P29: Starsbourg | R29: Nîmes | S29: 0 | T29: 1 | U29: Saint Etienne
C30: Saint Etienne | D30: 2 | E30: 2 | F30: Toulouse | H30: Nîmes | I30: 1 | J30: 0 | K30: Toulouse | M30: Amiens | N30: 1 | O30: 3 | P30: Bordeaux | R30: Reims | S30: 1 | T30: 2 | U30: Dijon
C33: Journée 9 | H33: Journée 10 | M33: Journée 11 | R33: Journée 12
C34: Rennes | D34: 0 | E34: 1 | F34: Reims | H34: Reims | I34: 1 | J34: 0 | K34: Montpellier | M34: Strasbourg | N34: 1 | O34: 0 | P34: Nice | R34: Bordeaux | S34: 2 | T34: 0 | U34: Nantes
C35: Dijon | D35: 1 | E35: 0 | F35: Strasbourg | H35: Angers | I35: 0 | J35: 1 | K35: Brest | M35: Rennes | N35: 3 | O35: 2 | P35: Toulouse | R35: Nîmes | S35: 0 | T35: 1 | U35: Rennes
C36: Amiens | D36: 3 | E36: 1 | F36: Marseille | H36: Metz | I36: 1 | J36: 0 | K36: Nantes | M36: Saint Etienne | N36: 2 | O36: 2 | P36: Amiens | R36: Marseille | S36: 2 | T36: 1 | U36: Lille
C37: Montpellier | D37: 3 | E37: 1 | F37: Monaco | H37: Toulouse | I37: 2 | J37: 1 | K37: Lille | M37: Brest | N37: 2 | O37: 0 | P37: Dijon | R37: Saint Etienne | S37: 1 | T37: 0 | U37: Monaco
C38: Lille | D38: 2 | E38: 2 | F38: Nîmes | H38: Nice | I38: 1 | J38: 4 | K38: PSG | M38: Lyon | N38: 2 | O38: 0 | P38: Metz | R38: Metz | S38: 2 | T38: 2 | U38: Montpellier
C39: PSG | D39: 4 | E39: 0 | F39: Angers | H39: Bordeaux | I39: 0 | J39: 1 | K39: Saint Etienne | M39: PSG | N39: 4 | O39: 0 | P39: Marseille | R39: Toulouse | S39: 2 | T39: 3 | U39: Lyon
C40: Toulouse | D40: 1 | E40: 3 | F40: Bordeaux | H40: Nîmes | I40: 1 | J40: 1 | K40: Amiens | M40: Nantes | N40: 0 | O40: 1 | P40: Monaco | R40: Dijon | S40: 2 | T40: 1 | U40: PSG
C41: Brest | D41: 2 | E41: 0 | F41: Metz | H41: Marseille | I41: 2 | J41: 0 | K41: Strasbourg | M41: Reims | N41: 0 | O41: 0 | P41: Nîmes | R41: Angers | S41: 1 | T41: 0 | U41: Strasbourg
C42: Saint Etienne | D42: 1 | E42: 0 | F42: Lyon | H42: Lyon | I42: 0 | J42: 0 | K42: Dijon | M42: Montpellier | N42: 0 | O42: 0 | P42: Angers | R42: Amiens | S42: 1 | T42: 0 | U42: Brest
C43: Nantes | D43: 1 | E43: 0 | F43: Nice | H43: Monaco | I43: 3 | J43: 2 | K43: Rennes | M43: Lille | N43: 3 | O43: 0 | P43: Bordeaux | R43: Nice | S43: 2 | T43: 0 | U43: Reims
C46: Journée 13 | H46: Journée 14 | M46: Journée 15 | R46: Journée 16
C47: Marseille | D47: 2 | E47: 1 | F47: Lyon | H47: Toulouse | I47: 0 | J47: 2 | K47: Marseille | M47: Strasbourg | N47: 1 | O47: 2 | P47: Lyon | R47: PSG | S47: 2 | T47: 0 | U47: Nantes
C48: Montpellier | D48: 3 | E48: 0 | F48: Toulouse | H48: PSG | I48: 2 | J48: 0 | K48: Lille | M48: Reims | N48: 1 | O48: 1 | P48: Bordeaux | R48: Bordeaux | S48: 6 | T48: 0 | U48: Nîmes
C49: Nice | D49: 1 | E49: 1 | F49: Bordeaux | H49: Lyon | I49: 2 | J49: 1 | K49: Nice | M49: Monaco | N49: 1 | O49: 4 | P49: PSG | R49: Saint Etienne | S49: 4 | T49: 1 | U49: Nice
C50: Monaco | D50: 1 | E50: 0 | F50: Dijon | H50: Brest | I50: 1 | J50: 1 | K50: Nantes | M50: Nîmes | N50: 1 | O50: 1 | P50: Metz | R50: Dijon | S50: 2 | T50: 2 | U50: Montpellier
C51: Rennes | D51: 3 | E51: 1 | F51: Amiens | H51: Bordeaux | I51: 2 | J51: 1 | K51: Monaco | M51: Nantes | N51: 2 | O51: 1 | P51: Toulouse | R51: Amiens | S51: 1 | T51: 1 | U51: Reims
C52: Lille | D52: 0 | E52: 0 | F52: Metz | H52: Metz | I52: 1 | J52: 1 | K52: Reims | M52: Rennes | N52: 2 | O52: 1 | P52: Saint Etienne | R52: Lyon | S52: 0 | T52: 1 | U52: Lille
C53: Brest | D53: 1 | E53: 2 | F53: PSG | H53: Saint Etienne | I53: 0 | J53: 0 | K53: Montpellier | M53: Marseille | N53: 2 | O53: 1 | P53: Brest | R53: Angers | S53: 0 | T53: 2 | U53: Marseille
C54: Reims | D54: 0 | E54: 0 | F54: Angers | H54: Amiens | I54: 0 | J54: 4 | K54: Strasbourg | M54: Montpellier | N54: 4 | O54: 2 | P54: Amiens | R54: Brest | S54: 5 | T54: 0 | U54: Strasbourg
C55: Strasbourg | D55: 4 | E55: 1 | F55: Nîmes | H55: Angers | I55: 1 | J55: 0 | K55: Nîmes | M55: Lille | N55: 1 | O55: 0 | P55: Dijon | R55: Toulouse | S55: 1 | T55: 2 | U55: Monaco
C56: Nantes | D56: 2 | E56: 3 | F56: Saint Etienne | H56: Dijon | I56: 2 | J56: 1 | K56: Rennes | M56: Nice | N56: 3 | O56: 1 | P56: Angers | R56: Metz | S56: 0 | T56: 1 | U56: Rennes
C59: Journée 17 | H59: Journée 18 | M59: Journée 19 | R59: Journée 20
C60: Nîmes | D60: 0 | E60: 4 | F60: Lyon | H60: Nîmes | I60: 0 | J60: 1 | K60: Nantes | M60: Montpellier | N60: 4 | O60: 0 | P60: Brest | R60: Toulouse | S60: 2 | T60: 5 | U60: Brest
C61: Nice | D61: 4 | E61: 1 | F61: Metz | H61: Saint Etienne | I61: 0 | J61: 4 | K61: PSG | M61: Dijon | N61: 2 | O61: 2 | P61: Metz | R61: Amiens | S61: 1 | T61: 2 | U61: Montpellier
C62: Montpellier | D62: 1 | E62: 3 | F62: PSG | H62: Lyon | I62: 0 | J62: 1 | K62: Rennes | M62: Rennes | N62: 1 | O62: 0 | P62: Bordeaux | R62: Bordeaux | S62: 1 | T62: 2 | U62: Lyon
C63: Rennes | D63: 2 | E63: 1 | F63: Angers | H63: Angers | I63: 0 | J63: 0 | K63: Monaco | M63: Strasbourg | N63: 2 | O63: 1 | P63: Saint Etienne | R63: Angers | S63: 1 | T63: 1 | U63: Nice
C64: Reims | D64: 3 | E64: 1 | F64: Saint Etienne | H64: Bordeaux | I64: 0 | J64: 1 | K64: Strasbourg | M64: Monaco | N64: 5 | O64: 1 | P64: Lille | R64: Rennes | S64: 0 | T64: 1 | U64: Marseille
C65: Nantes | D65: 1 | E65: 0 | F65: Dijon | H65: Toulouse | I65: 0 | J65: 1 | K65: Reims | M65: Reims | N65: 1 | O65: 1 | P65: Lyon | R65: Nîmes | S65: 2 | T65: 0 | U65: Reims
C66: Strasbourg | D66: 4 | E66: 2 | F66: Toulouse | H66: Lille | I66: 2 | J66: 1 | K66: Montpellier | M66: Nantes | N66: 1 | O66: 2 | P66: Angers | R66: Metz | S66: 1 | T66: 0 | U66: Strasbourg
C67: Marseille | D67: 3 | E67: 1 | F67: Bordeaux | H67: Metz | I67: 1 | J67: 1 | K67: Marseille | M67: Nice | N67: 3 | O67: 0 | P67: Toulouse | R67: Dijon | S67: 1 | T67: 0 | U67: Lille
C68: Monaco | D68: 3 | E68: 0 | F68: Amiens | H68: Amiens | I68: 1 | J68: 1 | K68: Dijon | M68: PSG | N68: 4 | O68: 1 | P68: Amiens | R68: PSG | S68: 3 | T68: 3 | U68: Monaco
C69: Lille | D69: 1 | E69: 0 | F69: Brest | H69: Brest | I69: 0 | J69: 0 | K69: Nice | M69: Marseille | N69: 3 | O69: 1 | P69: Nîmes | R69: Saint Etienne | S69: 0 | T69: 2 | U69: Nantes
C72: Journée 21 | H72: Journée 22 | M72: Journée 23 | R72: Journée 24
C73: Brest | D73: 2 | E73: 1 | F73: Amiens | H73: Bordeaux | I73: 0 | J73: 0 | K73: Marseille | M73: Saint Etienne | N73: 0 | O73: 2 | P73: Marseille | R73: PSG | S73: 4 | T73: 2 | U73: Lyon
C74: Monaco | D74: 1 | E74: 3 | F74: Strasbourg | H74: Metz | I74: 3 | J74: 1 | K74: Saint Etienne | M74: Brest | N74: 1 | O74: 1 | P74: Bordeaux | R74: Strasbourg | S74: 3 | T74: 0 | U74: Reims
C75: Marseille | D75: 0 | E75: 0 | F75: Angers | H75: Nice | I75: 2 | J75: 1 | K75: Lyon | M75: Lyon | N75: 0 | O75: 0 | P75: Amiens | R75: Montpellier | S75: 1 | T75: 0 | U75: Saint Etienne
C76: Montpellier | D76: 2 | E76: 1 | F76: Dijon | H76: Amiens | I76: 0 | J76: 0 | K76: Toulouse | M76: Montpellier | N76: 1 | O76: 1 | P76: Metz | R76: Amiens | S76: 1 | T76: 2 | U76: Monaco
C77: Reims | D77: 0 | E77: 1 | F77: Metz | H77: Angers | I77: 1 | J77: 4 | K77: Reims | M77: Nîmes | N77: 2 | O77: 0 | P77: Dijon | R77: Dijon | S77: 3 | T77: 3 | U77: Nantes
C78: Nantes | D78: 0 | E78: 1 | F78: Bordeaux | H78: Dijon | I78: 3 | J78: 0 | K78: Brest | M78: Reims | N78: 1 | O78: 1 | P78: Nice | R78: Metz | S78: 1 | T78: 2 | U78: Bordeaux
C79: Nice | D79: 1 | E79: 1 | F79: Rennes | H79: Nîmes | I79: 3 | J79: 1 | K79: Monaco | M79: Toulouse | N79: 0 | O79: 1 | P79: Strasbourg | R79: Nice | S79: 1 | T79: 3 | U79: Nîmes
C80: Lyon | D80: 3 | E80: 0 | F80: Toulouse | H80: Strasbourg | I80: 1 | J80: 2 | K80: Lille | M80: Nantes | N80: 1 | O80: 2 | P80: PSG | R80: Rennes | S80: 0 | T80: 0 | U80: Brest
C81: Lille | D81: 0 | E81: 2 | F81: PSG | H81: PSG | I81: 5 | J81: 0 | K81: Montpellier | M81: Lille | N81: 1 | O81: 0 | P81: Rennes | R81: Marseille | S81: 1 | T81: 0 | U81: Toulouse
C82: Saint Etienne | D82: 2 | E82: 1 | F82: Nîmes | H82: Rennes | I82: 3 | J82: 2 | K82: Nantes | M82: Monaco | N82: 1 | O82: 0 | P82: Angers | R82: Angers | S82: 0 | T82: 2 | U82: Lille
C85: Journée 25 | H85: Journée 26 | M85: Journée 27 | R85: Journée 28
C86: Amiens | D86: 4 | E86: 4 | F86: PSG | H86: Metz | I86: 0 | J86: 2 | K86: Lyon | M86: Lyon | N86: 2 | O86: 0 | P86: Saint Etienne | R86: Nice | U86: Monaco
C87: Bordeaux | D87: 2 | E87: 2 | F87: Dijon | H87: Rennes | I87: 2 | J87: 1 | K87: Nîmes | M87: Amiens | N87: 0 | O87: 1 | P87: Metz | R87: Strasbourg | U87: PSG
C88: Brest | D88: 3 | E88: 2 | F88: Saint Etienne | H88: Nice | I88: 2 | J88: 2 | K88: Brest | M88: Brest | N88: 0 | O88: 1 | P88: Angers | R88: Dijon | U88: Toulouse
C89: Nantes | D89: 0 | E89: 0 | F89: Metz | H89: Lille | I89: 3 | J89: 0 | K89: Toulouse | M89: Bordeaux | N89: 1 | O89: 1 | P89: Nice | R89: Lille | S89: 1 | T89: 0 | U89: Lyon
C90: Toulouse | D90: 0 | E90: 2 | F90: Nice | H90: Dijon | I90: 1 | J90: 1 | K90: Monaco | M90: PSG | N90: 4 | O90: 0 | P90: Dijon | R90: Saint Etienne | S90: 1 | T90: 1 | U90: Bordeaux
C91: Lyon | D91: 1 | E91: 1 | F91: Strasbourg | H91: Saint Etienne | I91: 1 | J91: 1 | K91: Reims | M91: Toulouse | N91: 0 | O91: 2 | P91: Rennes | R91: Angers | S91: 2 | T91: 0 | U91: Nantes
C92: Monaco | D92: 1 | E92: 0 | F92: Montpellier | H92: Marseille | I92: 1 | J92: 3 | K92: Nantes | M92: Monaco | N92: 1 | O92: 1 | P92: Reims | R92: Marseille | S92: 2 | T92: 2 | U92: Amiens
C93: Lille | D93: 1 | E93: 2 | F93: Marseille | H93: PSG | I93: 4 | J93: 3 | K93: Bordeaux | M93: Nîmes | N93: 2 | O93: 3 | P93: Marseille | R93: Metz | U93: Nîmes
C94: Nîmes | D94: 1 | E94: 0 | F94: Angers | H94: Strasbourg | I94: 0 | J94: 0 | K94: Amiens | M94: Montpellier | N94: 3 | O94: 0 | P94: Strasbourg | R94: Rennes | U94: Montpellier
C95: Reims | D95: 1 | E95: 0 | F95: Rennes | H95: Angers | I95: 1 | J95: 0 | K95: Montpellier | M95: Nantes | N95: 0 | O95: 1 | P95: Lille | R95: Reims | U95: Brest
C98: Journée 29 | H98: Journée 30 | M98: Journée 31 | R98: Journée 32
C111: Journée 33 | H111: Journée 34 | M111: Journée 35 | R111: Journée 36
C124: Journée 37 | H124: Journée 38

Sheet calend equipe
A6: amiens | B6: Amiens
C7: Domicile | E7: Extérieur | G7: Points | J7: Victoire | M7: Défaite | P7: Nul
B8: J1 | C8: Nice | D8: =Journées!D8 -> 2 | E8: =Journées!E8 -> 1 | F8: Amiens | G8: =_xlfn.IFS(E8="","",D8>E8,0,D8=E8,1,D8<E8,3) -> 0 | J8: Domicile | K8: Extérieur | M8: Domicile | N8: Extérieur | P8: Domicile | Q8: Extérieur
B9: J2 | C9: Amiens | D9: 1 | E9: 0 | F9: Lille | G9: =_xlfn.IFS(D9="","",D9<E9,0,D9=E9,1,D9>E9,3) -> 3 | J9: =COUNTIFS(C8:C45,F8,G8:G45,3) -> 3 | K9: =COUNTIFS(F8:F45,F8,G8:G45,3) -> 1 | M9: =COUNTIFS(C8:C45,C9,G8:G45,0) -> 6 | N9: =COUNTIFS(F8:F45,C9,G8:G45,0) -> 7 | P9: =COUNTIFS(C8:C45,C34,G8:G45,1) -> 5 | Q9: =COUNTIFS(F8:F45,C34,G8:G45,1) -> 6
B10: J3 | C10: Amiens | D10: =IF(ISBLANK(Journées!N8),"",(Journées!N8)) -> 1 | E10: =IF(ISBLANK(Journées!O8),"",(Journées!O8)) -> 2 | F10: Nantes | G10: =_xlfn.IFS(D10="","",D10<E10,0,D10=E10,1,D10>E10,3) -> 0 | J10: =J9/J11 -> 0.75 | K10: =K9/J11 -> 0.25 | M10: =M9/M11 -> 0.46153846 | N10: =N9/M11 -> 0.53846154 | P10: =P9/P11 -> 0.45454545 | Q10: =Q9/P11 -> 0.54545455
B11: J4 | C11: Toulouse | D11: =IF(ISBLANK(Journées!S8),"",(Journées!S8)) -> 2 | E11: =IF(ISBLANK(Journées!T8),"",(Journées!T8)) -> 0 | F11: Amiens | G11: =_xlfn.IFS(E11="","",D11>E11,0,D11=E11,1,D11<E11,3) -> 0 | J11: =J9+K9 -> 4 | M11: =M9+N9 -> 13 | P11: =P9+Q9 -> 11
B12: J5 | C12: Amiens | D12: =IF(ISBLANK(Journées!D21),"",(Journées!D21)) -> 2 | E12: =IF(ISBLANK(Journées!E21),"",(Journées!E21)) -> 2 | F12: Lyon | G12: =_xlfn.IFS(D12="","",D12<E12,0,D12=E12,1,D12>E12,3) -> 1
B13: J6 | C13: Metz | D13: =IF(ISBLANK(Journées!I21),"",(Journées!I21)) -> 1 | E13: =IF(ISBLANK(Journées!J21),"",(Journées!J21)) -> 2 | F13: Amiens | G13: =_xlfn.IFS(E13="","",D13>E13,0,D13=E13,1,D13<E13,3) -> 3
B14: J7 | C14: Amiens | D14: =IF(ISBLANK(Journées!N30),"",(Journées!N30)) -> 1 | E14: =IF(ISBLANK(Journées!O30),"",(Journées!O30)) -> 3 | F14: Bordeaux | G14: =_xlfn.IFS(D14="","",D14<E14,0,D14=E14,1,D14>E14,3) -> 0 | J14: Moyenne | K14: Victoire | L14: Défaite | M14: Nul
B15: J8 | C15: Angers | D15: =IF(ISBLANK(Journées!S23),"",(Journées!S23)) -> 1 | E15: =IF(ISBLANK(Journées!T23),"",(Journées!T23)) -> 1 | F15: Amiens | G15: =_xlfn.IFS(E15="","",D15>E15,0,D15=E15,1,D15<E15,3) -> 1 | J15: % | K15: =J11/(J11+M11+P11) -> 0.14285714 | L15: =M11/(J11+M11+P11) -> 0.46428571 | M15: =P11/(J11+M11+P11) -> 0.39285714
B16: J9 | C16: Amiens | D16: =IF(ISBLANK(Journées!D36),"",(Journées!D36)) -> 3 | E16: =IF(ISBLANK(Journées!E36),"",(Journées!E36)) -> 1 | F16: Marseille | G16: =_xlfn.IFS(D16="","",D16<E16,0,D16=E16,1,D16>E16,3) -> 3
B17: J10 | C17: Nîmes | D17: =IF(ISBLANK(Journées!I40),"",(Journées!I40)) -> 1 | E17: =IF(ISBLANK(Journées!J40),"",(Journées!J40)) -> 1 | F17: Amiens | G17: =_xlfn.IFS(E17="","",D17>E17,0,D17=E17,1,D17<E17,3) -> 1
B18: J11 | C18: Saint Etienne | D18: =IF(ISBLANK(Journées!N36),"",(Journées!N36)) -> 2 | E18: =IF(ISBLANK(Journées!O36),"",(Journées!O36)) -> 2 | F18: Amiens | G18: =_xlfn.IFS(E18="","",D18>E18,0,D18=E18,1,D18<E18,3) -> 1 | J18: Buts Pour | M18: Buts Contre
B19: J12 | C19: Amiens | D19: =IF(ISBLANK(Journées!S42),"",(Journées!S42)) -> 1 | E19: =IF(ISBLANK(Journées!T42),"",(Journées!T42)) -> 0 | F19: Brest | G19: =_xlfn.IFS(D19="","",D19<E19,0,D19=E19,1,D19>E19,3) -> 3 | J19: Domicile | K19: Extérieur | M19: Domicile | N19: Extérieur
B20: J13 | C20: Rennes | D20: =IF(ISBLANK(Journées!D51),"",(Journées!D51)) -> 3 | E20: =IF(ISBLANK(Journées!E51),"",(Journées!E51)) -> 1 | F20: Amiens | G20: =_xlfn.IFS(E20="","",D20>E20,0,D20=E20,1,D20<E20,3) -> 0 | J20: =SUM(D9,D10,D12,D14,D16,D19,D21,D23,D25,D27,D29,D31,D32,D34,D36,D38,D40,D42,D45) -> 17 | K20: =SUM(E8,E11,E13,E15,E17,E18,E20,E22,E24,E26,E28,E30,E33,E35,E37,E39,E41,E44,E43) -> 14 | M20: =SUM(E9,E10,E12,E14,E16,E19,E21,E23,E25,E27,E29,E31,E32,E34,E36,E38,E40,E42,E45) -> 23 | N20: =SUM(D8,D11,D13,D15,D17,D18,D20,D22,D24,D26,D28,D30,D33,D35,D37,D39,D41,D43,D44) -> 27
B21: J14 | C21: Amiens | D21: =IF(ISBLANK(Journées!I54),"",(Journées!I54)) -> 0 | E21: =IF(ISBLANK(Journées!J54),"",(Journées!J54)) -> 4 | F21: Strasbourg | G21: =_xlfn.IFS(D21="","",D21<E21,0,D21=E21,1,D21>E21,3) -> 0 | J21: =J20/K22 -> 0.5483871 | K21: =K20/K22 -> 0.4516129 | M21: =M20/N22 -> 0.46 | N21: =N20/N22 -> 0.54
B22: J15 | C22: Montpellier | D22: =IF(ISBLANK(Journées!N54),"",(Journées!N54)) -> 4 | E22: =IF(ISBLANK(Journées!O54),"",(Journées!O54)) -> 2 | F22: Amiens | G22: =_xlfn.IFS(E22="","",D22>E22,0,D22=E22,1,D22<E22,3) -> 0 | J22: Total BP | K22: =J20+K20 -> 31 | M22: Total BC | N22: =M20+N20 -> 50
B23: J16 | C23: Amiens | D23: =IF(ISBLANK(Journées!S51),"",(Journées!S51)) -> 1 | E23: =IF(ISBLANK(Journées!T51),"",(Journées!T51)) -> 1 | F23: Reims | G23: =_xlfn.IFS(D23="","",D23<E23,0,D23=E23,1,D23>E23,3) -> 1
B24: J17 | C24: Monaco | D24: =IF(ISBLANK(Journées!D68),"",(Journées!D68)) -> 3 | E24: =IF(ISBLANK(Journées!E68),"",(Journées!E68)) -> 0 | F24: Amiens | G24: =_xlfn.IFS(E24="","",D24>E24,0,D24=E24,1,D24<E24,3) -> 0 | J24: Moy butpour/match | L24: 1 | M24: Moy butcontre/match | O24: =N22/(J11+M11+P11) -> 1.7857143 | P24: Moy but/match | R24: =(K22+N22)/(J11+M11+P11) -> 2.8928571
B25: J18 | C25: Amiens | D25: =IF(ISBLANK(Journées!I68),"",(Journées!I68)) -> 1 | E25: =IF(ISBLANK(Journées!J68),"",(Journées!J68)) -> 1 | F25: Dijon | G25: =_xlfn.IFS(D25="","",D25<E25,0,D25=E25,1,D25>E25,3) -> 1
B26: J19 | C26: PSG | D26: =IF(ISBLANK(Journées!N68),"",(Journées!N68)) -> 4 | E26: =IF(ISBLANK(Journées!O68),"",(Journées!O68)) -> 1 | F26: Amiens | G26: =_xlfn.IFS(E26="","",D26>E26,0,D26=E26,1,D26<E26,3) -> 0
B27: J20 | C27: Amiens | D27: =IF(ISBLANK(Journées!S61),"",(Journées!S61)) -> 1 | E27: =IF(ISBLANK(Journées!T61),"",(Journées!T61)) -> 2 | F27: Montpellier | G27: =_xlfn.IFS(D27="","",D27<E27,0,D27=E27,1,D27>E27,3) -> 0
B28: J21 | C28: Brest | D28: =IF(ISBLANK(Journées!D73),"",(Journées!D73)) -> 2 | E28: =IF(ISBLANK(Journées!E73),"",(Journées!E73)) -> 1 | F28: Amiens | G28: =_xlfn.IFS(E28="","",D28>E28,0,D28=E28,1,D28<E28,3) -> 0 | J28: 5 Derniers résultats | L28: =B31 -> J24 | M28: {=_xlfn.SWITCH(VLOOKUP(L28,B8:G45,6,FALSE),0,"D",1,"N",3,"V")} -> D
B29: J22 | C29: Amiens | D29: =IF(ISBLANK(Journées!I76),"",(Journées!I76)) -> 0 | E29: =IF(ISBLANK(Journées!J76),"",(Journées!J76)) -> 0 | F29: Toulouse | G29: =_xlfn.IFS(D29="","",D29<E29,0,D29=E29,1,D29>E29,3) -> 1 | L29: =B32 -> J25 | M29: {=_xlfn.SWITCH(VLOOKUP(L29,B9:G46,6,FALSE),0,"D",1,"N",3,"V")} -> N
B30: J23 | C30: Lyon | D30: =IF(ISBLANK(Journées!N75),"",(Journées!N75)) -> 0 | E30: =IF(ISBLANK(Journées!O75),"",(Journées!O75)) -> 0 | F30: Amiens | G30: =_xlfn.IFS(E30="","",D30>E30,0,D30=E30,1,D30<E30,3) -> 1 | L30: =B33 -> J26 | M30: {=_xlfn.SWITCH(VLOOKUP(L30,B10:G47,6,FALSE),0,"D",1,"N",3,"V")} -> N
B31: J24 | C31: Amiens | D31: =IF(ISBLANK(Journées!S76),"",(Journées!S76)) -> 1 | E31: =IF(ISBLANK(Journées!T76),"",(Journées!T76)) -> 2 | F31: Monaco | G31: =_xlfn.IFS(D31="","",D31<E31,0,D31=E31,1,D31>E31,3) -> 0 | L31: =B34 -> J27 | M31: {=_xlfn.SWITCH(VLOOKUP(L31,B11:G48,6,FALSE),0,"D",1,"N",3,"V")} -> D
B32: J25 | C32: Amiens | D32: =IF(ISBLANK(Journées!D86),"",(Journées!D86)) -> 4 | E32: =IF(ISBLANK(Journées!E86),"",(Journées!E86)) -> 4 | F32: PSG | G32: =_xlfn.IFS(D32="","",D32<E32,0,D32=E32,1,D32>E32,3) -> 1 | L32: =B35 -> J28 | M32: {=_xlfn.SWITCH(VLOOKUP(L32,B12:G49,6,FALSE),0,"D",1,"N",3,"V")} -> N
B33: J26 | C33: Strasbourg | D33: =IF(ISBLANK(Journées!I94),"",(Journées!I94)) -> 0 | E33: =IF(ISBLANK(Journées!J94),"",(Journées!J94)) -> 0 | F33: Amiens | G33: =_xlfn.IFS(E33="","",D33>E33,0,D33=E33,1,D33<E33,3) -> 1
B34: J27 | C34: Amiens | D34: =IF(ISBLANK(Journées!N87),"",(Journées!N87)) -> 0 | E34: =IF(ISBLANK(Journées!O87),"",(Journées!O87)) -> 1 | F34: Metz | G34: =_xlfn.IFS(D34="","",D34<E34,0,D34=E34,1,D34>E34,3) -> 0
B35: J28 | C35: Marseille | D35: =IF(ISBLANK(Journées!S92),"",(Journées!S92)) -> 2 | E35: =IF(ISBLANK(Journées!T92),"",(Journées!T92)) -> 2 | F35: Amiens | G35: =_xlfn.IFS(E35="","",D35>E35,0,D35=E35,1,D35<E35,3) -> 1
B36: J29 | C36: Amiens | F36: Angers | G36: =_xlfn.IFS(D36="","",D36<E36,0,D36=E36,1,D36>E36,3)
B37: J30 | C37: Dijon | F37: Amiens | G37: =_xlfn.IFS(E37="","",D37>E37,0,D37=E37,1,D37<E37,3)
B38: J31 | C38: Amiens | F38: Rennes | G38: =_xlfn.IFS(D38="","",D38<E38,0,D38=E38,1,D38>E38,3)
B39: J32 | C39: Bordeaux | F39: Amiens | G39: =_xlfn.IFS(E39="","",D39>E39,0,D39=E39,1,D39<E39,3)
B40: J33 | C40: Amiens | F40: Nîmes | G40: =_xlfn.IFS(D40="","",D40<E40,0,D40=E40,1,D40>E40,3)
B41: J34 | C41: Nantes | F41: Amiens | G41: =_xlfn.IFS(E41="","",D41>E41,0,D41=E41,1,D41<E41,3)
B42: J35 | C42: Amiens | F42: Saint Etienne | G42: =_xlfn.IFS(D42="","",D42<E42,0,D42=E42,1,D42>E42,3)
B43: J36 | C43: Reims | F43: Amiens | G43: =_xlfn.IFS(E43="","",D43>E43,0,D43=E43,1,D43<E43,3)
B44: J37 | C44: Lille | F44: Amiens | G44: =_xlfn.IFS(E44="","",D44>E44,0,D44=E44,1,D44<E44,3)
B45: J38 | C45: Amiens | F45: Nice | G45: =_xlfn.IFS(D45="","",D45<E45,0,D45=E45,1,D45>E45,3)
G47: =SUM(G8:G46) -> 23
A50: angers | B50: Angers
C51: Domicile | E51: Extérieur | G51: Points | J51: Victoire | M51: Défaite | P51: Nul
B52: J1 | C52: Angers | D52: =Journées!D9 -> 3 | E52: =Journées!E9 -> 1 | F52: Bordeaux | G52: =_xlfn.IFS(D52="","",D52<E52,0,D52=E52,1,D52>E52,3) -> 3 | J52: Domicile | K52: Extérieur | M52: Domicile | N52: Extérieur | P52: Domicile | Q52: Extérieur
B53: J2 | C53: Lyon | D53: 6 | E53: 0 | F53: Angers | G53: =_xlfn.IFS(D53="","",D53>E53,0,D53=E53,1,D53<E53,3) -> 0 | J53: =COUNTIFS(C52:C89,F53,G52:G89,3) -> 8 | K53: =COUNTIFS(F52:F89,F53,G52:G89,3) -> 3 | M53: =COUNTIFS(C52:C89,F53,G52:G89,0) -> 4 | N53: =COUNTIFS(F52:F89,F53,G52:G89,0) -> 7 | P53: =COUNTIFS(C52:C89,F53,G52:G89,1) -> 3 | Q53: =COUNTIFS(F52:F89,F53,G52:G89,1) -> 3
B54: J3 | C54: Angers | D54: =IF(ISBLANK(Journées!N9),"",(Journées!N9)) -> 3 | E54: =IF(ISBLANK(Journées!O9),"",(Journées!O9)) -> 0 | F54: Metz | G54: =_xlfn.IFS(D54="","",D54<E54,0,D54=E54,1,D54>E54,3) -> 3 | I54: % | J54: =J53/J55 -> 0.72727273 | K54: =K53/J55 -> 0.27272727 | M54: =M53/M55 -> 0.36363636 | N54: =N53/M55 -> 0.63636364 | P54: =P53/P55 -> 0.5 | Q54: =Q53/P55 -> 0.5
B55: J4 | C55: Angers | D55: =IF(ISBLANK(Journées!S9),"",(Journées!S9)) -> 2 | E55: =IF(ISBLANK(Journées!T9),"",(Journées!T9)) -> 0 | F55: Dijon | G55: =_xlfn.IFS(D55="","",D55<E55,0,D55=E55,1,D55>E55,3) -> 3 | J55: =J53+K53 -> 11 | M55: =M53+N53 -> 11 | P55: =P53+Q53 -> 6
B56: J5 | C56: Lille | D56: =IF(ISBLANK(Journées!D22),"",(Journées!D22)) -> 2 | E56: =IF(ISBLANK(Journées!E22),"",(Journées!E22)) -> 1 | F56: Angers | G56: =_xlfn.IFS(D56="","",D56>E56,0,D56=E56,1,D56<E56,3) -> 0
B57: J6 | C57: Angers | D57: =IF(ISBLANK(Journées!I22),"",(Journées!I22)) -> 4 | E57: =IF(ISBLANK(Journées!J22),"",(Journées!J22)) -> 1 | F57: Saint Etienne | G57: =_xlfn.IFS(D57="","",D57<E57,0,D57=E57,1,D57>E57,3) -> 3
B58: J7 | C58: Toulouse | D58: =IF(ISBLANK(Journées!N28),"",(Journées!N28)) -> 0 | E58: =IF(ISBLANK(Journées!O28),"",(Journées!O28)) -> 2 | F58: Angers | G58: =_xlfn.IFS(D58="","",D58>E58,0,D58=E58,1,D58<E58,3) -> 3 | I58: Moyenne | J58: Victoire | K58: Défaite | L58: Nul
B59: J8 | C59: Angers | D59: =IF(ISBLANK(Journées!S23),"",(Journées!S23)) -> 1 | E59: =IF(ISBLANK(Journées!T23),"",(Journées!T23)) -> 1 | F59: Amiens | G59: =_xlfn.IFS(D59="","",D59<E59,0,D59=E59,1,D59>E59,3) -> 1 | I59: % | J59: =J55/(J55+M55+P55) -> 0.39285714 | K59: =M55/(J55+M55+P55) -> 0.39285714 | L59: =P55/(J55+M55+P55) -> 0.21428571
B60: J9 | C60: PSG | D60: =IF(ISBLANK(Journées!D39),"",(Journées!D39)) -> 4 | E60: =IF(ISBLANK(Journées!E39),"",(Journées!E39)) -> 0 | F60: Angers | G60: =_xlfn.IFS(D60="","",D60>E60,0,D60=E60,1,D60<E60,3) -> 0
B61: J10 | C61: Angers | D61: =IF(ISBLANK(Journées!I35),"",(Journées!I35)) -> 0 | E61: =IF(ISBLANK(Journées!J35),"",(Journées!J35)) -> 1 | F61: Brest | G61: =_xlfn.IFS(D61="","",D61<E61,0,D61=E61,1,D61>E61,3) -> 0
B62: J11 | C62: Montpellier | D62: =IF(ISBLANK(Journées!N42),"",(Journées!N42)) -> 0 | E62: =IF(ISBLANK(Journées!O42),"",(Journées!O42)) -> 0 | F62: Angers | G62: =_xlfn.IFS(D62="","",D62>E62,0,D62=E62,1,D62<E62,3) -> 1 | J62: Buts Pour | M62: Buts Contre
B63: J12 | C63: Angers | D63: =IF(ISBLANK(Journées!S41),"",(Journées!S41)) -> 1 | E63: =IF(ISBLANK(Journées!T41),"",(Journées!T41)) -> 0 | F63: Starsbourg | G63: =_xlfn.IFS(D63="","",D63<E63,0,D63=E63,1,D63>E63,3) -> 3 | J63: Domicile | K63: Extérieur | M63: Domicile | N63: Extérieur
B64: J13 | C64: Reims | D64: =IF(ISBLANK(Journées!D54),"",(Journées!D54)) -> 0 | E64: =IF(ISBLANK(Journées!E54),"",(Journées!E54)) -> 0 | F64: Angers | G64: =_xlfn.IFS(D64="","",D64>E64,0,D64=E64,1,D64<E64,3) -> 1 | J64: =SUM(D52,D54,D55,D57,D59,D61,D63,D65,D67,D69,D71,D73,D75,D77,D79,D81,D83,D86,D88) -> 20 | K64: =SUM(E53,E56,E58,E60,E62,E64,E66,E68,E70,E76,E72,E74,E78,E80,E82,E84,E85,E87,E89) -> 8 | M64: =SUM(E52,E54,E55,E57,E59,E61,E63,E65,E67,E69,E71,E73,E75,E77,E79,E81,E83,E86,E88) -> 13 | N64: =SUM(D53,D56,D58,D60,D62,D64,D66,D68,D70,D72,D74,D76,D78,D80,D82,D84,D85,D87,D89) -> 20
B65: J14 | C65: Angers | D65: =IF(ISBLANK(Journées!I55),"",(Journées!I55)) -> 1 | E65: =IF(ISBLANK(Journées!J55),"",(Journées!J55)) -> 0 | F65: Nîmes | G65: =_xlfn.IFS(D65="","",D65<E65,0,D65=E65,1,D65>E65,3) -> 3 | J65: =J64/K66 -> 0.71428571 | K65: =K64/K66 -> 0.28571429 | M65: =M64/N66 -> 0.39393939 | N65: =N64/N66 -> 0.60606061
B66: J15 | C66: Nice | D66: =IF(ISBLANK(Journées!N56),"",(Journées!N56)) -> 3 | E66: =IF(ISBLANK(Journées!O56),"",(Journées!O56)) -> 1 | F66: Angers | G66: =_xlfn.IFS(D66="","",D66>E66,0,D66=E66,1,D66<E66,3) -> 0 | J66: Total BP | K66: =J64+K64 -> 28 | M66: Total BC | N66: =M64+N64 -> 33
B67: J16 | C67: Angers | D67: =IF(ISBLANK(Journées!S53),"",(Journées!S53)) -> 0 | E67: =IF(ISBLANK(Journées!T53),"",(Journées!T53)) -> 2 | F67: Marseille | G67: =_xlfn.IFS(D67="","",D67<E67,0,D67=E67,1,D67>E67,3) -> 0
B68: J17 | C68: Rennes | D68: =IF(ISBLANK(Journées!D63),"",(Journées!D63)) -> 2 | E68: =IF(ISBLANK(Journées!E63),"",(Journées!E63)) -> 1 | F68: Angers | G68: =_xlfn.IFS(D68="","",D68>E68,0,D68=E68,1,D68<E68,3) -> 0 | J68: Moy butpour/match | L68: =K66/(J55+M55+P55) -> 1 | M68: Moy butcontre/match | O68: =N66/(J55+M55+P55) -> 1.1785714 | P68: Moy but/match | R68: =(K66+N66)/(J55+M55+P55) -> 2.1785714
B69: J18 | C69: Angers | D69: =IF(ISBLANK(Journées!I63),"",(Journées!I63)) -> 0 | E69: =IF(ISBLANK(Journées!J63),"",(Journées!J63)) -> 0 | F69: Monaco | G69: =_xlfn.IFS(D69="","",D69<E69,0,D69=E69,1,D69>E69,3) -> 1
B70: J19 | C70: Nantes | D70: =IF(ISBLANK(Journées!N66),"",(Journées!N66)) -> 1 | E70: =IF(ISBLANK(Journées!O66),"",(Journées!O66)) -> 2 | F70: Angers | G70: =_xlfn.IFS(D70="","",D70>E70,0,D70=E70,1,D70<E70,3) -> 3
B71: J20 | C71: Angers | D71: =IF(ISBLANK(Journées!S63),"",(Journées!S63)) -> 1 | E71: =IF(ISBLANK(Journées!T63),"",(Journées!T63)) -> 1 | F71: Nice | G71: =_xlfn.IFS(D71="","",D71<E71,0,D71=E71,1,D71>E71,3) -> 1
B72: J21 | C72: Marseille | D72: =IF(ISBLANK(Journées!D75),"",(Journées!D75)) -> 0 | E72: =IF(ISBLANK(Journées!E75),"",(Journées!E75)) -> 0 | F72: Angers | G72: =_xlfn.IFS(D72="","",D72>E72,0,D72=E72,1,D72<E72,3) -> 1 | J72: 5 Derniers résultats | L72: =B74 -> J23 | M72: {=_xlfn.SWITCH(VLOOKUP(L72,B52:G89,6,FALSE),0,"D",1,"N",3,"V")} -> D
B73: J22 | C73: Angers | D73: =IF(ISBLANK(Journées!I77),"",(Journées!I77)) -> 1 | E73: =IF(ISBLANK(Journées!J77),"",(Journées!J77)) -> 4 | F73: Reims | G73: =_xlfn.IFS(D73="","",D73<E73,0,D73=E73,1,D73>E73,3) -> 0 | L73: =B75 -> J24 | M73: {=_xlfn.SWITCH(VLOOKUP(L73,B53:G90,6,FALSE),0,"D",1,"N",3,"V")} -> D
B74: J23 | C74: Monaco | D74: =IF(ISBLANK(Journées!N82),"",(Journées!N82)) -> 1 | E74: =IF(ISBLANK(Journées!O82),"",(Journées!O82)) -> 0 | F74: Angers | G74: =_xlfn.IFS(D74="","",D74>E74,0,D74=E74,1,D74<E74,3) -> 0 | L74: =B76 -> J25 | M74: {=_xlfn.SWITCH(VLOOKUP(L74,B54:G91,6,FALSE),0,"D",1,"N",3,"V")} -> D
B75: J24 | C75: Angers | D75: =IF(ISBLANK(Journées!S82),"",(Journées!S82)) -> 0 | E75: =IF(ISBLANK(Journées!T82),"",(Journées!T82)) -> 2 | F75: Lille | G75: =_xlfn.IFS(D75="","",D75<E75,0,D75=E75,1,D75>E75,3) -> 0 | L75: =B77 -> J26 | M75: {=_xlfn.SWITCH(VLOOKUP(L75,B55:G92,6,FALSE),0,"D",1,"N",3,"V")} -> V
B76: J25 | C76: Nîmes | D76: =IF(ISBLANK(Journées!D94),"",(Journées!D94)) -> 1 | E76: =IF(ISBLANK(Journées!E94),"",(Journées!E94)) -> 0 | F76: Angers | G76: =_xlfn.IFS(D76="","",D76>E76,0,D76=E76,1,D76<E76,3) -> 0 | L76: =B78 -> J27 | M76: {=_xlfn.SWITCH(VLOOKUP(L76,B56:G93,6,FALSE),0,"D",1,"N",3,"V")} -> V
B77: J26 | C77: Angers | D77: =IF(ISBLANK(Journées!I95),"",(Journées!I95)) -> 1 | E77: =IF(ISBLANK(Journées!J95),"",(Journées!J95)) -> 0 | F77: Montpellier | G77: =_xlfn.IFS(D77="","",D77<E77,0,D77=E77,1,D77>E77,3) -> 3
B78: J27 | C78: Brest | D78: =IF(ISBLANK(Journées!N88),"",(Journées!N88)) -> 0 | E78: =IF(ISBLANK(Journées!O88),"",(Journées!O88)) -> 1 | F78: Angers | G78: =_xlfn.IFS(D78="","",D78>E78,0,D78=E78,1,D78<E78,3) -> 3
B79: J28 | C79: Angers | D79: =IF(ISBLANK(Journées!S91),"",(Journées!S91)) -> 2 | E79: =IF(ISBLANK(Journées!T91),"",(Journées!T91)) -> 0 | F79: Nantes | G79: =_xlfn.IFS(D79="","",D79<E79,0,D79=E79,1,D79>E79,3) -> 3
B80: J29 | C80: Amiens | F80: Angers | G80: =_xlfn.IFS(D80="","",D80>E80,0,D80=E80,1,D80<E80,3)
B81: J30 | C81: Angers | F81: Toulouse | G81: =_xlfn.IFS(D81="","",D81<E81,0,D81=E81,1,D81>E81,3)
B82: J31 | C82: Strasbourg | F82: Angers | G82: =_xlfn.IFS(D82="","",D82>E82,0,D82=E82,1,D82<E82,3)
B83: J32 | C83: Angers | F83: PSG | G83: =_xlfn.IFS(D83="","",D83<E83,0,D83=E83,1,D83>E83,3)
B84: J33 | C84: Dijon | F84: Angers | G84: =_xlfn.IFS(D84="","",D84>E84,0,D84=E84,1,D84<E84,3)
B85: J34 | C85: Saint Etienne | F85: Angers | G85: =_xlfn.IFS(D85="","",D85>E85,0,D85=E85,1,D85<E85,3)
B86: J35 | C86: Angers | F86: Rennes | G86: =_xlfn.IFS(D86="","",D86<E86,0,D86=E86,1,D86>E86,3)
B87: J36 | C87: Bordeaux | F87: Angers | G87: =_xlfn.IFS(D87="","",D87>E87,0,D87=E87,1,D87<E87,3)
B88: J37 | C88: Angers | F88: Lyon | G88: =_xlfn.IFS(D88="","",D88<E88,0,D88=E88,1,D88>E88,3)
B89: J38 | C89: Metz | F89: Angers | G89: =_xlfn.IFS(D89="","",D89>E89,0,D89=E89,1,D89<E89,3)
G91: =SUM(G52:G90) -> 39
A94: bordeaux | B94: Bordeaux
C95: Domicile | E95: Extérieur | G95: Points | J95: Victoire | M95: Défaite | P95: Nul
B96: J1 | C96: Angers | D96: =Journées!D9 -> 3 | E96: =Journées!E9 -> 1 | F96: Bordeaux | G96: =_xlfn.IFS(E96="","",D96>E96,0,D96=E96,1,D96<E96,3) -> 0 | J96: Domicile | K96: Extérieur | M96: Domicile | N96: Extérieur | P96: Domicile | Q96: Extérieur
B97: J2 | C97: Bordeaux | D97: 1 | E97: 1 | F97: Montpellier | G97: =_xlfn.IFS(D97="","",D97<E97,0,D97=E97,1,D97>E97,3) -> 1 | J97: =COUNTIFS(C96:C133,F96,G96:G133,3) -> 4 | K97: =COUNTIFS(F96:F133,F96,G96:G133,3) -> 5 | M97: =COUNTIFS(C96:C133,F96,G96:G133,0) -> 4 | N97: =COUNTIFS(F96:F133,F96,G96:G133,0) -> 5 | P97: =COUNTIFS(C96:C133,F96,G96:G133,1) -> 5 | Q97: =COUNTIFS(F96:F133,F96,G96:G133,1) -> 5
B98: J3 | C98: Dijon | D98: =IF(ISBLANK(Journées!N10),"",(Journées!N10)) -> 0 | E98: =IF(ISBLANK(Journées!O10),"",(Journées!O10)) -> 2 | F98: Bordeaux | G98: =_xlfn.IFS(E98="","",D98>E98,0,D98=E98,1,D98<E98,3) -> 3 | I98: % | J98: =J97/J99 -> 0.44444444 | K98: =K97/J99 -> 0.55555556 | M98: =M97/M99 -> 0.44444444 | N98: =N97/M99 -> 0.55555556 | P98: =P97/P99 -> 0.5 | Q98: =Q97/P99 -> 0.5
B99: J4 | C99: Lyon | D99: =IF(ISBLANK(Journées!S10),"",(Journées!S10)) -> 1 | E99: =IF(ISBLANK(Journées!T10),"",(Journées!T10)) -> 1 | F99: Bordeaux | G99: =_xlfn.IFS(E99="","",D99>E99,0,D99=E99,1,D99<E99,3) -> 1 | J99: =J97+K97 -> 9 | M99: =M97+N97 -> 9 | P99: =P97+Q97 -> 10
B100: J5 | C100: Bordeaux | D100: =IF(ISBLANK(Journées!D23),"",(Journées!D23)) -> 2 | E100: =IF(ISBLANK(Journées!E23),"",(Journées!E23)) -> 0 | F100: Metz | G100: =_xlfn.IFS(D100="","",D100<E100,0,D100=E100,1,D100>E100,3) -> 3
B101: J6 | C101: Bordeaux | D101: =IF(ISBLANK(Journées!I23),"",(Journées!I23)) -> 2 | E101: =IF(ISBLANK(Journées!J23),"",(Journées!J23)) -> 2 | F101: Brest | G101: =_xlfn.IFS(D101="","",D101<E101,0,D101=E101,1,D101>E101,3) -> 1
B102: J7 | C102: Amiens | D102: =IF(ISBLANK(Journées!N30),"",(Journées!N30)) -> 1 | E102: =IF(ISBLANK(Journées!O30),"",(Journées!O30)) -> 3 | F102: Bordeaux | G102: =_xlfn.IFS(E102="","",D102>E102,0,D102=E102,1,D102<E102,3) -> 3 | I102: Moyenne | J102: Victoire | K102: Défaite | L102: Nul
B103: J8 | C103: Bordeaux | D103: =IF(ISBLANK(Journées!S22),"",(Journées!S22)) -> 0 | E103: =IF(ISBLANK(Journées!T22),"",(Journées!T22)) -> 1 | F103: PSG | G103: =_xlfn.IFS(D103="","",D103<E103,0,D103=E103,1,D103>E103,3) -> 0 | I103: % | J103: =J99/(J99+M99+P99) -> 0.32142857 | K103: =M99/(J99+M99+P99) -> 0.32142857 | L103: =P99/(J99+M99+P99) -> 0.35714286
B104: J9 | C104: Toulouse | D104: =IF(ISBLANK(Journées!D40),"",(Journées!D40)) -> 1 | E104: =IF(ISBLANK(Journées!E40),"",(Journées!E40)) -> 3 | F104: Bordeaux | G104: =_xlfn.IFS(E104="","",D104>E104,0,D104=E104,1,D104<E104,3) -> 3
B105: J10 | C105: Bordeaux | D105: =IF(ISBLANK(Journées!I39),"",(Journées!I39)) -> 0 | E105: =IF(ISBLANK(Journées!J39),"",(Journées!J39)) -> 1 | F105: Saint Etienne | G105: =_xlfn.IFS(D105="","",D105<E105,0,D105=E105,1,D105>E105,3) -> 0
B106: J11 | C106: Lille | D106: =IF(ISBLANK(Journées!N43),"",(Journées!N43)) -> 3 | E106: =IF(ISBLANK(Journées!O43),"",(Journées!O43)) -> 0 | F106: Bordeaux | G106: =_xlfn.IFS(E106="","",D106>E106,0,D106=E106,1,D106<E106,3) -> 0 | J106: Buts Pour | M106: Buts Contre
B107: J12 | C107: Bordeaux | D107: =IF(ISBLANK(Journées!S34),"",(Journées!S34)) -> 2 | E107: =IF(ISBLANK(Journées!T34),"",(Journées!T34)) -> 0 | F107: Nantes | G107: =_xlfn.IFS(D107="","",D107<E107,0,D107=E107,1,D107>E107,3) -> 3 | J107: Domicile | K107: Extérieur | M107: Domicile | N107: Extérieur
B108: J13 | C108: Nice | D108: =IF(ISBLANK(Journées!D49),"",(Journées!D49)) -> 1 | E108: =IF(ISBLANK(Journées!E49),"",(Journées!E49)) -> 1 | F108: Bordeaux | G108: =_xlfn.IFS(E108="","",D108>E108,0,D108=E108,1,D108<E108,3) -> 1 | J108: =SUM(D97,D100,D101,D103,D105,D107,D109,D111,D113,D115,D117,D120,D122,D124,D127,D126,D129,D131,D133) -> 19 | K108: =SUM(E96,E98,E99,E102,E104,E106,E108,E110,E112,E114,E116,E118,E119,E121,E123,E125,E128,E130,E132) -> 21 | M108: =SUM(E97,E100,E101,E103,E105,E107,E109,E111,E113,E115,E117,E120,E122,E124,E126,E127,E129,E131,E133) -> 12 | N108: =SUM(D96,D98,D99,D102,D104,D106,D108,D110,D112,D114,D116,D118,D119,D121,D123,D125,D128,D130,D132) -> 22
B109: J14 | C109: Bordeaux | D109: =IF(ISBLANK(Journées!I51),"",(Journées!I51)) -> 2 | E109: =IF(ISBLANK(Journées!J51),"",(Journées!J51)) -> 1 | F109: Monaco | G109: =_xlfn.IFS(D109="","",D109<E109,0,D109=E109,1,D109>E109,3) -> 3 | J109: =J108/K110 -> 0.475 | K109: =K108/K110 -> 0.525 | M109: =M108/N110 -> 0.35294118 | N109: =N108/N110 -> 0.64705882
B110: J15 | C110: Reims | D110: =IF(ISBLANK(Journées!N48),"",(Journées!N48)) -> 1 | E110: =IF(ISBLANK(Journées!O48),"",(Journées!O48)) -> 1 | F110: Bordeaux | G110: =_xlfn.IFS(E110="","",D110>E110,0,D110=E110,1,D110<E110,3) -> 1 | J110: Total BP | K110: =J108+K108 -> 40 | M110: Total BC | N110: =M108+N108 -> 34
B111: J16 | C111: Bordeaux | D111: =IF(ISBLANK(Journées!S48),"",(Journées!S48)) -> 6 | E111: =IF(ISBLANK(Journées!T48),"",(Journées!T48)) -> 0 | F111: Nîmes | G111: =_xlfn.IFS(D111="","",D111<E111,0,D111=E111,1,D111>E111,3) -> 3
...
