Workbook
Name _NF1: PERSONNEL!$F$7:$F$17
Name _NF2: PERSONNEL!$L$7:$L$17
Name _NF3: PERSONNEL!$R$7:$R$17
Name _NF4: PERSONNEL!$X$7:$X$17
Name _NF5: PERSONNEL!$AD$7:$AD$17
Name _NF6: PERSONNEL!$AJ$7:$AJ$17
Name _NF7: PERSONNEL!$AP$7:$AP$17
Name _NF8: PERSONNEL!$AV$7:$AV$17
Name _TH?: PERSONNEL!$A$7:$A$17
Name Annulées_Form: PERSONNEL!$BD$7:$BD$17
Name Coeff: PERSONNEL!$C$7:$C$17
Name Coll_indiv: PERSONNEL!$CD$3:$CD$4
Name Crit_CPOM: PERSONNEL!$CC$3:$CC$12
Name En_Cours_Form: PERSONNEL!$BB$7:$BB$17
Name Finies_Form: PERSONNEL!$BA$7:$BA$17
Name Formation_1: PERSONNEL!$E$7:$I$17
Name Formation_2: PERSONNEL!$K$7:$O$17
Name Formation_3: PERSONNEL!$Q$7:$U$17
Name Formation_4: PERSONNEL!$W$7:$AA$17
Name Formation_5: PERSONNEL!$AC$7:$AG$17
Name Formation_6: PERSONNEL!$AI$7:$AM$17
Name Formation_7: PERSONNEL!$AO$7:$AS$17
Name Formation_8: PERSONNEL!$AU$7:$AY$17
Name Formations_1a8: PERSONNEL!$E$7:$AY$17
Name Oui_Non: PERSONNEL!$CE$3:$CE$4
Name Personnel: PERSONNEL!$D$7:$D$17
Name Total_Form: PERSONNEL!$BC$7:$BC$17
Name Type_contrat: PERSONNEL!$B$7:$B$17
Name Type_de_formation: PERSONNEL!$CA$2:$CA$5
Name Type_de_formation: #REF!
Name Type_formation: PERSONNEL!$CA$3:$CA$6
Name Type_formation: #REF!
Name validation: PERSONNEL!$CB$3:$CB$8

Sheet MODELE
A1: EVALUATION COUT FORMATION
A3: Numéro de formation | C3: =MID(CELL("nomfichier",A1),FIND("]",CELL("nomfichier",A1))+1,LEN(CELL("nomfichier",A1))-FIND("]",CELL("nomfichier",A1))) -> MODELE
A4: ACTIVITE DE PRODUCTION : | B4: =VLOOKUP((MID(CELL("nomfichier",A3),FIND("]",CELL("nomfichier",A3))+1,LEN(CELL("nomfichier",A3))-FIND("]",CELL("nomfichier",A3)))),'STRATEGIE - objectif 2020'!A4:X343,2,FALSE) -> #N/A | G4: COUT REEL
G5: Coût Salarial | H5: =((SUM(B17:B34,F17))*E14)+(SUM(B17:B34)*G14)+(F17*I14) -> 0
A6: INITITULE DE LA FORMATION | B6: =VLOOKUP((MID(CELL("nomfichier",A3),FIND("]",CELL("nomfichier",A3))+1,LEN(CELL("nomfichier",A3))-FIND("]",CELL("nomfichier",A3)))),'STRATEGIE - objectif 2020'!A4:X343,3,FALSE) -> #N/A | G6: Cout Format | H6: =SUM(G21:G24) -> 0
G7: Autres Frais | H7: =(SUM(G28:G34))+(H17*G17) -> 0
A8: OBJECTIF : | G8: COUT TOTAL | H8: =SUM(H5:H7) -> 0
A10: Col/Indiv : | C10: Dans le cadre d'une VAE ?
A11: Type de formation :
A13: DATES : | B13: Du | C13: Au | E13: Durée formation ou Binome tutorat | G13: Durrée Apprenant seul | I13: Tuteur Seul
F14: HEURES | H14: HEURES | J14: HEURES
A16: APPRENANT(S) : | B16: TAUX HORAIRE CHARGE : | E16: TUTEUR / FORMATEUR : | F16: Taux Horaire | G16: Indémnité | H16: DUREE
A17: C. Abadie | C17: EUROS | I17: MOIS
E19: Cout Organisme Formation
E20: Organisme | F20: Objet | G20: Prix
E26: Autres Frais Liés
E27: Motif | G27: Montant

Sheet PERSONNEL
B1: PERSONNEL DE L'EA | CA1: Valeur des listes déroulantes (NE PAS TOUCHER)
CA2: Type de formation | CB2: Validation | CC2: Type de formation | CD2: Fomation | CE2: Oui/non
BA3: Indicateurs | CA3: COMPETENCES | CB3: Annulée | CC3: Formation accès aux savoirs de base | CD3: Collective | CE3: Oui
A4: statut | B4: Contrat | C4: Coeff | E4: FORMATIONS | BA4: Finies | BB4: En cours | BC4: Total | BD4: Annulée | BE4: Report+1 | BF4: Prévue-1 | CA4: PROFESSIONNA° | CB4: OK - Finie | CC4: Formation qualifiante ouvrant sur un diplôme | CD4: Individuelle | CE4: Non
E5: 1 | K5: 2 | Q5: 3 | W5: 4 | AC5: 5 | AI5: 6 | AO5: 7 | AU5: 8 | CA5: RSE ET REGLEMENT° | CB5: En cours | CC5: Formation qualifiante ouvrant sur un titre pro
D6: NOM Prénom | E6: Type | F6: N° | G6: Nom | H6: Avancement | I6: Fin | K6: Type | L6: N° | M6: Nom | N6: Avancement | O6: Fin | Q6: Type | R6: N° | S6: Nom | T6: Avancement | U6: Fin | W6: Type | X6: N° | Y6: Nom | Z6: Avancement | AA6: Fin | AC6: Type | AD6: N° | AE6: Nom | AF6: Avancement | AG6: Fin | AI6: Type | AJ6: N° | AK6: Nom | AL6: Avancement | AM6: Fin | AO6: Type | AP6: N° | AQ6: Nom | AR6: Avancement | AS6: Fin | AU6: Type | AV6: N° | AW6: Nom | AX6: Avancement | AY6: Fin | CA6: TUTORAT - PROF. | CB6: Refusée codir | CC6: Formation qualifiante ouvrant sur un CQP
A7: TH | B7: CDDT | C7: 170 | D7: AAA | E7: PROFESSIONNA° | F7: P1 | G7: =IFERROR(VLOOKUP(F7,'STRATEGIE - objectif 2020'!$A$4:$X$7,3,FALSE),"") -> LES PRINCIPES DE LA FACTURATION | H7: =IFERROR(VLOOKUP(F7,'STRATEGIE - objectif 2020'!$A$4:$X$7,8,FALSE),"") -> IDENTIFIER - OBJECTIFS - ORGANISME - MOYENS - DEVIS - DATES | I7: OK - Finie | K7: TUTORAT - PROF. | L7: T1 | M7: =IFERROR(VLOOKUP(L7,'STRATEGIE - objectif 2020'!$A$4:$X$7,3,FALSE),"") -> TUTORAT TREMPLIN TRAITEMENT COMPTABLE | N7: =IFERROR(VLOOKUP(L7,'STRATEGIE - objectif 2020'!$A$4:$X$7,8,FALSE),"") -> IDENTIFIER - BESOINS - OBJECTIS - PLANNING - PERIODE | O7: En cours | S7: =IFERROR(VLOOKUP(R7,'STRATEGIE - objectif 2020'!$A$4:$X$7,3,FALSE),"") | T7: =IFERROR(VLOOKUP(R7,'STRATEGIE - objectif 2020'!$A$4:$X$7,8,FALSE),"") | Y7: =IFERROR(VLOOKUP(X7,'STRATEGIE - objectif 2020'!$A$4:$X$7,3,FALSE),"") | Z7: =IFERROR(VLOOKUP(X7,'STRATEGIE - objectif 2020'!$A$4:$X$7,8,FALSE),"") | AE7: =IFERROR(VLOOKUP(AD7,'STRATEGIE - objectif 2020'!$A$4:$X$7,3,FALSE),"") | AF7: =IFERROR(VLOOKUP(AD7,'STRATEGIE - objectif 2020'!$A$4:$X$7,8,FALSE),"") | AK7: =IFERROR(VLOOKUP(AJ7,'STRATEGIE - objectif 2020'!$A$4:$X$7,3,FALSE),"") | AL7: =IFERROR(VLOOKUP(AJ7,'STRATEGIE - objectif 2020'!$A$4:$X$7,8,FALSE),"") | AQ7: =IFERROR(VLOOKUP(AP7,'STRATEGIE - objectif 2020'!$A$4:$X$7,3,FALSE),"") | AR7: =IFERROR(VLOOKUP(AP7,'STRATEGIE - objectif 2020'!$A$4:$X$7,8,FALSE),"") | AW7: =IFERROR(VLOOKUP(AV7,'STRATEGIE - objectif 2020'!$A$4:$X$7,3,FALSE),"") | AX7: =IFERROR(VLOOKUP(AV7,'STRATEGIE - objectif 2020'!$A$4:$X$7,8,FALSE),"") | BA7: =(COUNTIF($E7,"><")*AND($I7="OK - FINIE"))+(COUNTIF($K7,"><")*AND($O7="OK - FINIE"))+(COUNTIF($Q7,"><")*AND(U7="OK - FINIE"))+(COUNTIF($W7,"><")*AND($AA7="OK - FINIE"))+(COUNTIF($AC7,"><")*AND($AG7="OK - FINIE"))+(COUNTIF($AI7,"><")*AND($AM7="OK - FINIE"))+(COUNTIF($AO7,"><")*AND($AS7="OK - FINIE"))+(COUNTIF($AU7,"><")*AND($AY7="OK - FINIE")) -> 1 | BB7: =(COUNTIF($E7,"><")*AND(ISBLANK($I7)))+(COUNTIF($K7,"><")*AND(ISBLANK($O7)))+(COUNTIF($Q7,"><")*AND(ISBLANK($U7)))+(COUNTIF($W7,"><")*AND(ISBLANK($AA7)))+(COUNTIF($AC7,"><")*AND(ISBLANK($AG7)))+(COUNTIF($AI7,"><")*AND(ISBLANK($AM7)))+(COUNTIF($AO7,"><")*AND(ISBLANK($AS7)))+(COUNTIF($AU7,"><")*AND(ISBLANK($AY7))) -> 0 | BC7: =SUM(BA7:BB7) -> 1 | BD7: =(COUNTIF($E7,"><")*AND($I7="Annulée "))+(COUNTIF($K7,"><")*AND($O7="Annulée "))+(COUNTIF($Q7,"><")*AND(Y7="Annulée "))+(COUNTIF($W7,"><")*AND($AA7="Annulée "))+(COUNTIF($AC7,"><")*AND($AG7="Annulée "))+(COUNTIF($AI7,"><")*AND($AM7="Annulée "))+(COUNTIF($AO7,"><")*AND($AS7="Annulée "))+(COUNTIF($AU7,"><")*AND($AY7="Annulée ")) -> 0 | BE7: =(COUNTIF($E7,"><")*AND($I7="Report N+1 "))+(COUNTIF($K7,"><")*AND($O7="Report N+1 "))+(COUNTIF($Q7,"><")*AND(Y7="Report N+1 "))+(COUNTIF($W7,"><")*AND($AA7="Report N+1 "))+(COUNTIF($AC7,"><")*AND($AG7="Report N+1 "))+(COUNTIF($AI7,"><")*AND($AM7="Report N+1 "))+(COUNTIF($AO7,"><")*AND($AS7="Report N+1 "))+(COUNTIF($AU7,"><")*AND($AY7="Report N+1 ")) -> 0 | BF7: =(COUNTIF($E7,"><")*AND($I7="PRÉVUE N-1"))+(COUNTIF($K7,"><")*AND($O7="PRÉVUE N-1"))+(COUNTIF($Q7,"><")*AND(U7="PRÉVUE N-1"))+(COUNTIF($W7,"><")*AND($AA7="PRÉVUE N-1"))+(COUNTIF($AC7,"><")*AND($AG7="PRÉVUE N-1"))+(COUNTIF($AI7,"><")*AND($AM7="PRÉVUE N-1"))+(COUNTIF($AO7,"><")*AND($AS7="PRÉVUE N-1"))+(COUNTIF($AU7,"><")*AND($AY7="PRÉVUE N-1")) -> 0 | CB7: Report N+1 | CC7: Ouvrant sur un autre type de diplôme
A8: VALIDE | B8: CDI | C8: 255 | D8: BBB | E8: PROFESSIONNA° | F8: P1 | G8: =IFERROR(VLOOKUP(F8,'STRATEGIE - objectif 2020'!$A$4:$X$7,3,FALSE),"") -> LES PRINCIPES DE LA FACTURATION | H8: =IFERROR(VLOOKUP(F8,'STRATEGIE - objectif 2020'!$A$4:$X$7,8,FALSE),"") -> IDENTIFIER - OBJECTIFS - ORGANISME - MOYENS - DEVIS - DATES | I8: OK - Finie | M8: =IFERROR(VLOOKUP(L8,'STRATEGIE - objectif 2020'!$A$4:$X$7,3,FALSE),"") | N8: =IFERROR(VLOOKUP(L8,'STRATEGIE - objectif 2020'!$A$4:$X$7,8,FALSE),"") | S8: =IFERROR(VLOOKUP(R8,'STRATEGIE - objectif 2020'!$A$4:$X$7,3,FALSE),"") | T8: =IFERROR(VLOOKUP(R8,'STRATEGIE - objectif 2020'!$A$4:$X$7,8,FALSE),"") | Y8: =IFERROR(VLOOKUP(X8,'STRATEGIE - objectif 2020'!$A$4:$X$7,3,FALSE),"") | Z8: =IFERROR(VLOOKUP(X8,'STRATEGIE - objectif 2020'!$A$4:$X$7,8,FALSE),"") | AE8: =IFERROR(VLOOKUP(AD8,'STRATEGIE - objectif 2020'!$A$4:$X$7,3,FALSE),"") | AF8: =IFERROR(VLOOKUP(AD8,'STRATEGIE - objectif 2020'!$A$4:$X$7,8,FALSE),"") | AK8: =IFERROR(VLOOKUP(AJ8,'STRATEGIE - objectif 2020'!$A$4:$X$7,3,FALSE),"") | AL8: =IFERROR(VLOOKUP(AJ8,'STRATEGIE - objectif 2020'!$A$4:$X$7,8,FALSE),"") | AQ8: =IFERROR(VLOOKUP(AP8,'STRATEGIE - objectif 2020'!$A$4:$X$7,3,FALSE),"") | AR8: =IFERROR(VLOOKUP(AP8,'STRATEGIE - objectif 2020'!$A$4:$X$7,8,FALSE),"") | AW8: =IFERROR(VLOOKUP(AV8,'STRATEGIE - objectif 2020'!$A$4:$X$7,3,FALSE),"") | AX8: =IFERROR(VLOOKUP(AV8,'STRATEGIE - objectif 2020'!$A$4:$X$7,8,FALSE),"") | BA8: =(COUNTIF($E8,"><")*AND($I8="OK - FINIE"))+(COUNTIF($K8,"><")*AND($O8="OK - FINIE"))+(COUNTIF($Q8,"><")*AND(U8="OK - FINIE"))+(COUNTIF($W8,"><")*AND($AA8="OK - FINIE"))+(COUNTIF($AC8,"><")*AND($AG8="OK - FINIE"))+(COUNTIF($AI8,"><")*AND($AM8="OK - FINIE"))+(COUNTIF($AO8,"><")*AND($AS8="OK - FINIE"))+(COUNTIF($AU8,"><")*AND($AY8="OK - FINIE")) -> 1 | BB8: =(COUNTIF($E8,"><")*AND(ISBLANK($I8)))+(COUNTIF($K8,"><")*AND(ISBLANK($O8)))+(COUNTIF($Q8,"><")*AND(ISBLANK($U8)))+(COUNTIF($W8,"><")*AND(ISBLANK($AA8)))+(COUNTIF($AC8,"><")*AND(ISBLANK($AG8)))+(COUNTIF($AI8,"><")*AND(ISBLANK($AM8)))+(COUNTIF($AO8,"><")*AND(ISBLANK($AS8)))+(COUNTIF($AU8,"><")*AND(ISBLANK($AY8))) -> 0 | BC8: =SUM(BA8:BB8) -> 1 | BD8: =(COUNTIF($E8,"><")*AND($I8="Annulée "))+(COUNTIF($K8,"><")*AND($O8="Annulée "))+(COUNTIF($Q8,"><")*AND(Y8="Annulée "))+(COUNTIF($W8,"><")*AND($AA8="Annulée "))+(COUNTIF($AC8,"><")*AND($AG8="Annulée "))+(COUNTIF($AI8,"><")*AND($AM8="Annulée "))+(COUNTIF($AO8,"><")*AND($AS8="Annulée "))+(COUNTIF($AU8,"><")*AND($AY8="Annulée ")) -> 0 | BE8: =(COUNTIF($E8,"><")*AND($I8="Report N+1 "))+(COUNTIF($K8,"><")*AND($O8="Report N+1 "))+(COUNTIF($Q8,"><")*AND(Y8="Report N+1 "))+(COUNTIF($W8,"><")*AND($AA8="Report N+1 "))+(COUNTIF($AC8,"><")*AND($AG8="Report N+1 "))+(COUNTIF($AI8,"><")*AND($AM8="Report N+1 "))+(COUNTIF($AO8,"><")*AND($AS8="Report N+1 "))+(COUNTIF($AU8,"><")*AND($AY8="Report N+1 ")) -> 0 | BF8: =(COUNTIF($E8,"><")*AND($I8="PRÉVUE N-1"))+(COUNTIF($K8,"><")*AND($O8="PRÉVUE N-1"))+(COUNTIF($Q8,"><")*AND(U8="PRÉVUE N-1"))+(COUNTIF($W8,"><")*AND($AA8="PRÉVUE N-1"))+(COUNTIF($AC8,"><")*AND($AG8="PRÉVUE N-1"))+(COUNTIF($AI8,"><")*AND($AM8="PRÉVUE N-1"))+(COUNTIF($AO8,"><")*AND($AS8="PRÉVUE N-1"))+(COUNTIF($AU8,"><")*AND($AY8="PRÉVUE N-1")) -> 0 | CB8: Prévue N-1 | CC8: Validation des Acquis de l’Expérience (VAE)
A9: VALIDE | B9: CDI | C9: 114 | D9: CCC | E9: PROFESSIONNA° | F9: P1 | G9: =IFERROR(VLOOKUP(F9,'STRATEGIE - objectif 2020'!$A$4:$X$7,3,FALSE),"") -> LES PRINCIPES DE LA FACTURATION | H9: =IFERROR(VLOOKUP(F9,'STRATEGIE - objectif 2020'!$A$4:$X$7,8,FALSE),"") -> IDENTIFIER - OBJECTIFS - ORGANISME - MOYENS - DEVIS - DATES | I9: OK - Finie | K9: PROFESSIONNA° | L9: P2 | M9: =IFERROR(VLOOKUP(L9,'STRATEGIE - objectif 2020'!$A$4:$X$7,3,FALSE),"") -> FORMATION ECONOMIQUE ET SOCIAL | N9: =IFERROR(VLOOKUP(L9,'STRATEGIE - objectif 2020'!$A$4:$X$7,8,FALSE),"") -> IDENTIFIER - OBJECTIFS - ORGANISME - MOYENS - DEVIS - DATES | O9: OK - Finie | S9: =IFERROR(VLOOKUP(R9,'STRATEGIE - objectif 2020'!$A$4:$X$7,3,FALSE),"") | T9: =IFERROR(VLOOKUP(R9,'STRATEGIE - objectif 2020'!$A$4:$X$7,8,FALSE),"") | Y9: =IFERROR(VLOOKUP(X9,'STRATEGIE - objectif 2020'!$A$4:$X$7,3,FALSE),"") | Z9: =IFERROR(VLOOKUP(X9,'STRATEGIE - objectif 2020'!$A$4:$X$7,8,FALSE),"") | AE9: =IFERROR(VLOOKUP(AD9,'STRATEGIE - objectif 2020'!$A$4:$X$7,3,FALSE),"") | AF9: =IFERROR(VLOOKUP(AD9,'STRATEGIE - objectif 2020'!$A$4:$X$7,8,FALSE),"") | AK9: =IFERROR(VLOOKUP(AJ9,'STRATEGIE - objectif 2020'!$A$4:$X$7,3,FALSE),"") | AL9: =IFERROR(VLOOKUP(AJ9,'STRATEGIE - objectif 2020'!$A$4:$X$7,8,FALSE),"") | AQ9: =IFERROR(VLOOKUP(AP9,'STRATEGIE - objectif 2020'!$A$4:$X$7,3,FALSE),"") | AR9: =IFERROR(VLOOKUP(AP9,'STRATEGIE - objectif 2020'!$A$4:$X$7,8,FALSE),"") | AW9: =IFERROR(VLOOKUP(AV9,'STRATEGIE - objectif 2020'!$A$4:$X$7,3,FALSE),"") | AX9: =IFERROR(VLOOKUP(AV9,'STRATEGIE - objectif 2020'!$A$4:$X$7,8,FALSE),"") | BA9: =(COUNTIF($E9,"><")*AND($I9="OK - FINIE"))+(COUNTIF($K9,"><")*AND($O9="OK - FINIE"))+(COUNTIF($Q9,"><")*AND(U9="OK - FINIE"))+(COUNTIF($W9,"><")*AND($AA9="OK - FINIE"))+(COUNTIF($AC9,"><")*AND($AG9="OK - FINIE"))+(COUNTIF($AI9,"><")*AND($AM9="OK - FINIE"))+(COUNTIF($AO9,"><")*AND($AS9="OK - FINIE"))+(COUNTIF($AU9,"><")*AND($AY9="OK - FINIE")) -> 2 | BB9: =(COUNTIF($E9,"><")*AND(ISBLANK($I9)))+(COUNTIF($K9,"><")*AND(ISBLANK($O9)))+(COUNTIF($Q9,"><")*AND(ISBLANK($U9)))+(COUNTIF($W9,"><")*AND(ISBLANK($AA9)))+(COUNTIF($AC9,"><")*AND(ISBLANK($AG9)))+(COUNTIF($AI9,"><")*AND(ISBLANK($AM9)))+(COUNTIF($AO9,"><")*AND(ISBLANK($AS9)))+(COUNTIF($AU9,"><")*AND(ISBLANK($AY9))) -> 0 | BC9: =SUM(BA9:BB9) -> 2 | BD9: =(COUNTIF($E9,"><")*AND($I9="Annulée "))+(COUNTIF($K9,"><")*AND($O9="Annulée "))+(COUNTIF($Q9,"><")*AND(Y9="Annulée "))+(COUNTIF($W9,"><")*AND($AA9="Annulée "))+(COUNTIF($AC9,"><")*AND($AG9="Annulée "))+(COUNTIF($AI9,"><")*AND($AM9="Annulée "))+(COUNTIF($AO9,"><")*AND($AS9="Annulée "))+(COUNTIF($AU9,"><")*AND($AY9="Annulée ")) -> 0 | BE9: =(COUNTIF($E9,"><")*AND($I9="Report N+1 "))+(COUNTIF($K9,"><")*AND($O9="Report N+1 "))+(COUNTIF($Q9,"><")*AND(Y9="Report N+1 "))+(COUNTIF($W9,"><")*AND($AA9="Report N+1 "))+(COUNTIF($AC9,"><")*AND($AG9="Report N+1 "))+(COUNTIF($AI9,"><")*AND($AM9="Report N+1 "))+(COUNTIF($AO9,"><")*AND($AS9="Report N+1 "))+(COUNTIF($AU9,"><")*AND($AY9="Report N+1 ")) -> 0 | BF9: =(COUNTIF($E9,"><")*AND($I9="PRÉVUE N-1"))+(COUNTIF($K9,"><")*AND($O9="PRÉVUE N-1"))+(COUNTIF($Q9,"><")*AND(U9="PRÉVUE N-1"))+(COUNTIF($W9,"><")*AND($AA9="PRÉVUE N-1"))+(COUNTIF($AC9,"><")*AND($AG9="PRÉVUE N-1"))+(COUNTIF($AI9,"><")*AND($AM9="PRÉVUE N-1"))+(COUNTIF($AO9,"><")*AND($AS9="PRÉVUE N-1"))+(COUNTIF($AU9,"><")*AND($AY9="PRÉVUE N-1")) -> 0 | CC9: Reconnaissance des Acquis de l’expérience (RAE)
A10: TH | B10: CDI | C10: 190 | D10: DDD | E10: PROFESSIONNA° | F10: P1 | G10: =IFERROR(VLOOKUP(F10,'STRATEGIE - objectif 2020'!$A$4:$X$7,3,FALSE),"") -> LES PRINCIPES DE LA FACTURATION | H10: =IFERROR(VLOOKUP(F10,'STRATEGIE - objectif 2020'!$A$4:$X$7,8,FALSE),"") -> IDENTIFIER - OBJECTIFS - ORGANISME - MOYENS - DEVIS - DATES | I10: OK - Finie | M10: =IFERROR(VLOOKUP(L10,'STRATEGIE - objectif 2020'!$A$4:$X$7,3,FALSE),"") | N10: =IFERROR(VLOOKUP(L10,'STRATEGIE - objectif 2020'!$A$4:$X$7,8,FALSE),"") | S10: =IFERROR(VLOOKUP(R10,'STRATEGIE - objectif 2020'!$A$4:$X$7,3,FALSE),"") | T10: =IFERROR(VLOOKUP(R10,'STRATEGIE - objectif 2020'!$A$4:$X$7,8,FALSE),"") | Y10: =IFERROR(VLOOKUP(X10,'STRATEGIE - objectif 2020'!$A$4:$X$7,3,FALSE),"") | Z10: =IFERROR(VLOOKUP(X10,'STRATEGIE - objectif 2020'!$A$4:$X$7,8,FALSE),"") | AE10: =IFERROR(VLOOKUP(AD10,'STRATEGIE - objectif 2020'!$A$4:$X$7,3,FALSE),"") | AF10: =IFERROR(VLOOKUP(AD10,'STRATEGIE - objectif 2020'!$A$4:$X$7,8,FALSE),"") | AK10: =IFERROR(VLOOKUP(AJ10,'STRATEGIE - objectif 2020'!$A$4:$X$7,3,FALSE),"") | AL10: =IFERROR(VLOOKUP(AJ10,'STRATEGIE - objectif 2020'!$A$4:$X$7,8,FALSE),"") | AQ10: =IFERROR(VLOOKUP(AP10,'STRATEGIE - objectif 2020'!$A$4:$X$7,3,FALSE),"") | AR10: =IFERROR(VLOOKUP(AP10,'STRATEGIE - objectif 2020'!$A$4:$X$7,8,FALSE),"") | AW10: =IFERROR(VLOOKUP(AV10,'STRATEGIE - objectif 2020'!$A$4:$X$7,3,FALSE),"") | AX10: =IFERROR(VLOOKUP(AV10,'STRATEGIE - objectif 2020'!$A$4:$X$7,8,FALSE),"") | BA10: =(COUNTIF($E10,"><")*AND($I10="OK - FINIE"))+(COUNTIF($K10,"><")*AND($O10="OK - FINIE"))+(COUNTIF($Q10,"><")*AND(U10="OK - FINIE"))+(COUNTIF($W10,"><")*AND($AA10="OK - FINIE"))+(COUNTIF($AC10,"><")*AND($AG10="OK - FINIE"))+(COUNTIF($AI10,"><")*AND($AM10="OK - FINIE"))+(COUNTIF($AO10,"><")*AND($AS10="OK - FINIE"))+(COUNTIF($AU10,"><")*AND($AY10="OK - FINIE")) -> 1 | BB10: =(COUNTIF($E10,"><")*AND(ISBLANK($I10)))+(COUNTIF($K10,"><")*AND(ISBLANK($O10)))+(COUNTIF($Q10,"><")*AND(ISBLANK($U10)))+(COUNTIF($W10,"><")*AND(ISBLANK($AA10)))+(COUNTIF($AC10,"><")*AND(ISBLANK($AG10)))+(COUNTIF($AI10,"><")*AND(ISBLANK($AM10)))+(COUNTIF($AO10,"><")*AND(ISBLANK($AS10)))+(COUNTIF($AU10,"><")*AND(ISBLANK($AY10))) -> 0 | BC10: =SUM(BA10:BB10) -> 1 | BD10: =(COUNTIF($E10,"><")*AND($I10="Annulée "))+(COUNTIF($K10,"><")*AND($O10="Annulée "))+(COUNTIF($Q10,"><")*AND(Y10="Annulée "))+(COUNTIF($W10,"><")*AND($AA10="Annulée "))+(COUNTIF($AC10,"><")*AND($AG10="Annulée "))+(COUNTIF($AI10,"><")*AND($AM10="Annulée "))+(COUNTIF($AO10,"><")*AND($AS10="Annulée "))+(COUNTIF($AU10,"><")*AND($AY10="Annulée ")) -> 0 | BE10: =(COUNTIF($E10,"><")*AND($I10="Report N+1 "))+(COUNTIF($K10,"><")*AND($O10="Report N+1 "))+(COUNTIF($Q10,"><")*AND(Y10="Report N+1 "))+(COUNTIF($W10,"><")*AND($AA10="Report N+1 "))+(COUNTIF($AC10,"><")*AND($AG10="Report N+1 "))+(COUNTIF($AI10,"><")*AND($AM10="Report N+1 "))+(COUNTIF($AO10,"><")*AND($AS10="Report N+1 "))+(COUNTIF($AU10,"><")*AND($AY10="Report N+1 ")) -> 0 | BF10: =(COUNTIF($E10,"><")*AND($I10="PRÉVUE N-1"))+(COUNTIF($K10,"><")*AND($O10="PRÉVUE N-1"))+(COUNTIF($Q10,"><")*AND(U10="PRÉVUE N-1"))+(COUNTIF($W10,"><")*AND($AA10="PRÉVUE N-1"))+(COUNTIF($AC10,"><")*AND($AG10="PRÉVUE N-1"))+(COUNTIF($AI10,"><")*AND($AM10="PRÉVUE N-1"))+(COUNTIF($AO10,"><")*AND($AS10="PRÉVUE N-1"))+(COUNTIF($AU10,"><")*AND($AY10="PRÉVUE N-1")) -> 0 | CC10: AFEST
A11: TH | B11: CDI | C11: 215 | D11: EEE | E11: PROFESSIONNA° | F11: P1 | G11: =IFERROR(VLOOKUP(F11,'STRATEGIE - objectif 2020'!$A$4:$X$7,3,FALSE),"") -> LES PRINCIPES DE LA FACTURATION | H11: =IFERROR(VLOOKUP(F11,'STRATEGIE - objectif 2020'!$A$4:$X$7,8,FALSE),"") -> IDENTIFIER - OBJECTIFS - ORGANISME - MOYENS - DEVIS - DATES | I11: OK - Finie | M11: =IFERROR(VLOOKUP(L11,'STRATEGIE - objectif 2020'!$A$4:$X$7,3,FALSE),"") | N11: =IFERROR(VLOOKUP(L11,'STRATEGIE - objectif 2020'!$A$4:$X$7,8,FALSE),"") | S11: =IFERROR(VLOOKUP(R11,'STRATEGIE - objectif 2020'!$A$4:$X$7,3,FALSE),"") | T11: =IFERROR(VLOOKUP(R11,'STRATEGIE - objectif 2020'!$A$4:$X$7,8,FALSE),"") | Y11: =IFERROR(VLOOKUP(X11,'STRATEGIE - objectif 2020'!$A$4:$X$7,3,FALSE),"") | Z11: =IFERROR(VLOOKUP(X11,'STRATEGIE - objectif 2020'!$A$4:$X$7,8,FALSE),"") | AE11: =IFERROR(VLOOKUP(AD11,'STRATEGIE - objectif 2020'!$A$4:$X$7,3,FALSE),"") | AF11: =IFERROR(VLOOKUP(AD11,'STRATEGIE - objectif 2020'!$A$4:$X$7,8,FALSE),"") | AK11: =IFERROR(VLOOKUP(AJ11,'STRATEGIE - objectif 2020'!$A$4:$X$7,3,FALSE),"") | AL11: =IFERROR(VLOOKUP(AJ11,'STRATEGIE - objectif 2020'!$A$4:$X$7,8,FALSE),"") | AQ11: =IFERROR(VLOOKUP(AP11,'STRATEGIE - objectif 2020'!$A$4:$X$7,3,FALSE),"") | AR11: =IFERROR(VLOOKUP(AP11,'STRATEGIE - objectif 2020'!$A$4:$X$7,8,FALSE),"") | AW11: =IFERROR(VLOOKUP(AV11,'STRATEGIE - objectif 2020'!$A$4:$X$7,3,FALSE),"") | AX11: =IFERROR(VLOOKUP(AV11,'STRATEGIE - objectif 2020'!$A$4:$X$7,8,FALSE),"") | BA11: =(COUNTIF($E11,"><")*AND($I11="OK - FINIE"))+(COUNTIF($K11,"><")*AND($O11="OK - FINIE"))+(COUNTIF($Q11,"><")*AND(U11="OK - FINIE"))+(COUNTIF($W11,"><")*AND($AA11="OK - FINIE"))+(COUNTIF($AC11,"><")*AND($AG11="OK - FINIE"))+(COUNTIF($AI11,"><")*AND($AM11="OK - FINIE"))+(COUNTIF($AO11,"><")*AND($AS11="OK - FINIE"))+(COUNTIF($AU11,"><")*AND($AY11="OK - FINIE")) -> 1 | BB11: =(COUNTIF($E11,"><")*AND(ISBLANK($I11)))+(COUNTIF($K11,"><")*AND(ISBLANK($O11)))+(COUNTIF($Q11,"><")*AND(ISBLANK($U11)))+(COUNTIF($W11,"><")*AND(ISBLANK($AA11)))+(COUNTIF($AC11,"><")*AND(ISBLANK($AG11)))+(COUNTIF($AI11,"><")*AND(ISBLANK($AM11)))+(COUNTIF($AO11,"><")*AND(ISBLANK($AS11)))+(COUNTIF($AU11,"><")*AND(ISBLANK($AY11))) -> 0 | BC11: =SUM(BA11:BB11) -> 1 | BD11: =(COUNTIF($E11,"><")*AND($I11="Annulée "))+(COUNTIF($K11,"><")*AND($O11="Annulée "))+(COUNTIF($Q11,"><")*AND(Y11="Annulée "))+(COUNTIF($W11,"><")*AND($AA11="Annulée "))+(COUNTIF($AC11,"><")*AND($AG11="Annulée "))+(COUNTIF($AI11,"><")*AND($AM11="Annulée "))+(COUNTIF($AO11,"><")*AND($AS11="Annulée "))+(COUNTIF($AU11,"><")*AND($AY11="Annulée ")) -> 0 | BE11: =(COUNTIF($E11,"><")*AND($I11="Report N+1 "))+(COUNTIF($K11,"><")*AND($O11="Report N+1 "))+(COUNTIF($Q11,"><")*AND(Y11="Report N+1 "))+(COUNTIF($W11,"><")*AND($AA11="Report N+1 "))+(COUNTIF($AC11,"><")*AND($AG11="Report N+1 "))+(COUNTIF($AI11,"><")*AND($AM11="Report N+1 "))+(COUNTIF($AO11,"><")*AND($AS11="Report N+1 "))+(COUNTIF($AU11,"><")*AND($AY11="Report N+1 ")) -> 0 | BF11: =(COUNTIF($E11,"><")*AND($I11="PRÉVUE N-1"))+(COUNTIF($K11,"><")*AND($O11="PRÉVUE N-1"))+(COUNTIF($Q11,"><")*AND(U11="PRÉVUE N-1"))+(COUNTIF($W11,"><")*AND($AA11="PRÉVUE N-1"))+(COUNTIF($AC11,"><")*AND($AG11="PRÉVUE N-1"))+(COUNTIF($AI11,"><")*AND($AM11="PRÉVUE N-1"))+(COUNTIF($AO11,"><")*AND($AS11="PRÉVUE N-1"))+(COUNTIF($AU11,"><")*AND($AY11="PRÉVUE N-1")) -> 0 | CC11: Contrat d'apprentissage
A12: VALIDE | B12: CDI | C12: 285 | D12: FFF | E12: PROFESSIONNA° | F12: P1 | G12: =IFERROR(VLOOKUP(F12,'STRATEGIE - objectif 2020'!$A$4:$X$7,3,FALSE),"") -> LES PRINCIPES DE LA FACTURATION | H12: =IFERROR(VLOOKUP(F12,'STRATEGIE - objectif 2020'!$A$4:$X$7,8,FALSE),"") -> IDENTIFIER - OBJECTIFS - ORGANISME - MOYENS - DEVIS - DATES | I12: OK - Finie | M12: =IFERROR(VLOOKUP(L12,'STRATEGIE - objectif 2020'!$A$4:$X$7,3,FALSE),"") | N12: =IFERROR(VLOOKUP(L12,'STRATEGIE - objectif 2020'!$A$4:$X$7,8,FALSE),"") | S12: =IFERROR(VLOOKUP(R12,'STRATEGIE - objectif 2020'!$A$4:$X$7,3,FALSE),"") | T12: =IFERROR(VLOOKUP(R12,'STRATEGIE - objectif 2020'!$A$4:$X$7,8,FALSE),"") | Y12: =IFERROR(VLOOKUP(X12,'STRATEGIE - objectif 2020'!$A$4:$X$7,3,FALSE),"") | Z12: =IFERROR(VLOOKUP(X12,'STRATEGIE - objectif 2020'!$A$4:$X$7,8,FALSE),"") | AE12: =IFERROR(VLOOKUP(AD12,'STRATEGIE - objectif 2020'!$A$4:$X$7,3,FALSE),"") | AF12: =IFERROR(VLOOKUP(AD12,'STRATEGIE - objectif 2020'!$A$4:$X$7,8,FALSE),"") | AK12: =IFERROR(VLOOKUP(AJ12,'STRATEGIE - objectif 2020'!$A$4:$X$7,3,FALSE),"") | AL12: =IFERROR(VLOOKUP(AJ12,'STRATEGIE - objectif 2020'!$A$4:$X$7,8,FALSE),"") | AQ12: =IFERROR(VLOOKUP(AP12,'STRATEGIE - objectif 2020'!$A$4:$X$7,3,FALSE),"") | AR12: =IFERROR(VLOOKUP(AP12,'STRATEGIE - objectif 2020'!$A$4:$X$7,8,FALSE),"") | AW12: =IFERROR(VLOOKUP(AV12,'STRATEGIE - objectif 2020'!$A$4:$X$7,3,FALSE),"") | AX12: =IFERROR(VLOOKUP(AV12,'STRATEGIE - objectif 2020'!$A$4:$X$7,8,FALSE),"") | BA12: =(COUNTIF($E12,"><")*AND($I12="OK - FINIE"))+(COUNTIF($K12,"><")*AND($O12="OK - FINIE"))+(COUNTIF($Q12,"><")*AND(U12="OK - FINIE"))+(COUNTIF($W12,"><")*AND($AA12="OK - FINIE"))+(COUNTIF($AC12,"><")*AND($AG12="OK - FINIE"))+(COUNTIF($AI12,"><")*AND($AM12="OK - FINIE"))+(COUNTIF($AO12,"><")*AND($AS12="OK - FINIE"))+(COUNTIF($AU12,"><")*AND($AY12="OK - FINIE")) -> 1 | BB12: =(COUNTIF($E12,"><")*AND(ISBLANK($I12)))+(COUNTIF($K12,"><")*AND(ISBLANK($O12)))+(COUNTIF($Q12,"><")*AND(ISBLANK($U12)))+(COUNTIF($W12,"><")*AND(ISBLANK($AA12)))+(COUNTIF($AC12,"><")*AND(ISBLANK($AG12)))+(COUNTIF($AI12,"><")*AND(ISBLANK($AM12)))+(COUNTIF($AO12,"><")*AND(ISBLANK($AS12)))+(COUNTIF($AU12,"><")*AND(ISBLANK($AY12))) -> 0 | BC12: =SUM(BA12:BB12) -> 1 | BD12: =(COUNTIF($E12,"><")*AND($I12="Annulée "))+(COUNTIF($K12,"><")*AND($O12="Annulée "))+(COUNTIF($Q12,"><")*AND(Y12="Annulée "))+(COUNTIF($W12,"><")*AND($AA12="Annulée "))+(COUNTIF($AC12,"><")*AND($AG12="Annulée "))+(COUNTIF($AI12,"><")*AND($AM12="Annulée "))+(COUNTIF($AO12,"><")*AND($AS12="Annulée "))+(COUNTIF($AU12,"><")*AND($AY12="Annulée ")) -> 0 | BE12: =(COUNTIF($E12,"><")*AND($I12="Report N+1 "))+(COUNTIF($K12,"><")*AND($O12="Report N+1 "))+(COUNTIF($Q12,"><")*AND(Y12="Report N+1 "))+(COUNTIF($W12,"><")*AND($AA12="Report N+1 "))+(COUNTIF($AC12,"><")*AND($AG12="Report N+1 "))+(COUNTIF($AI12,"><")*AND($AM12="Report N+1 "))+(COUNTIF($AO12,"><")*AND($AS12="Report N+1 "))+(COUNTIF($AU12,"><")*AND($AY12="Report N+1 ")) -> 0 | BF12: =(COUNTIF($E12,"><")*AND($I12="PRÉVUE N-1"))+(COUNTIF($K12,"><")*AND($O12="PRÉVUE N-1"))+(COUNTIF($Q12,"><")*AND(U12="PRÉVUE N-1"))+(COUNTIF($W12,"><")*AND($AA12="PRÉVUE N-1"))+(COUNTIF($AC12,"><")*AND($AG12="PRÉVUE N-1"))+(COUNTIF($AI12,"><")*AND($AM12="PRÉVUE N-1"))+(COUNTIF($AO12,"><")*AND($AS12="PRÉVUE N-1"))+(COUNTIF($AU12,"><")*AND($AY12="PRÉVUE N-1")) -> 0 | CC12: Contrat de professionnalisation
A13: VALIDE | B13: CDI | C13: 114 | D13: GGG | E13: PROFESSIONNA° | F13: P1 | G13: =IFERROR(VLOOKUP(F13,'STRATEGIE - objectif 2020'!$A$4:$X$7,3,FALSE),"") -> LES PRINCIPES DE LA FACTURATION | H13: =IFERROR(VLOOKUP(F13,'STRATEGIE - objectif 2020'!$A$4:$X$7,8,FALSE),"") -> IDENTIFIER - OBJECTIFS - ORGANISME - MOYENS - DEVIS - DATES | I13: OK - Finie | M13: =IFERROR(VLOOKUP(L13,'STRATEGIE - objectif 2020'!$A$4:$X$7,3,FALSE),"") | N13: =IFERROR(VLOOKUP(L13,'STRATEGIE - objectif 2020'!$A$4:$X$7,8,FALSE),"") | S13: =IFERROR(VLOOKUP(R13,'STRATEGIE - objectif 2020'!$A$4:$X$7,3,FALSE),"") | T13: =IFERROR(VLOOKUP(R13,'STRATEGIE - objectif 2020'!$A$4:$X$7,8,FALSE),"") | Y13: =IFERROR(VLOOKUP(X13,'STRATEGIE - objectif 2020'!$A$4:$X$7,3,FALSE),"") | Z13: =IFERROR(VLOOKUP(X13,'STRATEGIE - objectif 2020'!$A$4:$X$7,8,FALSE),"") | AE13: =IFERROR(VLOOKUP(AD13,'STRATEGIE - objectif 2020'!$A$4:$X$7,3,FALSE),"") | AF13: =IFERROR(VLOOKUP(AD13,'STRATEGIE - objectif 2020'!$A$4:$X$7,8,FALSE),"") | AK13: =IFERROR(VLOOKUP(AJ13,'STRATEGIE - objectif 2020'!$A$4:$X$7,3,FALSE),"") | AL13: =IFERROR(VLOOKUP(AJ13,'STRATEGIE - objectif 2020'!$A$4:$X$7,8,FALSE),"") | AQ13: =IFERROR(VLOOKUP(AP13,'STRATEGIE - objectif 2020'!$A$4:$X$7,3,FALSE),"") | AR13: =IFERROR(VLOOKUP(AP13,'STRATEGIE - objectif 2020'!$A$4:$X$7,8,FALSE),"") | AW13: =IFERROR(VLOOKUP(AV13,'STRATEGIE - objectif 2020'!$A$4:$X$7,3,FALSE),"") | AX13: =IFERROR(VLOOKUP(AV13,'STRATEGIE - objectif 2020'!$A$4:$X$7,8,FALSE),"") | BA13: =(COUNTIF($E13,"><")*AND($I13="OK - FINIE"))+(COUNTIF($K13,"><")*AND($O13="OK - FINIE"))+(COUNTIF($Q13,"><")*AND(U13="OK - FINIE"))+(COUNTIF($W13,"><")*AND($AA13="OK - FINIE"))+(COUNTIF($AC13,"><")*AND($AG13="OK - FINIE"))+(COUNTIF($AI13,"><")*AND($AM13="OK - FINIE"))+(COUNTIF($AO13,"><")*AND($AS13="OK - FINIE"))+(COUNTIF($AU13,"><")*AND($AY13="OK - FINIE")) -> 1 | BB13: =(COUNTIF($E13,"><")*AND(ISBLANK($I13)))+(COUNTIF($K13,"><")*AND(ISBLANK($O13)))+(COUNTIF($Q13,"><")*AND(ISBLANK($U13)))+(COUNTIF($W13,"><")*AND(ISBLANK($AA13)))+(COUNTIF($AC13,"><")*AND(ISBLANK($AG13)))+(COUNTIF($AI13,"><")*AND(ISBLANK($AM13)))+(COUNTIF($AO13,"><")*AND(ISBLANK($AS13)))+(COUNTIF($AU13,"><")*AND(ISBLANK($AY13))) -> 0 | BC13: =SUM(BA13:BB13) -> 1 | BD13: =(COUNTIF($E13,"><")*AND($I13="Annulée "))+(COUNTIF($K13,"><")*AND($O13="Annulée "))+(COUNTIF($Q13,"><")*AND(Y13="Annulée "))+(COUNTIF($W13,"><")*AND($AA13="Annulée "))+(COUNTIF($AC13,"><")*AND($AG13="Annulée "))+(COUNTIF($AI13,"><")*AND($AM13="Annulée "))+(COUNTIF($AO13,"><")*AND($AS13="Annulée "))+(COUNTIF($AU13,"><")*AND($AY13="Annulée ")) -> 0 | BE13: =(COUNTIF($E13,"><")*AND($I13="Report N+1 "))+(COUNTIF($K13,"><")*AND($O13="Report N+1 "))+(COUNTIF($Q13,"><")*AND(Y13="Report N+1 "))+(COUNTIF($W13,"><")*AND($AA13="Report N+1 "))+(COUNTIF($AC13,"><")*AND($AG13="Report N+1 "))+(COUNTIF($AI13,"><")*AND($AM13="Report N+1 "))+(COUNTIF($AO13,"><")*AND($AS13="Report N+1 "))+(COUNTIF($AU13,"><")*AND($AY13="Report N+1 ")) -> 0 | BF13: =(COUNTIF($E13,"><")*AND($I13="PRÉVUE N-1"))+(COUNTIF($K13,"><")*AND($O13="PRÉVUE N-1"))+(COUNTIF($Q13,"><")*AND(U13="PRÉVUE N-1"))+(COUNTIF($W13,"><")*AND($AA13="PRÉVUE N-1"))+(COUNTIF($AC13,"><")*AND($AG13="PRÉVUE N-1"))+(COUNTIF($AI13,"><")*AND($AM13="PRÉVUE N-1"))+(COUNTIF($AO13,"><")*AND($AS13="PRÉVUE N-1"))+(COUNTIF($AU13,"><")*AND($AY13="PRÉVUE N-1")) -> 0
A14: TH | B14: CDI | C14: 215 | D14: HHH | E14: PROFESSIONNA° | F14: P1 | G14: =IFERROR(VLOOKUP(F14,'STRATEGIE - objectif 2020'!$A$4:$X$7,3,FALSE),"") -> LES PRINCIPES DE LA FACTURATION | H14: =IFERROR(VLOOKUP(F14,'STRATEGIE - objectif 2020'!$A$4:$X$7,8,FALSE),"") -> IDENTIFIER - OBJECTIFS - ORGANISME - MOYENS - DEVIS - DATES | I14: OK - Finie | M14: =IFERROR(VLOOKUP(L14,'STRATEGIE - objectif 2020'!$A$4:$X$7,3,FALSE),"") | N14: =IFERROR(VLOOKUP(L14,'STRATEGIE - objectif 2020'!$A$4:$X$7,8,FALSE),"") | S14: =IFERROR(VLOOKUP(R14,'STRATEGIE - objectif 2020'!$A$4:$X$7,3,FALSE),"") | T14: =IFERROR(VLOOKUP(R14,'STRATEGIE - objectif 2020'!$A$4:$X$7,8,FALSE),"") | Y14: =IFERROR(VLOOKUP(X14,'STRATEGIE - objectif 2020'!$A$4:$X$7,3,FALSE),"") | Z14: =IFERROR(VLOOKUP(X14,'STRATEGIE - objectif 2020'!$A$4:$X$7,8,FALSE),"") | AE14: =IFERROR(VLOOKUP(AD14,'STRATEGIE - objectif 2020'!$A$4:$X$7,3,FALSE),"") | AF14: =IFERROR(VLOOKUP(AD14,'STRATEGIE - objectif 2020'!$A$4:$X$7,8,FALSE),"") | AK14: =IFERROR(VLOOKUP(AJ14,'STRATEGIE - objectif 2020'!$A$4:$X$7,3,FALSE),"") | AL14: =IFERROR(VLOOKUP(AJ14,'STRATEGIE - objectif 2020'!$A$4:$X$7,8,FALSE),"") | AQ14: =IFERROR(VLOOKUP(AP14,'STRATEGIE - objectif 2020'!$A$4:$X$7,3,FALSE),"") | AR14: =IFERROR(VLOOKUP(AP14,'STRATEGIE - objectif 2020'!$A$4:$X$7,8,FALSE),"") | AW14: =IFERROR(VLOOKUP(AV14,'STRATEGIE - objectif 2020'!$A$4:$X$7,3,FALSE),"") | AX14: =IFERROR(VLOOKUP(AV14,'STRATEGIE - objectif 2020'!$A$4:$X$7,8,FALSE),"") | BA14: =(COUNTIF($E14,"><")*AND($I14="OK - FINIE"))+(COUNTIF($K14,"><")*AND($O14="OK - FINIE"))+(COUNTIF($Q14,"><")*AND(U14="OK - FINIE"))+(COUNTIF($W14,"><")*AND($AA14="OK - FINIE"))+(COUNTIF($AC14,"><")*AND($AG14="OK - FINIE"))+(COUNTIF($AI14,"><")*AND($AM14="OK - FINIE"))+(COUNTIF($AO14,"><")*AND($AS14="OK - FINIE"))+(COUNTIF($AU14,"><")*AND($AY14="OK - FINIE")) -> 1 | BB14: =(COUNTIF($E14,"><")*AND(ISBLANK($I14)))+(COUNTIF($K14,"><")*AND(ISBLANK($O14)))+(COUNTIF($Q14,"><")*AND(ISBLANK($U14)))+(COUNTIF($W14,"><")*AND(ISBLANK($AA14)))+(COUNTIF($AC14,"><")*AND(ISBLANK($AG14)))+(COUNTIF($AI14,"><")*AND(ISBLANK($AM14)))+(COUNTIF($AO14,"><")*AND(ISBLANK($AS14)))+(COUNTIF($AU14,"><")*AND(ISBLANK($AY14))) -> 0 | BC14: =SUM(BA14:BB14) -> 1 | BD14: =(COUNTIF($E14,"><")*AND($I14="Annulée "))+(COUNTIF($K14,"><")*AND($O14="Annulée "))+(COUNTIF($Q14,"><")*AND(Y14="Annulée "))+(COUNTIF($W14,"><")*AND($AA14="Annulée "))+(COUNTIF($AC14,"><")*AND($AG14="Annulée "))+(COUNTIF($AI14,"><")*AND($AM14="Annulée "))+(COUNTIF($AO14,"><")*AND($AS14="Annulée "))+(COUNTIF($AU14,"><")*AND($AY14="Annulée ")) -> 0 | BE14: =(COUNTIF($E14,"><")*AND($I14="Report N+1 "))+(COUNTIF($K14,"><")*AND($O14="Report N+1 "))+(COUNTIF($Q14,"><")*AND(Y14="Report N+1 "))+(COUNTIF($W14,"><")*AND($AA14="Report N+1 "))+(COUNTIF($AC14,"><")*AND($AG14="Report N+1 "))+(COUNTIF($AI14,"><")*AND($AM14="Report N+1 "))+(COUNTIF($AO14,"><")*AND($AS14="Report N+1 "))+(COUNTIF($AU14,"><")*AND($AY14="Report N+1 ")) -> 0 | BF14: =(COUNTIF($E14,"><")*AND($I14="PRÉVUE N-1"))+(COUNTIF($K14,"><")*AND($O14="PRÉVUE N-1"))+(COUNTIF($Q14,"><")*AND(U14="PRÉVUE N-1"))+(COUNTIF($W14,"><")*AND($AA14="PRÉVUE N-1"))+(COUNTIF($AC14,"><")*AND($AG14="PRÉVUE N-1"))+(COUNTIF($AI14,"><")*AND($AM14="PRÉVUE N-1"))+(COUNTIF($AO14,"><")*AND($AS14="PRÉVUE N-1"))+(COUNTIF($AU14,"><")*AND($AY14="PRÉVUE N-1")) -> 0
A15: TH | B15: CDI | C15: 240 | D15: III | E15: PROFESSIONNA° | F15: P2 | G15: =IFERROR(VLOOKUP(F15,'STRATEGIE - objectif 2020'!$A$4:$X$7,3,FALSE),"") -> FORMATION ECONOMIQUE ET SOCIAL | H15: =IFERROR(VLOOKUP(F15,'STRATEGIE - objectif 2020'!$A$4:$X$7,8,FALSE),"") -> IDENTIFIER - OBJECTIFS - ORGANISME - MOYENS - DEVIS - DATES | I15: OK - Finie | M15: =IFERROR(VLOOKUP(L15,'STRATEGIE - objectif 2020'!$A$4:$X$7,3,FALSE),"") | N15: =IFERROR(VLOOKUP(L15,'STRATEGIE - objectif 2020'!$A$4:$X$7,8,FALSE),"") | S15: =IFERROR(VLOOKUP(R15,'STRATEGIE - objectif 2020'!$A$4:$X$7,3,FALSE),"") | T15: =IFERROR(VLOOKUP(R15,'STRATEGIE - objectif 2020'!$A$4:$X$7,8,FALSE),"") | Y15: =IFERROR(VLOOKUP(X15,'STRATEGIE - objectif 2020'!$A$4:$X$7,3,FALSE),"") | Z15: =IFERROR(VLOOKUP(X15,'STRATEGIE - objectif 2020'!$A$4:$X$7,8,FALSE),"") | AE15: =IFERROR(VLOOKUP(AD15,'STRATEGIE - objectif 2020'!$A$4:$X$7,3,FALSE),"") | AF15: =IFERROR(VLOOKUP(AD15,'STRATEGIE - objectif 2020'!$A$4:$X$7,8,FALSE),"") | AK15: =IFERROR(VLOOKUP(AJ15,'STRATEGIE - objectif 2020'!$A$4:$X$7,3,FALSE),"") | AL15: =IFERROR(VLOOKUP(AJ15,'STRATEGIE - objectif 2020'!$A$4:$X$7,8,FALSE),"") | AQ15: =IFERROR(VLOOKUP(AP15,'STRATEGIE - objectif 2020'!$A$4:$X$7,3,FALSE),"") | AR15: =IFERROR(VLOOKUP(AP15,'STRATEGIE - objectif 2020'!$A$4:$X$7,8,FALSE),"") | AW15: =IFERROR(VLOOKUP(AV15,'STRATEGIE - objectif 2020'!$A$4:$X$7,3,FALSE),"") | AX15: =IFERROR(VLOOKUP(AV15,'STRATEGIE - objectif 2020'!$A$4:$X$7,8,FALSE),"") | BA15: =(COUNTIF($E15,"><")*AND($I15="OK - FINIE"))+(COUNTIF($K15,"><")*AND($O15="OK - FINIE"))+(COUNTIF($Q15,"><")*AND(U15="OK - FINIE"))+(COUNTIF($W15,"><")*AND($AA15="OK - FINIE"))+(COUNTIF($AC15,"><")*AND($AG15="OK - FINIE"))+(COUNTIF($AI15,"><")*AND($AM15="OK - FINIE"))+(COUNTIF($AO15,"><")*AND($AS15="OK - FINIE"))+(COUNTIF($AU15,"><")*AND($AY15="OK - FINIE")) -> 1 | BB15: =(COUNTIF($E15,"><")*AND(ISBLANK($I15)))+(COUNTIF($K15,"><")*AND(ISBLANK($O15)))+(COUNTIF($Q15,"><")*AND(ISBLANK($U15)))+(COUNTIF($W15,"><")*AND(ISBLANK($AA15)))+(COUNTIF($AC15,"><")*AND(ISBLANK($AG15)))+(COUNTIF($AI15,"><")*AND(ISBLANK($AM15)))+(COUNTIF($AO15,"><")*AND(ISBLANK($AS15)))+(COUNTIF($AU15,"><")*AND(ISBLANK($AY15))) -> 0 | BC15: =SUM(BA15:BB15) -> 1 | BD15: =(COUNTIF($E15,"><")*AND($I15="Annulée "))+(COUNTIF($K15,"><")*AND($O15="Annulée "))+(COUNTIF($Q15,"><")*AND(Y15="Annulée "))+(COUNTIF($W15,"><")*AND($AA15="Annulée "))+(COUNTIF($AC15,"><")*AND($AG15="Annulée "))+(COUNTIF($AI15,"><")*AND($AM15="Annulée "))+(COUNTIF($AO15,"><")*AND($AS15="Annulée "))+(COUNTIF($AU15,"><")*AND($AY15="Annulée ")) -> 0 | BE15: =(COUNTIF($E15,"><")*AND($I15="Report N+1 "))+(COUNTIF($K15,"><")*AND($O15="Report N+1 "))+(COUNTIF($Q15,"><")*AND(Y15="Report N+1 "))+(COUNTIF($W15,"><")*AND($AA15="Report N+1 "))+(COUNTIF($AC15,"><")*AND($AG15="Report N+1 "))+(COUNTIF($AI15,"><")*AND($AM15="Report N+1 "))+(COUNTIF($AO15,"><")*AND($AS15="Report N+1 "))+(COUNTIF($AU15,"><")*AND($AY15="Report N+1 ")) -> 0 | BF15: =(COUNTIF($E15,"><")*AND($I15="PRÉVUE N-1"))+(COUNTIF($K15,"><")*AND($O15="PRÉVUE N-1"))+(COUNTIF($Q15,"><")*AND(U15="PRÉVUE N-1"))+(COUNTIF($W15,"><")*AND($AA15="PRÉVUE N-1"))+(COUNTIF($AC15,"><")*AND($AG15="PRÉVUE N-1"))+(COUNTIF($AI15,"><")*AND($AM15="PRÉVUE N-1"))+(COUNTIF($AO15,"><")*AND($AS15="PRÉVUE N-1"))+(COUNTIF($AU15,"><")*AND($AY15="PRÉVUE N-1")) -> 0
A16: TH | B16: CDI | C16: 170 | D16: JJJ | G16: =IFERROR(VLOOKUP(F16,'STRATEGIE - objectif 2020'!$A$4:$X$7,3,FALSE),"") | H16: =IFERROR(VLOOKUP(F16,'STRATEGIE - objectif 2020'!$A$4:$X$7,8,FALSE),"") | M16: =IFERROR(VLOOKUP(L16,'STRATEGIE - objectif 2020'!$A$4:$X$7,3,FALSE),"") | N16: =IFERROR(VLOOKUP(L16,'STRATEGIE - objectif 2020'!$A$4:$X$7,8,FALSE),"") | S16: =IFERROR(VLOOKUP(R16,'STRATEGIE - objectif 2020'!$A$4:$X$7,3,FALSE),"") | T16: =IFERROR(VLOOKUP(R16,'STRATEGIE - objectif 2020'!$A$4:$X$7,8,FALSE),"") | Y16: =IFERROR(VLOOKUP(X16,'STRATEGIE - objectif 2020'!$A$4:$X$7,3,FALSE),"") | Z16: =IFERROR(VLOOKUP(X16,'STRATEGIE - objectif 2020'!$A$4:$X$7,8,FALSE),"") | AE16: =IFERROR(VLOOKUP(AD16,'STRATEGIE - objectif 2020'!$A$4:$X$7,3,FALSE),"") | AF16: =IFERROR(VLOOKUP(AD16,'STRATEGIE - objectif 2020'!$A$4:$X$7,8,FALSE),"") | AK16: =IFERROR(VLOOKUP(AJ16,'STRATEGIE - objectif 2020'!$A$4:$X$7,3,FALSE),"") | AL16: =IFERROR(VLOOKUP(AJ16,'STRATEGIE - objectif 2020'!$A$4:$X$7,8,FALSE),"") | AQ16: =IFERROR(VLOOKUP(AP16,'STRATEGIE - objectif 2020'!$A$4:$X$7,3,FALSE),"") | AR16: =IFERROR(VLOOKUP(AP16,'STRATEGIE - objectif 2020'!$A$4:$X$7,8,FALSE),"") | AW16: =IFERROR(VLOOKUP(AV16,'STRATEGIE - objectif 2020'!$A$4:$X$7,3,FALSE),"") | AX16: =IFERROR(VLOOKUP(AV16,'STRATEGIE - objectif 2020'!$A$4:$X$7,8,FALSE),"") | BA16: =(COUNTIF($E16,"><")*AND($I16="OK - FINIE"))+(COUNTIF($K16,"><")*AND($O16="OK - FINIE"))+(COUNTIF($Q16,"><")*AND(U16="OK - FINIE"))+(COUNTIF($W16,"><")*AND($AA16="OK - FINIE"))+(COUNTIF($AC16,"><")*AND($AG16="OK - FINIE"))+(COUNTIF($AI16,"><")*AND($AM16="OK - FINIE"))+(COUNTIF($AO16,"><")*AND($AS16="OK - FINIE"))+(COUNTIF($AU16,"><")*AND($AY16="OK - FINIE")) -> 0 | BB16: =(COUNTIF($E16,"><")*AND(ISBLANK($I16)))+(COUNTIF($K16,"><")*AND(ISBLANK($O16)))+(COUNTIF($Q16,"><")*AND(ISBLANK($U16)))+(COUNTIF($W16,"><")*AND(ISBLANK($AA16)))+(COUNTIF($AC16,"><")*AND(ISBLANK($AG16)))+(COUNTIF($AI16,"><")*AND(ISBLANK($AM16)))+(COUNTIF($AO16,"><")*AND(ISBLANK($AS16)))+(COUNTIF($AU16,"><")*AND(ISBLANK($AY16))) -> 0 | BC16: =SUM(BA16:BB16) -> 0 | BD16: =(COUNTIF($E16,"><")*AND($I16="Annulée "))+(COUNTIF($K16,"><")*AND($O16="Annulée "))+(COUNTIF($Q16,"><")*AND(Y16="Annulée "))+(COUNTIF($W16,"><")*AND($AA16="Annulée "))+(COUNTIF($AC16,"><")*AND($AG16="Annulée "))+(COUNTIF($AI16,"><")*AND($AM16="Annulée "))+(COUNTIF($AO16,"><")*AND($AS16="Annulée "))+(COUNTIF($AU16,"><")*AND($AY16="Annulée ")) -> 0 | BE16: =(COUNTIF($E16,"><")*AND($I16="Report N+1 "))+(COUNTIF($K16,"><")*AND($O16="Report N+1 "))+(COUNTIF($Q16,"><")*AND(Y16="Report N+1 "))+(COUNTIF($W16,"><")*AND($AA16="Report N+1 "))+(COUNTIF($AC16,"><")*AND($AG16="Report N+1 "))+(COUNTIF($AI16,"><")*AND($AM16="Report N+1 "))+(COUNTIF($AO16,"><")*AND($AS16="Report N+1 "))+(COUNTIF($AU16,"><")*AND($AY16="Report N+1 ")) -> 0 | BF16: =(COUNTIF($E16,"><")*AND($I16="PRÉVUE N-1"))+(COUNTIF($K16,"><")*AND($O16="PRÉVUE N-1"))+(COUNTIF($Q16,"><")*AND(U16="PRÉVUE N-1"))+(COUNTIF($W16,"><")*AND($AA16="PRÉVUE N-1"))+(COUNTIF($AC16,"><")*AND($AG16="PRÉVUE N-1"))+(COUNTIF($AI16,"><")*AND($AM16="PRÉVUE N-1"))+(COUNTIF($AO16,"><")*AND($AS16="PRÉVUE N-1"))+(COUNTIF($AU16,"><")*AND($AY16="PRÉVUE N-1")) -> 0
A17: TH | B17: CDI | C17: 255 | D17: KKK | E17: PROFESSIONNA° | F17: P2 | G17: =IFERROR(VLOOKUP(F17,'STRATEGIE - objectif 2020'!$A$4:$X$7,3,FALSE),"") -> FORMATION ECONOMIQUE ET SOCIAL | H17: =IFERROR(VLOOKUP(F17,'STRATEGIE - objectif 2020'!$A$4:$X$7,8,FALSE),"") -> IDENTIFIER - OBJECTIFS - ORGANISME - MOYENS - DEVIS - DATES | I17: OK - Finie | M17: =IFERROR(VLOOKUP(L17,'STRATEGIE - objectif 2020'!$A$4:$X$7,3,FALSE),"") | N17: =IFERROR(VLOOKUP(L17,'STRATEGIE - objectif 2020'!$A$4:$X$7,8,FALSE),"") | S17: =IFERROR(VLOOKUP(R17,'STRATEGIE - objectif 2020'!$A$4:$X$7,3,FALSE),"") | T17: =IFERROR(VLOOKUP(R17,'STRATEGIE - objectif 2020'!$A$4:$X$7,8,FALSE),"") | Y17: =IFERROR(VLOOKUP(X17,'STRATEGIE - objectif 2020'!$A$4:$X$7,3,FALSE),"") | Z17: =IFERROR(VLOOKUP(X17,'STRATEGIE - objectif 2020'!$A$4:$X$7,8,FALSE),"") | AE17: =IFERROR(VLOOKUP(AD17,'STRATEGIE - objectif 2020'!$A$4:$X$7,3,FALSE),"") | AF17: =IFERROR(VLOOKUP(AD17,'STRATEGIE - objectif 2020'!$A$4:$X$7,8,FALSE),"") | AK17: =IFERROR(VLOOKUP(AJ17,'STRATEGIE - objectif 2020'!$A$4:$X$7,3,FALSE),"") | AL17: =IFERROR(VLOOKUP(AJ17,'STRATEGIE - objectif 2020'!$A$4:$X$7,8,FALSE),"") | AQ17: =IFERROR(VLOOKUP(AP17,'STRATEGIE - objectif 2020'!$A$4:$X$7,3,FALSE),"") | AR17: =IFERROR(VLOOKUP(AP17,'STRATEGIE - objectif 2020'!$A$4:$X$7,8,FALSE),"") | AW17: =IFERROR(VLOOKUP(AV17,'STRATEGIE - objectif 2020'!$A$4:$X$7,3,FALSE),"") | AX17: =IFERROR(VLOOKUP(AV17,'STRATEGIE - objectif 2020'!$A$4:$X$7,8,FALSE),"") | BA17: =(COUNTIF($E17,"><")*AND($I17="OK - FINIE"))+(COUNTIF($K17,"><")*AND($O17="OK - FINIE"))+(COUNTIF($Q17,"><")*AND(U17="OK - FINIE"))+(COUNTIF($W17,"><")*AND($AA17="OK - FINIE"))+(COUNTIF($AC17,"><")*AND($AG17="OK - FINIE"))+(COUNTIF($AI17,"><")*AND($AM17="OK - FINIE"))+(COUNTIF($AO17,"><")*AND($AS17="OK - FINIE"))+(COUNTIF($AU17,"><")*AND($AY17="OK - FINIE")) -> 1 | BB17: =(COUNTIF($E17,"><")*AND(ISBLANK($I17)))+(COUNTIF($K17,"><")*AND(ISBLANK($O17)))+(COUNTIF($Q17,"><")*AND(ISBLANK($U17)))+(COUNTIF($W17,"><")*AND(ISBLANK($AA17)))+(COUNTIF($AC17,"><")*AND(ISBLANK($AG17)))+(COUNTIF($AI17,"><")*AND(ISBLANK($AM17)))+(COUNTIF($AO17,"><")*AND(ISBLANK($AS17)))+(COUNTIF($AU17,"><")*AND(ISBLANK($AY17))) -> 0 | BC17: =SUM(BA17:BB17) -> 1 | BD17: =(COUNTIF($E17,"><")*AND($I17="Annulée "))+(COUNTIF($K17,"><")*AND($O17="Annulée "))+(COUNTIF($Q17,"><")*AND(Y17="Annulée "))+(COUNTIF($W17,"><")*AND($AA17="Annulée "))+(COUNTIF($AC17,"><")*AND($AG17="Annulée "))+(COUNTIF($AI17,"><")*AND($AM17="Annulée "))+(COUNTIF($AO17,"><")*AND($AS17="Annulée "))+(COUNTIF($AU17,"><")*AND($AY17="Annulée ")) -> 0 | BE17: =(COUNTIF($E17,"><")*AND($I17="Report N+1 "))+(COUNTIF($K17,"><")*AND($O17="Report N+1 "))+(COUNTIF($Q17,"><")*AND(Y17="Report N+1 "))+(COUNTIF($W17,"><")*AND($AA17="Report N+1 "))+(COUNTIF($AC17,"><")*AND($AG17="Report N+1 "))+(COUNTIF($AI17,"><")*AND($AM17="Report N+1 "))+(COUNTIF($AO17,"><")*AND($AS17="Report N+1 "))+(COUNTIF($AU17,"><")*AND($AY17="Report N+1 ")) -> 0 | BF17: =(COUNTIF($E17,"><")*AND($I17="PRÉVUE N-1"))+(COUNTIF($K17,"><")*AND($O17="PRÉVUE N-1"))+(COUNTIF($Q17,"><")*AND(U17="PRÉVUE N-1"))+(COUNTIF($W17,"><")*AND($AA17="PRÉVUE N-1"))+(COUNTIF($AC17,"><")*AND($AG17="PRÉVUE N-1"))+(COUNTIF($AI17,"><")*AND($AM17="PRÉVUE N-1"))+(COUNTIF($AO17,"><")*AND($AS17="PRÉVUE N-1"))+(COUNTIF($AU17,"><")*AND($AY17="PRÉVUE N-1")) -> 0
D21: INDICATEURS QUALITE
D23: Nombre de salariés concernés par le plan de formation | J23: =COUNTA(Personnel) -> 11
D24: Nombre de TH concernés par le par le plan de formation | J24: =COUNTIF(A7:A17,"TH") -> 7
D25: Nombre de salariés ayant suivi au moins 1 formation | J25: =COUNTIF(Finies_Form,">0") -> 10
D26: Nombre de TH ayant suivi au moins 1 formation | J26: =COUNTIFS(A7:A17,"TH",Finies_Form,">0") -> 6
D27: Taux de salariés Formés | J27: =J25/J23 -> 0.90909091
D28: Taux de TH Formés | J28: =J26/J24 -> 0.85714286
D30: Nombre Total de formations prévues | J30: =COUNTIF(('STRATEGIE - objectif 2020'!X4:X7),"EN COURS")+COUNTIF(('STRATEGIE - objectif 2020'!X4:X7),"OK - Finie")+COUNTIF(('STRATEGIE - objectif 2020'!X4:X7),"Annulée") -> 2
D31: Nombre total de formations annulées | J31: =COUNTIF('STRATEGIE - objectif 2020'!X4:X7,"ANNULEE") -> 0
D32: Nombre Total de formations réalisées | J32: =COUNTIF('STRATEGIE - objectif 2020'!X4:X7,"OK - Finie") -> 1
D33: Nombre Total de formations en cours | J33: =COUNTIF('STRATEGIE - objectif 2020'!X4:X7,"EN COURS") -> 1
D34: Taux de réalisation des formations en nombre | J34: =J32/J30 -> 0.5
D36: Nombre d'actions individuelles de formation prévues | J36: =SUM(Total_Form,Annulées_Form) -> 11
D37: Nombre d'actions individuelles de formation réalisé | J37: =SUM(Finies_Form) -> 11
D38: Nombre d'actions Individuelles de formation en cours | J38: =SUM(En_Cours_Form) -> 0
D39: Nombre d'actions Individuelles annulées | J39: =SUM(Annulées_Form) -> 0
D40: Taux de réalisation des actions individuelles | J40: =J37/J36 -> 1
D42: Cout prévu des formations | J42: ='STRATEGIE - objectif 2020'!V8 -> 310
D43: Cout engagé dans les formations | J43: ='STRATEGIE - objectif 2020'!W8 -> 310
D44: Cout des organismes extérieurs de formation | J44: ='STRATEGIE - objectif 2020'!P8 -> 0
D45: Taux de réalisation des formations en cout | J45: =J44/J42 -> 0
D46: Nombre de formations prévues non-budgétées (Formation en cours) | J46: =SUMIFS('STRATEGIE - objectif 2020'!P4:P7,'STRATEGIE - objectif 2020'!X4:X7,"EN COURS") -> 0
D47: Nombre de formations externes | J47: =COUNTIF('STRATEGIE - objectif 2020'!D4:D7,'STRATEGIE - objectif 2020'!#REF!) -> 0
...

Sheet STRATEGIE - objectif 2020
K1: STRATEGIE DE L'ENTREPRISE | AT1: TYPE DE FORMATION (NE PAS SUPPRIMMER) | AU1: Taux de réalisation
A2: N° | B2: Service(s) Concerné(s) | C2: Nom de la formation | D2: Nature de la formation | E2: Nom de l'organisme | F2: Type de formation | G2: Participants | K2: Actions à mener | P2: COUT ORGANISMES EXTERIEURS | Q2: COMMENTAIRES | R2: Prise en charge organisme | U2: Dépenses et salaires | V2: COUTS TOTAL | W2: REALISATIONS | X2: TAUX DE REALISATION | AT2: Interne | AU2: EN COURS
H3: 1 | J3: 2 | L3: 3 | N3: 4 | R3: REGION | S3: OPCALIA | T3: AUTOFI | AT3: Tutorat | AU3: OK - FINIE
B4: Professionnalisation | AT4: Organisme extérieur
A5: P1 | B5: Tous Services | C5: LES PRINCIPES DE LA FACTURATION | D5: Interne | E5: Formateur : KKK | F5: Formation qualifiante | G5: AAA BBB CCC DDD EEE FFF GGG HHH | H5: IDENTIFIER - OBJECTIFS - ORGANISME - MOYENS - DEVIS - DATES | I5: Ok | N5: AJOUTER LES SALAIRES CHARGES + FRAIS LIES | O5: Ok | P5: = Cellule H6 de la feuille portant le nom de A5 | T5: =P5-S5-R5 -> #VALUE! | U5: ='P1'!H5 -> 310 | V5: ='P1'!H8 -> 310 | W5: ='P1'!H8 -> 310 | X5: OK - FINIE
A6: P2 | B6: CSE CSSCT | C6: FORMATION ECONOMIQUE ET SOCIAL | D6: Organisme extérieur | E6: AFSO | F6: Formation qualifiante | G6: III KKK CCC | H6: IDENTIFIER - OBJECTIFS - ORGANISME - MOYENS - DEVIS - DATES | I6: Ok
A7: T1 | B7: Tertiaire / Traitement comptable | C7: TUTORAT TREMPLIN TRAITEMENT COMPTABLE | D7: Tutorat | E7: Tuteur : REME | F7: Formation non qualifiante | G7: AAA | H7: IDENTIFIER - BESOINS - OBJECTIS - PLANNING - PERIODE | I7: OK | T7: =P7-S7-R7 -> 0 | U7: 0 | V7: 0 | W7: =V7 -> 0 | X7: EN COURS
O8: TOTAL BESOINS 2020 | P8: =SUM(P3:P7) -> 0 | R8: =SUM(R3:R7) -> 0 | S8: =SUM(S3:S7) -> 0 | T8: =SUM(T3:T7) -> #VALUE! | U8: =SUM(U3:U7) -> 310 | V8: =SUM(V3:V7) -> 310 | W8: =SUM(W3:W7) -> 310 | X8: =+W8/V8 -> 1

Sheet P1
A1: EVALUATION COUT FORMATION
A3: Numéro de formation | C3: =MID(CELL("nomfichier",A1),FIND("]",CELL("nomfichier",A1))+1,LEN(CELL("nomfichier",A1))-FIND("]",CELL("nomfichier",A1))) -> P1
A4: ACTIVITE DE PRODUCTION : | B4: =VLOOKUP((MID(CELL("nomfichier",A3),FIND("]",CELL("nomfichier",A3))+1,LEN(CELL("nomfichier",A3))-FIND("]",CELL("nomfichier",A3)))),'STRATEGIE - objectif 2020'!A4:X343,2,FALSE) -> Tous Services | G4: COUT REEL
G5: Coût Salarial | H5: =((SUM(B17:B34,F17))*E14)+(SUM(B17:B34)*G14)+(F17*I14) -> 310
A6: INITITULE DE LA FORMATION | B6: =VLOOKUP((MID(CELL("nomfichier",A3),FIND("]",CELL("nomfichier",A3))+1,LEN(CELL("nomfichier",A3))-FIND("]",CELL("nomfichier",A3)))),'STRATEGIE - objectif 2020'!A4:X343,3,FALSE) -> LES PRINCIPES DE LA FACTURATION | G6: Cout Format | H6: =SUM(G21:G24) -> 0
B7: Maitriser les bases de la facturation | G7: Autres Frais | H7: =(SUM(G28:G34))+(H17*G17) -> 0
A8: OBJECTIF : | G8: COUT TOTAL | H8: =SUM(H5:H7) -> 310
A10: Col/Indiv : | B10: Collective | C10: Dans le cadre d'une VAE ? | F10: Non
A11: Type de formation : | B11: Formation accès aux savoirs de base
A13: DATES : | B13: Du | C13: Au | E13: Durée formation ou Binome tutorat | G13: Durrée Apprenant seul | I13: Tuteur Seul
B14: 43843 | C14: 43843 | E14: 2 | F14: HEURES | H14: HEURES | J14: HEURES
A16: APPRENANT(S) : | B16: TAUX HORAIRE CHARGE : | E16: TUTEUR - Form : | F16: Taux Horaire | G16: Indémnité | H16: DUREE
A17: AAA | B17: 15 | C17: EUROS | E17: KKK | F17: 20 | I17: MOIS
A18: BBB | B18: 15 | C18: EUROS
A19: CCC | B19: 30 | C19: EUROS | E19: Cout Organisme Formation
A20: DDD | B20: 15 | C20: EUROS | E20: Organisme | F20: Objet | G20: Prix
A21: EEE | B21: 15 | C21: EUROS
A22: FFF | B22: 15 | C22: EUROS
A23: GGG | B23: 15 | C23: EUROS
A24: HHH | B24: 15 | C24: EUROS
E26: Autres Frais Liés
E27: Motif | G27: Montant

Sheet P2
A1: EVALUATION COUT FORMATION
A3: Numéro de formation | C3: =MID(CELL("nomfichier",A1),FIND("]",CELL("nomfichier",A1))+1,LEN(CELL("nomfichier",A1))-FIND("]",CELL("nomfichier",A1))) -> P2
A4: ACTIVITE DE PRODUCTION : | B4: =VLOOKUP((MID(CELL("nomfichier",A3),FIND("]",CELL("nomfichier",A3))+1,LEN(CELL("nomfichier",A3))-FIND("]",CELL("nomfichier",A3)))),'STRATEGIE - objectif 2020'!A4:X343,2,FALSE) -> CSE CSSCT | G4: COUT REEL
G5: Coût Salarial | H5: =((SUM(B17:B34,F17))*E14)+(SUM(B17:B34)*G14)+(F17*I14) -> 1260
A6: INITITULE DE LA FORMATION | B6: =VLOOKUP((MID(CELL("nomfichier",A3),FIND("]",CELL("nomfichier",A3))+1,LEN(CELL("nomfichier",A3))-FIND("]",CELL("nomfichier",A3)))),'STRATEGIE - objectif 2020'!A4:X343,3,FALSE) -> FORMATION ECONOMIQUE ET SOCIAL | G6: Cout Format | H6: =SUM(G21:G24) -> 5000
B7: Aquérir les bases du role du CSE et notions comptable pour réussir son mandat | G7: Autres Frais | H7: =(SUM(G28:G34))+(H17*G17) -> 200
A8: OBJECTIF : | G8: COUT TOTAL | H8: =SUM(H5:H7) -> 6460
A10: Col/Indiv : | B10: Collective | C10: Dans le cadre d'une VAE ? | F10: Non
A11: Type de formation : | B11: Ouvrant sur un autre type de diplôme
A13: DATES : | B13: Du | C13: Au | E13: Durée formation ou Binome tutorat | G13: Durrée Apprenant seul | I13: Tuteur Seul
B14: 43871 | C14: 43902 | E14: 21 | F14: HEURES | H14: HEURES | J14: HEURES
A16: APPRENANT(S) : | B16: TAUX HORAIRE CHARGE : | E16: TUTEUR : | F16: Taux Horaire | G16: Indémnité | H16: DUREE
A17: III | B17: 15 | C17: EUROS | I17: MOIS
A18: KKK | B18: 15 | C18: EUROS
A19: CCC | B19: 30 | C19: EUROS | E19: Cout Organisme Formation
E20: Organisme | F20: Objet | G20: Prix
E21: ABC FORM | F21: formation | G21: 5000
E26: Autres Frais Liés
E27: Motif | G27: Montant
E28: Frais Déplacement | G28: 200

Sheet T1
A1: EVALUATION COUT FORMATION
A3: Numéro de formation | C3: =MID(CELL("nomfichier",A1),FIND("]",CELL("nomfichier",A1))+1,LEN(CELL("nomfichier",A1))-FIND("]",CELL("nomfichier",A1))) -> T1
A4: ACTIVITE DE PRODUCTION : | B4: =VLOOKUP((MID(CELL("nomfichier",A3),FIND("]",CELL("nomfichier",A3))+1,LEN(CELL("nomfichier",A3))-FIND("]",CELL("nomfichier",A3)))),'STRATEGIE - objectif 2020'!A4:X343,2,FALSE) -> Tertiaire / Traitement comptable | G4: COUT REEL
G5: Coût Salarial | H5: =((SUM(B17:B34,F17))*E14)+(SUM(B17:B34)*G14)+(F17*I14) -> 900
A6: INITITULE DE LA FORMATION | B6: =VLOOKUP((MID(CELL("nomfichier",A3),FIND("]",CELL("nomfichier",A3))+1,LEN(CELL("nomfichier",A3))-FIND("]",CELL("nomfichier",A3)))),'STRATEGIE - objectif 2020'!A4:X343,3,FALSE) -> TUTORAT TREMPLIN TRAITEMENT COMPTABLE | G6: Cout Format | H6: =SUM(G21:G24) -> 0
B7: Maitriser le traitement comptable | G7: Autres Frais | H7: =(SUM(G28:G34))+(H17*G17) -> 0
A8: OBJECTIF : | G8: COUT TOTAL | H8: =SUM(H5:H7) -> 900
A10: Col/Indiv : | B10: Individuelle | C10: Dans le cadre d'une VAE ? | F10: Non
A11: Type de formation :
A13: DATES : | B13: Du | C13: Au | E13: Durée formation ou Binome tutorat | G13: Durrée Apprenant seul | I13: Tuteur Seul
B14: 43831 | C14: 43982 | E14: 20 | F14: HEURES | G14: 40 | H14: HEURES | I14: 5 | J14: HEURES
A16: APPRENANT(S) : | B16: TAUX HORAIRE CHARGE : | E16: TUTEUR / FORMATEUR : | F16: Taux Horaire | G16: Indémnité | H16: DUREE
A17: AAA | B17: 15 | C17: EUROS | I17: MOIS
E19: Cout Organisme Formation
E20: Organisme | F20: Objet | G20: Prix
E26: Autres Frais Liés
E27: Motif | G27: Montant
