Workbook

Sheet Suivi
C1: Géré par | D1: Date de début | E1: Durée estimée (j-h) | F1: Date fin prévue | G1: Statut | H1: Avancement | J1: Septembre | AN1: Octobre | BS1: Novembre | CX1: Décembre
A2: Priorité | J2: 44805 | K2: 44806 | L2: 44807 | M2: 44808 | N2: 44809 | O2: 44810 | P2: 44811 | Q2: 44812 | R2: 44813 | S2: 44814 | T2: 44815 | U2: 44816 | V2: 44817 | W2: 44818 | X2: 44819 | Y2: 44820 | Z2: 44821 | AA2: 44822 | AB2: 44823 | AC2: 44824 | AD2: 44825 | AE2: 44826 | AF2: 44827 | AG2: 44828 | AH2: 44829 | AI2: 44830 | AJ2: 44831 | AK2: 44832 | AL2: 44833 | AM2: 44834 | AN2: 1 | AO2: 2 | AP2: 3 | AQ2: 4 | AR2: 5 | AS2: 6 | AT2: 7 | AU2: 8 | AV2: 9 | AW2: 10 | AX2: 11 | AY2: 12 | AZ2: 13 | BA2: 14 | BB2: 15 | BC2: 16 | BD2: 17 | BE2: 18 | BF2: 19 | BG2: 20 | BH2: 21 | BI2: 22 | BJ2: 23 | BK2: 24 | BL2: 25 | BM2: 26 | BN2: 27 | BO2: 28 | BP2: 29 | BQ2: 30 | BR2: 31 | BS2: 1 | BT2: 2 | BU2: 3 | BV2: 4 | BW2: 5 | BX2: 6 | BY2: 7 | BZ2: 8 | CA2: 9 | CB2: 10 | CC2: 11 | CD2: 12 | CE2: 13 | CF2: 14 | CG2: 15 | CH2: 16 | CI2: 17 | CJ2: 18 | CK2: 19 | CL2: 20 | CM2: 21 | CN2: 22 | CO2: 23 | CP2: 24 | CQ2: 25 | CR2: 26 | CS2: 27 | CT2: 28 | CU2: 29 | CV2: 30 | CW2: 31 | CX2: 1 | CY2: 2 | CZ2: 3 | DA2: 4 | DB2: 5 | DC2: 6 | DD2: 7 | DE2: 8 | DF2: 9 | DG2: 10 | DH2: 11 | DI2: 12 | DJ2: 13 | DK2: 14 | DL2: 15 | DM2: 16 | DN2: 17 | DO2: 18 | DP2: 19 | DQ2: 20 | DR2: 21 | DS2: 22 | DT2: 23 | DU2: 24 | DV2: 25 | DW2: 26 | DX2: 27 | DY2: 28 | DZ2: 29 | EA2: 30 | EB2: 31
A3: 1 | B3: Projet 1 | D3: 44075 | F3: =D11+SUM(E14:E23) -> 44854
B4: lot
B5: tache | D5: 44621 | E5: 30 | F5: 44761 | G5: {=_xlfn.IFS(D5 = "", "", D5="?", "", TODAY() < D5, "A venir", TODAY() < F5, "En cours", F5 >= TODAY(), "Terminé", F5 < TODAY(), "Terminé")} -> Terminé | H5: {=_xlfn.IFS(G5="","",G5="A venir","0%",G5="En cours",ROUND(100*(1+(F5-TODAY())/(D5-F5)),2)&" %",G5="Terminé","100%")} -> 100%
G6: {=_xlfn.IFS(D6 = "", "", D6="?", "", TODAY() < D6, "A venir", TODAY() < F6, "En cours", F6 >= TODAY(), "Terminé", F6 < TODAY(), "Terminé")}
B7: tache 1 | C7: Nom1 | D7: 44764 | E7: 15 | F7: 44783 | G7: {=_xlfn.IFS(D7 = "", "", D7="?", "", TODAY() < D7, "A venir", TODAY() < F7, "En cours", F7 >= TODAY(), "Terminé", F7 < TODAY(), "Terminé")} -> Terminé | H7: {=_xlfn.IFS(G7="","",G7="A venir","0%",G7="En cours",ROUND(100*(1+(F7-TODAY())/(D7-F7)),2)&" %",G7="Terminé","100%")} -> 100%
B8: tache 2 | C8: Nom2 | D8: 44764 | E8: 15 | F8: 44782 | G8: {=_xlfn.IFS(D8 = "", "", D8="?", "", TODAY() < D8, "A venir", TODAY() < F8, "En cours", F8 >= TODAY(), "Terminé", F8 < TODAY(), "Terminé")} -> Terminé | H8: {=_xlfn.IFS(G8="","",G8="A venir","0%",G8="En cours",ROUND(100*(1+(F8-TODAY())/(D8-F8)),2)&" %",G8="Terminé","100%")} -> 100%
B9: tache 3 | C9: Nom1 | D9: 44764 | E9: 15 | F9: 44782 | G9: {=_xlfn.IFS(D9 = "", "", D9="?", "", TODAY() < D9, "A venir", TODAY() < F9, "En cours", F9 >= TODAY(), "Terminé", F9 < TODAY(), "Terminé")} -> Terminé | H9: {=_xlfn.IFS(G9="","",G9="A venir","0%",G9="En cours",ROUND(100*(1+(F9-TODAY())/(D9-F9)),2)&" %",G9="Terminé","100%")} -> 100%
G10: {=_xlfn.IFS(D10 = "", "", D10="?", "", TODAY() < D10, "A venir", TODAY() < F10, "En cours", F10 >= TODAY(), "Terminé", F10 < TODAY(), "Terminé")}
D11: 44802 | E11: 0.5 | F11: 44803 | G11: A venir | H11: {=_xlfn.IFS(G11="","",G11="A venir","0%",G11="En cours",ROUND(100*(1+(F11-TODAY())/(D11-F11)),2)&" %",G11="Terminé","100%")} -> 0%
G12: {=_xlfn.IFS(D12 = "", "", D12="?", "", TODAY() < D12, "A venir", TODAY() < F12, "En cours", F12 >= TODAY(), "Terminé", F12 < TODAY(), "Terminé")}
G13: {=_xlfn.IFS(D13 = "", "", D13="?", "", TODAY() < D13, "A venir", TODAY() < F13, "En cours", F13 >= TODAY(), "Terminé", F13 < TODAY(), "Terminé")}
D14: 44513 | E14: 3 | F14: 44516 | G14: {=_xlfn.IFS(D14 = "", "", D14="?", "", TODAY() < D14, "A venir", TODAY() < F14, "En cours", F14 >= TODAY(), "Terminé", F14 < TODAY(), "Terminé")} -> Terminé | H14: {=_xlfn.IFS(G14="","",G14="A venir","0%",G14="En cours",ROUND(100*(1+(F14-TODAY())/(D14-F14)),2)&" %",G14="Terminé","100%")} -> 100%
D15: ? | E15: 10 | F15: ? | G15: {=_xlfn.IFS(D15 = "", "", D15="?", "", TODAY() < D15, "A venir", TODAY() < F15, "En cours", F15 >= TODAY(), "Terminé", F15 < TODAY(), "Terminé")} | H15: {=_xlfn.IFS(G15="","",G15="A venir","0%",G15="En cours",ROUND(100*(1+(F15-TODAY())/(D15-F15)),2)&" %",G15="Terminé","100%")}
D16: ? | E16: 12 | F16: ? | G16: {=_xlfn.IFS(D16 = "", "", D16="?", "", TODAY() < D16, "A venir", TODAY() < F16, "En cours", F16 >= TODAY(), "Terminé", F16 < TODAY(), "Terminé")} | H16: {=_xlfn.IFS(G16="","",G16="A venir","0%",G16="En cours",ROUND(100*(1+(F16-TODAY())/(D16-F16)),2)&" %",G16="Terminé","100%")}
D17: ? | E17: 1 | G17: {=_xlfn.IFS(D17 = "", "", D17="?", "", TODAY() < D17, "A venir", TODAY() < F17, "En cours", F17 >= TODAY(), "Terminé", F17 < TODAY(), "Terminé")} | H17: {=_xlfn.IFS(G17="","",G17="A venir","0%",G17="En cours",ROUND(100*(1+(F17-TODAY())/(D17-F17)),2)&" %",G17="Terminé","100%")}
D18: ? | E18: 15 | G18: {=_xlfn.IFS(D18 = "", "", D18="?", "", TODAY() < D18, "A venir", TODAY() < F18, "En cours", F18 >= TODAY(), "Terminé", F18 < TODAY(), "Terminé")} | H18: {=_xlfn.IFS(G18="","",G18="A venir","0%",G18="En cours",ROUND(100*(1+(F18-TODAY())/(D18-F18)),2)&" %",G18="Terminé","100%")}
D19: ? | E19: 0.5 | G19: {=_xlfn.IFS(D19 = "", "", D19="?", "", TODAY() < D19, "A venir", TODAY() < F19, "En cours", F19 >= TODAY(), "Terminé", F19 < TODAY(), "Terminé")} | H19: {=_xlfn.IFS(G19="","",G19="A venir","0%",G19="En cours",ROUND(100*(1+(F19-TODAY())/(D19-F19)),2)&" %",G19="Terminé","100%")}
D20: ? | E20: 0.5 | G20: {=_xlfn.IFS(D20 = "", "", D20="?", "", TODAY() < D20, "A venir", TODAY() < F20, "En cours", F20 >= TODAY(), "Terminé", F20 < TODAY(), "Terminé")} | H20: {=_xlfn.IFS(G20="","",G20="A venir","0%",G20="En cours",ROUND(100*(1+(F20-TODAY())/(D20-F20)),2)&" %",G20="Terminé","100%")}
G21: {=_xlfn.IFS(D21 = "", "", D21="?", "", TODAY() < D21, "A venir", TODAY() < F21, "En cours", F21 >= TODAY(), "Terminé", F21 < TODAY(), "Terminé")}
E22: 10 | G22: {=_xlfn.IFS(D22 = "", "", D22="?", "", TODAY() < D22, "A venir", TODAY() < F22, "En cours", F22 >= TODAY(), "Terminé", F22 < TODAY(), "Terminé")}
E23: ?
G24: {=_xlfn.IFS(D24 = "", "", D24="?", "", TODAY() < D24, "A venir", TODAY() < F24, "En cours", F24 >= TODAY(), "Terminé", F24 < TODAY(), "Terminé")}
G25: {=_xlfn.IFS(D25 = "", "", D25="?", "", TODAY() < D25, "A venir", TODAY() < F25, "En cours", F25 >= TODAY(), "Terminé", F25 < TODAY(), "Terminé")}
E26: 3 | G26: {=_xlfn.IFS(D26 = "", "", D26="?", "", TODAY() < D26, "A venir", TODAY() < F26, "En cours", F26 >= TODAY(), "Terminé", F26 < TODAY(), "Terminé")} | H26: {=_xlfn.IFS(G26="","",G26="A venir","0%",G26="En cours",ROUND(100*(1+(F26-TODAY())/(D26-F26)),2)&" %",G26="Terminé","100%")}
E27: 10 | G27: {=_xlfn.IFS(D27 = "", "", D27="?", "", TODAY() < D27, "A venir", TODAY() < F27, "En cours", F27 >= TODAY(), "Terminé", F27 < TODAY(), "Terminé")} | H27: {=_xlfn.IFS(G27="","",G27="A venir","0%",G27="En cours",ROUND(100*(1+(F27-TODAY())/(D27-F27)),2)&" %",G27="Terminé","100%")}
E28: 12 | G28: {=_xlfn.IFS(D28 = "", "", D28="?", "", TODAY() < D28, "A venir", TODAY() < F28, "En cours", F28 >= TODAY(), "Terminé", F28 < TODAY(), "Terminé")} | H28: {=_xlfn.IFS(G28="","",G28="A venir","0%",G28="En cours",ROUND(100*(1+(F28-TODAY())/(D28-F28)),2)&" %",G28="Terminé","100%")}
E29: 1 | G29: {=_xlfn.IFS(D29 = "", "", D29="?", "", TODAY() < D29, "A venir", TODAY() < F29, "En cours", F29 >= TODAY(), "Terminé", F29 < TODAY(), "Terminé")} | H29: {=_xlfn.IFS(G29="","",G29="A venir","0%",G29="En cours",ROUND(100*(1+(F29-TODAY())/(D29-F29)),2)&" %",G29="Terminé","100%")}
E30: 15 | G30: {=_xlfn.IFS(D30 = "", "", D30="?", "", TODAY() < D30, "A venir", TODAY() < F30, "En cours", F30 >= TODAY(), "Terminé", F30 < TODAY(), "Terminé")} | H30: {=_xlfn.IFS(G30="","",G30="A venir","0%",G30="En cours",ROUND(100*(1+(F30-TODAY())/(D30-F30)),2)&" %",G30="Terminé","100%")}
E31: 0.5 | G31: {=_xlfn.IFS(D31 = "", "", D31="?", "", TODAY() < D31, "A venir", TODAY() < F31, "En cours", F31 >= TODAY(), "Terminé", F31 < TODAY(), "Terminé")} | H31: {=_xlfn.IFS(G31="","",G31="A venir","0%",G31="En cours",ROUND(100*(1+(F31-TODAY())/(D31-F31)),2)&" %",G31="Terminé","100%")}
E32: 0.5 | G32: {=_xlfn.IFS(D32 = "", "", D32="?", "", TODAY() < D32, "A venir", TODAY() < F32, "En cours", F32 >= TODAY(), "Terminé", F32 < TODAY(), "Terminé")} | H32: {=_xlfn.IFS(G32="","",G32="A venir","0%",G32="En cours",ROUND(100*(1+(F32-TODAY())/(D32-F32)),2)&" %",G32="Terminé","100%")}
G33: {=_xlfn.IFS(D33 = "", "", D33="?", "", TODAY() < D33, "A venir", TODAY() < F33, "En cours", F33 >= TODAY(), "Terminé", F33 < TODAY(), "Terminé")}
E34: 10 | G34: {=_xlfn.IFS(D34 = "", "", D34="?", "", TODAY() < D34, "A venir", TODAY() < F34, "En cours", F34 >= TODAY(), "Terminé", F34 < TODAY(), "Terminé")} | H34: {=_xlfn.IFS(G34="","",G34="A venir","0%",G34="En cours",ROUND(100*(1+(F34-TODAY())/(D34-F34)),2)&" %",G34="Terminé","100%")}
E35: ?
G36: {=_xlfn.IFS(D36 = "", "", D36="?", "", TODAY() < D36, "A venir", TODAY() < F36, "En cours", F36 >= TODAY(), "Terminé", F36 < TODAY(), "Terminé")}
G37: {=_xlfn.IFS(D37 = "", "", D37="?", "", TODAY() < D37, "A venir", TODAY() < F37, "En cours", F37 >= TODAY(), "Terminé", F37 < TODAY(), "Terminé")}
E38: 3 | G38: {=_xlfn.IFS(D38 = "", "", D38="?", "", TODAY() < D38, "A venir", TODAY() < F38, "En cours", F38 >= TODAY(), "Terminé", F38 < TODAY(), "Terminé")} | H38: {=_xlfn.IFS(G38="","",G38="A venir","0%",G38="En cours",ROUND(100*(1+(F38-TODAY())/(D38-F38)),2)&" %",G38="Terminé","100%")}
E39: 10 | G39: {=_xlfn.IFS(D39 = "", "", D39="?", "", TODAY() < D39, "A venir", TODAY() < F39, "En cours", F39 >= TODAY(), "Terminé", F39 < TODAY(), "Terminé")} | H39: {=_xlfn.IFS(G39="","",G39="A venir","0%",G39="En cours",ROUND(100*(1+(F39-TODAY())/(D39-F39)),2)&" %",G39="Terminé","100%")}
E40: 12 | G40: {=_xlfn.IFS(D40 = "", "", D40="?", "", TODAY() < D40, "A venir", TODAY() < F40, "En cours", F40 >= TODAY(), "Terminé", F40 < TODAY(), "Terminé")} | H40: {=_xlfn.IFS(G40="","",G40="A venir","0%",G40="En cours",ROUND(100*(1+(F40-TODAY())/(D40-F40)),2)&" %",G40="Terminé","100%")}
...

Sheet DEMANDE Charge ressources
A1: Personne | B1: Projets dédiés | C1: J-h exploités global | D1: J-h consommés mois en cours | E1: J-h annuels restants disponibles
A2: Nom1 | B2: Projet 1 + projet2 | C2: =SUMIF(Suivi!C5:C230,"nom1",Suivi!E5:E230) -> 31 | D2: ? | E2: =97-Tableau32[[#This Row],[J-h exploités global]] -> 66
A3: Nom2 | B3: Projet 3 + projet5 | E3: =97-Tableau32[[#This Row],[J-h exploités global]] -> 97
A4: Nom3 | E4: =97-Tableau32[[#This Row],[J-h exploités global]] -> 97
A5: Nom4 | E5: =97-Tableau32[[#This Row],[J-h exploités global]] -> 97
A6: Nom5 | E6: =97-Tableau32[[#This Row],[J-h exploités global]] -> 97
A7: Nom6 | E7: =97-Tableau32[[#This Row],[J-h exploités global]] -> 97
A8: Nom7 | E8: =97-Tableau32[[#This Row],[J-h exploités global]] -> 97
A9: Nom8 | E9: =97-Tableau32[[#This Row],[J-h exploités global]] -> 97
A10: Nom9 | E10: =97-Tableau32[[#This Row],[J-h exploités global]] -> 97
A11: Nom10 | E11: =97-Tableau32[[#This Row],[J-h exploités global]] -> 97
B13: TOTAL | C13: =SUM(C2:C11) -> 31
D14: je cherche cette formule ci desssus | E14: formule basee sur j ouvres restant depuis 15 aout, 97

Sheet Données
A1: Géré par | C1: Statut | G1: Jours fériés | H1: Date | J1: Année | K1: Nombre jours ouvrés | L1: 365 jours - 105 jours de week-end - 7 jours fériés (hors jour de solidarité)
A2: NOm1 | C2: En cours | D2: A venir | E2: Terminé | G2: Jour de l'an | H2: 44562 | J2: 2022 | K2: 253
A3: NOm2 | G3: Pâques | H3: 44668 | J3: 2023 | K3: 251
A4: NOm3 | G4: Lundi de Pâques | H4: 44669
A5: NOm4 | G5: Fête du Travail | H5: 44682
A6: NOm5 | G6: Fête nationale du 8 mai 1945 | H6: 44689
A7: NOm6 | G7: Ascension | H7: 44707
A8: NOm7 | G8: Lundi de Pentecôte | H8: 44718
A9: NOm8 | G9: Fête Nationale du 14 juillet | H9: 44756
A10: NOm9 | G10: Assomption | H10: 44788
A11: NOm10 | G11: Toussaint | H11: 44866
A12: NOm11 | G12: Armistice | H12: 44876
A13: NOm12 | G13: Jour de Noël | H13: 44920
A14: NOm13 | G14: Jour de l'an | H14: 44927
G15: Pâques | H15: 45025
G16: Lundi de Pâques | H16: 45026
G17: Fête du Travail | H17: 45047
G18: Fête nationale du 8 mai 1945 | H18: 45054
G19: Ascension | H19: 45064
G20: Lundi de Pentecôte | H20: 45075
G21: Fête Nationale du 14 juillet | H21: 45121
G22: Assomption | H22: 45153
G23: Toussaint | H23: 45231
G24: Armistice | H24: 45241
G25: Jour de Noël | H25: 45285

Sheet DEMANDE Indicateurs
A1: Nombre de projets total | B1: Nombre projets priorité 1 | C1: Nombre projets priorité 2 | D1: Nombre projets priorité 3
A2: =COUNT(Suivi!A:A) -> 13 | B2: =COUNTIF(Suivi!A:A,1) -> 10 | C2: =COUNTIF(Suivi!A:A,2) -> 3 | D2: =COUNTIF(Suivi!A:A,3) -> 0
A4: Etat tâches | B4: Nombre des tâches
A5: Non commencé | B5: formule ? | C5: ligne rosées et vertes a sauter
A6: En cours | B6: =COUNTIF(Suivi!G:G,"En cours") -> 1
A7: A venir | B7: =COUNTIF(Suivi!G:G,"A venir") -> 14
A8: Terminé | B8: =COUNTIF(Suivi!G:G,"Terminé") -> 8
A10: Total | B10: =SUM(B5:B8) -> 23
A12: Personne | B12: Nombre de projets | C12: Nombre de tâches
A13: nom1 | B13: formule ? | C13: formule ?
A14: nom2
A15: nom3
A16: nom4
A17: nom5
A18: nom6
A19: nom7
A20: nom8
A21: nom9
