Workbook

Sheet Suivi
C1: Géré par | D1: Date de début | E1: Durée estimée (j-h) | F1: Date fin prévue | G1: Statut | H1: Avancement | J1: Septembre | AN1: Octobre | BS1: Novembre | CX1: Décembre
A2: Priorité | J2: 44805 | K2: 44806 | L2: 44807 | M2: 44808 | N2: 44809 | O2: 44810 | P2: 44811 | Q2: 44812 | R2: 44813 | S2: 44814 | T2: 44815 | U2: 44816 | V2: 44817 | W2: 44818 | X2: 44819 | Y2: 44820 | Z2: 44821 | AA2: 44822 | AB2: 44823 | AC2: 44824 | AD2: 44825 | AE2: 44826 | AF2: 44827 | AG2: 44828 | AH2: 44829 | AI2: 44830 | AJ2: 44831 | AK2: 44832 | AL2: 44833 | AM2: 44834 | AN2: 1 | AO2: 2 | AP2: 3 | AQ2: 4 | AR2: 5 | AS2: 6 | AT2: 7 | AU2: 8 | AV2: 9 | AW2: 10 | AX2: 11 | AY2: 12 | AZ2: 13 | BA2: 14 | BB2: 15 | BC2: 16 | BD2: 17 | BE2: 18 | BF2: 19 | BG2: 20 | BH2: 21 | BI2: 22 | BJ2: 23 | BK2: 24 | BL2: 25 | BM2: 26 | BN2: 27 | BO2: 28 | BP2: 29 | BQ2: 30 | BR2: 31 | BS2: 1 | BT2: 2 | BU2: 3 | BV2: 4 | BW2: 5 | BX2: 6 | BY2: 7 | BZ2: 8 | CA2: 9 | CB2: 10 | CC2: 11 | CD2: 12 | CE2: 13 | CF2: 14 | CG2: 15 | CH2: 16 | CI2: 17 | CJ2: 18 | CK2: 19 | CL2: 20 | CM2: 21 | CN2: 22 | CO2: 23 | CP2: 24 | CQ2: 25 | CR2: 26 | CS2: 27 | CT2: 28 | CU2: 29 | CV2: 30 | CW2: 31 | CX2: 1 | CY2: 2 | CZ2: 3 | DA2: 4 | DB2: 5 | DC2: 6 | DD2: 7 | DE2: 8 | DF2: 9 | DG2: 10 | DH2: 11 | DI2: 12 | DJ2: 13 | DK2: 14 | DL2: 15 | DM2: 16 | DN2: 17 | DO2: 18 | DP2: 19 | DQ2: 20 | DR2: 21 | DS2: 22 | DT2: 23 | DU2: 24 | DV2: 25 | DW2: 26 | DX2: 27 | DY2: 28 | DZ2: 29 | EA2: 30 | EB2: 31
A3: 1 | B3: Projet 1 | D3: 44075 | F3: =D11+SUM(E14:E23) -> 44854
B4: lot
B5: tache | D5: 44621 | E5: 30 | F5: 44761 | G5: {=_xlfn.IFS(D5 = "", "", D5="?", "", TODAY() < D5, "A venir", TODAY() < F5, "En cours", F5 >= TODAY(), "Terminé", F5 < TODAY(), "Terminé")} -> Terminé | H5: {=_xlfn.IFS(G5="","",G5="A venir","0%",G5="En cours",ROUND(100*(1+(F5-TODAY())/(D5-F5)),2)&" %",G5="Terminé","100%")} -> 100%
G6: {=_xlfn.IFS(D6 = "", "", D6="?", "", TODAY() < D6, "A venir", TODAY() < F6, "En cours", F6 >= TODAY(), "Terminé", F6 < TODAY(), "Terminé")}
B7: tache 1 | C7: Nom1 | D7: 44764 | E7: 15 | F7: 44783 | G7: {=_xlfn.IFS(D7 = "", "", D7="?", "", TODAY() < D7, "A venir", TODAY() < F7, "En cours", F7 >= TODAY(), "Terminé", F7 < TODAY(), "Terminé")} -> Terminé | H7: {=_xlfn.IFS(G7="","",G7="A venir","0%",G7="En cours",ROUND(100*(1+(F7-TODAY())/(D7-F7)),2)&" %",G7="Terminé","100%")} -> 100%
B8: tache 2 | C8: Nom2 | D8: 44764 | E8: 15 | F8: 44782 | G8: {=_xlfn.IFS(D8 = "", "", D8="?", "", TODAY() < D8, "A venir", TODAY() < F8, "En cours", F8 >= TODAY(), "Terminé", F8 < TODAY(), "Terminé")} -> Terminé | H8: {=_xlfn.IFS(G8="","",G8="A venir","0%",G8="En cours",ROUND(100*(1+(F8-TODAY())/(D8-F8)),2)&" %",G8="Terminé","100%")} -> 100%
B9: tache 3 | C9: Nom1 | D9: 44764 | E9: 15 | F9: 44782 | G9: {=_xlfn.IFS(D9 = "", "", D9="?", "", TODAY() < D9, "A venir", TODAY() < F9, "En cours", F9 >= TODAY(), "Terminé", F9 < TODAY(), "Terminé")} -> Terminé | H9: {=_xlfn.IFS(G9="","",G9="A venir","0%",G9="En cours",ROUND(100*(1+(F9-TODAY())/(D9-F9)),2)&" %",G9="Terminé","100%")} -> 100%
G10: {=_xlfn.IFS(D10 = "", "", D10="?", "", TODAY() < D10, "A venir", TODAY() < F10, "En cours", F10 >= TODAY(), "Terminé", F10 < TODAY(), "Terminé")}
D11: 44802 | E11: 0.5 | F11: 44803 | G11: A venir | H11: {=_xlfn.IFS(G11="","",G11="A venir","0%",G11="En cours",ROUND(100*(1+(F11-TODAY())/(D11-F11)),2)&" %",G11="Terminé","100%")} -> 0%
G12: {=_xlfn.IFS(D12 = "", "", D12="?", "", TODAY() < D12, "A venir", TODAY() < F12, "En cours", F12 >= TODAY(), "Terminé", F12 < TODAY(), "Terminé")}
G13: {=_xlfn.IFS(D13 = "", "", D13="?", "", TODAY() < D13, "A venir", TODAY() < F13, "En cours", F13 >= TODAY(), "Terminé", F13 < TODAY(), "Terminé")}
D14: 44513 | E14: 3 | F14: 44516 | G14: {=_xlfn.IFS(D14 = "", "", D14="?", "", TODAY() < D14, "A venir", TODAY() < F14, "En cours", F14 >= TODAY(), "Terminé", F14 < TODAY(), "Terminé")} -> Terminé | H14: {=_xlfn.IFS(G14="","",G14="A venir","0%",G14="En cours",ROUND(100*(1+(F14-TODAY())/(D14-F14)),2)&" %",G14="Terminé","100%")} -> 100%
D15: ? | E15: 10 | F15: ? | G15: {=_xlfn.IFS(D15 = "", "", D15="?", "", TODAY() < D15, "A venir", TODAY() < F15, "En cours", F15 >= TODAY(), "Terminé", F15 < TODAY(), "Terminé")} | H15: {=_xlfn.IFS(G15="","",G15="A venir","0%",G15="En cours",ROUND(100*(1+(F15-TODAY())/(D15-F15)),2)&" %",G15="Terminé","100%")}
D16: ? | E16: 12 | F16: ? | G16: {=_xlfn.IFS(D16 = "", "", D16="?", "", TODAY() < D16, "A venir", TODAY() < F16, "En cours", F16 >= TODAY(), "Terminé", F16 < TODAY(), "Terminé")} | H16: {=_xlfn.IFS(G16="","",G16="A venir","0%",G16="En cours",ROUND(100*(1+(F16-TODAY())/(D16-F16)),2)&" %",G16="Terminé","100%")}
D17: ? | E17: 1 | G17: {=_xlfn.IFS(D17 = "", "", D17="?", "", TODAY() < D17, "A venir", TODAY() < F17, "En cours", F17 >= TODAY(), "Terminé", F17 < TODAY(), "Terminé")} | H17: {=_xlfn.IFS(G17="","",G17="A venir","0%",G17="En cours",ROUND(100*(1+(F17-TODAY())/(D17-F17)),2)&" %",G17="Terminé","100%")}
D18: ? | E18: 15 | G18: {=_xlfn.IFS(D18 = "", "", D18="?", "", TODAY() < D18, "A venir", TODAY() < F18, "En cours", F18 >= TODAY(), "Terminé", F18 < TODAY(), "Terminé")} | H18: {=_xlfn.IFS(G18="","",G18="A venir","0%",G18="En cours",ROUND(100*(1+(F18-TODAY())/(D18-F18)),2)&" %",G18="Terminé","100%")}
D19: ? | E19: 0.5 | G19: {=_xlfn.IFS(D19 = "", "", D19="?", "", TODAY() < D19, "A venir", TODAY() < F19, "En cours", F19 >= TODAY(), "Terminé", F19 < TODAY(), "Terminé")} | H19: {=_xlfn.IFS(G19="","",G19="A venir","0%",G19="En cours",ROUND(100*(1+(F19-TODAY())/(D19-F19)),2)&" %",G19="Terminé","100%")}
D20: ? | E20: 0.5 | G20: {=_xlfn.IFS(D20 = "", "", D20="?", "", TODAY() < D20, "A venir", TODAY() < F20, "En cours", F20 >= TODAY(), "Terminé", F20 < TODAY(), "Terminé")} | H20: {=_xlfn.IFS(G20="","",G20="A venir","0%",G20="En cours",ROUND(100*(1+(F20-TODAY())/(D20-F20)),2)&" %",G20="Terminé","100%")}
G21: {=_xlfn.IFS(D21 = "", "", D21="?", "", TODAY() < D21, "A venir", TODAY() < F21, "En cours", F21 >= TODAY(), "Terminé", F21 < TODAY(), "Terminé")}
E22: 10 | G22: {=_xlfn.IFS(D22 = "", "", D22="?", "", TODAY() < D22, "A venir", TODAY() < F22, "En cours", F22 >= TODAY(), "Terminé", F22 < TODAY(), "Terminé")}
E23: ?
G24: {=_xlfn.IFS(D24 = "", "", D24="?", "", TODAY() < D24, "A venir", TODAY() < F24, "En cours", F24 >= TODAY(), "Terminé", F24 < TODAY(), "Terminé")}
G25: {=_xlfn.IFS(D25 = "", "", D25="?", "", TODAY() < D25, "A venir", TODAY() < F25, "En cours", F25 >= TODAY(), "Terminé", F25 < TODAY(), "Terminé")}
E26: 3 | G26: {=_xlfn.IFS(D26 = "", "", D26="?", "", TODAY() < D26, "A venir", TODAY() < F26, "En cours", F26 >= TODAY(), "Terminé", F26 < TODAY(), "Terminé")} | H26: {=_xlfn.IFS(G26="","",G26="A venir","0%",G26="En cours",ROUND(100*(1+(F26-TODAY())/(D26-F26)),2)&" %",G26="Terminé","100%")}
E27: 10 | G27: {=_xlfn.IFS(D27 = "", "", D27="?", "", TODAY() < D27, "A venir", TODAY() < F27, "En cours", F27 >= TODAY(), "Terminé", F27 < TODAY(), "Terminé")} | H27: {=_xlfn.IFS(G27="","",G27="A venir","0%",G27="En cours",ROUND(100*(1+(F27-TODAY())/(D27-F27)),2)&" %",G27="Terminé","100%")}
E28: 12 | G28: {=_xlfn.IFS(D28 = "", "", D28="?", "", TODAY() < D28, "A venir", TODAY() < F28, "En cours", F28 >= TODAY(), "Terminé", F28 < TODAY(), "Terminé")} | H28: {=_xlfn.IFS(G28="","",G28="A venir","0%",G28="En cours",ROUND(100*(1+(F28-TODAY())/(D28-F28)),2)&" %",G28="Terminé","100%")}
E29: 1 | G29: {=_xlfn.IFS(D29 = "", "", D29="?", "", TODAY() < D29, "A venir", TODAY() < F29, "En cours", F29 >= TODAY(), "Terminé", F29 < TODAY(), "Terminé")} | H29: {=_xlfn.IFS(G29="","",G29="A venir","0%",G29="En cours",ROUND(100*(1+(F29-TODAY())/(D29-F29)),2)&" %",G29="Terminé","100%")}
E30: 15 | G30: {=_xlfn.IFS(D30 = "", "", D30="?", "", TODAY() < D30, "A venir", TODAY() < F30, "En cours", F30 >= TODAY(), "Terminé", F30 < TODAY(), "Terminé")} | H30: {=_xlfn.IFS(G30="","",G30="A venir","0%",G30="En cours",ROUND(100*(1+(F30-TODAY())/(D30-F30)),2)&" %",G30="Terminé","100%")}
E31: 0.5 | G31: {=_xlfn.IFS(D31 = "", "", D31="?", "", TODAY() < D31, "A venir", TODAY() < F31, "En cours", F31 >= TODAY(), "Terminé", F31 < TODAY(), "Terminé")} | H31: {=_xlfn.IFS(G31="","",G31="A venir","0%",G31="En cours",ROUND(100*(1+(F31-TODAY())/(D31-F31)),2)&" %",G31="Terminé","100%")}
E32: 0.5 | G32: {=_xlfn.IFS(D32 = "", "", D32="?", "", TODAY() < D32, "A venir", TODAY() < F32, "En cours", F32 >= TODAY(), "Terminé", F32 < TODAY(), "Terminé")} | H32: {=_xlfn.IFS(G32="","",G32="A venir","0%",G32="En cours",ROUND(100*(1+(F32-TODAY())/(D32-F32)),2)&" %",G32="Terminé","100%")}
G33: {=_xlfn.IFS(D33 = "", "", D33="?", "", TODAY() < D33, "A venir", TODAY() < F33, "En cours", F33 >= TODAY(), "Terminé", F33 < TODAY(), "Terminé")}
E34: 10 | G34: {=_xlfn.IFS(D34 = "", "", D34="?", "", TODAY() < D34, "A venir", TODAY() < F34, "En cours", F34 >= TODAY(), "Terminé", F34 < TODAY(), "Terminé")} | H34: {=_xlfn.IFS(G34="","",G34="A venir","0%",G34="En cours",ROUND(100*(1+(F34-TODAY())/(D34-F34)),2)&" %",G34="Terminé","100%")}
E35: ?
G36: {=_xlfn.IFS(D36 = "", "", D36="?", "", TODAY() < D36, "A venir", TODAY() < F36, "En cours", F36 >= TODAY(), "Terminé", F36 < TODAY(), "Terminé")}
G37: {=_xlfn.IFS(D37 = "", "", D37="?", "", TODAY() < D37, "A venir", TODAY() < F37, "En cours", F37 >= TODAY(), "Terminé", F37 < TODAY(), "Terminé")}
E38: 3 | G38: {=_xlfn.IFS(D38 = "", "", D38="?", "", TODAY() < D38, "A venir", TODAY() < F38, "En cours", F38 >= TODAY(), "Terminé", F38 < TODAY(), "Terminé")} | H38: {=_xlfn.IFS(G38="","",G38="A venir","0%",G38="En cours",ROUND(100*(1+(F38-TODAY())/(D38-F38)),2)&" %",G38="Terminé","100%")}
E39: 10 | G39: {=_xlfn.IFS(D39 = "", "", D39="?", "", TODAY() < D39, "A venir", TODAY() < F39, "En cours", F39 >= TODAY(), "Terminé", F39 < TODAY(), "Terminé")} | H39: {=_xlfn.IFS(G39="","",G39="A venir","0%",G39="En cours",ROUND(100*(1+(F39-TODAY())/(D39-F39)),2)&" %",G39="Terminé","100%")}
E40: 12 | G40: {=_xlfn.IFS(D40 = "", "", D40="?", "", TODAY() < D40, "A venir", TODAY() < F40, "En cours", F40 >= TODAY(), "Terminé", F40 < TODAY(), "Terminé")} | H40: {=_xlfn.IFS(G40="","",G40="A venir","0%",G40="En cours",ROUND(100*(1+(F40-TODAY())/(D40-F40)),2)&" %",G40="Terminé","100%")}
E41: 1 | G41: {=_xlfn.IFS(D41 = "", "", D41="?", "", TODAY() < D41, "A venir", TODAY() < F41, "En cours", F41 >= TODAY(), "Terminé", F41 < TODAY(), "Terminé")} | H41: {=_xlfn.IFS(G41="","",G41="A venir","0%",G41="En cours",ROUND(100*(1+(F41-TODAY())/(D41-F41)),2)&" %",G41="Terminé","100%")}
E42: 25 | G42: {=_xlfn.IFS(D42 = "", "", D42="?", "", TODAY() < D42, "A venir", TODAY() < F42, "En cours", F42 >= TODAY(), "Terminé", F42 < TODAY(), "Terminé")} | H42: {=_xlfn.IFS(G42="","",G42="A venir","0%",G42="En cours",ROUND(100*(1+(F42-TODAY())/(D42-F42)),2)&" %",G42="Terminé","100%")}
E43: 0.5 | G43: {=_xlfn.IFS(D43 = "", "", D43="?", "", TODAY() < D43, "A venir", TODAY() < F43, "En cours", F43 >= TODAY(), "Terminé", F43 < TODAY(), "Terminé")} | H43: {=_xlfn.IFS(G43="","",G43="A venir","0%",G43="En cours",ROUND(100*(1+(F43-TODAY())/(D43-F43)),2)&" %",G43="Terminé","100%")}
E44: 0.5 | G44: {=_xlfn.IFS(D44 = "", "", D44="?", "", TODAY() < D44, "A venir", TODAY() < F44, "En cours", F44 >= TODAY(), "Terminé", F44 < TODAY(), "Terminé")} | H44: {=_xlfn.IFS(G44="","",G44="A venir","0%",G44="En cours",ROUND(100*(1+(F44-TODAY())/(D44-F44)),2)&" %",G44="Terminé","100%")}
G45: {=_xlfn.IFS(D45 = "", "", D45="?", "", TODAY() < D45, "A venir", TODAY() < F45, "En cours", F45 >= TODAY(), "Terminé", F45 < TODAY(), "Terminé")}
E46: 10 | G46: {=_xlfn.IFS(D46 = "", "", D46="?", "", TODAY() < D46, "A venir", TODAY() < F46, "En cours", F46 >= TODAY(), "Terminé", F46 < TODAY(), "Terminé")} | H46: {=_xlfn.IFS(G46="","",G46="A venir","0%",G46="En cours",ROUND(100*(1+(F46-TODAY())/(D46-F46)),2)&" %",G46="Terminé","100%")}
E47: ?
G48: {=_xlfn.IFS(D48 = "", "", D48="?", "", TODAY() < D48, "A venir", TODAY() < F48, "En cours", F48 >= TODAY(), "Terminé", F48 < TODAY(), "Terminé")}
G49: {=_xlfn.IFS(D49 = "", "", D49="?", "", TODAY() < D49, "A venir", TODAY() < F49, "En cours", F49 >= TODAY(), "Terminé", F49 < TODAY(), "Terminé")}
E50: 3 | G50: {=_xlfn.IFS(D50 = "", "", D50="?", "", TODAY() < D50, "A venir", TODAY() < F50, "En cours", F50 >= TODAY(), "Terminé", F50 < TODAY(), "Terminé")} | H50: {=_xlfn.IFS(G50="","",G50="A venir","0%",G50="En cours",ROUND(100*(1+(F50-TODAY())/(D50-F50)),2)&" %",G50="Terminé","100%")}
E51: 10 | G51: {=_xlfn.IFS(D51 = "", "", D51="?", "", TODAY() < D51, "A venir", TODAY() < F51, "En cours", F51 >= TODAY(), "Terminé", F51 < TODAY(), "Terminé")} | H51: {=_xlfn.IFS(G51="","",G51="A venir","0%",G51="En cours",ROUND(100*(1+(F51-TODAY())/(D51-F51)),2)&" %",G51="Terminé","100%")}
E52: 12 | G52: {=_xlfn.IFS(D52 = "", "", D52="?", "", TODAY() < D52, "A venir", TODAY() < F52, "En cours", F52 >= TODAY(), "Terminé", F52 < TODAY(), "Terminé")} | H52: {=_xlfn.IFS(G52="","",G52="A venir","0%",G52="En cours",ROUND(100*(1+(F52-TODAY())/(D52-F52)),2)&" %",G52="Terminé","100%")}
E53: 1 | G53: {=_xlfn.IFS(D53 = "", "", D53="?", "", TODAY() < D53, "A venir", TODAY() < F53, "En cours", F53 >= TODAY(), "Terminé", F53 < TODAY(), "Terminé")} | H53: {=_xlfn.IFS(G53="","",G53="A venir","0%",G53="En cours",ROUND(100*(1+(F53-TODAY())/(D53-F53)),2)&" %",G53="Terminé","100%")}
E54: 15 | G54: {=_xlfn.IFS(D54 = "", "", D54="?", "", TODAY() < D54, "A venir", TODAY() < F54, "En cours", F54 >= TODAY(), "Terminé", F54 < TODAY(), "Terminé")} | H54: {=_xlfn.IFS(G54="","",G54="A venir","0%",G54="En cours",ROUND(100*(1+(F54-TODAY())/(D54-F54)),2)&" %",G54="Terminé","100%")}
E55: 0.5 | G55: {=_xlfn.IFS(D55 = "", "", D55="?", "", TODAY() < D55, "A venir", TODAY() < F55, "En cours", F55 >= TODAY(), "Terminé", F55 < TODAY(), "Terminé")} | H55: {=_xlfn.IFS(G55="","",G55="A venir","0%",G55="En cours",ROUND(100*(1+(F55-TODAY())/(D55-F55)),2)&" %",G55="Terminé","100%")}
E56: 0.5 | G56: {=_xlfn.IFS(D56 = "", "", D56="?", "", TODAY() < D56, "A venir", TODAY() < F56, "En cours", F56 >= TODAY(), "Terminé", F56 < TODAY(), "Terminé")} | H56: {=_xlfn.IFS(G56="","",G56="A venir","0%",G56="En cours",ROUND(100*(1+(F56-TODAY())/(D56-F56)),2)&" %",G56="Terminé","100%")}
G57: {=_xlfn.IFS(D57 = "", "", D57="?", "", TODAY() < D57, "A venir", TODAY() < F57, "En cours", F57 >= TODAY(), "Terminé", F57 < TODAY(), "Terminé")}
E58: 10 | G58: {=_xlfn.IFS(D58 = "", "", D58="?", "", TODAY() < D58, "A venir", TODAY() < F58, "En cours", F58 >= TODAY(), "Terminé", F58 < TODAY(), "Terminé")} | H58: {=_xlfn.IFS(G609="","",G58="A venir","0%",G58="En cours",ROUND(100*(1+(F58-TODAY())/(D58-F58)),2)&" %",G58="Terminé","100%")}
E59: ?
G60: {=_xlfn.IFS(D60 = "", "", D60="?", "", TODAY() < D60, "A venir", TODAY() < F60, "En cours", F60 >= TODAY(), "Terminé", F60 < TODAY(), "Terminé")}
G61: {=_xlfn.IFS(D61 = "", "", D61="?", "", TODAY() < D61, "A venir", TODAY() < F61, "En cours", F61 >= TODAY(), "Terminé", F61 < TODAY(), "Terminé")}
E62: 3 | G62: {=_xlfn.IFS(D62 = "", "", D62="?", "", TODAY() < D62, "A venir", TODAY() < F62, "En cours", F62 >= TODAY(), "Terminé", F62 < TODAY(), "Terminé")} | H62: {=_xlfn.IFS(G62="","",G62="A venir","0%",G62="En cours",ROUND(100*(1+(F62-TODAY())/(D62-F62)),2)&" %",G62="Terminé","100%")}
E63: 10 | G63: {=_xlfn.IFS(D63 = "", "", D63="?", "", TODAY() < D63, "A venir", TODAY() < F63, "En cours", F63 >= TODAY(), "Terminé", F63 < TODAY(), "Terminé")} | H63: {=_xlfn.IFS(G63="","",G63="A venir","0%",G63="En cours",ROUND(100*(1+(F63-TODAY())/(D63-F63)),2)&" %",G63="Terminé","100%")}
E64: 12 | G64: {=_xlfn.IFS(D64 = "", "", D64="?", "", TODAY() < D64, "A venir", TODAY() < F64, "En cours", F64 >= TODAY(), "Terminé", F64 < TODAY(), "Terminé")} | H64: {=_xlfn.IFS(G64="","",G64="A venir","0%",G64="En cours",ROUND(100*(1+(F64-TODAY())/(D64-F64)),2)&" %",G64="Terminé","100%")}
E65: 1 | G65: {=_xlfn.IFS(D65 = "", "", D65="?", "", TODAY() < D65, "A venir", TODAY() < F65, "En cours", F65 >= TODAY(), "Terminé", F65 < TODAY(), "Terminé")} | H65: {=_xlfn.IFS(G65="","",G65="A venir","0%",G65="En cours",ROUND(100*(1+(F65-TODAY())/(D65-F65)),2)&" %",G65="Terminé","100%")}
E66: 0.5 | G66: {=_xlfn.IFS(D66 = "", "", D66="?", "", TODAY() < D66, "A venir", TODAY() < F66, "En cours", F66 >= TODAY(), "Terminé", F66 < TODAY(), "Terminé")} | H66: {=_xlfn.IFS(G66="","",G66="A venir","0%",G66="En cours",ROUND(100*(1+(F66-TODAY())/(D66-F66)),2)&" %",G66="Terminé","100%")}
E67: 0.5 | G67: {=_xlfn.IFS(D67 = "", "", D67="?", "", TODAY() < D67, "A venir", TODAY() < F67, "En cours", F67 >= TODAY(), "Terminé", F67 < TODAY(), "Terminé")} | H67: {=_xlfn.IFS(G67="","",G67="A venir","0%",G67="En cours",ROUND(100*(1+(F67-TODAY())/(D67-F67)),2)&" %",G67="Terminé","100%")}
E68: 0.5 | G68: {=_xlfn.IFS(D68 = "", "", D68="?", "", TODAY() < D68, "A venir", TODAY() < F68, "En cours", F68 >= TODAY(), "Terminé", F68 < TODAY(), "Terminé")} | H68: {=_xlfn.IFS(G68="","",G68="A venir","0%",G68="En cours",ROUND(100*(1+(F68-TODAY())/(D68-F68)),2)&" %",G68="Terminé","100%")}
G69: {=_xlfn.IFS(D69 = "", "", D69="?", "", TODAY() < D69, "A venir", TODAY() < F69, "En cours", F69 >= TODAY(), "Terminé", F69 < TODAY(), "Terminé")}
E70: 10 | G70: {=_xlfn.IFS(D70 = "", "", D70="?", "", TODAY() < D70, "A venir", TODAY() < F70, "En cours", F70 >= TODAY(), "Terminé", F70 < TODAY(), "Terminé")} | H70: {=_xlfn.IFS(G70="","",G70="A venir","0%",G70="En cours",ROUND(100*(1+(F70-TODAY())/(D70-F70)),2)&" %",G70="Terminé","100%")}
E71: ?
A72: 1 | B72: Projet 2 | D72: 44803 | F72: 44866
B74: tache | D74: 44778 | E74: 0.5 | F74: 44778 | G74: {=_xlfn.IFS(D74 = "", "", D74="?", "", TODAY() < D74, "A venir", TODAY() < F74, "En cours", F74 >= TODAY(), "Terminé", F74 < TODAY(), "Terminé")} -> Terminé | H74: {=_xlfn.IFS(G74="","",G74="A venir","0%",G74="En cours",ROUND(100*(1+(F74-TODAY())/(D74-F74)),2)&" %",G74="Terminé","100%")} -> 100%
G75: {=_xlfn.IFS(D75 = "", "", D75="?", "", TODAY() < D75, "A venir", TODAY() < F75, "En cours", F75 >= TODAY(), "Terminé", F75 < TODAY(), "Terminé")}
B76: tache | D76: 44803 | E76: 0.5 | F76: 44803 | G76: {=_xlfn.IFS(D76 = "", "", D76="?", "", TODAY() < D76, "A venir", TODAY() < F76, "En cours", F76 >= TODAY(), "Terminé", F76 < TODAY(), "Terminé")} -> A venir | H76: {=_xlfn.IFS(G76="","",G76="A venir","0%",G76="En cours",ROUND(100*(1+(F76-TODAY())/(D76-F76)),2)&" %",G76="Terminé","100%")} -> 0%
G77: {=_xlfn.IFS(D77 = "", "", D77="?", "", TODAY() < D77, "A venir", TODAY() < F77, "En cours", F77 >= TODAY(), "Terminé", F77 < TODAY(), "Terminé")}
B78: tache | C78: Nom1 | D78: ? | E78: 0.5 | F78: ? | G78: {=_xlfn.IFS(D78 = "", "", D78="?", "", TODAY() < D78, "A venir", TODAY() < F78, "En cours", F78 >= TODAY(), "Terminé", F78 < TODAY(), "Terminé")} | H78: {=_xlfn.IFS(G78="","",G78="A venir","0%",G78="En cours",ROUND(100*(1+(F78-TODAY())/(D78-F78)),2)&" %",G78="Terminé","100%")}
B79: tache | C79: Nom2 | D79: ? | E79: 0.5 | F79: ? | G79: {=_xlfn.IFS(D79 = "", "", D79="?", "", TODAY() < D79, "A venir", TODAY() < F79, "En cours", F79 >= TODAY(), "Terminé", F79 < TODAY(), "Terminé")} | H79: {=_xlfn.IFS(G79="","",G79="A venir","0%",G79="En cours",ROUND(100*(1+(F79-TODAY())/(D79-F79)),2)&" %",G79="Terminé","100%")}
B80: tache | C80: Nom1 | D80: ? | E80: 0.5 | F80: ? | G80: {=_xlfn.IFS(D80 = "", "", D80="?", "", TODAY() < D80, "A venir", TODAY() < F80, "En cours", F80 >= TODAY(), "Terminé", F80 < TODAY(), "Terminé")} | H80: {=_xlfn.IFS(G80="","",G80="A venir","0%",G80="En cours",ROUND(100*(1+(F80-TODAY())/(D80-F80)),2)&" %",G80="Terminé","100%")}
D81: ? | E81: 0 | F81: ? | G81: {=_xlfn.IFS(D81 = "", "", D81="?", "", TODAY() < D81, "A venir", TODAY() < F81, "En cours", F81 >= TODAY(), "Terminé", F81 < TODAY(), "Terminé")} | H81: {=_xlfn.IFS(G81="","",G81="A venir","0%",G81="En cours",ROUND(100*(1+(F81-TODAY())/(D81-F81)),2)&" %",G81="Terminé","100%")}
G82: {=_xlfn.IFS(D82 = "", "", D82="?", "", TODAY() < D82, "A venir", TODAY() < F82, "En cours", F82 >= TODAY(), "Terminé", F82 < TODAY(), "Terminé")}
E83: ? | G83: {=_xlfn.IFS(D83 = "", "", D83="?", "", TODAY() < D83, "A venir", TODAY() < F83, "En cours", F83 >= TODAY(), "Terminé", F83 < TODAY(), "Terminé")} | H83: {=_xlfn.IFS(G83="","",G83="A venir","0%",G83="En cours",ROUND(100*(1+(F83-TODAY())/(D83-F83)),2)&" %",G83="Terminé","100%")}
E84: ? | G84: {=_xlfn.IFS(D84 = "", "", D84="?", "", TODAY() < D84, "A venir", TODAY() < F84, "En cours", F84 >= TODAY(), "Terminé", F84 < TODAY(), "Terminé")} | H84: {=_xlfn.IFS(G84="","",G84="A venir","0%",G84="En cours",ROUND(100*(1+(F84-TODAY())/(D84-F84)),2)&" %",G84="Terminé","100%")}
E85: ? | G85: {=_xlfn.IFS(D85 = "", "", D85="?", "", TODAY() < D85, "A venir", TODAY() < F85, "En cours", F85 >= TODAY(), "Terminé", F85 < TODAY(), "Terminé")} | H85: {=_xlfn.IFS(G85="","",G85="A venir","0%",G85="En cours",ROUND(100*(1+(F85-TODAY())/(D85-F85)),2)&" %",G85="Terminé","100%")}
G86: {=_xlfn.IFS(D86 = "", "", D86="?", "", TODAY() < D86, "A venir", TODAY() < F86, "En cours", F86 >= TODAY(), "Terminé", F86 < TODAY(), "Terminé")}
E87: ? | G87: {=_xlfn.IFS(D87 = "", "", D87="?", "", TODAY() < D87, "A venir", TODAY() < F87, "En cours", F87 >= TODAY(), "Terminé", F87 < TODAY(), "Terminé")} | H87: {=_xlfn.IFS(G68="","",G87="A venir","0%",G87="En cours",ROUND(100*(1+(F87-TODAY())/(D87-F87)),2)&" %",G87="Terminé","100%")}
G88: {=_xlfn.IFS(D88 = "", "", D88="?", "", TODAY() < D88, "A venir", TODAY() < F88, "En cours", F88 >= TODAY(), "Terminé", F88 < TODAY(), "Terminé")}
E89: ? | G89: {=_xlfn.IFS(D89 = "", "", D89="?", "", TODAY() < D89, "A venir", TODAY() < F89, "En cours", F89 >= TODAY(), "Terminé", F89 < TODAY(), "Terminé")} | H89: {=_xlfn.IFS(G89="","",G89="A venir","0%",G89="En cours",ROUND(100*(1+(F89-TODAY())/(D89-F89)),2)&" %",G89="Terminé","100%")}
E90: ? | G90: {=_xlfn.IFS(D90 = "", "", D90="?", "", TODAY() < D90, "A venir", TODAY() < F90, "En cours", F90 >= TODAY(), "Terminé", F90 < TODAY(), "Terminé")} | H90: {=_xlfn.IFS(G90="","",G90="A venir","0%",G90="En cours",ROUND(100*(1+(F90-TODAY())/(D90-F90)),2)&" %",G90="Terminé","100%")}
A91: 1 | D91: 44805 | F91: 44866
D93: ? | E93: ? | G93: {=_xlfn.IFS(D93 = "", "", D93="?", "", TODAY() < D93, "A venir", TODAY() < F93, "En cours", F93 >= TODAY(), "Terminé", F93 < TODAY(), "Terminé")} | H93: {=_xlfn.IFS(G93="","",G93="A venir","0%",G93="En cours",ROUND(100*(1+(F93-TODAY())/(D93-F93)),2)&" %",G93="Terminé","100%")}
E94: 3 | G94: {=_xlfn.IFS(D94 = "", "", D94="?", "", TODAY() < D94, "A venir", TODAY() < F94, "En cours", F94 >= TODAY(), "Terminé", F94 < TODAY(), "Terminé")} | H94: {=_xlfn.IFS(G94="","",G94="A venir","0%",G94="En cours",ROUND(100*(1+(F94-TODAY())/(D94-F94)),2)&" %",G94="Terminé","100%")}
G95: {=_xlfn.IFS(D95 = "", "", D95="?", "", TODAY() < D95, "A venir", TODAY() < F95, "En cours", F95 >= TODAY(), "Terminé", F95 < TODAY(), "Terminé")}
D96: ? | E96: ? | G96: {=_xlfn.IFS(D96 = "", "", D96="?", "", TODAY() < D96, "A venir", TODAY() < F96, "En cours", F96 >= TODAY(), "Terminé", F96 < TODAY(), "Terminé")} | H96: {=_xlfn.IFS(G96="","",G96="A venir","0%",G96="En cours",ROUND(100*(1+(F96-TODAY())/(D96-F96)),2)&" %",G96="Terminé","100%")}
D97: ? | E97: ? | G97: {=_xlfn.IFS(D97 = "", "", D97="?", "", TODAY() < D97, "A venir", TODAY() < F97, "En cours", F97 >= TODAY(), "Terminé", F97 < TODAY(), "Terminé")} | H97: {=_xlfn.IFS(G97="","",G97="A venir","0%",G97="En cours",ROUND(100*(1+(F97-TODAY())/(D97-F97)),2)&" %",G97="Terminé","100%")}
D98: ? | E98: ? | G98: {=_xlfn.IFS(D98 = "", "", D98="?", "", TODAY() < D98, "A venir", TODAY() < F98, "En cours", F98 >= TODAY(), "Terminé", F98 < TODAY(), "Terminé")} | H98: {=_xlfn.IFS(G98="","",G98="A venir","0%",G98="En cours",ROUND(100*(1+(F98-TODAY())/(D98-F98)),2)&" %",G98="Terminé","100%")}
D99: ? | E99: ? | G99: {=_xlfn.IFS(D99 = "", "", D99="?", "", TODAY() < D99, "A venir", TODAY() < F99, "En cours", F99 >= TODAY(), "Terminé", F99 < TODAY(), "Terminé")} | H99: {=_xlfn.IFS(G99="","",G99="A venir","0%",G99="En cours",ROUND(100*(1+(F99-TODAY())/(D99-F99)),2)&" %",G99="Terminé","100%")}
D100: ? | E100: ? | G100: {=_xlfn.IFS(D100 = "", "", D100="?", "", TODAY() < D100, "A venir", TODAY() < F100, "En cours", F100 >= TODAY(), "Terminé", F100 < TODAY(), "Terminé")} | H100: {=_xlfn.IFS(G100="","",G100="A venir","0%",G100="En cours",ROUND(100*(1+(F100-TODAY())/(D100-F100)),2)&" %",G100="Terminé","100%")}
A101: 1 | D101: 44652 | F101: 1er-mars-23
D103: 44652 | E103: 2 | F103: 44652 | G103: {=_xlfn.IFS(D103 = "", "", D103="?", "", TODAY() < D103, "A venir", TODAY() < F103, "En cours", F103 >= TODAY(), "Terminé", F103 < TODAY(), "Terminé")} -> Terminé | H103: {=_xlfn.IFS(G103="","",G103="A venir","0%",G103="En cours",ROUND(100*(1+(F103-TODAY())/(D103-F103)),2)&" %",G103="Terminé","100%")} -> 100%
...

Sheet DEMANDE Charge ressources
A1: Personne | B1: Projets dédiés | C1: J-h exploités global | D1: J-h consommés mois en cours | E1: J-h annuels restants disponibles
A2: Nom1 | B2: Projet 1 + projet2 | C2: =SUMIF(Suivi!C5:C230,"nom1",Suivi!E5:E230) -> 31 | D2: ? | E2: =97-Tableau32[[#This Row],[J-h exploités global]] -> 66
A3: Nom2 | B3: Projet 3 + projet5 | E3: =97-Tableau32[[#This Row],[J-h exploités global]] -> 97
A4: Nom3 | E4: =97-Tableau32[[#This Row],[J-h exploités global]] -> 97
A5: Nom4 | E5: =97-Tableau32[[#This Row],[J-h exploités global]] -> 97
A6: Nom5 | E6: =97-Tableau32[[#This Row],[J-h exploités global]] -> 97
A7: Nom6 | E7: =97-Tableau32[[#This Row],[J-h exploités global]] -> 97
A8: Nom7 | E8: =97-Tableau32[[#This Row],[J-h exploités global]] -> 97
A9: Nom8 | E9: =97-Tableau32[[#This Row],[J-h exploités global]] -> 97
A10: Nom9 | E10: =97-Tableau32[[#This Row],[J-h exploités global]] -> 97
A11: Nom10 | E11: =97-Tableau32[[#This Row],[J-h exploités global]] -> 97
B13: TOTAL | C13: =SUM(C2:C11) -> 31
D14: je cherche cette formule ci desssus | E14: formule basee sur j ouvres restant depuis 15 aout, 97

Sheet Données
A1: Géré par | C1: Statut | G1: Jours fériés | H1: Date | J1: Année | K1: Nombre jours ouvrés | L1: 365 jours - 105 jours de week-end - 7 jours fériés (hors jour de solidarité)
A2: NOm1 | C2: En cours | D2: A venir | E2: Terminé | G2: Jour de l'an | H2: 44562 | J2: 2022 | K2: 253
A3: NOm2 | G3: Pâques | H3: 44668 | J3: 2023 | K3: 251
A4: NOm3 | G4: Lundi de Pâques | H4: 44669
A5: NOm4 | G5: Fête du Travail | H5: 44682
A6: NOm5 | G6: Fête nationale du 8 mai 1945 | H6: 44689
A7: NOm6 | G7: Ascension | H7: 44707
A8: NOm7 | G8: Lundi de Pentecôte | H8: 44718
A9: NOm8 | G9: Fête Nationale du 14 juillet | H9: 44756
A10: NOm9 | G10: Assomption | H10: 44788
A11: NOm10 | G11: Toussaint | H11: 44866
A12: NOm11 | G12: Armistice | H12: 44876
A13: NOm12 | G13: Jour de Noël | H13: 44920
A14: NOm13 | G14: Jour de l'an | H14: 44927
G15: Pâques | H15: 45025
G16: Lundi de Pâques | H16: 45026
G17: Fête du Travail | H17: 45047
G18: Fête nationale du 8 mai 1945 | H18: 45054
G19: Ascension | H19: 45064
G20: Lundi de Pentecôte | H20: 45075
G21: Fête Nationale du 14 juillet | H21: 45121
G22: Assomption | H22: 45153
G23: Toussaint | H23: 45231
G24: Armistice | H24: 45241
G25: Jour de Noël | H25: 45285

Sheet DEMANDE Indicateurs
A1: Nombre de projets total | B1: Nombre projets priorité 1 | C1: Nombre projets priorité 2 | D1: Nombre projets priorité 3
A2: =COUNT(Suivi!A:A) -> 13 | B2: =COUNTIF(Suivi!A:A,1) -> 10 | C2: =COUNTIF(Suivi!A:A,2) -> 3 | D2: =COUNTIF(Suivi!A:A,3) -> 0
A4: Etat tâches | B4: Nombre des tâches
A5: Non commencé | B5: formule ? | C5: ligne rosées et vertes a sauter
A6: En cours | B6: =COUNTIF(Suivi!G:G,"En cours") -> 1
A7: A venir | B7: =COUNTIF(Suivi!G:G,"A venir") -> 14
A8: Terminé | B8: =COUNTIF(Suivi!G:G,"Terminé") -> 8
A10: Total | B10: =SUM(B5:B8) -> 23
A12: Personne | B12: Nombre de projets | C12: Nombre de tâches
A13: nom1 | B13: formule ? | C13: formule ?
A14: nom2
A15: nom3
A16: nom4
A17: nom5
A18: nom6
A19: nom7
A20: nom8
A21: nom9
