Workbook
Name BDD_APX: BDD!$B:$F
Name BDD_DV: #REF!

Sheet Vérif
A1: Week | B1: 1
A3: Étiquettes de lignes | B3: Somme de Valeur
A4: Marcel | B4: 6146
A5: Vincent | B5: 5913
A6: Florent | B6: 3406
A7: Jean-Marc | B7: 1763
A8: Anne | B8: 1716
A9: Félix | B9: 533
A10: Total général | B10: 19477

Sheet BDD
A1: Year | B1: Month | C1: Week | D1: Day | E1: Client | F1: Valeur
A2: =YEAR(D2) -> 2020 | B2: =MONTH(D2) -> 1 | C2: =_xlfn.ISOWEEKNUM(D2) -> 1 | D2: 43831 | E2: Marcel | F2: 1652
A3: =YEAR(D3) -> 2020 | B3: =MONTH(D3) -> 1 | C3: =_xlfn.ISOWEEKNUM(D3) -> 1 | D3: 43831 | E3: Florent | F3: 925
A4: =YEAR(D4) -> 2020 | B4: =MONTH(D4) -> 1 | C4: =_xlfn.ISOWEEKNUM(D4) -> 1 | D4: 43831 | E4: Félix | F4: 163
A5: =YEAR(D5) -> 2020 | B5: =MONTH(D5) -> 1 | C5: =_xlfn.ISOWEEKNUM(D5) -> 1 | D5: 43831 | E5: Anne | F5: 631
A6: =YEAR(D6) -> 2020 | B6: =MONTH(D6) -> 1 | C6: =_xlfn.ISOWEEKNUM(D6) -> 1 | D6: 43831 | E6: Jean-Marc | F6: 648
A7: =YEAR(D7) -> 2020 | B7: =MONTH(D7) -> 1 | C7: =_xlfn.ISOWEEKNUM(D7) -> 1 | D7: 43831 | E7: Vincent | F7: 2146
A8: =YEAR(D8) -> 2020 | B8: =MONTH(D8) -> 1 | C8: =_xlfn.ISOWEEKNUM(D8) -> 1 | D8: 43833 | E8: Marcel | F8: 1634
A9: =YEAR(D9) -> 2020 | B9: =MONTH(D9) -> 1 | C9: =_xlfn.ISOWEEKNUM(D9) -> 1 | D9: 43833 | E9: Florent | F9: 907
A10: =YEAR(D10) -> 2020 | B10: =MONTH(D10) -> 1 | C10: =_xlfn.ISOWEEKNUM(D10) -> 1 | D10: 43833 | E10: Félix | F10: 145
A11: =YEAR(D11) -> 2020 | B11: =MONTH(D11) -> 1 | C11: =_xlfn.ISOWEEKNUM(D11) -> 1 | D11: 43835 | E11: Anne | F11: 613
A12: =YEAR(D12) -> 2020 | B12: =MONTH(D12) -> 1 | C12: =_xlfn.ISOWEEKNUM(D12) -> 1 | D12: 43835 | E12: Jean-Marc | F12: 630
A13: =YEAR(D13) -> 2020 | B13: =MONTH(D13) -> 1 | C13: =_xlfn.ISOWEEKNUM(D13) -> 1 | D13: 43835 | E13: Vincent | F13: 2128
... A43: =YEAR(D43) -> 2020 | B43: =MONTH(D43) -> 1 | C43: =_xlfn.ISOWEEKNUM(D43) -> 4 | D43: 43850 | E43: Félix | F43: 98

Sheet Test
A1: Année: | B1: 2020 | D1: Top Client
A2: Mois: | B2: 1 | D2: Rank | E2: Client | F2: Valeur
A3: Semaine: | B3: 1 | D3: 1 | F3: {=SUMPRODUCT(LARGE((BDD!$A$2:$A$1048576=Test!$B$1)*(BDD!$C$2:$C$1048576=Test!$B$3)*(BDD!$F$2:$F$1048576),D3))} -> 2146 | G3: --> Je n'obtiens que les données par jour et non l'addition des valeurs par nom de client. J'aimerais également obtenir en colonne E le nom du client. Voici dans le tableau ici bas le classement que j'aimerais obtenir:
D4: 2 | F4: {=SUMPRODUCT(LARGE((BDD!$A$2:$A$1048576=Test!$B$1)*(BDD!$C$2:$C$1048576=Test!$B$3)*(BDD!$F$2:$F$1048576),D4))} -> 2128
D5: 3 | F5: {=SUMPRODUCT(LARGE((BDD!$A$2:$A$1048576=Test!$B$1)*(BDD!$C$2:$C$1048576=Test!$B$3)*(BDD!$F$2:$F$1048576),D5))} -> 1652 | N5: Rang | O5: Client | P5: Valeur
D6: 4 | F6: {=SUMPRODUCT(LARGE((BDD!$A$2:$A$1048576=Test!$B$1)*(BDD!$C$2:$C$1048576=Test!$B$3)*(BDD!$F$2:$F$1048576),D6))} -> 1639 | N6: 1 | O6: Marcel | P6: 6146
D7: 5 | F7: {=SUMPRODUCT(LARGE((BDD!$A$2:$A$1048576=Test!$B$1)*(BDD!$C$2:$C$1048576=Test!$B$3)*(BDD!$F$2:$F$1048576),D7))} -> 1634 | N7: 2 | O7: Vincent | P7: 5913
N8: 3 | O8: Florent | P8: 3406
N9: 4 | O9: Jean-Marc | P9: 1763
N10: 5 | O10: Anne | P10: 1716
