Workbook

Sheet Athos
B2: Collaborateur
B3: Pourcentage | C3: 80
B4: Matricule
B5: Contrat | C5: 40 | D5: =C5/5 -> 8
S6: Mois précédent | Z6: Absences
B7: Date | C7: Weekend ? | D7: Code absence | E7: Nombre H/J | G7: Nombre H/N | I7: R | J7: Cofaux | K7: co | L7: hora | M7: Ecart | N7: Ecart2 | O7: Solde | P7: Ecart Dec | Q7: Ecart | S7: Horaires | T7: 45.13 | U7: Heure de référence/mois | Z7: Appellation | AB7: Code | AC7: Temps Complet (h)
B8: 1 | C8: Semaine | F8: =E8+G8+J8 -> 0 | H8: =IF(F8=0,"Rien","Rempli") -> Rien | J8: =IFERROR(K8,0) -> 0 | K8: =VLOOKUP(D8,$AB$7:$AC$999,2,FALSE) -> #N/A | L8: =-(D$5-(E8+G8+((15*G8)/100))) -> -8 | M8: =(L8+J8) -> -8 | N8: =IF(AND(C8=Feuil3!A$3, H8="Rien"), "0",M8) -> -8 | O8: =T7-Q8 -> 45.396667 | P8: =(N8*C3)/100 -> -6.4 | Q8: =P8/24 -> -0.26666667 | S8: Vacances | T8: 18 | Z8: VACANCES | AB8: 1 | AC8: =D$5 -> 8
B9: 2 | C9: Semaine | F9: =E9+G9+J9 -> 0 | H9: =IF(F9=0,"Rien","Rempli") -> Rien | J9: =IFERROR(K9,0) -> 0 | K9: =VLOOKUP(D9,$AB$7:$AC$999,2,FALSE) -> #N/A | L9: =-(D$5-(E9+G9+((15*G9)/100))) -> -8 | M9: =(L9+J9) -> -8 | N9: =IF(AND(C9=Feuil3!A$3, H9="Rien"), "0",M9) -> -8 | O9: =O8+N9 -> 37.396667 | Q9: =P9/24 -> 0 | S9: Fériés | Z9: MALADIE | AB9: 2 | AC9: =D$5 -> 8
B10: 3 | F10: =E10+G10+J10 -> 0 | H10: =IF(F10=0,"Rien","Rempli") -> Rien | J10: =IFERROR(K10,0) -> 0 | K10: =VLOOKUP(D10,$AB$7:$AC$999,2,FALSE) -> #N/A | L10: =-(D$5-(E10+G10+((15*G10)/100))) -> -8 | M10: =(L10+J10) -> -8 | N10: =IF(AND(C10=Feuil3!A$3, H10="Rien"), "0",M10) -> -8 | O10: =O9+N10 -> 29.396667 | Q10: =P10/24 -> 0 | Z10: MALADIE PROFESSIONNELLE | AB10: 3 | AC10: =D$5 -> 8
B11: 4 | F11: =E11+G11+J11 -> 0 | H11: =IF(F11=0,"Rien","Rempli") -> Rien | J11: =IFERROR(K11,0) -> 0 | K11: =VLOOKUP(D11,$AB$7:$AC$999,2,FALSE) -> #N/A | L11: =-(D$5-(E11+G11+((15*G11)/100))) -> -8 | M11: =(L11+J11) -> -8 | N11: =IF(AND(C11=Feuil3!A$3, H11="Rien"), "0",M11) -> -8 | O11: =O10+N11 -> 21.396667 | Q11: =P11/24 -> 0 | S11: Mois en cours | W11: Ecart | Z11: ACCIDENT PROFESSIONNEL | AB11: 4 | AC11: =D$5 -> 8
B12: 5 | F12: =E12+G12+J12 -> 0 | H12: =IF(F12=0,"Rien","Rempli") -> Rien | J12: =IFERROR(K12,0) -> 0 | K12: =VLOOKUP(D12,$AB$7:$AC$999,2,FALSE) -> #N/A | L12: =-(D$5-(E12+G12+((15*G12)/100))) -> -8 | M12: =(L12+J12) -> -8 | N12: =IF(AND(C12=Feuil3!A$3, H12="Rien"), "0",M12) -> -8 | O12: =O11+N12 -> 13.396667 | Q12: =P12/24 -> 0 | S12: Horaires | T12: =O38 -> -194.60333 | U12: Souhaité | V12: 45.13 | W12: =-(V12-T12) -> -239.73333 | Z12: ACCIDENT NON PROFESSIONNEL | AB12: 5 | AC12: =D$5 -> 8
B13: 6 | F13: =E13+G13+J13 -> 0 | H13: =IF(F13=0,"Rien","Rempli") -> Rien | J13: =IFERROR(K13,0) -> 0 | K13: =VLOOKUP(D13,$AB$7:$AC$999,2,FALSE) -> #N/A | L13: =-(D$5-(E13+G13+((15*G13)/100))) -> -8 | M13: =(L13+J13) -> -8 | N13: =IF(AND(C13=Feuil3!A$3, H13="Rien"), "0",M13) -> -8 | O13: =O12+N13 -> 5.3966667 | Q13: =P13/24 -> 0 | S13: Vacances | T13: 18 | U13: Souhaité | V13: 18 | W13: =-(V13-T13) -> 0 | Z13: CONGE MATERNITE | AB13: 6 | AC13: =D$5 -> 8
B14: 7 | F14: =E14+G14+J14 -> 0 | H14: =IF(F14=0,"Rien","Rempli") -> Rien | J14: =IFERROR(K14,0) -> 0 | K14: =VLOOKUP(D14,$AB$7:$AC$999,2,FALSE) -> #N/A | L14: =-(D$5-(E14+G14+((15*G14)/100))) -> -8 | M14: =(L14+J14) -> -8 | N14: =IF(AND(C14=Feuil3!A$3, H14="Rien"), "0",M14) -> -8 | O14: =O13+N14 -> -2.6033333 | Q14: =P14/24 -> 0 | S14: Fériés | U14: Souhaité | W14: =-(V14-T14) -> 0 | Z14: CONGE SYNDICAL | AB14: 9 | AC14: =D$5 -> 8
B15: 8 | F15: =E15+G15+J15 -> 0 | H15: =IF(F15=0,"Rien","Rempli") -> Rien | J15: =IFERROR(K15,0) -> 0 | K15: =VLOOKUP(D15,$AB$7:$AC$999,2,FALSE) -> #N/A | L15: =-(D$5-(E15+G15+((15*G15)/100))) -> -8 | M15: =(L15+J15) -> -8 | N15: =IF(AND(C15=Feuil3!A$3, H15="Rien"), "0",M15) -> -8 | O15: =O14+N15 -> -10.603333 | Q15: =P15/24 -> 0 | Z15: CURE SUITE MALADIE | AB15: 10 | AC15: =D$5 -> 8
B16: 9 | F16: =E16+G16+J16 -> 0 | H16: =IF(F16=0,"Rien","Rempli") -> Rien | J16: =IFERROR(K16,0) -> 0 | K16: =VLOOKUP(D16,$AB$7:$AC$999,2,FALSE) -> #N/A | L16: =-(D$5-(E16+G16+((15*G16)/100))) -> -8 | M16: =(L16+J16) -> -8 | N16: =IF(AND(C16=Feuil3!A$3, H16="Rien"), "0",M16) -> -8 | O16: =O15+N16 -> -18.603333 | Q16: =P16/24 -> 0 | Z16: CURE SUITE ACCIDENT | AB16: 11 | AC16: =D$5 -> 8
B17: 10 | F17: =E17+G17+J17 -> 0 | H17: =IF(F17=0,"Rien","Rempli") -> Rien | J17: =IFERROR(K17,0) -> 0 | K17: =VLOOKUP(D17,$AB$7:$AC$999,2,FALSE) -> #N/A | L17: =-(D$5-(E17+G17+((15*G17)/100))) -> -8 | M17: =(L17+J17) -> -8 | N17: =IF(AND(C17=Feuil3!A$3, H17="Rien"), "0",M17) -> -8 | O17: =O16+N17 -> -26.603333 | Q17: =P17/24 -> 0 | Z17: PROTECTION CIVILE | AB17: 12 | AC17: =D$5 -> 8
B18: 11 | F18: =E18+G18+J18 -> 0 | H18: =IF(F18=0,"Rien","Rempli") -> Rien | J18: =IFERROR(K18,0) -> 0 | K18: =VLOOKUP(D18,$AB$7:$AC$999,2,FALSE) -> #N/A | L18: =-(D$5-(E18+G18+((15*G18)/100))) -> -8 | M18: =(L18+J18) -> -8 | N18: =IF(AND(C18=Feuil3!A$3, H18="Rien"), "0",M18) -> -8 | O18: =O17+N18 -> -34.603333 | Q18: =P18/24 -> 0 | Z18: SERVICE MILITAIRE | AB18: 13 | AC18: =D$5 -> 8
B19: 12 | F19: =E19+G19+J19 -> 0 | H19: =IF(F19=0,"Rien","Rempli") -> Rien | J19: =IFERROR(K19,0) -> 0 | K19: =VLOOKUP(D19,$AB$7:$AC$999,2,FALSE) -> #N/A | L19: =-(D$5-(E19+G19+((15*G19)/100))) -> -8 | M19: =(L19+J19) -> -8 | N19: =IF(AND(C19=Feuil3!A$3, H19="Rien"), "0",M19) -> -8 | O19: =O18+N19 -> -42.603333 | Q19: =P19/24 -> 0 | Z19: CONGE EXTRAORDINAIRE SANS SALAIRE | AB19: 14 | AC19: =D$5 -> 8
B20: 13 | F20: =E20+G20+J20 -> 0 | H20: =IF(F20=0,"Rien","Rempli") -> Rien | J20: =IFERROR(K20,0) -> 0 | K20: =VLOOKUP(D20,$AB$7:$AC$999,2,FALSE) -> #N/A | L20: =-(D$5-(E20+G20+((15*G20)/100))) -> -8 | M20: =(L20+J20) -> -8 | N20: =IF(AND(C20=Feuil3!A$3, H20="Rien"), "0",M20) -> -8 | O20: =O19+N20 -> -50.603333 | Q20: =P20/24 -> 0 | Z20: CONGE SANS SALAIRE | AB20: 15 | AC20: =D$5 -> 8
B21: 14 | F21: =E21+G21+J21 -> 0 | H21: =IF(F21=0,"Rien","Rempli") -> Rien | J21: =IFERROR(K21,0) -> 0 | K21: =VLOOKUP(D21,$AB$7:$AC$999,2,FALSE) -> #N/A | L21: =-(D$5-(E21+G21+((15*G21)/100))) -> -8 | M21: =(L21+J21) -> -8 | N21: =IF(AND(C21=Feuil3!A$3, H21="Rien"), "0",M21) -> -8 | O21: =O20+N21 -> -58.603333 | Q21: =P21/24 -> 0 | Z21: MALADIE GRAVE D'UN PROCHE AVEC DEDUCTION | AB21: 17 | AC21: =D$5 -> 8
B22: 15 | F22: =E22+G22+J22 -> 0 | H22: =IF(F22=0,"Rien","Rempli") -> Rien | J22: =IFERROR(K22,0) -> 0 | K22: =VLOOKUP(D22,$AB$7:$AC$999,2,FALSE) -> #N/A | L22: =-(D$5-(E22+G22+((15*G22)/100))) -> -8 | M22: =(L22+J22) -> -8 | N22: =IF(AND(C22=Feuil3!A$3, H22="Rien"), "0",M22) -> -8 | O22: =O21+N22 -> -66.603333 | Q22: =P22/24 -> 0 | Z22: MALADIE GRAVE D'UN PROCHE SANS DEDUCTION | AB22: 18 | AC22: =D$5 -> 8
B23: 16 | F23: =E23+G23+J23 -> 0 | H23: =IF(F23=0,"Rien","Rempli") -> Rien | J23: =IFERROR(K23,0) -> 0 | K23: =VLOOKUP(D23,$AB$7:$AC$999,2,FALSE) -> #N/A | L23: =-(D$5-(E23+G23+((15*G23)/100))) -> -8 | M23: =(L23+J23) -> -8 | N23: =IF(AND(C23=Feuil3!A$3, H23="Rien"), "0",M23) -> -8 | O23: =O22+N23 -> -74.603333 | Q23: =P23/24 -> 0 | Z23: MARIAGE EMPLOYE ou PARTENARIAT ENREGIST. | AB23: 19 | AC23: =D$5 -> 8
B24: 17 | F24: =E24+G24+J24 -> 0 | H24: =IF(F24=0,"Rien","Rempli") -> Rien | J24: =IFERROR(K24,0) -> 0 | K24: =VLOOKUP(D24,$AB$7:$AC$999,2,FALSE) -> #N/A | L24: =-(D$5-(E24+G24+((15*G24)/100))) -> -8 | M24: =(L24+J24) -> -8 | N24: =IF(AND(C24=Feuil3!A$3, H24="Rien"), "0",M24) -> -8 | O24: =O23+N24 -> -82.603333 | Q24: =P24/24 -> 0 | Z24: MARIAGE D'UN ENFANT | AB24: 20 | AC24: =D$5 -> 8
B25: 18 | F25: =E25+G25+J25 -> 0 | H25: =IF(F25=0,"Rien","Rempli") -> Rien | J25: =IFERROR(K25,0) -> 0 | K25: =VLOOKUP(D25,$AB$7:$AC$999,2,FALSE) -> #N/A | L25: =-(D$5-(E25+G25+((15*G25)/100))) -> -8 | M25: =(L25+J25) -> -8 | N25: =IF(AND(C25=Feuil3!A$3, H25="Rien"), "0",M25) -> -8 | O25: =O24+N25 -> -90.603333 | Q25: =P25/24 -> 0 | Z25: NAISSANCE D'UN ENFANT OU ADOPTION | AB25: 21 | AC25: =D$5 -> 8
B26: 19 | F26: =E26+G26+J26 -> 0 | H26: =IF(F26=0,"Rien","Rempli") -> Rien | J26: =IFERROR(K26,0) -> 0 | K26: =VLOOKUP(D26,$AB$7:$AC$999,2,FALSE) -> #N/A | L26: =-(D$5-(E26+G26+((15*G26)/100))) -> -8 | M26: =(L26+J26) -> -8 | N26: =IF(AND(C26=Feuil3!A$3, H26="Rien"), "0",M26) -> -8 | O26: =O25+N26 -> -98.603333 | Q26: =P26/24 -> 0 | Z26: DEMENAGEMENT | AB26: 22 | AC26: =D$5 -> 8
... B38: 31 | F38: =E38+G38+J38 -> 0 | H38: =IF(F38=0,"Rien","Rempli") -> Rien | J38: =IFERROR(K38,0) -> 0 | K38: =VLOOKUP(D38,$AB$7:$AC$999,2,FALSE) -> #N/A | L38: =-(D$5-(E38+G38+((15*G38)/100))) -> -8 | M38: =(L38+J38) -> -8 | N38: =IF(AND(C38=Feuil3!A$3, H38="Rien"), "0",M38) -> -8 | O38: =O37+N38 -> -194.60333 | Q38: =P38/24 -> 0 | Z38: JOUR FERIE | AB38: 36 | AC38: =D$5 -> 8
Z39: ABSENCE POUR STAGE A L'ETRANGER | AB39: 39 | AC39: =D$5 -> 8
Z40: MALADIE ET ACC. SANS TRAITEMENT | AB40: 40 | AC40: =D$5 -> 8
Z41: MATERNITE SANS TRAITEMENT | AB41: 41 | AC41: =D$5 -> 8
Z42: CONGE SANS SALAIRE FORMATION PERSO MED | AB42: 42 | AC42: =D$5 -> 8
Z43: CONGE FORMATION REMUNERE | AB43: 43 | AC43: =D$5 -> 8
Z44: FORMATION LONGUE DUREE | AB44: 45 | AC44: =D$5 -> 8
Z45: MISSION HUMANITAIRE | AB45: 47 | AC45: =D$5 -> 8
Z46: DECHARGE HORAIRE REPRESENTANTS INSTANCES | AB46: 48 | AC46: =D$5 -> 8
Z47: ABSENCE POUR POMPIER D'ENTREPRISE | AB47: 50 | AC47: =D$5 -> 8
Z48: CONGE COMPENS TRIMEST TRANSPORT/BRANCARD | AB48: 51 | AC48: =D$5 -> 8
Z49: CONGE COMPENS ANNUEL TRANSPORT/BRANCARD | AB49: 52 | AC49: =D$5 -> 8
Z50: CONVOCATIONS OFFICIELLES | AB50: 55 | AC50: =D$5 -> 8
... Z63: FORMATION COURS DU SOIR ET WEEK-END | AB63: 86 | AC63: =D$5 -> 8

Sheet Bibliothèque
A1: Horaires | I1: Absences
I2: Appellation | K2: Code | L2: Temps
I3: Férié | K3: 36 | L3: 5

Sheet Feuil3
C2: 100
A3: WE | C3: 95
A4: Semaine | C4: 90
C5: 85
C6: 80
C7: 75
C8: 70
C9: 65
C10: 60
C11: 55
C12: 50
C13: 45
C14: 40
C15: 35
C16: 30
... C21: 5
