Workbook

Sheet Répartition
B2: Groupe 1 | D2: Groupe 2
B3: {=IFERROR(INDEX(Inscriptions!$A$2:$A$26,SMALL(IF(Inscriptions!$B$2:$B$26=VALUE(RIGHT(Répartition!B$2,1)),ROW(INDIRECT("1:"&ROWS(Inscriptions!$A$2:$A$26)))),ROWS(Inscriptions!$2:2))),"")} -> Grisnark | D3: {=IFERROR(INDEX(Inscriptions!$A$2:$A$26,SMALL(IF(Inscriptions!$B$2:$B$26=VALUE(RIGHT(Répartition!D$2,1)),ROW(INDIRECT("1:"&ROWS(Inscriptions!$A$2:$A$26)))),ROWS(Inscriptions!$2:2))),"")} -> Irithëll
B4: {=IFERROR(INDEX(Inscriptions!$A$2:$A$26,SMALL(IF(Inscriptions!$B$2:$B$26=VALUE(RIGHT(Répartition!B$2,1)),ROW(INDIRECT("1:"&ROWS(Inscriptions!$A$2:$A$26)))),ROWS(Inscriptions!$2:3))),"")} -> Quentildur | D4: {=IFERROR(INDEX(Inscriptions!$A$2:$A$26,SMALL(IF(Inscriptions!$B$2:$B$26=VALUE(RIGHT(Répartition!D$2,1)),ROW(INDIRECT("1:"&ROWS(Inscriptions!$A$2:$A$26)))),ROWS(Inscriptions!$2:3))),"")} -> Ekaterinà(Екатерина)
B5: {=IFERROR(INDEX(Inscriptions!$A$2:$A$26,SMALL(IF(Inscriptions!$B$2:$B$26=VALUE(RIGHT(Répartition!B$2,1)),ROW(INDIRECT("1:"&ROWS(Inscriptions!$A$2:$A$26)))),ROWS(Inscriptions!$2:4))),"")} -> jraillya | D5: {=IFERROR(INDEX(Inscriptions!$A$2:$A$26,SMALL(IF(Inscriptions!$B$2:$B$26=VALUE(RIGHT(Répartition!D$2,1)),ROW(INDIRECT("1:"&ROWS(Inscriptions!$A$2:$A$26)))),ROWS(Inscriptions!$2:4))),"")} -> Vaïry
B6: {=IFERROR(INDEX(Inscriptions!$A$2:$A$26,SMALL(IF(Inscriptions!$B$2:$B$26=VALUE(RIGHT(Répartition!B$2,1)),ROW(INDIRECT("1:"&ROWS(Inscriptions!$A$2:$A$26)))),ROWS(Inscriptions!$2:5))),"")} -> Ryko(Kiryko) | D6: {=IFERROR(INDEX(Inscriptions!$A$2:$A$26,SMALL(IF(Inscriptions!$B$2:$B$26=VALUE(RIGHT(Répartition!D$2,1)),ROW(INDIRECT("1:"&ROWS(Inscriptions!$A$2:$A$26)))),ROWS(Inscriptions!$2:5))),"")} -> Héléa
B7: {=IFERROR(INDEX(Inscriptions!$A$2:$A$26,SMALL(IF(Inscriptions!$B$2:$B$26=VALUE(RIGHT(Répartition!B$2,1)),ROW(INDIRECT("1:"&ROWS(Inscriptions!$A$2:$A$26)))),ROWS(Inscriptions!$2:6))),"")} | D7: {=IFERROR(INDEX(Inscriptions!$A$2:$A$26,SMALL(IF(Inscriptions!$B$2:$B$26=VALUE(RIGHT(Répartition!D$2,1)),ROW(INDIRECT("1:"&ROWS(Inscriptions!$A$2:$A$26)))),ROWS(Inscriptions!$2:6))),"")} -> Shunly
B8: {=IFERROR(INDEX(Inscriptions!$A$2:$A$26,SMALL(IF(Inscriptions!$B$2:$B$26=VALUE(RIGHT(Répartition!B$2,1)),ROW(INDIRECT("1:"&ROWS(Inscriptions!$A$2:$A$26)))),ROWS(Inscriptions!$2:7))),"")} | D8: {=IFERROR(INDEX(Inscriptions!$A$2:$A$26,SMALL(IF(Inscriptions!$B$2:$B$26=VALUE(RIGHT(Répartition!D$2,1)),ROW(INDIRECT("1:"&ROWS(Inscriptions!$A$2:$A$26)))),ROWS(Inscriptions!$2:7))),"")}
B9: {=IFERROR(INDEX(Inscriptions!$A$2:$A$26,SMALL(IF(Inscriptions!$B$2:$B$26=VALUE(RIGHT(Répartition!B$2,1)),ROW(INDIRECT("1:"&ROWS(Inscriptions!$A$2:$A$26)))),ROWS(Inscriptions!$2:8))),"")} | D9: {=IFERROR(INDEX(Inscriptions!$A$2:$A$26,SMALL(IF(Inscriptions!$B$2:$B$26=VALUE(RIGHT(Répartition!D$2,1)),ROW(INDIRECT("1:"&ROWS(Inscriptions!$A$2:$A$26)))),ROWS(Inscriptions!$2:8))),"")}
B10: {=IFERROR(INDEX(Inscriptions!$A$2:$A$26,SMALL(IF(Inscriptions!$B$2:$B$26=VALUE(RIGHT(Répartition!B$2,1)),ROW(INDIRECT("1:"&ROWS(Inscriptions!$A$2:$A$26)))),ROWS(Inscriptions!$2:9))),"")} | D10: {=IFERROR(INDEX(Inscriptions!$A$2:$A$26,SMALL(IF(Inscriptions!$B$2:$B$26=VALUE(RIGHT(Répartition!D$2,1)),ROW(INDIRECT("1:"&ROWS(Inscriptions!$A$2:$A$26)))),ROWS(Inscriptions!$2:9))),"")}
B11: Groupe 3 | D11: Groupe 4
B12: {=IFERROR(INDEX(Inscriptions!$A$2:$A$26,SMALL(IF(Inscriptions!$B$2:$B$26=VALUE(RIGHT(Répartition!B$11,1)),ROW(INDIRECT("1:"&ROWS(Inscriptions!$A$2:$A$26)))),ROWS(Inscriptions!$2:2))),"")} -> Cinquième | D12: {=IFERROR(INDEX(Inscriptions!$A$2:$A$26,SMALL(IF(Inscriptions!$B$2:$B$26=VALUE(RIGHT(Répartition!D$11,1)),ROW(INDIRECT("1:"&ROWS(Inscriptions!$A$2:$A$26)))),ROWS(Inscriptions!$2:2))),"")} -> Eskan
B13: {=IFERROR(INDEX(Inscriptions!$A$2:$A$26,SMALL(IF(Inscriptions!$B$2:$B$26=VALUE(RIGHT(Répartition!B$11,1)),ROW(INDIRECT("1:"&ROWS(Inscriptions!$A$2:$A$26)))),ROWS(Inscriptions!$2:3))),"")} -> loose | D13: {=IFERROR(INDEX(Inscriptions!$A$2:$A$26,SMALL(IF(Inscriptions!$B$2:$B$26=VALUE(RIGHT(Répartition!D$11,1)),ROW(INDIRECT("1:"&ROWS(Inscriptions!$A$2:$A$26)))),ROWS(Inscriptions!$2:3))),"")} -> magicolos/hombréé/herbachaton
B14: {=IFERROR(INDEX(Inscriptions!$A$2:$A$26,SMALL(IF(Inscriptions!$B$2:$B$26=VALUE(RIGHT(Répartition!B$11,1)),ROW(INDIRECT("1:"&ROWS(Inscriptions!$A$2:$A$26)))),ROWS(Inscriptions!$2:4))),"")} -> Nannaky | D14: {=IFERROR(INDEX(Inscriptions!$A$2:$A$26,SMALL(IF(Inscriptions!$B$2:$B$26=VALUE(RIGHT(Répartition!D$11,1)),ROW(INDIRECT("1:"&ROWS(Inscriptions!$A$2:$A$26)))),ROWS(Inscriptions!$2:4))),"")} -> Aramichi
B15: {=IFERROR(INDEX(Inscriptions!$A$2:$A$26,SMALL(IF(Inscriptions!$B$2:$B$26=VALUE(RIGHT(Répartition!B$11,1)),ROW(INDIRECT("1:"&ROWS(Inscriptions!$A$2:$A$26)))),ROWS(Inscriptions!$2:5))),"")} -> Morenti | D15: {=IFERROR(INDEX(Inscriptions!$A$2:$A$26,SMALL(IF(Inscriptions!$B$2:$B$26=VALUE(RIGHT(Répartition!D$11,1)),ROW(INDIRECT("1:"&ROWS(Inscriptions!$A$2:$A$26)))),ROWS(Inscriptions!$2:5))),"")}
B16: {=IFERROR(INDEX(Inscriptions!$A$2:$A$26,SMALL(IF(Inscriptions!$B$2:$B$26=VALUE(RIGHT(Répartition!B$11,1)),ROW(INDIRECT("1:"&ROWS(Inscriptions!$A$2:$A$26)))),ROWS(Inscriptions!$2:6))),"")} -> Lsa | D16: {=IFERROR(INDEX(Inscriptions!$A$2:$A$26,SMALL(IF(Inscriptions!$B$2:$B$26=VALUE(RIGHT(Répartition!D$11,1)),ROW(INDIRECT("1:"&ROWS(Inscriptions!$A$2:$A$26)))),ROWS(Inscriptions!$2:6))),"")}
B17: {=IFERROR(INDEX(Inscriptions!$A$2:$A$26,SMALL(IF(Inscriptions!$B$2:$B$26=VALUE(RIGHT(Répartition!B$11,1)),ROW(INDIRECT("1:"&ROWS(Inscriptions!$A$2:$A$26)))),ROWS(Inscriptions!$2:7))),"")} | D17: {=IFERROR(INDEX(Inscriptions!$A$2:$A$26,SMALL(IF(Inscriptions!$B$2:$B$26=VALUE(RIGHT(Répartition!D$11,1)),ROW(INDIRECT("1:"&ROWS(Inscriptions!$A$2:$A$26)))),ROWS(Inscriptions!$2:7))),"")}
B18: {=IFERROR(INDEX(Inscriptions!$A$2:$A$26,SMALL(IF(Inscriptions!$B$2:$B$26=VALUE(RIGHT(Répartition!B$11,1)),ROW(INDIRECT("1:"&ROWS(Inscriptions!$A$2:$A$26)))),ROWS(Inscriptions!$2:8))),"")} | D18: {=IFERROR(INDEX(Inscriptions!$A$2:$A$26,SMALL(IF(Inscriptions!$B$2:$B$26=VALUE(RIGHT(Répartition!D$11,1)),ROW(INDIRECT("1:"&ROWS(Inscriptions!$A$2:$A$26)))),ROWS(Inscriptions!$2:8))),"")}
B19: {=IFERROR(INDEX(Inscriptions!$A$2:$A$26,SMALL(IF(Inscriptions!$B$2:$B$26=VALUE(RIGHT(Répartition!B$11,1)),ROW(INDIRECT("1:"&ROWS(Inscriptions!$A$2:$A$26)))),ROWS(Inscriptions!$2:9))),"")} | D19: {=IFERROR(INDEX(Inscriptions!$A$2:$A$26,SMALL(IF(Inscriptions!$B$2:$B$26=VALUE(RIGHT(Répartition!D$11,1)),ROW(INDIRECT("1:"&ROWS(Inscriptions!$A$2:$A$26)))),ROWS(Inscriptions!$2:9))),"")}
B20: {=IFERROR(INDEX(Inscriptions!$A$2:$A$26,SMALL(IF(Inscriptions!$B$2:$B$26=VALUE(RIGHT(Répartition!B$11,1)),ROW(INDIRECT("1:"&ROWS(Inscriptions!$A$2:$A$26)))),ROWS(Inscriptions!$2:10))),"")} | D20: {=IFERROR(INDEX(Inscriptions!$A$2:$A$26,SMALL(IF(Inscriptions!$B$2:$B$26=VALUE(RIGHT(Répartition!D$11,1)),ROW(INDIRECT("1:"&ROWS(Inscriptions!$A$2:$A$26)))),ROWS(Inscriptions!$2:10))),"")}
B21: Groupe 5
B22: {=IFERROR(INDEX(Inscriptions!$A$2:$A$26,SMALL(IF(Inscriptions!$B$2:$B$26=VALUE(RIGHT(Répartition!B$21,1)),ROW(INDIRECT("1:"&ROWS(Inscriptions!$A$2:$A$26)))),ROWS(Inscriptions!$2:2))),"")} -> Linnëa
B23: {=IFERROR(INDEX(Inscriptions!$A$2:$A$26,SMALL(IF(Inscriptions!$B$2:$B$26=VALUE(RIGHT(Répartition!B$21,1)),ROW(INDIRECT("1:"&ROWS(Inscriptions!$A$2:$A$26)))),ROWS(Inscriptions!$2:3))),"")} -> Dhemiurge
B24: {=IFERROR(INDEX(Inscriptions!$A$2:$A$26,SMALL(IF(Inscriptions!$B$2:$B$26=VALUE(RIGHT(Répartition!B$21,1)),ROW(INDIRECT("1:"&ROWS(Inscriptions!$A$2:$A$26)))),ROWS(Inscriptions!$2:4))),"")} -> Alcya
B25: {=IFERROR(INDEX(Inscriptions!$A$2:$A$26,SMALL(IF(Inscriptions!$B$2:$B$26=VALUE(RIGHT(Répartition!B$21,1)),ROW(INDIRECT("1:"&ROWS(Inscriptions!$A$2:$A$26)))),ROWS(Inscriptions!$2:5))),"")} -> Elandoriën
B26: {=IFERROR(INDEX(Inscriptions!$A$2:$A$26,SMALL(IF(Inscriptions!$B$2:$B$26=VALUE(RIGHT(Répartition!B$21,1)),ROW(INDIRECT("1:"&ROWS(Inscriptions!$A$2:$A$26)))),ROWS(Inscriptions!$2:6))),"")} -> Grhum
B27: {=IFERROR(INDEX(Inscriptions!$A$2:$A$26,SMALL(IF(Inscriptions!$B$2:$B$26=VALUE(RIGHT(Répartition!B$21,1)),ROW(INDIRECT("1:"&ROWS(Inscriptions!$A$2:$A$26)))),ROWS(Inscriptions!$2:7))),"")} -> Rockh
B28: {=IFERROR(INDEX(Inscriptions!$A$2:$A$26,SMALL(IF(Inscriptions!$B$2:$B$26=VALUE(RIGHT(Répartition!B$21,1)),ROW(INDIRECT("1:"&ROWS(Inscriptions!$A$2:$A$26)))),ROWS(Inscriptions!$2:8))),"")} -> Bucaroo
B29: {=IFERROR(INDEX(Inscriptions!$A$2:$A$26,SMALL(IF(Inscriptions!$B$2:$B$26=VALUE(RIGHT(Répartition!B$21,1)),ROW(INDIRECT("1:"&ROWS(Inscriptions!$A$2:$A$26)))),ROWS(Inscriptions!$2:9))),"")} -> Arrien
B30: {=IFERROR(INDEX(Inscriptions!$A$2:$A$26,SMALL(IF(Inscriptions!$B$2:$B$26=VALUE(RIGHT(Répartition!B$21,1)),ROW(INDIRECT("1:"&ROWS(Inscriptions!$A$2:$A$26)))),ROWS(Inscriptions!$2:10))),"")}

Sheet Inscriptions
A1: Nom | B1: Groupe
A2: Eskan | B2: 4
A3: magicolos/hombréé/herbachaton | B3: 4
A4: Aramichi | B4: 4
A5: Irithëll | B5: 2
A6: Linnëa | B6: 5
A7: Grisnark | B7: 1
A8: Ekaterinà(Екатерина) | B8: 2
A9: Vaïry | B9: 2
A10: Cinquième | B10: 3
A11: Dhemiurge | B11: 5
A12: loose | B12: 3
A13: Héléa | B13: 2
... A26: Arrien | B26: 5
