Workbook

Sheet Feuil1
A1: BESOINS | F1: PLAN DE MANDAT | K1: ANALYSE TECHNIQUE | N1: BESOINS 012 | AG1: 2021 | AT1: 2022 | AW1: 2022 | BG1: 2023 | BQ1: 2024 | CA1: 2025 | CK1: 2026 | CU1: 2027 | DM1: BESOINS 011 ET 65 | DW1: 2021 | DX1: 2021 | EC1: 2022 | EG1: 2023 | EK1: 2024 | EO1: 2025 | ES1: 2026 | EW1: 2027 | FH1: 2021 | FK1: 2022 | FN1: 2023 | FQ1: 2024 | FT1: 2025 | FW1: 2026 | FZ1: 2027 | GD1: coût total action
A2: Besoin | B2: Chapitre (012/011/65) | C2: Besoins liés à PPI | D2: PPF | E2: Commentaires | F2: Action(s) du plan de mandat | G2: Axe | H2: Délégation | I2: Elu de ref | J2: Autres adjoint.e.s concerné.e.s | K2: Direction de rattachement | L2: DGA de rattachement | M2: mode de gestion du service envisagé | N2: nombre de postes | O2: catégorie (A/B/C/apprentis) | P2: nombre postes cat.C | Q2: nombre postes apprentis | R2: nombre total postes | S2: type de contrat (création poste pérenne, pérennisation poste existant, contrat de projet, autres) | T2: motif de recrutement (plan de mandat, renfort, CFC, autres) | U2: type de poste (titulaire ou contractuel) | V2: Filière | W2: montant annuel estimé | X2: cofinancements | Y2: coût net collectivité | Z2: contact direct usagers (oui; non; à déterminer) | AA2: année prévisionnelle début contrat | AB2: mois de démarrage du contrat | AC2: durée | AD2: année prévisionnelle fin de contrat | AE2: PPF 012 | AF2: commentaires | AG2: nombre de postes | AH2: catégorie (A/B/C/apprentis) | AI2: nombre postes cat.C | AJ2: nombre postes apprentis | AK2: nombre total postes | AL2: type de contrat (création poste pérenne, pérennisation poste existant, contrat de projet, autres) | AM2: type de poste (titulaire ou contractuel) | AN2: Filière | AO2: montant annuel estimé | AP2: cofinancements | AQ2: coût net collectivité | AR2: contact direct usagers (oui; non; à déterminer) | AS2: mois de démarrage du contrat | AT2: montant BP | AU2: montant DM | AV2: commentaires | AW2: nombre postes cat.A 2022 | AX2: nombre postes cat.B 2022 | AY2: nombre postes cat.C 2022 | AZ2: nombre postes apprentis 2022 | BA2: nombre total postes 2022 | BB2: type de poste (titulaire ou contractuel) 2022 | BC2: Filière 2022 | BD2: montant annuel estimé 2022 | BE2: cofinancements 2022 | BF2: coût net collectivité 2022 | BG2: nombre postes cat.A 2023 | BH2: nombre postes cat.B 2023 | BI2: nombre postes cat.C 2023 | BJ2: nombre postes apprentis 2023 | BK2: nombre total postes 2023 | BL2: type de poste (titulaire ou contractuel) 2023 | BM2: Filière 2023 | BN2: montant annuel estimé 2023 | BO2: cofinancements 2023 | BP2: coût net collectivité 2023 | BQ2: nombre postes cat.A 2024 | BR2: nombre postes cat.B 2024 | BS2: nombre postes cat.C 2024 | BT2: nombre postes apprentis 2024 | BU2: nombre total postes 2024 | BV2: type de poste (titulaire ou contractuel) 2024 | BW2: Filière 2024 | BX2: montant annuel estimé 2024 | BY2: cofinancements 2024 | BZ2: coût net collectivité 2024 | CA2: nombre postes cat.A 2025 | CB2: nombre postes cat.B 2025 | CC2: nombre postes cat.C 2025 | CD2: nombre postes apprentis 2025 | CE2: nombre total postes 2025 | CF2: type de poste (titulaire ou contractuel) 2025 | CG2: Filière 2025 | CH2: montant annuel estimé 2025 | CI2: cofinancements 2025 | CJ2: coût net collectivité 2025 | CK2: nombre postes cat.A 2026 | CL2: nombre postes cat.B 2026 | CM2: nombre postes cat.C 2026 | CN2: nombre postes apprentis 2026 | CO2: nombre total postes 2026 | CP2: type de poste (titulaire ou contractuel) 2026 | CQ2: Filière 2026 | CR2: montant annuel estimé 2026 | CS2: cofinancements 2026 | CT2: coût net collectivité 2026 | CU2: nombre postes cat.A 2027 | CV2: nombre postes cat.B 2027 | CW2: nombre postes cat.C 2027 | CX2: nombre postes apprentis 2027 | CY2: nombre total postes 2027 | CZ2: type de poste (titulaire ou contractuel) 2027 | DA2: Filière 2027 | DB2: montant annuel estimé 2027 | DC2: cofinancements 2027 | DD2: coût net collectivité 2027 | DE2: total postes cat.A | DF2: total postes cat.B | DG2: total postes cat.C | DH2: total postes apprentis | DI2: total nombre postes | DJ2: TOTAL MONTANT ESTIME SUR LE MANDAT | DK2: TOTAL COFINANCEMENTS SUR LE MANDAT | DL2: TOTAL COUT NET VILLE SUR LE MANDAT | DM2: type de besoin (AMO, hausse enveloppe subventions, MAD, autres) | DN2: besoin récurrent ou ponctuel | DO2: montant estimé | DP2: cofinancement | DQ2: coût net Ville | DR2: année prévisionnelle début de mise en œuvre | DS2: mois démarrage mise en œuvre | DT2: année prévisionnelle fin de mise en œuvre (si ponctuel) | DU2: PPF 011 ET 65 | DV2: remarques | DW2: type de besoin (AMO, hausse enveloppe subventions, MAD, autres) 2021 | DX2: montant estimé 2021 | DY2: cofinancement 2021 | DZ2: coût net Ville 2021 | EA2: montant BP | EB2: montant DM | EC2: type de besoin (AMO, hausse enveloppe subventions, MAD, autres) 2022 | ED2: montant estimé 2022 | EE2: cofinancement 2022 | EF2: coût net Ville 2022 | EG2: type de besoin (AMO, hausse enveloppe subventions, MAD, autres) 2023 | EH2: montant estimé 2023 | EI2: cofinancement 2023 | EJ2: coût net Ville 2023 | EK2: type de besoin (AMO, hausse enveloppe subventions, MAD, autres) 2024 | EL2: montant estimé 2024 | EM2: cofinancement 2024 | EN2: coût net Ville 2024 | EO2: type de besoin (AMO, hausse enveloppe subventions, MAD, autres) 2025 | EP2: montant estimé 2025 | EQ2: cofinancement 2025 | ER2: coût net Ville 2025 | ES2: type de besoin (AMO, hausse enveloppe subventions, MAD, autres) 2026 | ET2: montant estimé 2026 | EU2: cofinancement 2026 | EV2: coût net Ville 2026 | EW2: type de besoin (AMO, hausse enveloppe subventions, MAD, autres) 2027 | EX2: montant estimé 2027 | EY2: cofinancement 2027 | EZ2: coût net Ville 2027 | FA2: TOTAL MONTANT ESTIME 011 ET 65 | FB2: TOTAL COFINANCEMENTS 011 ET 65 | FC2: TOTAL COUT NET VILLE 011 ET 65 | FD2: Total montant estimé | FE2: Total cofinancements | FF2: Total coût net ville | FG2: Colonne235 | FH2: Total montant estimé 2021 | FI2: Total cofinancements 2021 | FJ2: Total coût net ville 2021 | FK2: Total montant estimé 2022 | FL2: Total cofinancements 2022 | FM2: Total coût net ville 2022 | FN2: Total montant estimé 2023 | FO2: Total cofinancements 2023 | FP2: Total coût net ville 2023 | FQ2: Total montant estimé 2024 | FR2: Total cofinancements 2024 | FS2: Total coût net ville 2024 | FT2: Total montant estimé 2025 | FU2: Total cofinancements 2025 | FV2: Total coût net ville 2025 | FW2: Total montant estimé 2026 | FX2: Total cofinancements 2026 | FY2: Total coût net ville 2026 | FZ2: Total montant estimé 2027 | GA2: Total cofinancements 2027 | GB2: Total coût net ville 2027 | GC2: Colonne236 | GD2: montant total estimé action | GE2: montant total cofinancements action | GF2: total coût net ville action

Sheet Feuil4
A2: 012 | B2: oui | C2: besoin pérenne | D2: plan de mandat | E2: AMO
A3: 011 et 65 | B3: non | C3: pérennisation besoin existant | D3: renfort | E3: hausse subventions
A4: 74 | C4: contrat de projet | D4: CFC | E4: mise à disposition
A5: 70 et 75 | C5: autres | D5: autres | E5: autres

Sheet Feuil2
A1: BESOINS | N1: PLAN DE MANDAT | S1: ANALYSE TECHNIQUE | V1: BESOINS 012 | AO1: 2021 | AQ1: 2022 | AS1: 2023 | AU1: 2024 | AW1: 2025 | AY1: 2026 | BA1: 2027 | BC1: BESOINS 011 ET 65 | BN1: 2021 | BP1: 2022 | BR1: 2023 | BT1: 2024 | BV1: 2025 | BX1: 2026 | BZ1: 2027
A2: Besoin | B2: Chapitre (012/011 et 65/74/70 et 75) | C2: Besoins liés à PPI | D2: recettes liées au besoin | E2: chapitre recettes liées au besoin (74 / 70 et 75) | F2: besoin / recettes inscrits dans PPF (oui/non) | G2: type de besoin (besoin pérenne, pérennisation besoin existant, contrat de projet, autres) | H2: nature du besoin (plan de mandat, renfort, CFC, autres) | I2: année prévisionnelle mise en œuvre | J2: mois prévisionnel de démarrage | K2: durée | L2: année prévisionnelle fin de mise en œuvre | M2: Commentaires | N2: Action(s) du plan de mandat | O2: Axe | P2: Délégation | Q2: Elu.e de ref | R2: Autres adjoint.e.s concerné.e.s | S2: Direction de rattachement | T2: DGA de rattachement | U2: mode de gestion du service envisagé | V2: nombre de postes A | W2: nombre de postes B | X2: nombre de postes C | Y2: nombre de postes apprentis | Z2: nombre total de postes | AA2: type de contrat (création poste pérenne, pérennisation poste existant, contrat de projet, autres) | AB2: motif de recrutement (plan de mandat, renfort, CFC, autres) | AC2: type de poste (titulaire ou contractuel) | AD2: Filière | AE2: montant annuel estimé | AF2: cofinancements | AG2: coût net collectivité | AH2: contact direct usagers (oui; non; à déterminer) | AI2: année prévisionnelle début contrat | AJ2: mois de démarrage du contrat | AK2: durée | AL2: année prévisionnelle fin de contrat | AM2: PPF 012 | AN2: commentaires | AO2: montant BP | AP2: montant cumulé | AQ2: montant BP | AR2: montant cumulé | AS2: montant BP | AT2: montant cumulé | AU2: montant BP | AV2: montant cumulé | AW2: montant BP | AX2: montant cumulé | AY2: montant BP | AZ2: montant cumulé | BA2: montant BP | BB2: montant cumulé | BC2: type de besoin (AMO, hausse subventions, MAD, autres) | BD2: motif du besoin (plan de mandat, renfort, CFC, autres) | BE2: montant estimé | BF2: cofinancement | BG2: coût net Ville | BH2: année prévisionnelle début de mise en œuvre | BI2: mois démarrage mise en œuvre | BJ2: durée | BK2: année prévisionnelle fin de mise en œuvre (si ponctuel) | BL2: PPF 011 ET 65 | BM2: remarques | BN2: montant BP | BO2: montant cumulé | BP2: montant BP | BQ2: montant cumulé | BR2: montant BP | BS2: montant cumulé | BT2: montant BP | BU2: montant cumulé | BV2: montant BP | BW2: montant cumulé | BX2: montant BP | BY2: montant cumulé | BZ2: montant BP | CA2: montant cumulé
Z3: =SUM(V3:Y3) -> 0

Sheet références
A2: année | B2: mois
A3: 2021 | B3: janvier | C3: 1
A4: 2022 | B4: février | C4: 2
A5: 2023 | B5: mars | C5: 3
A6: 2024 | B6: avril | C6: 4
A7: 2025 | B7: mai | C7: 5
A8: 2026 | B8: juin | C8: 6
A9: 2027 | B9: juillet | C9: 7
A10: 2028 | B10: août | C10: 8
A11: 2029 | B11: septembre | C11: 9
A12: 2030 | B12: octobre | C12: 10
B13: novembre | C13: 11
B14: décembre | C14: 12

Sheet synthèse
G1: 2021 | I1: 2022 | K1: 2023 | M1: 2024 | O1: 2025 | Q1: 2026 | S1: 2027
A2: Objet | B2: Montant estimé année pleine | C2: année d'entrée | D2: mois d'entrée | E2: année de sortie | F2: mois de sortie | G2: montant BP 2021 | H2: coût annuel 2021 | I2: montant BP 2022 | J2: coût annuel 2022 | K2: montant BP 2023 | L2: coût annuel 2023 | M2: montant BP 2024 | N2: coût annuel 2024 | O2: montant BP 2025 | P2: coût annuel 2025 | Q2: montant BP 2026 | R2: coût annuel 2026 | S2: montant BP 2027 | T2: coût annuel 2027 | U2: commentaires
B3: 100000 | C3: 2021 | D3: janvier | E3: 2025 | F3: octobre | G3: =IF($G$1=Tableau1[[#This Row],[année d''entrée]],IF(Tableau1[[#This Row],[année de sortie]]=Tableau1[[#This Row],[année d''entrée]],Tableau1[[#This Row],[Montant estimé année pleine]]*(MATCH(Tableau1[[#This Row],[mois de sortie]],références!$B$3:$B$15,0)-MATCH(Tableau1[[#This Row],[mois d''entrée]],références!$B$3:$B$14,0)+1)/12,Tableau1[[#This Row],[Montant estimé année pleine]]*(13-MATCH(Tableau1[[#This Row],[mois d''entrée]],références!$B$3:$B$14,0))/12),IF($G$1=Tableau1[[#This Row],[année de sortie]],-Tableau1[[#This Row],[Montant estimé année pleine]]*(13-MATCH(Tableau1[[#This Row],[mois de sortie]],références!$B$3:$B$14,0))/12,0)) -> 100000 | H3: =SUM(F3:G3) -> 100000 | I3: =IF($I$1=Tableau1[[#This Row],[année d''entrée]],IF(Tableau1[[#This Row],[année de sortie]]=Tableau1[[#This Row],[année d''entrée]],Tableau1[[#This Row],[Montant estimé année pleine]]*(MATCH(Tableau1[[#This Row],[mois de sortie]],références!$B$3:$B$15,0)-MATCH(Tableau1[[#This Row],[mois d''entrée]],références!$B$3:$B$14,0)+1)/12,Tableau1[[#This Row],[Montant estimé année pleine]]*(13-MATCH(Tableau1[[#This Row],[mois d''entrée]],références!$B$3:$B$14,0))/12),IF($I$1=Tableau1[[#This Row],[année de sortie]],IF(Tableau1[[#This Row],[coût annuel 2021]]=Tableau1[[#This Row],[Montant estimé année pleine]],-Tableau1[[#This Row],[Montant estimé année pleine]]*(13-MATCH(Tableau1[[#This Row],[mois de sortie]],références!$B$3:$B$14,0))/12,Tableau1[[#This Row],[Montant estimé année pleine]]-Tableau1[[#This Row],[coût annuel 2021]]),IF($I$1=Tableau1[[#This Row],[année de sortie]]+1,-Tableau1[[#This Row],[coût annuel 2021]],IF(AND(Tableau1[[#This Row],[année d''entrée]]<$I$1,$I$1<Tableau1[[#This Row],[année de sortie]]),Tableau1[[#This Row],[Montant estimé année pleine]]-Tableau1[[#This Row],[coût annuel 2021]],IF(SUM(F3:G3)=0,0,Tableau1[[#This Row],[Montant estimé année pleine]]-Tableau1[[#This Row],[coût annuel 2021]]))))) -> 0 | J3: =IF($I$1=Tableau1[[#This Row],[année de sortie]],Tableau1[[#This Row],[montant BP 2022]],SUM(H3:I3)) -> 100000 | K3: =IF($K$1=Tableau1[[#This Row],[année d''entrée]],IF(Tableau1[[#This Row],[année de sortie]]=Tableau1[[#This Row],[année d''entrée]],Tableau1[[#This Row],[Montant estimé année pleine]]*(MATCH(Tableau1[[#This Row],[mois de sortie]],références!$B$3:$B$15,0)-MATCH(Tableau1[[#This Row],[mois d''entrée]],références!$B$3:$B$14,0)+1)/12,Tableau1[[#This Row],[Montant estimé année pleine]]*(13-MATCH(Tableau1[[#This Row],[mois d''entrée]],références!$B$3:$B$14,0))/12),IF($K$1=Tableau1[[#This Row],[année de sortie]],IF(Tableau1[[#This Row],[coût annuel 2022]]=Tableau1[[#This Row],[Montant estimé année pleine]],-Tableau1[[#This Row],[Montant estimé année pleine]]*(13-MATCH(Tableau1[[#This Row],[mois de sortie]],références!$B$3:$B$14,0))/12,Tableau1[[#This Row],[Montant estimé année pleine]]-Tableau1[[#This Row],[coût annuel 2022]]),IF($K$1=Tableau1[[#This Row],[année de sortie]]+1,-Tableau1[[#This Row],[coût annuel 2022]],IF(AND(Tableau1[[#This Row],[année d''entrée]]<$K$1,$K$1<Tableau1[[#This Row],[année de sortie]]),Tableau1[[#This Row],[Montant estimé année pleine]]-Tableau1[[#This Row],[coût annuel 2022]],IF(SUM(Tableau1[[#This Row],[coût annuel 2021]:[montant BP 2022]])=0,0,Tableau1[[#This Row],[Montant estimé année pleine]]-Tableau1[[#This Row],[coût annuel 2022]]))))) -> 0 | L3: =IF($K$1=Tableau1[[#This Row],[année de sortie]],Tableau1[[#This Row],[montant BP 2023]],SUM(J3:K3)) -> 100000 | M3: =IF($M$1=Tableau1[[#This Row],[année d''entrée]],IF(Tableau1[[#This Row],[année de sortie]]=Tableau1[[#This Row],[année d''entrée]],Tableau1[[#This Row],[Montant estimé année pleine]]*(MATCH(Tableau1[[#This Row],[mois de sortie]],références!$B$3:$B$15,0)-MATCH(Tableau1[[#This Row],[mois d''entrée]],références!$B$3:$B$14,0)+1)/12,Tableau1[[#This Row],[Montant estimé année pleine]]*(13-MATCH(Tableau1[[#This Row],[mois d''entrée]],références!$B$3:$B$14,0))/12),IF($M$1=Tableau1[[#This Row],[année de sortie]],IF(Tableau1[[#This Row],[coût annuel 2023]]=Tableau1[[#This Row],[Montant estimé année pleine]],-Tableau1[[#This Row],[Montant estimé année pleine]]*(13-MATCH(Tableau1[[#This Row],[mois de sortie]],références!$B$3:$B$14,0))/12,Tableau1[[#This Row],[Montant estimé année pleine]]-Tableau1[[#This Row],[coût annuel 2023]]),IF($M$1=Tableau1[[#This Row],[année de sortie]]+1,-Tableau1[[#This Row],[coût annuel 2023]],IF(AND(Tableau1[[#This Row],[année d''entrée]]<$M$1,$M$1<Tableau1[[#This Row],[année de sortie]]),Tableau1[[#This Row],[Montant estimé année pleine]]-Tableau1[[#This Row],[coût annuel 2023]],IF(SUM(Tableau1[[#This Row],[coût annuel 2022]:[montant BP 2023]])=0,0,Tableau1[[#This Row],[Montant estimé année pleine]]-Tableau1[[#This Row],[coût annuel 2023]]))))) -> 0 | N3: =IF($M$1=Tableau1[[#This Row],[année de sortie]],Tableau1[[#This Row],[montant BP 2023]],SUM(L3:M3)) -> 100000 | O3: =IF($O$1=Tableau1[[#This Row],[année d''entrée]],IF(Tableau1[[#This Row],[année de sortie]]=Tableau1[[#This Row],[année d''entrée]],Tableau1[[#This Row],[Montant estimé année pleine]]*(MATCH(Tableau1[[#This Row],[mois de sortie]],références!$B$3:$B$15,0)-MATCH(Tableau1[[#This Row],[mois d''entrée]],références!$B$3:$B$14,0)+1)/12,Tableau1[[#This Row],[Montant estimé année pleine]]*(13-MATCH(Tableau1[[#This Row],[mois d''entrée]],références!$B$3:$B$14,0))/12),IF($O$1=Tableau1[[#This Row],[année de sortie]],IF(Tableau1[[#This Row],[coût annuel 2024]]=Tableau1[[#This Row],[Montant estimé année pleine]],-Tableau1[[#This Row],[Montant estimé année pleine]]*(13-MATCH(Tableau1[[#This Row],[mois de sortie]],références!$B$3:$B$14,0))/12,Tableau1[[#This Row],[Montant estimé année pleine]]-Tableau1[[#This Row],[coût annuel 2024]]),IF($O$1=Tableau1[[#This Row],[année de sortie]]+1,-Tableau1[[#This Row],[coût annuel 2024]],IF(AND(Tableau1[[#This Row],[année d''entrée]]<$O$1,$O$1<Tableau1[[#This Row],[année de sortie]]),Tableau1[[#This Row],[Montant estimé année pleine]]-Tableau1[[#This Row],[coût annuel 2024]],IF(SUM(Tableau1[[#This Row],[coût annuel 2023]:[montant BP 2024]])=0,0,Tableau1[[#This Row],[Montant estimé année pleine]]-Tableau1[[#This Row],[coût annuel 2024]]))))) -> -25000 | P3: =IF($I$1=Tableau1[[#This Row],[année de sortie]],Tableau1[[#This Row],[montant BP 2025]],SUM(N3:O3)) -> 75000 | Q3: =IF($Q$1=Tableau1[[#This Row],[année d''entrée]],IF(Tableau1[[#This Row],[année de sortie]]=Tableau1[[#This Row],[année d''entrée]],Tableau1[[#This Row],[Montant estimé année pleine]]*(MATCH(Tableau1[[#This Row],[mois de sortie]],références!$B$3:$B$15,0)-MATCH(Tableau1[[#This Row],[mois d''entrée]],références!$B$3:$B$14,0)+1)/12,Tableau1[[#This Row],[Montant estimé année pleine]]*(13-MATCH(Tableau1[[#This Row],[mois d''entrée]],références!$B$3:$B$14,0))/12),IF($Q$1=Tableau1[[#This Row],[année de sortie]],IF(Tableau1[[#This Row],[coût annuel 2025]]=Tableau1[[#This Row],[Montant estimé année pleine]],-Tableau1[[#This Row],[Montant estimé année pleine]]*(13-MATCH(Tableau1[[#This Row],[mois de sortie]],références!$B$3:$B$14,0))/12,Tableau1[[#This Row],[Montant estimé année pleine]]-Tableau1[[#This Row],[coût annuel 2025]]),IF($Q$1=Tableau1[[#This Row],[année de sortie]]+1,-Tableau1[[#This Row],[coût annuel 2025]],IF(AND(Tableau1[[#This Row],[année d''entrée]]<$Q$1,$Q$1<Tableau1[[#This Row],[année de sortie]]),Tableau1[[#This Row],[Montant estimé année pleine]]-Tableau1[[#This Row],[coût annuel 2025]],IF(SUM(Tableau1[[#This Row],[coût annuel 2024]:[montant BP 2025]])=0,0,Tableau1[[#This Row],[Montant estimé année pleine]]-Tableau1[[#This Row],[coût annuel 2025]]))))) -> -75000 | R3: =IF($I$1=Tableau1[[#This Row],[année de sortie]],Tableau1[[#This Row],[montant BP 2026]],SUM(P3:Q3)) -> 0 | S3: =IF($S$1=Tableau1[[#This Row],[année d''entrée]],IF(Tableau1[[#This Row],[année de sortie]]=Tableau1[[#This Row],[année d''entrée]],Tableau1[[#This Row],[Montant estimé année pleine]]*(MATCH(Tableau1[[#This Row],[mois de sortie]],références!$B$3:$B$15,0)-MATCH(Tableau1[[#This Row],[mois d''entrée]],références!$B$3:$B$14,0)+1)/12,Tableau1[[#This Row],[Montant estimé année pleine]]*(13-MATCH(Tableau1[[#This Row],[mois d''entrée]],références!$B$3:$B$14,0))/12),IF($S$1=Tableau1[[#This Row],[année de sortie]],IF(Tableau1[[#This Row],[coût annuel 2026]]=Tableau1[[#This Row],[Montant estimé année pleine]],-Tableau1[[#This Row],[Montant estimé année pleine]]*(13-MATCH(Tableau1[[#This Row],[mois de sortie]],références!$B$3:$B$14,0))/12,Tableau1[[#This Row],[Montant estimé année pleine]]-Tableau1[[#This Row],[coût annuel 2026]]),IF($S$1=Tableau1[[#This Row],[année de sortie]]+1,-Tableau1[[#This Row],[coût annuel 2026]],IF(AND(Tableau1[[#This Row],[année d''entrée]]<$S$1,$S$1<Tableau1[[#This Row],[année de sortie]]),Tableau1[[#This Row],[Montant estimé année pleine]]-Tableau1[[#This Row],[coût annuel 2026]],IF(SUM(Tableau1[[#This Row],[coût annuel 2025]:[montant BP 2026]])=0,0,Tableau1[[#This Row],[Montant estimé année pleine]]-Tableau1[[#This Row],[coût annuel 2026]]))))) -> 0 | T3: =IF($I$1=Tableau1[[#This Row],[année de sortie]],Tableau1[[#This Row],[montant BP 2027]],SUM(R3:S3)) -> 0
B4: 45000 | C4: 2022 | D4: avril | G4: =IF($G$1=Tableau1[[#This Row],[année d''entrée]],IF(Tableau1[[#This Row],[année de sortie]]=Tableau1[[#This Row],[année d''entrée]],Tableau1[[#This Row],[Montant estimé année pleine]]*(MATCH(Tableau1[[#This Row],[mois de sortie]],références!$B$3:$B$15,0)-MATCH(Tableau1[[#This Row],[mois d''entrée]],références!$B$3:$B$14,0)+1)/12,Tableau1[[#This Row],[Montant estimé année pleine]]*(13-MATCH(Tableau1[[#This Row],[mois d''entrée]],références!$B$3:$B$14,0))/12),IF($G$1=Tableau1[[#This Row],[année de sortie]],-Tableau1[[#This Row],[Montant estimé année pleine]]*(13-MATCH(Tableau1[[#This Row],[mois de sortie]],références!$B$3:$B$14,0))/12,0)) -> 0 | H4: =SUM(F4:G4) -> 0 | I4: =IF($I$1=Tableau1[[#This Row],[année d''entrée]],IF(Tableau1[[#This Row],[année de sortie]]=Tableau1[[#This Row],[année d''entrée]],Tableau1[[#This Row],[Montant estimé année pleine]]*(MATCH(Tableau1[[#This Row],[mois de sortie]],références!$B$3:$B$15,0)-MATCH(Tableau1[[#This Row],[mois d''entrée]],références!$B$3:$B$14,0)+1)/12,Tableau1[[#This Row],[Montant estimé année pleine]]*(13-MATCH(Tableau1[[#This Row],[mois d''entrée]],références!$B$3:$B$14,0))/12),IF($I$1=Tableau1[[#This Row],[année de sortie]],IF(Tableau1[[#This Row],[coût annuel 2021]]=Tableau1[[#This Row],[Montant estimé année pleine]],-Tableau1[[#This Row],[Montant estimé année pleine]]*(13-MATCH(Tableau1[[#This Row],[mois de sortie]],références!$B$3:$B$14,0))/12,Tableau1[[#This Row],[Montant estimé année pleine]]-Tableau1[[#This Row],[coût annuel 2021]]),IF($I$1=Tableau1[[#This Row],[année de sortie]]+1,-Tableau1[[#This Row],[coût annuel 2021]],IF(AND(Tableau1[[#This Row],[année d''entrée]]<$I$1,$I$1<Tableau1[[#This Row],[année de sortie]]),Tableau1[[#This Row],[Montant estimé année pleine]]-Tableau1[[#This Row],[coût annuel 2021]],IF(SUM(F4:G4)=0,0,Tableau1[[#This Row],[Montant estimé année pleine]]-Tableau1[[#This Row],[coût annuel 2021]]))))) -> 33750 | J4: =IF($I$1=Tableau1[[#This Row],[année de sortie]],Tableau1[[#This Row],[montant BP 2022]],SUM(H4:I4)) -> 33750 | K4: =IF($K$1=Tableau1[[#This Row],[année d''entrée]],IF(Tableau1[[#This Row],[année de sortie]]=Tableau1[[#This Row],[année d''entrée]],Tableau1[[#This Row],[Montant estimé année pleine]]*(MATCH(Tableau1[[#This Row],[mois de sortie]],références!$B$3:$B$15,0)-MATCH(Tableau1[[#This Row],[mois d''entrée]],références!$B$3:$B$14,0)+1)/12,Tableau1[[#This Row],[Montant estimé année pleine]]*(13-MATCH(Tableau1[[#This Row],[mois d''entrée]],références!$B$3:$B$14,0))/12),IF($K$1=Tableau1[[#This Row],[année de sortie]],IF(Tableau1[[#This Row],[coût annuel 2022]]=Tableau1[[#This Row],[Montant estimé année pleine]],-Tableau1[[#This Row],[Montant estimé année pleine]]*(13-MATCH(Tableau1[[#This Row],[mois de sortie]],références!$B$3:$B$14,0))/12,Tableau1[[#This Row],[Montant estimé année pleine]]-Tableau1[[#This Row],[coût annuel 2022]]),IF($K$1=Tableau1[[#This Row],[année de sortie]]+1,-Tableau1[[#This Row],[coût annuel 2022]],IF(AND(Tableau1[[#This Row],[année d''entrée]]<$K$1,$K$1<Tableau1[[#This Row],[année de sortie]]),Tableau1[[#This Row],[Montant estimé année pleine]]-Tableau1[[#This Row],[coût annuel 2022]],IF(SUM(Tableau1[[#This Row],[coût annuel 2021]:[montant BP 2022]])=0,0,Tableau1[[#This Row],[Montant estimé année pleine]]-Tableau1[[#This Row],[coût annuel 2022]]))))) -> 11250 | L4: =IF($K$1=Tableau1[[#This Row],[année de sortie]],Tableau1[[#This Row],[montant BP 2023]],SUM(J4:K4)) -> 45000 | M4: =IF($M$1=Tableau1[[#This Row],[année d''entrée]],IF(Tableau1[[#This Row],[année de sortie]]=Tableau1[[#This Row],[année d''entrée]],Tableau1[[#This Row],[Montant estimé année pleine]]*(MATCH(Tableau1[[#This Row],[mois de sortie]],références!$B$3:$B$15,0)-MATCH(Tableau1[[#This Row],[mois d''entrée]],références!$B$3:$B$14,0)+1)/12,Tableau1[[#This Row],[Montant estimé année pleine]]*(13-MATCH(Tableau1[[#This Row],[mois d''entrée]],références!$B$3:$B$14,0))/12),IF($M$1=Tableau1[[#This Row],[année de sortie]],IF(Tableau1[[#This Row],[coût annuel 2023]]=Tableau1[[#This Row],[Montant estimé année pleine]],-Tableau1[[#This Row],[Montant estimé année pleine]]*(13-MATCH(Tableau1[[#This Row],[mois de sortie]],références!$B$3:$B$14,0))/12,Tableau1[[#This Row],[Montant estimé année pleine]]-Tableau1[[#This Row],[coût annuel 2023]]),IF($M$1=Tableau1[[#This Row],[année de sortie]]+1,-Tableau1[[#This Row],[coût annuel 2023]],IF(AND(Tableau1[[#This Row],[année d''entrée]]<$M$1,$M$1<Tableau1[[#This Row],[année de sortie]]),Tableau1[[#This Row],[Montant estimé année pleine]]-Tableau1[[#This Row],[coût annuel 2023]],IF(SUM(Tableau1[[#This Row],[coût annuel 2022]:[montant BP 2023]])=0,0,Tableau1[[#This Row],[Montant estimé année pleine]]-Tableau1[[#This Row],[coût annuel 2023]]))))) -> 0 | N4: =IF($M$1=Tableau1[[#This Row],[année de sortie]],Tableau1[[#This Row],[montant BP 2023]],SUM(L4:M4)) -> 45000 | O4: =IF($O$1=Tableau1[[#This Row],[année d''entrée]],IF(Tableau1[[#This Row],[année de sortie]]=Tableau1[[#This Row],[année d''entrée]],Tableau1[[#This Row],[Montant estimé année pleine]]*(MATCH(Tableau1[[#This Row],[mois de sortie]],références!$B$3:$B$15,0)-MATCH(Tableau1[[#This Row],[mois d''entrée]],références!$B$3:$B$14,0)+1)/12,Tableau1[[#This Row],[Montant estimé année pleine]]*(13-MATCH(Tableau1[[#This Row],[mois d''entrée]],références!$B$3:$B$14,0))/12),IF($O$1=Tableau1[[#This Row],[année de sortie]],IF(Tableau1[[#This Row],[coût annuel 2024]]=Tableau1[[#This Row],[Montant estimé année pleine]],-Tableau1[[#This Row],[Montant estimé année pleine]]*(13-MATCH(Tableau1[[#This Row],[mois de sortie]],références!$B$3:$B$14,0))/12,Tableau1[[#This Row],[Montant estimé année pleine]]-Tableau1[[#This Row],[coût annuel 2024]]),IF($O$1=Tableau1[[#This Row],[année de sortie]]+1,-Tableau1[[#This Row],[coût annuel 2024]],IF(AND(Tableau1[[#This Row],[année d''entrée]]<$O$1,$O$1<Tableau1[[#This Row],[année de sortie]]),Tableau1[[#This Row],[Montant estimé année pleine]]-Tableau1[[#This Row],[coût annuel 2024]],IF(SUM(Tableau1[[#This Row],[coût annuel 2023]:[montant BP 2024]])=0,0,Tableau1[[#This Row],[Montant estimé année pleine]]-Tableau1[[#This Row],[coût annuel 2024]]))))) -> 0 | P4: =IF($I$1=Tableau1[[#This Row],[année de sortie]],Tableau1[[#This Row],[montant BP 2025]],SUM(N4:O4)) -> 45000 | Q4: =IF($Q$1=Tableau1[[#This Row],[année d''entrée]],IF(Tableau1[[#This Row],[année de sortie]]=Tableau1[[#This Row],[année d''entrée]],Tableau1[[#This Row],[Montant estimé année pleine]]*(MATCH(Tableau1[[#This Row],[mois de sortie]],références!$B$3:$B$15,0)-MATCH(Tableau1[[#This Row],[mois d''entrée]],références!$B$3:$B$14,0)+1)/12,Tableau1[[#This Row],[Montant estimé année pleine]]*(13-MATCH(Tableau1[[#This Row],[mois d''entrée]],références!$B$3:$B$14,0))/12),IF($Q$1=Tableau1[[#This Row],[année de sortie]],IF(Tableau1[[#This Row],[coût annuel 2025]]=Tableau1[[#This Row],[Montant estimé année pleine]],-Tableau1[[#This Row],[Montant estimé année pleine]]*(13-MATCH(Tableau1[[#This Row],[mois de sortie]],références!$B$3:$B$14,0))/12,Tableau1[[#This Row],[Montant estimé année pleine]]-Tableau1[[#This Row],[coût annuel 2025]]),IF($Q$1=Tableau1[[#This Row],[année de sortie]]+1,-Tableau1[[#This Row],[coût annuel 2025]],IF(AND(Tableau1[[#This Row],[année d''entrée]]<$Q$1,$Q$1<Tableau1[[#This Row],[année de sortie]]),Tableau1[[#This Row],[Montant estimé année pleine]]-Tableau1[[#This Row],[coût annuel 2025]],IF(SUM(Tableau1[[#This Row],[coût annuel 2024]:[montant BP 2025]])=0,0,Tableau1[[#This Row],[Montant estimé année pleine]]-Tableau1[[#This Row],[coût annuel 2025]]))))) -> 0 | R4: =IF($I$1=Tableau1[[#This Row],[année de sortie]],Tableau1[[#This Row],[montant BP 2026]],SUM(P4:Q4)) -> 45000 | S4: =IF($S$1=Tableau1[[#This Row],[année d''entrée]],IF(Tableau1[[#This Row],[année de sortie]]=Tableau1[[#This Row],[année d''entrée]],Tableau1[[#This Row],[Montant estimé année pleine]]*(MATCH(Tableau1[[#This Row],[mois de sortie]],références!$B$3:$B$15,0)-MATCH(Tableau1[[#This Row],[mois d''entrée]],références!$B$3:$B$14,0)+1)/12,Tableau1[[#This Row],[Montant estimé année pleine]]*(13-MATCH(Tableau1[[#This Row],[mois d''entrée]],références!$B$3:$B$14,0))/12),IF($S$1=Tableau1[[#This Row],[année de sortie]],IF(Tableau1[[#This Row],[coût annuel 2026]]=Tableau1[[#This Row],[Montant estimé année pleine]],-Tableau1[[#This Row],[Montant estimé année pleine]]*(13-MATCH(Tableau1[[#This Row],[mois de sortie]],références!$B$3:$B$14,0))/12,Tableau1[[#This Row],[Montant estimé année pleine]]-Tableau1[[#This Row],[coût annuel 2026]]),IF($S$1=Tableau1[[#This Row],[année de sortie]]+1,-Tableau1[[#This Row],[coût annuel 2026]],IF(AND(Tableau1[[#This Row],[année d''entrée]]<$S$1,$S$1<Tableau1[[#This Row],[année de sortie]]),Tableau1[[#This Row],[Montant estimé année pleine]]-Tableau1[[#This Row],[coût annuel 2026]],IF(SUM(Tableau1[[#This Row],[coût annuel 2025]:[montant BP 2026]])=0,0,Tableau1[[#This Row],[Montant estimé année pleine]]-Tableau1[[#This Row],[coût annuel 2026]]))))) -> 0 | T4: =IF($I$1=Tableau1[[#This Row],[année de sortie]],Tableau1[[#This Row],[montant BP 2027]],SUM(R4:S4)) -> 45000
B5: 75000 | C5: 2021 | D5: juillet | E5: 2025 | F5: juillet | G5: =IF($G$1=Tableau1[[#This Row],[année d''entrée]],IF(Tableau1[[#This Row],[année de sortie]]=Tableau1[[#This Row],[année d''entrée]],Tableau1[[#This Row],[Montant estimé année pleine]]*(MATCH(Tableau1[[#This Row],[mois de sortie]],références!$B$3:$B$15,0)-MATCH(Tableau1[[#This Row],[mois d''entrée]],références!$B$3:$B$14,0)+1)/12,Tableau1[[#This Row],[Montant estimé année pleine]]*(13-MATCH(Tableau1[[#This Row],[mois d''entrée]],références!$B$3:$B$14,0))/12),IF($G$1=Tableau1[[#This Row],[année de sortie]],-Tableau1[[#This Row],[Montant estimé année pleine]]*(13-MATCH(Tableau1[[#This Row],[mois de sortie]],références!$B$3:$B$14,0))/12,0)) -> 37500 | H5: =SUM(F5:G5) -> 37500 | I5: =IF($I$1=Tableau1[[#This Row],[année d''entrée]],IF(Tableau1[[#This Row],[année de sortie]]=Tableau1[[#This Row],[année d''entrée]],Tableau1[[#This Row],[Montant estimé année pleine]]*(MATCH(Tableau1[[#This Row],[mois de sortie]],références!$B$3:$B$15,0)-MATCH(Tableau1[[#This Row],[mois d''entrée]],références!$B$3:$B$14,0)+1)/12,Tableau1[[#This Row],[Montant estimé année pleine]]*(13-MATCH(Tableau1[[#This Row],[mois d''entrée]],références!$B$3:$B$14,0))/12),IF($I$1=Tableau1[[#This Row],[année de sortie]],IF(Tableau1[[#This Row],[coût annuel 2021]]=Tableau1[[#This Row],[Montant estimé année pleine]],-Tableau1[[#This Row],[Montant estimé année pleine]]*(13-MATCH(Tableau1[[#This Row],[mois de sortie]],références!$B$3:$B$14,0))/12,Tableau1[[#This Row],[Montant estimé année pleine]]-Tableau1[[#This Row],[coût annuel 2021]]),IF($I$1=Tableau1[[#This Row],[année de sortie]]+1,-Tableau1[[#This Row],[coût annuel 2021]],IF(AND(Tableau1[[#This Row],[année d''entrée]]<$I$1,$I$1<Tableau1[[#This Row],[année de sortie]]),Tableau1[[#This Row],[Montant estimé année pleine]]-Tableau1[[#This Row],[coût annuel 2021]],IF(SUM(F5:G5)=0,0,Tableau1[[#This Row],[Montant estimé année pleine]]-Tableau1[[#This Row],[coût annuel 2021]]))))) -> 37500 | J5: =IF($I$1=Tableau1[[#This Row],[année de sortie]],Tableau1[[#This Row],[montant BP 2022]],SUM(H5:I5)) -> 75000 | K5: =IF($K$1=Tableau1[[#This Row],[année d''entrée]],IF(Tableau1[[#This Row],[année de sortie]]=Tableau1[[#This Row],[année d''entrée]],Tableau1[[#This Row],[Montant estimé année pleine]]*(MATCH(Tableau1[[#This Row],[mois de sortie]],références!$B$3:$B$15,0)-MATCH(Tableau1[[#This Row],[mois d''entrée]],références!$B$3:$B$14,0)+1)/12,Tableau1[[#This Row],[Montant estimé année pleine]]*(13-MATCH(Tableau1[[#This Row],[mois d''entrée]],références!$B$3:$B$14,0))/12),IF($K$1=Tableau1[[#This Row],[année de sortie]],IF(Tableau1[[#This Row],[coût annuel 2022]]=Tableau1[[#This Row],[Montant estimé année pleine]],-Tableau1[[#This Row],[Montant estimé année pleine]]*(13-MATCH(Tableau1[[#This Row],[mois de sortie]],références!$B$3:$B$14,0))/12,Tableau1[[#This Row],[Montant estimé année pleine]]-Tableau1[[#This Row],[coût annuel 2022]]),IF($K$1=Tableau1[[#This Row],[année de sortie]]+1,-Tableau1[[#This Row],[coût annuel 2022]],IF(AND(Tableau1[[#This Row],[année d''entrée]]<$K$1,$K$1<Tableau1[[#This Row],[année de sortie]]),Tableau1[[#This Row],[Montant estimé année pleine]]-Tableau1[[#This Row],[coût annuel 2022]],IF(SUM(Tableau1[[#This Row],[coût annuel 2021]:[montant BP 2022]])=0,0,Tableau1[[#This Row],[Montant estimé année pleine]]-Tableau1[[#This Row],[coût annuel 2022]]))))) -> 0 | L5: =IF($K$1=Tableau1[[#This Row],[année de sortie]],Tableau1[[#This Row],[montant BP 2023]],SUM(J5:K5)) -> 75000 | M5: =IF($M$1=Tableau1[[#This Row],[année d''entrée]],IF(Tableau1[[#This Row],[année de sortie]]=Tableau1[[#This Row],[année d''entrée]],Tableau1[[#This Row],[Montant estimé année pleine]]*(MATCH(Tableau1[[#This Row],[mois de sortie]],références!$B$3:$B$15,0)-MATCH(Tableau1[[#This Row],[mois d''entrée]],références!$B$3:$B$14,0)+1)/12,Tableau1[[#This Row],[Montant estimé année pleine]]*(13-MATCH(Tableau1[[#This Row],[mois d''entrée]],références!$B$3:$B$14,0))/12),IF($M$1=Tableau1[[#This Row],[année de sortie]],IF(Tableau1[[#This Row],[coût annuel 2023]]=Tableau1[[#This Row],[Montant estimé année pleine]],-Tableau1[[#This Row],[Montant estimé année pleine]]*(13-MATCH(Tableau1[[#This Row],[mois de sortie]],références!$B$3:$B$14,0))/12,Tableau1[[#This Row],[Montant estimé année pleine]]-Tableau1[[#This Row],[coût annuel 2023]]),IF($M$1=Tableau1[[#This Row],[année de sortie]]+1,-Tableau1[[#This Row],[coût annuel 2023]],IF(AND(Tableau1[[#This Row],[année d''entrée]]<$M$1,$M$1<Tableau1[[#This Row],[année de sortie]]),Tableau1[[#This Row],[Montant estimé année pleine]]-Tableau1[[#This Row],[coût annuel 2023]],IF(SUM(Tableau1[[#This Row],[coût annuel 2022]:[montant BP 2023]])=0,0,Tableau1[[#This Row],[Montant estimé année pleine]]-Tableau1[[#This Row],[coût annuel 2023]]))))) -> 0 | N5: =IF($M$1=Tableau1[[#This Row],[année de sortie]],Tableau1[[#This Row],[montant BP 2023]],SUM(L5:M5)) -> 75000 | O5: =IF($O$1=Tableau1[[#This Row],[année d''entrée]],IF(Tableau1[[#This Row],[année de sortie]]=Tableau1[[#This Row],[année d''entrée]],Tableau1[[#This Row],[Montant estimé année pleine]]*(MATCH(Tableau1[[#This Row],[mois de sortie]],références!$B$3:$B$15,0)-MATCH(Tableau1[[#This Row],[mois d''entrée]],références!$B$3:$B$14,0)+1)/12,Tableau1[[#This Row],[Montant estimé année pleine]]*(13-MATCH(Tableau1[[#This Row],[mois d''entrée]],références!$B$3:$B$14,0))/12),IF($O$1=Tableau1[[#This Row],[année de sortie]],IF(Tableau1[[#This Row],[coût annuel 2024]]=Tableau1[[#This Row],[Montant estimé année pleine]],-Tableau1[[#This Row],[Montant estimé année pleine]]*(13-MATCH(Tableau1[[#This Row],[mois de sortie]],références!$B$3:$B$14,0))/12,Tableau1[[#This Row],[Montant estimé année pleine]]-Tableau1[[#This Row],[coût annuel 2024]]),IF($O$1=Tableau1[[#This Row],[année de sortie]]+1,-Tableau1[[#This Row],[coût annuel 2024]],IF(AND(Tableau1[[#This Row],[année d''entrée]]<$O$1,$O$1<Tableau1[[#This Row],[année de sortie]]),Tableau1[[#This Row],[Montant estimé année pleine]]-Tableau1[[#This Row],[coût annuel 2024]],IF(SUM(Tableau1[[#This Row],[coût annuel 2023]:[montant BP 2024]])=0,0,Tableau1[[#This Row],[Montant estimé année pleine]]-Tableau1[[#This Row],[coût annuel 2024]]))))) -> -37500 | P5: =IF($I$1=Tableau1[[#This Row],[année de sortie]],Tableau1[[#This Row],[montant BP 2025]],SUM(N5:O5)) -> 37500 | Q5: =IF($Q$1=Tableau1[[#This Row],[année d''entrée]],IF(Tableau1[[#This Row],[année de sortie]]=Tableau1[[#This Row],[année d''entrée]],Tableau1[[#This Row],[Montant estimé année pleine]]*(MATCH(Tableau1[[#This Row],[mois de sortie]],références!$B$3:$B$15,0)-MATCH(Tableau1[[#This Row],[mois d''entrée]],références!$B$3:$B$14,0)+1)/12,Tableau1[[#This Row],[Montant estimé année pleine]]*(13-MATCH(Tableau1[[#This Row],[mois d''entrée]],références!$B$3:$B$14,0))/12),IF($Q$1=Tableau1[[#This Row],[année de sortie]],IF(Tableau1[[#This Row],[coût annuel 2025]]=Tableau1[[#This Row],[Montant estimé année pleine]],-Tableau1[[#This Row],[Montant estimé année pleine]]*(13-MATCH(Tableau1[[#This Row],[mois de sortie]],références!$B$3:$B$14,0))/12,Tableau1[[#This Row],[Montant estimé année pleine]]-Tableau1[[#This Row],[coût annuel 2025]]),IF($Q$1=Tableau1[[#This Row],[année de sortie]]+1,-Tableau1[[#This Row],[coût annuel 2025]],IF(AND(Tableau1[[#This Row],[année d''entrée]]<$Q$1,$Q$1<Tableau1[[#This Row],[année de sortie]]),Tableau1[[#This Row],[Montant estimé année pleine]]-Tableau1[[#This Row],[coût annuel 2025]],IF(SUM(Tableau1[[#This Row],[coût annuel 2024]:[montant BP 2025]])=0,0,Tableau1[[#This Row],[Montant estimé année pleine]]-Tableau1[[#This Row],[coût annuel 2025]]))))) -> -37500 | R5: =IF($I$1=Tableau1[[#This Row],[année de sortie]],Tableau1[[#This Row],[montant BP 2026]],SUM(P5:Q5)) -> 0 | S5: =IF($S$1=Tableau1[[#This Row],[année d''entrée]],IF(Tableau1[[#This Row],[année de sortie]]=Tableau1[[#This Row],[année d''entrée]],Tableau1[[#This Row],[Montant estimé année pleine]]*(MATCH(Tableau1[[#This Row],[mois de sortie]],références!$B$3:$B$15,0)-MATCH(Tableau1[[#This Row],[mois d''entrée]],références!$B$3:$B$14,0)+1)/12,Tableau1[[#This Row],[Montant estimé année pleine]]*(13-MATCH(Tableau1[[#This Row],[mois d''entrée]],références!$B$3:$B$14,0))/12),IF($S$1=Tableau1[[#This Row],[année de sortie]],IF(Tableau1[[#This Row],[coût annuel 2026]]=Tableau1[[#This Row],[Montant estimé année pleine]],-Tableau1[[#This Row],[Montant estimé année pleine]]*(13-MATCH(Tableau1[[#This Row],[mois de sortie]],références!$B$3:$B$14,0))/12,Tableau1[[#This Row],[Montant estimé année pleine]]-Tableau1[[#This Row],[coût annuel 2026]]),IF($S$1=Tableau1[[#This Row],[année de sortie]]+1,-Tableau1[[#This Row],[coût annuel 2026]],IF(AND(Tableau1[[#This Row],[année d''entrée]]<$S$1,$S$1<Tableau1[[#This Row],[année de sortie]]),Tableau1[[#This Row],[Montant estimé année pleine]]-Tableau1[[#This Row],[coût annuel 2026]],IF(SUM(Tableau1[[#This Row],[coût annuel 2025]:[montant BP 2026]])=0,0,Tableau1[[#This Row],[Montant estimé année pleine]]-Tableau1[[#This Row],[coût annuel 2026]]))))) -> 0 | T5: =IF($I$1=Tableau1[[#This Row],[année de sortie]],Tableau1[[#This Row],[montant BP 2027]],SUM(R5:S5)) -> 0
B6: 86000 | C6: 2021 | D6: mai | E6: 2022 | F6: mai | G6: =IF($G$1=Tableau1[[#This Row],[année d''entrée]],IF(Tableau1[[#This Row],[année de sortie]]=Tableau1[[#This Row],[année d''entrée]],Tableau1[[#This Row],[Montant estimé année pleine]]*(MATCH(Tableau1[[#This Row],[mois de sortie]],références!$B$3:$B$15,0)-MATCH(Tableau1[[#This Row],[mois d''entrée]],références!$B$3:$B$14,0)+1)/12,Tableau1[[#This Row],[Montant estimé année pleine]]*(13-MATCH(Tableau1[[#This Row],[mois d''entrée]],références!$B$3:$B$14,0))/12),IF($G$1=Tableau1[[#This Row],[année de sortie]],-Tableau1[[#This Row],[Montant estimé année pleine]]*(13-MATCH(Tableau1[[#This Row],[mois de sortie]],références!$B$3:$B$14,0))/12,0)) -> 57333.333 | H6: =SUM(F6:G6) -> 57333.333 | I6: =IF($I$1=Tableau1[[#This Row],[année d''entrée]],IF(Tableau1[[#This Row],[année de sortie]]=Tableau1[[#This Row],[année d''entrée]],Tableau1[[#This Row],[Montant estimé année pleine]]*(MATCH(Tableau1[[#This Row],[mois de sortie]],références!$B$3:$B$15,0)-MATCH(Tableau1[[#This Row],[mois d''entrée]],références!$B$3:$B$14,0)+1)/12,Tableau1[[#This Row],[Montant estimé année pleine]]*(13-MATCH(Tableau1[[#This Row],[mois d''entrée]],références!$B$3:$B$14,0))/12),IF($I$1=Tableau1[[#This Row],[année de sortie]],IF(Tableau1[[#This Row],[coût annuel 2021]]=Tableau1[[#This Row],[Montant estimé année pleine]],-Tableau1[[#This Row],[Montant estimé année pleine]]*(13-MATCH(Tableau1[[#This Row],[mois de sortie]],références!$B$3:$B$14,0))/12,Tableau1[[#This Row],[Montant estimé année pleine]]-Tableau1[[#This Row],[coût annuel 2021]]),IF($I$1=Tableau1[[#This Row],[année de sortie]]+1,-Tableau1[[#This Row],[coût annuel 2021]],IF(AND(Tableau1[[#This Row],[année d''entrée]]<$I$1,$I$1<Tableau1[[#This Row],[année de sortie]]),Tableau1[[#This Row],[Montant estimé année pleine]]-Tableau1[[#This Row],[coût annuel 2021]],IF(SUM(F6:G6)=0,0,Tableau1[[#This Row],[Montant estimé année pleine]]-Tableau1[[#This Row],[coût annuel 2021]]))))) -> 28666.667 | J6: =IF($I$1=Tableau1[[#This Row],[année de sortie]],Tableau1[[#This Row],[montant BP 2022]],SUM(H6:I6)) -> 28666.667 | K6: =IF($K$1=Tableau1[[#This Row],[année d''entrée]],IF(Tableau1[[#This Row],[année de sortie]]=Tableau1[[#This Row],[année d''entrée]],Tableau1[[#This Row],[Montant estimé année pleine]]*(MATCH(Tableau1[[#This Row],[mois de sortie]],références!$B$3:$B$15,0)-MATCH(Tableau1[[#This Row],[mois d''entrée]],références!$B$3:$B$14,0)+1)/12,Tableau1[[#This Row],[Montant estimé année pleine]]*(13-MATCH(Tableau1[[#This Row],[mois d''entrée]],références!$B$3:$B$14,0))/12),IF($K$1=Tableau1[[#This Row],[année de sortie]],IF(Tableau1[[#This Row],[coût annuel 2022]]=Tableau1[[#This Row],[Montant estimé année pleine]],-Tableau1[[#This Row],[Montant estimé année pleine]]*(13-MATCH(Tableau1[[#This Row],[mois de sortie]],références!$B$3:$B$14,0))/12,Tableau1[[#This Row],[Montant estimé année pleine]]-Tableau1[[#This Row],[coût annuel 2022]]),IF($K$1=Tableau1[[#This Row],[année de sortie]]+1,-Tableau1[[#This Row],[coût annuel 2022]],IF(AND(Tableau1[[#This Row],[année d''entrée]]<$K$1,$K$1<Tableau1[[#This Row],[année de sortie]]),Tableau1[[#This Row],[Montant estimé année pleine]]-Tableau1[[#This Row],[coût annuel 2022]],IF(SUM(Tableau1[[#This Row],[coût annuel 2021]:[montant BP 2022]])=0,0,Tableau1[[#This Row],[Montant estimé année pleine]]-Tableau1[[#This Row],[coût annuel 2022]]))))) -> -28666.667 | L6: =IF($K$1=Tableau1[[#This Row],[année de sortie]],Tableau1[[#This Row],[montant BP 2023]],SUM(J6:K6)) -> 0 | M6: =IF($M$1=Tableau1[[#This Row],[année d''entrée]],IF(Tableau1[[#This Row],[année de sortie]]=Tableau1[[#This Row],[année d''entrée]],Tableau1[[#This Row],[Montant estimé année pleine]]*(MATCH(Tableau1[[#This Row],[mois de sortie]],références!$B$3:$B$15,0)-MATCH(Tableau1[[#This Row],[mois d''entrée]],références!$B$3:$B$14,0)+1)/12,Tableau1[[#This Row],[Montant estimé année pleine]]*(13-MATCH(Tableau1[[#This Row],[mois d''entrée]],références!$B$3:$B$14,0))/12),IF($M$1=Tableau1[[#This Row],[année de sortie]],IF(Tableau1[[#This Row],[coût annuel 2023]]=Tableau1[[#This Row],[Montant estimé année pleine]],-Tableau1[[#This Row],[Montant estimé année pleine]]*(13-MATCH(Tableau1[[#This Row],[mois de sortie]],références!$B$3:$B$14,0))/12,Tableau1[[#This Row],[Montant estimé année pleine]]-Tableau1[[#This Row],[coût annuel 2023]]),IF($M$1=Tableau1[[#This Row],[année de sortie]]+1,-Tableau1[[#This Row],[coût annuel 2023]],IF(AND(Tableau1[[#This Row],[année d''entrée]]<$M$1,$M$1<Tableau1[[#This Row],[année de sortie]]),Tableau1[[#This Row],[Montant estimé année pleine]]-Tableau1[[#This Row],[coût annuel 2023]],IF(SUM(Tableau1[[#This Row],[coût annuel 2022]:[montant BP 2023]])=0,0,Tableau1[[#This Row],[Montant estimé année pleine]]-Tableau1[[#This Row],[coût annuel 2023]]))))) -> 0 | N6: =IF($M$1=Tableau1[[#This Row],[année de sortie]],Tableau1[[#This Row],[montant BP 2023]],SUM(L6:M6)) -> 0 | O6: =IF($O$1=Tableau1[[#This Row],[année d''entrée]],IF(Tableau1[[#This Row],[année de sortie]]=Tableau1[[#This Row],[année d''entrée]],Tableau1[[#This Row],[Montant estimé année pleine]]*(MATCH(Tableau1[[#This Row],[mois de sortie]],références!$B$3:$B$15,0)-MATCH(Tableau1[[#This Row],[mois d''entrée]],références!$B$3:$B$14,0)+1)/12,Tableau1[[#This Row],[Montant estimé année pleine]]*(13-MATCH(Tableau1[[#This Row],[mois d''entrée]],références!$B$3:$B$14,0))/12),IF($O$1=Tableau1[[#This Row],[année de sortie]],IF(Tableau1[[#This Row],[coût annuel 2024]]=Tableau1[[#This Row],[Montant estimé année pleine]],-Tableau1[[#This Row],[Montant estimé année pleine]]*(13-MATCH(Tableau1[[#This Row],[mois de sortie]],références!$B$3:$B$14,0))/12,Tableau1[[#This Row],[Montant estimé année pleine]]-Tableau1[[#This Row],[coût annuel 2024]]),IF($O$1=Tableau1[[#This Row],[année de sortie]]+1,-Tableau1[[#This Row],[coût annuel 2024]],IF(AND(Tableau1[[#This Row],[année d''entrée]]<$O$1,$O$1<Tableau1[[#This Row],[année de sortie]]),Tableau1[[#This Row],[Montant estimé année pleine]]-Tableau1[[#This Row],[coût annuel 2024]],IF(SUM(Tableau1[[#This Row],[coût annuel 2023]:[montant BP 2024]])=0,0,Tableau1[[#This Row],[Montant estimé année pleine]]-Tableau1[[#This Row],[coût annuel 2024]]))))) -> 0 | P6: =IF($I$1=Tableau1[[#This Row],[année de sortie]],Tableau1[[#This Row],[montant BP 2025]],SUM(N6:O6)) -> 0 | Q6: =IF($Q$1=Tableau1[[#This Row],[année d''entrée]],IF(Tableau1[[#This Row],[année de sortie]]=Tableau1[[#This Row],[année d''entrée]],Tableau1[[#This Row],[Montant estimé année pleine]]*(MATCH(Tableau1[[#This Row],[mois de sortie]],références!$B$3:$B$15,0)-MATCH(Tableau1[[#This Row],[mois d''entrée]],références!$B$3:$B$14,0)+1)/12,Tableau1[[#This Row],[Montant estimé année pleine]]*(13-MATCH(Tableau1[[#This Row],[mois d''entrée]],références!$B$3:$B$14,0))/12),IF($Q$1=Tableau1[[#This Row],[année de sortie]],IF(Tableau1[[#This Row],[coût annuel 2025]]=Tableau1[[#This Row],[Montant estimé année pleine]],-Tableau1[[#This Row],[Montant estimé année pleine]]*(13-MATCH(Tableau1[[#This Row],[mois de sortie]],références!$B$3:$B$14,0))/12,Tableau1[[#This Row],[Montant estimé année pleine]]-Tableau1[[#This Row],[coût annuel 2025]]),IF($Q$1=Tableau1[[#This Row],[année de sortie]]+1,-Tableau1[[#This Row],[coût annuel 2025]],IF(AND(Tableau1[[#This Row],[année d''entrée]]<$Q$1,$Q$1<Tableau1[[#This Row],[année de sortie]]),Tableau1[[#This Row],[Montant estimé année pleine]]-Tableau1[[#This Row],[coût annuel 2025]],IF(SUM(Tableau1[[#This Row],[coût annuel 2024]:[montant BP 2025]])=0,0,Tableau1[[#This Row],[Montant estimé année pleine]]-Tableau1[[#This Row],[coût annuel 2025]]))))) -> 0 | R6: =IF($I$1=Tableau1[[#This Row],[année de sortie]],Tableau1[[#This Row],[montant BP 2026]],SUM(P6:Q6)) -> 0 | S6: =IF($S$1=Tableau1[[#This Row],[année d''entrée]],IF(Tableau1[[#This Row],[année de sortie]]=Tableau1[[#This Row],[année d''entrée]],Tableau1[[#This Row],[Montant estimé année pleine]]*(MATCH(Tableau1[[#This Row],[mois de sortie]],références!$B$3:$B$15,0)-MATCH(Tableau1[[#This Row],[mois d''entrée]],références!$B$3:$B$14,0)+1)/12,Tableau1[[#This Row],[Montant estimé année pleine]]*(13-MATCH(Tableau1[[#This Row],[mois d''entrée]],références!$B$3:$B$14,0))/12),IF($S$1=Tableau1[[#This Row],[année de sortie]],IF(Tableau1[[#This Row],[coût annuel 2026]]=Tableau1[[#This Row],[Montant estimé année pleine]],-Tableau1[[#This Row],[Montant estimé année pleine]]*(13-MATCH(Tableau1[[#This Row],[mois de sortie]],références!$B$3:$B$14,0))/12,Tableau1[[#This Row],[Montant estimé année pleine]]-Tableau1[[#This Row],[coût annuel 2026]]),IF($S$1=Tableau1[[#This Row],[année de sortie]]+1,-Tableau1[[#This Row],[coût annuel 2026]],IF(AND(Tableau1[[#This Row],[année d''entrée]]<$S$1,$S$1<Tableau1[[#This Row],[année de sortie]]),Tableau1[[#This Row],[Montant estimé année pleine]]-Tableau1[[#This Row],[coût annuel 2026]],IF(SUM(Tableau1[[#This Row],[coût annuel 2025]:[montant BP 2026]])=0,0,Tableau1[[#This Row],[Montant estimé année pleine]]-Tableau1[[#This Row],[coût annuel 2026]]))))) -> 0 | T6: =IF($I$1=Tableau1[[#This Row],[année de sortie]],Tableau1[[#This Row],[montant BP 2027]],SUM(R6:S6)) -> 0
B7: 50000 | C7: 2022 | D7: mai | G7: =IF($G$1=Tableau1[[#This Row],[année d''entrée]],IF(Tableau1[[#This Row],[année de sortie]]=Tableau1[[#This Row],[année d''entrée]],Tableau1[[#This Row],[Montant estimé année pleine]]*(MATCH(Tableau1[[#This Row],[mois de sortie]],références!$B$3:$B$15,0)-MATCH(Tableau1[[#This Row],[mois d''entrée]],références!$B$3:$B$14,0)+1)/12,Tableau1[[#This Row],[Montant estimé année pleine]]*(13-MATCH(Tableau1[[#This Row],[mois d''entrée]],références!$B$3:$B$14,0))/12),IF($G$1=Tableau1[[#This Row],[année de sortie]],-Tableau1[[#This Row],[Montant estimé année pleine]]*(13-MATCH(Tableau1[[#This Row],[mois de sortie]],références!$B$3:$B$14,0))/12,0)) -> 0 | H7: =SUM(F7:G7) -> 0 | I7: =IF($I$1=Tableau1[[#This Row],[année d''entrée]],IF(Tableau1[[#This Row],[année de sortie]]=Tableau1[[#This Row],[année d''entrée]],Tableau1[[#This Row],[Montant estimé année pleine]]*(MATCH(Tableau1[[#This Row],[mois de sortie]],références!$B$3:$B$15,0)-MATCH(Tableau1[[#This Row],[mois d''entrée]],références!$B$3:$B$14,0)+1)/12,Tableau1[[#This Row],[Montant estimé année pleine]]*(13-MATCH(Tableau1[[#This Row],[mois d''entrée]],références!$B$3:$B$14,0))/12),IF($I$1=Tableau1[[#This Row],[année de sortie]],IF(Tableau1[[#This Row],[coût annuel 2021]]=Tableau1[[#This Row],[Montant estimé année pleine]],-Tableau1[[#This Row],[Montant estimé année pleine]]*(13-MATCH(Tableau1[[#This Row],[mois de sortie]],références!$B$3:$B$14,0))/12,Tableau1[[#This Row],[Montant estimé année pleine]]-Tableau1[[#This Row],[coût annuel 2021]]),IF($I$1=Tableau1[[#This Row],[année de sortie]]+1,-Tableau1[[#This Row],[coût annuel 2021]],IF(AND(Tableau1[[#This Row],[année d''entrée]]<$I$1,$I$1<Tableau1[[#This Row],[année de sortie]]),Tableau1[[#This Row],[Montant estimé année pleine]]-Tableau1[[#This Row],[coût annuel 2021]],IF(SUM(F7:G7)=0,0,Tableau1[[#This Row],[Montant estimé année pleine]]-Tableau1[[#This Row],[coût annuel 2021]]))))) -> 33333.333 | J7: =IF($I$1=Tableau1[[#This Row],[année de sortie]],Tableau1[[#This Row],[montant BP 2022]],SUM(H7:I7)) -> 33333.333 | K7: =IF($K$1=Tableau1[[#This Row],[année d''entrée]],IF(Tableau1[[#This Row],[année de sortie]]=Tableau1[[#This Row],[année d''entrée]],Tableau1[[#This Row],[Montant estimé année pleine]]*(MATCH(Tableau1[[#This Row],[mois de sortie]],références!$B$3:$B$15,0)-MATCH(Tableau1[[#This Row],[mois d''entrée]],références!$B$3:$B$14,0)+1)/12,Tableau1[[#This Row],[Montant estimé année pleine]]*(13-MATCH(Tableau1[[#This Row],[mois d''entrée]],références!$B$3:$B$14,0))/12),IF($K$1=Tableau1[[#This Row],[année de sortie]],IF(Tableau1[[#This Row],[coût annuel 2022]]=Tableau1[[#This Row],[Montant estimé année pleine]],-Tableau1[[#This Row],[Montant estimé année pleine]]*(13-MATCH(Tableau1[[#This Row],[mois de sortie]],références!$B$3:$B$14,0))/12,Tableau1[[#This Row],[Montant estimé année pleine]]-Tableau1[[#This Row],[coût annuel 2022]]),IF($K$1=Tableau1[[#This Row],[année de sortie]]+1,-Tableau1[[#This Row],[coût annuel 2022]],IF(AND(Tableau1[[#This Row],[année d''entrée]]<$K$1,$K$1<Tableau1[[#This Row],[année de sortie]]),Tableau1[[#This Row],[Montant estimé année pleine]]-Tableau1[[#This Row],[coût annuel 2022]],IF(SUM(Tableau1[[#This Row],[coût annuel 2021]:[montant BP 2022]])=0,0,Tableau1[[#This Row],[Montant estimé année pleine]]-Tableau1[[#This Row],[coût annuel 2022]]))))) -> 16666.667 | L7: =IF($K$1=Tableau1[[#This Row],[année de sortie]],Tableau1[[#This Row],[montant BP 2023]],SUM(J7:K7)) -> 50000 | M7: =IF($M$1=Tableau1[[#This Row],[année d''entrée]],IF(Tableau1[[#This Row],[année de sortie]]=Tableau1[[#This Row],[année d''entrée]],Tableau1[[#This Row],[Montant estimé année pleine]]*(MATCH(Tableau1[[#This Row],[mois de sortie]],références!$B$3:$B$15,0)-MATCH(Tableau1[[#This Row],[mois d''entrée]],références!$B$3:$B$14,0)+1)/12,Tableau1[[#This Row],[Montant estimé année pleine]]*(13-MATCH(Tableau1[[#This Row],[mois d''entrée]],références!$B$3:$B$14,0))/12),IF($M$1=Tableau1[[#This Row],[année de sortie]],IF(Tableau1[[#This Row],[coût annuel 2023]]=Tableau1[[#This Row],[Montant estimé année pleine]],-Tableau1[[#This Row],[Montant estimé année pleine]]*(13-MATCH(Tableau1[[#This Row],[mois de sortie]],références!$B$3:$B$14,0))/12,Tableau1[[#This Row],[Montant estimé année pleine]]-Tableau1[[#This Row],[coût annuel 2023]]),IF($M$1=Tableau1[[#This Row],[année de sortie]]+1,-Tableau1[[#This Row],[coût annuel 2023]],IF(AND(Tableau1[[#This Row],[année d''entrée]]<$M$1,$M$1<Tableau1[[#This Row],[année de sortie]]),Tableau1[[#This Row],[Montant estimé année pleine]]-Tableau1[[#This Row],[coût annuel 2023]],IF(SUM(Tableau1[[#This Row],[coût annuel 2022]:[montant BP 2023]])=0,0,Tableau1[[#This Row],[Montant estimé année pleine]]-Tableau1[[#This Row],[coût annuel 2023]]))))) -> 0 | N7: =IF($M$1=Tableau1[[#This Row],[année de sortie]],Tableau1[[#This Row],[montant BP 2023]],SUM(L7:M7)) -> 50000 | O7: =IF($O$1=Tableau1[[#This Row],[année d''entrée]],IF(Tableau1[[#This Row],[année de sortie]]=Tableau1[[#This Row],[année d''entrée]],Tableau1[[#This Row],[Montant estimé année pleine]]*(MATCH(Tableau1[[#This Row],[mois de sortie]],références!$B$3:$B$15,0)-MATCH(Tableau1[[#This Row],[mois d''entrée]],références!$B$3:$B$14,0)+1)/12,Tableau1[[#This Row],[Montant estimé année pleine]]*(13-MATCH(Tableau1[[#This Row],[mois d''entrée]],références!$B$3:$B$14,0))/12),IF($O$1=Tableau1[[#This Row],[année de sortie]],IF(Tableau1[[#This Row],[coût annuel 2024]]=Tableau1[[#This Row],[Montant estimé année pleine]],-Tableau1[[#This Row],[Montant estimé année pleine]]*(13-MATCH(Tableau1[[#This Row],[mois de sortie]],références!$B$3:$B$14,0))/12,Tableau1[[#This Row],[Montant estimé année pleine]]-Tableau1[[#This Row],[coût annuel 2024]]),IF($O$1=Tableau1[[#This Row],[année de sortie]]+1,-Tableau1[[#This Row],[coût annuel 2024]],IF(AND(Tableau1[[#This Row],[année d''entrée]]<$O$1,$O$1<Tableau1[[#This Row],[année de sortie]]),Tableau1[[#This Row],[Montant estimé année pleine]]-Tableau1[[#This Row],[coût annuel 2024]],IF(SUM(Tableau1[[#This Row],[coût annuel 2023]:[montant BP 2024]])=0,0,Tableau1[[#This Row],[Montant estimé année pleine]]-Tableau1[[#This Row],[coût annuel 2024]]))))) -> 0 | P7: =IF($I$1=Tableau1[[#This Row],[année de sortie]],Tableau1[[#This Row],[montant BP 2025]],SUM(N7:O7)) -> 50000 | Q7: =IF($Q$1=Tableau1[[#This Row],[année d''entrée]],IF(Tableau1[[#This Row],[année de sortie]]=Tableau1[[#This Row],[année d''entrée]],Tableau1[[#This Row],[Montant estimé année pleine]]*(MATCH(Tableau1[[#This Row],[mois de sortie]],références!$B$3:$B$15,0)-MATCH(Tableau1[[#This Row],[mois d''entrée]],références!$B$3:$B$14,0)+1)/12,Tableau1[[#This Row],[Montant estimé année pleine]]*(13-MATCH(Tableau1[[#This Row],[mois d''entrée]],références!$B$3:$B$14,0))/12),IF($Q$1=Tableau1[[#This Row],[année de sortie]],IF(Tableau1[[#This Row],[coût annuel 2025]]=Tableau1[[#This Row],[Montant estimé année pleine]],-Tableau1[[#This Row],[Montant estimé année pleine]]*(13-MATCH(Tableau1[[#This Row],[mois de sortie]],références!$B$3:$B$14,0))/12,Tableau1[[#This Row],[Montant estimé année pleine]]-Tableau1[[#This Row],[coût annuel 2025]]),IF($Q$1=Tableau1[[#This Row],[année de sortie]]+1,-Tableau1[[#This Row],[coût annuel 2025]],IF(AND(Tableau1[[#This Row],[année d''entrée]]<$Q$1,$Q$1<Tableau1[[#This Row],[année de sortie]]),Tableau1[[#This Row],[Montant estimé année pleine]]-Tableau1[[#This Row],[coût annuel 2025]],IF(SUM(Tableau1[[#This Row],[coût annuel 2024]:[montant BP 2025]])=0,0,Tableau1[[#This Row],[Montant estimé année pleine]]-Tableau1[[#This Row],[coût annuel 2025]]))))) -> 0 | R7: =IF($I$1=Tableau1[[#This Row],[année de sortie]],Tableau1[[#This Row],[montant BP 2026]],SUM(P7:Q7)) -> 50000 | S7: =IF($S$1=Tableau1[[#This Row],[année d''entrée]],IF(Tableau1[[#This Row],[année de sortie]]=Tableau1[[#This Row],[année d''entrée]],Tableau1[[#This Row],[Montant estimé année pleine]]*(MATCH(Tableau1[[#This Row],[mois de sortie]],références!$B$3:$B$15,0)-MATCH(Tableau1[[#This Row],[mois d''entrée]],références!$B$3:$B$14,0)+1)/12,Tableau1[[#This Row],[Montant estimé année pleine]]*(13-MATCH(Tableau1[[#This Row],[mois d''entrée]],références!$B$3:$B$14,0))/12),IF($S$1=Tableau1[[#This Row],[année de sortie]],IF(Tableau1[[#This Row],[coût annuel 2026]]=Tableau1[[#This Row],[Montant estimé année pleine]],-Tableau1[[#This Row],[Montant estimé année pleine]]*(13-MATCH(Tableau1[[#This Row],[mois de sortie]],références!$B$3:$B$14,0))/12,Tableau1[[#This Row],[Montant estimé année pleine]]-Tableau1[[#This Row],[coût annuel 2026]]),IF($S$1=Tableau1[[#This Row],[année de sortie]]+1,-Tableau1[[#This Row],[coût annuel 2026]],IF(AND(Tableau1[[#This Row],[année d''entrée]]<$S$1,$S$1<Tableau1[[#This Row],[année de sortie]]),Tableau1[[#This Row],[Montant estimé année pleine]]-Tableau1[[#This Row],[coût annuel 2026]],IF(SUM(Tableau1[[#This Row],[coût annuel 2025]:[montant BP 2026]])=0,0,Tableau1[[#This Row],[Montant estimé année pleine]]-Tableau1[[#This Row],[coût annuel 2026]]))))) -> 0 | T7: =IF($I$1=Tableau1[[#This Row],[année de sortie]],Tableau1[[#This Row],[montant BP 2027]],SUM(R7:S7)) -> 50000
B8: 70000 | C8: 2022 | D8: février | G8: =IF($G$1=Tableau1[[#This Row],[année d''entrée]],IF(Tableau1[[#This Row],[année de sortie]]=Tableau1[[#This Row],[année d''entrée]],Tableau1[[#This Row],[Montant estimé année pleine]]*(MATCH(Tableau1[[#This Row],[mois de sortie]],références!$B$3:$B$15,0)-MATCH(Tableau1[[#This Row],[mois d''entrée]],références!$B$3:$B$14,0)+1)/12,Tableau1[[#This Row],[Montant estimé année pleine]]*(13-MATCH(Tableau1[[#This Row],[mois d''entrée]],références!$B$3:$B$14,0))/12),IF($G$1=Tableau1[[#This Row],[année de sortie]],-Tableau1[[#This Row],[Montant estimé année pleine]]*(13-MATCH(Tableau1[[#This Row],[mois de sortie]],références!$B$3:$B$14,0))/12,0)) -> 0 | H8: =SUM(F8:G8) -> 0 | I8: =IF($I$1=Tableau1[[#This Row],[année d''entrée]],IF(Tableau1[[#This Row],[année de sortie]]=Tableau1[[#This Row],[année d''entrée]],Tableau1[[#This Row],[Montant estimé année pleine]]*(MATCH(Tableau1[[#This Row],[mois de sortie]],références!$B$3:$B$15,0)-MATCH(Tableau1[[#This Row],[mois d''entrée]],références!$B$3:$B$14,0)+1)/12,Tableau1[[#This Row],[Montant estimé année pleine]]*(13-MATCH(Tableau1[[#This Row],[mois d''entrée]],références!$B$3:$B$14,0))/12),IF($I$1=Tableau1[[#This Row],[année de sortie]],IF(Tableau1[[#This Row],[coût annuel 2021]]=Tableau1[[#This Row],[Montant estimé année pleine]],-Tableau1[[#This Row],[Montant estimé année pleine]]*(13-MATCH(Tableau1[[#This Row],[mois de sortie]],références!$B$3:$B$14,0))/12,Tableau1[[#This Row],[Montant estimé année pleine]]-Tableau1[[#This Row],[coût annuel 2021]]),IF($I$1=Tableau1[[#This Row],[année de sortie]]+1,-Tableau1[[#This Row],[coût annuel 2021]],IF(AND(Tableau1[[#This Row],[année d''entrée]]<$I$1,$I$1<Tableau1[[#This Row],[année de sortie]]),Tableau1[[#This Row],[Montant estimé année pleine]]-Tableau1[[#This Row],[coût annuel 2021]],IF(SUM(F8:G8)=0,0,Tableau1[[#This Row],[Montant estimé année pleine]]-Tableau1[[#This Row],[coût annuel 2021]]))))) -> 64166.667 | J8: =IF($I$1=Tableau1[[#This Row],[année de sortie]],Tableau1[[#This Row],[montant BP 2022]],SUM(H8:I8)) -> 64166.667 | K8: =IF($K$1=Tableau1[[#This Row],[année d''entrée]],IF(Tableau1[[#This Row],[année de sortie]]=Tableau1[[#This Row],[année d''entrée]],Tableau1[[#This Row],[Montant estimé année pleine]]*(MATCH(Tableau1[[#This Row],[mois de sortie]],références!$B$3:$B$15,0)-MATCH(Tableau1[[#This Row],[mois d''entrée]],références!$B$3:$B$14,0)+1)/12,Tableau1[[#This Row],[Montant estimé année pleine]]*(13-MATCH(Tableau1[[#This Row],[mois d''entrée]],références!$B$3:$B$14,0))/12),IF($K$1=Tableau1[[#This Row],[année de sortie]],IF(Tableau1[[#This Row],[coût annuel 2022]]=Tableau1[[#This Row],[Montant estimé année pleine]],-Tableau1[[#This Row],[Montant estimé année pleine]]*(13-MATCH(Tableau1[[#This Row],[mois de sortie]],références!$B$3:$B$14,0))/12,Tableau1[[#This Row],[Montant estimé année pleine]]-Tableau1[[#This Row],[coût annuel 2022]]),IF($K$1=Tableau1[[#This Row],[année de sortie]]+1,-Tableau1[[#This Row],[coût annuel 2022]],IF(AND(Tableau1[[#This Row],[année d''entrée]]<$K$1,$K$1<Tableau1[[#This Row],[année de sortie]]),Tableau1[[#This Row],[Montant estimé année pleine]]-Tableau1[[#This Row],[coût annuel 2022]],IF(SUM(Tableau1[[#This Row],[coût annuel 2021]:[montant BP 2022]])=0,0,Tableau1[[#This Row],[Montant estimé année pleine]]-Tableau1[[#This Row],[coût annuel 2022]]))))) -> 5833.3333 | L8: =IF($K$1=Tableau1[[#This Row],[année de sortie]],Tableau1[[#This Row],[montant BP 2023]],SUM(J8:K8)) -> 70000 | M8: =IF($M$1=Tableau1[[#This Row],[année d''entrée]],IF(Tableau1[[#This Row],[année de sortie]]=Tableau1[[#This Row],[année d''entrée]],Tableau1[[#This Row],[Montant estimé année pleine]]*(MATCH(Tableau1[[#This Row],[mois de sortie]],références!$B$3:$B$15,0)-MATCH(Tableau1[[#This Row],[mois d''entrée]],références!$B$3:$B$14,0)+1)/12,Tableau1[[#This Row],[Montant estimé année pleine]]*(13-MATCH(Tableau1[[#This Row],[mois d''entrée]],références!$B$3:$B$14,0))/12),IF($M$1=Tableau1[[#This Row],[année de sortie]],IF(Tableau1[[#This Row],[coût annuel 2023]]=Tableau1[[#This Row],[Montant estimé année pleine]],-Tableau1[[#This Row],[Montant estimé année pleine]]*(13-MATCH(Tableau1[[#This Row],[mois de sortie]],références!$B$3:$B$14,0))/12,Tableau1[[#This Row],[Montant estimé année pleine]]-Tableau1[[#This Row],[coût annuel 2023]]),IF($M$1=Tableau1[[#This Row],[année de sortie]]+1,-Tableau1[[#This Row],[coût annuel 2023]],IF(AND(Tableau1[[#This Row],[année d''entrée]]<$M$1,$M$1<Tableau1[[#This Row],[année de sortie]]),Tableau1[[#This Row],[Montant estimé année pleine]]-Tableau1[[#This Row],[coût annuel 2023]],IF(SUM(Tableau1[[#This Row],[coût annuel 2022]:[montant BP 2023]])=0,0,Tableau1[[#This Row],[Montant estimé année pleine]]-Tableau1[[#This Row],[coût annuel 2023]]))))) -> 0 | N8: =IF($M$1=Tableau1[[#This Row],[année de sortie]],Tableau1[[#This Row],[montant BP 2023]],SUM(L8:M8)) -> 70000 | O8: =IF($O$1=Tableau1[[#This Row],[année d''entrée]],IF(Tableau1[[#This Row],[année de sortie]]=Tableau1[[#This Row],[année d''entrée]],Tableau1[[#This Row],[Montant estimé année pleine]]*(MATCH(Tableau1[[#This Row],[mois de sortie]],références!$B$3:$B$15,0)-MATCH(Tableau1[[#This Row],[mois d''entrée]],références!$B$3:$B$14,0)+1)/12,Tableau1[[#This Row],[Montant estimé année pleine]]*(13-MATCH(Tableau1[[#This Row],[mois d''entrée]],références!$B$3:$B$14,0))/12),IF($O$1=Tableau1[[#This Row],[année de sortie]],IF(Tableau1[[#This Row],[coût annuel 2024]]=Tableau1[[#This Row],[Montant estimé année pleine]],-Tableau1[[#This Row],[Montant estimé année pleine]]*(13-MATCH(Tableau1[[#This Row],[mois de sortie]],références!$B$3:$B$14,0))/12,Tableau1[[#This Row],[Montant estimé année pleine]]-Tableau1[[#This Row],[coût annuel 2024]]),IF($O$1=Tableau1[[#This Row],[année de sortie]]+1,-Tableau1[[#This Row],[coût annuel 2024]],IF(AND(Tableau1[[#This Row],[année d''entrée]]<$O$1,$O$1<Tableau1[[#This Row],[année de sortie]]),Tableau1[[#This Row],[Montant estimé année pleine]]-Tableau1[[#This Row],[coût annuel 2024]],IF(SUM(Tableau1[[#This Row],[coût annuel 2023]:[montant BP 2024]])=0,0,Tableau1[[#This Row],[Montant estimé année pleine]]-Tableau1[[#This Row],[coût annuel 2024]]))))) -> 0 | P8: =IF($I$1=Tableau1[[#This Row],[année de sortie]],Tableau1[[#This Row],[montant BP 2025]],SUM(N8:O8)) -> 70000 | Q8: =IF($Q$1=Tableau1[[#This Row],[année d''entrée]],IF(Tableau1[[#This Row],[année de sortie]]=Tableau1[[#This Row],[année d''entrée]],Tableau1[[#This Row],[Montant estimé année pleine]]*(MATCH(Tableau1[[#This Row],[mois de sortie]],références!$B$3:$B$15,0)-MATCH(Tableau1[[#This Row],[mois d''entrée]],références!$B$3:$B$14,0)+1)/12,Tableau1[[#This Row],[Montant estimé année pleine]]*(13-MATCH(Tableau1[[#This Row],[mois d''entrée]],références!$B$3:$B$14,0))/12),IF($Q$1=Tableau1[[#This Row],[année de sortie]],IF(Tableau1[[#This Row],[coût annuel 2025]]=Tableau1[[#This Row],[Montant estimé année pleine]],-Tableau1[[#This Row],[Montant estimé année pleine]]*(13-MATCH(Tableau1[[#This Row],[mois de sortie]],références!$B$3:$B$14,0))/12,Tableau1[[#This Row],[Montant estimé année pleine]]-Tableau1[[#This Row],[coût annuel 2025]]),IF($Q$1=Tableau1[[#This Row],[année de sortie]]+1,-Tableau1[[#This Row],[coût annuel 2025]],IF(AND(Tableau1[[#This Row],[année d''entrée]]<$Q$1,$Q$1<Tableau1[[#This Row],[année de sortie]]),Tableau1[[#This Row],[Montant estimé année pleine]]-Tableau1[[#This Row],[coût annuel 2025]],IF(SUM(Tableau1[[#This Row],[coût annuel 2024]:[montant BP 2025]])=0,0,Tableau1[[#This Row],[Montant estimé année pleine]]-Tableau1[[#This Row],[coût annuel 2025]]))))) -> 0 | R8: =IF($I$1=Tableau1[[#This Row],[année de sortie]],Tableau1[[#This Row],[montant BP 2026]],SUM(P8:Q8)) -> 70000 | S8: =IF($S$1=Tableau1[[#This Row],[année d''entrée]],IF(Tableau1[[#This Row],[année de sortie]]=Tableau1[[#This Row],[année d''entrée]],Tableau1[[#This Row],[Montant estimé année pleine]]*(MATCH(Tableau1[[#This Row],[mois de sortie]],références!$B$3:$B$15,0)-MATCH(Tableau1[[#This Row],[mois d''entrée]],références!$B$3:$B$14,0)+1)/12,Tableau1[[#This Row],[Montant estimé année pleine]]*(13-MATCH(Tableau1[[#This Row],[mois d''entrée]],références!$B$3:$B$14,0))/12),IF($S$1=Tableau1[[#This Row],[année de sortie]],IF(Tableau1[[#This Row],[coût annuel 2026]]=Tableau1[[#This Row],[Montant estimé année pleine]],-Tableau1[[#This Row],[Montant estimé année pleine]]*(13-MATCH(Tableau1[[#This Row],[mois de sortie]],références!$B$3:$B$14,0))/12,Tableau1[[#This Row],[Montant estimé année pleine]]-Tableau1[[#This Row],[coût annuel 2026]]),IF($S$1=Tableau1[[#This Row],[année de sortie]]+1,-Tableau1[[#This Row],[coût annuel 2026]],IF(AND(Tableau1[[#This Row],[année d''entrée]]<$S$1,$S$1<Tableau1[[#This Row],[année de sortie]]),Tableau1[[#This Row],[Montant estimé année pleine]]-Tableau1[[#This Row],[coût annuel 2026]],IF(SUM(Tableau1[[#This Row],[coût annuel 2025]:[montant BP 2026]])=0,0,Tableau1[[#This Row],[Montant estimé année pleine]]-Tableau1[[#This Row],[coût annuel 2026]]))))) -> 0 | T8: =IF($I$1=Tableau1[[#This Row],[année de sortie]],Tableau1[[#This Row],[montant BP 2027]],SUM(R8:S8)) -> 70000
B9: 10000 | C9: 2023 | D9: février | E9: 2023 | F9: novembre | G9: =IF($G$1=Tableau1[[#This Row],[année d''entrée]],IF(Tableau1[[#This Row],[année de sortie]]=Tableau1[[#This Row],[année d''entrée]],Tableau1[[#This Row],[Montant estimé année pleine]]*(MATCH(Tableau1[[#This Row],[mois de sortie]],références!$B$3:$B$15,0)-MATCH(Tableau1[[#This Row],[mois d''entrée]],références!$B$3:$B$14,0)+1)/12,Tableau1[[#This Row],[Montant estimé année pleine]]*(13-MATCH(Tableau1[[#This Row],[mois d''entrée]],références!$B$3:$B$14,0))/12),IF($G$1=Tableau1[[#This Row],[année de sortie]],-Tableau1[[#This Row],[Montant estimé année pleine]]*(13-MATCH(Tableau1[[#This Row],[mois de sortie]],références!$B$3:$B$14,0))/12,0)) -> 0 | H9: =SUM(F9:G9) -> 0 | I9: =IF($I$1=Tableau1[[#This Row],[année d''entrée]],IF(Tableau1[[#This Row],[année de sortie]]=Tableau1[[#This Row],[année d''entrée]],Tableau1[[#This Row],[Montant estimé année pleine]]*(MATCH(Tableau1[[#This Row],[mois de sortie]],références!$B$3:$B$15,0)-MATCH(Tableau1[[#This Row],[mois d''entrée]],références!$B$3:$B$14,0)+1)/12,Tableau1[[#This Row],[Montant estimé année pleine]]*(13-MATCH(Tableau1[[#This Row],[mois d''entrée]],références!$B$3:$B$14,0))/12),IF($I$1=Tableau1[[#This Row],[année de sortie]],IF(Tableau1[[#This Row],[coût annuel 2021]]=Tableau1[[#This Row],[Montant estimé année pleine]],-Tableau1[[#This Row],[Montant estimé année pleine]]*(13-MATCH(Tableau1[[#This Row],[mois de sortie]],références!$B$3:$B$14,0))/12,Tableau1[[#This Row],[Montant estimé année pleine]]-Tableau1[[#This Row],[coût annuel 2021]]),IF($I$1=Tableau1[[#This Row],[année de sortie]]+1,-Tableau1[[#This Row],[coût annuel 2021]],IF(AND(Tableau1[[#This Row],[année d''entrée]]<$I$1,$I$1<Tableau1[[#This Row],[année de sortie]]),Tableau1[[#This Row],[Montant estimé année pleine]]-Tableau1[[#This Row],[coût annuel 2021]],IF(SUM(F9:G9)=0,0,Tableau1[[#This Row],[Montant estimé année pleine]]-Tableau1[[#This Row],[coût annuel 2021]]))))) -> 0 | J9: =IF($I$1=Tableau1[[#This Row],[année de sortie]],Tableau1[[#This Row],[montant BP 2022]],SUM(H9:I9)) -> 0 | K9: =IF($K$1=Tableau1[[#This Row],[année d''entrée]],IF(Tableau1[[#This Row],[année de sortie]]=Tableau1[[#This Row],[année d''entrée]],Tableau1[[#This Row],[Montant estimé année pleine]]*(MATCH(Tableau1[[#This Row],[mois de sortie]],références!$B$3:$B$15,0)-MATCH(Tableau1[[#This Row],[mois d''entrée]],références!$B$3:$B$14,0)+1)/12,Tableau1[[#This Row],[Montant estimé année pleine]]*(13-MATCH(Tableau1[[#This Row],[mois d''entrée]],références!$B$3:$B$14,0))/12),IF($K$1=Tableau1[[#This Row],[année de sortie]],IF(Tableau1[[#This Row],[coût annuel 2022]]=Tableau1[[#This Row],[Montant estimé année pleine]],-Tableau1[[#This Row],[Montant estimé année pleine]]*(13-MATCH(Tableau1[[#This Row],[mois de sortie]],références!$B$3:$B$14,0))/12,Tableau1[[#This Row],[Montant estimé année pleine]]-Tableau1[[#This Row],[coût annuel 2022]]),IF($K$1=Tableau1[[#This Row],[année de sortie]]+1,-Tableau1[[#This Row],[coût annuel 2022]],IF(AND(Tableau1[[#This Row],[année d''entrée]]<$K$1,$K$1<Tableau1[[#This Row],[année de sortie]]),Tableau1[[#This Row],[Montant estimé année pleine]]-Tableau1[[#This Row],[coût annuel 2022]],IF(SUM(Tableau1[[#This Row],[coût annuel 2021]:[montant BP 2022]])=0,0,Tableau1[[#This Row],[Montant estimé année pleine]]-Tableau1[[#This Row],[coût annuel 2022]]))))) -> 8333.3333 | L9: =IF($K$1=Tableau1[[#This Row],[année de sortie]],Tableau1[[#This Row],[montant BP 2023]],SUM(J9:K9)) -> 8333.3333 | M9: =IF($M$1=Tableau1[[#This Row],[année d''entrée]],IF(Tableau1[[#This Row],[année de sortie]]=Tableau1[[#This Row],[année d''entrée]],Tableau1[[#This Row],[Montant estimé année pleine]]*(MATCH(Tableau1[[#This Row],[mois de sortie]],références!$B$3:$B$15,0)-MATCH(Tableau1[[#This Row],[mois d''entrée]],références!$B$3:$B$14,0)+1)/12,Tableau1[[#This Row],[Montant estimé année pleine]]*(13-MATCH(Tableau1[[#This Row],[mois d''entrée]],références!$B$3:$B$14,0))/12),IF($M$1=Tableau1[[#This Row],[année de sortie]],IF(Tableau1[[#This Row],[coût annuel 2023]]=Tableau1[[#This Row],[Montant estimé année pleine]],-Tableau1[[#This Row],[Montant estimé année pleine]]*(13-MATCH(Tableau1[[#This Row],[mois de sortie]],références!$B$3:$B$14,0))/12,Tableau1[[#This Row],[Montant estimé année pleine]]-Tableau1[[#This Row],[coût annuel 2023]]),IF($M$1=Tableau1[[#This Row],[année de sortie]]+1,-Tableau1[[#This Row],[coût annuel 2023]],IF(AND(Tableau1[[#This Row],[année d''entrée]]<$M$1,$M$1<Tableau1[[#This Row],[année de sortie]]),Tableau1[[#This Row],[Montant estimé année pleine]]-Tableau1[[#This Row],[coût annuel 2023]],IF(SUM(Tableau1[[#This Row],[coût annuel 2022]:[montant BP 2023]])=0,0,Tableau1[[#This Row],[Montant estimé année pleine]]-Tableau1[[#This Row],[coût annuel 2023]]))))) -> -8333.3333 | N9: =IF($M$1=Tableau1[[#This Row],[année de sortie]],Tableau1[[#This Row],[montant BP 2023]],SUM(L9:M9)) -> 0 | O9: =IF($O$1=Tableau1[[#This Row],[année d''entrée]],IF(Tableau1[[#This Row],[année de sortie]]=Tableau1[[#This Row],[année d''entrée]],Tableau1[[#This Row],[Montant estimé année pleine]]*(MATCH(Tableau1[[#This Row],[mois de sortie]],références!$B$3:$B$15,0)-MATCH(Tableau1[[#This Row],[mois d''entrée]],références!$B$3:$B$14,0)+1)/12,Tableau1[[#This Row],[Montant estimé année pleine]]*(13-MATCH(Tableau1[[#This Row],[mois d''entrée]],références!$B$3:$B$14,0))/12),IF($O$1=Tableau1[[#This Row],[année de sortie]],IF(Tableau1[[#This Row],[coût annuel 2024]]=Tableau1[[#This Row],[Montant estimé année pleine]],-Tableau1[[#This Row],[Montant estimé année pleine]]*(13-MATCH(Tableau1[[#This Row],[mois de sortie]],références!$B$3:$B$14,0))/12,Tableau1[[#This Row],[Montant estimé année pleine]]-Tableau1[[#This Row],[coût annuel 2024]]),IF($O$1=Tableau1[[#This Row],[année de sortie]]+1,-Tableau1[[#This Row],[coût annuel 2024]],IF(AND(Tableau1[[#This Row],[année d''entrée]]<$O$1,$O$1<Tableau1[[#This Row],[année de sortie]]),Tableau1[[#This Row],[Montant estimé année pleine]]-Tableau1[[#This Row],[coût annuel 2024]],IF(SUM(Tableau1[[#This Row],[coût annuel 2023]:[montant BP 2024]])=0,0,Tableau1[[#This Row],[Montant estimé année pleine]]-Tableau1[[#This Row],[coût annuel 2024]]))))) -> 0 | P9: =IF($I$1=Tableau1[[#This Row],[année de sortie]],Tableau1[[#This Row],[montant BP 2025]],SUM(N9:O9)) -> 0 | Q9: =IF($Q$1=Tableau1[[#This Row],[année d''entrée]],IF(Tableau1[[#This Row],[année de sortie]]=Tableau1[[#This Row],[année d''entrée]],Tableau1[[#This Row],[Montant estimé année pleine]]*(MATCH(Tableau1[[#This Row],[mois de sortie]],références!$B$3:$B$15,0)-MATCH(Tableau1[[#This Row],[mois d''entrée]],références!$B$3:$B$14,0)+1)/12,Tableau1[[#This Row],[Montant estimé année pleine]]*(13-MATCH(Tableau1[[#This Row],[mois d''entrée]],références!$B$3:$B$14,0))/12),IF($Q$1=Tableau1[[#This Row],[année de sortie]],IF(Tableau1[[#This Row],[coût annuel 2025]]=Tableau1[[#This Row],[Montant estimé année pleine]],-Tableau1[[#This Row],[Montant estimé année pleine]]*(13-MATCH(Tableau1[[#This Row],[mois de sortie]],références!$B$3:$B$14,0))/12,Tableau1[[#This Row],[Montant estimé année pleine]]-Tableau1[[#This Row],[coût annuel 2025]]),IF($Q$1=Tableau1[[#This Row],[année de sortie]]+1,-Tableau1[[#This Row],[coût annuel 2025]],IF(AND(Tableau1[[#This Row],[année d''entrée]]<$Q$1,$Q$1<Tableau1[[#This Row],[année de sortie]]),Tableau1[[#This Row],[Montant estimé année pleine]]-Tableau1[[#This Row],[coût annuel 2025]],IF(SUM(Tableau1[[#This Row],[coût annuel 2024]:[montant BP 2025]])=0,0,Tableau1[[#This Row],[Montant estimé année pleine]]-Tableau1[[#This Row],[coût annuel 2025]]))))) -> 0 | R9: =IF($I$1=Tableau1[[#This Row],[année de sortie]],Tableau1[[#This Row],[montant BP 2026]],SUM(P9:Q9)) -> 0 | S9: =IF($S$1=Tableau1[[#This Row],[année d''entrée]],IF(Tableau1[[#This Row],[année de sortie]]=Tableau1[[#This Row],[année d''entrée]],Tableau1[[#This Row],[Montant estimé année pleine]]*(MATCH(Tableau1[[#This Row],[mois de sortie]],références!$B$3:$B$15,0)-MATCH(Tableau1[[#This Row],[mois d''entrée]],références!$B$3:$B$14,0)+1)/12,Tableau1[[#This Row],[Montant estimé année pleine]]*(13-MATCH(Tableau1[[#This Row],[mois d''entrée]],références!$B$3:$B$14,0))/12),IF($S$1=Tableau1[[#This Row],[année de sortie]],IF(Tableau1[[#This Row],[coût annuel 2026]]=Tableau1[[#This Row],[Montant estimé année pleine]],-Tableau1[[#This Row],[Montant estimé année pleine]]*(13-MATCH(Tableau1[[#This Row],[mois de sortie]],références!$B$3:$B$14,0))/12,Tableau1[[#This Row],[Montant estimé année pleine]]-Tableau1[[#This Row],[coût annuel 2026]]),IF($S$1=Tableau1[[#This Row],[année de sortie]]+1,-Tableau1[[#This Row],[coût annuel 2026]],IF(AND(Tableau1[[#This Row],[année d''entrée]]<$S$1,$S$1<Tableau1[[#This Row],[année de sortie]]),Tableau1[[#This Row],[Montant estimé année pleine]]-Tableau1[[#This Row],[coût annuel 2026]],IF(SUM(Tableau1[[#This Row],[coût annuel 2025]:[montant BP 2026]])=0,0,Tableau1[[#This Row],[Montant estimé année pleine]]-Tableau1[[#This Row],[coût annuel 2026]]))))) -> 0 | T9: =IF($I$1=Tableau1[[#This Row],[année de sortie]],Tableau1[[#This Row],[montant BP 2027]],SUM(R9:S9)) -> 0
