Workbook

Sheet Matrix
A1: Matricules | B1: Type de congé | C1: changement par matricule
A2: MA200 | B2: Congé payé | C2: =COUNTIFS($A$2:$A2,Matrix!A2,$B$2:$B2,B2) -> 1
A3: MA300 | B3: Congé SS | C3: =COUNTIFS($A$2:$A3,Matrix!A3,$B$2:$B3,B3) -> 1
A4: MA400 | B4: Congé EXCEP | C4: =COUNTIFS($A$2:$A4,Matrix!A4,$B$2:$B4,B4) -> 1
A5: MA500 | B5: Congé payé | C5: =COUNTIFS($A$2:$A5,Matrix!A5,$B$2:$B5,B5) -> 1
A6: MA600 | B6: Congé payé | C6: =COUNTIFS($A$2:$A6,Matrix!A6,$B$2:$B6,B6) -> 1
A7: MA200 | B7: Congé payé | C7: =COUNTIFS($A$2:$A7,Matrix!A7,$B$2:$B7,B7) -> 2
A8: MA300 | B8: Congé SS | C8: =COUNTIFS($A$2:$A8,Matrix!A8,$B$2:$B8,B8) -> 2
A9: MA400 | B9: Congé payé | C9: =COUNTIFS($A$2:$A9,Matrix!A9,$B$2:$B9,B9) -> 1
A10: MA500 | B10: Congé payé | C10: =COUNTIFS($A$2:$A10,Matrix!A10,$B$2:$B10,B10) -> 2
A11: MA600 | B11: Congé payé | C11: =COUNTIFS($A$2:$A11,Matrix!A11,$B$2:$B11,B11) -> 2
A12: MA200 | B12: Congé SS | C12: =COUNTIFS($A$2:$A12,Matrix!A12,$B$2:$B12,B12) -> 1
A13: MA300 | B13: Congé EXCEP | C13: =COUNTIFS($A$2:$A13,Matrix!A13,$B$2:$B13,B13) -> 1
... A21: MA600 | B21: Congé payé | C21: =COUNTIFS($A$2:$A21,Matrix!A21,$B$2:$B21,B21) -> 3

Sheet Results
A1: Matricule | B1: NB de congé global (soit 1 soit 2 soit 3 selon la nomiation)
A2: MA200 | B2: {=COUNTIFS(Matrix!$A$2:$A$21,Results!A2,Matrix!$C$2:$C$21,1)} -> 2 | C2: exempe MA200 : 2 (il avait le congé payé et SS)
A3: MA300 | B3: {=COUNTIFS(Matrix!$A$2:$A$21,Results!A3,Matrix!$C$2:$C$21,1)} -> 3 | C3: exempe MA300 : 3 (il avait le congé payé et SS et excep)
A4: MA400 | B4: {=COUNTIFS(Matrix!$A$2:$A$21,Results!A4,Matrix!$C$2:$C$21,1)} -> 3
A5: MA500 | B5: {=COUNTIFS(Matrix!$A$2:$A$21,Results!A5,Matrix!$C$2:$C$21,1)} -> 1
A6: MA600 | B6: {=COUNTIFS(Matrix!$A$2:$A$21,Results!A6,Matrix!$C$2:$C$21,1)} -> 2
