Workbook

Sheet COMMANDES
A1: FOURNISSEUR | B1: DATE DE COMMANDE
A2: E | B2: 42764
A3: H | B3: 42844
A4: T | B4: 42862
A5: I | B5: 42913
A6: Y | B6: 42917
A7: A | B7: 42964
A8: X | B8: 42964
A9: L | B9: 42987
A10: J | B10: 42997
A11: J | B11: 43122
A12: F | B12: 43132
A13: K | B13: 43136
... A69: G | B69: 44478

Sheet NOUVEAU FOURNISSEUR
A1: Fournisseur | B1: premiere commande | C1: 43466 | D1: 43831 | E1: 44197
A2: A | B2: =INDEX(COMMANDES!B:B,MATCH('NOUVEAU FOURNISSEUR'!A2,COMMANDES!A:A,0)) -> 42964 | C2: =IF($B2>$E$1,"nouveau 2021",IF($B2>$D$1,"nouveau 2020",IF($B2>$C$1,"nouveau 2019",""))) | D2: =IF($B2>$E$1,"nouveau 2021",IF($B2>$D$1,"nouveau 2020",IF($B2>$C$1,"nouveau 2019",""))) | E2: =IF($B2>$E$1,"nouveau 2021",IF($B2>$D$1,"nouveau 2020",IF($B2>$C$1,"nouveau 2019","")))
A3: B | B3: =INDEX(COMMANDES!B:B,MATCH('NOUVEAU FOURNISSEUR'!A3,COMMANDES!A:A,0)) -> 43174 | C3: =IF($B3>$E$1,"nouveau 2021",IF($B3>$D$1,"nouveau 2020",IF($B3>$C$1,"nouveau 2019",""))) | D3: =IF($B3>$E$1,"nouveau 2021",IF($B3>$D$1,"nouveau 2020",IF($B3>$C$1,"nouveau 2019",""))) | E3: =IF($B3>$E$1,"nouveau 2021",IF($B3>$D$1,"nouveau 2020",IF($B3>$C$1,"nouveau 2019","")))
A4: C | B4: =INDEX(COMMANDES!B:B,MATCH('NOUVEAU FOURNISSEUR'!A4,COMMANDES!A:A,0)) -> 43285 | C4: =IF($B4>$E$1,"nouveau 2021",IF($B4>$D$1,"nouveau 2020",IF($B4>$C$1,"nouveau 2019",""))) | D4: =IF($B4>$E$1,"nouveau 2021",IF($B4>$D$1,"nouveau 2020",IF($B4>$C$1,"nouveau 2019",""))) | E4: =IF($B4>$E$1,"nouveau 2021",IF($B4>$D$1,"nouveau 2020",IF($B4>$C$1,"nouveau 2019","")))
A5: D | B5: =INDEX(COMMANDES!B:B,MATCH('NOUVEAU FOURNISSEUR'!A5,COMMANDES!A:A,0)) -> 43473 | C5: =IF($B5>$E$1,"nouveau 2021",IF($B5>$D$1,"nouveau 2020",IF($B5>$C$1,"nouveau 2019",""))) -> nouveau 2019 | D5: =IF($B5>$E$1,"nouveau 2021",IF($B5>$D$1,"nouveau 2020",IF($B5>$C$1,"nouveau 2019",""))) -> nouveau 2019 | E5: =IF($B5>$E$1,"nouveau 2021",IF($B5>$D$1,"nouveau 2020",IF($B5>$C$1,"nouveau 2019",""))) -> nouveau 2019
A6: E | B6: =INDEX(COMMANDES!B:B,MATCH('NOUVEAU FOURNISSEUR'!A6,COMMANDES!A:A,0)) -> 42764 | C6: =IF($B6>$E$1,"nouveau 2021",IF($B6>$D$1,"nouveau 2020",IF($B6>$C$1,"nouveau 2019",""))) | D6: =IF($B6>$E$1,"nouveau 2021",IF($B6>$D$1,"nouveau 2020",IF($B6>$C$1,"nouveau 2019",""))) | E6: =IF($B6>$E$1,"nouveau 2021",IF($B6>$D$1,"nouveau 2020",IF($B6>$C$1,"nouveau 2019","")))
A7: F | B7: =INDEX(COMMANDES!B:B,MATCH('NOUVEAU FOURNISSEUR'!A7,COMMANDES!A:A,0)) -> 43132 | C7: =IF($B7>$E$1,"nouveau 2021",IF($B7>$D$1,"nouveau 2020",IF($B7>$C$1,"nouveau 2019",""))) | D7: =IF($B7>$E$1,"nouveau 2021",IF($B7>$D$1,"nouveau 2020",IF($B7>$C$1,"nouveau 2019",""))) | E7: =IF($B7>$E$1,"nouveau 2021",IF($B7>$D$1,"nouveau 2020",IF($B7>$C$1,"nouveau 2019","")))
A8: G | B8: =INDEX(COMMANDES!B:B,MATCH('NOUVEAU FOURNISSEUR'!A8,COMMANDES!A:A,0)) -> 44069 | C8: =IF($B8>$E$1,"nouveau 2021",IF($B8>$D$1,"nouveau 2020",IF($B8>$C$1,"nouveau 2019",""))) -> nouveau 2020 | D8: =IF($B8>$E$1,"nouveau 2021",IF($B8>$D$1,"nouveau 2020",IF($B8>$C$1,"nouveau 2019",""))) -> nouveau 2020 | E8: =IF($B8>$E$1,"nouveau 2021",IF($B8>$D$1,"nouveau 2020",IF($B8>$C$1,"nouveau 2019",""))) -> nouveau 2020
A9: H | B9: =INDEX(COMMANDES!B:B,MATCH('NOUVEAU FOURNISSEUR'!A9,COMMANDES!A:A,0)) -> 42844 | C9: =IF($B9>$E$1,"nouveau 2021",IF($B9>$D$1,"nouveau 2020",IF($B9>$C$1,"nouveau 2019",""))) | D9: =IF($B9>$E$1,"nouveau 2021",IF($B9>$D$1,"nouveau 2020",IF($B9>$C$1,"nouveau 2019",""))) | E9: =IF($B9>$E$1,"nouveau 2021",IF($B9>$D$1,"nouveau 2020",IF($B9>$C$1,"nouveau 2019","")))
A10: I | B10: =INDEX(COMMANDES!B:B,MATCH('NOUVEAU FOURNISSEUR'!A10,COMMANDES!A:A,0)) -> 42913 | C10: =IF($B10>$E$1,"nouveau 2021",IF($B10>$D$1,"nouveau 2020",IF($B10>$C$1,"nouveau 2019",""))) | D10: =IF($B10>$E$1,"nouveau 2021",IF($B10>$D$1,"nouveau 2020",IF($B10>$C$1,"nouveau 2019",""))) | E10: =IF($B10>$E$1,"nouveau 2021",IF($B10>$D$1,"nouveau 2020",IF($B10>$C$1,"nouveau 2019","")))
A11: J | B11: =INDEX(COMMANDES!B:B,MATCH('NOUVEAU FOURNISSEUR'!A11,COMMANDES!A:A,0)) -> 42997 | C11: =IF($B11>$E$1,"nouveau 2021",IF($B11>$D$1,"nouveau 2020",IF($B11>$C$1,"nouveau 2019",""))) | D11: =IF($B11>$E$1,"nouveau 2021",IF($B11>$D$1,"nouveau 2020",IF($B11>$C$1,"nouveau 2019",""))) | E11: =IF($B11>$E$1,"nouveau 2021",IF($B11>$D$1,"nouveau 2020",IF($B11>$C$1,"nouveau 2019","")))
A12: K | B12: =INDEX(COMMANDES!B:B,MATCH('NOUVEAU FOURNISSEUR'!A12,COMMANDES!A:A,0)) -> 43136 | C12: =IF($B12>$E$1,"nouveau 2021",IF($B12>$D$1,"nouveau 2020",IF($B12>$C$1,"nouveau 2019",""))) | D12: =IF($B12>$E$1,"nouveau 2021",IF($B12>$D$1,"nouveau 2020",IF($B12>$C$1,"nouveau 2019",""))) | E12: =IF($B12>$E$1,"nouveau 2021",IF($B12>$D$1,"nouveau 2020",IF($B12>$C$1,"nouveau 2019","")))
A13: L | B13: =INDEX(COMMANDES!B:B,MATCH('NOUVEAU FOURNISSEUR'!A13,COMMANDES!A:A,0)) -> 42987 | C13: =IF($B13>$E$1,"nouveau 2021",IF($B13>$D$1,"nouveau 2020",IF($B13>$C$1,"nouveau 2019",""))) | D13: =IF($B13>$E$1,"nouveau 2021",IF($B13>$D$1,"nouveau 2020",IF($B13>$C$1,"nouveau 2019",""))) | E13: =IF($B13>$E$1,"nouveau 2021",IF($B13>$D$1,"nouveau 2020",IF($B13>$C$1,"nouveau 2019","")))
... A27: Z | B27: =INDEX(COMMANDES!B:B,MATCH('NOUVEAU FOURNISSEUR'!A27,COMMANDES!A:A,0)) -> #N/A | C27: =IF($B27>$E$1,"nouveau 2021",IF($B27>$D$1,"nouveau 2020",IF($B27>$C$1,"nouveau 2019",""))) -> #N/A | D27: =IF($B27>$E$1,"nouveau 2021",IF($B27>$D$1,"nouveau 2020",IF($B27>$C$1,"nouveau 2019",""))) -> #N/A | E27: =IF($B27>$E$1,"nouveau 2021",IF($B27>$D$1,"nouveau 2020",IF($B27>$C$1,"nouveau 2019",""))) -> #N/A
