Workbook

Sheet Classe de précision
A1: Calcul classe de précision | B1: Valeur des seuils | C1: Valeur obtenu | G1: Données | H1: Valeur
A2: Tolérance seuil 1 (m) | B2: =(H4*0.01)*(1+((1/(2*2*2)))) -> 0.0135 | C2: =I19 -> 0.0080898688 | G2: N | H2: =COUNTIF(I9:I18,"<>#N/A") -> 10
A3: Tolérance seuil 2 | B3: =B2*2.42 -> 0.03267 | G3: N' | H3: =ROUNDUP(0.01*0.232*H2*SQRT(H2),0) -> 1 | J3: =COUNTIF(I9:I18,"<>#N/A") -> 10
A4: Tolérance seuil 3 | B4: =1.5*B3 -> 0.049005 | C4: 0 | G4: Précision du Levé (cm) | H4: 1.2
A8: N (Point Levé) | B8: X | C8: Y | D8: Delta X | E8: Delta Y | F8: Point de contrôle | G8: X' | H8: Y' | I8: Epos Plani
A9: =INDEX('Feuille de calcul$'!A1:E214,MATCH(920,'Feuille de calcul$'!E1:E215,0),1) -> KREGA-M.01887 | B9: =VLOOKUP(A9,'Feuille de calcul$'!A1:D214,2,FALSE) -> 2031.1824 | C9: =VLOOKUP(B9,'Feuille de calcul$'!B1:E214,2,FALSE) -> 2327.5084 | D9: =B9-G9 -> 0 | E9: =C9-H9 -> 0 | F9: =VLOOKUP(A9,A9:A19,1,FALSE) -> KREGA-M.01887 | G9: =VLOOKUP(A9,CSV_Station!A1:D111167,2,FALSE) -> 2031.1824 | H9: =VLOOKUP(A9,CSV_Station!A1:D111159,3,FALSE) -> 2327.5084 | I9: =SQRT(D9^2+E9^2) -> 0
A10: =INDEX('Feuille de calcul$'!A2:E215,MATCH(920,'Feuille de calcul$'!E2:E216,0),1) -> KREGA-P.00897 | B10: =VLOOKUP(A10,'Feuille de calcul$'!A2:D215,2,FALSE) -> 1202.4306 | C10: =VLOOKUP(B10,'Feuille de calcul$'!B2:E215,2,FALSE) -> 4770.1576 | D10: =B10-G10 -> 0 | E10: =C10-H10 -> 0 | F10: =VLOOKUP(A10,A10:A20,1,FALSE) -> KREGA-P.00897 | G10: =VLOOKUP(A10,CSV_Station!A2:D111168,2,FALSE) -> 1202.4306 | H10: =VLOOKUP(A10,CSV_Station!A2:D111160,3,FALSE) -> 4770.1576 | I10: =SQRT(D10^2+E10^2) -> 0
A11: =INDEX('Feuille de calcul$'!A3:E216,MATCH(920,'Feuille de calcul$'!E3:E217,0),1) -> KGRIL-L2.00020 | B11: =VLOOKUP(A11,'Feuille de calcul$'!A3:D216,2,FALSE) -> -1067.9439 | C11: =VLOOKUP(B11,'Feuille de calcul$'!B3:E216,2,FALSE) -> 2584.0522 | D11: =B11-G11 -> 0 | E11: =C11-H11 -> 0 | F11: =VLOOKUP(A11,A11:A21,1,FALSE) -> KGRIL-L2.00020 | G11: =VLOOKUP(A11,CSV_Station!A3:D111169,2,FALSE) -> -1067.9439 | H11: =VLOOKUP(A11,CSV_Station!A3:D111161,3,FALSE) -> 2584.0522 | I11: =SQRT(D11^2+E11^2) -> 0
A12: =INDEX('Feuille de calcul$'!A4:E217,MATCH(920,'Feuille de calcul$'!E4:E218,0),1) -> KREGA-M.00575 | B12: =VLOOKUP(A12,'Feuille de calcul$'!A4:D217,2,FALSE) -> 1300.9704 | C12: =VLOOKUP(B12,'Feuille de calcul$'!B4:E217,2,FALSE) -> 2279.0404 | D12: =B12-G12 -> 0 | E12: =C12-H12 -> 0 | F12: =VLOOKUP(A12,A12:A22,1,FALSE) -> KREGA-M.00575 | G12: =VLOOKUP(A12,CSV_Station!A4:D111170,2,FALSE) -> 1300.9704 | H12: =VLOOKUP(A12,CSV_Station!A4:D111162,3,FALSE) -> 2279.0404 | I12: =SQRT(D12^2+E12^2) -> 0
A13: =INDEX('Feuille de calcul$'!A5:E218,MATCH(920,'Feuille de calcul$'!E5:E219,0),1) -> 1283 | B13: =VLOOKUP(A13,'Feuille de calcul$'!A5:D218,2,FALSE) -> 2003.55 | C13: =VLOOKUP(B13,'Feuille de calcul$'!B5:E218,2,FALSE) -> 2233.052 | D13: =B13-G13 -> 0.009 | E13: =C13-H13 -> 0.006 | F13: =VLOOKUP(A13,A13:A23,1,FALSE) -> 1283 | G13: =VLOOKUP(A13,CSV_Station!A5:D111171,2,FALSE) -> 2003.541 | H13: =VLOOKUP(A13,CSV_Station!A5:D111163,3,FALSE) -> 2233.046 | I13: =SQRT(D13^2+E13^2) -> 0.010816654
A14: =INDEX('Feuille de calcul$'!A6:E219,MATCH(920,'Feuille de calcul$'!E6:E220,0),1) -> 2010 | B14: =VLOOKUP(A14,'Feuille de calcul$'!A6:D219,2,FALSE) -> 1947.243 | C14: =VLOOKUP(B14,'Feuille de calcul$'!B6:E219,2,FALSE) -> 2214.211 | D14: =B14-G14 -> -0.016 | E14: =C14-H14 -> 0.001 | F14: =VLOOKUP(A14,A14:A24,1,FALSE) -> 2010 | G14: =VLOOKUP(A14,CSV_Station!A6:D111172,2,FALSE) -> 1947.259 | H14: =VLOOKUP(A14,CSV_Station!A6:D111164,3,FALSE) -> 2214.21 | I14: =SQRT(D14^2+E14^2) -> 0.01603122
A15: =INDEX('Feuille de calcul$'!A7:E220,MATCH(920,'Feuille de calcul$'!E7:E221,0),1) -> 2008 | B15: =VLOOKUP(A15,'Feuille de calcul$'!A7:D220,2,FALSE) -> 1955.772 | C15: =VLOOKUP(B15,'Feuille de calcul$'!B7:E220,2,FALSE) -> 2224.706 | D15: =B15-G15 -> -0.011 | E15: =C15-H15 -> 0.008 | F15: =VLOOKUP(A15,A15:A25,1,FALSE) -> 2008 | G15: =VLOOKUP(A15,CSV_Station!A7:D111173,2,FALSE) -> 1955.783 | H15: =VLOOKUP(A15,CSV_Station!A7:D111165,3,FALSE) -> 2224.698 | I15: =SQRT(D15^2+E15^2) -> 0.013601471
A16: =INDEX('Feuille de calcul$'!A8:E221,MATCH(920,'Feuille de calcul$'!E8:E222,0),1) -> 1283 | B16: =VLOOKUP(A16,'Feuille de calcul$'!A8:D221,2,FALSE) -> 2003.55 | C16: =VLOOKUP(B16,'Feuille de calcul$'!B8:E221,2,FALSE) -> 2233.052 | D16: =B16-G16 -> 0.009 | E16: =C16-H16 -> 0.006 | F16: =VLOOKUP(A16,A16:A26,1,FALSE) -> 1283 | G16: =VLOOKUP(A16,CSV_Station!A8:D111174,2,FALSE) -> 2003.541 | H16: =VLOOKUP(A16,CSV_Station!A8:D111166,3,FALSE) -> 2233.046 | I16: =SQRT(D16^2+E16^2) -> 0.010816654
A17: =INDEX('Feuille de calcul$'!A9:E222,MATCH(920,'Feuille de calcul$'!E9:E223,0),1) -> 2010 | B17: =VLOOKUP(A17,'Feuille de calcul$'!A9:D222,2,FALSE) -> 1947.243 | C17: =VLOOKUP(B17,'Feuille de calcul$'!B9:E222,2,FALSE) -> 2214.211 | D17: =B17-G17 -> -0.016 | E17: =C17-H17 -> 0.001 | F17: =VLOOKUP(A17,A17:A27,1,FALSE) -> 2010 | G17: =VLOOKUP(A17,CSV_Station!A9:D111175,2,FALSE) -> 1947.259 | H17: =VLOOKUP(A17,CSV_Station!A9:D111167,3,FALSE) -> 2214.21 | I17: =SQRT(D17^2+E17^2) -> 0.01603122
A18: =INDEX('Feuille de calcul$'!A10:E223,MATCH(920,'Feuille de calcul$'!E10:E224,0),1) -> 2008 | B18: =VLOOKUP(A18,'Feuille de calcul$'!A10:D223,2,FALSE) -> 1955.772 | C18: =VLOOKUP(B18,'Feuille de calcul$'!B10:E223,2,FALSE) -> 2224.706 | D18: =B18-G18 -> -0.011 | E18: =C18-H18 -> 0.008 | F18: =VLOOKUP(A18,A18:A28,1,FALSE) -> 2008 | G18: =VLOOKUP(A18,CSV_Station!A10:D111176,2,FALSE) -> 1955.783 | H18: =VLOOKUP(A18,CSV_Station!A10:D111168,3,FALSE) -> 2224.698 | I18: =SQRT(D18^2+E18^2) -> 0.013601471
H19: Moyenne | I19: =SUMIF(I9:I18,"<>#N/A",I9:I18)/H2 -> 0.0080898688
A22: L'écart moyen en Eposition ne doit pas dépasser le Seuil 1
A23: Parmis les points testés N ne doit excéder N'
A24: Aucune valeur ne doit dépasser le Seuil 3
A26: N (Nombre de points de l'échantillon)
A27: N' (nombre de point ne pouvant excéder pour le seuil 2)

Sheet CSV_Station
A1: RN17 | B1: 2241 | C1: 2116.6 | D1: 433.013 | E1: 913
A2: RN18 | B2: 2169.204 | C2: 1889.021 | D2: 431.573 | E2: 913
A3: RN20 | B3: 1942.88 | C3: 2254.382 | D3: 430.554 | E3: 913
A4: RN25 | B4: 2126.921 | C4: 2055.452 | D4: 432.592 | E4: 913
A5: RN26 | B5: 2136.273 | C5: 1976.536 | D5: 432.447 | E5: 913
A6: RN39 | B6: 1790.172 | C6: 1913.195 | D6: 445.836 | E6: 913
A7: RN40 | B7: 1777.972 | C7: 2037.311 | D7: 446.273 | E7: 913
A8: RN45 | B8: 1518.802 | C8: 1952.17 | D8: 455.238 | E8: 913
A9: RN51 | B9: 1327.547 | C9: 1961.932 | D9: 459.257 | E9: 913
A10: RN52 | B10: 1215.703 | C10: 2014.41 | D10: 453.445 | E10: 913
A11: RN53 | B11: 1135.913 | C11: 2059.847 | D11: 450.302 | E11: 913
A12: RN54 | B12: 1144.664 | C12: 2132.958 | D12: 446.4 | E12: 913
... A28: 3186_S7 | B28: 1736.014 | C28: 2588.639 | D28: 449.935 | E28: 915
A29: 202 | B29: 1984.305 | C29: 2309.91 | D29: 449.737 | E29: 915
A30: 210 | B30: 1661.407 | C30: 2315.462 | D30: 468.01 | E30: 915
A31: 216 | B31: 2360.373 | C31: 2453.928 | D31: 452.021 | E31: 915
A32: 225 | B32: 3639.961 | C32: 3251.616 | D32: 435.495 | E32: 915
A33: 227 | B33: -3774.415 | C33: 5174.048 | D33: 645.677 | E33: 915
A34: 228 | B34: 700.809 | C34: 6346.264 | D34: 475.653 | E34: 915
A35: 229 | B35: -259.01 | C35: 2474.031 | D35: 487.47 | E35: 915
A36: 230 | B36: -4176.62 | C36: 5828.705 | D36: 0 | E36: 915
A37: 231 | B37: -1130.981 | C37: 7626.909 | D37: 527.5 | E37: 915
A38: 232 | B38: 3132.006 | C38: 9336.758 | D38: 0 | E38: 915
A39: 233 | B39: -1150.73 | C39: 14165.763 | D39: 742.172 | E39: 915
A40: 302 | B40: 597.12 | C40: 3689.424 | D40: 460.281 | E40: 915
... A1079: 5000 | B1079: -1539.24 | C1079: 4257.453 | D1079: 478.238 | E1079: 915
A1080: SIG147 | B1080: 1376.107 | C1080: 3560.331 | D1080: 458.259 | E1080: 915
A1081: PS61 | B1081: 2069.302 | C1081: 2216.319 | D1081: 432.362 | E1081: 915
A1082: PS62 | B1082: 2070.956 | C1082: 2240.156 | D1082: 433.465 | E1082: 915
A1083: LIPS261 | B1083: 1998.142 | C1083: 1907.336 | D1083: 433.925 | E1083: 911
A1084: LIPS262 | B1084: 1901.112 | C1084: 2212.246 | D1084: 443.881 | E1084: 911
A1085: B9 | B1085: 1282.812 | C1085: 2276.76 | D1085: 453.592 | E1085: 911
A1086: B10 | B1086: 1233.867 | C1086: 2266.547 | D1086: 453.588 | E1086: 911
A1087: B11 | B1087: 1184.92 | C1087: 2256.332 | D1087: 453.592 | E1087: 911
A1088: CDE | B1088: 1368.714 | C1088: 1961.545 | D1088: 518.39 | E1088: 911
A1089: PGC | B1089: 1190.92 | C1089: 2545.505 | E1089: 911
A1090: V1 | B1090: 1298.021 | C1090: 2278.15 | E1090: 911
A1091: PG1 | B1091: 1999.336 | C1091: 1882.985 | D1091: 438.22 | E1091: 911
A1092: PG2 | B1092: 1903.078 | C1092: 1870.974 | D1092: 442.106 | E1092: 911
A1093: PG3 | B1093: 1831.175 | C1093: 1947.344 | D1093: 444.779 | E1093: 911
A1094: P2 | B1094: 602.522 | C1094: 4944.466 | D1094: 452.333 | E1094: 912
A1095: P3 | B1095: 593.514 | C1095: 4895.288 | D1095: 452.332 | E1095: 912
A1096: P4 | B1096: 584.504 | C1096: 4846.094 | D1096: 452.33 | E1096: 912
A1097: P5 | B1097: 575.497 | C1097: 4796.917 | D1097: 452.335 | E1097: 912
A1098: P6 | B1098: 566.489 | C1098: 4747.74 | D1098: 452.331 | E1098: 912
A1099: P7 | B1099: 557.481 | C1099: 4698.554 | D1099: 452.331 | E1099: 912
A1100: P8 | B1100: 548.473 | C1100: 4649.376 | D1100: 452.33 | E1100: 912
A1101: P9 | B1101: 539.464 | C1101: 4600.188 | D1101: 452.341 | E1101: 912
A1102: P10 | B1102: 530.455 | C1102: 4551.004 | D1102: 452.339 | E1102: 912
... A1104: P12 | B1104: 512.44 | C1104: 4452.645 | D1104: 452.333 | E1104: 912
A1105: 119 | B1105: 623.596 | C1105: 4993.592 | D1105: 453.472 | E1105: 912
A1106: P200 | B1106: 1903.566 | C1106: 1940.29 | D1106: 452.112 | E1106: 911
A1107: P201 | B1107: 1984.305 | C1107: 2309.91 | D1107: 449.737 | E1107: 911
A1108: P210 | B1108: 1661.407 | C1108: 2315.462 | D1108: 468.009 | E1108: 911
A1109: P211 | B1109: 869.983 | C1109: 2134.943 | D1109: 460.144 | E1109: 911
A1110: P215 | B1110: 1200.677 | C1110: 2077.583 | D1110: 481.571 | E1110: 911
A1111: P216 | B1111: 2360.373 | C1111: 2453.928 | D1111: 452.021 | E1111: 911
A1112: P217 | B1112: 2173.138 | C1112: 1901.08 | D1112: 447.814 | E1112: 911
A1113: P220 | B1113: 1347.883 | C1113: 1694.657 | D1113: 469.972 | E1113: 911
A1114: P223 | B1114: 1821.911 | C1114: 4555.773 | D1114: 476.777 | E1114: 911
A1115: P224 | B1115: 3204.009 | C1115: 4047.073 | D1115: 427.84 | E1115: 911
A1116: P225 | B1116: 3639.961 | C1116: 3251.616 | D1116: 435.495 | E1116: 911
A1117: P226 | B1117: 1288.261 | C1117: 723.797 | D1117: 501.071 | E1117: 911
... A1158: L3 | B1158: 859.813 | C1158: 5148.019 | D1158: 460.391 | E1158: 911
A1159: 92.91 | B1159: 1364.846 | C1159: 3312.123 | D1159: 456.842 | E1159: 915
A1160: KREGA-M.01952 | B1160: 2053.2773 | C1160: 2048.7145 | D1160: 437.85901
A1161: KREGA-L5.00153 | B1161: -998.28399 | C1161: 10373.045
A1162: KREGA-L5.00154 | B1162: -990.34228 | C1162: 10354.502
A1163: KREGA-L5.00155 | B1163: -991.33784 | C1163: 10357.002
A1164: KREGA-L5.00156 | B1164: -992.50171 | C1164: 10359.925
A1165: KREGA-S1.00036 | B1165: 1076.2618 | C1165: 2641.2168 | D1165: 446.49
A1166: KREGA-S1.00041 | B1166: 1088.9791 | C1166: 2655.3867 | D1166: 446.45
A1167: KREGA-S1.00040 | B1167: 1086.3425 | C1167: 2652.3149 | D1167: 446.49
A1168: KREGA-S1.00037 | B1168: 1082.2463 | C1168: 2654.3224 | D1168: 446.56
A1169: KREGA-S1.00035 | B1169: 1074.1756 | C1169: 2649.6776 | D1169: 446.5
A1170: KGRIL-S1.00028 | B1170: 1075.5291 | C1170: 2644.8009 | D1170: 446.477
A1171: KREGA-M.02014 | B1171: 2070.4916 | C1171: 2097.951 | D1171: 433.92
A1172: KREGA-M.02013 | B1172: 2073.3364 | C1172: 2097.8154 | D1172: 433.86
A1173: KREGA-M.03815 | B1173: 2374.3261 | C1173: 2041.4285
A1174: KREGA-M.03816 | B1174: 2375.6936 | C1174: 2041.5741
A1175: KREGA-M.03691 | B1175: 2562.9851 | C1175: 2485.4718 | D1175: 429.88
A1176: KBAGR-M.00005 | B1176: 2559.4477 | C1176: 2486.7748
A1177: KREGA-S1.00044 | B1177: 1062.8527 | C1177: 2651.6941 | D1177: 446.28
A1178: KREGA-L18.00262 | B1178: 1765.1948 | C1178: 2570.8634 | D1178: 445.19
A1179: KREGA-L18.00263 | B1179: 1765.7088 | C1179: 2571.3316
A1180: KREGA-M.00960 | B1180: 1693.892 | C1180: 2146.209 | D1180: 442.08
A1181: KREGA-M.00961 | B1181: 1694.5818 | C1181: 2146.2764
A1182: KREGA-M.00484 | B1182: 1200.8322 | C1182: 2020.8262 | D1182: 453.19
A1183: KREGA-M.01346 | B1183: 1847.3814 | C1183: 2258.2654 | D1183: 440.487
A1184: KREGA-M.01164 | B1184: 1794.5404 | C1184: 1934.5304 | D1184: 445.217
A1185: KREGA-L1.00100 | B1185: 2175.4974 | C1185: 2638.3834 | D1185: 441.39401
A1186: KREGA-L4.00092 | B1186: -3221.0509 | C1186: 8280.6115 | D1186: 584.65
A1187: KGRIL-L5.00015 | B1187: -1079.325 | C1187: 10486.667 | D1187: 507.94
A1188: KREGA-M.00654 | B1188: 1380.3373 | C1188: 1953.982 | D1188: 460.78
A1189: KGRIL-L5.00016 | B1189: -1082.269 | C1189: 10496.43 | D1189: 508.25
A1190: KREGA-M.00766 | B1190: 1535.8104 | C1190: 2320.8704 | D1190: 446.628
A1191: KREGA-M.00655 | B1191: 1376.3904 | C1191: 1979.7204 | D1191: 461.22
A1192: KREGA-M.00767 | B1192: 1553.1714 | C1192: 1958.8874 | D1192: 452.926
A1193: KREGA-M.00730 | B1193: 1498.9104 | C1193: 2198.4604 | D1193: 442.871
... A1217: KREGA-M.01153 | B1217: 1779.6634 | C1217: 2280.5064 | D1217: 444.47
...

Sheet Feuille de calcul$
A1: KREGA-M.01887 | B1: 2031.1824 | C1: 2327.5084 | D1: 432.766 | E1: 920
A2: KREGA-P.00897 | B2: 1202.4306 | C2: 4770.1576 | D2: 462.77 | E2: 920
A3: KGRIL-L2.00020 | B3: -1067.9439 | C3: 2584.0522 | D3: 447.55 | E3: 920
A4: KREGA-M.00575 | B4: 1300.9704 | C4: 2279.0404 | D4: 451.914 | E4: 920
A5: 1283 | B5: 2003.55 | C5: 2233.052 | D5: 435.594 | E5: 920
A6: 2010 | B6: 1947.243 | C6: 2214.211 | D6: 437.835 | E6: 920
A7: 2008 | B7: 1955.772 | C7: 2224.706 | D7: 437.435 | E7: 920
A8: 1283 | B8: 2003.55 | C8: 2233.052 | D8: 435.594 | E8: 920
A9: 2010 | B9: 1947.243 | C9: 2214.211 | D9: 437.835 | E9: 920
A10: 2008 | B10: 1955.772 | C10: 2224.706 | D10: 437.435 | E10: 920
A11: 1008 | B11: 1966.2 | C11: 2224.535 | E11: 216
A12: 1005 | B12: 1965.862 | C12: 2226.11 | E12: 216
A13: 1003 | B13: 1958.941 | C13: 2230.669 | E13: 216
A14: 1002 | B14: 1953.862 | C14: 2240.833 | E14: 216
A15: 1000 | B15: 1954.637 | C15: 2243.611 | E15: 216
A16: 2000015 | B16: 1954.583 | C16: 2243.562 | D16: 435.681 | E16: 217
A17: 2000014 | B17: 1953.866 | C17: 2240.843 | D17: 436.005 | E17: 217
A18: 2000013 | B18: 1962.939 | C18: 2224.55 | D18: 437.199 | E18: 217
A19: 2000012 | B19: 1958.158 | C19: 2228.058 | D19: 437.223 | E19: 217
A20: 2000011 | B20: 1959.304 | C20: 2226.569 | D20: 437.489 | E20: 217
A21: 2000010 | B21: 1960.556 | C21: 2225.566 | D21: 437.284 | E21: 217
A22: 2000009 | B22: 1961.349 | C22: 2227.08 | D22: 437.401 | E22: 217
A23: 2000008 | B23: 1959.828 | C23: 2228.616 | D23: 437.312 | E23: 217
A24: 2000007 | B24: 1958.929 | C24: 2230.659 | D24: 437.183 | E24: 217
A25: 2000006 | B25: 1957.28 | C25: 2230.329 | D25: 437.026 | E25: 217
A26: 2000005 | B26: 1963.168 | C26: 2226.226 | D26: 437.423 | E26: 217
A27: 2000004 | B27: 1966.195 | C27: 2224.569 | D27: 437.181 | E27: 217
A28: 2000002 | B28: 1965.86 | C28: 2226.101 | D28: 437.222 | E28: 217
A29: 1055 | B29: 1954.588 | C29: 2243.568 | E29: 217
A30: 1054 | B30: 1954.588 | C30: 2243.568 | E30: 217
A31: 1053 | B31: 1964.279 | C31: 2226.023 | D31: 0 | E31: 217
A32: 1051 | B32: 1963.176 | C32: 2226.216 | D32: 0 | E32: 217
A33: 1000000001 | B33: 1958.646 | C33: 2219.698 | D33: 439.152 | E33: 915
A34: 2000001 | B34: 1948.487 | C34: 2246.684 | D34: 435.634 | E34: 915
A35: 2000000 | B35: 1936.444 | C35: 2275.484 | D35: 435.206 | E35: 915
A36: 2010 | B36: 1947.259 | C36: 2214.21 | D36: 437.836 | E36: 915
A37: 2009 | B37: 1935.925 | C37: 2273.539 | D37: 435.179 | E37: 915
A38: 2008 | B38: 1955.783 | C38: 2224.698 | D38: 437.445 | E38: 915
A39: 1331 | B39: 1925.564 | C39: 2305.045 | D39: 435.348 | E39: 915
A40: 1283 | B40: 2003.541 | C40: 2233.046 | D40: 435.584 | E40: 915
A41: 1052 | B41: 2367.488 | C41: 2082.531 | D41: 429.326 | E41: 915
A42: 1050 | B42: 1957.285 | C42: 2230.325 | E42: 915
A43: 1020 | B43: 1482.055 | C43: 2571.887 | D43: 452.281 | E43: 915
A44: 1012 | B44: 869.905 | C44: 2126.816 | D44: 443.567 | E44: 915
A45: 1011 | B45: 1562.46 | C45: 2121.063 | D45: 442.999 | E45: 915
A46: 1010 | B46: 1535.655 | C46: 2171.329 | D46: 442.888 | E46: 915
A47: 1009 | B47: 1462.203 | C47: 1942.648 | D47: 457.673 | E47: 915
A48: 1007 | B48: 871.337 | C48: 2021.04 | D48: 445.666 | E48: 915
A49: 1006 | B49: 852.213 | C49: 2062.344 | D49: 444.407 | E49: 915
A50: 1004 | B50: 1091.038 | C50: 1985.198 | D50: 451.624 | E50: 915
A51: 1001 | B51: -2613.35 | C51: 4402.94 | D51: 507.11 | E51: 915
A52: 2000003 | B52: 1964.278 | C52: 2226.013 | D52: 437.32 | E52: 1053
A53: 2000019 | B53: 1964.758 | C53: 2231.951 | D53: 436.786
A54: 2000018 | B54: 1964.618 | C54: 2231.862 | D54: 436.819
A55: 2000017 | B55: 1957.525 | C55: 2241.319 | D55: 435.868
A56: 2000016 | B56: 1953.971 | C56: 2242.316 | D56: 435.89
