Workbook

Sheet Classe de précision
A1: Calcul classe de précision | B1: Valeur des seuils | C1: Valeur obtenu | G1: Données | H1: Valeur
A2: Tolérance seuil 1 (m) | B2: =(H4*0.01)*(1+((1/(2*2*2)))) -> 0.0135 | C2: =I19 -> 0.0080898688 | G2: N | H2: =COUNTIF(I9:I18,"<>#N/A") -> 10
A3: Tolérance seuil 2 | B3: =B2*2.42 -> 0.03267 | G3: N' | H3: =ROUNDUP(0.01*0.232*H2*SQRT(H2),0) -> 1 | J3: =COUNTIF(I9:I18,"<>#N/A") -> 10
A4: Tolérance seuil 3 | B4: =1.5*B3 -> 0.049005 | C4: 0 | G4: Précision du Levé (cm) | H4: 1.2
A8: N (Point Levé) | B8: X | C8: Y | D8: Delta X | E8: Delta Y | F8: Point de contrôle | G8: X' | H8: Y' | I8: Epos Plani
A9: =INDEX('Feuille de calcul$'!A1:E214,MATCH(920,'Feuille de calcul$'!E1:E215,0),1) -> KREGA-M.01887 | B9: =VLOOKUP(A9,'Feuille de calcul$'!A1:D214,2,FALSE) -> 2031.1824 | C9: =VLOOKUP(B9,'Feuille de calcul$'!B1:E214,2,FALSE) -> 2327.5084 | D9: =B9-G9 -> 0 | E9: =C9-H9 -> 0 | F9: =VLOOKUP(A9,A9:A19,1,FALSE) -> KREGA-M.01887 | G9: =VLOOKUP(A9,CSV_Station!A1:D111167,2,FALSE) -> 2031.1824 | H9: =VLOOKUP(A9,CSV_Station!A1:D111159,3,FALSE) -> 2327.5084 | I9: =SQRT(D9^2+E9^2) -> 0
A10: =INDEX('Feuille de calcul$'!A2:E215,MATCH(920,'Feuille de calcul$'!E2:E216,0),1) -> KREGA-P.00897 | B10: =VLOOKUP(A10,'Feuille de calcul$'!A2:D215,2,FALSE) -> 1202.4306 | C10: =VLOOKUP(B10,'Feuille de calcul$'!B2:E215,2,FALSE) -> 4770.1576 | D10: =B10-G10 -> 0 | E10: =C10-H10 -> 0 | F10: =VLOOKUP(A10,A10:A20,1,FALSE) -> KREGA-P.00897 | G10: =VLOOKUP(A10,CSV_Station!A2:D111168,2,FALSE) -> 1202.4306 | H10: =VLOOKUP(A10,CSV_Station!A2:D111160,3,FALSE) -> 4770.1576 | I10: =SQRT(D10^2+E10^2) -> 0
A11: =INDEX('Feuille de calcul$'!A3:E216,MATCH(920,'Feuille de calcul$'!E3:E217,0),1) -> KGRIL-L2.00020 | B11: =VLOOKUP(A11,'Feuille de calcul$'!A3:D216,2,FALSE) -> -1067.9439 | C11: =VLOOKUP(B11,'Feuille de calcul$'!B3:E216,2,FALSE) -> 2584.0522 | D11: =B11-G11 -> 0 | E11: =C11-H11 -> 0 | F11: =VLOOKUP(A11,A11:A21,1,FALSE) -> KGRIL-L2.00020 | G11: =VLOOKUP(A11,CSV_Station!A3:D111169,2,FALSE) -> -1067.9439 | H11: =VLOOKUP(A11,CSV_Station!A3:D111161,3,FALSE) -> 2584.0522 | I11: =SQRT(D11^2+E11^2) -> 0
A12: =INDEX('Feuille de calcul$'!A4:E217,MATCH(920,'Feuille de calcul$'!E4:E218,0),1) -> KREGA-M.00575 | B12: =VLOOKUP(A12,'Feuille de calcul$'!A4:D217,2,FALSE) -> 1300.9704 | C12: =VLOOKUP(B12,'Feuille de calcul$'!B4:E217,2,FALSE) -> 2279.0404 | D12: =B12-G12 -> 0 | E12: =C12-H12 -> 0 | F12: =VLOOKUP(A12,A12:A22,1,FALSE) -> KREGA-M.00575 | G12: =VLOOKUP(A12,CSV_Station!A4:D111170,2,FALSE) -> 1300.9704 | H12: =VLOOKUP(A12,CSV_Station!A4:D111162,3,FALSE) -> 2279.0404 | I12: =SQRT(D12^2+E12^2) -> 0
A13: =INDEX('Feuille de calcul$'!A5:E218,MATCH(920,'Feuille de calcul$'!E5:E219,0),1) -> 1283 | B13: =VLOOKUP(A13,'Feuille de calcul$'!A5:D218,2,FALSE) -> 2003.55 | C13: =VLOOKUP(B13,'Feuille de calcul$'!B5:E218,2,FALSE) -> 2233.052 | D13: =B13-G13 -> 0.009 | E13: =C13-H13 -> 0.006 | F13: =VLOOKUP(A13,A13:A23,1,FALSE) -> 1283 | G13: =VLOOKUP(A13,CSV_Station!A5:D111171,2,FALSE) -> 2003.541 | H13: =VLOOKUP(A13,CSV_Station!A5:D111163,3,FALSE) -> 2233.046 | I13: =SQRT(D13^2+E13^2) -> 0.010816654
A14: =INDEX('Feuille de calcul$'!A6:E219,MATCH(920,'Feuille de calcul$'!E6:E220,0),1) -> 2010 | B14: =VLOOKUP(A14,'Feuille de calcul$'!A6:D219,2,FALSE) -> 1947.243 | C14: =VLOOKUP(B14,'Feuille de calcul$'!B6:E219,2,FALSE) -> 2214.211 | D14: =B14-G14 -> -0.016 | E14: =C14-H14 -> 0.001 | F14: =VLOOKUP(A14,A14:A24,1,FALSE) -> 2010 | G14: =VLOOKUP(A14,CSV_Station!A6:D111172,2,FALSE) -> 1947.259 | H14: =VLOOKUP(A14,CSV_Station!A6:D111164,3,FALSE) -> 2214.21 | I14: =SQRT(D14^2+E14^2) -> 0.01603122
A15: =INDEX('Feuille de calcul$'!A7:E220,MATCH(920,'Feuille de calcul$'!E7:E221,0),1) -> 2008 | B15: =VLOOKUP(A15,'Feuille de calcul$'!A7:D220,2,FALSE) -> 1955.772 | C15: =VLOOKUP(B15,'Feuille de calcul$'!B7:E220,2,FALSE) -> 2224.706 | D15: =B15-G15 -> -0.011 | E15: =C15-H15 -> 0.008 | F15: =VLOOKUP(A15,A15:A25,1,FALSE) -> 2008 | G15: =VLOOKUP(A15,CSV_Station!A7:D111173,2,FALSE) -> 1955.783 | H15: =VLOOKUP(A15,CSV_Station!A7:D111165,3,FALSE) -> 2224.698 | I15: =SQRT(D15^2+E15^2) -> 0.013601471
A16: =INDEX('Feuille de calcul$'!A8:E221,MATCH(920,'Feuille de calcul$'!E8:E222,0),1) -> 1283 | B16: =VLOOKUP(A16,'Feuille de calcul$'!A8:D221,2,FALSE) -> 2003.55 | C16: =VLOOKUP(B16,'Feuille de calcul$'!B8:E221,2,FALSE) -> 2233.052 | D16: =B16-G16 -> 0.009 | E16: =C16-H16 -> 0.006 | F16: =VLOOKUP(A16,A16:A26,1,FALSE) -> 1283 | G16: =VLOOKUP(A16,CSV_Station!A8:D111174,2,FALSE) -> 2003.541 | H16: =VLOOKUP(A16,CSV_Station!A8:D111166,3,FALSE) -> 2233.046 | I16: =SQRT(D16^2+E16^2) -> 0.010816654
A17: =INDEX('Feuille de calcul$'!A9:E222,MATCH(920,'Feuille de calcul$'!E9:E223,0),1) -> 2010 | B17: =VLOOKUP(A17,'Feuille de calcul$'!A9:D222,2,FALSE) -> 1947.243 | C17: =VLOOKUP(B17,'Feuille de calcul$'!B9:E222,2,FALSE) -> 2214.211 | D17: =B17-G17 -> -0.016 | E17: =C17-H17 -> 0.001 | F17: =VLOOKUP(A17,A17:A27,1,FALSE) -> 2010 | G17: =VLOOKUP(A17,CSV_Station!A9:D111175,2,FALSE) -> 1947.259 | H17: =VLOOKUP(A17,CSV_Station!A9:D111167,3,FALSE) -> 2214.21 | I17: =SQRT(D17^2+E17^2) -> 0.01603122
A18: =INDEX('Feuille de calcul$'!A10:E223,MATCH(920,'Feuille de calcul$'!E10:E224,0),1) -> 2008 | B18: =VLOOKUP(A18,'Feuille de calcul$'!A10:D223,2,FALSE) -> 1955.772 | C18: =VLOOKUP(B18,'Feuille de calcul$'!B10:E223,2,FALSE) -> 2224.706 | D18: =B18-G18 -> -0.011 | E18: =C18-H18 -> 0.008 | F18: =VLOOKUP(A18,A18:A28,1,FALSE) -> 2008 | G18: =VLOOKUP(A18,CSV_Station!A10:D111176,2,FALSE) -> 1955.783 | H18: =VLOOKUP(A18,CSV_Station!A10:D111168,3,FALSE) -> 2224.698 | I18: =SQRT(D18^2+E18^2) -> 0.013601471
H19: Moyenne | I19: =SUMIF(I9:I18,"<>#N/A",I9:I18)/H2 -> 0.0080898688
A22: L'écart moyen en Eposition ne doit pas dépasser le Seuil 1
A23: Parmis les points testés N ne doit excéder N'
A24: Aucune valeur ne doit dépasser le Seuil 3
A26: N (Nombre de points de l'échantillon)
A27: N' (nombre de point ne pouvant excéder pour le seuil 2)

Sheet CSV_Station
A1: RN17 | B1: 2241 | C1: 2116.6 | D1: 433.013 | E1: 913
A2: RN18 | B2: 2169.204 | C2: 1889.021 | D2: 431.573 | E2: 913
A3: RN20 | B3: 1942.88 | C3: 2254.382 | D3: 430.554 | E3: 913
A4: RN25 | B4: 2126.921 | C4: 2055.452 | D4: 432.592 | E4: 913
A5: RN26 | B5: 2136.273 | C5: 1976.536 | D5: 432.447 | E5: 913
A6: RN39 | B6: 1790.172 | C6: 1913.195 | D6: 445.836 | E6: 913
A7: RN40 | B7: 1777.972 | C7: 2037.311 | D7: 446.273 | E7: 913
A8: RN45 | B8: 1518.802 | C8: 1952.17 | D8: 455.238 | E8: 913
A9: RN51 | B9: 1327.547 | C9: 1961.932 | D9: 459.257 | E9: 913
A10: RN52 | B10: 1215.703 | C10: 2014.41 | D10: 453.445 | E10: 913
A11: RN53 | B11: 1135.913 | C11: 2059.847 | D11: 450.302 | E11: 913
A12: RN54 | B12: 1144.664 | C12: 2132.958 | D12: 446.4 | E12: 913
... A28: 3186_S7 | B28: 1736.014 | C28: 2588.639 | D28: 449.935 | E28: 915
A29: 202 | B29: 1984.305 | C29: 2309.91 | D29: 449.737 | E29: 915
A30: 210 | B30: 1661.407 | C30: 2315.462 | D30: 468.01 | E30: 915
A31: 216 | B31: 2360.373 | C31: 2453.928 | D31: 452.021 | E31: 915
A32: 225 | B32: 3639.961 | C32: 3251.616 | D32: 435.495 | E32: 915
A33: 227 | B33: -3774.415 | C33: 5174.048 | D33: 645.677 | E33: 915
A34: 228 | B34: 700.809 | C34: 6346.264 | D34: 475.653 | E34: 915
A35: 229 | B35: -259.01 | C35: 2474.031 | D35: 487.47 | E35: 915
A36: 230 | B36: -4176.62 | C36: 5828.705 | D36: 0 | E36: 915
A37: 231 | B37: -1130.981 | C37: 7626.909 | D37: 527.5 | E37: 915
A38: 232 | B38: 3132.006 | C38: 9336.758 | D38: 0 | E38: 915
A39: 233 | B39: -1150.73 | C39: 14165.763 | D39: 742.172 | E39: 915
A40: 302 | B40: 597.12 | C40: 3689.424 | D40: 460.281 | E40: 915
... A1079: 5000 | B1079: -1539.24 | C1079: 4257.453 | D1079: 478.238 | E1079: 915
A1080: SIG147 | B1080: 1376.107 | C1080: 3560.331 | D1080: 458.259 | E1080: 915
A1081: PS61 | B1081: 2069.302 | C1081: 2216.319 | D1081: 432.362 | E1081: 915
A1082: PS62 | B1082: 2070.956 | C1082: 2240.156 | D1082: 433.465 | E1082: 915
A1083: LIPS261 | B1083: 1998.142 | C1083: 1907.336 | D1083: 433.925 | E1083: 911
A1084: LIPS262 | B1084: 1901.112 | C1084: 2212.246 | D1084: 443.881 | E1084: 911
A1085: B9 | B1085: 1282.812 | C1085: 2276.76 | D1085: 453.592 | E1085: 911
A1086: B10 | B1086: 1233.867 | C1086: 2266.547 | D1086: 453.588 | E1086: 911
A1087: B11 | B1087: 1184.92 | C1087: 2256.332 | D1087: 453.592 | E1087: 911
A1088: CDE | B1088: 1368.714 | C1088: 1961.545 | D1088: 518.39 | E1088: 911
A1089: PGC | B1089: 1190.92 | C1089: 2545.505 | E1089: 911
A1090: V1 | B1090: 1298.021 | C1090: 2278.15 | E1090: 911
A1091: PG1 | B1091: 1999.336 | C1091: 1882.985 | D1091: 438.22 | E1091: 911
A1092: PG2 | B1092: 1903.078 | C1092: 1870.974 | D1092: 442.106 | E1092: 911
A1093: PG3 | B1093: 1831.175 | C1093: 1947.344 | D1093: 444.779 | E1093: 911
...

Sheet Feuille de calcul$
A1: KREGA-M.01887 | B1: 2031.1824 | C1: 2327.5084 | D1: 432.766 | E1: 920
A2: KREGA-P.00897 | B2: 1202.4306 | C2: 4770.1576 | D2: 462.77 | E2: 920
A3: KGRIL-L2.00020 | B3: -1067.9439 | C3: 2584.0522 | D3: 447.55 | E3: 920
A4: KREGA-M.00575 | B4: 1300.9704 | C4: 2279.0404 | D4: 451.914 | E4: 920
A5: 1283 | B5: 2003.55 | C5: 2233.052 | D5: 435.594 | E5: 920
A6: 2010 | B6: 1947.243 | C6: 2214.211 | D6: 437.835 | E6: 920
A7: 2008 | B7: 1955.772 | C7: 2224.706 | D7: 437.435 | E7: 920
A8: 1283 | B8: 2003.55 | C8: 2233.052 | D8: 435.594 | E8: 920
A9: 2010 | B9: 1947.243 | C9: 2214.211 | D9: 437.835 | E9: 920
A10: 2008 | B10: 1955.772 | C10: 2224.706 | D10: 437.435 | E10: 920
A11: 1008 | B11: 1966.2 | C11: 2224.535 | E11: 216
A12: 1005 | B12: 1965.862 | C12: 2226.11 | E12: 216
A13: 1003 | B13: 1958.941 | C13: 2230.669 | E13: 216
A14: 1002 | B14: 1953.862 | C14: 2240.833 | E14: 216
A15: 1000 | B15: 1954.637 | C15: 2243.611 | E15: 216
A16: 2000015 | B16: 1954.583 | C16: 2243.562 | D16: 435.681 | E16: 217
A17: 2000014 | B17: 1953.866 | C17: 2240.843 | D17: 436.005 | E17: 217
A18: 2000013 | B18: 1962.939 | C18: 2224.55 | D18: 437.199 | E18: 217
A19: 2000012 | B19: 1958.158 | C19: 2228.058 | D19: 437.223 | E19: 217
A20: 2000011 | B20: 1959.304 | C20: 2226.569 | D20: 437.489 | E20: 217
A21: 2000010 | B21: 1960.556 | C21: 2225.566 | D21: 437.284 | E21: 217
A22: 2000009 | B22: 1961.349 | C22: 2227.08 | D22: 437.401 | E22: 217
A23: 2000008 | B23: 1959.828 | C23: 2228.616 | D23: 437.312 | E23: 217
A24: 2000007 | B24: 1958.929 | C24: 2230.659 | D24: 437.183 | E24: 217
A25: 2000006 | B25: 1957.28 | C25: 2230.329 | D25: 437.026 | E25: 217
A26: 2000005 | B26: 1963.168 | C26: 2226.226 | D26: 437.423 | E26: 217
A27: 2000004 | B27: 1966.195 | C27: 2224.569 | D27: 437.181 | E27: 217
A28: 2000002 | B28: 1965.86 | C28: 2226.101 | D28: 437.222 | E28: 217
A29: 1055 | B29: 1954.588 | C29: 2243.568 | E29: 217
A30: 1054 | B30: 1954.588 | C30: 2243.568 | E30: 217
A31: 1053 | B31: 1964.279 | C31: 2226.023 | D31: 0 | E31: 217
A32: 1051 | B32: 1963.176 | C32: 2226.216 | D32: 0 | E32: 217
A33: 1000000001 | B33: 1958.646 | C33: 2219.698 | D33: 439.152 | E33: 915
A34: 2000001 | B34: 1948.487 | C34: 2246.684 | D34: 435.634 | E34: 915
A35: 2000000 | B35: 1936.444 | C35: 2275.484 | D35: 435.206 | E35: 915
A36: 2010 | B36: 1947.259 | C36: 2214.21 | D36: 437.836 | E36: 915
A37: 2009 | B37: 1935.925 | C37: 2273.539 | D37: 435.179 | E37: 915
A38: 2008 | B38: 1955.783 | C38: 2224.698 | D38: 437.445 | E38: 915
A39: 1331 | B39: 1925.564 | C39: 2305.045 | D39: 435.348 | E39: 915
A40: 1283 | B40: 2003.541 | C40: 2233.046 | D40: 435.584 | E40: 915
...
