Workbook

Sheet Récap
A1: Date | B1: Numéro SFE | C1: Récapitulatif | D1: Localisation | E1: Equipement | F1: VOiE | G1: PK | H1: REX | I1: Résolu | J1: analyse | K1: Consigne diverse
A2: 45293.398 | B2: SFE-34520 | C2: Défaut1 | D2: X | E2: Y | F2: Z | G2: 177 | I2: oui
A3: 45296.666 | B3: SFE-34594 | C3: Défaut2 | D3: X | E3: Y | F3: Z | G3: 158.289 | I3: oui
A4: 45296.789 | B4: SFE-34595 | C4: Défaut3 | D4: X | E4: Y | F4: Z | G4: 0 | I4: oui
A5: 45297.146 | B5: SFE-34596 | C5: Défaut4 | D5: X | E5: Y | F5: Z | G5: 0 | I5: oui
A6: 45297.856 | B6: SFE-34597 | C6: Défaut5 | D6: X | E6: Y | F6: Z | G6: 123.9 | I6: oui
A7: 45299.284 | B7: SFE-34598 | C7: Défaut6 | D7: X | E7: Y | F7: Z | G7: 123.925 | I7: oui
A8: 45299.287 | B8: SFE-34599 | C8: Défaut7 | D8: X | E8: Y | F8: Z | G8: 179.57 | I8: oui
A9: 45299.55 | B9: SFE-34603 | C9: Défaut8 | D9: X | E9: Y | F9: Z | G9: 1.76 | I9: oui
A10: 45299.796 | B10: SFE-34608 | C10: Défaut9 | D10: X | E10: Y | F10: Z | G10: 28.86 | I10: oui
A11: 45300.329 | B11: SFE-34612 | C11: Défaut10 | D11: X | E11: Y | F11: Z | G11: 172.45 | I11: oui
A12: 45300.348 | B12: SFE-34614 | C12: Défaut11 | D12: X | E12: Y | F12: Z | G12: 0 | I12: oui
A13: 45300.637 | B13: SFE-34616 | C13: Défaut12 | D13: X | E13: Y | F13: Z | G13: 17.407 | I13: oui
... A25: 45310.906 | B25: SFE-34715 | C25: Défaut24 | D25: X | E25: Y | F25: Z | G25: 158.289 | I25: NOn
A26: 45312.042 | B26: SFE-34718 | C26: Défaut25 | D26: X | E26: Y | F26: Z | I26: oui
A27: 45312.238 | B27: SFE-34719 | C27: Défaut26 | D27: X | E27: Y | F27: Z | G27: 28.86 | I27: oui
A28: 45312.28 | B28: SFE-34720 | C28: Défaut27 | D28: X | E28: Y | F28: Z | I28: oui
A29: 45312.88 | B29: SFE-34721 | C29: Défaut28 | D29: X | E29: Y | F29: Z | G29: 158.289 | I29: oui
A30: 45313.294 | B30: SFE-34724 | C30: Défaut29 | D30: X | E30: Y | F30: Z | G30: 157.811 | I30: oui
A31: 45315.122 | B31: SFE-34743 | C31: Défaut30 | D31: X | E31: Y | F31: Z | G31: 51.055 | I31: oui
A32: 45315.437 | B32: SFE-34744 | C32: Défaut31 | D32: X | E32: Y | F32: Z | G32: 51.055 | I32: oui
A33: 45315.64 | B33: SFE-34745 | C33: Défaut32 | D33: X | E33: Y | F33: Z | G33: 65.697 | I33: oui
A34: 45315.813 | B34: SFE-34746 | C34: Défaut33 | D34: X | E34: Y | F34: Z | G34: 168.2 | I34: oui
A35: 45317.131 | B35: SFE-34754 | C35: Défaut34 | D35: X | E35: Y | F35: Z | G35: 115.87 | I35: oui
A36: 45317.297 | B36: SFE-34757 | C36: Défaut35 | D36: X | E36: Y | F36: Z | G36: 5.07 | I36: oui
A37: 45317.675 | B37: SFE-34761 | C37: Défaut36 | D37: X | E37: Y | F37: Z | G37: 69.77 | I37: oui
A38: 45320.299 | B38: SFE-34762 | C38: Défaut37 | D38: X | E38: Y | F38: Z | G38: 7.367 | I38: oui
A39: 45320.378 | B39: SFE-34763 | C39: Défaut38 | D39: X | E39: Y | F39: Z | G39: 1.64 | I39: oui
A40: 45320.403 | B40: SFE-34764 | C40: Défaut39 | D40: X | E40: Y | F40: Z | G40: 0 | I40: oui
... A257: 45559.383 | B257: SFE-37466 | C257: Défaut256 | D257: X | E257: Y | F257: Z | G257: 1 | I257: oui
A258: 45559.473 | B258: SFE-37467 | C258: Défaut257 | D258: X | E258: Y | F258: Z | G258: 1 | H258: Chantier sur ligne classique | I258: oui | J258: Non
A259: 45561.464 | B259: SFE-37500 | C259: Défaut258 | D259: X | E259: Y | F259: Z | G259: 1 | I259: oui
A260: 45562.359 | B260: SFE-37515 | C260: Défaut259 | D260: X | E260: Y | F260: Z | G260: 1 | I260: oui
A261: 45564.378 | B261: SFE-37518 | C261: Défaut260 | D261: X | E261: Y | F261: Z | G261: 1 | I261: oui
A262: 45565.392 | B262: SFE-37519 | C262: Défaut261 | D262: X | E262: Y | F262: Z | G262: 1 | I262: oui
A263: 45565.415 | B263: SFE-37520 | C263: Défaut262 | D263: X | E263: Y | F263: Z | G263: 1 | I263: oui
A264: 45565.537 | B264: SFE-37521 | C264: Défaut263 | D264: X | E264: Y | F264: Z | G264: 1 | I264: oui
A265: 45567.849 | B265: SFE-37548 | C265: Défaut264 | D265: X | E265: Y | F265: Z | G265: 1 | I265: oui
A266: 45568.285 | B266: SFE-37557 | C266: Défaut265 | D266: X | E266: Y | F266: Z | G266: 1 | I266: oui
A267: 45570.505 | B267: SFE-37562 | C267: Défaut266 | D267: X | E267: Y | F267: Z | G267: 1 | I267: oui
A268: 45571.085 | B268: SFE-37563 | C268: Défaut267 | D268: X | E268: Y | F268: Z | G268: 1 | I268: oui
A269: 45571.843 | B269: SFE-37564 | C269: Défaut268 | D269: X | E269: Y | F269: Z | G269: 1 | I269: oui
A270: 45572.351 | B270: SFE-37566 | C270: Défaut269 | D270: X | E270: Y | F270: Z | G270: 1 | I270: oui
... A281: 45600 | B281: SFE-37795 | C281: Défaut280 | D281: X | E281: Y | F281: Z | G281: 1 | I281: oui
A282: 45600 | B282: SFE-37796 | C282: Défaut281 | D282: X | E282: Y | F282: Z | G282: 1 | H282: Aucune analyse car affecté au COBPL / problème conducteur | I282: oui | J282: Non
A283: 45600 | B283: SFE-37813 | C283: Défaut282 | D283: X | E283: Y | F283: Z | G283: 1 | I283: oui
A284: 45601 | B284: SFE-37815 | C284: Défaut283 | D284: X | E284: Y | F284: Z | G284: 1 | I284: oui | J284: Non
A285: 45603 | B285: SFE-37856 | C285: Défaut284 | D285: X | E285: Y | F285: Z | G285: 1 | I285: oui
A286: 45604 | B286: SFE-37864 | C286: Défaut285 | D286: X | E286: Y | F286: Z | G286: 1 | I286: oui
A287: 45607 | B287: SFE-37868 | C287: Défaut286 | D287: X | E287: Y | F287: Z | G287: 1 | I287: oui
A288: 45607 | B288: SFE-37869 | C288: Défaut287 | D288: X | E288: Y | F288: Z | G288: 1 | H288: Cause sol | I288: oui
A289: 45608 | B289: SFE-37870 | C289: Défaut288 | D289: X | E289: Y | F289: Z | G289: 1 | H289: Cause sol | I289: oui
A290: 45609 | B290: SFE-37892 | C290: Défaut289 | D290: X | E290: Y | F290: Z | G290: 1 | H290: Disjonction général du portail BMS | I290: oui
A291: 45610 | B291: SFE-37898 | C291: Défaut290 | D291: X | E291: Y | F291: Z | G291: 1 | I291: oui
A292: 45610 | B292: SFE-37901 | C292: Défaut291 | D292: X | E292: Y | F292: Z | G292: 1 | I292: oui
A293: 45610 | B293: SFE-37916 | C293: Défaut292 | D293: X | E293: Y | F293: Z | G293: 1 | H293: Disparue sans intervention | I293: oui
A294: 45611 | B294: SFE-37921 | C294: Défaut293 | D294: X | E294: Y | F294: Z | G294: 1 | H294: Problème serrure | I294: oui
A295: 45611 | B295: SFE-37934 | C295: Défaut294 | D295: X | E295: Y | F295: Z | G295: 1 | H295: Redémarage | I295: oui
A296: 45615 | B296: SFE-37964 | C296: Défaut295 | D296: X | E296: Y | F296: Z | G296: 1 | I296: oui
A297: 45616 | B297: SFE-37968 | C297: Défaut296 | D297: X | E297: Y | F297: Z | G297: 1 | I297: oui
A298: 45616 | B298: SFE-37986 | C298: Défaut297 | D298: X | E298: Y | F298: Z | G298: 1 | I298: oui
A299: 45616 | B299: SFE-37989 | C299: Défaut298 | D299: X | E299: Y | F299: Z | G299: 1 | I299: oui
A300: 45617 | B300: SFE-37991 | C300: Défaut299 | D300: X | E300: Y | F300: Z | G300: 1 | I300: oui
A301: 45617 | B301: SFE-37993 | C301: Défaut300 | D301: X | E301: Y | F301: Z | G301: 1 | I301: oui
A302: 45617 | B302: SFE-37994 | C302: Défaut301 | D302: X | E302: Y | F302: Z | G302: 1 | I302: oui
A303: 45617 | B303: SFE-37999 | C303: Défaut302 | D303: X | E303: Y | F303: Z | G303: 1 | I303: oui
A304: 45617 | B304: SFE-38001 | C304: Défaut303 | D304: X | E304: Y | F304: Z | G304: 1 | I304: oui
A305: 45618 | B305: SFE-38006 | C305: Défaut304 | D305: X | E305: Y | F305: Z | G305: 1 | I305: oui
A306: 45619 | B306: SFE-38012 | C306: Défaut305 | D306: X | E306: Y | F306: Z | G306: 1 | I306: oui
A307: 45620 | B307: SFE-38014 | C307: Défaut306 | D307: X | E307: Y | F307: Z | G307: 1 | I307: oui
... A332: 45646 | B332: SFE-38299 | C332: Défaut331 | D332: X | E332: Y | F332: Z | G332: 1 | I332: oui
A333: 45649 | B333: SFE-38303 | C333: Défaut332 | D333: X | E333: Y | F333: Z | G333: 1 | H333: RAS | I333: oui
A334: 45652 | B334: SFE-38311 | C334: Défaut333 | D334: X | E334: Y | F334: Z | G334: 1 | H334: RAS | I334: oui
A335: 45653 | B335: SFE-38326 | C335: Défaut334 | D335: X | E335: Y | F335: Z | G335: 1 | H335: HS | I335: oui
A336: 45664 | B336: SFE-38369 | C336: Défaut335 | D336: X | E336: Y | F336: Z | G336: 1 | H336: HS | I336: oui
A337: 45667 | B337: SFE-38431 | C337: Défaut336 | D337: X | E337: Y | F337: Z | G337: 1 | H337: RAS | I337: oui
A338: 45667 | B338: SFE-38433 | C338: Défaut337 | D338: X | E338: Y | F338: Z | G338: 1 | H338: a remplacer | I338: oui
A339: 45667 | B339: SFE-38435 | C339: Défaut338 | D339: X | E339: Y | F339: Z | G339: 1 | I339: oui
A340: 45670 | B340: SFE-38452 | C340: Défaut339 | D340: X | E340: Y | F340: Z | G340: 1 | I340: oui
A341: 45670 | B341: SFE-38453 | C341: Défaut340 | D341: X | E341: Y | F341: Z | G341: 1 | I341: oui
A342: 45670 | B342: SFE-38454 | C342: Défaut341 | D342: X | E342: Y | F342: Z | G342: 1 | I342: oui
A343: 45679 | B343: SFE-38496 | C343: Défaut342 | D343: X | E343: Y | F343: Z | G343: 1 | I343: oui
A344: 45680 | B344: SFE-38503 | C344: Défaut343 | D344: X | E344: Y | F344: Z | G344: 1 | I344: oui
A345: 45681 | B345: SFE-38517 | C345: Défaut344 | D345: X | E345: Y | F345: Z | G345: 1 | I345: oui
A346: 45685 | B346: SFE-38549 | C346: Défaut345 | D346: X | E346: Y | F346: Z | G346: 1 | I346: oui
A347: 45686 | B347: SFE-38555 | C347: Défaut346 | D347: X | E347: Y | F347: Z | G347: 1 | I347: oui
A348: 45687 | B348: SFE-38571 | C348: Défaut347 | D348: X | E348: Y | F348: Z | G348: 1 | I348: oui
A349: 45690 | B349: SFE-38614 | C349: Défaut348 | D349: X | E349: Y | F349: Z | G349: 1 | I349: oui
A350: 45691 | B350: SFE-38616 | C350: Défaut349 | D350: X | E350: Y | F350: Z | G350: 1 | I350: oui
... A360: 45702 | B360: SFE-38697 | C360: Défaut359 | D360: X | E360: Y | F360: Z | G360: 2 | I360: oui

Sheet Bilan astreinte
A2: BILAN ASTREINTE S-1 | K2: SEMAINE N° | L2: =WEEKNUM(TODAY()) -> 8 | M2: / 2025
A3: Date | B3: Numéro SFE | C3: Récaputilatif | F3: REX | M3: Résolu
A4: {=_xlfn._xlws.SORT(_xlfn._xlws.FILTER(_xlfn.CHOOSECOLS(Tableau3[],1,2,3,8,9),Tableau3[Date]>=(TODAY()-8),""))} -> 45702 | B4: SFE-38697 | C4: Défaut359 | D4: 0 | E4: oui
A5: {=_xlfn._xlws.SORT(_xlfn._xlws.FILTER(_xlfn.CHOOSECOLS(Tableau3[],1,2),Tableau3[Date]>=(TODAY()-8),""))} -> 45702 | B5: SFE-38697 | C5: =_xlfn.XLOOKUP(B5,Tableau3[Numéro SFE],Tableau3[Récapitulatif],"",0) -> Défaut359 | F5: =_xlfn.XLOOKUP(B5,Tableau3[Numéro SFE],Tableau3[REX],"",0) -> 0 | M5: =_xlfn.XLOOKUP(B5,Tableau3[Numéro SFE],Tableau3[Résolu],"",0) -> oui
A12: CONSIGNE ASTREINTE
A13: Date | B13: Numéro SFE | C13: Récaputilatif | G13: Consigne
A14: {=_xlfn._xlws.SORT(_xlfn._xlws.FILTER(_xlfn.CHOOSECOLS(Tableau3[],1,2),LOWER(Tableau3[Résolu])="non",""))} -> 45307.641 | B14: SFE-34682 | C14: =_xlfn.XLOOKUP(B14,Tableau3[Numéro SFE],Tableau3[Récapitulatif],"",0) -> Défaut22 | G14: =_xlfn.XLOOKUP(B14,Tableau3[Numéro SFE],Tableau3[Consigne diverse],"",0) -> 0
A15: 45309.413 | B15: SFE-34702 | C15: =_xlfn.XLOOKUP(B15,Tableau3[Numéro SFE],Tableau3[Récapitulatif],"",0) -> Défaut23 | G15: =_xlfn.XLOOKUP(B15,Tableau3[Numéro SFE],Tableau3[Consigne diverse],"",0) -> 0
A16: 45310.906 | B16: SFE-34715 | C16: =_xlfn.XLOOKUP(B16,Tableau3[Numéro SFE],Tableau3[Récapitulatif],"",0) -> Défaut24 | G16: =_xlfn.XLOOKUP(B16,Tableau3[Numéro SFE],Tableau3[Consigne diverse],"",0) -> 0
C17: =_xlfn.XLOOKUP(B17,Tableau3[Numéro SFE],Tableau3[Récapitulatif],"",0) | G17: =_xlfn.XLOOKUP(B17,Tableau3[Numéro SFE],Tableau3[Consigne diverse],"",0)
C18: =_xlfn.XLOOKUP(B18,Tableau3[Numéro SFE],Tableau3[Récapitulatif],"",0) | G18: =_xlfn.XLOOKUP(B18,Tableau3[Numéro SFE],Tableau3[Consigne diverse],"",0)
C19: =_xlfn.XLOOKUP(B19,Tableau3[Numéro SFE],Tableau3[Récapitulatif],"",0) | G19: =_xlfn.XLOOKUP(B19,Tableau3[Numéro SFE],Tableau3[Consigne diverse],"",0)
C20: =_xlfn.XLOOKUP(B20,Tableau3[Numéro SFE],Tableau3[Récapitulatif],"",0) | G20: =_xlfn.XLOOKUP(B20,Tableau3[Numéro SFE],Tableau3[Consigne diverse],"",0)
A21: Opérateur | B21: Base | D21: H de service avant la prise d'astr. | E21: H sup. semaine | G21: Habilitation (lien SharePoint) | J21: Observation
A22: OPERATEUR 1 | B22: Toute la ligne | D22: / | E22: / | G22: =IF(ISBLANK(A22),"",HYPERLINK(VLOOKUP($A22,Paramétrage!$A$3:$H$190,5,0))) -> Lien
A23: OPERATEUR 12 | B23: Toute la ligne | D23: 8h30 à 16h30 (-1h00 de pause) | E23: 0h00 | G23: =IF(ISBLANK(A23),"",HYPERLINK(VLOOKUP($A23,Paramétrage!$A$3:$H$190,5,0))) -> Lien
G24: =IF(ISBLANK(A24),"",HYPERLINK(VLOOKUP($A24,Paramétrage!$A$3:$H$190,5,0)))
G25: =IF(ISBLANK(A25),"",HYPERLINK(VLOOKUP($A25,Paramétrage!$A$3:$H$190,5,0)))
G26: =IF(ISBLANK(A26),"",HYPERLINK(VLOOKUP($A26,Paramétrage!$A$3:$H$190,5,0)))

Sheet Paramétrage
A1: Opérateur | B1: information | C1: Fin de service | D1: Base | E1: Habilitation | F1: mail | G1: Fonction | H1: Liste diffusion | I1: Résolu
I2: Oui
A3: OPERATEUR 1 | B3: 0 | C3: 16h30 | E3: Lien | I3: Non
A4: OPERATEUR 2 | B4: 1 | C4: 16h30 | D4: BML | E4: Lien | I4: A surveiller
A5: OPERATEUR 3 | B5: 0 | C5: 16h30 | D5: BMS | E5: Lien
A6: OPERATEUR 4 | B6: 0 | C6: 16h30 | D6: Toute la ligne | E6: Lien
A7: OPERATEUR 5 | B7: 0 | C7: 16h30 | E7: Lien
A8: OPERATEUR 6 | B8: 0 | C8: 16h30 | E8: Lien
A9: OPERATEUR 7 | B9: 1 | C9: 18h30 | E9: Lien
A10: OPERATEUR 8 | B10: 0 | C10: 16h30 | E10: Lien
A11: OPERATEUR 9 | B11: 2 | C11: 16h30 | E11: Lien
A12: OPERATEUR 10 | B12: 0 | C12: 16h30 | E12: Lien
A13: OPERATEUR 11 | B13: 2 | C13: 16h30 | E13: Lien
A14: OPERATEUR 12 | B14: 2 | C14: 16h30 | E14: Lien
A15: OPERATEUR 13 | B15: 0 | C15: 16h30 | E15: Lien
A16: OPERATEUR 14 | B16: 0 | C16: 16h30 | E16: Lien
A17: OPERATEUR 15 | B17: 1 | C17: 16h30 | E17: Lien
A18: OPERATEUR 16 | B18: 2 | C18: NC | E18: Lien
... A21: OPERATEUR 19 | B21: 2 | C21: 16h30 | E21: Lien
