Workbook

Sheet Récap
A1: Date | B1: Numéro SFE | C1: Récapitulatif | D1: Localisation | E1: Equipement | F1: VOiE | G1: PK | H1: REX | I1: Résolu | J1: analyse | K1: Consigne diverse
A2: 45293.398 | B2: SFE-34520 | C2: Défaut1 | D2: X | E2: Y | F2: Z | G2: 177 | I2: oui
A3: 45296.666 | B3: SFE-34594 | C3: Défaut2 | D3: X | E3: Y | F3: Z | G3: 158.289 | I3: oui
A4: 45296.789 | B4: SFE-34595 | C4: Défaut3 | D4: X | E4: Y | F4: Z | G4: 0 | I4: oui
A5: 45297.146 | B5: SFE-34596 | C5: Défaut4 | D5: X | E5: Y | F5: Z | G5: 0 | I5: oui
A6: 45297.856 | B6: SFE-34597 | C6: Défaut5 | D6: X | E6: Y | F6: Z | G6: 123.9 | I6: oui
A7: 45299.284 | B7: SFE-34598 | C7: Défaut6 | D7: X | E7: Y | F7: Z | G7: 123.925 | I7: oui
A8: 45299.287 | B8: SFE-34599 | C8: Défaut7 | D8: X | E8: Y | F8: Z | G8: 179.57 | I8: oui
A9: 45299.55 | B9: SFE-34603 | C9: Défaut8 | D9: X | E9: Y | F9: Z | G9: 1.76 | I9: oui
A10: 45299.796 | B10: SFE-34608 | C10: Défaut9 | D10: X | E10: Y | F10: Z | G10: 28.86 | I10: oui
A11: 45300.329 | B11: SFE-34612 | C11: Défaut10 | D11: X | E11: Y | F11: Z | G11: 172.45 | I11: oui
A12: 45300.348 | B12: SFE-34614 | C12: Défaut11 | D12: X | E12: Y | F12: Z | G12: 0 | I12: oui
A13: 45300.637 | B13: SFE-34616 | C13: Défaut12 | D13: X | E13: Y | F13: Z | G13: 17.407 | I13: oui
... A25: 45310.906 | B25: SFE-34715 | C25: Défaut24 | D25: X | E25: Y | F25: Z | G25: 158.289 | I25: NOn
A26: 45312.042 | B26: SFE-34718 | C26: Défaut25 | D26: X | E26: Y | F26: Z | I26: oui
A27: 45312.238 | B27: SFE-34719 | C27: Défaut26 | D27: X | E27: Y | F27: Z | G27: 28.86 | I27: oui
A28: 45312.28 | B28: SFE-34720 | C28: Défaut27 | D28: X | E28: Y | F28: Z | I28: oui
A29: 45312.88 | B29: SFE-34721 | C29: Défaut28 | D29: X | E29: Y | F29: Z | G29: 158.289 | I29: oui
A30: 45313.294 | B30: SFE-34724 | C30: Défaut29 | D30: X | E30: Y | F30: Z | G30: 157.811 | I30: oui
A31: 45315.122 | B31: SFE-34743 | C31: Défaut30 | D31: X | E31: Y | F31: Z | G31: 51.055 | I31: oui
A32: 45315.437 | B32: SFE-34744 | C32: Défaut31 | D32: X | E32: Y | F32: Z | G32: 51.055 | I32: oui
A33: 45315.64 | B33: SFE-34745 | C33: Défaut32 | D33: X | E33: Y | F33: Z | G33: 65.697 | I33: oui
A34: 45315.813 | B34: SFE-34746 | C34: Défaut33 | D34: X | E34: Y | F34: Z | G34: 168.2 | I34: oui
A35: 45317.131 | B35: SFE-34754 | C35: Défaut34 | D35: X | E35: Y | F35: Z | G35: 115.87 | I35: oui
A36: 45317.297 | B36: SFE-34757 | C36: Défaut35 | D36: X | E36: Y | F36: Z | G36: 5.07 | I36: oui
A37: 45317.675 | B37: SFE-34761 | C37: Défaut36 | D37: X | E37: Y | F37: Z | G37: 69.77 | I37: oui
A38: 45320.299 | B38: SFE-34762 | C38: Défaut37 | D38: X | E38: Y | F38: Z | G38: 7.367 | I38: oui
A39: 45320.378 | B39: SFE-34763 | C39: Défaut38 | D39: X | E39: Y | F39: Z | G39: 1.64 | I39: oui
A40: 45320.403 | B40: SFE-34764 | C40: Défaut39 | D40: X | E40: Y | F40: Z | G40: 0 | I40: oui
... A257: 45559.383 | B257: SFE-37466 | C257: Défaut256 | D257: X | E257: Y | F257: Z | G257: 1 | I257: oui
A258: 45559.473 | B258: SFE-37467 | C258: Défaut257 | D258: X | E258: Y | F258: Z | G258: 1 | H258: Chantier sur ligne classique | I258: oui | J258: Non
A259: 45561.464 | B259: SFE-37500 | C259: Défaut258 | D259: X | E259: Y | F259: Z | G259: 1 | I259: oui
A260: 45562.359 | B260: SFE-37515 | C260: Défaut259 | D260: X | E260: Y | F260: Z | G260: 1 | I260: oui
A261: 45564.378 | B261: SFE-37518 | C261: Défaut260 | D261: X | E261: Y | F261: Z | G261: 1 | I261: oui
A262: 45565.392 | B262: SFE-37519 | C262: Défaut261 | D262: X | E262: Y | F262: Z | G262: 1 | I262: oui
A263: 45565.415 | B263: SFE-37520 | C263: Défaut262 | D263: X | E263: Y | F263: Z | G263: 1 | I263: oui
A264: 45565.537 | B264: SFE-37521 | C264: Défaut263 | D264: X | E264: Y | F264: Z | G264: 1 | I264: oui
A265: 45567.849 | B265: SFE-37548 | C265: Défaut264 | D265: X | E265: Y | F265: Z | G265: 1 | I265: oui
A266: 45568.285 | B266: SFE-37557 | C266: Défaut265 | D266: X | E266: Y | F266: Z | G266: 1 | I266: oui
A267: 45570.505 | B267: SFE-37562 | C267: Défaut266 | D267: X | E267: Y | F267: Z | G267: 1 | I267: oui
...

Sheet Bilan astreinte
A2: BILAN ASTREINTE S-1 | K2: SEMAINE N° | L2: =WEEKNUM(TODAY()) -> 8 | M2: / 2025
A3: Date | B3: Numéro SFE | C3: Récaputilatif | F3: REX | M3: Résolu
A4: {=_xlfn._xlws.SORT(_xlfn._xlws.FILTER(_xlfn.CHOOSECOLS(Tableau3[],1,2,3,8,9),Tableau3[Date]>=(TODAY()-8),""))} -> 45702 | B4: SFE-38697 | C4: Défaut359 | D4: 0 | E4: oui
A5: {=_xlfn._xlws.SORT(_xlfn._xlws.FILTER(_xlfn.CHOOSECOLS(Tableau3[],1,2),Tableau3[Date]>=(TODAY()-8),""))} -> 45702 | B5: SFE-38697 | C5: =_xlfn.XLOOKUP(B5,Tableau3[Numéro SFE],Tableau3[Récapitulatif],"",0) -> Défaut359 | F5: =_xlfn.XLOOKUP(B5,Tableau3[Numéro SFE],Tableau3[REX],"",0) -> 0 | M5: =_xlfn.XLOOKUP(B5,Tableau3[Numéro SFE],Tableau3[Résolu],"",0) -> oui
A12: CONSIGNE ASTREINTE
A13: Date | B13: Numéro SFE | C13: Récaputilatif | G13: Consigne
A14: {=_xlfn._xlws.SORT(_xlfn._xlws.FILTER(_xlfn.CHOOSECOLS(Tableau3[],1,2),LOWER(Tableau3[Résolu])="non",""))} -> 45307.641 | B14: SFE-34682 | C14: =_xlfn.XLOOKUP(B14,Tableau3[Numéro SFE],Tableau3[Récapitulatif],"",0) -> Défaut22 | G14: =_xlfn.XLOOKUP(B14,Tableau3[Numéro SFE],Tableau3[Consigne diverse],"",0) -> 0
A15: 45309.413 | B15: SFE-34702 | C15: =_xlfn.XLOOKUP(B15,Tableau3[Numéro SFE],Tableau3[Récapitulatif],"",0) -> Défaut23 | G15: =_xlfn.XLOOKUP(B15,Tableau3[Numéro SFE],Tableau3[Consigne diverse],"",0) -> 0
A16: 45310.906 | B16: SFE-34715 | C16: =_xlfn.XLOOKUP(B16,Tableau3[Numéro SFE],Tableau3[Récapitulatif],"",0) -> Défaut24 | G16: =_xlfn.XLOOKUP(B16,Tableau3[Numéro SFE],Tableau3[Consigne diverse],"",0) -> 0
C17: =_xlfn.XLOOKUP(B17,Tableau3[Numéro SFE],Tableau3[Récapitulatif],"",0) | G17: =_xlfn.XLOOKUP(B17,Tableau3[Numéro SFE],Tableau3[Consigne diverse],"",0)
C18: =_xlfn.XLOOKUP(B18,Tableau3[Numéro SFE],Tableau3[Récapitulatif],"",0) | G18: =_xlfn.XLOOKUP(B18,Tableau3[Numéro SFE],Tableau3[Consigne diverse],"",0)
C19: =_xlfn.XLOOKUP(B19,Tableau3[Numéro SFE],Tableau3[Récapitulatif],"",0) | G19: =_xlfn.XLOOKUP(B19,Tableau3[Numéro SFE],Tableau3[Consigne diverse],"",0)
C20: =_xlfn.XLOOKUP(B20,Tableau3[Numéro SFE],Tableau3[Récapitulatif],"",0) | G20: =_xlfn.XLOOKUP(B20,Tableau3[Numéro SFE],Tableau3[Consigne diverse],"",0)
A21: Opérateur | B21: Base | D21: H de service avant la prise d'astr. | E21: H sup. semaine | G21: Habilitation (lien SharePoint) | J21: Observation
A22: OPERATEUR 1 | B22: Toute la ligne | D22: / | E22: / | G22: =IF(ISBLANK(A22),"",HYPERLINK(VLOOKUP($A22,Paramétrage!$A$3:$H$190,5,0))) -> Lien
A23: OPERATEUR 12 | B23: Toute la ligne | D23: 8h30 à 16h30 (-1h00 de pause) | E23: 0h00 | G23: =IF(ISBLANK(A23),"",HYPERLINK(VLOOKUP($A23,Paramétrage!$A$3:$H$190,5,0))) -> Lien
G24: =IF(ISBLANK(A24),"",HYPERLINK(VLOOKUP($A24,Paramétrage!$A$3:$H$190,5,0)))
G25: =IF(ISBLANK(A25),"",HYPERLINK(VLOOKUP($A25,Paramétrage!$A$3:$H$190,5,0)))
G26: =IF(ISBLANK(A26),"",HYPERLINK(VLOOKUP($A26,Paramétrage!$A$3:$H$190,5,0)))

Sheet Paramétrage
A1: Opérateur | B1: information | C1: Fin de service | D1: Base | E1: Habilitation | F1: mail | G1: Fonction | H1: Liste diffusion | I1: Résolu
I2: Oui
A3: OPERATEUR 1 | B3: 0 | C3: 16h30 | E3: Lien | I3: Non
A4: OPERATEUR 2 | B4: 1 | C4: 16h30 | D4: BML | E4: Lien | I4: A surveiller
A5: OPERATEUR 3 | B5: 0 | C5: 16h30 | D5: BMS | E5: Lien
A6: OPERATEUR 4 | B6: 0 | C6: 16h30 | D6: Toute la ligne | E6: Lien
A7: OPERATEUR 5 | B7: 0 | C7: 16h30 | E7: Lien
A8: OPERATEUR 6 | B8: 0 | C8: 16h30 | E8: Lien
A9: OPERATEUR 7 | B9: 1 | C9: 18h30 | E9: Lien
A10: OPERATEUR 8 | B10: 0 | C10: 16h30 | E10: Lien
A11: OPERATEUR 9 | B11: 2 | C11: 16h30 | E11: Lien
A12: OPERATEUR 10 | B12: 0 | C12: 16h30 | E12: Lien
A13: OPERATEUR 11 | B13: 2 | C13: 16h30 | E13: Lien
A14: OPERATEUR 12 | B14: 2 | C14: 16h30 | E14: Lien
A15: OPERATEUR 13 | B15: 0 | C15: 16h30 | E15: Lien
A16: OPERATEUR 14 | B16: 0 | C16: 16h30 | E16: Lien
A17: OPERATEUR 15 | B17: 1 | C17: 16h30 | E17: Lien
A18: OPERATEUR 16 | B18: 2 | C18: NC | E18: Lien
... A21: OPERATEUR 19 | B21: 2 | C21: 16h30 | E21: Lien
