Workbook

Sheet Indicateur Activité _en test
A1: Activité (le cumul des menuiseries fabriquées)
B7: Ligne RAPIDE + Ligne SPECIFIQUE +Bi-COULISSANT + HORS COTES
B9: MOYENNE MOIS | Q9: Semaine 1 | W9: Semaine 2 | AC9: Semaine 3 | AI9: Semaine 4 | AO9: Semaine 5
A11: 7800 | P11: 1560 | V11: 1560 | AB11: 1560 | AH11: 1560 | AN11: 1560
A13: 7600 | P13: 1520 | V13: 1520 | AB13: 1520 | AH13: 1520 | AN13: 1520
A15: 7400 | P15: 1480 | V15: 1480 | AB15: 1480 | AH15: 1480 | AN15: 1480
A17: 7200 | P17: 1440 | V17: 1440 | AB17: 1440 | AH17: 1440 | AN17: 1440
A19: 7000 | P19: 1400 | V19: 1400 | AB19: 1400 | AH19: 1400 | AN19: 1400
A21: 6800 | P21: 1360 | V21: 1360 | AB21: 1360 | AH21: 1360 | AN21: 1360
A23: 6600 | P23: 1320 | V23: 1320 | AB23: 1320 | AH23: 1320 | AN23: 1320
A25: 6400 | P25: 1280 | V25: 1280 | AB25: 1280 | AH25: 1280 | AN25: 1280
A27: 6200 | P27: 1240 | V27: 1240 | AB27: 1240 | AH27: 1240 | AN27: 1240
A29: 5920 | P29: 1200 | V29: 1200 | AB29: 1200 | AH29: 1200 | AN29: 1200
A31: 5800 | P31: 1160 | V31: 1160 | AB31: 1160 | AH31: 1160 | AN31: 1160
A33: 5600 | P33: 1120 | V33: 1120 | AB33: 1120 | AH33: 1120 | AN33: 1120
... A87: 200 | P87: 40 | V87: 40 | AB87: 40 | AH87: 40 | AN87: 40
A89: 0 | B89: J | C89: F | D89: M | E89: A | F89: M | G89: J | H89: J | I89: A | J89: S | K89: O | L89: N | M89: D | P89: 0 | Q89: L | R89: M | S89: M | T89: J | U89: V | V89: 0 | W89: L | X89: M | Y89: M | Z89: J | AA89: V | AB89: 0 | AC89: L | AD89: M | AE89: M | AF89: J | AG89: V | AH89: 0 | AI89: L | AJ89: M | AK89: M | AL89: J | AM89: V | AN89: 0 | AO89: L | AP89: M | AQ89: M | AR89: J | AS89: V
A90: Productivité
A95: Nombre de menuiseries à fabriquer suivant l'effectif présent
B96: 54 | F96: 52 | J96: 50 | O96: Effectif THEORIQUE | P96: 54 | Q96: L | R96: M | S96: M | T96: J | U96: V | W96: L | X96: M | Y96: M | Z96: J | AA96: V | AC96: L | AD96: M | AE96: M | AF96: J | AG96: V | AI96: L | AJ96: M | AK96: M | AL96: J | AM96: V | AO96: L | AP96: M | AQ96: M | AR96: J | AS96: V
A97: Base horaire | B97: P°/sem | D97: P°/jr | F97: P°/sem | H97: P°/jr | J97: P°/sem | L97: P°/jr | O97: nb absent(s)
A98: 35 | B98: =ROUNDDOWN(B96*$A$98/$B$102,-1) -> 1480 | D98: =ROUND(B98/4.5,-1) -> 330 | F98: =ROUNDDOWN(F96*$A$98/$B$102,-1) -> 1430 | G98: =ROUNDDOWN($U96*F$66/$T$64,-1) -> #VALUE! | H98: =ROUND(F98/4.5,-1) -> 320 | J98: =ROUNDDOWN(J96*$A$98/$B$102,-1) -> 1370 | K98: =ROUNDDOWN($U96*J$66/$T$64,-1) -> #VALUE! | L98: =ROUND(J98/4.5,-1) -> 300
A100: 37 | B100: =ROUNDDOWN(B96*$A$100/$B$102,-1) -> 1570 | D100: =ROUND(B100/4.5,-1) -> 350 | F100: =ROUNDDOWN(F96*$A$100/$B$102,-1) -> 1510 | G100: =ROUNDDOWN($U96*F$67/$T$64,-1) -> #VALUE! | H100: =ROUND(F100/4.5,-1) -> 340 | J100: =ROUNDDOWN(J96*$A$100/$B$102,-1) -> 1450 | K100: =ROUNDDOWN($U96*J$67/$T$64,-1) -> #VALUE! | L100: =ROUND(J100/4.5,-1) -> 320
A102: Objectif Productivité | B102: 1.27
H105: MOIS :

Sheet Indicateur Cde P
A1: Activité (le cumul des tombées de commandes)
A7: SUIVI DES COMMANDES PVC
C9: EVOLUTION ANNUELLE
P89: 49
C92: 0 | D92: 0 | E92: 0 | F92: 0 | G92: 0 | H92: 0 | I92: 0 | J92: 0 | K92: 0 | L92: 0 | M92: 0 | N92: 0
B93: CHANTIERS A VENIR
Q95: CUMULE 2020 | U95: ='Indicateur graph cde_glob'!J67 -> 10571 | W95: =U95/U98-1 -> 0.053308091
A96: client | B96: nb men | C96: 43831 | D96: 43862 | E96: 43891 | F96: 43922 | G96: 43952 | H96: 43983 | I96: 44013 | J96: 44044 | K96: 44075 | L96: 44105 | M96: 44136 | N96: 44166
A98: CHRETIENS | B98: 144 | C98: 144 | Q98: CUMULE 2019 | U98: ='Indicateur graph cde_glob'!K67 -> 10036
A99: K&B BRUYERE | B99: 713 | C99: 200 | D99: 200 | E99: 200 | F99: 113 | G99: 360 pces K&B elancourt
A100: CASEO | D100: 54 pces S10 - 50 pces S13 puis 2nd semestre
A101: SAME | D101: 67 pces lot 9 délai 10 plaxé 1f avec VRI
B105: ANNEE : | E105: 2020

Sheet Indicateur Cde CCE P
A1: Activité (le cumul des tombées de commandes)
A7: SUIVI DES COMMANDES PVC / RESEAU
A9: BSA (dt Uab) | H9: INDUSTRIE | O9: ARCADES ET BAIES | V9: FILIALES (Alf / Prodim / Mdf) | AD9: GLOBAL
A54: =SUM(B54:F54) -> 1854 | B54: =+VLOOKUP(B56,Recap_cde_P!$C$5:$T$57,15,FALSE) -> 484 | C54: =+VLOOKUP(C56,Recap_cde_P!$C$5:$T$57,15,FALSE) -> 443 | D54: =+VLOOKUP(D56,Recap_cde_P!$C$5:$T$57,15,FALSE) -> 438 | E54: =+VLOOKUP(E56,Recap_cde_P!$C$5:$T$57,15,FALSE) -> 489 | H54: =SUM(I54:M54) -> 1848 | I54: =+VLOOKUP(I56,Recap_cde_P!$C$5:$T$57,16,FALSE) -> 503 | J54: =+VLOOKUP(J56,Recap_cde_P!$C$5:$T$57,16,FALSE) -> 569 | K54: =+VLOOKUP(K56,Recap_cde_P!$C$5:$T$57,16,FALSE) -> 362 | L54: =+VLOOKUP(L56,Recap_cde_P!$C$5:$T$57,16,FALSE) -> 414 | O54: =SUM(P54:T54) -> 288 | P54: =+VLOOKUP(P56,Recap_cde_P!$C$5:$T$57,17,FALSE) -> 97 | Q54: =+VLOOKUP(Q56,Recap_cde_P!$C$5:$T$57,17,FALSE) -> 77 | R54: =+VLOOKUP(R56,Recap_cde_P!$C$5:$T$57,17,FALSE) -> 62 | S54: =+VLOOKUP(S56,Recap_cde_P!$C$5:$T$57,17,FALSE) -> 52 | V54: =SUM(W54:AA54) -> 835 | W54: =+VLOOKUP(W56,Recap_cde_P!$C$5:$T$57,18,FALSE) -> 180 | X54: =+VLOOKUP(X56,Recap_cde_P!$C$5:$T$57,18,FALSE) -> 216 | Y54: =+VLOOKUP(Y56,Recap_cde_P!$C$5:$T$57,18,FALSE) -> 219 | Z54: =+VLOOKUP(Z56,Recap_cde_P!$C$5:$T$57,18,FALSE) -> 220 | AC54: =SUM(AD54:AH54) -> 4825 | AD54: =SUM(B54,I54,P54,W54) -> 1264 | AE54: =SUM(C54,J54,Q54,X54) -> 1305 | AF54: =SUM(D54,K54,R54,Y54) -> 1081 | AG54: =SUM(E54,L54,S54,Z54) -> 1175 | AH54: =SUM(F54,M54,T54,AA54) -> 0
B56: s06 | C56: s07 | D56: s08 | E56: s09 | I56: =B56 -> s06 | J56: =C56 -> s07 | K56: =D56 -> s08 | L56: =E56 -> s09 | M56: =F56 -> 0 | P56: =I56 -> s06 | Q56: =J56 -> s07 | R56: =K56 -> s08 | S56: =L56 -> s09 | T56: =M56 -> 0 | W56: =P56 -> s06 | X56: =Q56 -> s07 | Y56: =R56 -> s08 | Z56: =S56 -> s09 | AA56: =T56 -> 0 | AD56: =W56 -> s06 | AE56: =X56 -> s07 | AF56: =Y56 -> s08 | AG56: =Z56 -> s09 | AH56: =AA56 -> 0 | AL56: LIENS : Chiffre du tableau des commandes, onglet "Ev_mens"
A57: BSA | B57: =+VLOOKUP(B56,Recap_cde_P!$C$5:$G$56,5,FALSE) -> 621 | C57: =+VLOOKUP(C56,Recap_cde_P!$C$5:$G$56,5,FALSE) -> 535 | D57: =+VLOOKUP(D56,Recap_cde_P!$C$5:$G$56,5,FALSE) -> 639 | E57: =+VLOOKUP(E56,Recap_cde_P!$C$5:$G$56,5,FALSE) -> 719 | H57: Ind | I57: =+VLOOKUP(I56,Recap_cde_P!$C$5:$H$56,6,FALSE) -> 273 | J57: =+VLOOKUP(J56,Recap_cde_P!$C$5:$H$56,6,FALSE) -> 228 | K57: =+VLOOKUP(K56,Recap_cde_P!$C$5:$H$56,6,FALSE) -> 367 | L57: =+VLOOKUP(L56,Recap_cde_P!$C$5:$H$56,6,FALSE) -> 515 | O57: A&B | P57: =+VLOOKUP(P56,Recap_cde_P!$C$5:$I$56,7,FALSE) -> 85 | Q57: =+VLOOKUP(Q56,Recap_cde_P!$C$5:$I$56,7,FALSE) -> 141 | R57: =+VLOOKUP(R56,Recap_cde_P!$C$5:$I$56,7,FALSE) -> 40 | S57: =+VLOOKUP(S56,Recap_cde_P!$C$5:$I$56,7,FALSE) -> 131 | V57: Filiales | W57: =+VLOOKUP(W56,Recap_cde_P!$C$5:$J$56,8,FALSE) -> 172 | X57: =+VLOOKUP(X56,Recap_cde_P!$C$5:$J$56,8,FALSE) -> 394 | Y57: =+VLOOKUP(Y56,Recap_cde_P!$C$5:$J$56,8,FALSE) -> 216 | Z57: =+VLOOKUP(Z56,Recap_cde_P!$C$5:$J$56,8,FALSE) -> 241 | AC57: cumul hebdo | AD57: =SUM(B57,I57,P57,W57) -> 1151 | AE57: =SUM(C57,J57,Q57,X57) -> 1298 | AF57: =SUM(D57,K57,R57,Y57) -> 1262 | AG57: =SUM(E57,L57,S57,Z57) -> 1606 | AH57: =SUM(F57,M57,T57,AA57) -> 0 | AK57: BSA | AL57: =[1]pvc!$D$250+[1]pvc!$H$250+[1]pvc!$J$250 -> 2241 | AM57: =[1]pvc!$P$250+[1]pvc!$T$250+[1]pvc!$V$250 -> 1903 | AN57: =[1]pvc!$AB$250+[1]pvc!$AF$250+[1]pvc!$AH$250 -> 2222 | AO57: =[1]pvc!$AN$250+[1]pvc!$AR$250+[1]pvc!$AT$250 -> 2304 | AP57: =[1]pvc!$AZ$250+[1]pvc!$BD$250+[1]pvc!$BF$250 -> 2110 | AQ57: =[1]pvc!$BL$250+[1]pvc!$BP$250+[1]pvc!$BR$250 -> 2422 | AR57: =[1]pvc!$BX$250+[1]pvc!$CB$250+[1]pvc!$CD$250 -> 2176 | AS57: =[1]pvc!$CJ$250+[1]pvc!$CN$250+[1]pvc!$CP$250 -> 620 | AT57: =[1]pvc!$CV$250+[1]pvc!$CZ$250+[1]pvc!$DB$250 -> 2943 | AU57: =[1]pvc!$DH$250+[1]pvc!$DL$250+[1]pvc!$DN$250 -> 2779 | AV57: =[1]pvc!$DT$250+[1]pvc!$DX$250+[1]pvc!$DZ$250 -> 2457 | AW57: =[1]pvc!$EF$250+[1]pvc!$EJ$250+[1]pvc!$EL$250 -> 1674
AK58: A&B | AL58: =[1]pvc!$G$250 -> 344 | AM58: =[1]pvc!$S$250 -> 294 | AN58: =[1]pvc!$AE$250 -> 665 | AO58: =[1]pvc!$AQ$250 -> 788 | AP58: =[1]pvc!$BC$250 -> 492 | AQ58: =[1]pvc!$BO$250 -> 381 | AR58: =[1]pvc!$CA$250 -> 595 | AS58: =[1]pvc!$CM$250 -> 114 | AT58: =[1]pvc!$CY$250 -> 537 | AU58: =[1]pvc!$DK$250 -> 962 | AV58: =[1]pvc!$DW$250 -> 501 | AW58: =[1]pvc!$EI$250 -> 400
A59: CUMULE | B59: =+B57 -> 621 | C59: =+B59+C57 -> 1156 | D59: =+C59+D57 -> 1795 | E59: =+D59+E57 -> 2514 | H59: CUMULE | I59: =+I57 -> 273 | J59: =+I59+J57 -> 501 | K59: =+J59+K57 -> 868 | L59: =+K59+L57 -> 1383 | O59: CUMULE | P59: =+P57 -> 85 | Q59: =+P59+Q57 -> 226 | R59: =+Q59+R57 -> 266 | S59: =+R59+S57 -> 397 | V59: CUMULE | W59: =+W57 -> 172 | X59: =+W59+X57 -> 566 | Y59: =+X59+Y57 -> 782 | Z59: =+Y59+Z57 -> 1023 | AD59: =+AD57 -> 1151 | AE59: =+AD59+AE57 -> 2449 | AF59: =+AE59+AF57 -> 3711 | AG59: =+AF59+AG57 -> 5317 | AH59: =SUM(F57,M57,T57,AA57,AH57) -> 0 | AK59: FILIALES | AL59: =[1]pvc!$I$250+[1]pvc!$K$250+[1]pvc!$L$250 -> 826 | AM59: =[1]pvc!$U$250+[1]pvc!$W$250+[1]pvc!$X$250 -> 835 | AN59: =[1]pvc!$AG$250+[1]pvc!$AI$250+[1]pvc!$AJ$250 -> 895 | AO59: =[1]pvc!$AS$250+[1]pvc!$AU$250+[1]pvc!$AV$250 -> 948 | AP59: =[1]pvc!$BE$250+[1]pvc!$BG$250+[1]pvc!$BH$250 -> 999 | AQ59: =[1]pvc!$BQ$250+[1]pvc!$BS$250+[1]pvc!$BT$250 -> 801 | AR59: =[1]pvc!$CC$250+[1]pvc!$CE$250+[1]pvc!$CF$250 -> 857 | AS59: =[1]pvc!$CO$250+[1]pvc!$CQ$250+[1]pvc!$CR$250 -> 62 | AT59: =[1]pvc!$DA$250+[1]pvc!$DC$250+[1]pvc!$DD$250 -> 1362 | AU59: =[1]pvc!$DM$250+[1]pvc!$DO$250+[1]pvc!$DP$250 -> 1165 | AV59: =[1]pvc!$DY$250+[1]pvc!$EA$250+[1]pvc!$EB$250 -> 896 | AW59: =[1]pvc!$EK$250+[1]pvc!$EM$250+[1]pvc!$EN$250 -> 666
AK60: INDUSTRIE | AL60: =[1]pvc!$E$250+[1]pvc!$F$250 -> 1499 | AM60: =[1]pvc!$Q$250+[1]pvc!$R$250 -> 1905 | AN60: =[1]pvc!$AC$250+[1]pvc!$AD$250 -> 1753 | AO60: =[1]pvc!$AO$250+[1]pvc!$AP$250 -> 1833 | AP60: =[1]pvc!$BA$250+[1]pvc!$BB$250 -> 1439 | AQ60: =[1]pvc!$BM$250+[1]pvc!$BN$250 -> 1543 | AR60: =[1]pvc!$BY$250+[1]pvc!$BZ$250 -> 1498 | AS60: =[1]pvc!$CK$250+[1]pvc!$CL$250 -> 409 | AT60: =[1]pvc!$CW$250+[1]pvc!$CX$250 -> 1366 | AU60: =[1]pvc!$DI$250+[1]pvc!$DJ$250 -> 1587 | AV60: =[1]pvc!$DU$250+[1]pvc!$DV$250 -> 1351 | AW60: =[1]pvc!$EG$250+[1]pvc!$EH$250 -> 1004
AK62: =SUM(AL62:AW62) -> 59423 | AL62: =SUM(AL57:AL61) -> 4910 | AM62: =SUM(AM57:AM61) -> 4937 | AN62: =SUM(AN57:AN61) -> 5535 | AO62: =SUM(AO57:AO61) -> 5873 | AP62: =SUM(AP57:AP61) -> 5040 | AQ62: =SUM(AQ57:AQ61) -> 5147 | AR62: =SUM(AR57:AR61) -> 5126 | AS62: =SUM(AS57:AS61) -> 1205 | ... AW62: =SUM(AW57:AW61) -> 3744
AL63: J | AM63: F | AN63: M | AO63: A | AP63: M | AQ63: J | AR63: J | AS63: A | AT63: S | AU63: O | AV63: N | AW63: D
A78: MOIS : | G78: FEVRIER

Sheet Indicateur Cde B
A1: Activité (le cumul des tombées de commandes)
A7: SUIVI DES COMMANDES BOIS
C9: EVOLUTION ANNUELLE SERIE | P9: EVOLUTION ANNUELLE PORTES D'ENTREE
P89: 49
C92: 0 | D92: 0 | E92: 0 | F92: 0 | G92: 0 | H92: 0 | I92: 0 | J92: 0 | K92: 0 | L92: 0 | M92: 0 | N92: 0
B93: CHANTIERS A VENIR
Q95: =+'Indicateur Cde P'!Q95:T97 -> CUMULE 2020 | U95: =+'Indicateur graph cde_glob'!J68 -> 2614 | W95: =U95/U98-1 -> 0.30634683
A96: client | B96: nb men | C96: 43831 | D96: 43862 | E96: 43891 | F96: 43922 | G96: 43952 | H96: 43983 | I96: 44013 | J96: 44044 | K96: 44075 | L96: 44105 | M96: 44136 | N96: 44166
A98: OLIER | B98: 110 | D98: 110 cde PIN EN ATTENTE | Q98: =+'Indicateur Cde P'!Q98:T99 -> CUMULE 2019 | U98: =+'Indicateur graph cde_glob'!K68 -> 2001
B105: ANNEE : | E105: =+'Indicateur Cde P'!$E$105:$H$107 -> 2020

Sheet Indicateur Cde CCE B
A1: Activité (le cumul des tombées de commandes)
A7: SUIVI DES COMMANDES BOIS / RESEAU
A9: BSA (dt Uab) | H9: INDUSTRIE | O9: FILIALES (Alf / Prodim / Mdf) | V9: Portes d'Entrée | AD9: GLOBAL SERIE + PE
A54: =SUM(B54:F54) -> 804 | B54: =VLOOKUP(B55,Recap_cde_B!$M$5:$S$57,4,FALSE) -> 189 | C54: =VLOOKUP(C55,Recap_cde_B!$M$5:$S$57,4,FALSE) -> 194 | D54: =VLOOKUP(D55,Recap_cde_B!$M$5:$S$57,4,FALSE) -> 148 | E54: =VLOOKUP(E55,Recap_cde_B!$M$5:$S$57,4,FALSE) -> 273 | H54: =SUM(I54:M54) -> 33 | I54: =VLOOKUP(I55,Recap_cde_B!$M$5:$S$57,5,FALSE) -> 22 | J54: =VLOOKUP(J55,Recap_cde_B!$M$5:$S$57,5,FALSE) -> 0 | K54: =VLOOKUP(K55,Recap_cde_B!$M$5:$S$57,5,FALSE) -> 0 | L54: =VLOOKUP(L55,Recap_cde_B!$M$5:$S$57,5,FALSE) -> 11 | O54: =SUM(P54:T54) -> 27 | P54: =VLOOKUP(P55,Recap_cde_B!$M$5:$S$57,6,FALSE) -> 1 | Q54: =VLOOKUP(Q55,Recap_cde_B!$M$5:$S$57,6,FALSE) -> 7 | R54: =VLOOKUP(R55,Recap_cde_B!$M$5:$S$57,6,FALSE) -> 1 | S54: =VLOOKUP(S55,Recap_cde_B!$M$5:$S$57,6,FALSE) -> 18 | V54: =SUM(W54:AA54) -> 58 | W54: =VLOOKUP(W55,Recap_cde_B!$M$5:$S$57,7,FALSE) -> 14 | X54: =VLOOKUP(X55,Recap_cde_B!$M$5:$S$57,7,FALSE) -> 13 | Y54: =VLOOKUP(Y55,Recap_cde_B!$M$5:$S$57,7,FALSE) -> 12 | Z54: =VLOOKUP(Z55,Recap_cde_B!$M$5:$S$57,7,FALSE) -> 19 | AC54: =SUM(AD54:AH54) -> 922 | AD54: =SUM(B54,I54,P54,W54) -> 226 | AE54: =SUM(C54,J54,Q54,X54) -> 214 | AF54: =SUM(D54,K54,R54,Y54) -> 161 | AG54: =SUM(E54,L54,S54,Z54) -> 321 | AH54: =SUM(F54,M54,T54,AA54) -> 0
B55: 6 | C55: =+B55+1 -> 7 | D55: =+C55+1 -> 8 | E55: =+D55+1 -> 9 | I55: =B55 -> 6 | J55: =C55 -> 7 | K55: =D55 -> 8 | L55: =E55 -> 9 | M55: =F55 -> 0 | P55: =I55 -> 6 | Q55: =J55 -> 7 | R55: =K55 -> 8 | S55: =L55 -> 9 | T55: =M55 -> 0 | W55: =P55 -> 6 | X55: =Q55 -> 7 | Y55: =R55 -> 8 | Z55: =S55 -> 9 | AA55: =T55 -> 0 | AD55: =W55 -> 6 | AE55: =X55 -> 7 | AF55: =Y55 -> 8 | AG55: =Z55 -> 9 | AH55: =AA55 -> 0
A56: BSA | B56: =VLOOKUP(B55,Recap_cde_B!$C$5:$I$57,4,FALSE) -> 384 | C56: =VLOOKUP(C55,Recap_cde_B!$C$5:$I$57,4,FALSE) -> 356 | D56: =VLOOKUP(D55,Recap_cde_B!$C$5:$I$57,4,FALSE) -> 238 | E56: =VLOOKUP(E55,Recap_cde_B!$C$5:$I$57,4,FALSE) -> 264 | H56: Ind | I56: =VLOOKUP(I55,Recap_cde_B!$C$5:$I$57,5,FALSE) -> 7 | J56: =VLOOKUP(J55,Recap_cde_B!$C$5:$I$57,5,FALSE) -> 8 | K56: =VLOOKUP(K55,Recap_cde_B!$C$5:$I$57,5,FALSE) -> 0 | L56: =VLOOKUP(L55,Recap_cde_B!$C$5:$I$57,5,FALSE) -> 0 | O56: Filiales | P56: =VLOOKUP(P55,Recap_cde_B!$C$5:$I$57,6,FALSE) -> 15 | Q56: =VLOOKUP(Q55,Recap_cde_B!$C$5:$I$57,6,FALSE) -> 17 | R56: =VLOOKUP(R55,Recap_cde_B!$C$5:$I$57,6,FALSE) -> 12 | S56: =VLOOKUP(S55,Recap_cde_B!$C$5:$I$57,6,FALSE) -> 13 | V56: PE | W56: =VLOOKUP(W55,Recap_cde_B!$C$5:$I$57,7,FALSE) -> 24 | X56: =VLOOKUP(X55,Recap_cde_B!$C$5:$I$57,7,FALSE) -> 26 | Y56: =VLOOKUP(Y55,Recap_cde_B!$C$5:$I$57,7,FALSE) -> 36 | Z56: =VLOOKUP(Z55,Recap_cde_B!$C$5:$I$57,7,FALSE) -> 22 | AC56: cumul hebdo | AD56: =SUM(B56,I56,P56,W56) -> 430 | AE56: =SUM(C56,J56,Q56,X56) -> 407 | AF56: =SUM(D56,K56,R56,Y56) -> 286 | AG56: =SUM(E56,L56,S56,Z56) -> 299 | AH56: =SUM(F56,M56,T56,AA56) -> 0
A58: CUMULE | B58: =+B56 -> 384 | C58: =+B58+C56 -> 740 | D58: =+C58+D56 -> 978 | E58: =+D58+E56 -> 1242 | H58: CUMULE | I58: =+I56 -> 7 | J58: =+I58+J56 -> 15 | K58: =+J58+K56 -> 15 | L58: =+K58+L56 -> 15 | O58: CUMULE | P58: =+P56 -> 15 | Q58: =+P58+Q56 -> 32 | R58: =+Q58+R56 -> 44 | S58: =+R58+S56 -> 57 | V58: CUMULE | W58: =+W56 -> 24 | X58: =+W58+X56 -> 50 | Y58: =+X58+Y56 -> 86 | Z58: =+Y58+Z56 -> 108 | AD58: =+AD56 -> 430 | AE58: =+AD58+AE56 -> 837 | AF58: =+AE58+AF56 -> 1123 | AG58: =+AF58+AG56 -> 1422 | AH58: =SUM(F56,M56,T56,AA56,AH56) -> 0
A77: MOIS : | G77: ='Indicateur Cde CCE P'!G78 -> FEVRIER

Sheet Indicateur Cde A
A1: Activité (le cumul des tombées de commandes)
A7: SUIVI DES COMMANDES ALU
C9: EVOLUTION ANNUELLE FPV | P9: EVOLUTION ANNUELLE ALF
P89: 49
C92: 0 | D92: 0 | E92: 0 | F92: 0 | G92: 0 | H92: 0 | I92: 0 | J92: 0 | K92: 0 | L92: 0 | M92: 0 | N92: 0
B93: CHANTIERS A VENIR
Q95: =+'Indicateur Cde P'!Q95:T97 -> CUMULE 2020 | U95: =+'Indicateur graph cde_glob'!J69 -> 2676 | W95: =U95/U98-1 -> -0.083247688
A96: client | B96: nb men | C96: 43831 | D96: 43862 | E96: 43891 | F96: 43922 | G96: 43952 | H96: 43983 | I96: 44013 | J96: 44044 | K96: 44075 | L96: 44105 | M96: 44136 | N96: 44166
Q98: =+'Indicateur Cde P'!Q98:T99 -> CUMULE 2019 | U98: =+'Indicateur graph cde_glob'!K69 -> 2919
B105: ANNEE : | E105: =+'Indicateur Cde P'!$E$105 -> 2020

Sheet Indicateur Cde CCE A
A1: Activité (le cumul des tombées de commandes)
A7: SUIVI DES COMMANDES ALU / RESEAU (FPV)
A9: BSA (dt Uab) | H9: INDUSTRIE | O9: ARCADES ET BAIES | V9: FILIALES (Alf / Prodim / Mdf) | AD9: GLOBAL (sans ALF)
A54: =SUM(B54:F54) -> 1090 | B54: =+VLOOKUP(B55,Recap_cde_A!$O$5:$T$57,6,FALSE) -> 235 | C54: =+VLOOKUP(C55,Recap_cde_A!$O$5:$T$57,6,FALSE) -> 294 | D54: =+VLOOKUP(D55,Recap_cde_A!$O$5:$T$57,6,FALSE) -> 234 | E54: =+VLOOKUP(E55,Recap_cde_A!$O$5:$T$57,6,FALSE) -> 327 | AC54: =SUM(AD54:AH54) -> 1090 | AD54: =SUM(B54,I54,P54,W54) -> 235 | AE54: =SUM(C54,J54,Q54,X54) -> 294 | AF54: =SUM(D54,K54,R54,Y54) -> 234 | AG54: =SUM(E54,L54,S54,Z54) -> 327 | AH54: =SUM(F54,M54,T54,AA54) -> 0
B55: 6 | C55: =B55+1 -> 7 | D55: =C55+1 -> 8 | E55: =D55+1 -> 9 | I55: =B55 -> 6 | J55: =C55 -> 7 | K55: =D55 -> 8 | L55: =E55 -> 9 | M55: =F55 -> 0 | P55: =I55 -> 6 | Q55: =J55 -> 7 | R55: =K55 -> 8 | S55: =L55 -> 9 | T55: =M55 -> 0 | W55: =P55 -> 6 | X55: =Q55 -> 7 | Y55: =R55 -> 8 | Z55: =S55 -> 9 | AA55: =T55 -> 0 | AD55: =W55 -> 6 | AE55: =X55 -> 7 | AF55: =Y55 -> 8 | AG55: =Z55 -> 9 | AH55: =AA55 -> 0
A56: BSA | B56: =VLOOKUP(B55,Recap_cde_A!$C$5:$K$57,6,FALSE) -> 220 | C56: =VLOOKUP(C55,Recap_cde_A!$C$5:$K$57,6,FALSE) -> 248 | D56: =VLOOKUP(D55,Recap_cde_A!$C$5:$K$57,6,FALSE) -> 209 | E56: =VLOOKUP(E55,Recap_cde_A!$C$5:$K$57,6,FALSE) -> 189 | H56: Ind | I56: =VLOOKUP(I55,Recap_cde_A!$C$5:$K$57,7,FALSE) -> 86 | J56: =VLOOKUP(J55,Recap_cde_A!$C$5:$K$57,7,FALSE) -> 110 | K56: =VLOOKUP(K55,Recap_cde_A!$C$5:$K$57,7,FALSE) -> 84 | L56: =VLOOKUP(L55,Recap_cde_A!$C$5:$K$57,7,FALSE) -> 123 | M56: =VLOOKUP(M55,Recap_cde_A!$C$5:$K$57,7,FALSE) -> #N/A | O56: A&B | P56: =VLOOKUP(P55,Recap_cde_A!$C$5:$K$57,8,FALSE) -> 0 | Q56: =VLOOKUP(Q55,Recap_cde_A!$C$5:$K$57,8,FALSE) -> 0 | R56: =VLOOKUP(R55,Recap_cde_A!$C$5:$K$57,8,FALSE) -> 0 | S56: =VLOOKUP(S55,Recap_cde_A!$C$5:$K$57,8,FALSE) -> 0 | T56: =VLOOKUP(T55,Recap_cde_A!$C$5:$K$57,8,FALSE) -> #N/A | V56: Filiales | W56: =VLOOKUP(W55,Recap_cde_A!$C$5:$K$57,9,FALSE) -> 0 | X56: =VLOOKUP(X55,Recap_cde_A!$C$5:$K$57,9,FALSE) -> 0 | Y56: =VLOOKUP(Y55,Recap_cde_A!$C$5:$K$57,9,FALSE) -> 0 | Z56: =VLOOKUP(Z55,Recap_cde_A!$C$5:$K$57,9,FALSE) -> 0 | AA56: =VLOOKUP(AA55,Recap_cde_A!$C$5:$K$57,9,FALSE) -> #N/A | AC56: cumul hebdo | AD56: =SUM(B56,I56,P56,W56) -> 306 | AE56: =SUM(C56,J56,Q56,X56) -> 358 | AF56: =SUM(D56,K56,R56,Y56) -> 293 | AG56: =SUM(E56,L56,S56,Z56) -> 312 | AH56: =SUM(F56,M56,T56,AA56) -> #N/A
A58: CUMULE | B58: =+B56 -> 220 | C58: =+B58+C56 -> 468 | D58: =+C58+D56 -> 677 | E58: =+D58+E56 -> 866 | H58: CUMULE | I58: =+I56 -> 86 | J58: =+I58+J56 -> 196 | K58: =+J58+K56 -> 280 | L58: =+K58+L56 -> 403 | O58: CUMULE | P58: =+P56 -> 0 | Q58: =+P58+Q56 -> 0 | R58: =+Q58+R56 -> 0 | S58: =+R58+S56 -> 0 | V58: CUMULE | W58: =+W56 -> 0 | X58: =+W58+X56 -> 0 | Y58: =+X58+Y56 -> 0 | Z58: =+Y58+Z56 -> 0 | AD58: =+AD56 -> 306 | AE58: =+AD58+AE56 -> 664 | AF58: =+AE58+AF56 -> 957 | AG58: =+AF58+AG56 -> 1269 | AH58: =SUM(F56,M56,T56,AA56,AH56) -> #N/A
AD63: Pas d'historique sur 2019
A77: MOIS : | G77: =+'Indicateur Cde CCE P'!G78 -> FEVRIER

Sheet Indicateur devis CCE
A1: Activité DEVIS
A7: CUMUL DES DEVIS - Retard devis
C9: EVOLUTION DEVIS PAR MOIS | S9: moyennes hebdomadaires
T12: nb devis | U12: nb men | V12: nb men /devis
S17: pvc | T17: ='Récap devis'!D59 -> 110.5 | U17: ='Récap devis'!E59 -> 625.625 | V17: =U17/T17 -> 5.6617647
S20: bois | T20: ='Récap devis'!F59 -> 108.375 | U20: ='Récap devis'!G59 -> 694 | V20: =U20/T20 -> 6.4036909
S23: alu | T23: ='Récap devis'!H59 -> 98 | U23: ='Récap devis'!I59 -> 469.625 | V23: =U23/T23 -> 4.7920918
S26: TOTAL | T26: =SUM(T17:T25) -> 316.875 | U26: =SUM(U17:U25) -> 1789.25 | V26: =U26/T26 -> 5.6465483
S32: DEVIS DU MOIS
S66: 6 | T66: =S66+1 -> 7 | U66: =T66+1 -> 8 | V66: =U66+1 -> 9 | W66: =N66 -> 0
R67: Qté hebdo | S67: =VLOOKUP(S66,'Récap devis'!$C$5:$J$57,8,FALSE) -> 314 | T67: =VLOOKUP(T66,'Récap devis'!$C$5:$J$57,8,FALSE) -> 343 | U67: =VLOOKUP(U66,'Récap devis'!$C$5:$J$57,8,FALSE) -> 299 | V67: =VLOOKUP(V66,'Récap devis'!$C$5:$J$57,8,FALSE) -> 277
R69: CUMULE | S69: =+S67 -> 314 | T69: =+S69+T67 -> 657 | U69: =+T69+U67 -> 956 | V69: =+U69+V67 -> 1233
R71: retard | S71: =VLOOKUP(S66,'Récap devis'!$C$5:$L$57,10,FALSE) -> 40 | T71: =VLOOKUP(T66,'Récap devis'!$C$5:$L$57,10,FALSE) -> 61 | U71: =VLOOKUP(U66,'Récap devis'!$C$5:$L$57,10,FALSE) -> 69 | V71: =VLOOKUP(V66,'Récap devis'!$C$5:$L$57,10,FALSE) -> 24 | W71: =VLOOKUP(W66,'Récap devis'!$C$5:$L$57,10,FALSE) -> #N/A
A75: ANNEE : | G75: 2020

Sheet Récap devis
A1: RECAP DEVIS | N1: RECAP DEVIS
A3: 25 | C3: ANNEE 2020 | D3: pvc | F3: bois | H3: alu | J3: global | N3: ANNEE 2019 | O3: pvc | Q3: bois | S3: alu | U3: global
B4: mois | C4: sem | D4: NB DEVIS | E4: NB MEN | F4: NB DEVIS | G4: NB MEN | H4: NB DEVIS | I4: NB MEN | J4: nb devis | K4: nb men | L4: retard | N4: sem | O4: NB DEVIS | P4: NB MEN | Q4: NB DEVIS | R4: NB MEN | S4: NB DEVIS | T4: NB MEN | U4: nb devis | V4: nb men | W4: retard
B5: 43831 | C5: 1 | N5: 1 | O5: 42 | P5: 164 | Q5: 36 | R5: 549 | S5: 36 | T5: 189 | U5: 114 | V5: 902 | W5: 0
B6: 43831 | C6: 2 | D6: =[2]Devis!$T$25 -> 79 | E6: =[2]Devis!$U$25 -> 585 | F6: =[2]Devis!$T$26 -> 124 | G6: =[2]Devis!$U$26 -> 672 | H6: =[2]Devis!$T$27 -> 94 | I6: =[2]Devis!$U$27 -> 618 | J6: =SUM(D6,F6,H6) -> 297 | K6: =SUM(E6,G6,I6) -> 1875 | L6: =[2]Devis!$T$29 -> 32 | N6: 2 | O6: 101 | P6: 452 | Q6: 85 | R6: 583 | S6: 90 | T6: 529 | U6: 276 | V6: 1564 | W6: 5
A7: 1 | B7: 43831 | C7: 3 | D7: =OFFSET([2]Devis!$T$25,$A$3*A7,0) -> 109 | E7: =OFFSET([2]Devis!$U$25,$A$3*A7,0) -> 743 | F7: =OFFSET([2]Devis!$T$26,$A$3*A7,0) -> 109 | G7: =OFFSET([2]Devis!$U$26,$A$3*A7,0) -> 703 | H7: =OFFSET([2]Devis!$T$27,$A$3*A7,0) -> 92 | I7: =OFFSET([2]Devis!$U$27,$A$3*A7,0) -> 391 | J7: =SUM(D7,F7,H7) -> 310 | K7: =SUM(E7,G7,I7) -> 1837 | L7: =OFFSET([2]Devis!$T$29,$A$3*A7,0) -> 36 | N7: 3 | O7: 117 | P7: 559 | Q7: 103 | R7: 664 | S7: 97 | T7: 414 | U7: 317 | V7: 1637 | W7: 26
A8: 2 | B8: 43831 | C8: 4 | D8: =OFFSET([2]Devis!$T$25,$A$3*A8,0) -> 126 | E8: =OFFSET([2]Devis!$U$25,$A$3*A8,0) -> 749 | F8: =OFFSET([2]Devis!$T$26,$A$3*A8,0) -> 112 | G8: =OFFSET([2]Devis!$U$26,$A$3*A8,0) -> 517 | H8: =OFFSET([2]Devis!$T$27,$A$3*A8,0) -> 104 | I8: =OFFSET([2]Devis!$U$27,$A$3*A8,0) -> 370 | J8: =SUM(D8,F8,H8) -> 342 | K8: =SUM(E8,G8,I8) -> 1636 | L8: =OFFSET([2]Devis!$T$29,$A$3*A8,0) -> 48 | N8: 4 | O8: 112 | P8: 537 | Q8: 111 | R8: 704 | S8: 103 | T8: 373 | U8: 326 | V8: 1614 | W8: 49
A9: 3 | B9: 43831 | C9: 5 | D9: =OFFSET([2]Devis!$T$25,$A$3*A9,0) -> 126 | E9: =OFFSET([2]Devis!$U$25,$A$3*A9,0) -> 453 | F9: =OFFSET([2]Devis!$T$26,$A$3*A9,0) -> 104 | G9: =OFFSET([2]Devis!$U$26,$A$3*A9,0) -> 668 | H9: =OFFSET([2]Devis!$T$27,$A$3*A9,0) -> 123 | I9: =OFFSET([2]Devis!$U$27,$A$3*A9,0) -> 536 | J9: =SUM(D9,F9,H9) -> 353 | K9: =SUM(E9,G9,I9) -> 1657 | L9: =OFFSET([2]Devis!$T$29,$A$3*A9,0) -> 61 | N9: 5 | O9: 103 | P9: 794 | Q9: 111 | R9: 838 | S9: 105 | T9: 467 | U9: 319 | V9: 2099 | W9: 52
A10: 4 | B10: 43862 | C10: 6 | D10: =OFFSET([2]Devis!$T$25,$A$3*A10,0) -> 105 | E10: =OFFSET([2]Devis!$U$25,$A$3*A10,0) -> 386 | F10: =OFFSET([2]Devis!$T$26,$A$3*A10,0) -> 104 | G10: =OFFSET([2]Devis!$U$26,$A$3*A10,0) -> 762 | H10: =OFFSET([2]Devis!$T$27,$A$3*A10,0) -> 105 | I10: =OFFSET([2]Devis!$U$27,$A$3*A10,0) -> 729 | J10: =SUM(D10,F10,H10) -> 314 | K10: =SUM(E10,G10,I10) -> 1877 | L10: =OFFSET([2]Devis!$T$29,$A$3*A10,0) -> 40 | N10: 6 | O10: 117 | P10: 822 | Q10: 92 | R10: 512 | S10: 111 | T10: 596 | U10: 320 | V10: 1930 | W10: 47
A11: 5 | B11: 43862 | C11: 7 | D11: =OFFSET([2]Devis!$T$25,$A$3*A11,0) -> 132 | E11: =OFFSET([2]Devis!$U$25,$A$3*A11,0) -> 1088 | F11: =OFFSET([2]Devis!$T$26,$A$3*A11,0) -> 114 | G11: =OFFSET([2]Devis!$U$26,$A$3*A11,0) -> 638 | H11: =OFFSET([2]Devis!$T$27,$A$3*A11,0) -> 97 | I11: =OFFSET([2]Devis!$U$27,$A$3*A11,0) -> 382 | J11: =SUM(D11,F11,H11) -> 343 | K11: =SUM(E11,G11,I11) -> 2108 | L11: =OFFSET([2]Devis!$T$29,$A$3*A11,0) -> 61 | N11: 7 | O11: 95 | P11: 809 | Q11: 101 | R11: 1033 | S11: 96 | T11: 537 | U11: 292 | V11: 2379 | W11: 50
A12: 6 | B12: 43862 | C12: 8 | D12: =OFFSET([2]Devis!$T$25,$A$3*A12,0) -> 94 | E12: =OFFSET([2]Devis!$U$25,$A$3*A12,0) -> 412 | F12: =OFFSET([2]Devis!$T$26,$A$3*A12,0) -> 114 | G12: =OFFSET([2]Devis!$U$26,$A$3*A12,0) -> 1211 | H12: =OFFSET([2]Devis!$T$27,$A$3*A12,0) -> 91 | I12: =OFFSET([2]Devis!$U$27,$A$3*A12,0) -> 408 | J12: =SUM(D12,F12,H12) -> 299 | K12: =SUM(E12,G12,I12) -> 2031 | L12: =OFFSET([2]Devis!$T$29,$A$3*A12,0) -> 69 | N12: 8 | O12: 102 | P12: 506 | Q12: 100 | R12: 582 | S12: 98 | T12: 513 | U12: 300 | V12: 1601 | W12: 75
A13: 7 | B13: 43862 | C13: 9 | D13: =OFFSET([2]Devis!$T$25,$A$3*A13,0) -> 113 | E13: =OFFSET([2]Devis!$U$25,$A$3*A13,0) -> 589 | F13: =OFFSET([2]Devis!$T$26,$A$3*A13,0) -> 86 | G13: =OFFSET([2]Devis!$U$26,$A$3*A13,0) -> 381 | H13: =OFFSET([2]Devis!$T$27,$A$3*A13,0) -> 78 | I13: =OFFSET([2]Devis!$U$27,$A$3*A13,0) -> 323 | J13: =SUM(D13,F13,H13) -> 277 | K13: =SUM(E13,G13,I13) -> 1293 | L13: =OFFSET([2]Devis!$T$29,$A$3*A13,0) -> 24 | N13: 9 | O13: 111 | P13: 462 | Q13: 79 | R13: 388 | S13: 122 | T13: 533 | U13: 312 | V13: 1383 | W13: 35
A14: 8 | B14: 43891 | C14: 10 | D14: =OFFSET([2]Devis!$T$25,$A$3*A14,0) -> 0 | E14: =OFFSET([2]Devis!$U$25,$A$3*A14,0) -> 0 | F14: =OFFSET([2]Devis!$T$26,$A$3*A14,0) -> 0 | G14: =OFFSET([2]Devis!$U$26,$A$3*A14,0) -> 0 | H14: =OFFSET([2]Devis!$T$27,$A$3*A14,0) -> 0 | I14: =OFFSET([2]Devis!$U$27,$A$3*A14,0) -> 0 | J14: =SUM(D14,F14,H14) -> 0 | K14: =SUM(E14,G14,I14) -> 0 | L14: =OFFSET([2]Devis!$T$29,$A$3*A14,0) -> 0 | N14: 10 | O14: 91 | P14: 336 | Q14: 85 | R14: 429 | S14: 108 | T14: 432 | U14: 284 | V14: 1197 | W14: 13
A15: 9 | B15: 43891 | C15: 11 | D15: =OFFSET([2]Devis!$T$25,$A$3*A15,0) -> 0 | E15: =OFFSET([2]Devis!$U$25,$A$3*A15,0) -> 0 | F15: =OFFSET([2]Devis!$T$26,$A$3*A15,0) -> 0 | G15: =OFFSET([2]Devis!$U$26,$A$3*A15,0) -> 0 | H15: =OFFSET([2]Devis!$T$27,$A$3*A15,0) -> 0 | I15: =OFFSET([2]Devis!$U$27,$A$3*A15,0) -> 0 | J15: =SUM(D15,F15,H15) -> 0 | K15: =SUM(E15,G15,I15) -> 0 | L15: =OFFSET([2]Devis!$T$29,$A$3*A15,0) -> 0 | N15: 11 | O15: 107 | P15: 559 | Q15: 95 | R15: 681 | S15: 115 | T15: 368 | U15: 317 | V15: 1608 | W15: 53
A16: 10 | B16: 43891 | C16: 12 | D16: =OFFSET([2]Devis!$T$25,$A$3*A16,0) -> 0 | E16: =OFFSET([2]Devis!$U$25,$A$3*A16,0) -> 0 | F16: =OFFSET([2]Devis!$T$26,$A$3*A16,0) -> 0 | G16: =OFFSET([2]Devis!$U$26,$A$3*A16,0) -> 0 | H16: =OFFSET([2]Devis!$T$27,$A$3*A16,0) -> 0 | I16: =OFFSET([2]Devis!$U$27,$A$3*A16,0) -> 0 | J16: =SUM(D16,F16,H16) -> 0 | K16: =SUM(E16,G16,I16) -> 0 | L16: =OFFSET([2]Devis!$T$29,$A$3*A16,0) -> 0 | N16: 12 | O16: 115 | P16: 631 | Q16: 93 | R16: 463 | S16: 99 | T16: 465 | U16: 307 | V16: 1559 | W16: 65
A17: 11 | B17: 43891 | C17: 13 | D17: =OFFSET([2]Devis!$T$25,$A$3*A17,0) -> 0 | E17: =OFFSET([2]Devis!$U$25,$A$3*A17,0) -> 0 | F17: =OFFSET([2]Devis!$T$26,$A$3*A17,0) -> 0 | G17: =OFFSET([2]Devis!$U$26,$A$3*A17,0) -> 0 | H17: =OFFSET([2]Devis!$T$27,$A$3*A17,0) -> 0 | I17: =OFFSET([2]Devis!$U$27,$A$3*A17,0) -> 0 | J17: =SUM(D17,F17,H17) -> 0 | K17: =SUM(E17,G17,I17) -> 0 | L17: =OFFSET([2]Devis!$T$29,$A$3*A17,0) -> 0 | N17: 13 | O17: 91 | P17: 467 | Q17: 85 | R17: 330 | S17: 103 | T17: 533 | U17: 279 | V17: 1330 | W17: 46
A18: 12 | B18: 43922 | C18: 14 | D18: =OFFSET([2]Devis!$T$25,$A$3*A18,0) -> 0 | E18: =OFFSET([2]Devis!$U$25,$A$3*A18,0) -> 0 | F18: =OFFSET([2]Devis!$T$26,$A$3*A18,0) -> 0 | G18: =OFFSET([2]Devis!$U$26,$A$3*A18,0) -> 0 | H18: =OFFSET([2]Devis!$T$27,$A$3*A18,0) -> 0 | I18: =OFFSET([2]Devis!$U$27,$A$3*A18,0) -> 0 | J18: =SUM(D18,F18,H18) -> 0 | K18: =SUM(E18,G18,I18) -> 0 | L18: =OFFSET([2]Devis!$T$29,$A$3*A18,0) -> 0 | N18: 14 | O18: 105 | P18: 686 | Q18: 104 | R18: 1072 | S18: 115 | T18: 456 | U18: 324 | V18: 2214 | W18: 62
... A56: 50 | B56: 44166 | C56: 52 | D56: =OFFSET([2]Devis!$T$25,$A$3*A56,0) -> 0 | E56: =OFFSET([2]Devis!$U$25,$A$3*A56,0) -> 0 | F56: =OFFSET([2]Devis!$T$26,$A$3*A56,0) -> 0 | G56: =OFFSET([2]Devis!$U$26,$A$3*A56,0) -> 0 | H56: =OFFSET([2]Devis!$T$27,$A$3*A56,0) -> 0 | I56: =OFFSET([2]Devis!$U$27,$A$3*A56,0) -> 0 | J56: =SUM(D56,F56,H56) -> 0 | K56: =SUM(E56,G56,I56) -> 0 | L56: =OFFSET([2]Devis!$T$29,$A$3*A56,0) -> 0 | N56: 52 | O56: 0 | P56: 0 | Q56: 0 | R56: 0 | S56: 0 | T56: 0 | U56: 0 | V56: 0 | W56: 0
A57: 51 | B57: 44166 | C57: 53
D58: =SUM(D6:D57) -> 884 | E58: =SUM(E6:E57) -> 5005 | F58: =SUM(F5:F57) -> 867 | G58: =SUM(G5:G57) -> 5552 | H58: =SUM(H5:H57) -> 784 | I58: =SUM(I5:I57) -> 3757 | J58: =SUM(J5:J57) -> 2535 | K58: =SUM(K5:K57) -> 14314 | O58: 4564 | P58: 27314 | Q58: 4743 | R58: 30296 | S58: 4291 | T58: 21079 | U58: 13598 | V58: 78689
D59: =AVERAGEIF(D6:D57,"<>0") -> 110.5 | E59: =AVERAGEIF(E6:E57,"<>0") -> 625.625 | F59: =AVERAGEIF(F6:F57,"<>0") -> 108.375 | G59: =AVERAGEIF(G6:G57,"<>0") -> 694 | H59: =AVERAGEIF(H6:H57,"<>0") -> 98 | I59: =AVERAGEIF(I6:I57,"<>0") -> 469.625 | J59: =AVERAGEIF(J6:J57,"<>0") -> 316.875 | K59: =AVERAGEIF(K6:K57,"<>0") -> 1789.25 | L59: =AVERAGEIF(L6:L57,"<>0") -> 46.375 | O59: 87.769231 | P59: 525.26923 | Q59: 91.211538 | R59: 582.61538 | S59: 82.519231 | T59: 405.36538 | U59: 261.5 | V59: 1513.25 | W59: 44.153846
C64: MOIS | D64: DEVIS PVC | E64: men pvc | F64: DEVIS BOIS | G64: men bois | H64: DEVIS ALU | I64: men alu | J64: TOTAL | K64: nb men | N64: MOIS | O64: DEVIS PVC | P64: men pvc | Q64: DEVIS BOIS | R64: men bois | S64: DEVIS ALU | T64: men alu | U64: TOTAL | V64: nb men
C65: 43831 | D65: =SUMIF($B$5:$L$56,C65,$D$5:$D$56) -> 440 | E65: =SUMIF($B$5:$L$56,C65,$E$5:$E$56) -> 2530 | F65: =SUMIF($B$5:$L$56,C65,$F$5:$F$56) -> 449 | G65: =SUMIF($B$5:$L$56,C65,$G$5:$G$56) -> 2560 | H65: =SUMIF($B$5:$L$56,C65,$H$5:$H$56) -> 413 | I65: =SUMIF($B$5:$L$56,C65,$I$5:$I$56) -> 1915 | J65: =SUM(D65,F65,H65) -> 1302 | K65: =SUM(E65,G65,I65) -> 7005 | N65: 43466 | O65: 475 | P65: 2506 | Q65: 446 | R65: 3338 | S65: 431 | T65: 1972 | U65: 1352 | V65: 7816
C66: 43862 | D66: =SUMIF($B$5:$L$56,C66,$D$5:$D$56) -> 444 | E66: =SUMIF($B$5:$L$56,C66,$E$5:$E$56) -> 2475 | F66: =SUMIF($B$5:$L$56,C66,$F$5:$F$56) -> 418 | G66: =SUMIF($B$5:$L$56,C66,$G$5:$G$56) -> 2992 | H66: =SUMIF($B$5:$L$56,C66,$H$5:$H$56) -> 371 | I66: =SUMIF($B$5:$L$56,C66,$I$5:$I$56) -> 1842 | J66: =SUM(D66,F66,H66) -> 1233 | K66: =SUM(E66,G66,I66) -> 7309 | N66: 43497 | O66: 425 | P66: 2599 | Q66: 372 | R66: 2515 | S66: 427 | T66: 2179 | U66: 1224 | V66: 7293
C67: 43891 | D67: =SUMIF($B$5:$L$56,C67,$D$5:$D$56) -> 0 | E67: =SUMIF($B$5:$L$56,C67,$E$5:$E$56) -> 0 | F67: =SUMIF($B$5:$L$56,C67,$F$5:$F$56) -> 0 | G67: =SUMIF($B$5:$L$56,C67,$G$5:$G$56) -> 0 | H67: =SUMIF($B$5:$L$56,C67,$H$5:$H$56) -> 0 | I67: =SUMIF($B$5:$L$56,C67,$I$5:$I$56) -> 0 | J67: =SUM(D67,F67,H67) -> 0 | K67: =SUM(E67,G67,I67) -> 0 | N67: 43525 | O67: 404 | P67: 1993 | Q67: 358 | R67: 1903 | S67: 425 | T67: 1798 | U67: 1187 | V67: 5694
C68: 43922 | D68: =SUMIF($B$5:$L$56,C68,$D$5:$D$56) -> 0 | E68: =SUMIF($B$5:$L$56,C68,$E$5:$E$56) -> 0 | F68: =SUMIF($B$5:$L$56,C68,$F$5:$F$56) -> 0 | G68: =SUMIF($B$5:$L$56,C68,$G$5:$G$56) -> 0 | H68: =SUMIF($B$5:$L$56,C68,$H$5:$H$56) -> 0 | I68: =SUMIF($B$5:$L$56,C68,$I$5:$I$56) -> 0 | J68: =SUM(D68,F68,H68) -> 0 | K68: =SUM(E68,G68,I68) -> 0 | N68: 43556 | O68: 434 | P68: 2845 | Q68: 446 | R68: 2968 | S68: 471 | T68: 2287 | U68: 1351 | V68: 8100
C69: 43952 | D69: =SUMIF($B$5:$L$56,C69,$D$5:$D$56) -> 0 | E69: =SUMIF($B$5:$L$56,C69,$E$5:$E$56) -> 0 | F69: =SUMIF($B$5:$L$56,C69,$F$5:$F$56) -> 0 | G69: =SUMIF($B$5:$L$56,C69,$G$5:$G$56) -> 0 | H69: =SUMIF($B$5:$L$56,C69,$H$5:$H$56) -> 0 | I69: =SUMIF($B$5:$L$56,C69,$I$5:$I$56) -> 0 | J69: =SUM(D69,F69,H69) -> 0 | K69: =SUM(E69,G69,I69) -> 0 | N69: 43586 | O69: 353 | P69: 2072 | Q69: 400 | R69: 2728 | S69: 303 | T69: 1471 | U69: 1056 | V69: 6271
C70: 43983 | D70: =SUMIF($B$5:$L$56,C70,$D$5:$D$56) -> 0 | E70: =SUMIF($B$5:$L$56,C70,$E$5:$E$56) -> 0 | F70: =SUMIF($B$5:$L$56,C70,$F$5:$F$56) -> 0 | G70: =SUMIF($B$5:$L$56,C70,$G$5:$G$56) -> 0 | H70: =SUMIF($B$5:$L$56,C70,$H$5:$H$56) -> 0 | I70: =SUMIF($B$5:$L$56,C70,$I$5:$I$56) -> 0 | J70: =SUM(D70,F70,H70) -> 0 | K70: =SUM(E70,G70,I70) -> 0 | N70: 43617 | O70: 333 | P70: 4517 | Q70: 428 | R70: 2788 | S70: 338 | T70: 1314 | U70: 1099 | V70: 8619
C71: 44013 | D71: =SUMIF($B$5:$L$56,C71,$D$5:$D$56) -> 0 | E71: =SUMIF($B$5:$L$56,C71,$E$5:$E$56) -> 0 | F71: =SUMIF($B$5:$L$56,C71,$F$5:$F$56) -> 0 | G71: =SUMIF($B$5:$L$56,C71,$G$5:$G$56) -> 0 | H71: =SUMIF($B$5:$L$56,C71,$H$5:$H$56) -> 0 | I71: =SUMIF($B$5:$L$56,C71,$I$5:$I$56) -> 0 | J71: =SUM(D71,F71,H71) -> 0 | K71: =SUM(E71,G71,I71) -> 0 | N71: 43647 | O71: 378 | P71: 1871 | Q71: 482 | R71: 3240 | S71: 411 | T71: 2467 | U71: 1271 | V71: 7578
C72: 44044 | D72: =SUMIF($B$5:$L$56,C72,$D$5:$D$56) -> 0 | E72: =SUMIF($B$5:$L$56,C72,$E$5:$E$56) -> 0 | F72: =SUMIF($B$5:$L$56,C72,$F$5:$F$56) -> 0 | G72: =SUMIF($B$5:$L$56,C72,$G$5:$G$56) -> 0 | H72: =SUMIF($B$5:$L$56,C72,$H$5:$H$56) -> 0 | I72: =SUMIF($B$5:$L$56,C72,$I$5:$I$56) -> 0 | J72: =SUM(D72,F72,H72) -> 0 | K72: =SUM(E72,G72,I72) -> 0 | N72: 43678 | O72: 94 | P72: 338 | Q72: 102 | R72: 641 | S72: 68 | T72: 269 | U72: 264 | V72: 1248
C73: 44075 | D73: =SUMIF($B$5:$L$56,C73,$D$5:$D$56) -> 0 | E73: =SUMIF($B$5:$L$56,C73,$E$5:$E$56) -> 0 | F73: =SUMIF($B$5:$L$56,C73,$F$5:$F$56) -> 0 | G73: =SUMIF($B$5:$L$56,C73,$G$5:$G$56) -> 0 | H73: =SUMIF($B$5:$L$56,C73,$H$5:$H$56) -> 0 | I73: =SUMIF($B$5:$L$56,C73,$I$5:$I$56) -> 0 | J73: =SUM(D73,F73,H73) -> 0 | K73: =SUM(E73,G73,I73) -> 0 | N73: 43709 | O73: 598 | P73: 2722 | Q73: 623 | R73: 3646 | S73: 473 | T73: 2044 | U73: 1694 | V73: 8412
C74: 44105 | D74: =SUMIF($B$5:$L$56,C74,$D$5:$D$56) -> 0 | E74: =SUMIF($B$5:$L$56,C74,$E$5:$E$56) -> 0 | F74: =SUMIF($B$5:$L$56,C74,$F$5:$F$56) -> 0 | G74: =SUMIF($B$5:$L$56,C74,$G$5:$G$56) -> 0 | H74: =SUMIF($B$5:$L$56,C74,$H$5:$H$56) -> 0 | I74: =SUMIF($B$5:$L$56,C74,$I$5:$I$56) -> 0 | J74: =SUM(D74,F74,H74) -> 0 | K74: =SUM(E74,G74,I74) -> 0 | N74: 43739 | O74: 417 | P74: 2800 | Q74: 419 | R74: 2286 | S74: 376 | T74: 1756 | U74: 1212 | V74: 6842
C75: 44136 | D75: =SUMIF($B$5:$L$56,C75,$D$5:$D$56) -> 0 | E75: =SUMIF($B$5:$L$56,C75,$E$5:$E$56) -> 0 | F75: =SUMIF($B$5:$L$56,C75,$F$5:$F$56) -> 0 | G75: =SUMIF($B$5:$L$56,C75,$G$5:$G$56) -> 0 | H75: =SUMIF($B$5:$L$56,C75,$H$5:$H$56) -> 0 | I75: =SUMIF($B$5:$L$56,C75,$I$5:$I$56) -> 0 | J75: =SUM(D75,F75,H75) -> 0 | K75: =SUM(E75,G75,I75) -> 0 | N75: 43770 | O75: 416 | P75: 1865 | Q75: 425 | R75: 2866 | S75: 347 | T75: 2433 | U75: 1188 | V75: 7164
C76: 44166 | D76: =SUMIF($B$5:$L$56,C76,$D$5:$D$56) -> 0 | E76: =SUMIF($B$5:$L$56,C76,$E$5:$E$56) -> 0 | F76: =SUMIF($B$5:$L$56,C76,$F$5:$F$56) -> 0 | G76: =SUMIF($B$5:$L$56,C76,$G$5:$G$56) -> 0 | H76: =SUMIF($B$5:$L$56,C76,$H$5:$H$56) -> 0 | I76: =SUMIF($B$5:$L$56,C76,$I$5:$I$56) -> 0 | J76: =SUM(D76,F76,H76) -> 0 | K76: =SUM(E76,G76,I76) -> 0 | N76: 43800 | O76: 237 | P76: 1186 | Q76: 242 | R76: 1377 | S76: 221 | T76: 1089 | U76: 700 | V76: 3652
D77: =SUM(D65:D76) -> 884 | E77: =SUM(E65:E76) -> 5005 | F77: =SUM(F65:F76) -> 867 | G77: =SUM(G65:G76) -> 5552 | H77: =SUM(H65:H76) -> 784 | I77: =SUM(I65:I76) -> 3757 | J77: =SUM(J65:J76) -> 2535 | K77: =SUM(K65:K76) -> 14314 | O77: 4564 | P77: 27314 | Q77: 4743 | R77: 30296 | S77: 4291 | T77: 21079 | U77: 13598 | V77: 78689
C78: moyenne hebdo | D78: =AVERAGEIF(D5:D57,"<>0") -> 110.5 | E78: =E77/D77 -> 5.6617647 | F78: =AVERAGEIF(F5:F57,"<>0") -> 108.375 | G78: =G77/F77 -> 6.4036909 | H78: =AVERAGEIF(H5:H57,"<>0") -> 98 | I78: =I77/H77 -> 4.7920918 | J78: =AVERAGEIF(J5:J57,"<>0") -> 316.875 | K78: =K77/J77 -> 5.6465483 | N78: moyenne hebdo | O78: 87.769231 | P78: 5.9846626 | Q78: 91.211538 | R78: 6.3875184 | S78: 82.519231 | T78: 4.9123747 | U78: 262 | V78: =V77/U77 -> 5.7868069

Sheet Recap_cde_A
A1: Tombées de commandes ALU | K1: (données dynamiques liés au fichier cde) | O1: Tombées de commandes ALU | W1: (valeurs copiées en dur)
L2: FABRICATION | X2: FABRICATION
A3: 11 | C3: ANNEE 2020 | L3: FPV | O3: ANNEE 2019 | X3: FPV
B4: MOIS | C4: Sem | D4: CUMUL | E4: TOTAL | F4: ALF | G4: S/total | H4: bsa | I4: ind | J4: A&B | K4: filiales | L4: CUMUL | M4: HEBDO | O4: Sem | P4: CUMUL | Q4: TOTAL | R4: ALF | S4: S/total | T4: bsa | U4: ind | V4: A&B | W4: filiales | X4: CUMUL | Y4: HEBDO
B5: ='Récap devis'!B5 -> 43831 | C5: 1 | D5: =E5 -> 0 | G5: =SUM(H5:K5) -> 0 | L5: =M5 -> 0 | O5: 1 | P5: 167 | Q5: 167 | R5: 13 | S5: 154 | T5: 154 | X5: =Y5 -> 194 | Y5: 194
B6: ='Récap devis'!B6 -> 43831 | C6: 2 | D6: =IF(E6<>0,D5+E6,"") -> 311 | E6: =F6+G6 -> 311 | F6: =INDIRECT("'[suivi cde 2020.xlsx]saisie_cde_A'!$w$10") -> 28 | G6: =SUM(H6:K6) -> 283 | H6: =INDIRECT("'[suivi cde 2020.xlsx]saisie_cde_A'!$w$4") -> 166 | I6: =INDIRECT("'[suivi cde 2020.xlsx]saisie_cde_A'!$w$5") -> 110 | J6: =INDIRECT("'[suivi cde 2020.xlsx]saisie_cde_A'!$w$6") -> 7 | K6: =INDIRECT("'[suivi cde 2020.xlsx]saisie_cde_A'!$w$7") -> 0 | L6: =IF(M6<>0,+M6,) -> 298 | M6: =[3]Production!$K1628 -> 298 | O6: 2 | P6: 499 | Q6: 332 | R6: 45 | S6: 287 | T6: 287 | X6: =X5+Y6 -> 601 | Y6: 407
A7: 1 | B7: ='Récap devis'!B7 -> 43831 | C7: 3 | D7: =IF(E7<>0,D6+E7,"") -> 615 | E7: =F7+G7 -> 304 | F7: =OFFSET(INDIRECT("'[suivi cde 2020.xlsx]saisie_cde_A'!$w$10"),$A$3*A7,0) -> 29 | G7: =SUM(H7:K7) -> 275 | H7: =OFFSET(INDIRECT("'[suivi cde 2020.xlsx]saisie_cde_A'!$w$4"),$A$3*A7,0) -> 166 | I7: =OFFSET(INDIRECT("'[suivi cde 2020.xlsx]saisie_cde_A'!$w$5"),$A$3*A7,0) -> 109 | J7: =OFFSET(INDIRECT("'[suivi cde 2020.xlsx]saisie_cde_A'!$w$6"),$A$3*A7,0) -> 0 | K7: =OFFSET(INDIRECT("'[suivi cde 2020.xlsx]saisie_cde_A'!$w$7"),$A$3*A7,0) -> 0 | L7: =IF(M7<>0,L6+M7,) -> 582 | M7: =[3]Production!$K1629 -> 284 | O7: 3 | P7: 928 | Q7: 429 | R7: 43 | S7: 386 | T7: 386 | X7: =X6+Y7 -> 969 | Y7: 368
A8: 2 | B8: ='Récap devis'!B8 -> 43831 | C8: 4 | D8: =IF(E8<>0,D7+E8,"") -> 871 | E8: =F8+G8 -> 256 | F8: =OFFSET(INDIRECT("'[suivi cde 2020.xlsx]saisie_cde_A'!$w$10"),$A$3*A8,0) -> 38 | G8: =SUM(H8:K8) -> 218 | H8: =OFFSET(INDIRECT("'[suivi cde 2020.xlsx]saisie_cde_A'!$w$4"),$A$3*A8,0) -> 131 | I8: =OFFSET(INDIRECT("'[suivi cde 2020.xlsx]saisie_cde_A'!$w$5"),$A$3*A8,0) -> 87 | J8: =OFFSET(INDIRECT("'[suivi cde 2020.xlsx]saisie_cde_A'!$w$6"),$A$3*A8,0) -> 0 | K8: =OFFSET(INDIRECT("'[suivi cde 2020.xlsx]saisie_cde_A'!$w$7"),$A$3*A8,0) -> 0 | L8: =IF(M8<>0,L7+M8,) -> 860 | M8: =[3]Production!$K1630 -> 278 | O8: 4 | P8: 1199 | Q8: 271 | R8: 25 | S8: 246 | T8: 246 | X8: =X7+Y8 -> 1372 | Y8: 403
A9: 3 | B9: ='Récap devis'!B9 -> 43831 | C9: 5 | D9: =IF(E9<>0,D8+E9,"") -> 1274 | E9: =F9+G9 -> 403 | F9: =OFFSET(INDIRECT("'[suivi cde 2020.xlsx]saisie_cde_A'!$w$10"),$A$3*A9,0) -> 40 | G9: =SUM(H9:K9) -> 363 | H9: =OFFSET(INDIRECT("'[suivi cde 2020.xlsx]saisie_cde_A'!$w$4"),$A$3*A9,0) -> 253 | I9: =OFFSET(INDIRECT("'[suivi cde 2020.xlsx]saisie_cde_A'!$w$5"),$A$3*A9,0) -> 110 | J9: =OFFSET(INDIRECT("'[suivi cde 2020.xlsx]saisie_cde_A'!$w$6"),$A$3*A9,0) -> 0 | K9: =OFFSET(INDIRECT("'[suivi cde 2020.xlsx]saisie_cde_A'!$w$7"),$A$3*A9,0) -> 0 | L9: =IF(M9<>0,L8+M9,) -> 1183 | M9: 323 | O9: 5 | P9: 1671 | Q9: 472 | R9: 53 | S9: 419 | T9: 419 | X9: =X8+Y9 -> 1807 | Y9: 435
A10: 4 | B10: ='Récap devis'!B10 -> 43862 | C10: 6 | D10: =IF(E10<>0,D9+E10,"") -> 1610 | E10: =F10+G10 -> 336 | F10: =OFFSET(INDIRECT("'[suivi cde 2020.xlsx]saisie_cde_A'!$w$10"),$A$3*A10,0) -> 30 | G10: =SUM(H10:K10) -> 306 | H10: =OFFSET(INDIRECT("'[suivi cde 2020.xlsx]saisie_cde_A'!$w$4"),$A$3*A10,0) -> 220 | I10: =OFFSET(INDIRECT("'[suivi cde 2020.xlsx]saisie_cde_A'!$w$5"),$A$3*A10,0) -> 86 | J10: =OFFSET(INDIRECT("'[suivi cde 2020.xlsx]saisie_cde_A'!$w$6"),$A$3*A10,0) -> 0 | K10: =OFFSET(INDIRECT("'[suivi cde 2020.xlsx]saisie_cde_A'!$w$7"),$A$3*A10,0) -> 0 | L10: =IF(M10<>0,L9+M10,) -> 1501 | M10: 318 | O10: 6 | P10: 1952 | Q10: 281 | R10: 46 | S10: 235 | T10: 235 | X10: =X9+Y10 -> 2159 | Y10: 352
A11: 5 | B11: ='Récap devis'!B11 -> 43862 | C11: 7 | D11: =IF(E11<>0,D10+E11,"") -> 1990 | E11: =F11+G11 -> 380 | F11: =OFFSET(INDIRECT("'[suivi cde 2020.xlsx]saisie_cde_A'!$w$10"),$A$3*A11,0) -> 22 | G11: =SUM(H11:K11) -> 358 | H11: =OFFSET(INDIRECT("'[suivi cde 2020.xlsx]saisie_cde_A'!$w$4"),$A$3*A11,0) -> 248 | I11: =OFFSET(INDIRECT("'[suivi cde 2020.xlsx]saisie_cde_A'!$w$5"),$A$3*A11,0) -> 110 | J11: =OFFSET(INDIRECT("'[suivi cde 2020.xlsx]saisie_cde_A'!$w$6"),$A$3*A11,0) -> 0 | K11: =OFFSET(INDIRECT("'[suivi cde 2020.xlsx]saisie_cde_A'!$w$7"),$A$3*A11,0) -> 0 | L11: =IF(M11<>0,L10+M11,) -> 1812 | M11: 311 | O11: 7 | P11: 2280 | Q11: 328 | R11: 34 | S11: 294 | T11: 294 | X11: =X10+Y11 -> 2487 | Y11: 328
A12: 6 | B12: ='Récap devis'!B12 -> 43862 | C12: 8 | D12: =IF(E12<>0,D11+E12,"") -> 2342 | E12: =F12+G12 -> 352 | F12: =OFFSET(INDIRECT("'[suivi cde 2020.xlsx]saisie_cde_A'!$w$10"),$A$3*A12,0) -> 59 | G12: =SUM(H12:K12) -> 293 | H12: =OFFSET(INDIRECT("'[suivi cde 2020.xlsx]saisie_cde_A'!$w$4"),$A$3*A12,0) -> 209 | I12: =OFFSET(INDIRECT("'[suivi cde 2020.xlsx]saisie_cde_A'!$w$5"),$A$3*A12,0) -> 84 | J12: =OFFSET(INDIRECT("'[suivi cde 2020.xlsx]saisie_cde_A'!$w$6"),$A$3*A12,0) -> 0 | K12: =OFFSET(INDIRECT("'[suivi cde 2020.xlsx]saisie_cde_A'!$w$7"),$A$3*A12,0) -> 0 | L12: =IF(M12<>0,L11+M12,) -> 2132 | M12: 320 | O12: 8 | P12: 2561 | Q12: 281 | R12: 47 | S12: 234 | T12: 234 | X12: =X11+Y12 -> 2849 | Y12: 362
A13: 7 | B13: ='Récap devis'!B13 -> 43862 | C13: 9 | D13: =IF(E13<>0,D12+E13,"") -> 2676 | E13: =F13+G13 -> 334 | F13: =OFFSET(INDIRECT("'[suivi cde 2020.xlsx]saisie_cde_A'!$w$10"),$A$3*A13,0) -> 22 | G13: =SUM(H13:K13) -> 312 | H13: =OFFSET(INDIRECT("'[suivi cde 2020.xlsx]saisie_cde_A'!$w$4"),$A$3*A13,0) -> 189 | I13: =OFFSET(INDIRECT("'[suivi cde 2020.xlsx]saisie_cde_A'!$w$5"),$A$3*A13,0) -> 123 | J13: =OFFSET(INDIRECT("'[suivi cde 2020.xlsx]saisie_cde_A'!$w$6"),$A$3*A13,0) -> 0 | K13: =OFFSET(INDIRECT("'[suivi cde 2020.xlsx]saisie_cde_A'!$w$7"),$A$3*A13,0) -> 0 | L13: =IF(M13<>0,L12+M13,) -> 0 | O13: 9 | P13: 2919 | Q13: 358 | R13: 31 | S13: 327 | T13: 327 | X13: =X12+Y13 -> 3182 | Y13: 333
A14: 8 | B14: ='Récap devis'!B14 -> 43891 | C14: 10 | D14: =IF(E14<>0,D13+E14,"") | E14: =F14+G14 -> 0 | F14: =OFFSET(INDIRECT("'[suivi cde 2020.xlsx]saisie_cde_A'!$w$10"),$A$3*A14,0) -> 0 | G14: =SUM(H14:K14) -> 0 | H14: =OFFSET(INDIRECT("'[suivi cde 2020.xlsx]saisie_cde_A'!$w$4"),$A$3*A14,0) -> 0 | I14: =OFFSET(INDIRECT("'[suivi cde 2020.xlsx]saisie_cde_A'!$w$5"),$A$3*A14,0) -> 0 | J14: =OFFSET(INDIRECT("'[suivi cde 2020.xlsx]saisie_cde_A'!$w$6"),$A$3*A14,0) -> 0 | K14: =OFFSET(INDIRECT("'[suivi cde 2020.xlsx]saisie_cde_A'!$w$7"),$A$3*A14,0) -> 0 | L14: =IF(M14<>0,L13+M14,) -> 0 | O14: 10 | P14: 3232 | Q14: 313 | R14: 40 | S14: 273 | T14: 273 | X14: =X13+Y14 -> 3536 | Y14: 354
A15: 9 | B15: ='Récap devis'!B15 -> 43891 | C15: 11 | D15: =IF(E15<>0,D14+E15,"") | E15: =F15+G15 -> 0 | F15: =OFFSET(INDIRECT("'[suivi cde 2020.xlsx]saisie_cde_A'!$w$10"),$A$3*A15,0) -> 0 | G15: =SUM(H15:K15) -> 0 | H15: =OFFSET(INDIRECT("'[suivi cde 2020.xlsx]saisie_cde_A'!$w$4"),$A$3*A15,0) -> 0 | I15: =OFFSET(INDIRECT("'[suivi cde 2020.xlsx]saisie_cde_A'!$w$5"),$A$3*A15,0) -> 0 | J15: =OFFSET(INDIRECT("'[suivi cde 2020.xlsx]saisie_cde_A'!$w$6"),$A$3*A15,0) -> 0 | K15: =OFFSET(INDIRECT("'[suivi cde 2020.xlsx]saisie_cde_A'!$w$7"),$A$3*A15,0) -> 0 | L15: =IF(M15<>0,L14+M15,) -> 0 | O15: 11 | P15: 3620 | Q15: 388 | R15: 40 | S15: 348 | T15: 348 | X15: =X14+Y15 -> 3892 | Y15: 356
A16: 10 | B16: ='Récap devis'!B16 -> 43891 | C16: 12 | D16: =IF(E16<>0,D15+E16,"") | E16: =F16+G16 -> 0 | F16: =OFFSET(INDIRECT("'[suivi cde 2020.xlsx]saisie_cde_A'!$w$10"),$A$3*A16,0) -> 0 | G16: =SUM(H16:K16) -> 0 | H16: =OFFSET(INDIRECT("'[suivi cde 2020.xlsx]saisie_cde_A'!$w$4"),$A$3*A16,0) -> 0 | I16: =OFFSET(INDIRECT("'[suivi cde 2020.xlsx]saisie_cde_A'!$w$5"),$A$3*A16,0) -> 0 | J16: =OFFSET(INDIRECT("'[suivi cde 2020.xlsx]saisie_cde_A'!$w$6"),$A$3*A16,0) -> 0 | K16: =OFFSET(INDIRECT("'[suivi cde 2020.xlsx]saisie_cde_A'!$w$7"),$A$3*A16,0) -> 0 | L16: =IF(M16<>0,L15+M16,) -> 0 | O16: 12 | P16: 4017 | Q16: 397 | R16: 43 | S16: 354 | T16: 354 | X16: =X15+Y16 -> 4294 | Y16: 402
A17: 11 | B17: ='Récap devis'!B17 -> 43891 | C17: 13 | D17: =IF(E17<>0,D16+E17,"") | E17: =F17+G17 -> 0 | F17: =OFFSET(INDIRECT("'[suivi cde 2020.xlsx]saisie_cde_A'!$w$10"),$A$3*A17,0) -> 0 | G17: =SUM(H17:K17) -> 0 | H17: =OFFSET(INDIRECT("'[suivi cde 2020.xlsx]saisie_cde_A'!$w$4"),$A$3*A17,0) -> 0 | I17: =OFFSET(INDIRECT("'[suivi cde 2020.xlsx]saisie_cde_A'!$w$5"),$A$3*A17,0) -> 0 | J17: =OFFSET(INDIRECT("'[suivi cde 2020.xlsx]saisie_cde_A'!$w$6"),$A$3*A17,0) -> 0 | K17: =OFFSET(INDIRECT("'[suivi cde 2020.xlsx]saisie_cde_A'!$w$7"),$A$3*A17,0) -> 0 | L17: =IF(M17<>0,L16+M17,) -> 0 | O17: 13 | P17: 4308 | Q17: 291 | R17: 32 | S17: 259 | T17: 259 | X17: =X16+Y17 -> 4659 | Y17: 365
A18: 12 | B18: ='Récap devis'!B18 -> 43922 | C18: 14 | D18: =IF(E18<>0,D17+E18,"") | E18: =F18+G18 -> 0 | F18: =OFFSET(INDIRECT("'[suivi cde 2020.xlsx]saisie_cde_A'!$w$10"),$A$3*A18,0) -> 0 | G18: =SUM(H18:K18) -> 0 | H18: =OFFSET(INDIRECT("'[suivi cde 2020.xlsx]saisie_cde_A'!$w$4"),$A$3*A18,0) -> 0 | I18: =OFFSET(INDIRECT("'[suivi cde 2020.xlsx]saisie_cde_A'!$w$5"),$A$3*A18,0) -> 0 | J18: =OFFSET(INDIRECT("'[suivi cde 2020.xlsx]saisie_cde_A'!$w$6"),$A$3*A18,0) -> 0 | K18: =OFFSET(INDIRECT("'[suivi cde 2020.xlsx]saisie_cde_A'!$w$7"),$A$3*A18,0) -> 0 | L18: =IF(M18<>0,L17+M18,) -> 0 | O18: 14 | P18: 4722 | Q18: 414 | R18: 36 | S18: 378 | T18: 378 | X18: =X17+Y18 -> 5015 | Y18: 356
A19: 13 | B19: ='Récap devis'!B19 -> 43922 | C19: 15 | D19: =IF(E19<>0,D18+E19,"") | E19: =F19+G19 -> 0 | F19: =OFFSET(INDIRECT("'[suivi cde 2020.xlsx]saisie_cde_A'!$w$10"),$A$3*A19,0) -> 0 | G19: =SUM(H19:K19) -> 0 | H19: =OFFSET(INDIRECT("'[suivi cde 2020.xlsx]saisie_cde_A'!$w$4"),$A$3*A19,0) -> 0 | I19: =OFFSET(INDIRECT("'[suivi cde 2020.xlsx]saisie_cde_A'!$w$5"),$A$3*A19,0) -> 0 | J19: =OFFSET(INDIRECT("'[suivi cde 2020.xlsx]saisie_cde_A'!$w$6"),$A$3*A19,0) -> 0 | K19: =OFFSET(INDIRECT("'[suivi cde 2020.xlsx]saisie_cde_A'!$w$7"),$A$3*A19,0) -> 0 | L19: =IF(M19<>0,L18+M19,) -> 0 | O19: 15 | P19: 5128 | Q19: 406 | R19: 42 | S19: 364 | T19: 364 | X19: =X18+Y19 -> 5365 | Y19: 350
A20: 14 | B20: ='Récap devis'!B20 -> 43922 | C20: 16 | D20: =IF(E20<>0,D19+E20,"") | E20: =F20+G20 -> 0 | F20: =OFFSET(INDIRECT("'[suivi cde 2020.xlsx]saisie_cde_A'!$w$10"),$A$3*A20,0) -> 0 | G20: =SUM(H20:K20) -> 0 | H20: =OFFSET(INDIRECT("'[suivi cde 2020.xlsx]saisie_cde_A'!$w$4"),$A$3*A20,0) -> 0 | I20: =OFFSET(INDIRECT("'[suivi cde 2020.xlsx]saisie_cde_A'!$w$5"),$A$3*A20,0) -> 0 | J20: =OFFSET(INDIRECT("'[suivi cde 2020.xlsx]saisie_cde_A'!$w$6"),$A$3*A20,0) -> 0 | K20: =OFFSET(INDIRECT("'[suivi cde 2020.xlsx]saisie_cde_A'!$w$7"),$A$3*A20,0) -> 0 | L20: =IF(M20<>0,L19+M20,) -> 0 | O20: 16 | P20: 5432 | Q20: 304 | R20: 19 | S20: 285 | T20: 285 | X20: =X19+Y20 -> 5734 | Y20: 369
A21: 15 | B21: ='Récap devis'!B21 -> 43922 | C21: 17 | D21: =IF(E21<>0,D20+E21,"") | E21: =F21+G21 -> 0 | F21: =OFFSET(INDIRECT("'[suivi cde 2020.xlsx]saisie_cde_A'!$w$10"),$A$3*A21,0) -> 0 | G21: =SUM(H21:K21) -> 0 | H21: =OFFSET(INDIRECT("'[suivi cde 2020.xlsx]saisie_cde_A'!$w$4"),$A$3*A21,0) -> 0 | I21: =OFFSET(INDIRECT("'[suivi cde 2020.xlsx]saisie_cde_A'!$w$5"),$A$3*A21,0) -> 0 | J21: =OFFSET(INDIRECT("'[suivi cde 2020.xlsx]saisie_cde_A'!$w$6"),$A$3*A21,0) -> 0 | K21: =OFFSET(INDIRECT("'[suivi cde 2020.xlsx]saisie_cde_A'!$w$7"),$A$3*A21,0) -> 0 | L21: =IF(M21<>0,L20+M21,) -> 0 | O21: 17 | P21: 5773 | Q21: 341 | R21: 28 | S21: 313 | T21: 313 | X21: =X20+Y21 -> 6040 | Y21: 306
A22: 16 | B22: ='Récap devis'!B22 -> 43922 | C22: 18 | D22: =IF(E22<>0,D21+E22,"") | E22: =F22+G22 -> 0 | F22: =OFFSET(INDIRECT("'[suivi cde 2020.xlsx]saisie_cde_A'!$w$10"),$A$3*A22,0) -> 0 | G22: =SUM(H22:K22) -> 0 | H22: =OFFSET(INDIRECT("'[suivi cde 2020.xlsx]saisie_cde_A'!$w$4"),$A$3*A22,0) -> 0 | I22: =OFFSET(INDIRECT("'[suivi cde 2020.xlsx]saisie_cde_A'!$w$5"),$A$3*A22,0) -> 0 | J22: =OFFSET(INDIRECT("'[suivi cde 2020.xlsx]saisie_cde_A'!$w$6"),$A$3*A22,0) -> 0 | K22: =OFFSET(INDIRECT("'[suivi cde 2020.xlsx]saisie_cde_A'!$w$7"),$A$3*A22,0) -> 0 | L22: =IF(M22<>0,L21+M22,) -> 0 | O22: 18 | P22: 6151 | Q22: 378 | R22: 18 | S22: 360 | T22: 360 | X22: =X21+Y22 -> 6318 | Y22: 278
A23: 17 | B23: ='Récap devis'!B23 -> 43952 | C23: 19 | D23: =IF(E23<>0,D22+E23,"") | E23: =F23+G23 -> 0 | F23: =OFFSET(INDIRECT("'[suivi cde 2020.xlsx]saisie_cde_A'!$w$10"),$A$3*A23,0) -> 0 | G23: =SUM(H23:K23) -> 0 | H23: =OFFSET(INDIRECT("'[suivi cde 2020.xlsx]saisie_cde_A'!$w$4"),$A$3*A23,0) -> 0 | I23: =OFFSET(INDIRECT("'[suivi cde 2020.xlsx]saisie_cde_A'!$w$5"),$A$3*A23,0) -> 0 | J23: =OFFSET(INDIRECT("'[suivi cde 2020.xlsx]saisie_cde_A'!$w$6"),$A$3*A23,0) -> 0 | K23: =OFFSET(INDIRECT("'[suivi cde 2020.xlsx]saisie_cde_A'!$w$7"),$A$3*A23,0) -> 0 | L23: =IF(M23<>0,L22+M23,) -> 0 | O23: 19 | P23: 6405 | Q23: 254 | R23: 22 | S23: 232 | T23: 232 | X23: =X22+Y23 -> 6613 | Y23: 295
A24: 18 | B24: ='Récap devis'!B24 -> 43952 | C24: 20 | D24: =IF(E24<>0,D23+E24,"") | E24: =F24+G24 -> 0 | F24: =OFFSET(INDIRECT("'[suivi cde 2020.xlsx]saisie_cde_A'!$w$10"),$A$3*A24,0) -> 0 | G24: =SUM(H24:K24) -> 0 | H24: =OFFSET(INDIRECT("'[suivi cde 2020.xlsx]saisie_cde_A'!$w$4"),$A$3*A24,0) -> 0 | I24: =OFFSET(INDIRECT("'[suivi cde 2020.xlsx]saisie_cde_A'!$w$5"),$A$3*A24,0) -> 0 | J24: =OFFSET(INDIRECT("'[suivi cde 2020.xlsx]saisie_cde_A'!$w$6"),$A$3*A24,0) -> 0 | K24: =OFFSET(INDIRECT("'[suivi cde 2020.xlsx]saisie_cde_A'!$w$7"),$A$3*A24,0) -> 0 | L24: =IF(M24<>0,L23+M24,) -> 0 | O24: 20 | P24: 6865 | Q24: 460 | R24: 53 | S24: 407 | T24: 407 | X24: =X23+Y24 -> 6991 | Y24: 378
... A35: 29 | B35: ='Récap devis'!B35 -> 44013 | C35: 31 | D35: =IF(E35<>0,D34+E35,"") | E35: =F35+G35 -> 0 | F35: =OFFSET(INDIRECT("'[suivi cde 2020.xlsx]saisie_cde_A'!$w$10"),$A$3*A35,0) -> 0 | G35: =SUM(H35:K35) -> 0 | H35: =OFFSET(INDIRECT("'[suivi cde 2020.xlsx]saisie_cde_A'!$w$4"),$A$3*A35,0) -> 0 | I35: =OFFSET(INDIRECT("'[suivi cde 2020.xlsx]saisie_cde_A'!$w$5"),$A$3*A35,0) -> 0 | J35: =OFFSET(INDIRECT("'[suivi cde 2020.xlsx]saisie_cde_A'!$w$6"),$A$3*A35,0) -> 0 | K35: =OFFSET(INDIRECT("'[suivi cde 2020.xlsx]saisie_cde_A'!$w$7"),$A$3*A35,0) -> 0 | L35: =IF(M35<>0,L34+M35,) -> 0 | O35: 31 | P35: 10629 | Q35: 362 | R35: 40 | S35: 322 | T35: 322 | X35: =X34+Y35 -> 10648 | Y35: 324
A36: 30 | B36: ='Récap devis'!B36 -> 44044 | C36: 32 | D36: =IF(E36<>0,D35+E36,"") | E36: =F36+G36 -> 0 | F36: =OFFSET(INDIRECT("'[suivi cde 2020.xlsx]saisie_cde_A'!$w$10"),$A$3*A36,0) -> 0 | G36: =SUM(H36:K36) -> 0 | H36: =OFFSET(INDIRECT("'[suivi cde 2020.xlsx]saisie_cde_A'!$w$4"),$A$3*A36,0) -> 0 | I36: =OFFSET(INDIRECT("'[suivi cde 2020.xlsx]saisie_cde_A'!$w$5"),$A$3*A36,0) -> 0 | J36: =OFFSET(INDIRECT("'[suivi cde 2020.xlsx]saisie_cde_A'!$w$6"),$A$3*A36,0) -> 0 | K36: =OFFSET(INDIRECT("'[suivi cde 2020.xlsx]saisie_cde_A'!$w$7"),$A$3*A36,0) -> 0 | L36: =IF(M36<>0,L35+M36,) -> 0 | O36: 32 | P36: 10629 | Q36: 0 | S36: 0 | X36: =X35+Y36 -> 10950 | Y36: 302
A37: 31 | B37: ='Récap devis'!B37 -> 44044 | C37: 33 | D37: =IF(E37<>0,D36+E37,"") | E37: =F37+G37 -> 0 | F37: =OFFSET(INDIRECT("'[suivi cde 2020.xlsx]saisie_cde_A'!$w$10"),$A$3*A37,0) -> 0 | G37: =SUM(H37:K37) -> 0 | H37: =OFFSET(INDIRECT("'[suivi cde 2020.xlsx]saisie_cde_A'!$w$4"),$A$3*A37,0) -> 0 | I37: =OFFSET(INDIRECT("'[suivi cde 2020.xlsx]saisie_cde_A'!$w$5"),$A$3*A37,0) -> 0 | J37: =OFFSET(INDIRECT("'[suivi cde 2020.xlsx]saisie_cde_A'!$w$6"),$A$3*A37,0) -> 0 | K37: =OFFSET(INDIRECT("'[suivi cde 2020.xlsx]saisie_cde_A'!$w$7"),$A$3*A37,0) -> 0 | L37: =IF(M37<>0,L36+M37,) -> 0 | O37: 33 | P37: 10629 | Q37: 0 | S37: 0 | X37: =X36+Y37 -> 11271 | Y37: 321
A38: 32 | B38: ='Récap devis'!B38 -> 44044 | C38: 34 | D38: =IF(E38<>0,D37+E38,"") | E38: =F38+G38 -> 0 | F38: =OFFSET(INDIRECT("'[suivi cde 2020.xlsx]saisie_cde_A'!$w$10"),$A$3*A38,0) -> 0 | G38: =SUM(H38:K38) -> 0 | H38: =OFFSET(INDIRECT("'[suivi cde 2020.xlsx]saisie_cde_A'!$w$4"),$A$3*A38,0) -> 0 | I38: =OFFSET(INDIRECT("'[suivi cde 2020.xlsx]saisie_cde_A'!$w$5"),$A$3*A38,0) -> 0 | J38: =OFFSET(INDIRECT("'[suivi cde 2020.xlsx]saisie_cde_A'!$w$6"),$A$3*A38,0) -> 0 | K38: =OFFSET(INDIRECT("'[suivi cde 2020.xlsx]saisie_cde_A'!$w$7"),$A$3*A38,0) -> 0 | L38: =IF(M38<>0,L37+M38,) -> 0 | O38: 34 | P38: 10629 | Q38: 0 | S38: 0 | X38: =X37+Y38 -> 11574 | Y38: 303
A39: 33 | B39: ='Récap devis'!B39 -> 44044 | C39: 35 | D39: =IF(E39<>0,D38+E39,"") | E39: =F39+G39 -> 0 | F39: =OFFSET(INDIRECT("'[suivi cde 2020.xlsx]saisie_cde_A'!$w$10"),$A$3*A39,0) -> 0 | G39: =SUM(H39:K39) -> 0 | H39: =OFFSET(INDIRECT("'[suivi cde 2020.xlsx]saisie_cde_A'!$w$4"),$A$3*A39,0) -> 0 | I39: =OFFSET(INDIRECT("'[suivi cde 2020.xlsx]saisie_cde_A'!$w$5"),$A$3*A39,0) -> 0 | J39: =OFFSET(INDIRECT("'[suivi cde 2020.xlsx]saisie_cde_A'!$w$6"),$A$3*A39,0) -> 0 | K39: =OFFSET(INDIRECT("'[suivi cde 2020.xlsx]saisie_cde_A'!$w$7"),$A$3*A39,0) -> 0 | L39: =IF(M39<>0,L38+M39,) -> 0 | O39: 35 | P39: 10939 | Q39: 310 | R39: 25 | S39: 285 | T39: 285 | X39: =X38+Y39 -> 11929 | Y39: 355
A40: 34 | B40: ='Récap devis'!B40 -> 44075 | C40: 36 | D40: =IF(E40<>0,D39+E40,"") | E40: =F40+G40 -> 0 | F40: =OFFSET(INDIRECT("'[suivi cde 2020.xlsx]saisie_cde_A'!$w$10"),$A$3*A40,0) -> 0 | G40: =SUM(H40:K40) -> 0 | H40: =OFFSET(INDIRECT("'[suivi cde 2020.xlsx]saisie_cde_A'!$w$4"),$A$3*A40,0) -> 0 | I40: =OFFSET(INDIRECT("'[suivi cde 2020.xlsx]saisie_cde_A'!$w$5"),$A$3*A40,0) -> 0 | J40: =OFFSET(INDIRECT("'[suivi cde 2020.xlsx]saisie_cde_A'!$w$6"),$A$3*A40,0) -> 0 | K40: =OFFSET(INDIRECT("'[suivi cde 2020.xlsx]saisie_cde_A'!$w$7"),$A$3*A40,0) -> 0 | L40: =IF(M40<>0,L39+M40,) -> 0 | O40: 36 | P40: 11288 | Q40: 349 | R40: 32 | S40: 317 | T40: 317 | X40: =X39+Y40 -> 11929
A41: 35 | B41: ='Récap devis'!B41 -> 44075 | C41: 37 | D41: =IF(E41<>0,D40+E41,"") | E41: =F41+G41 -> 0 | F41: =OFFSET(INDIRECT("'[suivi cde 2020.xlsx]saisie_cde_A'!$w$10"),$A$3*A41,0) -> 0 | G41: =SUM(H41:K41) -> 0 | H41: =OFFSET(INDIRECT("'[suivi cde 2020.xlsx]saisie_cde_A'!$w$4"),$A$3*A41,0) -> 0 | I41: =OFFSET(INDIRECT("'[suivi cde 2020.xlsx]saisie_cde_A'!$w$5"),$A$3*A41,0) -> 0 | J41: =OFFSET(INDIRECT("'[suivi cde 2020.xlsx]saisie_cde_A'!$w$6"),$A$3*A41,0) -> 0 | K41: =OFFSET(INDIRECT("'[suivi cde 2020.xlsx]saisie_cde_A'!$w$7"),$A$3*A41,0) -> 0 | L41: =IF(M41<>0,L40+M41,) -> 0 | O41: 37 | P41: 11592 | Q41: 304 | R41: 29 | S41: 275 | T41: 275 | X41: =X40+Y41 -> 11929
A42: 36 | B42: ='Récap devis'!B42 -> 44075 | C42: 38 | D42: =IF(E42<>0,D41+E42,"") | E42: =F42+G42 -> 0 | F42: =OFFSET(INDIRECT("'[suivi cde 2020.xlsx]saisie_cde_A'!$w$10"),$A$3*A42,0) -> 0 | G42: =SUM(H42:K42) -> 0 | H42: =OFFSET(INDIRECT("'[suivi cde 2020.xlsx]saisie_cde_A'!$w$4"),$A$3*A42,0) -> 0 | I42: =OFFSET(INDIRECT("'[suivi cde 2020.xlsx]saisie_cde_A'!$w$5"),$A$3*A42,0) -> 0 | J42: =OFFSET(INDIRECT("'[suivi cde 2020.xlsx]saisie_cde_A'!$w$6"),$A$3*A42,0) -> 0 | K42: =OFFSET(INDIRECT("'[suivi cde 2020.xlsx]saisie_cde_A'!$w$7"),$A$3*A42,0) -> 0 | L42: =IF(M42<>0,L41+M42,) -> 0 | O42: 38 | P42: 11983 | Q42: 391 | R42: 60 | S42: 331 | T42: 331 | X42: =X41+Y42 -> 11929
A43: 37 | B43: ='Récap devis'!B43 -> 44075 | C43: 39 | D43: =IF(E43<>0,D42+E43,"") | E43: =F43+G43 -> 0 | F43: =OFFSET(INDIRECT("'[suivi cde 2020.xlsx]saisie_cde_A'!$w$10"),$A$3*A43,0) -> 0 | G43: =SUM(H43:K43) -> 0 | H43: =OFFSET(INDIRECT("'[suivi cde 2020.xlsx]saisie_cde_A'!$w$4"),$A$3*A43,0) -> 0 | I43: =OFFSET(INDIRECT("'[suivi cde 2020.xlsx]saisie_cde_A'!$w$5"),$A$3*A43,0) -> 0 | J43: =OFFSET(INDIRECT("'[suivi cde 2020.xlsx]saisie_cde_A'!$w$6"),$A$3*A43,0) -> 0 | K43: =OFFSET(INDIRECT("'[suivi cde 2020.xlsx]saisie_cde_A'!$w$7"),$A$3*A43,0) -> 0 | L43: =IF(M43<>0,L42+M43,) -> 0 | O43: 39 | P43: 12278 | Q43: 295 | R43: 46 | S43: 249 | T43: 249 | X43: =X42+Y43 -> 11929
A44: 38 | B44: ='Récap devis'!B44 -> 44075 | C44: 40 | D44: =IF(E44<>0,D43+E44,"") | E44: =F44+G44 -> 0 | F44: =OFFSET(INDIRECT("'[suivi cde 2020.xlsx]saisie_cde_A'!$w$10"),$A$3*A44,0) -> 0 | G44: =SUM(H44:K44) -> 0 | H44: =OFFSET(INDIRECT("'[suivi cde 2020.xlsx]saisie_cde_A'!$w$4"),$A$3*A44,0) -> 0 | I44: =OFFSET(INDIRECT("'[suivi cde 2020.xlsx]saisie_cde_A'!$w$5"),$A$3*A44,0) -> 0 | J44: =OFFSET(INDIRECT("'[suivi cde 2020.xlsx]saisie_cde_A'!$w$6"),$A$3*A44,0) -> 0 | K44: =OFFSET(INDIRECT("'[suivi cde 2020.xlsx]saisie_cde_A'!$w$7"),$A$3*A44,0) -> 0 | L44: =IF(M44<>0,L43+M44,) -> 0 | O44: 40 | P44: 12647 | Q44: 369 | R44: 33 | S44: 336 | T44: 336 | X44: =X43+Y44 -> 12263 | Y44: 334
A45: 39 | B45: ='Récap devis'!B45 -> 44105 | C45: 41 | D45: =IF(E45<>0,D44+E45,"") | E45: =F45+G45 -> 0 | F45: =OFFSET(INDIRECT("'[suivi cde 2020.xlsx]saisie_cde_A'!$w$10"),$A$3*A45,0) -> 0 | G45: =SUM(H45:K45) -> 0 | H45: =OFFSET(INDIRECT("'[suivi cde 2020.xlsx]saisie_cde_A'!$w$4"),$A$3*A45,0) -> 0 | I45: =OFFSET(INDIRECT("'[suivi cde 2020.xlsx]saisie_cde_A'!$w$5"),$A$3*A45,0) -> 0 | J45: =OFFSET(INDIRECT("'[suivi cde 2020.xlsx]saisie_cde_A'!$w$6"),$A$3*A45,0) -> 0 | K45: =OFFSET(INDIRECT("'[suivi cde 2020.xlsx]saisie_cde_A'!$w$7"),$A$3*A45,0) -> 0 | L45: =IF(M45<>0,L44+M45,) -> 0 | O45: 41 | P45: 13045 | Q45: 398 | R45: 43 | S45: 355 | T45: 355 | X45: =X44+Y45 -> 12594 | Y45: 331
A46: 40 | B46: ='Récap devis'!B46 -> 44105 | C46: 42 | D46: =IF(E46<>0,D45+E46,"") | E46: =F46+G46 -> 0 | F46: =OFFSET(INDIRECT("'[suivi cde 2020.xlsx]saisie_cde_A'!$w$10"),$A$3*A46,0) -> 0 | G46: =SUM(H46:K46) -> 0 | H46: =OFFSET(INDIRECT("'[suivi cde 2020.xlsx]saisie_cde_A'!$w$4"),$A$3*A46,0) -> 0 | I46: =OFFSET(INDIRECT("'[suivi cde 2020.xlsx]saisie_cde_A'!$w$5"),$A$3*A46,0) -> 0 | J46: =OFFSET(INDIRECT("'[suivi cde 2020.xlsx]saisie_cde_A'!$w$6"),$A$3*A46,0) -> 0 | K46: =OFFSET(INDIRECT("'[suivi cde 2020.xlsx]saisie_cde_A'!$w$7"),$A$3*A46,0) -> 0 | L46: =IF(M46<>0,L45+M46,) -> 0 | O46: 42 | P46: 13460 | Q46: 415 | R46: 40 | S46: 375 | T46: 375 | X46: =X45+Y46 -> 12956 | Y46: 362
A47: 41 | B47: ='Récap devis'!B47 -> 44105 | C47: 43 | D47: =IF(E47<>0,D46+E47,"") | E47: =F47+G47 -> 0 | F47: =OFFSET(INDIRECT("'[suivi cde 2020.xlsx]saisie_cde_A'!$w$10"),$A$3*A47,0) -> 0 | G47: =SUM(H47:K47) -> 0 | H47: =OFFSET(INDIRECT("'[suivi cde 2020.xlsx]saisie_cde_A'!$w$4"),$A$3*A47,0) -> 0 | I47: =OFFSET(INDIRECT("'[suivi cde 2020.xlsx]saisie_cde_A'!$w$5"),$A$3*A47,0) -> 0 | J47: =OFFSET(INDIRECT("'[suivi cde 2020.xlsx]saisie_cde_A'!$w$6"),$A$3*A47,0) -> 0 | K47: =OFFSET(INDIRECT("'[suivi cde 2020.xlsx]saisie_cde_A'!$w$7"),$A$3*A47,0) -> 0 | L47: =IF(M47<>0,L46+M47,) -> 0 | O47: 43 | P47: 13746 | Q47: 286 | R47: 33 | S47: 253 | T47: 253 | X47: =X46+Y47 -> 13328 | Y47: 372
A48: 42 | B48: ='Récap devis'!B48 -> 44105 | C48: 44 | D48: =IF(E48<>0,D47+E48,"") | E48: =F48+G48 -> 0 | F48: =OFFSET(INDIRECT("'[suivi cde 2020.xlsx]saisie_cde_A'!$w$10"),$A$3*A48,0) -> 0 | G48: =SUM(H48:K48) -> 0 | H48: =OFFSET(INDIRECT("'[suivi cde 2020.xlsx]saisie_cde_A'!$w$4"),$A$3*A48,0) -> 0 | I48: =OFFSET(INDIRECT("'[suivi cde 2020.xlsx]saisie_cde_A'!$w$5"),$A$3*A48,0) -> 0 | J48: =OFFSET(INDIRECT("'[suivi cde 2020.xlsx]saisie_cde_A'!$w$6"),$A$3*A48,0) -> 0 | K48: =OFFSET(INDIRECT("'[suivi cde 2020.xlsx]saisie_cde_A'!$w$7"),$A$3*A48,0) -> 0 | L48: =IF(M48<>0,L47+M48,) -> 0 | O48: 44 | P48: 14060 | Q48: 314 | R48: 40 | S48: 274 | T48: 274 | X48: =X47+Y48 -> 13633 | Y48: 305
A49: 43 | B49: ='Récap devis'!B49 -> 44136 | C49: 45 | D49: =IF(E49<>0,D48+E49,"") | E49: =F49+G49 -> 0 | F49: =OFFSET(INDIRECT("'[suivi cde 2020.xlsx]saisie_cde_A'!$w$10"),$A$3*A49,0) -> 0 | G49: =SUM(H49:K49) -> 0 | H49: =OFFSET(INDIRECT("'[suivi cde 2020.xlsx]saisie_cde_A'!$w$4"),$A$3*A49,0) -> 0 | I49: =OFFSET(INDIRECT("'[suivi cde 2020.xlsx]saisie_cde_A'!$w$5"),$A$3*A49,0) -> 0 | J49: =OFFSET(INDIRECT("'[suivi cde 2020.xlsx]saisie_cde_A'!$w$6"),$A$3*A49,0) -> 0 | K49: =OFFSET(INDIRECT("'[suivi cde 2020.xlsx]saisie_cde_A'!$w$7"),$A$3*A49,0) -> 0 | L49: =IF(M49<>0,L48+M49,) -> 0 | O49: 45 | P49: 14388 | Q49: 328 | R49: 29 | S49: 299 | T49: 299 | X49: =X48+Y49 -> 13954 | Y49: 321
