Workbook

Sheet Indicateur Activité _en test
A1: Activité (le cumul des menuiseries fabriquées)
B7: Ligne RAPIDE + Ligne SPECIFIQUE +Bi-COULISSANT + HORS COTES
B9: MOYENNE MOIS | Q9: Semaine 1 | W9: Semaine 2 | AC9: Semaine 3 | AI9: Semaine 4 | AO9: Semaine 5
A11: 7800 | P11: 1560 | V11: 1560 | AB11: 1560 | AH11: 1560 | AN11: 1560
A13: 7600 | P13: 1520 | V13: 1520 | AB13: 1520 | AH13: 1520 | AN13: 1520
A15: 7400 | P15: 1480 | V15: 1480 | AB15: 1480 | AH15: 1480 | AN15: 1480
A17: 7200 | P17: 1440 | V17: 1440 | AB17: 1440 | AH17: 1440 | AN17: 1440
A19: 7000 | P19: 1400 | V19: 1400 | AB19: 1400 | AH19: 1400 | AN19: 1400
A21: 6800 | P21: 1360 | V21: 1360 | AB21: 1360 | AH21: 1360 | AN21: 1360
A23: 6600 | P23: 1320 | V23: 1320 | AB23: 1320 | AH23: 1320 | AN23: 1320
A25: 6400 | P25: 1280 | V25: 1280 | AB25: 1280 | AH25: 1280 | AN25: 1280
A27: 6200 | P27: 1240 | V27: 1240 | AB27: 1240 | AH27: 1240 | AN27: 1240
A29: 5920 | P29: 1200 | V29: 1200 | AB29: 1200 | AH29: 1200 | AN29: 1200
A31: 5800 | P31: 1160 | V31: 1160 | AB31: 1160 | AH31: 1160 | AN31: 1160
A33: 5600 | P33: 1120 | V33: 1120 | AB33: 1120 | AH33: 1120 | AN33: 1120
... A87: 200 | P87: 40 | V87: 40 | AB87: 40 | AH87: 40 | AN87: 40
A89: 0 | B89: J | C89: F | D89: M | E89: A | F89: M | G89: J | H89: J | I89: A | J89: S | K89: O | L89: N | M89: D | P89: 0 | Q89: L | R89: M | S89: M | T89: J | U89: V | V89: 0 | W89: L | X89: M | Y89: M | Z89: J | AA89: V | AB89: 0 | AC89: L | AD89: M | AE89: M | AF89: J | AG89: V | AH89: 0 | AI89: L | AJ89: M | AK89: M | AL89: J | AM89: V | AN89: 0 | AO89: L | AP89: M | AQ89: M | AR89: J | AS89: V
A90: Productivité
A95: Nombre de menuiseries à fabriquer suivant l'effectif présent
B96: 54 | F96: 52 | J96: 50 | O96: Effectif THEORIQUE | P96: 54 | Q96: L | R96: M | S96: M | T96: J | U96: V | W96: L | X96: M | Y96: M | Z96: J | AA96: V | AC96: L | AD96: M | AE96: M | AF96: J | AG96: V | AI96: L | AJ96: M | AK96: M | AL96: J | AM96: V | AO96: L | AP96: M | AQ96: M | AR96: J | AS96: V
A97: Base horaire | B97: P°/sem | D97: P°/jr | F97: P°/sem | H97: P°/jr | J97: P°/sem | L97: P°/jr | O97: nb absent(s)
A98: 35 | B98: =ROUNDDOWN(B96*$A$98/$B$102,-1) -> 1480 | D98: =ROUND(B98/4.5,-1) -> 330 | F98: =ROUNDDOWN(F96*$A$98/$B$102,-1) -> 1430 | G98: =ROUNDDOWN($U96*F$66/$T$64,-1) -> #VALUE! | H98: =ROUND(F98/4.5,-1) -> 320 | J98: =ROUNDDOWN(J96*$A$98/$B$102,-1) -> 1370 | K98: =ROUNDDOWN($U96*J$66/$T$64,-1) -> #VALUE! | L98: =ROUND(J98/4.5,-1) -> 300
A100: 37 | B100: =ROUNDDOWN(B96*$A$100/$B$102,-1) -> 1570 | D100: =ROUND(B100/4.5,-1) -> 350 | F100: =ROUNDDOWN(F96*$A$100/$B$102,-1) -> 1510 | G100: =ROUNDDOWN($U96*F$67/$T$64,-1) -> #VALUE! | H100: =ROUND(F100/4.5,-1) -> 340 | J100: =ROUNDDOWN(J96*$A$100/$B$102,-1) -> 1450 | K100: =ROUNDDOWN($U96*J$67/$T$64,-1) -> #VALUE! | L100: =ROUND(J100/4.5,-1) -> 320
A102: Objectif Productivité | B102: 1.27
H105: MOIS :

Sheet Indicateur Cde P
A1: Activité (le cumul des tombées de commandes)
A7: SUIVI DES COMMANDES PVC
C9: EVOLUTION ANNUELLE
P89: 49
C92: 0 | D92: 0 | E92: 0 | F92: 0 | G92: 0 | H92: 0 | I92: 0 | J92: 0 | K92: 0 | L92: 0 | M92: 0 | N92: 0
B93: CHANTIERS A VENIR
Q95: CUMULE 2020 | U95: ='Indicateur graph cde_glob'!J67 -> 10571 | W95: =U95/U98-1 -> 0.053308091
A96: client | B96: nb men | C96: 43831 | D96: 43862 | E96: 43891 | F96: 43922 | G96: 43952 | H96: 43983 | I96: 44013 | J96: 44044 | K96: 44075 | L96: 44105 | M96: 44136 | N96: 44166
A98: CHRETIENS | B98: 144 | C98: 144 | Q98: CUMULE 2019 | U98: ='Indicateur graph cde_glob'!K67 -> 10036
A99: K&B BRUYERE | B99: 713 | C99: 200 | D99: 200 | E99: 200 | F99: 113 | G99: 360 pces K&B elancourt
A100: CASEO | D100: 54 pces S10 - 50 pces S13 puis 2nd semestre
A101: SAME | D101: 67 pces lot 9 délai 10 plaxé 1f avec VRI
B105: ANNEE : | E105: 2020

Sheet Indicateur Cde CCE P
A1: Activité (le cumul des tombées de commandes)
A7: SUIVI DES COMMANDES PVC / RESEAU
A9: BSA (dt Uab) | H9: INDUSTRIE | O9: ARCADES ET BAIES | V9: FILIALES (Alf / Prodim / Mdf) | AD9: GLOBAL
A54: =SUM(B54:F54) -> 1854 | B54: =+VLOOKUP(B56,Recap_cde_P!$C$5:$T$57,15,FALSE) -> 484 | C54: =+VLOOKUP(C56,Recap_cde_P!$C$5:$T$57,15,FALSE) -> 443 | D54: =+VLOOKUP(D56,Recap_cde_P!$C$5:$T$57,15,FALSE) -> 438 | E54: =+VLOOKUP(E56,Recap_cde_P!$C$5:$T$57,15,FALSE) -> 489 | H54: =SUM(I54:M54) -> 1848 | I54: =+VLOOKUP(I56,Recap_cde_P!$C$5:$T$57,16,FALSE) -> 503 | J54: =+VLOOKUP(J56,Recap_cde_P!$C$5:$T$57,16,FALSE) -> 569 | K54: =+VLOOKUP(K56,Recap_cde_P!$C$5:$T$57,16,FALSE) -> 362 | L54: =+VLOOKUP(L56,Recap_cde_P!$C$5:$T$57,16,FALSE) -> 414 | O54: =SUM(P54:T54) -> 288 | P54: =+VLOOKUP(P56,Recap_cde_P!$C$5:$T$57,17,FALSE) -> 97 | Q54: =+VLOOKUP(Q56,Recap_cde_P!$C$5:$T$57,17,FALSE) -> 77 | R54: =+VLOOKUP(R56,Recap_cde_P!$C$5:$T$57,17,FALSE) -> 62 | S54: =+VLOOKUP(S56,Recap_cde_P!$C$5:$T$57,17,FALSE) -> 52 | V54: =SUM(W54:AA54) -> 835 | W54: =+VLOOKUP(W56,Recap_cde_P!$C$5:$T$57,18,FALSE) -> 180 | X54: =+VLOOKUP(X56,Recap_cde_P!$C$5:$T$57,18,FALSE) -> 216 | Y54: =+VLOOKUP(Y56,Recap_cde_P!$C$5:$T$57,18,FALSE) -> 219 | Z54: =+VLOOKUP(Z56,Recap_cde_P!$C$5:$T$57,18,FALSE) -> 220 | AC54: =SUM(AD54:AH54) -> 4825 | AD54: =SUM(B54,I54,P54,W54) -> 1264 | AE54: =SUM(C54,J54,Q54,X54) -> 1305 | AF54: =SUM(D54,K54,R54,Y54) -> 1081 | AG54: =SUM(E54,L54,S54,Z54) -> 1175 | AH54: =SUM(F54,M54,T54,AA54) -> 0
B56: s06 | C56: s07 | D56: s08 | E56: s09 | I56: =B56 -> s06 | J56: =C56 -> s07 | K56: =D56 -> s08 | L56: =E56 -> s09 | M56: =F56 -> 0 | P56: =I56 -> s06 | Q56: =J56 -> s07 | R56: =K56 -> s08 | S56: =L56 -> s09 | T56: =M56 -> 0 | W56: =P56 -> s06 | X56: =Q56 -> s07 | Y56: =R56 -> s08 | Z56: =S56 -> s09 | AA56: =T56 -> 0 | AD56: =W56 -> s06 | AE56: =X56 -> s07 | AF56: =Y56 -> s08 | AG56: =Z56 -> s09 | AH56: =AA56 -> 0 | AL56: LIENS : Chiffre du tableau des commandes, onglet "Ev_mens"
A57: BSA | B57: =+VLOOKUP(B56,Recap_cde_P!$C$5:$G$56,5,FALSE) -> 621 | C57: =+VLOOKUP(C56,Recap_cde_P!$C$5:$G$56,5,FALSE) -> 535 | D57: =+VLOOKUP(D56,Recap_cde_P!$C$5:$G$56,5,FALSE) -> 639 | E57: =+VLOOKUP(E56,Recap_cde_P!$C$5:$G$56,5,FALSE) -> 719 | H57: Ind | I57: =+VLOOKUP(I56,Recap_cde_P!$C$5:$H$56,6,FALSE) -> 273 | J57: =+VLOOKUP(J56,Recap_cde_P!$C$5:$H$56,6,FALSE) -> 228 | K57: =+VLOOKUP(K56,Recap_cde_P!$C$5:$H$56,6,FALSE) -> 367 | L57: =+VLOOKUP(L56,Recap_cde_P!$C$5:$H$56,6,FALSE) -> 515 | O57: A&B | P57: =+VLOOKUP(P56,Recap_cde_P!$C$5:$I$56,7,FALSE) -> 85 | Q57: =+VLOOKUP(Q56,Recap_cde_P!$C$5:$I$56,7,FALSE) -> 141 | R57: =+VLOOKUP(R56,Recap_cde_P!$C$5:$I$56,7,FALSE) -> 40 | S57: =+VLOOKUP(S56,Recap_cde_P!$C$5:$I$56,7,FALSE) -> 131 | V57: Filiales | W57: =+VLOOKUP(W56,Recap_cde_P!$C$5:$J$56,8,FALSE) -> 172 | X57: =+VLOOKUP(X56,Recap_cde_P!$C$5:$J$56,8,FALSE) -> 394 | Y57: =+VLOOKUP(Y56,Recap_cde_P!$C$5:$J$56,8,FALSE) -> 216 | Z57: =+VLOOKUP(Z56,Recap_cde_P!$C$5:$J$56,8,FALSE) -> 241 | AC57: cumul hebdo | AD57: =SUM(B57,I57,P57,W57) -> 1151 | AE57: =SUM(C57,J57,Q57,X57) -> 1298 | AF57: =SUM(D57,K57,R57,Y57) -> 1262 | AG57: =SUM(E57,L57,S57,Z57) -> 1606 | AH57: =SUM(F57,M57,T57,AA57) -> 0 | AK57: BSA | AL57: =[1]pvc!$D$250+[1]pvc!$H$250+[1]pvc!$J$250 -> 2241 | AM57: =[1]pvc!$P$250+[1]pvc!$T$250+[1]pvc!$V$250 -> 1903 | AN57: =[1]pvc!$AB$250+[1]pvc!$AF$250+[1]pvc!$AH$250 -> 2222 | AO57: =[1]pvc!$AN$250+[1]pvc!$AR$250+[1]pvc!$AT$250 -> 2304 | AP57: =[1]pvc!$AZ$250+[1]pvc!$BD$250+[1]pvc!$BF$250 -> 2110 | AQ57: =[1]pvc!$BL$250+[1]pvc!$BP$250+[1]pvc!$BR$250 -> 2422 | AR57: =[1]pvc!$BX$250+[1]pvc!$CB$250+[1]pvc!$CD$250 -> 2176 | AS57: =[1]pvc!$CJ$250+[1]pvc!$CN$250+[1]pvc!$CP$250 -> 620 | AT57: =[1]pvc!$CV$250+[1]pvc!$CZ$250+[1]pvc!$DB$250 -> 2943 | AU57: =[1]pvc!$DH$250+[1]pvc!$DL$250+[1]pvc!$DN$250 -> 2779 | AV57: =[1]pvc!$DT$250+[1]pvc!$DX$250+[1]pvc!$DZ$250 -> 2457 | AW57: =[1]pvc!$EF$250+[1]pvc!$EJ$250+[1]pvc!$EL$250 -> 1674
AK58: A&B | AL58: =[1]pvc!$G$250 -> 344 | AM58: =[1]pvc!$S$250 -> 294 | AN58: =[1]pvc!$AE$250 -> 665 | AO58: =[1]pvc!$AQ$250 -> 788 | AP58: =[1]pvc!$BC$250 -> 492 | AQ58: =[1]pvc!$BO$250 -> 381 | AR58: =[1]pvc!$CA$250 -> 595 | AS58: =[1]pvc!$CM$250 -> 114 | AT58: =[1]pvc!$CY$250 -> 537 | AU58: =[1]pvc!$DK$250 -> 962 | AV58: =[1]pvc!$DW$250 -> 501 | AW58: =[1]pvc!$EI$250 -> 400
A59: CUMULE | B59: =+B57 -> 621 | C59: =+B59+C57 -> 1156 | D59: =+C59+D57 -> 1795 | E59: =+D59+E57 -> 2514 | H59: CUMULE | I59: =+I57 -> 273 | J59: =+I59+J57 -> 501 | K59: =+J59+K57 -> 868 | L59: =+K59+L57 -> 1383 | O59: CUMULE | P59: =+P57 -> 85 | Q59: =+P59+Q57 -> 226 | R59: =+Q59+R57 -> 266 | S59: =+R59+S57 -> 397 | V59: CUMULE | W59: =+W57 -> 172 | X59: =+W59+X57 -> 566 | Y59: =+X59+Y57 -> 782 | Z59: =+Y59+Z57 -> 1023 | AD59: =+AD57 -> 1151 | AE59: =+AD59+AE57 -> 2449 | AF59: =+AE59+AF57 -> 3711 | AG59: =+AF59+AG57 -> 5317 | AH59: =SUM(F57,M57,T57,AA57,AH57) -> 0 | AK59: FILIALES | AL59: =[1]pvc!$I$250+[1]pvc!$K$250+[1]pvc!$L$250 -> 826 | AM59: =[1]pvc!$U$250+[1]pvc!$W$250+[1]pvc!$X$250 -> 835 | AN59: =[1]pvc!$AG$250+[1]pvc!$AI$250+[1]pvc!$AJ$250 -> 895 | AO59: =[1]pvc!$AS$250+[1]pvc!$AU$250+[1]pvc!$AV$250 -> 948 | AP59: =[1]pvc!$BE$250+[1]pvc!$BG$250+[1]pvc!$BH$250 -> 999 | AQ59: =[1]pvc!$BQ$250+[1]pvc!$BS$250+[1]pvc!$BT$250 -> 801 | AR59: =[1]pvc!$CC$250+[1]pvc!$CE$250+[1]pvc!$CF$250 -> 857 | AS59: =[1]pvc!$CO$250+[1]pvc!$CQ$250+[1]pvc!$CR$250 -> 62 | AT59: =[1]pvc!$DA$250+[1]pvc!$DC$250+[1]pvc!$DD$250 -> 1362 | AU59: =[1]pvc!$DM$250+[1]pvc!$DO$250+[1]pvc!$DP$250 -> 1165 | AV59: =[1]pvc!$DY$250+[1]pvc!$EA$250+[1]pvc!$EB$250 -> 896 | AW59: =[1]pvc!$EK$250+[1]pvc!$EM$250+[1]pvc!$EN$250 -> 666
AK60: INDUSTRIE | AL60: =[1]pvc!$E$250+[1]pvc!$F$250 -> 1499 | AM60: =[1]pvc!$Q$250+[1]pvc!$R$250 -> 1905 | AN60: =[1]pvc!$AC$250+[1]pvc!$AD$250 -> 1753 | AO60: =[1]pvc!$AO$250+[1]pvc!$AP$250 -> 1833 | AP60: =[1]pvc!$BA$250+[1]pvc!$BB$250 -> 1439 | AQ60: =[1]pvc!$BM$250+[1]pvc!$BN$250 -> 1543 | AR60: =[1]pvc!$BY$250+[1]pvc!$BZ$250 -> 1498 | AS60: =[1]pvc!$CK$250+[1]pvc!$CL$250 -> 409 | AT60: =[1]pvc!$CW$250+[1]pvc!$CX$250 -> 1366 | AU60: =[1]pvc!$DI$250+[1]pvc!$DJ$250 -> 1587 | AV60: =[1]pvc!$DU$250+[1]pvc!$DV$250 -> 1351 | AW60: =[1]pvc!$EG$250+[1]pvc!$EH$250 -> 1004
AK62: =SUM(AL62:AW62) -> 59423 | AL62: =SUM(AL57:AL61) -> 4910 | AM62: =SUM(AM57:AM61) -> 4937 | AN62: =SUM(AN57:AN61) -> 5535 | AO62: =SUM(AO57:AO61) -> 5873 | AP62: =SUM(AP57:AP61) -> 5040 | AQ62: =SUM(AQ57:AQ61) -> 5147 | AR62: =SUM(AR57:AR61) -> 5126 | AS62: =SUM(AS57:AS61) -> 1205 | ... AW62: =SUM(AW57:AW61) -> 3744
AL63: J | AM63: F | AN63: M | AO63: A | AP63: M | AQ63: J | AR63: J | AS63: A | AT63: S | AU63: O | AV63: N | AW63: D
A78: MOIS : | G78: FEVRIER

Sheet Indicateur Cde B
A1: Activité (le cumul des tombées de commandes)
A7: SUIVI DES COMMANDES BOIS
C9: EVOLUTION ANNUELLE SERIE | P9: EVOLUTION ANNUELLE PORTES D'ENTREE
P89: 49
C92: 0 | D92: 0 | E92: 0 | F92: 0 | G92: 0 | H92: 0 | I92: 0 | J92: 0 | K92: 0 | L92: 0 | M92: 0 | N92: 0
B93: CHANTIERS A VENIR
Q95: =+'Indicateur Cde P'!Q95:T97 -> CUMULE 2020 | U95: =+'Indicateur graph cde_glob'!J68 -> 2614 | W95: =U95/U98-1 -> 0.30634683
A96: client | B96: nb men | C96: 43831 | D96: 43862 | E96: 43891 | F96: 43922 | G96: 43952 | H96: 43983 | I96: 44013 | J96: 44044 | K96: 44075 | L96: 44105 | M96: 44136 | N96: 44166
A98: OLIER | B98: 110 | D98: 110 cde PIN EN ATTENTE | Q98: =+'Indicateur Cde P'!Q98:T99 -> CUMULE 2019 | U98: =+'Indicateur graph cde_glob'!K68 -> 2001
B105: ANNEE : | E105: =+'Indicateur Cde P'!$E$105:$H$107 -> 2020

Sheet Indicateur Cde CCE B
A1: Activité (le cumul des tombées de commandes)
A7: SUIVI DES COMMANDES BOIS / RESEAU
A9: BSA (dt Uab) | H9: INDUSTRIE | O9: FILIALES (Alf / Prodim / Mdf) | V9: Portes d'Entrée | AD9: GLOBAL SERIE + PE
A54: =SUM(B54:F54) -> 804 | B54: =VLOOKUP(B55,Recap_cde_B!$M$5:$S$57,4,FALSE) -> 189 | C54: =VLOOKUP(C55,Recap_cde_B!$M$5:$S$57,4,FALSE) -> 194 | D54: =VLOOKUP(D55,Recap_cde_B!$M$5:$S$57,4,FALSE) -> 148 | E54: =VLOOKUP(E55,Recap_cde_B!$M$5:$S$57,4,FALSE) -> 273 | H54: =SUM(I54:M54) -> 33 | I54: =VLOOKUP(I55,Recap_cde_B!$M$5:$S$57,5,FALSE) -> 22 | J54: =VLOOKUP(J55,Recap_cde_B!$M$5:$S$57,5,FALSE) -> 0 | K54: =VLOOKUP(K55,Recap_cde_B!$M$5:$S$57,5,FALSE) -> 0 | L54: =VLOOKUP(L55,Recap_cde_B!$M$5:$S$57,5,FALSE) -> 11 | O54: =SUM(P54:T54) -> 27 | P54: =VLOOKUP(P55,Recap_cde_B!$M$5:$S$57,6,FALSE) -> 1 | Q54: =VLOOKUP(Q55,Recap_cde_B!$M$5:$S$57,6,FALSE) -> 7 | R54: =VLOOKUP(R55,Recap_cde_B!$M$5:$S$57,6,FALSE) -> 1 | S54: =VLOOKUP(S55,Recap_cde_B!$M$5:$S$57,6,FALSE) -> 18 | V54: =SUM(W54:AA54) -> 58 | W54: =VLOOKUP(W55,Recap_cde_B!$M$5:$S$57,7,FALSE) -> 14 | X54: =VLOOKUP(X55,Recap_cde_B!$M$5:$S$57,7,FALSE) -> 13 | Y54: =VLOOKUP(Y55,Recap_cde_B!$M$5:$S$57,7,FALSE) -> 12 | Z54: =VLOOKUP(Z55,Recap_cde_B!$M$5:$S$57,7,FALSE) -> 19 | AC54: =SUM(AD54:AH54) -> 922 | AD54: =SUM(B54,I54,P54,W54) -> 226 | AE54: =SUM(C54,J54,Q54,X54) -> 214 | AF54: =SUM(D54,K54,R54,Y54) -> 161 | AG54: =SUM(E54,L54,S54,Z54) -> 321 | AH54: =SUM(F54,M54,T54,AA54) -> 0
B55: 6 | C55: =+B55+1 -> 7 | D55: =+C55+1 -> 8 | E55: =+D55+1 -> 9 | I55: =B55 -> 6 | J55: =C55 -> 7 | K55: =D55 -> 8 | L55: =E55 -> 9 | M55: =F55 -> 0 | P55: =I55 -> 6 | Q55: =J55 -> 7 | R55: =K55 -> 8 | S55: =L55 -> 9 | T55: =M55 -> 0 | W55: =P55 -> 6 | X55: =Q55 -> 7 | Y55: =R55 -> 8 | Z55: =S55 -> 9 | AA55: =T55 -> 0 | AD55: =W55 -> 6 | AE55: =X55 -> 7 | AF55: =Y55 -> 8 | AG55: =Z55 -> 9 | AH55: =AA55 -> 0
A56: BSA | B56: =VLOOKUP(B55,Recap_cde_B!$C$5:$I$57,4,FALSE) -> 384 | C56: =VLOOKUP(C55,Recap_cde_B!$C$5:$I$57,4,FALSE) -> 356 | D56: =VLOOKUP(D55,Recap_cde_B!$C$5:$I$57,4,FALSE) -> 238 | E56: =VLOOKUP(E55,Recap_cde_B!$C$5:$I$57,4,FALSE) -> 264 | H56: Ind | I56: =VLOOKUP(I55,Recap_cde_B!$C$5:$I$57,5,FALSE) -> 7 | J56: =VLOOKUP(J55,Recap_cde_B!$C$5:$I$57,5,FALSE) -> 8 | K56: =VLOOKUP(K55,Recap_cde_B!$C$5:$I$57,5,FALSE) -> 0 | L56: =VLOOKUP(L55,Recap_cde_B!$C$5:$I$57,5,FALSE) -> 0 | O56: Filiales | P56: =VLOOKUP(P55,Recap_cde_B!$C$5:$I$57,6,FALSE) -> 15 | Q56: =VLOOKUP(Q55,Recap_cde_B!$C$5:$I$57,6,FALSE) -> 17 | R56: =VLOOKUP(R55,Recap_cde_B!$C$5:$I$57,6,FALSE) -> 12 | S56: =VLOOKUP(S55,Recap_cde_B!$C$5:$I$57,6,FALSE) -> 13 | V56: PE | W56: =VLOOKUP(W55,Recap_cde_B!$C$5:$I$57,7,FALSE) -> 24 | X56: =VLOOKUP(X55,Recap_cde_B!$C$5:$I$57,7,FALSE) -> 26 | Y56: =VLOOKUP(Y55,Recap_cde_B!$C$5:$I$57,7,FALSE) -> 36 | Z56: =VLOOKUP(Z55,Recap_cde_B!$C$5:$I$57,7,FALSE) -> 22 | AC56: cumul hebdo | AD56: =SUM(B56,I56,P56,W56) -> 430 | AE56: =SUM(C56,J56,Q56,X56) -> 407 | AF56: =SUM(D56,K56,R56,Y56) -> 286 | AG56: =SUM(E56,L56,S56,Z56) -> 299 | AH56: =SUM(F56,M56,T56,AA56) -> 0
A58: CUMULE | B58: =+B56 -> 384 | C58: =+B58+C56 -> 740 | D58: =+C58+D56 -> 978 | E58: =+D58+E56 -> 1242 | H58: CUMULE | I58: =+I56 -> 7 | J58: =+I58+J56 -> 15 | K58: =+J58+K56 -> 15 | L58: =+K58+L56 -> 15 | O58: CUMULE | P58: =+P56 -> 15 | Q58: =+P58+Q56 -> 32 | R58: =+Q58+R56 -> 44 | S58: =+R58+S56 -> 57 | V58: CUMULE | W58: =+W56 -> 24 | X58: =+W58+X56 -> 50 | Y58: =+X58+Y56 -> 86 | Z58: =+Y58+Z56 -> 108 | AD58: =+AD56 -> 430 | AE58: =+AD58+AE56 -> 837 | AF58: =+AE58+AF56 -> 1123 | AG58: =+AF58+AG56 -> 1422 | AH58: =SUM(F56,M56,T56,AA56,AH56) -> 0
A77: MOIS : | G77: ='Indicateur Cde CCE P'!G78 -> FEVRIER

Sheet Indicateur Cde A
A1: Activité (le cumul des tombées de commandes)
A7: SUIVI DES COMMANDES ALU
C9: EVOLUTION ANNUELLE FPV | P9: EVOLUTION ANNUELLE ALF
P89: 49
C92: 0 | D92: 0 | E92: 0 | F92: 0 | G92: 0 | H92: 0 | I92: 0 | J92: 0 | K92: 0 | L92: 0 | M92: 0 | N92: 0
B93: CHANTIERS A VENIR
Q95: =+'Indicateur Cde P'!Q95:T97 -> CUMULE 2020 | U95: =+'Indicateur graph cde_glob'!J69 -> 2676 | W95: =U95/U98-1 -> -0.083247688
A96: client | B96: nb men | C96: 43831 | D96: 43862 | E96: 43891 | F96: 43922 | G96: 43952 | H96: 43983 | I96: 44013 | J96: 44044 | K96: 44075 | L96: 44105 | M96: 44136 | N96: 44166
Q98: =+'Indicateur Cde P'!Q98:T99 -> CUMULE 2019 | U98: =+'Indicateur graph cde_glob'!K69 -> 2919
B105: ANNEE : | E105: =+'Indicateur Cde P'!$E$105 -> 2020

Sheet Indicateur Cde CCE A
A1: Activité (le cumul des tombées de commandes)
A7: SUIVI DES COMMANDES ALU / RESEAU (FPV)
A9: BSA (dt Uab) | H9: INDUSTRIE | O9: ARCADES ET BAIES | V9: FILIALES (Alf / Prodim / Mdf) | AD9: GLOBAL (sans ALF)
A54: =SUM(B54:F54) -> 1090 | B54: =+VLOOKUP(B55,Recap_cde_A!$O$5:$T$57,6,FALSE) -> 235 | C54: =+VLOOKUP(C55,Recap_cde_A!$O$5:$T$57,6,FALSE) -> 294 | D54: =+VLOOKUP(D55,Recap_cde_A!$O$5:$T$57,6,FALSE) -> 234 | E54: =+VLOOKUP(E55,Recap_cde_A!$O$5:$T$57,6,FALSE) -> 327 | AC54: =SUM(AD54:AH54) -> 1090 | AD54: =SUM(B54,I54,P54,W54) -> 235 | AE54: =SUM(C54,J54,Q54,X54) -> 294 | AF54: =SUM(D54,K54,R54,Y54) -> 234 | AG54: =SUM(E54,L54,S54,Z54) -> 327 | AH54: =SUM(F54,M54,T54,AA54) -> 0
B55: 6 | C55: =B55+1 -> 7 | D55: =C55+1 -> 8 | E55: =D55+1 -> 9 | I55: =B55 -> 6 | J55: =C55 -> 7 | K55: =D55 -> 8 | L55: =E55 -> 9 | M55: =F55 -> 0 | P55: =I55 -> 6 | Q55: =J55 -> 7 | R55: =K55 -> 8 | S55: =L55 -> 9 | T55: =M55 -> 0 | W55: =P55 -> 6 | X55: =Q55 -> 7 | Y55: =R55 -> 8 | Z55: =S55 -> 9 | AA55: =T55 -> 0 | AD55: =W55 -> 6 | AE55: =X55 -> 7 | AF55: =Y55 -> 8 | AG55: =Z55 -> 9 | AH55: =AA55 -> 0
A56: BSA | B56: =VLOOKUP(B55,Recap_cde_A!$C$5:$K$57,6,FALSE) -> 220 | C56: =VLOOKUP(C55,Recap_cde_A!$C$5:$K$57,6,FALSE) -> 248 | D56: =VLOOKUP(D55,Recap_cde_A!$C$5:$K$57,6,FALSE) -> 209 | E56: =VLOOKUP(E55,Recap_cde_A!$C$5:$K$57,6,FALSE) -> 189 | H56: Ind | I56: =VLOOKUP(I55,Recap_cde_A!$C$5:$K$57,7,FALSE) -> 86 | J56: =VLOOKUP(J55,Recap_cde_A!$C$5:$K$57,7,FALSE) -> 110 | K56: =VLOOKUP(K55,Recap_cde_A!$C$5:$K$57,7,FALSE) -> 84 | L56: =VLOOKUP(L55,Recap_cde_A!$C$5:$K$57,7,FALSE) -> 123 | M56: =VLOOKUP(M55,Recap_cde_A!$C$5:$K$57,7,FALSE) -> #N/A | O56: A&B | P56: =VLOOKUP(P55,Recap_cde_A!$C$5:$K$57,8,FALSE) -> 0 | Q56: =VLOOKUP(Q55,Recap_cde_A!$C$5:$K$57,8,FALSE) -> 0 | R56: =VLOOKUP(R55,Recap_cde_A!$C$5:$K$57,8,FALSE) -> 0 | S56: =VLOOKUP(S55,Recap_cde_A!$C$5:$K$57,8,FALSE) -> 0 | T56: =VLOOKUP(T55,Recap_cde_A!$C$5:$K$57,8,FALSE) -> #N/A | V56: Filiales | W56: =VLOOKUP(W55,Recap_cde_A!$C$5:$K$57,9,FALSE) -> 0 | X56: =VLOOKUP(X55,Recap_cde_A!$C$5:$K$57,9,FALSE) -> 0 | Y56: =VLOOKUP(Y55,Recap_cde_A!$C$5:$K$57,9,FALSE) -> 0 | Z56: =VLOOKUP(Z55,Recap_cde_A!$C$5:$K$57,9,FALSE) -> 0 | AA56: =VLOOKUP(AA55,Recap_cde_A!$C$5:$K$57,9,FALSE) -> #N/A | AC56: cumul hebdo | AD56: =SUM(B56,I56,P56,W56) -> 306 | AE56: =SUM(C56,J56,Q56,X56) -> 358 | AF56: =SUM(D56,K56,R56,Y56) -> 293 | AG56: =SUM(E56,L56,S56,Z56) -> 312 | AH56: =SUM(F56,M56,T56,AA56) -> #N/A
A58: CUMULE | B58: =+B56 -> 220 | C58: =+B58+C56 -> 468 | D58: =+C58+D56 -> 677 | E58: =+D58+E56 -> 866 | H58: CUMULE | I58: =+I56 -> 86 | J58: =+I58+J56 -> 196 | K58: =+J58+K56 -> 280 | L58: =+K58+L56 -> 403 | O58: CUMULE | P58: =+P56 -> 0 | Q58: =+P58+Q56 -> 0 | R58: =+Q58+R56 -> 0 | S58: =+R58+S56 -> 0 | V58: CUMULE | W58: =+W56 -> 0 | X58: =+W58+X56 -> 0 | Y58: =+X58+Y56 -> 0 | Z58: =+Y58+Z56 -> 0 | AD58: =+AD56 -> 306 | AE58: =+AD58+AE56 -> 664 | AF58: =+AE58+AF56 -> 957 | AG58: =+AF58+AG56 -> 1269 | AH58: =SUM(F56,M56,T56,AA56,AH56) -> #N/A
AD63: Pas d'historique sur 2019
A77: MOIS : | G77: =+'Indicateur Cde CCE P'!G78 -> FEVRIER

Sheet Indicateur devis CCE
A1: Activité DEVIS
A7: CUMUL DES DEVIS - Retard devis
C9: EVOLUTION DEVIS PAR MOIS | S9: moyennes hebdomadaires
T12: nb devis | U12: nb men | V12: nb men /devis
S17: pvc | T17: ='Récap devis'!D59 -> 110.5 | U17: ='Récap devis'!E59 -> 625.625 | V17: =U17/T17 -> 5.6617647
S20: bois | T20: ='Récap devis'!F59 -> 108.375 | U20: ='Récap devis'!G59 -> 694 | V20: =U20/T20 -> 6.4036909
S23: alu | T23: ='Récap devis'!H59 -> 98 | U23: ='Récap devis'!I59 -> 469.625 | V23: =U23/T23 -> 4.7920918
S26: TOTAL | T26: =SUM(T17:T25) -> 316.875 | U26: =SUM(U17:U25) -> 1789.25 | V26: =U26/T26 -> 5.6465483
S32: DEVIS DU MOIS
S66: 6 | T66: =S66+1 -> 7 | U66: =T66+1 -> 8 | V66: =U66+1 -> 9 | W66: =N66 -> 0
R67: Qté hebdo | S67: =VLOOKUP(S66,'Récap devis'!$C$5:$J$57,8,FALSE) -> 314 | T67: =VLOOKUP(T66,'Récap devis'!$C$5:$J$57,8,FALSE) -> 343 | U67: =VLOOKUP(U66,'Récap devis'!$C$5:$J$57,8,FALSE) -> 299 | V67: =VLOOKUP(V66,'Récap devis'!$C$5:$J$57,8,FALSE) -> 277
R69: CUMULE | S69: =+S67 -> 314 | T69: =+S69+T67 -> 657 | U69: =+T69+U67 -> 956 | V69: =+U69+V67 -> 1233
R71: retard | S71: =VLOOKUP(S66,'Récap devis'!$C$5:$L$57,10,FALSE) -> 40 | T71: =VLOOKUP(T66,'Récap devis'!$C$5:$L$57,10,FALSE) -> 61 | U71: =VLOOKUP(U66,'Récap devis'!$C$5:$L$57,10,FALSE) -> 69 | V71: =VLOOKUP(V66,'Récap devis'!$C$5:$L$57,10,FALSE) -> 24 | W71: =VLOOKUP(W66,'Récap devis'!$C$5:$L$57,10,FALSE) -> #N/A
A75: ANNEE : | G75: 2020

Sheet Récap devis
A1: RECAP DEVIS | N1: RECAP DEVIS
A3: 25 | C3: ANNEE 2020 | D3: pvc | F3: bois | H3: alu | J3: global | N3: ANNEE 2019 | O3: pvc | Q3: bois | S3: alu | U3: global
B4: mois | C4: sem | D4: NB DEVIS | E4: NB MEN | F4: NB DEVIS | G4: NB MEN | H4: NB DEVIS | I4: NB MEN | J4: nb devis | K4: nb men | L4: retard | N4: sem | O4: NB DEVIS | P4: NB MEN | Q4: NB DEVIS | R4: NB MEN | S4: NB DEVIS | T4: NB MEN | U4: nb devis | V4: nb men | W4: retard
B5: 43831 | C5: 1 | N5: 1 | O5: 42 | P5: 164 | Q5: 36 | R5: 549 | S5: 36 | T5: 189 | U5: 114 | V5: 902 | W5: 0
B6: 43831 | C6: 2 | D6: =[2]Devis!$T$25 -> 79 | E6: =[2]Devis!$U$25 -> 585 | F6: =[2]Devis!$T$26 -> 124 | G6: =[2]Devis!$U$26 -> 672 | H6: =[2]Devis!$T$27 -> 94 | I6: =[2]Devis!$U$27 -> 618 | J6: =SUM(D6,F6,H6) -> 297 | K6: =SUM(E6,G6,I6) -> 1875 | L6: =[2]Devis!$T$29 -> 32 | N6: 2 | O6: 101 | P6: 452 | Q6: 85 | R6: 583 | S6: 90 | T6: 529 | U6: 276 | V6: 1564 | W6: 5
A7: 1 | B7: 43831 | C7: 3 | D7: =OFFSET([2]Devis!$T$25,$A$3*A7,0) -> 109 | E7: =OFFSET([2]Devis!$U$25,$A$3*A7,0) -> 743 | F7: =OFFSET([2]Devis!$T$26,$A$3*A7,0) -> 109 | G7: =OFFSET([2]Devis!$U$26,$A$3*A7,0) -> 703 | H7: =OFFSET([2]Devis!$T$27,$A$3*A7,0) -> 92 | I7: =OFFSET([2]Devis!$U$27,$A$3*A7,0) -> 391 | J7: =SUM(D7,F7,H7) -> 310 | K7: =SUM(E7,G7,I7) -> 1837 | L7: =OFFSET([2]Devis!$T$29,$A$3*A7,0) -> 36 | N7: 3 | O7: 117 | P7: 559 | Q7: 103 | R7: 664 | S7: 97 | T7: 414 | U7: 317 | V7: 1637 | W7: 26
A8: 2 | B8: 43831 | C8: 4 | D8: =OFFSET([2]Devis!$T$25,$A$3*A8,0) -> 126 | E8: =OFFSET([2]Devis!$U$25,$A$3*A8,0) -> 749 | F8: =OFFSET([2]Devis!$T$26,$A$3*A8,0) -> 112 | G8: =OFFSET([2]Devis!$U$26,$A$3*A8,0) -> 517 | H8: =OFFSET([2]Devis!$T$27,$A$3*A8,0) -> 104 | I8: =OFFSET([2]Devis!$U$27,$A$3*A8,0) -> 370 | J8: =SUM(D8,F8,H8) -> 342 | K8: =SUM(E8,G8,I8) -> 1636 | L8: =OFFSET([2]Devis!$T$29,$A$3*A8,0) -> 48 | N8: 4 | O8: 112 | P8: 537 | Q8: 111 | R8: 704 | S8: 103 | T8: 373 | U8: 326 | V8: 1614 | W8: 49
A9: 3 | B9: 43831 | C9: 5 | D9: =OFFSET([2]Devis!$T$25,$A$3*A9,0) -> 126 | E9: =OFFSET([2]Devis!$U$25,$A$3*A9,0) -> 453 | F9: =OFFSET([2]Devis!$T$26,$A$3*A9,0) -> 104 | G9: =OFFSET([2]Devis!$U$26,$A$3*A9,0) -> 668 | H9: =OFFSET([2]Devis!$T$27,$A$3*A9,0) -> 123 | I9: =OFFSET([2]Devis!$U$27,$A$3*A9,0) -> 536 | J9: =SUM(D9,F9,H9) -> 353 | K9: =SUM(E9,G9,I9) -> 1657 | L9: =OFFSET([2]Devis!$T$29,$A$3*A9,0) -> 61 | N9: 5 | O9: 103 | P9: 794 | Q9: 111 | R9: 838 | S9: 105 | T9: 467 | U9: 319 | V9: 2099 | W9: 52
A10: 4 | B10: 43862 | C10: 6 | D10: =OFFSET([2]Devis!$T$25,$A$3*A10,0) -> 105 | E10: =OFFSET([2]Devis!$U$25,$A$3*A10,0) -> 386 | F10: =OFFSET([2]Devis!$T$26,$A$3*A10,0) -> 104 | G10: =OFFSET([2]Devis!$U$26,$A$3*A10,0) -> 762 | H10: =OFFSET([2]Devis!$T$27,$A$3*A10,0) -> 105 | I10: =OFFSET([2]Devis!$U$27,$A$3*A10,0) -> 729 | J10: =SUM(D10,F10,H10) -> 314 | K10: =SUM(E10,G10,I10) -> 1877 | L10: =OFFSET([2]Devis!$T$29,$A$3*A10,0) -> 40 | N10: 6 | O10: 117 | P10: 822 | Q10: 92 | R10: 512 | S10: 111 | T10: 596 | U10: 320 | V10: 1930 | W10: 47
A11: 5 | B11: 43862 | C11: 7 | D11: =OFFSET([2]Devis!$T$25,$A$3*A11,0) -> 132 | E11: =OFFSET([2]Devis!$U$25,$A$3*A11,0) -> 1088 | F11: =OFFSET([2]Devis!$T$26,$A$3*A11,0) -> 114 | G11: =OFFSET([2]Devis!$U$26,$A$3*A11,0) -> 638 | H11: =OFFSET([2]Devis!$T$27,$A$3*A11,0) -> 97 | I11: =OFFSET([2]Devis!$U$27,$A$3*A11,0) -> 382 | J11: =SUM(D11,F11,H11) -> 343 | K11: =SUM(E11,G11,I11) -> 2108 | L11: =OFFSET([2]Devis!$T$29,$A$3*A11,0) -> 61 | N11: 7 | O11: 95 | P11: 809 | Q11: 101 | R11: 1033 | S11: 96 | T11: 537 | U11: 292 | V11: 2379 | W11: 50
A12: 6 | B12: 43862 | C12: 8 | D12: =OFFSET([2]Devis!$T$25,$A$3*A12,0) -> 94 | E12: =OFFSET([2]Devis!$U$25,$A$3*A12,0) -> 412 | F12: =OFFSET([2]Devis!$T$26,$A$3*A12,0) -> 114 | G12: =OFFSET([2]Devis!$U$26,$A$3*A12,0) -> 1211 | H12: =OFFSET([2]Devis!$T$27,$A$3*A12,0) -> 91 | I12: =OFFSET([2]Devis!$U$27,$A$3*A12,0) -> 408 | J12: =SUM(D12,F12,H12) -> 299 | K12: =SUM(E12,G12,I12) -> 2031 | L12: =OFFSET([2]Devis!$T$29,$A$3*A12,0) -> 69 | N12: 8 | O12: 102 | P12: 506 | Q12: 100 | R12: 582 | S12: 98 | T12: 513 | U12: 300 | V12: 1601 | W12: 75
A13: 7 | B13: 43862 | C13: 9 | D13: =OFFSET([2]Devis!$T$25,$A$3*A13,0) -> 113 | E13: =OFFSET([2]Devis!$U$25,$A$3*A13,0) -> 589 | F13: =OFFSET([2]Devis!$T$26,$A$3*A13,0) -> 86 | G13: =OFFSET([2]Devis!$U$26,$A$3*A13,0) -> 381 | H13: =OFFSET([2]Devis!$T$27,$A$3*A13,0) -> 78 | I13: =OFFSET([2]Devis!$U$27,$A$3*A13,0) -> 323 | J13: =SUM(D13,F13,H13) -> 277 | K13: =SUM(E13,G13,I13) -> 1293 | L13: =OFFSET([2]Devis!$T$29,$A$3*A13,0) -> 24 | N13: 9 | O13: 111 | P13: 462 | Q13: 79 | R13: 388 | S13: 122 | T13: 533 | U13: 312 | V13: 1383 | W13: 35
A14: 8 | B14: 43891 | C14: 10 | D14: =OFFSET([2]Devis!$T$25,$A$3*A14,0) -> 0 | E14: =OFFSET([2]Devis!$U$25,$A$3*A14,0) -> 0 | F14: =OFFSET([2]Devis!$T$26,$A$3*A14,0) -> 0 | G14: =OFFSET([2]Devis!$U$26,$A$3*A14,0) -> 0 | H14: =OFFSET([2]Devis!$T$27,$A$3*A14,0) -> 0 | I14: =OFFSET([2]Devis!$U$27,$A$3*A14,0) -> 0 | J14: =SUM(D14,F14,H14) -> 0 | K14: =SUM(E14,G14,I14) -> 0 | L14: =OFFSET([2]Devis!$T$29,$A$3*A14,0) -> 0 | N14: 10 | O14: 91 | P14: 336 | Q14: 85 | R14: 429 | S14: 108 | T14: 432 | U14: 284 | V14: 1197 | W14: 13
A15: 9 | B15: 43891 | C15: 11 | D15: =OFFSET([2]Devis!$T$25,$A$3*A15,0) -> 0 | E15: =OFFSET([2]Devis!$U$25,$A$3*A15,0) -> 0 | F15: =OFFSET([2]Devis!$T$26,$A$3*A15,0) -> 0 | G15: =OFFSET([2]Devis!$U$26,$A$3*A15,0) -> 0 | H15: =OFFSET([2]Devis!$T$27,$A$3*A15,0) -> 0 | I15: =OFFSET([2]Devis!$U$27,$A$3*A15,0) -> 0 | J15: =SUM(D15,F15,H15) -> 0 | K15: =SUM(E15,G15,I15) -> 0 | L15: =OFFSET([2]Devis!$T$29,$A$3*A15,0) -> 0 | N15: 11 | O15: 107 | P15: 559 | Q15: 95 | R15: 681 | S15: 115 | T15: 368 | U15: 317 | V15: 1608 | W15: 53
A16: 10 | B16: 43891 | C16: 12 | D16: =OFFSET([2]Devis!$T$25,$A$3*A16,0) -> 0 | E16: =OFFSET([2]Devis!$U$25,$A$3*A16,0) -> 0 | F16: =OFFSET([2]Devis!$T$26,$A$3*A16,0) -> 0 | G16: =OFFSET([2]Devis!$U$26,$A$3*A16,0) -> 0 | H16: =OFFSET([2]Devis!$T$27,$A$3*A16,0) -> 0 | I16: =OFFSET([2]Devis!$U$27,$A$3*A16,0) -> 0 | J16: =SUM(D16,F16,H16) -> 0 | K16: =SUM(E16,G16,I16) -> 0 | L16: =OFFSET([2]Devis!$T$29,$A$3*A16,0) -> 0 | N16: 12 | O16: 115 | P16: 631 | Q16: 93 | R16: 463 | S16: 99 | T16: 465 | U16: 307 | V16: 1559 | W16: 65
A17: 11 | B17: 43891 | C17: 13 | D17: =OFFSET([2]Devis!$T$25,$A$3*A17,0) -> 0 | E17: =OFFSET([2]Devis!$U$25,$A$3*A17,0) -> 0 | F17: =OFFSET([2]Devis!$T$26,$A$3*A17,0) -> 0 | G17: =OFFSET([2]Devis!$U$26,$A$3*A17,0) -> 0 | H17: =OFFSET([2]Devis!$T$27,$A$3*A17,0) -> 0 | I17: =OFFSET([2]Devis!$U$27,$A$3*A17,0) -> 0 | J17: =SUM(D17,F17,H17) -> 0 | K17: =SUM(E17,G17,I17) -> 0 | L17: =OFFSET([2]Devis!$T$29,$A$3*A17,0) -> 0 | N17: 13 | O17: 91 | P17: 467 | Q17: 85 | R17: 330 | S17: 103 | T17: 533 | U17: 279 | V17: 1330 | W17: 46
A18: 12 | B18: 43922 | C18: 14 | D18: =OFFSET([2]Devis!$T$25,$A$3*A18,0) -> 0 | E18: =OFFSET([2]Devis!$U$25,$A$3*A18,0) -> 0 | F18: =OFFSET([2]Devis!$T$26,$A$3*A18,0) -> 0 | G18: =OFFSET([2]Devis!$U$26,$A$3*A18,0) -> 0 | H18: =OFFSET([2]Devis!$T$27,$A$3*A18,0) -> 0 | I18: =OFFSET([2]Devis!$U$27,$A$3*A18,0) -> 0 | J18: =SUM(D18,F18,H18) -> 0 | K18: =SUM(E18,G18,I18) -> 0 | L18: =OFFSET([2]Devis!$T$29,$A$3*A18,0) -> 0 | N18: 14 | O18: 105 | P18: 686 | Q18: 104 | R18: 1072 | S18: 115 | T18: 456 | U18: 324 | V18: 2214 | W18: 62
... A56: 50 | B56: 44166 | C56: 52 | D56: =OFFSET([2]Devis!$T$25,$A$3*A56,0) -> 0 | E56: =OFFSET([2]Devis!$U$25,$A$3*A56,0) -> 0 | F56: =OFFSET([2]Devis!$T$26,$A$3*A56,0) -> 0 | G56: =OFFSET([2]Devis!$U$26,$A$3*A56,0) -> 0 | H56: =OFFSET([2]Devis!$T$27,$A$3*A56,0) -> 0 | I56: =OFFSET([2]Devis!$U$27,$A$3*A56,0) -> 0 | J56: =SUM(D56,F56,H56) -> 0 | K56: =SUM(E56,G56,I56) -> 0 | L56: =OFFSET([2]Devis!$T$29,$A$3*A56,0) -> 0 | N56: 52 | O56: 0 | P56: 0 | Q56: 0 | R56: 0 | S56: 0 | T56: 0 | U56: 0 | V56: 0 | W56: 0
A57: 51 | B57: 44166 | C57: 53
D58: =SUM(D6:D57) -> 884 | E58: =SUM(E6:E57) -> 5005 | F58: =SUM(F5:F57) -> 867 | G58: =SUM(G5:G57) -> 5552 | H58: =SUM(H5:H57) -> 784 | I58: =SUM(I5:I57) -> 3757 | J58: =SUM(J5:J57) -> 2535 | K58: =SUM(K5:K57) -> 14314 | O58: 4564 | P58: 27314 | Q58: 4743 | R58: 30296 | S58: 4291 | T58: 21079 | U58: 13598 | V58: 78689
D59: =AVERAGEIF(D6:D57,"<>0") -> 110.5 | E59: =AVERAGEIF(E6:E57,"<>0") -> 625.625 | F59: =AVERAGEIF(F6:F57,"<>0") -> 108.375 | G59: =AVERAGEIF(G6:G57,"<>0") -> 694 | H59: =AVERAGEIF(H6:H57,"<>0") -> 98 | I59: =AVERAGEIF(I6:I57,"<>0") -> 469.625 | J59: =AVERAGEIF(J6:J57,"<>0") -> 316.875 | K59: =AVERAGEIF(K6:K57,"<>0") -> 1789.25 | L59: =AVERAGEIF(L6:L57,"<>0") -> 46.375 | O59: 87.769231 | P59: 525.26923 | Q59: 91.211538 | R59: 582.61538 | S59: 82.519231 | T59: 405.36538 | U59: 261.5 | V59: 1513.25 | W59: 44.153846
C64: MOIS | D64: DEVIS PVC | E64: men pvc | F64: DEVIS BOIS | G64: men bois | H64: DEVIS ALU | I64: men alu | J64: TOTAL | K64: nb men | N64: MOIS | O64: DEVIS PVC | P64: men pvc | Q64: DEVIS BOIS | R64: men bois | S64: DEVIS ALU | T64: men alu | U64: TOTAL | V64: nb men
C65: 43831 | D65: =SUMIF($B$5:$L$56,C65,$D$5:$D$56) -> 440 | E65: =SUMIF($B$5:$L$56,C65,$E$5:$E$56) -> 2530 | F65: =SUMIF($B$5:$L$56,C65,$F$5:$F$56) -> 449 | G65: =SUMIF($B$5:$L$56,C65,$G$5:$G$56) -> 2560 | H65: =SUMIF($B$5:$L$56,C65,$H$5:$H$56) -> 413 | I65: =SUMIF($B$5:$L$56,C65,$I$5:$I$56) -> 1915 | J65: =SUM(D65,F65,H65) -> 1302 | K65: =SUM(E65,G65,I65) -> 7005 | N65: 43466 | O65: 475 | P65: 2506 | Q65: 446 | R65: 3338 | S65: 431 | T65: 1972 | U65: 1352 | V65: 7816
C66: 43862 | D66: =SUMIF($B$5:$L$56,C66,$D$5:$D$56) -> 444 | E66: =SUMIF($B$5:$L$56,C66,$E$5:$E$56) -> 2475 | F66: =SUMIF($B$5:$L$56,C66,$F$5:$F$56) -> 418 | G66: =SUMIF($B$5:$L$56,C66,$G$5:$G$56) -> 2992 | H66: =SUMIF($B$5:$L$56,C66,$H$5:$H$56) -> 371 | I66: =SUMIF($B$5:$L$56,C66,$I$5:$I$56) -> 1842 | J66: =SUM(D66,F66,H66) -> 1233 | K66: =SUM(E66,G66,I66) -> 7309 | N66: 43497 | O66: 425 | P66: 2599 | Q66: 372 | R66: 2515 | S66: 427 | T66: 2179 | U66: 1224 | V66: 7293
C67: 43891 | D67: =SUMIF($B$5:$L$56,C67,$D$5:$D$56) -> 0 | E67: =SUMIF($B$5:$L$56,C67,$E$5:$E$56) -> 0 | F67: =SUMIF($B$5:$L$56,C67,$F$5:$F$56) -> 0 | G67: =SUMIF($B$5:$L$56,C67,$G$5:$G$56) -> 0 | H67: =SUMIF($B$5:$L$56,C67,$H$5:$H$56) -> 0 | I67: =SUMIF($B$5:$L$56,C67,$I$5:$I$56) -> 0 | J67: =SUM(D67,F67,H67) -> 0 | K67: =SUM(E67,G67,I67) -> 0 | N67: 43525 | O67: 404 | P67: 1993 | Q67: 358 | R67: 1903 | S67: 425 | T67: 1798 | U67: 1187 | V67: 5694
C68: 43922 | D68: =SUMIF($B$5:$L$56,C68,$D$5:$D$56) -> 0 | E68: =SUMIF($B$5:$L$56,C68,$E$5:$E$56) -> 0 | F68: =SUMIF($B$5:$L$56,C68,$F$5:$F$56) -> 0 | G68: =SUMIF($B$5:$L$56,C68,$G$5:$G$56) -> 0 | H68: =SUMIF($B$5:$L$56,C68,$H$5:$H$56) -> 0 | I68: =SUMIF($B$5:$L$56,C68,$I$5:$I$56) -> 0 | J68: =SUM(D68,F68,H68) -> 0 | K68: =SUM(E68,G68,I68) -> 0 | N68: 43556 | O68: 434 | P68: 2845 | Q68: 446 | R68: 2968 | S68: 471 | T68: 2287 | U68: 1351 | V68: 8100
C69: 43952 | D69: =SUMIF($B$5:$L$56,C69,$D$5:$D$56) -> 0 | E69: =SUMIF($B$5:$L$56,C69,$E$5:$E$56) -> 0 | F69: =SUMIF($B$5:$L$56,C69,$F$5:$F$56) -> 0 | G69: =SUMIF($B$5:$L$56,C69,$G$5:$G$56) -> 0 | H69: =SUMIF($B$5:$L$56,C69,$H$5:$H$56) -> 0 | I69: =SUMIF($B$5:$L$56,C69,$I$5:$I$56) -> 0 | J69: =SUM(D69,F69,H69) -> 0 | K69: =SUM(E69,G69,I69) -> 0 | N69: 43586 | O69: 353 | P69: 2072 | Q69: 400 | R69: 2728 | S69: 303 | T69: 1471 | U69: 1056 | V69: 6271
C70: 43983 | D70: =SUMIF($B$5:$L$56,C70,$D$5:$D$56) -> 0 | E70: =SUMIF($B$5:$L$56,C70,$E$5:$E$56) -> 0 | F70: =SUMIF($B$5:$L$56,C70,$F$5:$F$56) -> 0 | G70: =SUMIF($B$5:$L$56,C70,$G$5:$G$56) -> 0 | H70: =SUMIF($B$5:$L$56,C70,$H$5:$H$56) -> 0 | I70: =SUMIF($B$5:$L$56,C70,$I$5:$I$56) -> 0 | J70: =SUM(D70,F70,H70) -> 0 | K70: =SUM(E70,G70,I70) -> 0 | N70: 43617 | O70: 333 | P70: 4517 | Q70: 428 | R70: 2788 | S70: 338 | T70: 1314 | U70: 1099 | V70: 8619
C71: 44013 | D71: =SUMIF($B$5:$L$56,C71,$D$5:$D$56) -> 0 | E71: =SUMIF($B$5:$L$56,C71,$E$5:$E$56) -> 0 | F71: =SUMIF($B$5:$L$56,C71,$F$5:$F$56) -> 0 | G71: =SUMIF($B$5:$L$56,C71,$G$5:$G$56) -> 0 | H71: =SUMIF($B$5:$L$56,C71,$H$5:$H$56) -> 0 | I71: =SUMIF($B$5:$L$56,C71,$I$5:$I$56) -> 0 | J71: =SUM(D71,F71,H71) -> 0 | K71: =SUM(E71,G71,I71) -> 0 | N71: 43647 | O71: 378 | P71: 1871 | Q71: 482 | R71: 3240 | S71: 411 | T71: 2467 | U71: 1271 | V71: 7578
C72: 44044 | D72: =SUMIF($B$5:$L$56,C72,$D$5:$D$56) -> 0 | E72: =SUMIF($B$5:$L$56,C72,$E$5:$E$56) -> 0 | F72: =SUMIF($B$5:$L$56,C72,$F$5:$F$56) -> 0 | G72: =SUMIF($B$5:$L$56,C72,$G$5:$G$56) -> 0 | H72: =SUMIF($B$5:$L$56,C72,$H$5:$H$56) -> 0 | I72: =SUMIF($B$5:$L$56,C72,$I$5:$I$56) -> 0 | J72: =SUM(D72,F72,H72) -> 0 | K72: =SUM(E72,G72,I72) -> 0 | N72: 43678 | O72: 94 | P72: 338 | Q72: 102 | R72: 641 | S72: 68 | T72: 269 | U72: 264 | V72: 1248
C73: 44075 | D73: =SUMIF($B$5:$L$56,C73,$D$5:$D$56) -> 0 | E73: =SUMIF($B$5:$L$56,C73,$E$5:$E$56) -> 0 | F73: =SUMIF($B$5:$L$56,C73,$F$5:$F$56) -> 0 | G73: =SUMIF($B$5:$L$56,C73,$G$5:$G$56) -> 0 | H73: =SUMIF($B$5:$L$56,C73,$H$5:$H$56) -> 0 | I73: =SUMIF($B$5:$L$56,C73,$I$5:$I$56) -> 0 | J73: =SUM(D73,F73,H73) -> 0 | K73: =SUM(E73,G73,I73) -> 0 | N73: 43709 | O73: 598 | P73: 2722 | Q73: 623 | R73: 3646 | S73: 473 | T73: 2044 | U73: 1694 | V73: 8412
C74: 44105 | D74: =SUMIF($B$5:$L$56,C74,$D$5:$D$56) -> 0 | E74: =SUMIF($B$5:$L$56,C74,$E$5:$E$56) -> 0 | F74: =SUMIF($B$5:$L$56,C74,$F$5:$F$56) -> 0 | G74: =SUMIF($B$5:$L$56,C74,$G$5:$G$56) -> 0 | H74: =SUMIF($B$5:$L$56,C74,$H$5:$H$56) -> 0 | I74: =SUMIF($B$5:$L$56,C74,$I$5:$I$56) -> 0 | J74: =SUM(D74,F74,H74) -> 0 | K74: =SUM(E74,G74,I74) -> 0 | N74: 43739 | O74: 417 | P74: 2800 | Q74: 419 | R74: 2286 | S74: 376 | T74: 1756 | U74: 1212 | V74: 6842
C75: 44136 | D75: =SUMIF($B$5:$L$56,C75,$D$5:$D$56) -> 0 | E75: =SUMIF($B$5:$L$56,C75,$E$5:$E$56) -> 0 | F75: =SUMIF($B$5:$L$56,C75,$F$5:$F$56) -> 0 | G75: =SUMIF($B$5:$L$56,C75,$G$5:$G$56) -> 0 | H75: =SUMIF($B$5:$L$56,C75,$H$5:$H$56) -> 0 | I75: =SUMIF($B$5:$L$56,C75,$I$5:$I$56) -> 0 | J75: =SUM(D75,F75,H75) -> 0 | K75: =SUM(E75,G75,I75) -> 0 | N75: 43770 | O75: 416 | P75: 1865 | Q75: 425 | R75: 2866 | S75: 347 | T75: 2433 | U75: 1188 | V75: 7164
C76: 44166 | D76: =SUMIF($B$5:$L$56,C76,$D$5:$D$56) -> 0 | E76: =SUMIF($B$5:$L$56,C76,$E$5:$E$56) -> 0 | F76: =SUMIF($B$5:$L$56,C76,$F$5:$F$56) -> 0 | G76: =SUMIF($B$5:$L$56,C76,$G$5:$G$56) -> 0 | H76: =SUMIF($B$5:$L$56,C76,$H$5:$H$56) -> 0 | I76: =SUMIF($B$5:$L$56,C76,$I$5:$I$56) -> 0 | J76: =SUM(D76,F76,H76) -> 0 | K76: =SUM(E76,G76,I76) -> 0 | N76: 43800 | O76: 237 | P76: 1186 | Q76: 242 | R76: 1377 | S76: 221 | T76: 1089 | U76: 700 | V76: 3652
D77: =SUM(D65:D76) -> 884 | E77: =SUM(E65:E76) -> 5005 | F77: =SUM(F65:F76) -> 867 | G77: =SUM(G65:G76) -> 5552 | H77: =SUM(H65:H76) -> 784 | I77: =SUM(I65:I76) -> 3757 | J77: =SUM(J65:J76) -> 2535 | K77: =SUM(K65:K76) -> 14314 | O77: 4564 | P77: 27314 | Q77: 4743 | R77: 30296 | S77: 4291 | T77: 21079 | U77: 13598 | V77: 78689
C78: moyenne hebdo | D78: =AVERAGEIF(D5:D57,"<>0") -> 110.5 | E78: =E77/D77 -> 5.6617647 | F78: =AVERAGEIF(F5:F57,"<>0") -> 108.375 | G78: =G77/F77 -> 6.4036909 | H78: =AVERAGEIF(H5:H57,"<>0") -> 98 | I78: =I77/H77 -> 4.7920918 | J78: =AVERAGEIF(J5:J57,"<>0") -> 316.875 | K78: =K77/J77 -> 5.6465483 | N78: moyenne hebdo | O78: 87.769231 | P78: 5.9846626 | Q78: 91.211538 | R78: 6.3875184 | S78: 82.519231 | T78: 4.9123747 | U78: 262 | V78: =V77/U77 -> 5.7868069

Sheet Recap_cde_A
A1: Tombées de commandes ALU | K1: (données dynamiques liés au fichier cde) | O1: Tombées de commandes ALU | W1: (valeurs copiées en dur)
L2: FABRICATION | X2: FABRICATION
A3: 11 | C3: ANNEE 2020 | L3: FPV | O3: ANNEE 2019 | X3: FPV
B4: MOIS | C4: Sem | D4: CUMUL | E4: TOTAL | F4: ALF | G4: S/total | H4: bsa | I4: ind | J4: A&B | K4: filiales | L4: CUMUL | M4: HEBDO | O4: Sem | P4: CUMUL | Q4: TOTAL | R4: ALF | S4: S/total | T4: bsa | U4: ind | V4: A&B | W4: filiales | X4: CUMUL | Y4: HEBDO
B5: ='Récap devis'!B5 -> 43831 | C5: 1 | D5: =E5 -> 0 | G5: =SUM(H5:K5) -> 0 | L5: =M5 -> 0 | O5: 1 | P5: 167 | Q5: 167 | R5: 13 | S5: 154 | T5: 154 | X5: =Y5 -> 194 | Y5: 194
B6: ='Récap devis'!B6 -> 43831 | C6: 2 | D6: =IF(E6<>0,D5+E6,"") -> 311 | E6: =F6+G6 -> 311 | F6: =INDIRECT("'[suivi cde 2020.xlsx]saisie_cde_A'!$w$10") -> 28 | G6: =SUM(H6:K6) -> 283 | H6: =INDIRECT("'[suivi cde 2020.xlsx]saisie_cde_A'!$w$4") -> 166 | I6: =INDIRECT("'[suivi cde 2020.xlsx]saisie_cde_A'!$w$5") -> 110 | J6: =INDIRECT("'[suivi cde 2020.xlsx]saisie_cde_A'!$w$6") -> 7 | K6: =INDIRECT("'[suivi cde 2020.xlsx]saisie_cde_A'!$w$7") -> 0 | L6: =IF(M6<>0,+M6,) -> 298 | M6: =[3]Production!$K1628 -> 298 | O6: 2 | P6: 499 | Q6: 332 | R6: 45 | S6: 287 | T6: 287 | X6: =X5+Y6 -> 601 | Y6: 407
A7: 1 | B7: ='Récap devis'!B7 -> 43831 | C7: 3 | D7: =IF(E7<>0,D6+E7,"") -> 615 | E7: =F7+G7 -> 304 | F7: =OFFSET(INDIRECT("'[suivi cde 2020.xlsx]saisie_cde_A'!$w$10"),$A$3*A7,0) -> 29 | G7: =SUM(H7:K7) -> 275 | H7: =OFFSET(INDIRECT("'[suivi cde 2020.xlsx]saisie_cde_A'!$w$4"),$A$3*A7,0) -> 166 | I7: =OFFSET(INDIRECT("'[suivi cde 2020.xlsx]saisie_cde_A'!$w$5"),$A$3*A7,0) -> 109 | J7: =OFFSET(INDIRECT("'[suivi cde 2020.xlsx]saisie_cde_A'!$w$6"),$A$3*A7,0) -> 0 | K7: =OFFSET(INDIRECT("'[suivi cde 2020.xlsx]saisie_cde_A'!$w$7"),$A$3*A7,0) -> 0 | L7: =IF(M7<>0,L6+M7,) -> 582 | M7: =[3]Production!$K1629 -> 284 | O7: 3 | P7: 928 | Q7: 429 | R7: 43 | S7: 386 | T7: 386 | X7: =X6+Y7 -> 969 | Y7: 368
A8: 2 | B8: ='Récap devis'!B8 -> 43831 | C8: 4 | D8: =IF(E8<>0,D7+E8,"") -> 871 | E8: =F8+G8 -> 256 | F8: =OFFSET(INDIRECT("'[suivi cde 2020.xlsx]saisie_cde_A'!$w$10"),$A$3*A8,0) -> 38 | G8: =SUM(H8:K8) -> 218 | H8: =OFFSET(INDIRECT("'[suivi cde 2020.xlsx]saisie_cde_A'!$w$4"),$A$3*A8,0) -> 131 | I8: =OFFSET(INDIRECT("'[suivi cde 2020.xlsx]saisie_cde_A'!$w$5"),$A$3*A8,0) -> 87 | J8: =OFFSET(INDIRECT("'[suivi cde 2020.xlsx]saisie_cde_A'!$w$6"),$A$3*A8,0) -> 0 | K8: =OFFSET(INDIRECT("'[suivi cde 2020.xlsx]saisie_cde_A'!$w$7"),$A$3*A8,0) -> 0 | L8: =IF(M8<>0,L7+M8,) -> 860 | M8: =[3]Production!$K1630 -> 278 | O8: 4 | P8: 1199 | Q8: 271 | R8: 25 | S8: 246 | T8: 246 | X8: =X7+Y8 -> 1372 | Y8: 403
A9: 3 | B9: ='Récap devis'!B9 -> 43831 | C9: 5 | D9: =IF(E9<>0,D8+E9,"") -> 1274 | E9: =F9+G9 -> 403 | F9: =OFFSET(INDIRECT("'[suivi cde 2020.xlsx]saisie_cde_A'!$w$10"),$A$3*A9,0) -> 40 | G9: =SUM(H9:K9) -> 363 | H9: =OFFSET(INDIRECT("'[suivi cde 2020.xlsx]saisie_cde_A'!$w$4"),$A$3*A9,0) -> 253 | I9: =OFFSET(INDIRECT("'[suivi cde 2020.xlsx]saisie_cde_A'!$w$5"),$A$3*A9,0) -> 110 | J9: =OFFSET(INDIRECT("'[suivi cde 2020.xlsx]saisie_cde_A'!$w$6"),$A$3*A9,0) -> 0 | K9: =OFFSET(INDIRECT("'[suivi cde 2020.xlsx]saisie_cde_A'!$w$7"),$A$3*A9,0) -> 0 | L9: =IF(M9<>0,L8+M9,) -> 1183 | M9: 323 | O9: 5 | P9: 1671 | Q9: 472 | R9: 53 | S9: 419 | T9: 419 | X9: =X8+Y9 -> 1807 | Y9: 435
A10: 4 | B10: ='Récap devis'!B10 -> 43862 | C10: 6 | D10: =IF(E10<>0,D9+E10,"") -> 1610 | E10: =F10+G10 -> 336 | F10: =OFFSET(INDIRECT("'[suivi cde 2020.xlsx]saisie_cde_A'!$w$10"),$A$3*A10,0) -> 30 | G10: =SUM(H10:K10) -> 306 | H10: =OFFSET(INDIRECT("'[suivi cde 2020.xlsx]saisie_cde_A'!$w$4"),$A$3*A10,0) -> 220 | I10: =OFFSET(INDIRECT("'[suivi cde 2020.xlsx]saisie_cde_A'!$w$5"),$A$3*A10,0) -> 86 | J10: =OFFSET(INDIRECT("'[suivi cde 2020.xlsx]saisie_cde_A'!$w$6"),$A$3*A10,0) -> 0 | K10: =OFFSET(INDIRECT("'[suivi cde 2020.xlsx]saisie_cde_A'!$w$7"),$A$3*A10,0) -> 0 | L10: =IF(M10<>0,L9+M10,) -> 1501 | M10: 318 | O10: 6 | P10: 1952 | Q10: 281 | R10: 46 | S10: 235 | T10: 235 | X10: =X9+Y10 -> 2159 | Y10: 352
A11: 5 | B11: ='Récap devis'!B11 -> 43862 | C11: 7 | D11: =IF(E11<>0,D10+E11,"") -> 1990 | E11: =F11+G11 -> 380 | F11: =OFFSET(INDIRECT("'[suivi cde 2020.xlsx]saisie_cde_A'!$w$10"),$A$3*A11,0) -> 22 | G11: =SUM(H11:K11) -> 358 | H11: =OFFSET(INDIRECT("'[suivi cde 2020.xlsx]saisie_cde_A'!$w$4"),$A$3*A11,0) -> 248 | I11: =OFFSET(INDIRECT("'[suivi cde 2020.xlsx]saisie_cde_A'!$w$5"),$A$3*A11,0) -> 110 | J11: =OFFSET(INDIRECT("'[suivi cde 2020.xlsx]saisie_cde_A'!$w$6"),$A$3*A11,0) -> 0 | K11: =OFFSET(INDIRECT("'[suivi cde 2020.xlsx]saisie_cde_A'!$w$7"),$A$3*A11,0) -> 0 | L11: =IF(M11<>0,L10+M11,) -> 1812 | M11: 311 | O11: 7 | P11: 2280 | Q11: 328 | R11: 34 | S11: 294 | T11: 294 | X11: =X10+Y11 -> 2487 | Y11: 328
A12: 6 | B12: ='Récap devis'!B12 -> 43862 | C12: 8 | D12: =IF(E12<>0,D11+E12,"") -> 2342 | E12: =F12+G12 -> 352 | F12: =OFFSET(INDIRECT("'[suivi cde 2020.xlsx]saisie_cde_A'!$w$10"),$A$3*A12,0) -> 59 | G12: =SUM(H12:K12) -> 293 | H12: =OFFSET(INDIRECT("'[suivi cde 2020.xlsx]saisie_cde_A'!$w$4"),$A$3*A12,0) -> 209 | I12: =OFFSET(INDIRECT("'[suivi cde 2020.xlsx]saisie_cde_A'!$w$5"),$A$3*A12,0) -> 84 | J12: =OFFSET(INDIRECT("'[suivi cde 2020.xlsx]saisie_cde_A'!$w$6"),$A$3*A12,0) -> 0 | K12: =OFFSET(INDIRECT("'[suivi cde 2020.xlsx]saisie_cde_A'!$w$7"),$A$3*A12,0) -> 0 | L12: =IF(M12<>0,L11+M12,) -> 2132 | M12: 320 | O12: 8 | P12: 2561 | Q12: 281 | R12: 47 | S12: 234 | T12: 234 | X12: =X11+Y12 -> 2849 | Y12: 362
A13: 7 | B13: ='Récap devis'!B13 -> 43862 | C13: 9 | D13: =IF(E13<>0,D12+E13,"") -> 2676 | E13: =F13+G13 -> 334 | F13: =OFFSET(INDIRECT("'[suivi cde 2020.xlsx]saisie_cde_A'!$w$10"),$A$3*A13,0) -> 22 | G13: =SUM(H13:K13) -> 312 | H13: =OFFSET(INDIRECT("'[suivi cde 2020.xlsx]saisie_cde_A'!$w$4"),$A$3*A13,0) -> 189 | I13: =OFFSET(INDIRECT("'[suivi cde 2020.xlsx]saisie_cde_A'!$w$5"),$A$3*A13,0) -> 123 | J13: =OFFSET(INDIRECT("'[suivi cde 2020.xlsx]saisie_cde_A'!$w$6"),$A$3*A13,0) -> 0 | K13: =OFFSET(INDIRECT("'[suivi cde 2020.xlsx]saisie_cde_A'!$w$7"),$A$3*A13,0) -> 0 | L13: =IF(M13<>0,L12+M13,) -> 0 | O13: 9 | P13: 2919 | Q13: 358 | R13: 31 | S13: 327 | T13: 327 | X13: =X12+Y13 -> 3182 | Y13: 333
A14: 8 | B14: ='Récap devis'!B14 -> 43891 | C14: 10 | D14: =IF(E14<>0,D13+E14,"") | E14: =F14+G14 -> 0 | F14: =OFFSET(INDIRECT("'[suivi cde 2020.xlsx]saisie_cde_A'!$w$10"),$A$3*A14,0) -> 0 | G14: =SUM(H14:K14) -> 0 | H14: =OFFSET(INDIRECT("'[suivi cde 2020.xlsx]saisie_cde_A'!$w$4"),$A$3*A14,0) -> 0 | I14: =OFFSET(INDIRECT("'[suivi cde 2020.xlsx]saisie_cde_A'!$w$5"),$A$3*A14,0) -> 0 | J14: =OFFSET(INDIRECT("'[suivi cde 2020.xlsx]saisie_cde_A'!$w$6"),$A$3*A14,0) -> 0 | K14: =OFFSET(INDIRECT("'[suivi cde 2020.xlsx]saisie_cde_A'!$w$7"),$A$3*A14,0) -> 0 | L14: =IF(M14<>0,L13+M14,) -> 0 | O14: 10 | P14: 3232 | Q14: 313 | R14: 40 | S14: 273 | T14: 273 | X14: =X13+Y14 -> 3536 | Y14: 354
A15: 9 | B15: ='Récap devis'!B15 -> 43891 | C15: 11 | D15: =IF(E15<>0,D14+E15,"") | E15: =F15+G15 -> 0 | F15: =OFFSET(INDIRECT("'[suivi cde 2020.xlsx]saisie_cde_A'!$w$10"),$A$3*A15,0) -> 0 | G15: =SUM(H15:K15) -> 0 | H15: =OFFSET(INDIRECT("'[suivi cde 2020.xlsx]saisie_cde_A'!$w$4"),$A$3*A15,0) -> 0 | I15: =OFFSET(INDIRECT("'[suivi cde 2020.xlsx]saisie_cde_A'!$w$5"),$A$3*A15,0) -> 0 | J15: =OFFSET(INDIRECT("'[suivi cde 2020.xlsx]saisie_cde_A'!$w$6"),$A$3*A15,0) -> 0 | K15: =OFFSET(INDIRECT("'[suivi cde 2020.xlsx]saisie_cde_A'!$w$7"),$A$3*A15,0) -> 0 | L15: =IF(M15<>0,L14+M15,) -> 0 | O15: 11 | P15: 3620 | Q15: 388 | R15: 40 | S15: 348 | T15: 348 | X15: =X14+Y15 -> 3892 | Y15: 356
A16: 10 | B16: ='Récap devis'!B16 -> 43891 | C16: 12 | D16: =IF(E16<>0,D15+E16,"") | E16: =F16+G16 -> 0 | F16: =OFFSET(INDIRECT("'[suivi cde 2020.xlsx]saisie_cde_A'!$w$10"),$A$3*A16,0) -> 0 | G16: =SUM(H16:K16) -> 0 | H16: =OFFSET(INDIRECT("'[suivi cde 2020.xlsx]saisie_cde_A'!$w$4"),$A$3*A16,0) -> 0 | I16: =OFFSET(INDIRECT("'[suivi cde 2020.xlsx]saisie_cde_A'!$w$5"),$A$3*A16,0) -> 0 | J16: =OFFSET(INDIRECT("'[suivi cde 2020.xlsx]saisie_cde_A'!$w$6"),$A$3*A16,0) -> 0 | K16: =OFFSET(INDIRECT("'[suivi cde 2020.xlsx]saisie_cde_A'!$w$7"),$A$3*A16,0) -> 0 | L16: =IF(M16<>0,L15+M16,) -> 0 | O16: 12 | P16: 4017 | Q16: 397 | R16: 43 | S16: 354 | T16: 354 | X16: =X15+Y16 -> 4294 | Y16: 402
A17: 11 | B17: ='Récap devis'!B17 -> 43891 | C17: 13 | D17: =IF(E17<>0,D16+E17,"") | E17: =F17+G17 -> 0 | F17: =OFFSET(INDIRECT("'[suivi cde 2020.xlsx]saisie_cde_A'!$w$10"),$A$3*A17,0) -> 0 | G17: =SUM(H17:K17) -> 0 | H17: =OFFSET(INDIRECT("'[suivi cde 2020.xlsx]saisie_cde_A'!$w$4"),$A$3*A17,0) -> 0 | I17: =OFFSET(INDIRECT("'[suivi cde 2020.xlsx]saisie_cde_A'!$w$5"),$A$3*A17,0) -> 0 | J17: =OFFSET(INDIRECT("'[suivi cde 2020.xlsx]saisie_cde_A'!$w$6"),$A$3*A17,0) -> 0 | K17: =OFFSET(INDIRECT("'[suivi cde 2020.xlsx]saisie_cde_A'!$w$7"),$A$3*A17,0) -> 0 | L17: =IF(M17<>0,L16+M17,) -> 0 | O17: 13 | P17: 4308 | Q17: 291 | R17: 32 | S17: 259 | T17: 259 | X17: =X16+Y17 -> 4659 | Y17: 365
A18: 12 | B18: ='Récap devis'!B18 -> 43922 | C18: 14 | D18: =IF(E18<>0,D17+E18,"") | E18: =F18+G18 -> 0 | F18: =OFFSET(INDIRECT("'[suivi cde 2020.xlsx]saisie_cde_A'!$w$10"),$A$3*A18,0) -> 0 | G18: =SUM(H18:K18) -> 0 | H18: =OFFSET(INDIRECT("'[suivi cde 2020.xlsx]saisie_cde_A'!$w$4"),$A$3*A18,0) -> 0 | I18: =OFFSET(INDIRECT("'[suivi cde 2020.xlsx]saisie_cde_A'!$w$5"),$A$3*A18,0) -> 0 | J18: =OFFSET(INDIRECT("'[suivi cde 2020.xlsx]saisie_cde_A'!$w$6"),$A$3*A18,0) -> 0 | K18: =OFFSET(INDIRECT("'[suivi cde 2020.xlsx]saisie_cde_A'!$w$7"),$A$3*A18,0) -> 0 | L18: =IF(M18<>0,L17+M18,) -> 0 | O18: 14 | P18: 4722 | Q18: 414 | R18: 36 | S18: 378 | T18: 378 | X18: =X17+Y18 -> 5015 | Y18: 356
A19: 13 | B19: ='Récap devis'!B19 -> 43922 | C19: 15 | D19: =IF(E19<>0,D18+E19,"") | E19: =F19+G19 -> 0 | F19: =OFFSET(INDIRECT("'[suivi cde 2020.xlsx]saisie_cde_A'!$w$10"),$A$3*A19,0) -> 0 | G19: =SUM(H19:K19) -> 0 | H19: =OFFSET(INDIRECT("'[suivi cde 2020.xlsx]saisie_cde_A'!$w$4"),$A$3*A19,0) -> 0 | I19: =OFFSET(INDIRECT("'[suivi cde 2020.xlsx]saisie_cde_A'!$w$5"),$A$3*A19,0) -> 0 | J19: =OFFSET(INDIRECT("'[suivi cde 2020.xlsx]saisie_cde_A'!$w$6"),$A$3*A19,0) -> 0 | K19: =OFFSET(INDIRECT("'[suivi cde 2020.xlsx]saisie_cde_A'!$w$7"),$A$3*A19,0) -> 0 | L19: =IF(M19<>0,L18+M19,) -> 0 | O19: 15 | P19: 5128 | Q19: 406 | R19: 42 | S19: 364 | T19: 364 | X19: =X18+Y19 -> 5365 | Y19: 350
A20: 14 | B20: ='Récap devis'!B20 -> 43922 | C20: 16 | D20: =IF(E20<>0,D19+E20,"") | E20: =F20+G20 -> 0 | F20: =OFFSET(INDIRECT("'[suivi cde 2020.xlsx]saisie_cde_A'!$w$10"),$A$3*A20,0) -> 0 | G20: =SUM(H20:K20) -> 0 | H20: =OFFSET(INDIRECT("'[suivi cde 2020.xlsx]saisie_cde_A'!$w$4"),$A$3*A20,0) -> 0 | I20: =OFFSET(INDIRECT("'[suivi cde 2020.xlsx]saisie_cde_A'!$w$5"),$A$3*A20,0) -> 0 | J20: =OFFSET(INDIRECT("'[suivi cde 2020.xlsx]saisie_cde_A'!$w$6"),$A$3*A20,0) -> 0 | K20: =OFFSET(INDIRECT("'[suivi cde 2020.xlsx]saisie_cde_A'!$w$7"),$A$3*A20,0) -> 0 | L20: =IF(M20<>0,L19+M20,) -> 0 | O20: 16 | P20: 5432 | Q20: 304 | R20: 19 | S20: 285 | T20: 285 | X20: =X19+Y20 -> 5734 | Y20: 369
A21: 15 | B21: ='Récap devis'!B21 -> 43922 | C21: 17 | D21: =IF(E21<>0,D20+E21,"") | E21: =F21+G21 -> 0 | F21: =OFFSET(INDIRECT("'[suivi cde 2020.xlsx]saisie_cde_A'!$w$10"),$A$3*A21,0) -> 0 | G21: =SUM(H21:K21) -> 0 | H21: =OFFSET(INDIRECT("'[suivi cde 2020.xlsx]saisie_cde_A'!$w$4"),$A$3*A21,0) -> 0 | I21: =OFFSET(INDIRECT("'[suivi cde 2020.xlsx]saisie_cde_A'!$w$5"),$A$3*A21,0) -> 0 | J21: =OFFSET(INDIRECT("'[suivi cde 2020.xlsx]saisie_cde_A'!$w$6"),$A$3*A21,0) -> 0 | K21: =OFFSET(INDIRECT("'[suivi cde 2020.xlsx]saisie_cde_A'!$w$7"),$A$3*A21,0) -> 0 | L21: =IF(M21<>0,L20+M21,) -> 0 | O21: 17 | P21: 5773 | Q21: 341 | R21: 28 | S21: 313 | T21: 313 | X21: =X20+Y21 -> 6040 | Y21: 306
A22: 16 | B22: ='Récap devis'!B22 -> 43922 | C22: 18 | D22: =IF(E22<>0,D21+E22,"") | E22: =F22+G22 -> 0 | F22: =OFFSET(INDIRECT("'[suivi cde 2020.xlsx]saisie_cde_A'!$w$10"),$A$3*A22,0) -> 0 | G22: =SUM(H22:K22) -> 0 | H22: =OFFSET(INDIRECT("'[suivi cde 2020.xlsx]saisie_cde_A'!$w$4"),$A$3*A22,0) -> 0 | I22: =OFFSET(INDIRECT("'[suivi cde 2020.xlsx]saisie_cde_A'!$w$5"),$A$3*A22,0) -> 0 | J22: =OFFSET(INDIRECT("'[suivi cde 2020.xlsx]saisie_cde_A'!$w$6"),$A$3*A22,0) -> 0 | K22: =OFFSET(INDIRECT("'[suivi cde 2020.xlsx]saisie_cde_A'!$w$7"),$A$3*A22,0) -> 0 | L22: =IF(M22<>0,L21+M22,) -> 0 | O22: 18 | P22: 6151 | Q22: 378 | R22: 18 | S22: 360 | T22: 360 | X22: =X21+Y22 -> 6318 | Y22: 278
A23: 17 | B23: ='Récap devis'!B23 -> 43952 | C23: 19 | D23: =IF(E23<>0,D22+E23,"") | E23: =F23+G23 -> 0 | F23: =OFFSET(INDIRECT("'[suivi cde 2020.xlsx]saisie_cde_A'!$w$10"),$A$3*A23,0) -> 0 | G23: =SUM(H23:K23) -> 0 | H23: =OFFSET(INDIRECT("'[suivi cde 2020.xlsx]saisie_cde_A'!$w$4"),$A$3*A23,0) -> 0 | I23: =OFFSET(INDIRECT("'[suivi cde 2020.xlsx]saisie_cde_A'!$w$5"),$A$3*A23,0) -> 0 | J23: =OFFSET(INDIRECT("'[suivi cde 2020.xlsx]saisie_cde_A'!$w$6"),$A$3*A23,0) -> 0 | K23: =OFFSET(INDIRECT("'[suivi cde 2020.xlsx]saisie_cde_A'!$w$7"),$A$3*A23,0) -> 0 | L23: =IF(M23<>0,L22+M23,) -> 0 | O23: 19 | P23: 6405 | Q23: 254 | R23: 22 | S23: 232 | T23: 232 | X23: =X22+Y23 -> 6613 | Y23: 295
A24: 18 | B24: ='Récap devis'!B24 -> 43952 | C24: 20 | D24: =IF(E24<>0,D23+E24,"") | E24: =F24+G24 -> 0 | F24: =OFFSET(INDIRECT("'[suivi cde 2020.xlsx]saisie_cde_A'!$w$10"),$A$3*A24,0) -> 0 | G24: =SUM(H24:K24) -> 0 | H24: =OFFSET(INDIRECT("'[suivi cde 2020.xlsx]saisie_cde_A'!$w$4"),$A$3*A24,0) -> 0 | I24: =OFFSET(INDIRECT("'[suivi cde 2020.xlsx]saisie_cde_A'!$w$5"),$A$3*A24,0) -> 0 | J24: =OFFSET(INDIRECT("'[suivi cde 2020.xlsx]saisie_cde_A'!$w$6"),$A$3*A24,0) -> 0 | K24: =OFFSET(INDIRECT("'[suivi cde 2020.xlsx]saisie_cde_A'!$w$7"),$A$3*A24,0) -> 0 | L24: =IF(M24<>0,L23+M24,) -> 0 | O24: 20 | P24: 6865 | Q24: 460 | R24: 53 | S24: 407 | T24: 407 | X24: =X23+Y24 -> 6991 | Y24: 378
... A35: 29 | B35: ='Récap devis'!B35 -> 44013 | C35: 31 | D35: =IF(E35<>0,D34+E35,"") | E35: =F35+G35 -> 0 | F35: =OFFSET(INDIRECT("'[suivi cde 2020.xlsx]saisie_cde_A'!$w$10"),$A$3*A35,0) -> 0 | G35: =SUM(H35:K35) -> 0 | H35: =OFFSET(INDIRECT("'[suivi cde 2020.xlsx]saisie_cde_A'!$w$4"),$A$3*A35,0) -> 0 | I35: =OFFSET(INDIRECT("'[suivi cde 2020.xlsx]saisie_cde_A'!$w$5"),$A$3*A35,0) -> 0 | J35: =OFFSET(INDIRECT("'[suivi cde 2020.xlsx]saisie_cde_A'!$w$6"),$A$3*A35,0) -> 0 | K35: =OFFSET(INDIRECT("'[suivi cde 2020.xlsx]saisie_cde_A'!$w$7"),$A$3*A35,0) -> 0 | L35: =IF(M35<>0,L34+M35,) -> 0 | O35: 31 | P35: 10629 | Q35: 362 | R35: 40 | S35: 322 | T35: 322 | X35: =X34+Y35 -> 10648 | Y35: 324
A36: 30 | B36: ='Récap devis'!B36 -> 44044 | C36: 32 | D36: =IF(E36<>0,D35+E36,"") | E36: =F36+G36 -> 0 | F36: =OFFSET(INDIRECT("'[suivi cde 2020.xlsx]saisie_cde_A'!$w$10"),$A$3*A36,0) -> 0 | G36: =SUM(H36:K36) -> 0 | H36: =OFFSET(INDIRECT("'[suivi cde 2020.xlsx]saisie_cde_A'!$w$4"),$A$3*A36,0) -> 0 | I36: =OFFSET(INDIRECT("'[suivi cde 2020.xlsx]saisie_cde_A'!$w$5"),$A$3*A36,0) -> 0 | J36: =OFFSET(INDIRECT("'[suivi cde 2020.xlsx]saisie_cde_A'!$w$6"),$A$3*A36,0) -> 0 | K36: =OFFSET(INDIRECT("'[suivi cde 2020.xlsx]saisie_cde_A'!$w$7"),$A$3*A36,0) -> 0 | L36: =IF(M36<>0,L35+M36,) -> 0 | O36: 32 | P36: 10629 | Q36: 0 | S36: 0 | X36: =X35+Y36 -> 10950 | Y36: 302
A37: 31 | B37: ='Récap devis'!B37 -> 44044 | C37: 33 | D37: =IF(E37<>0,D36+E37,"") | E37: =F37+G37 -> 0 | F37: =OFFSET(INDIRECT("'[suivi cde 2020.xlsx]saisie_cde_A'!$w$10"),$A$3*A37,0) -> 0 | G37: =SUM(H37:K37) -> 0 | H37: =OFFSET(INDIRECT("'[suivi cde 2020.xlsx]saisie_cde_A'!$w$4"),$A$3*A37,0) -> 0 | I37: =OFFSET(INDIRECT("'[suivi cde 2020.xlsx]saisie_cde_A'!$w$5"),$A$3*A37,0) -> 0 | J37: =OFFSET(INDIRECT("'[suivi cde 2020.xlsx]saisie_cde_A'!$w$6"),$A$3*A37,0) -> 0 | K37: =OFFSET(INDIRECT("'[suivi cde 2020.xlsx]saisie_cde_A'!$w$7"),$A$3*A37,0) -> 0 | L37: =IF(M37<>0,L36+M37,) -> 0 | O37: 33 | P37: 10629 | Q37: 0 | S37: 0 | X37: =X36+Y37 -> 11271 | Y37: 321
A38: 32 | B38: ='Récap devis'!B38 -> 44044 | C38: 34 | D38: =IF(E38<>0,D37+E38,"") | E38: =F38+G38 -> 0 | F38: =OFFSET(INDIRECT("'[suivi cde 2020.xlsx]saisie_cde_A'!$w$10"),$A$3*A38,0) -> 0 | G38: =SUM(H38:K38) -> 0 | H38: =OFFSET(INDIRECT("'[suivi cde 2020.xlsx]saisie_cde_A'!$w$4"),$A$3*A38,0) -> 0 | I38: =OFFSET(INDIRECT("'[suivi cde 2020.xlsx]saisie_cde_A'!$w$5"),$A$3*A38,0) -> 0 | J38: =OFFSET(INDIRECT("'[suivi cde 2020.xlsx]saisie_cde_A'!$w$6"),$A$3*A38,0) -> 0 | K38: =OFFSET(INDIRECT("'[suivi cde 2020.xlsx]saisie_cde_A'!$w$7"),$A$3*A38,0) -> 0 | L38: =IF(M38<>0,L37+M38,) -> 0 | O38: 34 | P38: 10629 | Q38: 0 | S38: 0 | X38: =X37+Y38 -> 11574 | Y38: 303
A39: 33 | B39: ='Récap devis'!B39 -> 44044 | C39: 35 | D39: =IF(E39<>0,D38+E39,"") | E39: =F39+G39 -> 0 | F39: =OFFSET(INDIRECT("'[suivi cde 2020.xlsx]saisie_cde_A'!$w$10"),$A$3*A39,0) -> 0 | G39: =SUM(H39:K39) -> 0 | H39: =OFFSET(INDIRECT("'[suivi cde 2020.xlsx]saisie_cde_A'!$w$4"),$A$3*A39,0) -> 0 | I39: =OFFSET(INDIRECT("'[suivi cde 2020.xlsx]saisie_cde_A'!$w$5"),$A$3*A39,0) -> 0 | J39: =OFFSET(INDIRECT("'[suivi cde 2020.xlsx]saisie_cde_A'!$w$6"),$A$3*A39,0) -> 0 | K39: =OFFSET(INDIRECT("'[suivi cde 2020.xlsx]saisie_cde_A'!$w$7"),$A$3*A39,0) -> 0 | L39: =IF(M39<>0,L38+M39,) -> 0 | O39: 35 | P39: 10939 | Q39: 310 | R39: 25 | S39: 285 | T39: 285 | X39: =X38+Y39 -> 11929 | Y39: 355
A40: 34 | B40: ='Récap devis'!B40 -> 44075 | C40: 36 | D40: =IF(E40<>0,D39+E40,"") | E40: =F40+G40 -> 0 | F40: =OFFSET(INDIRECT("'[suivi cde 2020.xlsx]saisie_cde_A'!$w$10"),$A$3*A40,0) -> 0 | G40: =SUM(H40:K40) -> 0 | H40: =OFFSET(INDIRECT("'[suivi cde 2020.xlsx]saisie_cde_A'!$w$4"),$A$3*A40,0) -> 0 | I40: =OFFSET(INDIRECT("'[suivi cde 2020.xlsx]saisie_cde_A'!$w$5"),$A$3*A40,0) -> 0 | J40: =OFFSET(INDIRECT("'[suivi cde 2020.xlsx]saisie_cde_A'!$w$6"),$A$3*A40,0) -> 0 | K40: =OFFSET(INDIRECT("'[suivi cde 2020.xlsx]saisie_cde_A'!$w$7"),$A$3*A40,0) -> 0 | L40: =IF(M40<>0,L39+M40,) -> 0 | O40: 36 | P40: 11288 | Q40: 349 | R40: 32 | S40: 317 | T40: 317 | X40: =X39+Y40 -> 11929
A41: 35 | B41: ='Récap devis'!B41 -> 44075 | C41: 37 | D41: =IF(E41<>0,D40+E41,"") | E41: =F41+G41 -> 0 | F41: =OFFSET(INDIRECT("'[suivi cde 2020.xlsx]saisie_cde_A'!$w$10"),$A$3*A41,0) -> 0 | G41: =SUM(H41:K41) -> 0 | H41: =OFFSET(INDIRECT("'[suivi cde 2020.xlsx]saisie_cde_A'!$w$4"),$A$3*A41,0) -> 0 | I41: =OFFSET(INDIRECT("'[suivi cde 2020.xlsx]saisie_cde_A'!$w$5"),$A$3*A41,0) -> 0 | J41: =OFFSET(INDIRECT("'[suivi cde 2020.xlsx]saisie_cde_A'!$w$6"),$A$3*A41,0) -> 0 | K41: =OFFSET(INDIRECT("'[suivi cde 2020.xlsx]saisie_cde_A'!$w$7"),$A$3*A41,0) -> 0 | L41: =IF(M41<>0,L40+M41,) -> 0 | O41: 37 | P41: 11592 | Q41: 304 | R41: 29 | S41: 275 | T41: 275 | X41: =X40+Y41 -> 11929
A42: 36 | B42: ='Récap devis'!B42 -> 44075 | C42: 38 | D42: =IF(E42<>0,D41+E42,"") | E42: =F42+G42 -> 0 | F42: =OFFSET(INDIRECT("'[suivi cde 2020.xlsx]saisie_cde_A'!$w$10"),$A$3*A42,0) -> 0 | G42: =SUM(H42:K42) -> 0 | H42: =OFFSET(INDIRECT("'[suivi cde 2020.xlsx]saisie_cde_A'!$w$4"),$A$3*A42,0) -> 0 | I42: =OFFSET(INDIRECT("'[suivi cde 2020.xlsx]saisie_cde_A'!$w$5"),$A$3*A42,0) -> 0 | J42: =OFFSET(INDIRECT("'[suivi cde 2020.xlsx]saisie_cde_A'!$w$6"),$A$3*A42,0) -> 0 | K42: =OFFSET(INDIRECT("'[suivi cde 2020.xlsx]saisie_cde_A'!$w$7"),$A$3*A42,0) -> 0 | L42: =IF(M42<>0,L41+M42,) -> 0 | O42: 38 | P42: 11983 | Q42: 391 | R42: 60 | S42: 331 | T42: 331 | X42: =X41+Y42 -> 11929
A43: 37 | B43: ='Récap devis'!B43 -> 44075 | C43: 39 | D43: =IF(E43<>0,D42+E43,"") | E43: =F43+G43 -> 0 | F43: =OFFSET(INDIRECT("'[suivi cde 2020.xlsx]saisie_cde_A'!$w$10"),$A$3*A43,0) -> 0 | G43: =SUM(H43:K43) -> 0 | H43: =OFFSET(INDIRECT("'[suivi cde 2020.xlsx]saisie_cde_A'!$w$4"),$A$3*A43,0) -> 0 | I43: =OFFSET(INDIRECT("'[suivi cde 2020.xlsx]saisie_cde_A'!$w$5"),$A$3*A43,0) -> 0 | J43: =OFFSET(INDIRECT("'[suivi cde 2020.xlsx]saisie_cde_A'!$w$6"),$A$3*A43,0) -> 0 | K43: =OFFSET(INDIRECT("'[suivi cde 2020.xlsx]saisie_cde_A'!$w$7"),$A$3*A43,0) -> 0 | L43: =IF(M43<>0,L42+M43,) -> 0 | O43: 39 | P43: 12278 | Q43: 295 | R43: 46 | S43: 249 | T43: 249 | X43: =X42+Y43 -> 11929
A44: 38 | B44: ='Récap devis'!B44 -> 44075 | C44: 40 | D44: =IF(E44<>0,D43+E44,"") | E44: =F44+G44 -> 0 | F44: =OFFSET(INDIRECT("'[suivi cde 2020.xlsx]saisie_cde_A'!$w$10"),$A$3*A44,0) -> 0 | G44: =SUM(H44:K44) -> 0 | H44: =OFFSET(INDIRECT("'[suivi cde 2020.xlsx]saisie_cde_A'!$w$4"),$A$3*A44,0) -> 0 | I44: =OFFSET(INDIRECT("'[suivi cde 2020.xlsx]saisie_cde_A'!$w$5"),$A$3*A44,0) -> 0 | J44: =OFFSET(INDIRECT("'[suivi cde 2020.xlsx]saisie_cde_A'!$w$6"),$A$3*A44,0) -> 0 | K44: =OFFSET(INDIRECT("'[suivi cde 2020.xlsx]saisie_cde_A'!$w$7"),$A$3*A44,0) -> 0 | L44: =IF(M44<>0,L43+M44,) -> 0 | O44: 40 | P44: 12647 | Q44: 369 | R44: 33 | S44: 336 | T44: 336 | X44: =X43+Y44 -> 12263 | Y44: 334
A45: 39 | B45: ='Récap devis'!B45 -> 44105 | C45: 41 | D45: =IF(E45<>0,D44+E45,"") | E45: =F45+G45 -> 0 | F45: =OFFSET(INDIRECT("'[suivi cde 2020.xlsx]saisie_cde_A'!$w$10"),$A$3*A45,0) -> 0 | G45: =SUM(H45:K45) -> 0 | H45: =OFFSET(INDIRECT("'[suivi cde 2020.xlsx]saisie_cde_A'!$w$4"),$A$3*A45,0) -> 0 | I45: =OFFSET(INDIRECT("'[suivi cde 2020.xlsx]saisie_cde_A'!$w$5"),$A$3*A45,0) -> 0 | J45: =OFFSET(INDIRECT("'[suivi cde 2020.xlsx]saisie_cde_A'!$w$6"),$A$3*A45,0) -> 0 | K45: =OFFSET(INDIRECT("'[suivi cde 2020.xlsx]saisie_cde_A'!$w$7"),$A$3*A45,0) -> 0 | L45: =IF(M45<>0,L44+M45,) -> 0 | O45: 41 | P45: 13045 | Q45: 398 | R45: 43 | S45: 355 | T45: 355 | X45: =X44+Y45 -> 12594 | Y45: 331
A46: 40 | B46: ='Récap devis'!B46 -> 44105 | C46: 42 | D46: =IF(E46<>0,D45+E46,"") | E46: =F46+G46 -> 0 | F46: =OFFSET(INDIRECT("'[suivi cde 2020.xlsx]saisie_cde_A'!$w$10"),$A$3*A46,0) -> 0 | G46: =SUM(H46:K46) -> 0 | H46: =OFFSET(INDIRECT("'[suivi cde 2020.xlsx]saisie_cde_A'!$w$4"),$A$3*A46,0) -> 0 | I46: =OFFSET(INDIRECT("'[suivi cde 2020.xlsx]saisie_cde_A'!$w$5"),$A$3*A46,0) -> 0 | J46: =OFFSET(INDIRECT("'[suivi cde 2020.xlsx]saisie_cde_A'!$w$6"),$A$3*A46,0) -> 0 | K46: =OFFSET(INDIRECT("'[suivi cde 2020.xlsx]saisie_cde_A'!$w$7"),$A$3*A46,0) -> 0 | L46: =IF(M46<>0,L45+M46,) -> 0 | O46: 42 | P46: 13460 | Q46: 415 | R46: 40 | S46: 375 | T46: 375 | X46: =X45+Y46 -> 12956 | Y46: 362
A47: 41 | B47: ='Récap devis'!B47 -> 44105 | C47: 43 | D47: =IF(E47<>0,D46+E47,"") | E47: =F47+G47 -> 0 | F47: =OFFSET(INDIRECT("'[suivi cde 2020.xlsx]saisie_cde_A'!$w$10"),$A$3*A47,0) -> 0 | G47: =SUM(H47:K47) -> 0 | H47: =OFFSET(INDIRECT("'[suivi cde 2020.xlsx]saisie_cde_A'!$w$4"),$A$3*A47,0) -> 0 | I47: =OFFSET(INDIRECT("'[suivi cde 2020.xlsx]saisie_cde_A'!$w$5"),$A$3*A47,0) -> 0 | J47: =OFFSET(INDIRECT("'[suivi cde 2020.xlsx]saisie_cde_A'!$w$6"),$A$3*A47,0) -> 0 | K47: =OFFSET(INDIRECT("'[suivi cde 2020.xlsx]saisie_cde_A'!$w$7"),$A$3*A47,0) -> 0 | L47: =IF(M47<>0,L46+M47,) -> 0 | O47: 43 | P47: 13746 | Q47: 286 | R47: 33 | S47: 253 | T47: 253 | X47: =X46+Y47 -> 13328 | Y47: 372
A48: 42 | B48: ='Récap devis'!B48 -> 44105 | C48: 44 | D48: =IF(E48<>0,D47+E48,"") | E48: =F48+G48 -> 0 | F48: =OFFSET(INDIRECT("'[suivi cde 2020.xlsx]saisie_cde_A'!$w$10"),$A$3*A48,0) -> 0 | G48: =SUM(H48:K48) -> 0 | H48: =OFFSET(INDIRECT("'[suivi cde 2020.xlsx]saisie_cde_A'!$w$4"),$A$3*A48,0) -> 0 | I48: =OFFSET(INDIRECT("'[suivi cde 2020.xlsx]saisie_cde_A'!$w$5"),$A$3*A48,0) -> 0 | J48: =OFFSET(INDIRECT("'[suivi cde 2020.xlsx]saisie_cde_A'!$w$6"),$A$3*A48,0) -> 0 | K48: =OFFSET(INDIRECT("'[suivi cde 2020.xlsx]saisie_cde_A'!$w$7"),$A$3*A48,0) -> 0 | L48: =IF(M48<>0,L47+M48,) -> 0 | O48: 44 | P48: 14060 | Q48: 314 | R48: 40 | S48: 274 | T48: 274 | X48: =X47+Y48 -> 13633 | Y48: 305
A49: 43 | B49: ='Récap devis'!B49 -> 44136 | C49: 45 | D49: =IF(E49<>0,D48+E49,"") | E49: =F49+G49 -> 0 | F49: =OFFSET(INDIRECT("'[suivi cde 2020.xlsx]saisie_cde_A'!$w$10"),$A$3*A49,0) -> 0 | G49: =SUM(H49:K49) -> 0 | H49: =OFFSET(INDIRECT("'[suivi cde 2020.xlsx]saisie_cde_A'!$w$4"),$A$3*A49,0) -> 0 | I49: =OFFSET(INDIRECT("'[suivi cde 2020.xlsx]saisie_cde_A'!$w$5"),$A$3*A49,0) -> 0 | J49: =OFFSET(INDIRECT("'[suivi cde 2020.xlsx]saisie_cde_A'!$w$6"),$A$3*A49,0) -> 0 | K49: =OFFSET(INDIRECT("'[suivi cde 2020.xlsx]saisie_cde_A'!$w$7"),$A$3*A49,0) -> 0 | L49: =IF(M49<>0,L48+M49,) -> 0 | O49: 45 | P49: 14388 | Q49: 328 | R49: 29 | S49: 299 | T49: 299 | X49: =X48+Y49 -> 13954 | Y49: 321
A50: 44 | B50: ='Récap devis'!B50 -> 44136 | C50: 46 | D50: =IF(E50<>0,D49+E50,"") | E50: =F50+G50 -> 0 | F50: =OFFSET(INDIRECT("'[suivi cde 2020.xlsx]saisie_cde_A'!$w$10"),$A$3*A50,0) -> 0 | G50: =SUM(H50:K50) -> 0 | H50: =OFFSET(INDIRECT("'[suivi cde 2020.xlsx]saisie_cde_A'!$w$4"),$A$3*A50,0) -> 0 | I50: =OFFSET(INDIRECT("'[suivi cde 2020.xlsx]saisie_cde_A'!$w$5"),$A$3*A50,0) -> 0 | J50: =OFFSET(INDIRECT("'[suivi cde 2020.xlsx]saisie_cde_A'!$w$6"),$A$3*A50,0) -> 0 | K50: =OFFSET(INDIRECT("'[suivi cde 2020.xlsx]saisie_cde_A'!$w$7"),$A$3*A50,0) -> 0 | L50: =IF(M50<>0,L49+M50,) -> 0 | O50: 46 | P50: 14714 | Q50: 326 | R50: 26 | S50: 300 | T50: 300 | X50: =X49+Y50 -> 14232 | Y50: 278
A51: 45 | B51: ='Récap devis'!B51 -> 44136 | C51: 47 | D51: =IF(E51<>0,D50+E51,"") | E51: =F51+G51 -> 0 | F51: =OFFSET(INDIRECT("'[suivi cde 2020.xlsx]saisie_cde_A'!$w$10"),$A$3*A51,0) -> 0 | G51: =SUM(H51:K51) -> 0 | H51: =OFFSET(INDIRECT("'[suivi cde 2020.xlsx]saisie_cde_A'!$w$4"),$A$3*A51,0) -> 0 | I51: =OFFSET(INDIRECT("'[suivi cde 2020.xlsx]saisie_cde_A'!$w$5"),$A$3*A51,0) -> 0 | J51: =OFFSET(INDIRECT("'[suivi cde 2020.xlsx]saisie_cde_A'!$w$6"),$A$3*A51,0) -> 0 | K51: =OFFSET(INDIRECT("'[suivi cde 2020.xlsx]saisie_cde_A'!$w$7"),$A$3*A51,0) -> 0 | L51: =IF(M51<>0,L50+M51,) -> 0 | O51: 47 | P51: 15077 | Q51: 363 | R51: 41 | S51: 322 | T51: 322 | X51: =X50+Y51 -> 14603 | Y51: 371
A52: 46 | B52: ='Récap devis'!B52 -> 44136 | C52: 48 | D52: =IF(E52<>0,D51+E52,"") | E52: =F52+G52 -> 0 | F52: =OFFSET(INDIRECT("'[suivi cde 2020.xlsx]saisie_cde_A'!$w$10"),$A$3*A52,0) -> 0 | G52: =SUM(H52:K52) -> 0 | H52: =OFFSET(INDIRECT("'[suivi cde 2020.xlsx]saisie_cde_A'!$w$4"),$A$3*A52,0) -> 0 | I52: =OFFSET(INDIRECT("'[suivi cde 2020.xlsx]saisie_cde_A'!$w$5"),$A$3*A52,0) -> 0 | J52: =OFFSET(INDIRECT("'[suivi cde 2020.xlsx]saisie_cde_A'!$w$6"),$A$3*A52,0) -> 0 | K52: =OFFSET(INDIRECT("'[suivi cde 2020.xlsx]saisie_cde_A'!$w$7"),$A$3*A52,0) -> 0 | L52: =IF(M52<>0,L51+M52,) -> 0 | O52: 48 | P52: 15403 | Q52: 326 | R52: 31 | S52: 295 | T52: 295 | X52: =X51+Y52 -> 14901 | Y52: 298
A53: 47 | B53: ='Récap devis'!B53 -> 44166 | C53: 49 | D53: =IF(E53<>0,D52+E53,"") | E53: =F53+G53 -> 0 | F53: =OFFSET(INDIRECT("'[suivi cde 2020.xlsx]saisie_cde_A'!$w$10"),$A$3*A53,0) -> 0 | G53: =SUM(H53:K53) -> 0 | H53: =OFFSET(INDIRECT("'[suivi cde 2020.xlsx]saisie_cde_A'!$w$4"),$A$3*A53,0) -> 0 | I53: =OFFSET(INDIRECT("'[suivi cde 2020.xlsx]saisie_cde_A'!$w$5"),$A$3*A53,0) -> 0 | J53: =OFFSET(INDIRECT("'[suivi cde 2020.xlsx]saisie_cde_A'!$w$6"),$A$3*A53,0) -> 0 | K53: =OFFSET(INDIRECT("'[suivi cde 2020.xlsx]saisie_cde_A'!$w$7"),$A$3*A53,0) -> 0 | L53: =IF(M53<>0,L52+M53,) -> 0 | O53: 49 | P53: 15656 | Q53: 253 | R53: 27 | S53: 226 | T53: 226 | X53: =X52+Y53 -> 15177 | Y53: 276
A54: 48 | B54: ='Récap devis'!B54 -> 44166 | C54: 50 | D54: =IF(E54<>0,D53+E54,"") | E54: =F54+G54 -> 0 | F54: =OFFSET(INDIRECT("'[suivi cde 2020.xlsx]saisie_cde_A'!$w$10"),$A$3*A54,0) -> 0 | G54: =SUM(H54:K54) -> 0 | H54: =OFFSET(INDIRECT("'[suivi cde 2020.xlsx]saisie_cde_A'!$w$4"),$A$3*A54,0) -> 0 | I54: =OFFSET(INDIRECT("'[suivi cde 2020.xlsx]saisie_cde_A'!$w$5"),$A$3*A54,0) -> 0 | J54: =OFFSET(INDIRECT("'[suivi cde 2020.xlsx]saisie_cde_A'!$w$6"),$A$3*A54,0) -> 0 | K54: =OFFSET(INDIRECT("'[suivi cde 2020.xlsx]saisie_cde_A'!$w$7"),$A$3*A54,0) -> 0 | L54: =IF(M54<>0,L53+M54,) -> 0 | O54: 50 | P54: 15985 | Q54: 329 | R54: 24 | S54: 305 | T54: 305 | X54: =X53+Y54 -> 15470 | Y54: 293
A55: 49 | B55: ='Récap devis'!B55 -> 44166 | C55: 51 | D55: =IF(E55<>0,D54+E55,"") | E55: =F55+G55 -> 0 | F55: =OFFSET(INDIRECT("'[suivi cde 2020.xlsx]saisie_cde_A'!$w$10"),$A$3*A55,0) -> 0 | G55: =SUM(H55:K55) -> 0 | H55: =OFFSET(INDIRECT("'[suivi cde 2020.xlsx]saisie_cde_A'!$w$4"),$A$3*A55,0) -> 0 | I55: =OFFSET(INDIRECT("'[suivi cde 2020.xlsx]saisie_cde_A'!$w$5"),$A$3*A55,0) -> 0 | J55: =OFFSET(INDIRECT("'[suivi cde 2020.xlsx]saisie_cde_A'!$w$6"),$A$3*A55,0) -> 0 | K55: =OFFSET(INDIRECT("'[suivi cde 2020.xlsx]saisie_cde_A'!$w$7"),$A$3*A55,0) -> 0 | L55: =IF(M55<>0,L54+M55,) -> 0 | O55: 51 | P55: 16358 | Q55: 373 | R55: 45 | S55: 328 | T55: 328 | X55: =X54+Y55 -> 15767 | Y55: 297
A56: 50 | B56: ='Récap devis'!B56 -> 44166 | C56: 52 | D56: =IF(E56<>0,D55+E56,"") | E56: =F56+G56 -> 0 | F56: =OFFSET(INDIRECT("'[suivi cde 2020.xlsx]saisie_cde_A'!$w$10"),$A$3*A56,0) -> 0 | G56: =SUM(H56:K56) -> 0 | H56: =OFFSET(INDIRECT("'[suivi cde 2020.xlsx]saisie_cde_A'!$w$4"),$A$3*A56,0) -> 0 | I56: =OFFSET(INDIRECT("'[suivi cde 2020.xlsx]saisie_cde_A'!$w$5"),$A$3*A56,0) -> 0 | J56: =OFFSET(INDIRECT("'[suivi cde 2020.xlsx]saisie_cde_A'!$w$6"),$A$3*A56,0) -> 0 | K56: =OFFSET(INDIRECT("'[suivi cde 2020.xlsx]saisie_cde_A'!$w$7"),$A$3*A56,0) -> 0 | L56: =IF(M56<>0,L55+M56,) -> 0 | O56: 52 | P56: 16516 | Q56: 158 | R56: 12 | S56: 146 | T56: 146 | X56: =X55+Y56 -> 15767
B58: 8 | C58: =VLOOKUP(B58,$C$5:$D$57,2,FALSE)/VLOOKUP(B58,$O$5:$P$57,2,FALSE)-1 -> -0.085513471 | E58: =SUM(E5:E57) -> 2676 | F58: =SUM(F6:F57) -> 268 | G58: =SUM(G5:G57) -> 2408 | H58: =SUM(H6:H57) -> 1582 | I58: =SUM(I6:I57) -> 819 | J58: =SUM(J6:J57) -> 7 | K58: =SUM(K6:K57) -> 0 | M58: =SUM(M5:M57) -> 2132 | Q58: =SUM(Q5:Q57) -> 16516 | R58: =SUM(R5:R57) -> 1767 | S58: =SUM(S5:S57) -> 14749 | T58: =SUM(T5:T57) -> 14749 | Y58: =SUM(Y5:Y57) -> 15767
L59: Production N/N-1 | M59: =M58/VLOOKUP(B58,$C$5:$Y$57,22,FALSE)-1 -> -0.25166725
C64: MOIS | D64: CUMUL | E64: TOTAL | F64: ALF | G64: S/total | H64: bsa | I64: ind | J64: A&B | K64: filiales | O64: MOIS | P64: CUMUL | Q64: TOTAL | R64: ALF | S64: S/total | T64: bsa | U64: ind | V64: A&B | W64: filiales | AA64: alu 2018 | AB64: dt alf | AC64: bsa 2018
C65: 43831 | D65: =+Tableau3[[#This Row],[TOTAL]] -> 1274 | E65: =SUM(F65:G65) -> 1274 | F65: =SUMIF($B$5:$K$57,Tableau3[[#This Row],[MOIS]],$F$5:$F$57) -> 135 | G65: =SUM(H65:K65) -> 1139 | H65: =SUMIF($B$5:$K$57,C65,$H$5:$H$57) -> 716 | I65: =SUMIF($B$5:$K$57,Tableau3[[#This Row],[MOIS]],$I$5:$I$57) -> 416 | J65: =SUMIF($B$5:$K$57,Tableau3[[#This Row],[MOIS]],$J$5:$J$57) -> 7 | K65: =SUMIF($B$5:$K$57,Tableau3[[#This Row],[MOIS]],$K$5:$K$57) -> 0 | O65: 43466 | P65: 1671 | Q65: 1671 | R65: 179 | S65: 1492 | T65: 1492 | AA65: 1786 | AB65: 199 | AC65: =AA65-AB65 -> 1587
C66: 43862 | D66: =IF(E66<>0,D65+E66,"") -> 2676 | E66: =SUM(F66:G66) -> 1402 | F66: =SUMIF($B$5:$K$57,Tableau3[[#This Row],[MOIS]],$F$5:$F$57) -> 133 | G66: =SUM(H66:K66) -> 1269 | H66: =SUMIF($B$5:$K$57,Tableau3[[#This Row],[MOIS]],$H$5:$H$57) -> 866 | I66: =SUMIF($B$5:$K$57,Tableau3[[#This Row],[MOIS]],$I$5:$I$57) -> 403 | J66: =SUMIF($B$5:$K$57,Tableau3[[#This Row],[MOIS]],$J$5:$J$57) -> 0 | K66: =SUMIF($B$5:$K$57,Tableau3[[#This Row],[MOIS]],$K$5:$K$57) -> 0 | O66: 43497 | P66: 2919 | Q66: 1248 | R66: 158 | S66: 1090 | T66: 1090 | AA66: 1514 | AB66: 136 | AC66: =AA66-AB66 -> 1378
C67: 43891 | D67: =IF(E67<>0,D66+E67,"") | E67: =SUM(F67:G67) -> 0 | F67: =SUMIF($B$5:$K$57,Tableau3[[#This Row],[MOIS]],$F$5:$F$57) -> 0 | G67: =SUM(H67:K67) -> 0 | H67: =SUMIF($B$5:$K$57,Tableau3[[#This Row],[MOIS]],$H$5:$H$57) -> 0 | I67: =SUMIF($B$5:$K$57,Tableau3[[#This Row],[MOIS]],$I$5:$I$57) -> 0 | J67: =SUMIF($B$5:$K$57,Tableau3[[#This Row],[MOIS]],$J$5:$J$57) -> 0 | K67: =SUMIF($B$5:$K$57,Tableau3[[#This Row],[MOIS]],$K$5:$K$57) -> 0 | O67: 43525 | P67: 4308 | Q67: 1389 | R67: 155 | S67: 1234 | T67: 1234 | AA67: 1845 | AB67: 174 | AC67: =AA67-AB67 -> 1671
C68: 43922 | D68: =IF(E68<>0,D67+E68,"") | E68: =SUM(F68:G68) -> 0 | F68: =SUMIF($B$5:$K$57,Tableau3[[#This Row],[MOIS]],$F$5:$F$57) -> 0 | G68: =SUM(H68:K68) -> 0 | H68: =SUMIF($B$5:$K$57,Tableau3[[#This Row],[MOIS]],$H$5:$H$57) -> 0 | I68: =SUMIF($B$5:$K$57,Tableau3[[#This Row],[MOIS]],$I$5:$I$57) -> 0 | J68: =SUMIF($B$5:$K$57,Tableau3[[#This Row],[MOIS]],$J$5:$J$57) -> 0 | K68: =SUMIF($B$5:$K$57,Tableau3[[#This Row],[MOIS]],$K$5:$K$57) -> 0 | O68: 43556 | P68: 6151 | Q68: 1843 | R68: 143 | S68: 1700 | T68: 1700 | AA68: 1870 | AB68: 201 | AC68: =AA68-AB68 -> 1669
C69: 43952 | D69: =IF(E69<>0,D68+E69,"") | E69: =SUM(F69:G69) -> 0 | F69: =SUMIF($B$5:$K$57,Tableau3[[#This Row],[MOIS]],$F$5:$F$57) -> 0 | G69: =SUM(H69:K69) -> 0 | H69: =SUMIF($B$5:$K$57,Tableau3[[#This Row],[MOIS]],$H$5:$H$57) -> 0 | I69: =SUMIF($B$5:$K$57,Tableau3[[#This Row],[MOIS]],$I$5:$I$57) -> 0 | J69: =SUMIF($B$5:$K$57,Tableau3[[#This Row],[MOIS]],$J$5:$J$57) -> 0 | K69: =SUMIF($B$5:$K$57,Tableau3[[#This Row],[MOIS]],$K$5:$K$57) -> 0 | O69: 43586 | P69: 7500 | Q69: 1349 | R69: 147 | S69: 1202 | T69: 1202 | AA69: 1457 | AB69: 141 | AC69: =AA69-AB69 -> 1316
C70: 43983 | D70: =IF(E70<>0,D69+E70,"") | E70: =SUM(F70:G70) -> 0 | F70: =SUMIF($B$5:$K$57,Tableau3[[#This Row],[MOIS]],$F$5:$F$57) -> 0 | G70: =SUM(H70:K70) -> 0 | H70: =SUMIF($B$5:$K$57,Tableau3[[#This Row],[MOIS]],$H$5:$H$57) -> 0 | I70: =SUMIF($B$5:$K$57,Tableau3[[#This Row],[MOIS]],$I$5:$I$57) -> 0 | J70: =SUMIF($B$5:$K$57,Tableau3[[#This Row],[MOIS]],$J$5:$J$57) -> 0 | K70: =SUMIF($B$5:$K$57,Tableau3[[#This Row],[MOIS]],$K$5:$K$57) -> 0 | O70: 43617 | P70: 8957 | Q70: 1457 | R70: 160 | S70: 1297 | T70: 1297 | AA70: 1645 | AB70: 142 | AC70: =AA70-AB70 -> 1503
C71: 44013 | D71: =IF(E71<>0,D70+E71,"") | E71: =SUM(F71:G71) -> 0 | F71: =SUMIF($B$5:$K$57,Tableau3[[#This Row],[MOIS]],$F$5:$F$57) -> 0 | G71: =SUM(H71:K71) -> 0 | H71: =SUMIF($B$5:$K$57,Tableau3[[#This Row],[MOIS]],$H$5:$H$57) -> 0 | I71: =SUMIF($B$5:$K$57,Tableau3[[#This Row],[MOIS]],$I$5:$I$57) -> 0 | J71: =SUMIF($B$5:$K$57,Tableau3[[#This Row],[MOIS]],$J$5:$J$57) -> 0 | K71: =SUMIF($B$5:$K$57,Tableau3[[#This Row],[MOIS]],$K$5:$K$57) -> 0 | O71: 43647 | P71: 10629 | Q71: 1672 | R71: 209 | S71: 1463 | T71: 1463 | AA71: 1640 | AB71: 149 | AC71: =AA71-AB71 -> 1491
C72: 44044 | D72: =IF(E72<>0,D71+E72,"") | E72: =SUM(F72:G72) -> 0 | F72: =SUMIF($B$5:$K$57,Tableau3[[#This Row],[MOIS]],$F$5:$F$57) -> 0 | G72: =SUM(H72:K72) -> 0 | H72: =SUMIF($B$5:$K$57,Tableau3[[#This Row],[MOIS]],$H$5:$H$57) -> 0 | I72: =SUMIF($B$5:$K$57,Tableau3[[#This Row],[MOIS]],$I$5:$I$57) -> 0 | J72: =SUMIF($B$5:$K$57,Tableau3[[#This Row],[MOIS]],$J$5:$J$57) -> 0 | K72: =SUMIF($B$5:$K$57,Tableau3[[#This Row],[MOIS]],$K$5:$K$57) -> 0 | O72: 43678 | P72: 10939 | Q72: 310 | R72: 25 | S72: 285 | T72: 285 | AA72: 428 | AB72: 41 | AC72: =AA72-AB72 -> 387
C73: 44075 | D73: =IF(E73<>0,D72+E73,"") | E73: =SUM(F73:G73) -> 0 | F73: =SUMIF($B$5:$K$57,Tableau3[[#This Row],[MOIS]],$F$5:$F$57) -> 0 | G73: =SUM(H73:K73) -> 0 | H73: =SUMIF($B$5:$K$57,Tableau3[[#This Row],[MOIS]],$H$5:$H$57) -> 0 | I73: =SUMIF($B$5:$K$57,Tableau3[[#This Row],[MOIS]],$I$5:$I$57) -> 0 | J73: =SUMIF($B$5:$K$57,Tableau3[[#This Row],[MOIS]],$J$5:$J$57) -> 0 | K73: =SUMIF($B$5:$K$57,Tableau3[[#This Row],[MOIS]],$K$5:$K$57) -> 0 | O73: 43709 | P73: 12647 | Q73: 1708 | R73: 200 | S73: 1508 | T73: 1508 | AA73: 1653 | AB73: 184 | AC73: =AA73-AB73 -> 1469
C74: 44105 | D74: =IF(E74<>0,D73+E74,"") | E74: =SUM(F74:G74) -> 0 | F74: =SUMIF($B$5:$K$57,Tableau3[[#This Row],[MOIS]],$F$5:$F$57) -> 0 | G74: =SUM(H74:K74) -> 0 | H74: =SUMIF($B$5:$K$57,Tableau3[[#This Row],[MOIS]],$H$5:$H$57) -> 0 | I74: =SUMIF($B$5:$K$57,Tableau3[[#This Row],[MOIS]],$I$5:$I$57) -> 0 | J74: =SUMIF($B$5:$K$57,Tableau3[[#This Row],[MOIS]],$J$5:$J$57) -> 0 | K74: =SUMIF($B$5:$K$57,Tableau3[[#This Row],[MOIS]],$K$5:$K$57) -> 0 | O74: 43739 | P74: 14060 | Q74: 1413 | R74: 156 | S74: 1257 | T74: 1257 | AA74: 1739 | AB74: 185 | AC74: =AA74-AB74 -> 1554
C75: 44136 | D75: =IF(E75<>0,D74+E75,"") | E75: =SUM(F75:G75) -> 0 | F75: =SUMIF($B$5:$K$57,Tableau3[[#This Row],[MOIS]],$F$5:$F$57) -> 0 | G75: =SUM(H75:K75) -> 0 | H75: =SUMIF($B$5:$K$57,Tableau3[[#This Row],[MOIS]],$H$5:$H$57) -> 0 | I75: =SUMIF($B$5:$K$57,Tableau3[[#This Row],[MOIS]],$I$5:$I$57) -> 0 | J75: =SUMIF($B$5:$K$57,Tableau3[[#This Row],[MOIS]],$J$5:$J$57) -> 0 | K75: =SUMIF($B$5:$K$57,Tableau3[[#This Row],[MOIS]],$K$5:$K$57) -> 0 | O75: 43770 | P75: 15403 | Q75: 1343 | R75: 127 | S75: 1216 | T75: 1216 | AA75: 1371 | AB75: 148 | AC75: =AA75-AB75 -> 1223
C76: 44166 | D76: =IF(E76<>0,D75+E76,"") | E76: =SUM(F76:G76) -> 0 | F76: =SUMIF($B$5:$K$57,Tableau3[[#This Row],[MOIS]],$F$5:$F$57) -> 0 | G76: =SUM(H76:K76) -> 0 | H76: =SUMIF($B$5:$K$57,Tableau3[[#This Row],[MOIS]],$H$5:$H$57) -> 0 | I76: =SUMIF($B$5:$K$57,Tableau3[[#This Row],[MOIS]],$I$5:$I$57) -> 0 | J76: =SUMIF($B$5:$K$57,Tableau3[[#This Row],[MOIS]],$J$5:$J$57) -> 0 | K76: =SUMIF($B$5:$K$57,Tableau3[[#This Row],[MOIS]],$K$5:$K$57) -> 0 | O76: 43800 | P76: 16516 | Q76: 1113 | R76: 108 | S76: 1005 | T76: 1005 | AA76: 1263 | AB76: 101 | AC76: =AA76-AB76 -> 1162
E77: =SUM(F77:G77) -> 2676 | F77: =SUM(F65:F76) -> 268 | G77: =SUM(H77:K77) -> 2408 | H77: =SUM(H65:H76) -> 1582 | I77: =SUM(I65:I76) -> 819 | J77: =SUM(J65:J76) -> 7 | K77: =SUM(K65:K76) -> 0 | Q77: 16516 | R77: 1767 | S77: 14749 | T77: 14749

Sheet Recap_cde_B
A1: Tombées de commandes BOIS | I1: (données dynamiques liés au fichier cde) | M1: Tombées de commandes BOIS | S1: (valeurs copiées en dur)
A3: 19 | C3: ANNEE 2020 | J3: FABRICATION | M3: ANNEE 2019 | T3: FABRICATION
A4: ne pas effacer | B4: MOIS | C4: Sem | D4: CUMUL | E4: total | F4: bsa | G4: ind | H4: filiales | I4: PE | J4: CUMUL | K4: HEBDO | M4: Sem | N4: CUMUL | O4: total | P4: bsa | Q4: ind | R4: filiales | S4: PE | T4: CUMUL | U4: HEBDO
B5: ='Récap devis'!B5 -> 43831 | C5: 1 | D5: =E5+I5 -> 0 | E5: =SUM(F5:H5) -> 0 | F5: =[2]saisie_cde_B!$W$79 -> 0 | G5: =[2]saisie_cde_B!$W$81 -> 0 | H5: =[2]saisie_cde_B!$W$80 -> 0 | I5: =[2]saisie_cde_B!$W$93 -> 0 | J5: =K5 -> 0 | M5: 1 | N5: 136 | O5: 129 | P5: 89 | Q5: 32 | R5: 8 | S5: 7 | T5: =U5 -> 214 | U5: 214
A6: 1 | B6: ='Récap devis'!B6 -> 43831 | C6: 2 | D6: =IF(E6<>0,D5+E6+I6,"") -> 258 | E6: =SUM(F6:H6) -> 228 | F6: =OFFSET([2]saisie_cde_B!$W$79,$A$3*A6,0) -> 217 | G6: =OFFSET([2]saisie_cde_B!$W$81,$A$3*A6,0) -> 0 | H6: =OFFSET([2]saisie_cde_B!$W$80,$A$3*A6,0) -> 11 | I6: =OFFSET([2]saisie_cde_B!$W$93,$A$3*A6,0) -> 30 | J6: =IF(K6<>0,+K6,) -> 308 | K6: =[3]Production!$G1628 -> 308 | M6: 2 | N6: 293 | O6: 142 | P6: 129 | Q6: 4 | R6: 9 | S6: 15 | T6: =T5+U6 -> 487 | U6: 273
A7: 2 | B7: ='Récap devis'!B7 -> 43831 | C7: 3 | D7: =IF(E7<>0,D6+E7+I7,"") -> 513 | E7: =SUM(F7:H7) -> 243 | F7: =OFFSET([2]saisie_cde_B!$W$79,$A$3*A7,0) -> 237 | G7: =OFFSET([2]saisie_cde_B!$W$81,$A$3*A7,0) -> 0 | H7: =OFFSET([2]saisie_cde_B!$W$80,$A$3*A7,0) -> 6 | I7: =OFFSET([2]saisie_cde_B!$W$93,$A$3*A7,0) -> 12 | J7: =IF(K7<>0,J6+K7,) -> 670 | K7: =[3]Production!$G1629 -> 362 | M7: 3 | N7: 499 | O7: 195 | P7: 175 | Q7: 0 | R7: 20 | S7: 11 | T7: =T6+U7 -> 777 | U7: 290
A8: 3 | B8: ='Récap devis'!B8 -> 43831 | C8: 4 | D8: =IF(E8<>0,D7+E8+I8,"") -> 840 | E8: =SUM(F8:H8) -> 312 | F8: =OFFSET([2]saisie_cde_B!$W$79,$A$3*A8,0) -> 292 | G8: =OFFSET([2]saisie_cde_B!$W$81,$A$3*A8,0) -> 7 | H8: =OFFSET([2]saisie_cde_B!$W$80,$A$3*A8,0) -> 13 | I8: =OFFSET([2]saisie_cde_B!$W$93,$A$3*A8,0) -> 15 | J8: =IF(K8<>0,J7+K8,) -> 975 | K8: =[3]Production!$G1630 -> 305 | M8: 4 | N8: 736 | O8: 215 | P8: 164 | Q8: 40 | R8: 11 | S8: 22 | T8: =T7+U8 -> 1103 | U8: 326
A9: 4 | B9: ='Récap devis'!B9 -> 43831 | C9: 5 | D9: =IF(E9<>0,D8+E9+I9,"") -> 1192 | E9: =SUM(F9:H9) -> 329 | F9: =OFFSET([2]saisie_cde_B!$W$79,$A$3*A9,0) -> 280 | G9: =OFFSET([2]saisie_cde_B!$W$81,$A$3*A9,0) -> 14 | H9: =OFFSET([2]saisie_cde_B!$W$80,$A$3*A9,0) -> 35 | I9: =OFFSET([2]saisie_cde_B!$W$93,$A$3*A9,0) -> 23 | J9: =IF(K9<>0,J8+K9,) -> 1292 | K9: 317 | M9: 5 | N9: 1079 | O9: 320 | P9: 292 | Q9: 28 | R9: 0 | S9: 23 | T9: =T8+U9 -> 1382 | U9: 279
A10: 5 | B10: ='Récap devis'!B10 -> 43862 | C10: 6 | D10: =IF(E10<>0,D9+E10+I10,"") -> 1622 | E10: =SUM(F10:H10) -> 406 | F10: =OFFSET([2]saisie_cde_B!$W$79,$A$3*A10,0) -> 384 | G10: =OFFSET([2]saisie_cde_B!$W$81,$A$3*A10,0) -> 7 | H10: =OFFSET([2]saisie_cde_B!$W$80,$A$3*A10,0) -> 15 | I10: =OFFSET([2]saisie_cde_B!$W$93,$A$3*A10,0) -> 24 | J10: =IF(K10<>0,J9+K10,) -> 1605 | K10: 313 | M10: 6 | N10: 1305 | O10: 212 | P10: 189 | Q10: 22 | R10: 1 | S10: 14 | T10: =T9+U10 -> 1677 | U10: 295
A11: 6 | B11: ='Récap devis'!B11 -> 43862 | C11: 7 | D11: =IF(E11<>0,D10+E11+I11,"") -> 2029 | E11: =SUM(F11:H11) -> 381 | F11: =OFFSET([2]saisie_cde_B!$W$79,$A$3*A11,0) -> 356 | G11: =OFFSET([2]saisie_cde_B!$W$81,$A$3*A11,0) -> 8 | H11: =OFFSET([2]saisie_cde_B!$W$80,$A$3*A11,0) -> 17 | I11: =OFFSET([2]saisie_cde_B!$W$93,$A$3*A11,0) -> 26 | J11: =IF(K11<>0,J10+K11,) -> 1917 | K11: 312 | M11: 7 | N11: 1519 | O11: 201 | P11: 194 | Q11: 0 | R11: 7 | S11: 13 | T11: =T10+U11 -> 2007 | U11: 330
A12: 7 | B12: ='Récap devis'!B12 -> 43862 | C12: 8 | D12: =IF(E12<>0,D11+E12+I12,"") -> 2315 | E12: =SUM(F12:H12) -> 250 | F12: =OFFSET([2]saisie_cde_B!$W$79,$A$3*A12,0) -> 238 | G12: =OFFSET([2]saisie_cde_B!$W$81,$A$3*A12,0) -> 0 | H12: =OFFSET([2]saisie_cde_B!$W$80,$A$3*A12,0) -> 12 | I12: =OFFSET([2]saisie_cde_B!$W$93,$A$3*A12,0) -> 36 | J12: =IF(K12<>0,J11+K12,) -> 2254 | K12: 337 | M12: 8 | N12: 1680 | O12: 149 | P12: 148 | Q12: 0 | R12: 1 | S12: 12 | T12: =T11+U12 -> 2332 | U12: 325
A13: 8 | B13: ='Récap devis'!B13 -> 43862 | C13: 9 | D13: =IF(E13<>0,D12+E13+I13,"") -> 2614 | E13: =SUM(F13:H13) -> 277 | F13: =OFFSET([2]saisie_cde_B!$W$79,$A$3*A13,0) -> 264 | G13: =OFFSET([2]saisie_cde_B!$W$81,$A$3*A13,0) -> 0 | H13: =OFFSET([2]saisie_cde_B!$W$80,$A$3*A13,0) -> 13 | I13: =OFFSET([2]saisie_cde_B!$W$93,$A$3*A13,0) -> 22 | J13: =IF(K13<>0,J12+K13,) -> 0 | M13: 9 | N13: 2001 | O13: 302 | P13: 273 | Q13: 11 | R13: 18 | S13: 19 | T13: =T12+U13 -> 2619 | U13: 287
A14: 9 | B14: ='Récap devis'!B14 -> 43891 | C14: 10 | D14: =IF(E14<>0,D13+E14+I14,"") | E14: =SUM(F14:H14) -> 0 | F14: =OFFSET([2]saisie_cde_B!$W$79,$A$3*A14,0) -> 0 | G14: =OFFSET([2]saisie_cde_B!$W$81,$A$3*A14,0) -> 0 | H14: =OFFSET([2]saisie_cde_B!$W$80,$A$3*A14,0) -> 0 | I14: =OFFSET([2]saisie_cde_B!$W$93,$A$3*A14,0) -> 0 | J14: =IF(K14<>0,J13+K14,) -> 0 | M14: 10 | N14: 2315 | O14: 301 | P14: 265 | Q14: 14 | R14: 22 | S14: 13 | T14: =T13+U14 -> 2935 | U14: 316
A15: 10 | B15: ='Récap devis'!B15 -> 43891 | C15: 11 | D15: =IF(E15<>0,D14+E15+I15,"") | E15: =SUM(F15:H15) -> 0 | F15: =OFFSET([2]saisie_cde_B!$W$79,$A$3*A15,0) -> 0 | G15: =OFFSET([2]saisie_cde_B!$W$81,$A$3*A15,0) -> 0 | H15: =OFFSET([2]saisie_cde_B!$W$80,$A$3*A15,0) -> 0 | I15: =OFFSET([2]saisie_cde_B!$W$93,$A$3*A15,0) -> 0 | J15: =IF(K15<>0,J14+K15,) -> 0 | M15: 11 | N15: 2545 | O15: 210 | P15: 183 | Q15: 18 | R15: 9 | S15: 20 | T15: =T14+U15 -> 3271 | U15: 336
A16: 11 | B16: ='Récap devis'!B16 -> 43891 | C16: 12 | D16: =IF(E16<>0,D15+E16+I16,"") | E16: =SUM(F16:H16) -> 0 | F16: =OFFSET([2]saisie_cde_B!$W$79,$A$3*A16,0) -> 0 | G16: =OFFSET([2]saisie_cde_B!$W$81,$A$3*A16,0) -> 0 | H16: =OFFSET([2]saisie_cde_B!$W$80,$A$3*A16,0) -> 0 | I16: =OFFSET([2]saisie_cde_B!$W$93,$A$3*A16,0) -> 0 | J16: =IF(K16<>0,J15+K16,) -> 0 | M16: 12 | N16: 2834 | O16: 270 | P16: 222 | Q16: 22 | R16: 26 | S16: 19 | T16: =T15+U16 -> 3583 | U16: 312
A17: 12 | B17: ='Récap devis'!B17 -> 43891 | C17: 13 | D17: =IF(E17<>0,D16+E17+I17,"") | E17: =SUM(F17:H17) -> 0 | F17: =OFFSET([2]saisie_cde_B!$W$79,$A$3*A17,0) -> 0 | G17: =OFFSET([2]saisie_cde_B!$W$81,$A$3*A17,0) -> 0 | H17: =OFFSET([2]saisie_cde_B!$W$80,$A$3*A17,0) -> 0 | I17: =OFFSET([2]saisie_cde_B!$W$93,$A$3*A17,0) -> 0 | J17: =IF(K17<>0,J16+K17,) -> 0 | M17: 13 | N17: 3151 | O17: 295 | P17: 231 | Q17: 45 | R17: 19 | S17: 22 | T17: =T16+U17 -> 3857 | U17: 274
A18: 13 | B18: ='Récap devis'!B18 -> 43922 | C18: 14 | D18: =IF(E18<>0,D17+E18+I18,"") | E18: =SUM(F18:H18) -> 0 | F18: =OFFSET([2]saisie_cde_B!$W$79,$A$3*A18,0) -> 0 | G18: =OFFSET([2]saisie_cde_B!$W$81,$A$3*A18,0) -> 0 | H18: =OFFSET([2]saisie_cde_B!$W$80,$A$3*A18,0) -> 0 | I18: =OFFSET([2]saisie_cde_B!$W$93,$A$3*A18,0) -> 0 | J18: =IF(K18<>0,J17+K18,) -> 0 | M18: 14 | N18: 3427 | O18: 261 | P18: 246 | Q18: 6 | R18: 9 | S18: 15 | T18: =T17+U18 -> 4119 | U18: 262
A19: 14 | B19: ='Récap devis'!B19 -> 43922 | C19: 15 | D19: =IF(E19<>0,D18+E19+I19,"") | E19: =SUM(F19:H19) -> 0 | F19: =OFFSET([2]saisie_cde_B!$W$79,$A$3*A19,0) -> 0 | G19: =OFFSET([2]saisie_cde_B!$W$81,$A$3*A19,0) -> 0 | H19: =OFFSET([2]saisie_cde_B!$W$80,$A$3*A19,0) -> 0 | I19: =OFFSET([2]saisie_cde_B!$W$93,$A$3*A19,0) -> 0 | J19: =IF(K19<>0,J18+K19,) -> 0 | M19: 15 | N19: 3743 | O19: 299 | P19: 257 | Q19: 23 | R19: 19 | S19: 17 | T19: =T18+U19 -> 4417 | U19: 298
A20: 15 | B20: ='Récap devis'!B20 -> 43922 | C20: 16 | D20: =IF(E20<>0,D19+E20+I20,"") | E20: =SUM(F20:H20) -> 0 | F20: =OFFSET([2]saisie_cde_B!$W$79,$A$3*A20,0) -> 0 | G20: =OFFSET([2]saisie_cde_B!$W$81,$A$3*A20,0) -> 0 | H20: =OFFSET([2]saisie_cde_B!$W$80,$A$3*A20,0) -> 0 | I20: =OFFSET([2]saisie_cde_B!$W$93,$A$3*A20,0) -> 0 | J20: =IF(K20<>0,J19+K20,) -> 0 | M20: 16 | N20: 4018 | O20: 262 | P20: 237 | Q20: 21 | R20: 4 | S20: 13 | T20: =T19+U20 -> 4692 | U20: 275
A21: 16 | B21: ='Récap devis'!B21 -> 43922 | C21: 17 | D21: =IF(E21<>0,D20+E21+I21,"") | E21: =SUM(F21:H21) -> 0 | F21: =OFFSET([2]saisie_cde_B!$W$79,$A$3*A21,0) -> 0 | G21: =OFFSET([2]saisie_cde_B!$W$81,$A$3*A21,0) -> 0 | H21: =OFFSET([2]saisie_cde_B!$W$80,$A$3*A21,0) -> 0 | I21: =OFFSET([2]saisie_cde_B!$W$93,$A$3*A21,0) -> 0 | J21: =IF(K21<>0,J20+K21,) -> 0 | M21: 17 | N21: 4271 | O21: 241 | P21: 238 | Q21: 0 | R21: 3 | S21: 12 | T21: =T20+U21 -> 4936 | U21: 244
A22: 17 | B22: ='Récap devis'!B22 -> 43922 | C22: 18 | D22: =IF(E22<>0,D21+E22+I22,"") | E22: =SUM(F22:H22) -> 0 | F22: =OFFSET([2]saisie_cde_B!$W$79,$A$3*A22,0) -> 0 | G22: =OFFSET([2]saisie_cde_B!$W$81,$A$3*A22,0) -> 0 | H22: =OFFSET([2]saisie_cde_B!$W$80,$A$3*A22,0) -> 0 | I22: =OFFSET([2]saisie_cde_B!$W$93,$A$3*A22,0) -> 0 | J22: =IF(K22<>0,J21+K22,) -> 0 | M22: 18 | N22: 4449 | O22: 164 | P22: 152 | Q22: 0 | R22: 12 | S22: 14 | T22: =T21+U22 -> 5178 | U22: 242
A23: 18 | B23: ='Récap devis'!B23 -> 43952 | C23: 19 | D23: =IF(E23<>0,D22+E23+I23,"") | E23: =SUM(F23:H23) -> 0 | F23: =OFFSET([2]saisie_cde_B!$W$79,$A$3*A23,0) -> 0 | G23: =OFFSET([2]saisie_cde_B!$W$81,$A$3*A23,0) -> 0 | H23: =OFFSET([2]saisie_cde_B!$W$80,$A$3*A23,0) -> 0 | I23: =OFFSET([2]saisie_cde_B!$W$93,$A$3*A23,0) -> 0 | J23: =IF(K23<>0,J22+K23,) -> 0 | M23: 19 | N23: 4672 | O23: 203 | P23: 174 | Q23: 11 | R23: 18 | S23: 20 | T23: =T22+U23 -> 5375 | U23: 197
A24: 19 | B24: ='Récap devis'!B24 -> 43952 | C24: 20 | D24: =IF(E24<>0,D23+E24+I24,"") | E24: =SUM(F24:H24) -> 0 | F24: =OFFSET([2]saisie_cde_B!$W$79,$A$3*A24,0) -> 0 | G24: =OFFSET([2]saisie_cde_B!$W$81,$A$3*A24,0) -> 0 | H24: =OFFSET([2]saisie_cde_B!$W$80,$A$3*A24,0) -> 0 | I24: =OFFSET([2]saisie_cde_B!$W$93,$A$3*A24,0) -> 0 | J24: =IF(K24<>0,J23+K24,) -> 0 | M24: 20 | N24: 5017 | O24: 332 | P24: 317 | Q24: 0 | R24: 15 | S24: 13 | T24: =T23+U24 -> 5625 | U24: 250
... A35: 30 | B35: ='Récap devis'!B35 -> 44013 | C35: 31 | D35: =IF(E35<>0,D34+E35+I35,"") | E35: =SUM(F35:H35) -> 0 | F35: =OFFSET([2]saisie_cde_B!$W$79,$A$3*A35,0) -> 0 | G35: =OFFSET([2]saisie_cde_B!$W$81,$A$3*A35,0) -> 0 | H35: =OFFSET([2]saisie_cde_B!$W$80,$A$3*A35,0) -> 0 | I35: =OFFSET([2]saisie_cde_B!$W$93,$A$3*A35,0) -> 0 | J35: =IF(K35<>0,J34+K35,) -> 0 | M35: 31 | N35: 8264 | O35: 361 | P35: 260 | Q35: 90 | R35: 11 | S35: 13 | T35: =T34+U35 -> 8654 | U35: 260
A36: 31 | B36: ='Récap devis'!B36 -> 44044 | C36: 32 | D36: =IF(E36<>0,D35+E36+I36,"") | E36: =SUM(F36:H36) -> 0 | F36: =OFFSET([2]saisie_cde_B!$W$79,$A$3*A36,0) -> 0 | G36: =OFFSET([2]saisie_cde_B!$W$81,$A$3*A36,0) -> 0 | H36: =OFFSET([2]saisie_cde_B!$W$80,$A$3*A36,0) -> 0 | I36: =OFFSET([2]saisie_cde_B!$W$93,$A$3*A36,0) -> 0 | J36: =IF(K36<>0,J35+K36,) -> 0 | M36: 32 | N36: 8536 | O36: 265 | P36: 242 | Q36: 23 | R36: 0 | S36: 7 | T36: =T35+U36 -> 8654
B37: ='Récap devis'!B37 -> 44044 | C37: 33 | D37: =IF(E37<>0,D36+E37+I37,"") | J37: =IF(K37<>0,J36+K37,) -> 0 | M37: 33 | N37: 8536 | T37: =T36+U37 -> 8654
B38: ='Récap devis'!B38 -> 44044 | C38: 34 | D38: =IF(E38<>0,D37+E38+I38,"") | J38: =IF(K38<>0,J37+K38,) -> 0 | M38: 34 | N38: 8536 | T38: =T37+U38 -> 8654
B39: ='Récap devis'!B39 -> 44044 | C39: 35 | D39: =IF(E39<>0,D38+E39+I39,"") | J39: =IF(K39<>0,J38+K39,) -> 0 | M39: 35 | N39: 8536 | T39: =T38+U39 -> 8654
A40: 32 | B40: ='Récap devis'!B40 -> 44075 | C40: 36 | D40: =IF(E40<>0,D39+E40+I40,"") | E40: =SUM(F40:H40) -> 0 | F40: =OFFSET([2]saisie_cde_B!$W$79,$A$3*A40,0) -> 0 | G40: =OFFSET([2]saisie_cde_B!$W$81,$A$3*A40,0) -> 0 | H40: =OFFSET([2]saisie_cde_B!$W$80,$A$3*A40,0) -> 0 | I40: =OFFSET([2]saisie_cde_B!$W$93,$A$3*A40,0) -> 0 | J40: =IF(K40<>0,J39+K40,) -> 0 | M40: 36 | N40: 8846 | O40: 293 | P40: 285 | Q40: 0 | R40: 8 | S40: 17 | T40: =T39+U40 -> 8905 | U40: 251
A41: 33 | B41: ='Récap devis'!B41 -> 44075 | C41: 37 | D41: =IF(E41<>0,D40+E41+I41,"") | E41: =SUM(F41:H41) -> 0 | F41: =OFFSET([2]saisie_cde_B!$W$79,$A$3*A41,0) -> 0 | G41: =OFFSET([2]saisie_cde_B!$W$81,$A$3*A41,0) -> 0 | H41: =OFFSET([2]saisie_cde_B!$W$80,$A$3*A41,0) -> 0 | I41: =OFFSET([2]saisie_cde_B!$W$93,$A$3*A41,0) -> 0 | J41: =IF(K41<>0,J40+K41,) -> 0 | M41: 37 | N41: 9292 | O41: 433 | P41: 402 | Q41: 7 | R41: 24 | S41: 13 | T41: =T40+U41 -> 9178 | U41: 273
A42: 34 | B42: ='Récap devis'!B42 -> 44075 | C42: 38 | D42: =IF(E42<>0,D41+E42+I42,"") | E42: =SUM(F42:H42) -> 0 | F42: =OFFSET([2]saisie_cde_B!$W$79,$A$3*A42,0) -> 0 | G42: =OFFSET([2]saisie_cde_B!$W$81,$A$3*A42,0) -> 0 | H42: =OFFSET([2]saisie_cde_B!$W$80,$A$3*A42,0) -> 0 | I42: =OFFSET([2]saisie_cde_B!$W$93,$A$3*A42,0) -> 0 | J42: =IF(K42<>0,J41+K42,) -> 0 | M42: 38 | N42: 9766 | O42: 458 | P42: 417 | Q42: 6 | R42: 35 | S42: 16 | T42: =T41+U42 -> 9435 | U42: 257
A43: 35 | B43: ='Récap devis'!B43 -> 44075 | C43: 39 | D43: =IF(E43<>0,D42+E43+I43,"") | E43: =SUM(F43:H43) -> 0 | F43: =OFFSET([2]saisie_cde_B!$W$79,$A$3*A43,0) -> 0 | G43: =OFFSET([2]saisie_cde_B!$W$81,$A$3*A43,0) -> 0 | H43: =OFFSET([2]saisie_cde_B!$W$80,$A$3*A43,0) -> 0 | I43: =OFFSET([2]saisie_cde_B!$W$93,$A$3*A43,0) -> 0 | J43: =IF(K43<>0,J42+K43,) -> 0 | M43: 39 | N43: 10096 | O43: 304 | P43: 293 | Q43: 8 | R43: 3 | S43: 26 | T43: =T42+U43 -> 9703 | U43: 268
A44: 36 | B44: ='Récap devis'!B44 -> 44075 | C44: 40 | D44: =IF(E44<>0,D43+E44+I44,"") | E44: =SUM(F44:H44) -> 0 | F44: =OFFSET([2]saisie_cde_B!$W$79,$A$3*A44,0) -> 0 | G44: =OFFSET([2]saisie_cde_B!$W$81,$A$3*A44,0) -> 0 | H44: =OFFSET([2]saisie_cde_B!$W$80,$A$3*A44,0) -> 0 | I44: =OFFSET([2]saisie_cde_B!$W$93,$A$3*A44,0) -> 0 | J44: =IF(K44<>0,J43+K44,) -> 0 | M44: 40 | N44: 10374 | O44: 264 | P44: 239 | Q44: 0 | R44: 25 | S44: 14 | T44: =T43+U44 -> 10029 | U44: 326
A45: 37 | B45: ='Récap devis'!B45 -> 44105 | C45: 41 | D45: =IF(E45<>0,D44+E45+I45,"") | E45: =SUM(F45:H45) -> 0 | F45: =OFFSET([2]saisie_cde_B!$W$79,$A$3*A45,0) -> 0 | G45: =OFFSET([2]saisie_cde_B!$W$81,$A$3*A45,0) -> 0 | H45: =OFFSET([2]saisie_cde_B!$W$80,$A$3*A45,0) -> 0 | I45: =OFFSET([2]saisie_cde_B!$W$93,$A$3*A45,0) -> 0 | J45: =IF(K45<>0,J44+K45,) -> 0 | M45: 41 | N45: 10852 | O45: 462 | P45: 411 | Q45: 0 | R45: 51 | S45: 16 | T45: =T44+U45 -> 10256 | U45: 227
A46: 38 | B46: ='Récap devis'!B46 -> 44105 | C46: 42 | D46: =IF(E46<>0,D45+E46+I46,"") | E46: =SUM(F46:H46) -> 0 | F46: =OFFSET([2]saisie_cde_B!$W$79,$A$3*A46,0) -> 0 | G46: =OFFSET([2]saisie_cde_B!$W$81,$A$3*A46,0) -> 0 | H46: =OFFSET([2]saisie_cde_B!$W$80,$A$3*A46,0) -> 0 | I46: =OFFSET([2]saisie_cde_B!$W$93,$A$3*A46,0) -> 0 | J46: =IF(K46<>0,J45+K46,) -> 0 | M46: 42 | N46: 11302 | O46: 407 | P46: 385 | Q46: 0 | R46: 22 | S46: 43 | T46: =T45+U46 -> 10555 | U46: 299
A47: 39 | B47: ='Récap devis'!B47 -> 44105 | C47: 43 | D47: =IF(E47<>0,D46+E47+I47,"") | E47: =SUM(F47:H47) -> 0 | F47: =OFFSET([2]saisie_cde_B!$W$79,$A$3*A47,0) -> 0 | G47: =OFFSET([2]saisie_cde_B!$W$81,$A$3*A47,0) -> 0 | H47: =OFFSET([2]saisie_cde_B!$W$80,$A$3*A47,0) -> 0 | I47: =OFFSET([2]saisie_cde_B!$W$93,$A$3*A47,0) -> 0 | J47: =IF(K47<>0,J46+K47,) -> 0 | M47: 43 | N47: 11551 | O47: 222 | P47: 197 | Q47: 6 | R47: 19 | S47: 27 | T47: =T46+U47 -> 10887 | U47: 332
A48: 40 | B48: ='Récap devis'!B48 -> 44105 | C48: 44 | D48: =IF(E48<>0,D47+E48+I48,"") | E48: =SUM(F48:H48) -> 0 | F48: =OFFSET([2]saisie_cde_B!$W$79,$A$3*A48,0) -> 0 | G48: =OFFSET([2]saisie_cde_B!$W$81,$A$3*A48,0) -> 0 | H48: =OFFSET([2]saisie_cde_B!$W$80,$A$3*A48,0) -> 0 | I48: =OFFSET([2]saisie_cde_B!$W$93,$A$3*A48,0) -> 0 | J48: =IF(K48<>0,J47+K48,) -> 0 | M48: 44 | N48: 11783 | O48: 219 | P48: 207 | Q48: 0 | R48: 12 | S48: 13 | T48: =T47+U48 -> 11136 | U48: 249
A49: 41 | B49: ='Récap devis'!B49 -> 44136 | C49: 45 | D49: =IF(E49<>0,D48+E49+I49,"") | E49: =SUM(F49:H49) -> 0 | F49: =OFFSET([2]saisie_cde_B!$W$79,$A$3*A49,0) -> 0 | G49: =OFFSET([2]saisie_cde_B!$W$81,$A$3*A49,0) -> 0 | H49: =OFFSET([2]saisie_cde_B!$W$80,$A$3*A49,0) -> 0 | I49: =OFFSET([2]saisie_cde_B!$W$93,$A$3*A49,0) -> 0 | J49: =IF(K49<>0,J48+K49,) -> 0 | M49: 45 | N49: 12066 | O49: 267 | P49: 248 | Q49: 0 | R49: 19 | S49: 16 | T49: =T48+U49 -> 11445 | U49: 309
A50: 42 | B50: ='Récap devis'!B50 -> 44136 | C50: 46 | D50: =IF(E50<>0,D49+E50+I50,"") | E50: =SUM(F50:H50) -> 0 | F50: =OFFSET([2]saisie_cde_B!$W$79,$A$3*A50,0) -> 0 | G50: =OFFSET([2]saisie_cde_B!$W$81,$A$3*A50,0) -> 0 | H50: =OFFSET([2]saisie_cde_B!$W$80,$A$3*A50,0) -> 0 | I50: =OFFSET([2]saisie_cde_B!$W$93,$A$3*A50,0) -> 0 | J50: =IF(K50<>0,J49+K50,) -> 0 | M50: 46 | N50: 12355 | O50: 276 | P50: 273 | Q50: 0 | R50: 3 | S50: 13 | T50: =T49+U50 -> 11662 | U50: 217
A51: 43 | B51: ='Récap devis'!B51 -> 44136 | C51: 47 | D51: =IF(E51<>0,D50+E51+I51,"") | E51: =SUM(F51:H51) -> 0 | F51: =OFFSET([2]saisie_cde_B!$W$79,$A$3*A51,0) -> 0 | G51: =OFFSET([2]saisie_cde_B!$W$81,$A$3*A51,0) -> 0 | H51: =OFFSET([2]saisie_cde_B!$W$80,$A$3*A51,0) -> 0 | I51: =OFFSET([2]saisie_cde_B!$W$93,$A$3*A51,0) -> 0 | J51: =IF(K51<>0,J50+K51,) -> 0 | M51: 47 | N51: 12690 | O51: 318 | P51: 280 | Q51: 0 | R51: 38 | S51: 17 | T51: =T50+U51 -> 11961 | U51: 299
... A56: 48 | B56: ='Récap devis'!B56 -> 44166 | C56: 52 | D56: =IF(E56<>0,D55+E56+I56,"") | E56: =SUM(F56:H56) -> 0 | F56: =OFFSET([2]saisie_cde_B!$W$79,$A$3*A56,0) -> 0 | G56: =OFFSET([2]saisie_cde_B!$W$81,$A$3*A56,0) -> 0 | H56: =OFFSET([2]saisie_cde_B!$W$80,$A$3*A56,0) -> 0 | I56: =OFFSET([2]saisie_cde_B!$W$93,$A$3*A56,0) -> 0 | J56: =IF(K56<>0,J55+K56,) -> 0 | M56: 52 | N56: 14146 | O56: 85 | P56: 76 | Q56: 0 | R56: 9 | S56: 2 | T56: =T55+U56 -> 13235 | U56: 104
B58: =Recap_cde_A!B58 -> 8 | C58: =VLOOKUP(B58,$C$5:$D$57,2,FALSE)/VLOOKUP(B58,$M$5:$N$57,2,FALSE)-1 -> 0.37797619 | E58: =SUM(E5:E57) -> 2426 | F58: =SUM(F5:F57) -> 2268 | G58: =SUM(G5:G57) -> 36 | H58: =SUM(H5:H57) -> 122 | I58: =SUM(I5:I57) -> 188 | K58: =SUM(K5:K57) -> 2254 | M58: total | N58: =O58+S58 -> 14146 | O58: =SUM(O5:O57) -> 13324 | P58: =SUM(P5:P57) -> 12089 | Q58: =SUM(Q5:Q57) -> 554 | R58: =SUM(R5:R57) -> 681 | S58: =SUM(S5:S57) -> 822 | U58: =SUM(U5:U57) -> 13235
J59: Production N/N-1 | K59: =K58/VLOOKUP(B58,$C$5:$U$57,18,FALSE)-1 -> -0.033447684
C64: MOIS | D64: CUMUL | E64: Total | F64: bsa | G64: ind | H64: filiales | I64: PE | M64: MOIS | N64: CUMUL | O64: Total | P64: bsa | Q64: ind | R64: filiales | S64: PE
C65: 43831 | D65: =+E65+I65 -> 1192 | E65: =SUM(F65:H65) -> 1112 | F65: =SUMIF($B$5:$I$57,Tableau2[[#This Row],[MOIS]],$F$5:$F$57) -> 1026 | G65: =SUMIF($B$5:$I$57,Tableau2[[#This Row],[MOIS]],$G$5:$G$57) -> 21 | H65: =SUMIF($B$5:$I$57,Tableau2[[#This Row],[MOIS]],$H$5:$H$57) -> 65 | I65: =SUMIF($B$5:$I$57,Tableau2[[#This Row],[MOIS]],$I$5:$I$57) -> 80 | M65: 43466 | N65: 1079 | O65: 1001 | P65: 849 | Q65: 104 | R65: 48 | S65: 78
C66: 43862 | D66: =IF(E66<>0,D65+E66+I66,"") -> 2614 | E66: =SUM(F66:H66) -> 1314 | F66: =SUMIF($B$5:$I$57,Tableau2[[#This Row],[MOIS]],$F$5:$F$57) -> 1242 | G66: =SUMIF($B$5:$I$57,Tableau2[[#This Row],[MOIS]],$G$5:$G$57) -> 15 | H66: =SUMIF($B$5:$I$57,Tableau2[[#This Row],[MOIS]],$H$5:$H$57) -> 57 | I66: =SUMIF($B$5:$I$57,Tableau2[[#This Row],[MOIS]],$I$5:$I$57) -> 108 | M66: 43497 | N66: 2001 | O66: 864 | P66: 804 | Q66: 33 | R66: 27 | S66: 58
C67: 43891 | D67: =IF(E67<>0,D66+E67+I67,"") | E67: =SUM(F67:H67) -> 0 | F67: =SUMIF($B$5:$I$57,Tableau2[[#This Row],[MOIS]],$F$5:$F$57) -> 0 | G67: =SUMIF($B$5:$I$57,Tableau2[[#This Row],[MOIS]],$G$5:$G$57) -> 0 | H67: =SUMIF($B$5:$I$57,Tableau2[[#This Row],[MOIS]],$H$5:$H$57) -> 0 | I67: =SUMIF($B$5:$I$57,Tableau2[[#This Row],[MOIS]],$I$5:$I$57) -> 0 | M67: 43525 | N67: 3151 | O67: 1076 | P67: 901 | Q67: 99 | R67: 76 | S67: 74
C68: 43922 | D68: =IF(E68<>0,D67+E68+I68,"") | E68: =SUM(F68:H68) -> 0 | F68: =SUMIF($B$5:$I$57,Tableau2[[#This Row],[MOIS]],$F$5:$F$57) -> 0 | G68: =SUMIF($B$5:$I$57,Tableau2[[#This Row],[MOIS]],$G$5:$G$57) -> 0 | H68: =SUMIF($B$5:$I$57,Tableau2[[#This Row],[MOIS]],$H$5:$H$57) -> 0 | I68: =SUMIF($B$5:$I$57,Tableau2[[#This Row],[MOIS]],$I$5:$I$57) -> 0 | M68: 43556 | N68: 4449 | O68: 1227 | P68: 1130 | Q68: 50 | R68: 47 | S68: 71
C69: 43952 | D69: =IF(E69<>0,D68+E69+I69,"") | E69: =SUM(F69:H69) -> 0 | F69: =SUMIF($B$5:$I$57,Tableau2[[#This Row],[MOIS]],$F$5:$F$57) -> 0 | G69: =SUMIF($B$5:$I$57,Tableau2[[#This Row],[MOIS]],$G$5:$G$57) -> 0 | H69: =SUMIF($B$5:$I$57,Tableau2[[#This Row],[MOIS]],$H$5:$H$57) -> 0 | I69: =SUMIF($B$5:$I$57,Tableau2[[#This Row],[MOIS]],$I$5:$I$57) -> 0 | M69: 43586 | N69: 5586 | O69: 1078 | P69: 1014 | Q69: 21 | R69: 43 | S69: 59
C70: 43983 | D70: =IF(E70<>0,D69+E70+I70,"") | E70: =SUM(F70:H70) -> 0 | F70: =SUMIF($B$5:$I$57,Tableau2[[#This Row],[MOIS]],$F$5:$F$57) -> 0 | G70: =SUMIF($B$5:$I$57,Tableau2[[#This Row],[MOIS]],$G$5:$G$57) -> 0 | H70: =SUMIF($B$5:$I$57,Tableau2[[#This Row],[MOIS]],$H$5:$H$57) -> 0 | I70: =SUMIF($B$5:$I$57,Tableau2[[#This Row],[MOIS]],$I$5:$I$57) -> 0 | M70: 43617 | N70: 6809 | O70: 1153 | P70: 1066 | Q70: 52 | R70: 35 | S70: 70
C71: 44013 | D71: =IF(E71<>0,D70+E71+I71,"") | E71: =SUM(F71:H71) -> 0 | F71: =SUMIF($B$5:$I$57,Tableau2[[#This Row],[MOIS]],$F$5:$F$57) -> 0 | G71: =SUMIF($B$5:$I$57,Tableau2[[#This Row],[MOIS]],$G$5:$G$57) -> 0 | H71: =SUMIF($B$5:$I$57,Tableau2[[#This Row],[MOIS]],$H$5:$H$57) -> 0 | I71: =SUMIF($B$5:$I$57,Tableau2[[#This Row],[MOIS]],$I$5:$I$57) -> 0 | M71: 43647 | N71: 8264 | O71: 1335 | P71: 1116 | Q71: 115 | R71: 104 | S71: 120
C72: 44044 | D72: =IF(E72<>0,D71+E72+I72,"") | E72: =SUM(F72:H72) -> 0 | F72: =SUMIF($B$5:$I$57,Tableau2[[#This Row],[MOIS]],$F$5:$F$57) -> 0 | G72: =SUMIF($B$5:$I$57,Tableau2[[#This Row],[MOIS]],$G$5:$G$57) -> 0 | H72: =SUMIF($B$5:$I$57,Tableau2[[#This Row],[MOIS]],$H$5:$H$57) -> 0 | I72: =SUMIF($B$5:$I$57,Tableau2[[#This Row],[MOIS]],$I$5:$I$57) -> 0 | M72: 43678 | N72: 8536 | O72: 265 | P72: 242 | Q72: 23 | R72: 0 | S72: 7
C73: 44075 | D73: =IF(E73<>0,D72+E73+I73,"") | E73: =SUM(F73:H73) -> 0 | F73: =SUMIF($B$5:$I$57,Tableau2[[#This Row],[MOIS]],$F$5:$F$57) -> 0 | G73: =SUMIF($B$5:$I$57,Tableau2[[#This Row],[MOIS]],$G$5:$G$57) -> 0 | H73: =SUMIF($B$5:$I$57,Tableau2[[#This Row],[MOIS]],$H$5:$H$57) -> 0 | I73: =SUMIF($B$5:$I$57,Tableau2[[#This Row],[MOIS]],$I$5:$I$57) -> 0 | M73: 43709 | N73: 10374 | O73: 1752 | P73: 1636 | Q73: 21 | R73: 95 | S73: 86
C74: 44105 | D74: =IF(E74<>0,D73+E74+I74,"") | E74: =SUM(F74:H74) -> 0 | F74: =SUMIF($B$5:$I$57,Tableau2[[#This Row],[MOIS]],$F$5:$F$57) -> 0 | G74: =SUMIF($B$5:$I$57,Tableau2[[#This Row],[MOIS]],$G$5:$G$57) -> 0 | H74: =SUMIF($B$5:$I$57,Tableau2[[#This Row],[MOIS]],$H$5:$H$57) -> 0 | I74: =SUMIF($B$5:$I$57,Tableau2[[#This Row],[MOIS]],$I$5:$I$57) -> 0 | M74: 43739 | N74: 11783 | O74: 1310 | P74: 1200 | Q74: 6 | R74: 104 | S74: 99
C75: 44136 | D75: =IF(E75<>0,D74+E75+I75,"") | E75: =SUM(F75:H75) -> 0 | F75: =SUMIF($B$5:$I$57,Tableau2[[#This Row],[MOIS]],$F$5:$F$57) -> 0 | G75: =SUMIF($B$5:$I$57,Tableau2[[#This Row],[MOIS]],$G$5:$G$57) -> 0 | H75: =SUMIF($B$5:$I$57,Tableau2[[#This Row],[MOIS]],$H$5:$H$57) -> 0 | I75: =SUMIF($B$5:$I$57,Tableau2[[#This Row],[MOIS]],$I$5:$I$57) -> 0 | M75: 43770 | N75: 12936 | O75: 1096 | P75: 1026 | Q75: 0 | R75: 70 | S75: 57
C76: 44166 | D76: =IF(E76<>0,D75+E76+I76,"") | E76: =SUM(F76:H76) -> 0 | F76: =SUMIF($B$5:$I$57,Tableau2[[#This Row],[MOIS]],$F$5:$F$57) -> 0 | G76: =SUMIF($B$5:$I$57,Tableau2[[#This Row],[MOIS]],$G$5:$G$57) -> 0 | H76: =SUMIF($B$5:$I$57,Tableau2[[#This Row],[MOIS]],$H$5:$H$57) -> 0 | I76: =SUMIF($B$5:$I$57,Tableau2[[#This Row],[MOIS]],$I$5:$I$57) -> 0 | M76: 43800 | N76: 14146 | O76: 1167 | P76: 1105 | Q76: 30 | R76: 32 | S76: 43
E77: =SUM(F77:H77) -> 2426 | F77: =SUM(F65:F76) -> 2268 | G77: =SUM(G65:G76) -> 36 | H77: =SUM(H65:H76) -> 122 | I77: =SUM(I65:I76) -> 188 | M77: total | N77: 14146 | O77: 13324 | P77: 12089 | Q77: 554 | R77: 681 | S77: 822
E78: =E77/O77-1 -> -0.81792255 | F78: =F77/P77-1 -> -0.81239143 | G78: =G77/Q77-1 -> -0.93501805 | H78: =H77/R77-1 -> -0.82085169 | I78: =I77/S77-1 -> -0.77128954

Sheet Recap_cde_P
A1: Tombées de commandes PVC | J1: (données dynamiques liés au fichier cde) | N1: Tombées de commandes PVC | T1: (valeurs copiées en dur)
D3: ANNEE 2020 | K3: FABRICATION | N3: ANNEE 2019 | U3: FABRICATION
B4: MOIS | C4: fonction recherche | D4: Sem | E4: CUMUL | F4: TOTAL | G4: bsa | H4: ind | I4: A&B | J4: filiales | K4: CUMUL | L4: HEBDO | N4: Sem | O4: CUMUL | P4: TOTAL | Q4: bsa | R4: ind | S4: A&B | T4: filiales | U4: CUMUL | V4: HEBDO
B5: ='Récap devis'!B5 -> 43831 | C5: =LEFT(D5,3) -> S01 | D5: S01-20 | E5: =F5+J5 -> 0 | N5: S01-19 | O5: 575 | P5: 575 | Q5: 205 | R5: 258 | S5: 11 | T5: 101 | U5: =IF(V5<>0,+V5,) -> 697 | V5: 697
B6: ='Récap devis'!B6 -> 43831 | C6: =LEFT(D6,3) -> S02 | D6: S02-20 | E6: =IF(F6<>0,E5+F6,"") -> 1443 | F6: =SUM(G6:J6) -> 1443 | G6: =INDIRECT("'[suivi cde 2020.xlsx]"&$D6&"'!$R$12")+INDIRECT("'[suivi cde 2020.xlsx]"&$D6&"'!$R$23")+INDIRECT("'[suivi cde 2020.xlsx]"&$D6&"'!$R$66") -> 763 | H6: =INDIRECT("'L:\[suivi cde 2020.xlsx]"&$D6&"'!$R$31") -> 298 | I6: =INDIRECT("'L:\[suivi cde 2020.xlsx]"&$D6&"'!$R$42") -> 73 | J6: =INDIRECT("'L:\[suivi cde 2020.xlsx]"&$D6&"'!$R$54")+INDIRECT("'L:\[suivi cde 2020.xlsx]"&$D6&"'!$R$78") -> 309 | K6: =IF(L6<>0,+L6,) -> 1331 | L6: =[3]Production!$C1628 -> 1331 | N6: S02-19 | O6: 1657 | P6: 1082 | Q6: 526 | R6: 328 | S6: 85 | T6: 143 | U6: =IF(V6<>0,U5+V6,) -> 2146 | V6: 1449
B7: ='Récap devis'!B7 -> 43831 | C7: =LEFT(D7,3) -> S03 | D7: S03-20 | E7: =IF(F7<>0,E6+F7,"") -> 2717 | F7: =SUM(G7:J7) -> 1274 | G7: =INDIRECT("'[suivi cde 2020.xlsx]"&$D7&"'!$R$12")+INDIRECT("'[suivi cde 2020.xlsx]"&$D7&"'!$R$23")+INDIRECT("'[suivi cde 2020.xlsx]"&$D7&"'!$R$66") -> 683 | H7: =INDIRECT("'[suivi cde 2020.xlsx]"&$D7&"'!$R$31") -> 282 | I7: =INDIRECT("'[suivi cde 2020.xlsx]"&$D7&"'!$R$42") -> 103 | J7: =INDIRECT("'[suivi cde 2020.xlsx]"&$D7&"'!$R$54")+INDIRECT("'[suivi cde 2020.xlsx]"&$D7&"'!$R$78") -> 206 | K7: =IF(L7<>0,K6+L7,) -> 2765 | L7: =[3]Production!$C1629 -> 1434 | N7: S03-19 | O7: 2865 | P7: 1208 | Q7: 494 | R7: 413 | S7: 90 | T7: 211 | U7: =IF(V7<>0,U6+V7,) -> 3523 | V7: 1377
B8: ='Récap devis'!B8 -> 43831 | C8: =LEFT(D8,3) -> S04 | D8: S04-20 | E8: =IF(F8<>0,E7+F8,"") -> 4095 | F8: =SUM(G8:J8) -> 1378 | G8: =INDIRECT("'[suivi cde 2020.xlsx]"&$D8&"'!$R$12")+INDIRECT("'[suivi cde 2020.xlsx]"&$D8&"'!$R$23")+INDIRECT("'[suivi cde 2020.xlsx]"&$D8&"'!$R$66") -> 661 | H8: =INDIRECT("'[suivi cde 2020.xlsx]"&$D8&"'!$R$31") -> 336 | I8: =INDIRECT("'[suivi cde 2020.xlsx]"&$D8&"'!$R$42") -> 142 | J8: =INDIRECT("'[suivi cde 2020.xlsx]"&$D8&"'!$R$54")+INDIRECT("'[suivi cde 2020.xlsx]"&$D8&"'!$R$78") -> 239 | K8: =IF(L8<>0,K7+L8,) -> 4102 | L8: =[3]Production!$C1630 -> 1337 | N8: S04-19 | O8: 3871 | P8: 1006 | Q8: 533 | R8: 211 | S8: 95 | T8: 167 | U8: =IF(V8<>0,U7+V8,) -> 4663 | V8: 1140
A9: 4 | B9: ='Récap devis'!B9 -> 43831 | C9: =LEFT(D9,3) -> S05 | D9: S05-20 | E9: =IF(F9<>0,E8+F9,"") -> 5254 | F9: =SUM(G9:J9) -> 1159 | G9: =INDIRECT("'[suivi cde 2020.xlsx]"&$D9&"'!$R$12")+INDIRECT("'[suivi cde 2020.xlsx]"&$D9&"'!$R$23")+INDIRECT("'[suivi cde 2020.xlsx]"&$D9&"'!$R$66") -> 571 | H9: =INDIRECT("'[suivi cde 2020.xlsx]"&$D9&"'!$R$31") -> 231 | I9: =INDIRECT("'[suivi cde 2020.xlsx]"&$D9&"'!$R$42") -> 99 | J9: =INDIRECT("'[suivi cde 2020.xlsx]"&$D9&"'!$R$54")+INDIRECT("'[suivi cde 2020.xlsx]"&$D9&"'!$R$78") -> 258 | K9: =IF(L9<>0,K8+L9,) -> 5455 | L9: 1353 | N9: S05-19 | O9: 5211 | P9: 1340 | Q9: 628 | R9: 400 | S9: 65 | T9: 247 | U9: =IF(V9<>0,U8+V9,) -> 5763 | V9: 1100
A10: 5 | B10: ='Récap devis'!B10 -> 43862 | C10: =LEFT(D10,3) -> S06 | D10: S06-20 | E10: =IF(F10<>0,E9+F10,"") -> 6405 | F10: =SUM(G10:J10) -> 1151 | G10: =INDIRECT("'[suivi cde 2020.xlsx]"&$D10&"'!$R$12")+INDIRECT("'[suivi cde 2020.xlsx]"&$D10&"'!$R$23")+INDIRECT("'[suivi cde 2020.xlsx]"&$D10&"'!$R$66") -> 621 | H10: =INDIRECT("'[suivi cde 2020.xlsx]"&$D10&"'!$R$31") -> 273 | I10: =INDIRECT("'[suivi cde 2020.xlsx]"&$D10&"'!$R$42") -> 85 | J10: =INDIRECT("'[suivi cde 2020.xlsx]"&$D10&"'!$R$54")+INDIRECT("'[suivi cde 2020.xlsx]"&$D10&"'!$R$78") -> 172 | K10: =IF(L10<>0,K9+L10,) -> 6902 | L10: 1447 | N10: S06-19 | O10: 6475 | P10: 1264 | Q10: 484 | R10: 503 | S10: 97 | T10: 180 | U10: =IF(V10<>0,U9+V10,) -> 7082 | V10: 1319
A11: 6 | B11: ='Récap devis'!B11 -> 43862 | C11: =LEFT(D11,3) -> S07 | D11: S07-20 | E11: =IF(F11<>0,E10+F11,"") -> 7703 | F11: =SUM(G11:J11) -> 1298 | G11: =INDIRECT("'[suivi cde 2020.xlsx]"&$D11&"'!$R$12")+INDIRECT("'[suivi cde 2020.xlsx]"&$D11&"'!$R$23")+INDIRECT("'[suivi cde 2020.xlsx]"&$D11&"'!$R$66") -> 535 | H11: =INDIRECT("'[suivi cde 2020.xlsx]"&$D11&"'!$R$31") -> 228 | I11: =INDIRECT("'[suivi cde 2020.xlsx]"&$D11&"'!$R$42") -> 141 | J11: =INDIRECT("'[suivi cde 2020.xlsx]"&$D11&"'!$R$54")+INDIRECT("'[suivi cde 2020.xlsx]"&$D11&"'!$R$78") -> 394 | K11: =IF(L11<>0,K10+L11,) -> 8281 | L11: 1379 | N11: S07-19 | O11: 7780 | P11: 1305 | Q11: 443 | R11: 569 | S11: 77 | T11: 216 | U11: =IF(V11<>0,U10+V11,) -> 8422 | V11: 1340
A12: 7 | B12: ='Récap devis'!B12 -> 43862 | C12: =LEFT(D12,3) -> S08 | D12: S08-20 | E12: =IF(F12<>0,E11+F12,"") -> 8965 | F12: =SUM(G12:J12) -> 1262 | G12: =INDIRECT("'[suivi cde 2020.xlsx]"&$D12&"'!$R$12")+INDIRECT("'[suivi cde 2020.xlsx]"&$D12&"'!$R$23")+INDIRECT("'[suivi cde 2020.xlsx]"&$D12&"'!$R$66") -> 639 | H12: =INDIRECT("'[suivi cde 2020.xlsx]"&$D12&"'!$R$31") -> 367 | I12: =INDIRECT("'[suivi cde 2020.xlsx]"&$D12&"'!$R$42") -> 40 | J12: =INDIRECT("'[suivi cde 2020.xlsx]"&$D12&"'!$R$54")+INDIRECT("'[suivi cde 2020.xlsx]"&$D12&"'!$R$78") -> 216 | K12: =IF(L12<>0,K11+L12,) -> 9346 | L12: 1065 | N12: S08-19 | O12: 8861 | P12: 1081 | Q12: 438 | R12: 362 | S12: 62 | T12: 219 | U12: =IF(V12<>0,U11+V12,) -> 9772 | V12: 1350
A13: 8 | B13: ='Récap devis'!B13 -> 43862 | C13: =LEFT(D13,3) -> S09 | D13: S09-20 | E13: =IF(F13<>0,E12+F13,"") -> 10571 | F13: =SUM(G13:J13) -> 1606 | G13: =INDIRECT("'[suivi cde 2020.xlsx]"&$D13&"'!$R$12")+INDIRECT("'[suivi cde 2020.xlsx]"&$D13&"'!$R$23")+INDIRECT("'[suivi cde 2020.xlsx]"&$D13&"'!$R$66") -> 719 | H13: =INDIRECT("'[suivi cde 2020.xlsx]"&$D13&"'!$R$31") -> 515 | I13: =INDIRECT("'[suivi cde 2020.xlsx]"&$D13&"'!$R$42") -> 131 | J13: =INDIRECT("'[suivi cde 2020.xlsx]"&$D13&"'!$R$54")+INDIRECT("'[suivi cde 2020.xlsx]"&$D13&"'!$R$78") -> 241 | K13: =IF(L13<>0,K12+L13,) -> 0 | N13: S09-19 | O13: 10036 | P13: 1175 | Q13: 489 | R13: 414 | S13: 52 | T13: 220 | U13: =IF(V13<>0,U12+V13,) -> 11176 | V13: 1404
A14: 9 | B14: ='Récap devis'!B14 -> 43891 | C14: =LEFT(D14,3) -> S10 | D14: S10-20 | E14: =IF(F14<>0,E13+F14,"") | F14: =SUM(G14:J14) -> 0 | K14: =IF(L14<>0,K13+L14,) -> 0 | N14: S10-19 | O14: 11256 | P14: 1220 | Q14: 480 | R14: 442 | S14: 76 | T14: 222 | U14: =IF(V14<>0,U13+V14,) -> 12604 | V14: 1428
A15: 10 | B15: ='Récap devis'!B15 -> 43891 | C15: =LEFT(D15,3) -> S11 | D15: S11-20 | E15: =IF(F15<>0,E14+F15,"") | F15: =SUM(G15:J15) -> 0 | K15: =IF(L15<>0,K14+L15,) -> 0 | N15: S11-19 | O15: 12830 | P15: 1574 | Q15: 494 | R15: 584 | S15: 253 | T15: 243 | U15: =IF(V15<>0,U14+V15,) -> 13900 | V15: 1296
A16: 11 | B16: ='Récap devis'!B16 -> 43891 | C16: =LEFT(D16,3) -> S12 | D16: S12-20 | E16: =IF(F16<>0,E15+F16,"") | F16: =SUM(G16:J16) -> 0 | K16: =IF(L16<>0,K15+L16,) -> 0 | N16: S12-19 | O16: 14158 | P16: 1328 | Q16: 606 | R16: 391 | S16: 128 | T16: 203 | U16: =IF(V16<>0,U15+V16,) -> 15254 | V16: 1354
A17: 12 | B17: ='Récap devis'!B17 -> 43891 | C17: =LEFT(D17,3) -> S13 | D17: S13-20 | E17: =IF(F17<>0,E16+F17,"") | F17: =SUM(G17:J17) -> 0 | K17: =IF(L17<>0,K16+L17,) -> 0 | N17: S13-19 | O17: 15382 | P17: 1224 | Q17: 546 | R17: 294 | S17: 200 | T17: 184 | U17: =IF(V17<>0,U16+V17,) -> 16631 | V17: 1377
A18: 13 | B18: ='Récap devis'!B18 -> 43922 | C18: =LEFT(D18,3) -> S14 | D18: S14-20 | E18: =IF(F18<>0,E17+F18,"") | F18: =SUM(G18:J18) -> 0 | K18: =IF(L18<>0,K17+L18,) -> 0 | N18: S14-19 | O18: 16822 | P18: 1440 | Q18: 645 | R18: 403 | S18: 203 | T18: 189 | U18: =IF(V18<>0,U17+V18,) -> 18022 | V18: 1391
A19: 14 | B19: ='Récap devis'!B19 -> 43922 | C19: =LEFT(D19,3) -> S15 | D19: S15-20 | E19: =IF(F19<>0,E18+F19,"") | F19: =SUM(G19:J19) -> 0 | K19: =IF(L19<>0,K18+L19,) -> 0 | N19: S15-19 | O19: 18274 | P19: 1452 | Q19: 565 | R19: 447 | S19: 202 | T19: 238 | U19: =IF(V19<>0,U18+V19,) -> 19392 | V19: 1370
A20: 15 | B20: ='Récap devis'!B20 -> 43922 | C20: =LEFT(D20,3) -> S16 | D20: S16-20 | E20: =IF(F20<>0,E19+F20,"") | F20: =SUM(G20:J20) -> 0 | K20: =IF(L20<>0,K19+L20,) -> 0 | N20: S16-19 | O20: 19510 | P20: 1236 | Q20: 496 | R20: 374 | S20: 198 | T20: 168 | U20: =IF(V20<>0,U19+V20,) -> 20809 | V20: 1417
A21: 16 | B21: ='Récap devis'!B21 -> 43922 | C21: =LEFT(D21,3) -> S17 | D21: S17-20 | E21: =IF(F21<>0,E20+F21,"") | F21: =SUM(G21:J21) -> 0 | K21: =IF(L21<>0,K20+L21,) -> 0 | N21: S17-19 | O21: 20619 | P21: 1109 | Q21: 351 | R21: 470 | S21: 89 | T21: 199 | U21: =IF(V21<>0,U20+V21,) -> 21880 | V21: 1071
A22: 17 | B22: ='Récap devis'!B22 -> 43922 | C22: =LEFT(D22,3) -> S18 | D22: S18-20 | E22: =IF(F22<>0,E21+F22,"") | F22: =SUM(G22:J22) -> 0 | K22: =IF(L22<>0,K21+L22,) -> 0 | N22: S18-19 | O22: 21702 | P22: 1083 | Q22: 420 | R22: 268 | S22: 133 | T22: 262 | U22: =IF(V22<>0,U21+V22,) -> 22899 | V22: 1019
A23: 18 | B23: ='Récap devis'!B23 -> 43952 | C23: =LEFT(D23,3) -> S19 | D23: S19-20 | E23: =IF(F23<>0,E22+F23,"") | F23: =SUM(G23:J23) -> 0 | K23: =IF(L23<>0,K22+L23,) -> 0 | N23: S19-19 | O23: 22820 | P23: 1118 | Q23: 467 | R23: 287 | S23: 133 | T23: 231 | U23: =IF(V23<>0,U22+V23,) -> 23981 | V23: 1082
A24: 19 | B24: ='Récap devis'!B24 -> 43952 | C24: =LEFT(D24,3) -> S20 | D24: S20-20 | E24: =IF(F24<>0,E23+F24,"") | F24: =SUM(G24:J24) -> 0 | K24: =IF(L24<>0,K23+L24,) -> 0 | N24: S20-19 | O24: 24095 | P24: 1275 | Q24: 571 | R24: 295 | S24: 162 | T24: 247 | U24: =IF(V24<>0,U23+V24,) -> 25245 | V24: 1264
A25: 20 | B25: ='Récap devis'!B25 -> 43952 | C25: =LEFT(D25,3) -> S21 | D25: S21-20 | E25: =IF(F25<>0,E24+F25,"") | F25: =SUM(G25:J25) -> 0 | K25: =IF(L25<>0,K24+L25,) -> 0 | N25: S21-19 | O25: 25384 | P25: 1289 | Q25: 500 | R25: 428 | S25: 118 | T25: 243 | U25: =IF(V25<>0,U24+V25,) -> 26457 | V25: 1212
... A35: 30 | B35: ='Récap devis'!B35 -> 44013 | C35: =LEFT(D35,3) -> S31 | D35: S31-20 | E35: =IF(F35<>0,E34+F35,"") | F35: =SUM(G35:J35) -> 0 | K35: =IF(L35<>0,K34+L35,) -> 0 | N35: S31-19 | O35: 36982 | P35: 1007 | Q35: 418 | R35: 326 | S35: 84 | T35: 179 | U35: =IF(V35<>0,U34+V35,) -> 38275 | V35: 1228
A36: 31 | B36: ='Récap devis'!B36 -> 44044 | C36: =LEFT(D36,3) -> S32 | D36: S32-20 | E36: =IF(F36<>0,E35+F36,"") | F36: =SUM(G36:J36) -> 0 | K36: =IF(L36<>0,K35+L36,) -> 0 | N36: S32-19 | O36: 36982 | P36: 0 | Q36: 0 | R36: 0 | S36: 0 | T36: 0 | U36: =IF(V36<>0,U35+V36,) -> 0
B37: ='Récap devis'!B37 -> 44044 | C37: =LEFT(D37,3) -> S33 | D37: S33-20 | E37: =IF(F37<>0,E36+F37,"") | F37: =SUM(G37:J37) -> 0 | K37: =IF(L37<>0,K36+L37,) -> 0 | N37: S33-19 | O37: 36982 | P37: 0 | Q37: 0 | R37: 0 | S37: 0 | T37: 0 | U37: =IF(V37<>0,U36+V37,) -> 0
B38: ='Récap devis'!B38 -> 44044 | C38: =LEFT(D38,3) -> S34 | D38: S34-20 | E38: =IF(F38<>0,E37+F38,"") | F38: =SUM(G38:J38) -> 0 | K38: =IF(L38<>0,K37+L38,) -> 0 | N38: S34-19 | O38: 36982 | P38: 0 | Q38: 0 | R38: 0 | S38: 0 | T38: 0 | U38: =IF(V38<>0,U37+V38,) -> 0
B39: ='Récap devis'!B39 -> 44044 | C39: =LEFT(D39,3) -> S35 | D39: S35-20 | E39: =IF(F39<>0,E38+F39,"") | F39: =SUM(G39:J39) -> 0 | K39: =IF(L39<>0,K38+L39,) -> 0 | N39: S35-19 | O39: 37773 | P39: 791 | Q39: 461 | R39: 232 | S39: 98 | T39: 0 | U39: =IF(V39<>0,U38+V39,) -> 0
A40: 32 | B40: ='Récap devis'!B40 -> 44075 | C40: =LEFT(D40,3) -> S36 | D40: S36-20 | E40: =IF(F40<>0,E39+F40,"") | F40: =SUM(G40:J40) -> 0 | K40: =IF(L40<>0,K39+L40,) -> 0 | N40: S36-19 | O40: 39150 | P40: 1377 | Q40: 707 | R40: 302 | S40: 60 | T40: 308 | U40: =IF(V40<>0,U35+V40,) -> 39557 | V40: 1282
A41: 33 | B41: ='Récap devis'!B41 -> 44075 | C41: =LEFT(D41,3) -> S37 | D41: S37-20 | E41: =IF(F41<>0,E40+F41,"") | F41: =SUM(G41:J41) -> 0 | K41: =IF(L41<>0,K40+L41,) -> 0 | N41: S37-19 | O41: 40717 | P41: 1567 | Q41: 690 | R41: 335 | S41: 82 | T41: 460 | U41: =IF(V41<>0,U40+V41,) -> 40743 | V41: 1186
A42: 34 | B42: ='Récap devis'!B42 -> 44075 | C42: =LEFT(D42,3) -> S38 | D42: S38-20 | E42: =IF(F42<>0,E41+F42,"") | F42: =SUM(G42:J42) -> 0 | K42: =IF(L42<>0,K41+L42,) -> 0 | N42: S38-19 | O42: 42447 | P42: 1730 | Q42: 775 | R42: 402 | S42: 274 | T42: 279 | U42: =IF(V42<>0,U41+V42,) -> 42038 | V42: 1295
A43: 35 | B43: ='Récap devis'!B43 -> 44075 | C43: =LEFT(D43,3) -> S39 | D43: S39-20 | E43: =IF(F43<>0,E42+F43,"") | F43: =SUM(G43:J43) -> 0 | K43: =IF(L43<>0,K42+L43,) -> 0 | N43: S39-19 | O43: 43739 | P43: 1292 | Q43: 643 | R43: 271 | S43: 113 | T43: 265 | U43: =IF(V43<>0,U42+V43,) -> 43365 | V43: 1327
A44: 36 | B44: ='Récap devis'!B44 -> 44075 | C44: =LEFT(D44,3) -> S40 | D44: S40-20 | E44: =IF(F44<>0,E43+F44,"") | F44: =SUM(G44:J44) -> 0 | K44: =IF(L44<>0,K43+L44,) -> 0 | N44: S40-19 | O44: 45140 | P44: 1401 | Q44: 619 | R44: 425 | S44: 146 | T44: 211 | U44: =IF(V44<>0,U43+V44,) -> 44789 | V44: 1424
A45: 37 | B45: ='Récap devis'!B45 -> 44105 | C45: =LEFT(D45,3) -> S41 | D45: S41-20 | E45: =IF(F45<>0,E44+F45,"") | F45: =SUM(G45:J45) -> 0 | K45: =IF(L45<>0,K44+L45,) -> 0 | N45: S41-19 | O45: 46507 | P45: 1367 | Q45: 613 | R45: 316 | S45: 139 | T45: 299 | U45: =IF(V45<>0,U44+V45,) -> 46270 | V45: 1481
A46: 38 | B46: ='Récap devis'!B46 -> 44105 | C46: =LEFT(D46,3) -> S42 | D46: S42-20 | E46: =IF(F46<>0,E45+F46,"") | F46: =SUM(G46:J46) -> 0 | K46: =IF(L46<>0,K45+L46,) -> 0 | N46: S42-19 | O46: 47980 | P46: 1473 | Q46: 590 | R46: 357 | S46: 269 | T46: 257 | U46: =IF(V46<>0,U45+V46,) -> 47732 | V46: 1462
A47: 39 | B47: ='Récap devis'!B47 -> 44105 | C47: =LEFT(D47,3) -> S43 | D47: S43-20 | E47: =IF(F47<>0,E46+F47,"") | F47: =SUM(G47:J47) -> 0 | K47: =IF(L47<>0,K46+L47,) -> 0 | N47: S43-19 | O47: 49331 | P47: 1351 | Q47: 593 | R47: 244 | S47: 269 | T47: 245 | U47: =IF(V47<>0,U46+V47,) -> 49115 | V47: 1383
A48: 40 | B48: ='Récap devis'!B48 -> 44105 | C48: =LEFT(D48,3) -> S44 | D48: S44-20 | E48: =IF(F48<>0,E47+F48,"") | F48: =SUM(G48:J48) -> 0 | K48: =IF(L48<>0,K47+L48,) -> 0 | N48: S44-19 | O48: 50474 | P48: 1143 | Q48: 492 | R48: 301 | S48: 147 | T48: 203 | U48: =IF(V48<>0,U47+V48,) -> 50259 | V48: 1144
A49: 41 | B49: ='Récap devis'!B49 -> 44136 | C49: =LEFT(D49,3) -> S45 | D49: S45-20 | E49: =IF(F49<>0,E48+F49,"") | F49: =SUM(G49:J49) -> 0 | K49: =IF(L49<>0,K48+L49,) -> 0 | N49: S45-19 | O49: 51931 | P49: 1457 | Q49: 749 | R49: 357 | S49: 146 | T49: 205 | U49: =IF(V49<>0,U48+V49,) -> 51706 | V49: 1447
A50: 42 | B50: ='Récap devis'!B50 -> 44136 | C50: =LEFT(D50,3) -> S46 | D50: S46-20 | E50: =IF(F50<>0,E49+F50,"") | F50: =SUM(G50:J50) -> 0 | K50: =IF(L50<>0,K49+L50,) -> 0 | N50: S46-19 | O50: 53036 | P50: 1105 | Q50: 363 | R50: 430 | S50: 126 | T50: 186 | U50: =IF(V50<>0,U49+V50,) -> 52847 | V50: 1141
A51: 43 | B51: ='Récap devis'!B51 -> 44136 | C51: =LEFT(D51,3) -> S47 | D51: S47-20 | E51: =IF(F51<>0,E50+F51,"") | F51: =SUM(G51:J51) -> 0 | K51: =IF(L51<>0,K50+L51,) -> 0 | N51: S47-19 | O51: 54272 | P51: 1236 | Q51: 613 | R51: 263 | S51: 71 | T51: 289 | U51: =IF(V51<>0,U50+V51,) -> 54142 | V51: 1295
A52: 44 | B52: ='Récap devis'!B52 -> 44136 | C52: =LEFT(D52,3) -> S48 | D52: S48-20 | E52: =IF(F52<>0,E51+F52,"") | F52: =SUM(G52:J52) -> 0 | K52: =IF(L52<>0,K51+L52,) -> 0 | N52: S48-19 | O52: 55679 | P52: 1407 | Q52: 732 | R52: 301 | S52: 158 | T52: 216 | U52: =IF(V52<>0,U51+V52,) -> 55607 | V52: 1465
... A56: 48 | B56: ='Récap devis'!B56 -> 44166 | C56: =LEFT(D56,3) -> S52 | D56: S52-20 | E56: =IF(F56<>0,E55+F56,"") | F56: =SUM(G56:J56) -> 0 | K56: =IF(L56<>0,K55+L56,) -> 0 | N56: S52-19 | O56: 59423 | P56: 308 | Q56: 145 | R56: 53 | S56: 51 | T56: 59 | U56: =IF(V56<>0,U55+V56,) -> 60024 | V56: 376
C58: =CONCATENATE("S0" & Recap_cde_A!B58) -> S08 | D58: =VLOOKUP(C58,$C$5:$E$57,3,FALSE)/VLOOKUP(C58,$C$5:$P$57,13,FALSE)-1 -> 0.011736824 | F58: =SUM(F5:F57) -> 10571 | G58: =SUM(G5:G57) -> 5192 | H58: =SUM(H5:H57) -> 2530 | I58: =SUM(I5:I57) -> 814 | J58: =SUM(J5:J57) -> 2035 | L58: =SUM(L5:L57) -> 9346 | N58: total | P58: =SUM(P5:P57) -> 59423 | Q58: =SUM(Q5:Q57) -> 25851 | R58: =SUM(R5:R57) -> 17199 | S58: =SUM(S5:S57) -> 6061 | T58: =SUM(T5:T57) -> 10312 | V58: =SUM(V5:V57) -> 60024
K59: Production N/N-1 | L59: =L58/VLOOKUP(C58,$C$5:$U$57,19,FALSE)-1 -> -0.043593942
D64: MOIS | E64: CUMUL | F64: TOTAL | G64: bsa | H64: ind | I64: A&B | J64: filiales | N64: MOIS | O64: CUMUL | P64: TOTAL | Q64: bsa | R64: ind | S64: A&B | T64: filiales
D65: 43831 | E65: =+F65 -> 5254 | F65: =SUM(Tableau35[[#This Row],[bsa]:[filiales]]) -> 5254 | G65: =SUMIF($B$5:$J$57,Tableau35[[#This Row],[MOIS]],$G$5:$G$57) -> 2678 | H65: =SUMIF($B$5:$J$57,Tableau35[[#This Row],[MOIS]],$H$5:$H$57) -> 1147 | I65: =SUMIF($B$5:$J$57,Tableau35[[#This Row],[MOIS]],$I$5:$I$57) -> 417 | J65: =SUMIF($B$5:$J$57,Tableau35[[#This Row],[MOIS]],$J$5:$J$57) -> 1012 | N65: 43466 | O65: =P65 -> 5211 | P65: =SUM(Q65:T65) -> 5211 | Q65: 2386 | R65: 1610 | S65: 346 | T65: 869
D66: 43862 | E66: =IF(F66<>0,E65+F66,"") -> 10571 | F66: =SUM(Tableau35[[#This Row],[bsa]:[filiales]]) -> 5317 | G66: =SUMIF($B$5:$J$57,Tableau35[[#This Row],[MOIS]],$G$5:$G$57) -> 2514 | H66: =SUMIF($B$5:$J$57,Tableau35[[#This Row],[MOIS]],$H$5:$H$57) -> 1383 | I66: =SUMIF($B$5:$J$57,Tableau35[[#This Row],[MOIS]],$I$5:$I$57) -> 397 | J66: =SUMIF($B$5:$J$57,Tableau35[[#This Row],[MOIS]],$J$5:$J$57) -> 1023 | N66: 43497 | O66: =O65+P66 -> 10036 | P66: =SUM(Q66:T66) -> 4825 | Q66: 1854 | R66: 1848 | S66: 288 | T66: 835
D67: 43891 | E67: =IF(F67<>0,E66+F67,"") | F67: =SUM(Tableau35[[#This Row],[bsa]:[filiales]]) -> 0 | G67: =SUMIF($B$5:$J$57,Tableau35[[#This Row],[MOIS]],$G$5:$G$57) -> 0 | H67: =SUMIF($B$5:$J$57,Tableau35[[#This Row],[MOIS]],$H$5:$H$57) -> 0 | I67: =SUMIF($B$5:$J$57,Tableau35[[#This Row],[MOIS]],$I$5:$I$57) -> 0 | J67: =SUMIF($B$5:$J$57,Tableau35[[#This Row],[MOIS]],$J$5:$J$57) -> 0 | N67: 43525 | O67: =O66+P67 -> 15382 | P67: =SUM(Q67:T67) -> 5346 | Q67: 2126 | R67: 1711 | S67: 657 | T67: 852
D68: 43922 | E68: =IF(F68<>0,E67+F68,"") | F68: =SUM(Tableau35[[#This Row],[bsa]:[filiales]]) -> 0 | G68: =SUMIF($B$5:$J$57,Tableau35[[#This Row],[MOIS]],$G$5:$G$57) -> 0 | H68: =SUMIF($B$5:$J$57,Tableau35[[#This Row],[MOIS]],$H$5:$H$57) -> 0 | I68: =SUMIF($B$5:$J$57,Tableau35[[#This Row],[MOIS]],$I$5:$I$57) -> 0 | J68: =SUMIF($B$5:$J$57,Tableau35[[#This Row],[MOIS]],$J$5:$J$57) -> 0 | N68: 43556 | O68: =O67+P68 -> 21702 | P68: =SUM(Q68:T68) -> 6320 | Q68: 2477 | R68: 1962 | S68: 825 | T68: 1056
D69: 43952 | E69: =IF(F69<>0,E68+F69,"") | F69: =SUM(Tableau35[[#This Row],[bsa]:[filiales]]) -> 0 | G69: =SUMIF($B$5:$J$57,Tableau35[[#This Row],[MOIS]],$G$5:$G$57) -> 0 | H69: =SUMIF($B$5:$J$57,Tableau35[[#This Row],[MOIS]],$H$5:$H$57) -> 0 | I69: =SUMIF($B$5:$J$57,Tableau35[[#This Row],[MOIS]],$I$5:$I$57) -> 0 | J69: =SUMIF($B$5:$J$57,Tableau35[[#This Row],[MOIS]],$J$5:$J$57) -> 0 | N69: 43586 | O69: =O68+P69 -> 26295 | P69: =SUM(Q69:T69) -> 4593 | Q69: 1937 | R69: 1310 | S69: 455 | T69: 891
D70: 43983 | E70: =IF(F70<>0,E69+F70,"") | F70: =SUM(Tableau35[[#This Row],[bsa]:[filiales]]) -> 0 | G70: =SUMIF($B$5:$J$57,Tableau35[[#This Row],[MOIS]],$G$5:$G$57) -> 0 | H70: =SUMIF($B$5:$J$57,Tableau35[[#This Row],[MOIS]],$H$5:$H$57) -> 0 | I70: =SUMIF($B$5:$J$57,Tableau35[[#This Row],[MOIS]],$I$5:$I$57) -> 0 | J70: =SUMIF($B$5:$J$57,Tableau35[[#This Row],[MOIS]],$J$5:$J$57) -> 0 | N70: 43617 | O70: =O69+P70 -> 31442 | P70: =SUM(Q70:T70) -> 5147 | Q70: 2422 | R70: 1543 | S70: 381 | T70: 801
D71: 44013 | E71: =IF(F71<>0,E70+F71,"") | F71: =SUM(Tableau35[[#This Row],[bsa]:[filiales]]) -> 0 | G71: =SUMIF($B$5:$J$57,Tableau35[[#This Row],[MOIS]],$G$5:$G$57) -> 0 | H71: =SUMIF($B$5:$J$57,Tableau35[[#This Row],[MOIS]],$H$5:$H$57) -> 0 | I71: =SUMIF($B$5:$J$57,Tableau35[[#This Row],[MOIS]],$I$5:$I$57) -> 0 | J71: =SUMIF($B$5:$J$57,Tableau35[[#This Row],[MOIS]],$J$5:$J$57) -> 0 | N71: 43647 | O71: =O70+P71 -> 36982 | P71: =SUM(Q71:T71) -> 5540 | Q71: 2335 | R71: 1675 | S71: 611 | T71: 919
D72: 44044 | E72: =IF(F72<>0,E71+F72,"") | F72: =SUM(Tableau35[[#This Row],[bsa]:[filiales]]) -> 0 | G72: =SUMIF($B$5:$J$57,Tableau35[[#This Row],[MOIS]],$G$5:$G$57) -> 0 | H72: =SUMIF($B$5:$J$57,Tableau35[[#This Row],[MOIS]],$H$5:$H$57) -> 0 | I72: =SUMIF($B$5:$J$57,Tableau35[[#This Row],[MOIS]],$I$5:$I$57) -> 0 | J72: =SUMIF($B$5:$J$57,Tableau35[[#This Row],[MOIS]],$J$5:$J$57) -> 0 | N72: 43678 | O72: =O71+P72 -> 37773 | P72: =SUM(Q72:T72) -> 791 | Q72: 461 | R72: 232 | S72: 98 | T72: 0
D73: 44075 | E73: =IF(F73<>0,E72+F73,"") | F73: =SUM(Tableau35[[#This Row],[bsa]:[filiales]]) -> 0 | G73: =SUMIF($B$5:$J$57,Tableau35[[#This Row],[MOIS]],$G$5:$G$57) -> 0 | H73: =SUMIF($B$5:$J$57,Tableau35[[#This Row],[MOIS]],$H$5:$H$57) -> 0 | I73: =SUMIF($B$5:$J$57,Tableau35[[#This Row],[MOIS]],$I$5:$I$57) -> 0 | J73: =SUMIF($B$5:$J$57,Tableau35[[#This Row],[MOIS]],$J$5:$J$57) -> 0 | N73: 43709 | O73: =O72+P73 -> 45140 | P73: =SUM(Q73:T73) -> 7367 | Q73: 3434 | R73: 1735 | S73: 675 | T73: 1523
D74: 44105 | E74: =IF(F74<>0,E73+F74,"") | F74: =SUM(Tableau35[[#This Row],[bsa]:[filiales]]) -> 0 | G74: =SUMIF($B$5:$J$57,Tableau35[[#This Row],[MOIS]],$G$5:$G$57) -> 0 | H74: =SUMIF($B$5:$J$57,Tableau35[[#This Row],[MOIS]],$H$5:$H$57) -> 0 | I74: =SUMIF($B$5:$J$57,Tableau35[[#This Row],[MOIS]],$I$5:$I$57) -> 0 | J74: =SUMIF($B$5:$J$57,Tableau35[[#This Row],[MOIS]],$J$5:$J$57) -> 0 | N74: 43739 | O74: =O73+P74 -> 50474 | P74: =SUM(Q74:T74) -> 5334 | Q74: 2288 | R74: 1218 | S74: 824 | T74: 1004
D75: 44136 | E75: =IF(F75<>0,E74+F75,"") | F75: =SUM(Tableau35[[#This Row],[bsa]:[filiales]]) -> 0 | G75: =SUMIF($B$5:$J$57,Tableau35[[#This Row],[MOIS]],$G$5:$G$57) -> 0 | H75: =SUMIF($B$5:$J$57,Tableau35[[#This Row],[MOIS]],$H$5:$H$57) -> 0 | I75: =SUMIF($B$5:$J$57,Tableau35[[#This Row],[MOIS]],$I$5:$I$57) -> 0 | J75: =SUMIF($B$5:$J$57,Tableau35[[#This Row],[MOIS]],$J$5:$J$57) -> 0 | N75: 43770 | O75: =O74+P75 -> 55679 | P75: =SUM(Q75:T75) -> 5205 | Q75: 2457 | R75: 1351 | S75: 501 | T75: 896
D76: 44166 | E76: =IF(F76<>0,E75+F76,"") | F76: =SUM(Tableau35[[#This Row],[bsa]:[filiales]]) -> 0 | G76: =SUMIF($B$5:$J$57,Tableau35[[#This Row],[MOIS]],$G$5:$G$57) -> 0 | H76: =SUMIF($B$5:$J$57,Tableau35[[#This Row],[MOIS]],$H$5:$H$57) -> 0 | I76: =SUMIF($B$5:$J$57,Tableau35[[#This Row],[MOIS]],$I$5:$I$57) -> 0 | J76: =SUMIF($B$5:$J$57,Tableau35[[#This Row],[MOIS]],$J$5:$J$57) -> 0 | N76: 43800 | O76: =O75+P76 -> 59423 | P76: =SUM(Q76:T76) -> 3744 | Q76: 1674 | R76: 1004 | S76: 400 | T76: 666
F77: =SUBTOTAL(109,F65:F76) -> 10571 | G77: =SUM(G65:G76) -> 5192 | H77: =SUM(H65:H76) -> 2530 | I77: =SUM(I65:I76) -> 814 | J77: =SUM(J65:J76) -> 2035 | N77: total | P77: =SUBTOTAL(109,P65:P76) -> 59423 | Q77: 24693 | R77: 16498 | S77: 5704 | T77: 9874

Sheet Indicateur graph cde_glob
A1: Evolution tombées de Commandes (GLOBAL)
I62: Attention pas de S01 cette année contre 1/2 sem en 2019 (cde et P°)
L65: Evolu° N/N-1
I66: 9 | J66: 2020 | K66: 2019 | L66: CDE | M66: P°
I67: PVC | J67: =OFFSET(Recap_cde_P!$E$4,+I66,0) -> 10571 | K67: =OFFSET(Recap_cde_P!$O$4,+I66,0) -> 10036 | L67: =J67/K67-1 -> 0.053308091 | M67: =+Recap_cde_P!L59 -> -0.043593942
I68: BOIS | J68: =VLOOKUP(I66,Recap_cde_B!$C$5:$D$57,2,FALSE) -> 2614 | K68: =VLOOKUP($I$66,Recap_cde_B!$M$5:$N$57,2,FALSE) -> 2001 | L68: =J68/K68-1 -> 0.30634683 | M68: =+Recap_cde_B!K59 -> -0.033447684
I69: ALU | J69: =VLOOKUP(I66,Recap_cde_A!$C$5:$D$57,2,FALSE) -> 2676 | K69: =VLOOKUP(I66,Recap_cde_A!$O$5:$P$57,2,FALSE) -> 2919 | L69: =J69/K69-1 -> -0.083247688 | M69: =+Recap_cde_A!M59 -> -0.25166725
I70: total | J70: =SUM(J67:J69) -> 15861 | K70: =SUM(K67:K69) -> 14956 | L70: =J70/K70-1 -> 0.060510832
A74: ANNEE : | G74: 2020
