Workbook

Sheet HF
M1: Janvier | U1: Février | AC1: Mars | AK1: Avril | AS1: Mai | BA1: Juin | BI1: Juillet | BQ1: Août | BY1: Septembre | CG1: Octobre | CO1: Novembre | CW1: Décembre
F2: Janvier | N2: Février | V2: Mars | AD2: Avril | AL2: Mai | AT2: Juin | BB2: Juillet | BJ2: Août | BR2: Septembre | BZ2: Octobre | CH2: Novembre | CP2: Décembre
F4: Semaine 1 | H4: Semaine 2 | J4: Semaine 3 | L4: Semaine 4 | N4: Semaine 1 | P4: Semaine 2 | R4: Semaine 3 | T4: Semaine 4 | V4: Semaine 1 | X4: Semaine 2 | Z4: Semaine 3 | AB4: Semaine 4 | AD4: Semaine 1 | AF4: Semaine 2 | AH4: Semaine 3 | AJ4: Semaine 4 | AL4: Semaine 1 | AN4: Semaine 2 | AP4: Semaine 3 | AR4: Semaine 4 | AT4: Semaine 1 | AV4: Semaine 2 | AX4: Semaine 3 | AZ4: Semaine 4 | BB4: Semaine 1 | BD4: Semaine 2 | BF4: Semaine 3 | BH4: Semaine 4 | BJ4: Semaine 1 | BL4: Semaine 2 | BN4: Semaine 3 | BP4: Semaine 4 | BR4: Semaine 1 | BT4: Semaine 2 | BV4: Semaine 3 | BX4: Semaine 4 | BZ4: Semaine 1 | CB4: Semaine 2 | CD4: Semaine 3 | CF4: Semaine 4 | CH4: Semaine 1 | CJ4: Semaine 2 | CL4: Semaine 3 | CN4: Semaine 4 | CP4: Semaine 1 | CR4: Semaine 2 | CT4: Semaine 3 | CV4: Semaine 4
B6: Fruits | D6: Nom de l'operation | T6: BIEN PLUS QUE DU LAIT !
D7: Visuel
D8: Type pros | N8: TRACT / TRACT | P8: Web / Tract | R8: TRACT | T8: WEB | V8: WEB / WEB | AB8: WEB
D9: Nom du produit | N9: Pomme | P9: pomme | R9: Poire | T9: Pomme | V9: pomme | AB9: Pomme
D10: Mécanique | T10: LV | AB10: LV
D11: Générosité | T11: LV 2+1
D12: Date | T12: 26/02 au 03/03
D13: Valable également | T13: Différentes variéts
D14: Prix avant remise
D15: Prix après remise
D16: HF + Inco ?
D17: Sell-out

Sheet RECAP
A1: HF | B1: Nombre d'UB | D1: Remises Imédiates | G1: Lots virtuels | N1: Cagnottage | R1: Gratuité
D2: RI 30% | E2: RI 40% | F2: RI 50% | G2: 50% sur le 2ème | H2: 60% sur le 2ème | I2: 70% sur le 2ème | J2: 80% sur le 2ème | K2: LV 1+1 | L2: LV 2+1 | M2: LV 2+2 | N2: Fid 30% | O2: Fid 40% | P2: Fid 50% | Q2: Fid 70% | R2: Gratuité 2+1 | S2: Gratuité 2+2 | T2: Gratuité 6+2
B3: TRACT | C3: WEB | D3: 30 | E3: 40 | F3: 50 | G3: 25 | H3: 30 | I3: 35 | J3: 40 | K3: 50 | L3: 33 | M3: 50 | N3: 30 | O3: 40 | P3: 50 | Q3: 70 | R3: 33 | S3: 50 | T3: 25
A4: Fruit | B4: =COUNTIF(HF!$F$8:$CV$8,"*"&$B$3&"*") -> 3 | C4: =COUNTIF(HF!$F$8:$CV$8,"*"&$C$3&"*") -> 4 | D4: {=SUM(LEN(HF!$F$11:$CV$11)-LEN(SUBSTITUTE(HF!$F$11:$CV$11,D3,"")))/LEN(D3)} -> 0 | E4: {=SUM(LEN(HF!$F$11:$CV$11)-LEN(SUBSTITUTE(HF!$F$11:$CV$11,E3,"")))/LEN(E3)} -> 0 | F4: {=SUM(LEN(HF!$F$11:$CV$11)-LEN(SUBSTITUTE(HF!$F$11:$CV$11,F3,"")))/LEN(F3)} -> 0 | G4: {=SUM(LEN(HF!$F$11:$CV$11)-LEN(SUBSTITUTE(HF!$F$11:$CV$11,G3,"")))/LEN(G3)} -> 0 | H4: {=SUM(LEN(HF!$F$11:$CV$11)-LEN(SUBSTITUTE(HF!$F$11:$CV$11,H3,"")))/LEN(H3)} -> 0 | I4: {=SUM(LEN(HF!$F$11:$CV$11)-LEN(SUBSTITUTE(HF!$F$11:$CV$11,I3,"")))/LEN(I3)} -> 0 | J4: {=SUM(LEN(HF!$F$11:$CV$11)-LEN(SUBSTITUTE(HF!$F$11:$CV$11,J3,"")))/LEN(J3)} -> 0 | K4: {=SUM(LEN(HF!$F$11:$CV$11)-LEN(SUBSTITUTE(HF!$F$11:$CV$11,K3,"")))/LEN(K3)} -> 0 | ... T4: {=SUM(LEN(HF!$F$11:$CV$11)-LEN(SUBSTITUTE(HF!$F$11:$CV$11,T3,"")))/LEN(T3)} -> 0
A5: Pomme | B5: =COUNTIFS(HF!$F$8:$CV$8,"*"&B3&"*",HF!$F$9:$CV$9,"*"&A5&"*") -> 2 | C5: =COUNTIFS(HF!$F$8:$CV$8,"*"&C3&"*",HF!$F$9:$CV$9,"*"&A5&"*") -> 4
A6: Poire | B6: =COUNTIFS(HF!$F$8:$CV$8,"*"&B3&"*",HF!$F$9:$CV$9,"*"&A6&"*") -> 1 | C6: =COUNTIFS(HF!$F$8:$CV$8,"*"&C3&"*",HF!$F$9:$CV$9,"*"&A6&"*") -> 0
G16: Semaine 1 | H16: Semaine 2 | I16: Semaine 3 | J16: Semaine 4
F17: Pomme | G17: =SUM(COUNTIFS(HF!$F$8:$CV$8,"*"&$C$3&"*",HF!$F$4:$CV$4,G16,HF!$F$9:$CV$9,$F$17),COUNTIFS(HF!$F$8:$CV$8,"*"&$B$3&"*",HF!$F$4:$CV$4,G16,HF!$F$9:$CV$9,$F$17)) -> 2 | H17: =COUNTIFS(HF!$F$8:$CV$8,"<>",HF!$F$4:$CV$4,H16,HF!$F$9:$CV$9,$F$17) -> 1 | I17: =COUNTIFS(HF!$F$8:$CV$8,"<>",HF!$F$4:$CV$4,I16,HF!$F$9:$CV$9,$F$17) -> 0 | J17: =COUNTIFS(HF!$F$8:$CV$8,"<>",HF!$F$4:$CV$4,J16,HF!$F$9:$CV$9,$F$17) -> 2
F18: Poire | G18: =COUNTIFS(HF!$F$8:$CV$8,"<>",HF!$F$4:$CV$4,G16,HF!$F$9:$CV$9,$F$18) -> 0 | H18: =COUNTIFS(HF!$F$8:$CV$8,"<>",HF!$F$4:$CV$4,H16,HF!$F$9:$CV$9,$F$18) -> 0 | I18: =COUNTIFS(HF!$F$8:$CV$8,"<>",HF!$F$4:$CV$4,I16,HF!$F$9:$CV$9,$F$18) -> 1 | J18: =COUNTIFS(HF!$F$8:$CV$8,"<>",HF!$F$4:$CV$4,J16,HF!$F$9:$CV$9,$F$18) -> 0
