Workbook

Sheet Feuil1
A1: Toutes les feuilles de calcul | N1: SIRET | O1: TARIFICATION | P1: Effectif
N2: =IF(A1="SIRET",ROW()-1,"") | O2: =IF(G1="ModeTarification",ROW()-1,"") | P2: =IF(H1="effectif",ROW()-1,"")
A3: FEUILLE DE CALCUL DU TAUX NOTIFIEE LE 20/12/2019 A XXXXXXXXXXXXX | N3: =IF(A2="SIRET",ROW()-1,"") | O3: =IF(G2="ModeTarification",ROW()-1,"") | P3: =IF(H2="effectif",ROW()-1,"")
N4: =IF(A3="SIRET",ROW()-1,"") | O4: =IF(G3="ModeTarification",ROW()-1,"") | P4: =IF(H3="effectif",ROW()-1,"")
A5: 1. Références | N5: =IF(A4="SIRET",ROW()-1,"") | O5: =IF(G4="ModeTarification",ROW()-1,"") | P5: =IF(H4="effectif",ROW()-1,"")
A6: SIRET | B6: Section | C6: Risque | D6: Fonctions supports | E6: CTN | F6: LibelléRisque | G6: ModeTarification | H6: effectif | I6: Option tarifaire | J6: LieuRisque | K6: URSSAF | L6: REFURSSAF | N6: =IF(A5="SIRET",ROW()-1,"") | O6: =IF(G5="ModeTarification",ROW()-1,"") | P6: =IF(H5="effectif",ROW()-1,"")
A7: 12345678912345 | B7: 1 | C7: XXX | D7: non | E7: DD | F7: Commerce de détail de produits laitiers, de produits surgelés, de fruits et légumes, de boissons et d'alimentation générale | G7: Taux Individuel | H7: 41 | I7: Etablissement | J7: XXX | K7: XXX | L7: XXX | N7: =IF(A6="SIRET",ROW()-1,"") -> 6 | O7: =IF(G6="ModeTarification",ROW()-1,"") -> 6 | P7: =IF(H6="effectif",ROW()-1,"") -> 6
N8: =IF(A7="SIRET",ROW()-1,"") | O8: =IF(G7="ModeTarification",ROW()-1,"") | P8: =IF(H7="effectif",ROW()-1,"")
A9: 2. Paramètres Nationaux | N9: =IF(A8="SIRET",ROW()-1,"") | O9: =IF(G8="ModeTarification",ROW()-1,"") | P9: =IF(H8="effectif",ROW()-1,"")
A10: MAJORATIONS - EXERCICE 2020 | N10: =IF(A9="SIRET",ROW()-1,"") | O10: =IF(G9="ModeTarification",ROW()-1,"") | P10: =IF(H9="effectif",ROW()-1,"")
A11: Majoration Trajet - X - | B11: Charges - Y - | C11: Compensation - Z - | D11: Pénibilité -Z'- | N11: =IF(A10="SIRET",ROW()-1,"") | O11: =IF(G10="ModeTarification",ROW()-1,"") | P11: =IF(H10="effectif",ROW()-1,"")
A12: 0.18 | B12: 58.0 % | C12: 0.38 | D12: 0.03 | N12: =IF(A11="SIRET",ROW()-1,"") | O12: =IF(G11="ModeTarification",ROW()-1,"") | P12: =IF(H11="effectif",ROW()-1,"")
N13: =IF(A12="SIRET",ROW()-1,"") | O13: =IF(G12="ModeTarification",ROW()-1,"") | P13: =IF(H12="effectif",ROW()-1,"")
A14: TARIFS - EXERCICE 2020 | CTN D | N14: =IF(A13="SIRET",ROW()-1,"") | O14: =IF(G13="ModeTarification",ROW()-1,"") | P14: =IF(H13="effectif",ROW()-1,"")
A15: CCM IT1 | B15: CCM IT2 | C15: CCM IT3 | D15: CCM IT4 | E15: CCM IT5 | F15: CCM IT6 | G15: CCM IP1 | H15: CCM IP2 | I15: CCM IP3 | J15: CCM IP4 | N15: =IF(A14="SIRET",ROW()-1,"") | O15: =IF(G14="ModeTarification",ROW()-1,"") | P15: =IF(H14="effectif",ROW()-1,"")
A16: 425 | B16: 469 | C16: 1521 | D16: 4308 | E16: 8142 | F16: 28560 | G16: 2192 | H16: 51379 | I16: 98480 | J16: 401911 | N16: =IF(A15="SIRET",ROW()-1,"") | O16: =IF(G15="ModeTarification",ROW()-1,"") | P16: =IF(H15="effectif",ROW()-1,"")
N17: =IF(A16="SIRET",ROW()-1,"") | O17: =IF(G16="ModeTarification",ROW()-1,"") | P17: =IF(H16="effectif",ROW()-1,"")
A18: 3. Compte Triennal | N18: =IF(A17="SIRET",ROW()-1,"") | O18: =IF(G17="ModeTarification",ROW()-1,"") | P18: =IF(H17="effectif",ROW()-1,"")
A19: Détermination de la valeur du risque | N19: =IF(A18="SIRET",ROW()-1,"") | O19: =IF(G18="ModeTarification",ROW()-1,"") | P19: =IF(H18="effectif",ROW()-1,"")
A20: Année | B20: CCM IT1 | C20: CCM IT2 | D20: CCM IT3 | E20: CCM IT4 | F20: CCM IT5 | G20: CCM IT6 | H20: CCM IP1 | I20: CCM IP2 | J20: CCM IP3 | K20: CCM IP4 | L20: Valeur du risque | N20: =IF(A19="SIRET",ROW()-1,"") | O20: =IF(G19="ModeTarification",ROW()-1,"") | P20: =IF(H19="effectif",ROW()-1,"")
A21: 2016 | C21: 2 | D21: 1 | G21: 1 | H21: 1.0 | L21: 33211 | N21: =IF(A20="SIRET",ROW()-1,"") | O21: =IF(G20="ModeTarification",ROW()-1,"") | P21: =IF(H20="effectif",ROW()-1,"")
A22: 2017 | H22: 2.0 | L22: 4384 | N22: =IF(A21="SIRET",ROW()-1,"") | O22: =IF(G21="ModeTarification",ROW()-1,"") | P22: =IF(H21="effectif",ROW()-1,"")
A23: 2018 | D23: 1 | L23: 1521 | N23: =IF(A22="SIRET",ROW()-1,"") | O23: =IF(G22="ModeTarification",ROW()-1,"") | P23: =IF(H22="effectif",ROW()-1,"")
A24: Total | B24: 0 | C24: 2 | D24: 2 | E24: 0 | F24: 0 | G24: 1 | H24: 3.0 | I24: 0.0 | J24: 0.0 | K24: 0.0 | L24: 39116 | N24: =IF(A23="SIRET",ROW()-1,"") | O24: =IF(G23="ModeTarification",ROW()-1,"") | P24: =IF(H23="effectif",ROW()-1,"")
A25: Valeur du Risque par CCM | B25: 0 | C25: 938 | D25: 3042 | E25: 0 | F25: 0 | G25: 28560 | H25: 6576 | I25: 0 | J25: 0 | K25: 0 | N25: =IF(A24="SIRET",ROW()-1,"") | O25: =IF(G24="ModeTarification",ROW()-1,"") | P25: =IF(H24="effectif",ROW()-1,"")
N26: =IF(A25="SIRET",ROW()-1,"") | O26: =IF(G25="ModeTarification",ROW()-1,"") | P26: =IF(H25="effectif",ROW()-1,"")
A27: Valeur du risque = somme du nombre de sinistres par CCM x tarif du CCM correspondant | N27: =IF(A26="SIRET",ROW()-1,"") | O27: =IF(G26="ModeTarification",ROW()-1,"") | P27: =IF(H26="effectif",ROW()-1,"")
N28: =IF(A27="SIRET",ROW()-1,"") | O28: =IF(G27="ModeTarification",ROW()-1,"") | P28: =IF(H27="effectif",ROW()-1,"")
A29: Détermination de la valeur total du risque | N29: =IF(A28="SIRET",ROW()-1,"") | O29: =IF(G28="ModeTarification",ROW()-1,"") | P29: =IF(H28="effectif",ROW()-1,"")
A30: Valeur totale du Risque(A) : 39116 | N30: =IF(A29="SIRET",ROW()-1,"") | O30: =IF(G29="ModeTarification",ROW()-1,"") | P30: =IF(H29="effectif",ROW()-1,"")
N31: =IF(A30="SIRET",ROW()-1,"") | O31: =IF(G30="ModeTarification",ROW()-1,"") | P31: =IF(H30="effectif",ROW()-1,"")
B32: Masse salariale (B) | C32: Valeur du Risque (A) | N32: =IF(A31="SIRET",ROW()-1,"") | O32: =IF(G31="ModeTarification",ROW()-1,"") | P32: =IF(H31="effectif",ROW()-1,"")
A33: 2016 | B33: XXXXX | C33: XXXX | N33: =IF(A32="SIRET",ROW()-1,"") | O33: =IF(G32="ModeTarification",ROW()-1,"") | P33: =IF(H32="effectif",ROW()-1,"")
A34: 2017 | B34: XXXXX | C34: XXXX | N34: =IF(A33="SIRET",ROW()-1,"") | O34: =IF(G33="ModeTarification",ROW()-1,"") | P34: =IF(H33="effectif",ROW()-1,"")
A35: 2018 | B35: XXXXX | C35: XXXX | N35: =IF(A34="SIRET",ROW()-1,"") | O35: =IF(G34="ModeTarification",ROW()-1,"") | P35: =IF(H34="effectif",ROW()-1,"")
A36: Total | B36: XXXXX | C36: XXXX | N36: =IF(A35="SIRET",ROW()-1,"") | O36: =IF(G35="ModeTarification",ROW()-1,"") | P36: =IF(H35="effectif",ROW()-1,"")
N37: =IF(A36="SIRET",ROW()-1,"") | O37: =IF(G36="ModeTarification",ROW()-1,"") | P37: =IF(H36="effectif",ROW()-1,"")
A38: Détermination du taux de la section d'établissement | N38: =IF(A37="SIRET",ROW()-1,"") | O38: =IF(G37="ModeTarification",ROW()-1,"") | P38: =IF(H37="effectif",ROW()-1,"")
A39: Effectif : E | B39: XXXX | N39: =IF(A38="SIRET",ROW()-1,"") | O39: =IF(G38="ModeTarification",ROW()-1,"") | P39: =IF(H38="effectif",ROW()-1,"")
A40: Taux brut : C=(Ax100)/B | B40: 1.3621 % | N40: =IF(A39="SIRET",ROW()-1,"") | O40: =IF(G39="ModeTarification",ROW()-1,"") | P40: =IF(H39="effectif",ROW()-1,"")
A41: Taux net : D = (C+X)x(1+Y)+(Z+Z') | B41: 2.8465 % | N41: =IF(A40="SIRET",ROW()-1,"") | O41: =IF(G40="ModeTarification",ROW()-1,"") | P41: =IF(H40="effectif",ROW()-1,"")
A42: Taux collectif : F | B42: 2.40 % | N42: =IF(A41="SIRET",ROW()-1,"") | O42: =IF(G41="ModeTarification",ROW()-1,"") | P42: =IF(H41="effectif",ROW()-1,"")
A43: Taux exercice antérieur | B43: 4.33 % | N43: =IF(A42="SIRET",ROW()-1,"") | O43: =IF(G42="ModeTarification",ROW()-1,"") | P43: =IF(H42="effectif",ROW()-1,"")
A44: Taux Individuel écrêté | B44: 3.46 % | N44: =IF(A43="SIRET",ROW()-1,"") | O44: =IF(G43="ModeTarification",ROW()-1,"") | P44: =IF(H43="effectif",ROW()-1,"")
N45: =IF(A44="SIRET",ROW()-1,"") | O45: =IF(G44="ModeTarification",ROW()-1,"") | P45: =IF(H44="effectif",ROW()-1,"")
A46: 4.Taux applicable | N46: =IF(A45="SIRET",ROW()-1,"") | O46: =IF(G45="ModeTarification",ROW()-1,"") | P46: =IF(H45="effectif",ROW()-1,"")
A47: NIC Section | B47: Valeur triennale risque section | C47: Salaires | D47: Taux brut section | E47: Taux Individuel écrêté | F47: Cotis Supp | G47: Cotis Compl | H47: Ristourne | I47: Taux applicable | J47: Date d'effet | K47: Date de notif | N47: =IF(A46="SIRET",ROW()-1,"") | O47: =IF(G46="ModeTarification",ROW()-1,"") | P47: =IF(H46="effectif",ROW()-1,"")
A48: XXXX | B48: XXX | C48: XXX | D48: 1.3621 % | E48: 3.46 % | I48: 3.46 % | J48: 43831 | K48: 43819 | N48: =IF(A47="SIRET",ROW()-1,"") | O48: =IF(G47="ModeTarification",ROW()-1,"") | P48: =IF(H47="effectif",ROW()-1,"")
A49: FEUILLE DE CALCUL DU TAUX NOTIFIEE LE 21/12/2019 A XXXXXXXXXXXXXXX | N49: =IF(A48="SIRET",ROW()-1,"") | O49: =IF(G48="ModeTarification",ROW()-1,"") | P49: =IF(H48="effectif",ROW()-1,"")
N50: =IF(A49="SIRET",ROW()-1,"") | O50: =IF(G49="ModeTarification",ROW()-1,"") | P50: =IF(H49="effectif",ROW()-1,"")
A51: 1. Références | N51: =IF(A50="SIRET",ROW()-1,"") | O51: =IF(G50="ModeTarification",ROW()-1,"") | P51: =IF(H50="effectif",ROW()-1,"")
A52: SIRET | B52: Section | C52: Risque | D52: Fonctions supports | E52: CTN | F52: LibelléRisque | G52: ModeTarification | H52: effectif | I52: Option tarifaire | J52: LieuRisque | K52: URSSAF | L52: REFURSSAF | N52: =IF(A51="SIRET",ROW()-1,"") | O52: =IF(G51="ModeTarification",ROW()-1,"") | P52: =IF(H51="effectif",ROW()-1,"")
A53: 98654712365478 | B53: 1 | C53: 513TC | D53: non | E53: DD | F53: Commerce de gros (commerce interentreprises) alimentaire non spécialisé. | G53: Taux Individuel | H53: 7 | I53: Etablissement | J53: XXX | K53: XXX | L53: XXX | N53: =IF(A52="SIRET",ROW()-1,"") -> 52 | O53: =IF(G52="ModeTarification",ROW()-1,"") -> 52 | P53: =IF(H52="effectif",ROW()-1,"") -> 52
N54: =IF(A53="SIRET",ROW()-1,"") | O54: =IF(G53="ModeTarification",ROW()-1,"") | P54: =IF(H53="effectif",ROW()-1,"")
A55: 2. Paramètres Nationaux | N55: =IF(A54="SIRET",ROW()-1,"") | O55: =IF(G54="ModeTarification",ROW()-1,"") | P55: =IF(H54="effectif",ROW()-1,"")
A56: MAJORATIONS - EXERCICE 2020 | N56: =IF(A55="SIRET",ROW()-1,"") | O56: =IF(G55="ModeTarification",ROW()-1,"") | P56: =IF(H55="effectif",ROW()-1,"")
A57: Majoration Trajet - X - | B57: Charges - Y - | C57: Compensation - Z - | D57: Pénibilité -Z'- | N57: =IF(A56="SIRET",ROW()-1,"") | O57: =IF(G56="ModeTarification",ROW()-1,"") | P57: =IF(H56="effectif",ROW()-1,"")
A58: 0.18 | B58: 58.0 % | C58: 0.38 | D58: 0.03 | N58: =IF(A57="SIRET",ROW()-1,"") | O58: =IF(G57="ModeTarification",ROW()-1,"") | P58: =IF(H57="effectif",ROW()-1,"")
N59: =IF(A58="SIRET",ROW()-1,"") | O59: =IF(G58="ModeTarification",ROW()-1,"") | P59: =IF(H58="effectif",ROW()-1,"")
A60: TARIFS - EXERCICE 2020 | CTN D | N60: =IF(A59="SIRET",ROW()-1,"") | O60: =IF(G59="ModeTarification",ROW()-1,"") | P60: =IF(H59="effectif",ROW()-1,"")
A61: CCM IT1 | B61: CCM IT2 | C61: CCM IT3 | D61: CCM IT4 | E61: CCM IT5 | F61: CCM IT6 | G61: CCM IP1 | H61: CCM IP2 | I61: CCM IP3 | J61: CCM IP4 | N61: =IF(A60="SIRET",ROW()-1,"") | O61: =IF(G60="ModeTarification",ROW()-1,"") | P61: =IF(H60="effectif",ROW()-1,"")
A62: 425 | B62: 469 | C62: 1521 | D62: 4308 | E62: 8142 | F62: 28560 | G62: 2192 | H62: 51379 | I62: 98480 | J62: 401911 | N62: =IF(A61="SIRET",ROW()-1,"") | O62: =IF(G61="ModeTarification",ROW()-1,"") | P62: =IF(H61="effectif",ROW()-1,"")
N63: =IF(A62="SIRET",ROW()-1,"") | O63: =IF(G62="ModeTarification",ROW()-1,"") | P63: =IF(H62="effectif",ROW()-1,"")
A64: 3. Compte Triennal | N64: =IF(A63="SIRET",ROW()-1,"") | O64: =IF(G63="ModeTarification",ROW()-1,"") | P64: =IF(H63="effectif",ROW()-1,"")
A65: Détermination de la valeur du risque | N65: =IF(A64="SIRET",ROW()-1,"") | O65: =IF(G64="ModeTarification",ROW()-1,"") | P65: =IF(H64="effectif",ROW()-1,"")
A66: Année | B66: CCM IT1 | C66: CCM IT2 | D66: CCM IT3 | E66: CCM IT4 | F66: CCM IT5 | G66: CCM IT6 | H66: CCM IP1 | I66: CCM IP2 | J66: CCM IP3 | K66: CCM IP4 | L66: Valeur du risque | N66: =IF(A65="SIRET",ROW()-1,"") | O66: =IF(G65="ModeTarification",ROW()-1,"") | P66: =IF(H65="effectif",ROW()-1,"")
A67: 2017 | N67: =IF(A66="SIRET",ROW()-1,"") | O67: =IF(G66="ModeTarification",ROW()-1,"") | P67: =IF(H66="effectif",ROW()-1,"")
A68: 2016 | N68: =IF(A67="SIRET",ROW()-1,"") | O68: =IF(G67="ModeTarification",ROW()-1,"") | P68: =IF(H67="effectif",ROW()-1,"")
A69: 2018 | N69: =IF(A68="SIRET",ROW()-1,"") | O69: =IF(G68="ModeTarification",ROW()-1,"") | P69: =IF(H68="effectif",ROW()-1,"")
A70: Total | B70: 0 | C70: 0 | D70: 0 | E70: 0 | F70: 0 | G70: 0 | H70: 0.0 | I70: 0.0 | J70: 0.0 | K70: 0.0 | L70: 0 | N70: =IF(A69="SIRET",ROW()-1,"") | O70: =IF(G69="ModeTarification",ROW()-1,"") | P70: =IF(H69="effectif",ROW()-1,"")
A71: Valeur du Risque par CCM | B71: 0 | C71: 0 | D71: 0 | E71: 0 | F71: 0 | G71: 0 | H71: 0 | I71: 0 | J71: 0 | K71: 0 | N71: =IF(A70="SIRET",ROW()-1,"") | O71: =IF(G70="ModeTarification",ROW()-1,"") | P71: =IF(H70="effectif",ROW()-1,"")
N72: =IF(A71="SIRET",ROW()-1,"") | O72: =IF(G71="ModeTarification",ROW()-1,"") | P72: =IF(H71="effectif",ROW()-1,"")
A73: Valeur du risque = somme du nombre de sinistres par CCM x tarif du CCM correspondant | N73: =IF(A72="SIRET",ROW()-1,"") | O73: =IF(G72="ModeTarification",ROW()-1,"") | P73: =IF(H72="effectif",ROW()-1,"")
N74: =IF(A73="SIRET",ROW()-1,"") | O74: =IF(G73="ModeTarification",ROW()-1,"") | P74: =IF(H73="effectif",ROW()-1,"")
A75: Détermination de la valeur total du risque | N75: =IF(A74="SIRET",ROW()-1,"") | O75: =IF(G74="ModeTarification",ROW()-1,"") | P75: =IF(H74="effectif",ROW()-1,"")
A76: Valeur totale du Risque(A) : 0 | N76: =IF(A75="SIRET",ROW()-1,"") | O76: =IF(G75="ModeTarification",ROW()-1,"") | P76: =IF(H75="effectif",ROW()-1,"")
N77: =IF(A76="SIRET",ROW()-1,"") | O77: =IF(G76="ModeTarification",ROW()-1,"") | P77: =IF(H76="effectif",ROW()-1,"")
B78: Masse salariale (B) | C78: Valeur du Risque (A) | N78: =IF(A77="SIRET",ROW()-1,"") | O78: =IF(G77="ModeTarification",ROW()-1,"") | P78: =IF(H77="effectif",ROW()-1,"")
A79: 2017 | B79: XXX | C79: 0 | N79: =IF(A78="SIRET",ROW()-1,"") | O79: =IF(G78="ModeTarification",ROW()-1,"") | P79: =IF(H78="effectif",ROW()-1,"")
A80: 2016 | B80: XXX | C80: 0 | N80: =IF(A79="SIRET",ROW()-1,"") | O80: =IF(G79="ModeTarification",ROW()-1,"") | P80: =IF(H79="effectif",ROW()-1,"")
A81: 2018 | B81: XXX | C81: 0 | N81: =IF(A80="SIRET",ROW()-1,"") | O81: =IF(G80="ModeTarification",ROW()-1,"") | P81: =IF(H80="effectif",ROW()-1,"")
A82: Total | B82: XXX | C82: 0 | N82: =IF(A81="SIRET",ROW()-1,"") | O82: =IF(G81="ModeTarification",ROW()-1,"") | P82: =IF(H81="effectif",ROW()-1,"")
N83: =IF(A82="SIRET",ROW()-1,"") | O83: =IF(G82="ModeTarification",ROW()-1,"") | P83: =IF(H82="effectif",ROW()-1,"")
A84: Détermination du taux de la section d'établissement | N84: =IF(A83="SIRET",ROW()-1,"") | O84: =IF(G83="ModeTarification",ROW()-1,"") | P84: =IF(H83="effectif",ROW()-1,"")
A85: Effectif : E | B85: XXX | N85: =IF(A84="SIRET",ROW()-1,"") | O85: =IF(G84="ModeTarification",ROW()-1,"") | P85: =IF(H84="effectif",ROW()-1,"")
A86: Taux brut : C=(Ax100)/B | B86: 0.0000 % | N86: =IF(A85="SIRET",ROW()-1,"") | O86: =IF(G85="ModeTarification",ROW()-1,"") | P86: =IF(H85="effectif",ROW()-1,"")
A87: Taux net : D = (C+X)x(1+Y)+(Z+Z') | B87: 0.6944 % | N87: =IF(A86="SIRET",ROW()-1,"") | O87: =IF(G86="ModeTarification",ROW()-1,"") | P87: =IF(H86="effectif",ROW()-1,"")
A88: Taux collectif : F | B88: 2.60 % | N88: =IF(A87="SIRET",ROW()-1,"") | O88: =IF(G87="ModeTarification",ROW()-1,"") | P88: =IF(H87="effectif",ROW()-1,"")
A89: Taux exercice antérieur | B89: 0.78 % | N89: =IF(A88="SIRET",ROW()-1,"") | O89: =IF(G88="ModeTarification",ROW()-1,"") | P89: =IF(H88="effectif",ROW()-1,"")
A90: Taux Individuel | B90: 0.69 % | N90: =IF(A89="SIRET",ROW()-1,"") | O90: =IF(G89="ModeTarification",ROW()-1,"") | P90: =IF(H89="effectif",ROW()-1,"")
N91: =IF(A90="SIRET",ROW()-1,"") | O91: =IF(G90="ModeTarification",ROW()-1,"") | P91: =IF(H90="effectif",ROW()-1,"")
A92: 4.Taux applicable | N92: =IF(A91="SIRET",ROW()-1,"") | O92: =IF(G91="ModeTarification",ROW()-1,"") | P92: =IF(H91="effectif",ROW()-1,"")
A93: NIC Section | B93: Valeur triennale risque section | C93: Salaires | D93: Taux brut section | E93: Taux Individuel | F93: Cotis Supp | G93: Cotis Compl | H93: Ristourne | I93: Taux applicable | J93: Date d'effet | K93: Date de notif | N93: =IF(A92="SIRET",ROW()-1,"") | O93: =IF(G92="ModeTarification",ROW()-1,"") | P93: =IF(H92="effectif",ROW()-1,"")
A94: XXX | B94: XXX | C94: XXX | D94: 0.0000 % | E94: 0.69 % | I94: 0.69 % | J94: 43831 | K94: 43820 | N94: =IF(A93="SIRET",ROW()-1,"") | O94: =IF(G93="ModeTarification",ROW()-1,"") | P94: =IF(H93="effectif",ROW()-1,"")

Sheet Rappel
D1: 2014 | J1: 2014 | N1: 2015 >>>>>>>> 2019
A2: SIRET | B2: TARIFICATION | C2: EFFECTIF | D2: CCM IT1 | E2: CCM IT2 | F2: CCM IT3 | G2: CCM IT4 | H2: CCM IT5 | I2: CCM IT6 | J2: CCM IP1 | K2: CCM IP2 | L2: CCM IP3 | M2: CCM IP4
A3: =IFERROR(INDEX(Feuil1!A$2:A$20000,SMALL(Feuil1!$N$2:$N$20000,ROWS($1:1))),"") -> 12345678912345 | B3: =IFERROR(INDEX(Feuil1!G$2:G$20000,SMALL(Feuil1!$O$2:$O$20000,ROWS($1:1))),"") -> Taux Individuel | C3: =IFERROR(INDEX(Feuil1!H$2:H$20000,SMALL(Feuil1!$P$2:$P$20000,ROWS($1:1))),"") -> 41 | D3: ?? | E3: ?? | F3: ?? | G3: ?? | H3: ?? | I3: ?? | J3: ?? | K3: ?? | L3: ?? | M3: ??
A4: =IFERROR(INDEX(Feuil1!A$2:A$20000,SMALL(Feuil1!$N$2:$N$20000,ROWS($1:2))),"") -> 98654712365478 | B4: =IFERROR(INDEX(Feuil1!G$2:G$20000,SMALL(Feuil1!$O$2:$O$20000,ROWS($1:2))),"") -> Taux Individuel | C4: =IFERROR(INDEX(Feuil1!H$2:H$20000,SMALL(Feuil1!$P$2:$P$20000,ROWS($1:2))),"") -> 7
A5: =IFERROR(INDEX(Feuil1!A$2:A$20000,SMALL(Feuil1!$N$2:$N$20000,ROWS($1:3))),"") | B5: =IFERROR(INDEX(Feuil1!G$2:G$20000,SMALL(Feuil1!$O$2:$O$20000,ROWS($1:3))),"") | C5: =IFERROR(INDEX(Feuil1!H$2:H$20000,SMALL(Feuil1!$P$2:$P$20000,ROWS($1:3))),"")
A6: =IFERROR(INDEX(Feuil1!A$2:A$20000,SMALL(Feuil1!$N$2:$N$20000,ROWS($1:4))),"") | B6: =IFERROR(INDEX(Feuil1!G$2:G$20000,SMALL(Feuil1!$O$2:$O$20000,ROWS($1:4))),"") | C6: =IFERROR(INDEX(Feuil1!H$2:H$20000,SMALL(Feuil1!$P$2:$P$20000,ROWS($1:4))),"")
A7: =IFERROR(INDEX(Feuil1!A$2:A$20000,SMALL(Feuil1!$N$2:$N$20000,ROWS($1:5))),"") | B7: =IFERROR(INDEX(Feuil1!G$2:G$20000,SMALL(Feuil1!$O$2:$O$20000,ROWS($1:5))),"") | C7: =IFERROR(INDEX(Feuil1!H$2:H$20000,SMALL(Feuil1!$P$2:$P$20000,ROWS($1:5))),"")
A8: =IFERROR(INDEX(Feuil1!A$2:A$20000,SMALL(Feuil1!$N$2:$N$20000,ROWS($1:6))),"") | B8: =IFERROR(INDEX(Feuil1!G$2:G$20000,SMALL(Feuil1!$O$2:$O$20000,ROWS($1:6))),"") | C8: =IFERROR(INDEX(Feuil1!H$2:H$20000,SMALL(Feuil1!$P$2:$P$20000,ROWS($1:6))),"")
A9: =IFERROR(INDEX(Feuil1!A$2:A$20000,SMALL(Feuil1!$N$2:$N$20000,ROWS($1:7))),"") | B9: =IFERROR(INDEX(Feuil1!G$2:G$20000,SMALL(Feuil1!$O$2:$O$20000,ROWS($1:7))),"") | C9: =IFERROR(INDEX(Feuil1!H$2:H$20000,SMALL(Feuil1!$P$2:$P$20000,ROWS($1:7))),"")
A10: =IFERROR(INDEX(Feuil1!A$2:A$20000,SMALL(Feuil1!$N$2:$N$20000,ROWS($1:8))),"") | B10: =IFERROR(INDEX(Feuil1!G$2:G$20000,SMALL(Feuil1!$O$2:$O$20000,ROWS($1:8))),"") | C10: =IFERROR(INDEX(Feuil1!H$2:H$20000,SMALL(Feuil1!$P$2:$P$20000,ROWS($1:8))),"")
A11: =IFERROR(INDEX(Feuil1!A$2:A$20000,SMALL(Feuil1!$N$2:$N$20000,ROWS($1:9))),"") | B11: =IFERROR(INDEX(Feuil1!G$2:G$20000,SMALL(Feuil1!$O$2:$O$20000,ROWS($1:9))),"") | C11: =IFERROR(INDEX(Feuil1!H$2:H$20000,SMALL(Feuil1!$P$2:$P$20000,ROWS($1:9))),"")
A12: =IFERROR(INDEX(Feuil1!A$2:A$20000,SMALL(Feuil1!$N$2:$N$20000,ROWS($1:10))),"") | B12: =IFERROR(INDEX(Feuil1!G$2:G$20000,SMALL(Feuil1!$O$2:$O$20000,ROWS($1:10))),"") | C12: =IFERROR(INDEX(Feuil1!H$2:H$20000,SMALL(Feuil1!$P$2:$P$20000,ROWS($1:10))),"")
A13: =IFERROR(INDEX(Feuil1!A$2:A$20000,SMALL(Feuil1!$N$2:$N$20000,ROWS($1:11))),"") | B13: =IFERROR(INDEX(Feuil1!G$2:G$20000,SMALL(Feuil1!$O$2:$O$20000,ROWS($1:11))),"") | C13: =IFERROR(INDEX(Feuil1!H$2:H$20000,SMALL(Feuil1!$P$2:$P$20000,ROWS($1:11))),"")
A14: =IFERROR(INDEX(Feuil1!A$2:A$20000,SMALL(Feuil1!$N$2:$N$20000,ROWS($1:12))),"") | B14: =IFERROR(INDEX(Feuil1!G$2:G$20000,SMALL(Feuil1!$O$2:$O$20000,ROWS($1:12))),"") | C14: =IFERROR(INDEX(Feuil1!H$2:H$20000,SMALL(Feuil1!$P$2:$P$20000,ROWS($1:12))),"")
A15: =IFERROR(INDEX(Feuil1!A$2:A$20000,SMALL(Feuil1!$N$2:$N$20000,ROWS($1:13))),"") | B15: =IFERROR(INDEX(Feuil1!G$2:G$20000,SMALL(Feuil1!$O$2:$O$20000,ROWS($1:13))),"") | C15: =IFERROR(INDEX(Feuil1!H$2:H$20000,SMALL(Feuil1!$P$2:$P$20000,ROWS($1:13))),"")
