Workbook

Sheet Feuil1
A1: Toutes les feuilles de calcul | N1: SIRET | O1: TARIFICATION | P1: Effectif
N2: =IF(A1="SIRET",ROW()-1,"") | O2: =IF(G1="ModeTarification",ROW()-1,"") | P2: =IF(H1="effectif",ROW()-1,"")
A3: FEUILLE DE CALCUL DU TAUX NOTIFIEE LE 20/12/2019 A XXXXXXXXXXXXX | N3: =IF(A2="SIRET",ROW()-1,"") | O3: =IF(G2="ModeTarification",ROW()-1,"") | P3: =IF(H2="effectif",ROW()-1,"")
N4: =IF(A3="SIRET",ROW()-1,"") | O4: =IF(G3="ModeTarification",ROW()-1,"") | P4: =IF(H3="effectif",ROW()-1,"")
A5: 1. Références | N5: =IF(A4="SIRET",ROW()-1,"") | O5: =IF(G4="ModeTarification",ROW()-1,"") | P5: =IF(H4="effectif",ROW()-1,"")
A6: SIRET | B6: Section | C6: Risque | D6: Fonctions supports | E6: CTN | F6: LibelléRisque | G6: ModeTarification | H6: effectif | I6: Option tarifaire | J6: LieuRisque | K6: URSSAF | L6: REFURSSAF | N6: =IF(A5="SIRET",ROW()-1,"") | O6: =IF(G5="ModeTarification",ROW()-1,"") | P6: =IF(H5="effectif",ROW()-1,"")
A7: 12345678912345 | B7: 1 | C7: XXX | D7: non | E7: DD | F7: Commerce de détail de produits laitiers, de produits surgelés, de fruits et légumes, de boissons et d'alimentation générale | G7: Taux Individuel | H7: 41 | I7: Etablissement | J7: XXX | K7: XXX | L7: XXX | N7: =IF(A6="SIRET",ROW()-1,"") -> 6 | O7: =IF(G6="ModeTarification",ROW()-1,"") -> 6 | P7: =IF(H6="effectif",ROW()-1,"") -> 6
N8: =IF(A7="SIRET",ROW()-1,"") | O8: =IF(G7="ModeTarification",ROW()-1,"") | P8: =IF(H7="effectif",ROW()-1,"")
A9: 2. Paramètres Nationaux | N9: =IF(A8="SIRET",ROW()-1,"") | O9: =IF(G8="ModeTarification",ROW()-1,"") | P9: =IF(H8="effectif",ROW()-1,"")
A10: MAJORATIONS - EXERCICE 2020 | N10: =IF(A9="SIRET",ROW()-1,"") | O10: =IF(G9="ModeTarification",ROW()-1,"") | P10: =IF(H9="effectif",ROW()-1,"")
A11: Majoration Trajet - X - | B11: Charges - Y - | C11: Compensation - Z - | D11: Pénibilité -Z'- | N11: =IF(A10="SIRET",ROW()-1,"") | O11: =IF(G10="ModeTarification",ROW()-1,"") | P11: =IF(H10="effectif",ROW()-1,"")
A12: 0.18 | B12: 58.0 % | C12: 0.38 | D12: 0.03 | N12: =IF(A11="SIRET",ROW()-1,"") | O12: =IF(G11="ModeTarification",ROW()-1,"") | P12: =IF(H11="effectif",ROW()-1,"")
N13: =IF(A12="SIRET",ROW()-1,"") | O13: =IF(G12="ModeTarification",ROW()-1,"") | P13: =IF(H12="effectif",ROW()-1,"")
A14: TARIFS - EXERCICE 2020 | CTN D | N14: =IF(A13="SIRET",ROW()-1,"") | O14: =IF(G13="ModeTarification",ROW()-1,"") | P14: =IF(H13="effectif",ROW()-1,"")
A15: CCM IT1 | B15: CCM IT2 | C15: CCM IT3 | D15: CCM IT4 | E15: CCM IT5 | F15: CCM IT6 | G15: CCM IP1 | H15: CCM IP2 | I15: CCM IP3 | J15: CCM IP4 | N15: =IF(A14="SIRET",ROW()-1,"") | O15: =IF(G14="ModeTarification",ROW()-1,"") | P15: =IF(H14="effectif",ROW()-1,"")
A16: 425 | B16: 469 | C16: 1521 | D16: 4308 | E16: 8142 | F16: 28560 | G16: 2192 | H16: 51379 | I16: 98480 | J16: 401911 | N16: =IF(A15="SIRET",ROW()-1,"") | O16: =IF(G15="ModeTarification",ROW()-1,"") | P16: =IF(H15="effectif",ROW()-1,"")
N17: =IF(A16="SIRET",ROW()-1,"") | O17: =IF(G16="ModeTarification",ROW()-1,"") | P17: =IF(H16="effectif",ROW()-1,"")
A18: 3. Compte Triennal | N18: =IF(A17="SIRET",ROW()-1,"") | O18: =IF(G17="ModeTarification",ROW()-1,"") | P18: =IF(H17="effectif",ROW()-1,"")
A19: Détermination de la valeur du risque | N19: =IF(A18="SIRET",ROW()-1,"") | O19: =IF(G18="ModeTarification",ROW()-1,"") | P19: =IF(H18="effectif",ROW()-1,"")
A20: Année | B20: CCM IT1 | C20: CCM IT2 | D20: CCM IT3 | E20: CCM IT4 | F20: CCM IT5 | G20: CCM IT6 | H20: CCM IP1 | I20: CCM IP2 | J20: CCM IP3 | K20: CCM IP4 | L20: Valeur du risque | N20: =IF(A19="SIRET",ROW()-1,"") | O20: =IF(G19="ModeTarification",ROW()-1,"") | P20: =IF(H19="effectif",ROW()-1,"")
A21: 2016 | C21: 2 | D21: 1 | G21: 1 | H21: 1.0 | L21: 33211 | N21: =IF(A20="SIRET",ROW()-1,"") | O21: =IF(G20="ModeTarification",ROW()-1,"") | P21: =IF(H20="effectif",ROW()-1,"")
A22: 2017 | H22: 2.0 | L22: 4384 | N22: =IF(A21="SIRET",ROW()-1,"") | O22: =IF(G21="ModeTarification",ROW()-1,"") | P22: =IF(H21="effectif",ROW()-1,"")
A23: 2018 | D23: 1 | L23: 1521 | N23: =IF(A22="SIRET",ROW()-1,"") | O23: =IF(G22="ModeTarification",ROW()-1,"") | P23: =IF(H22="effectif",ROW()-1,"")
A24: Total | B24: 0 | C24: 2 | D24: 2 | E24: 0 | F24: 0 | G24: 1 | H24: 3.0 | I24: 0.0 | J24: 0.0 | K24: 0.0 | L24: 39116 | N24: =IF(A23="SIRET",ROW()-1,"") | O24: =IF(G23="ModeTarification",ROW()-1,"") | P24: =IF(H23="effectif",ROW()-1,"")
A25: Valeur du Risque par CCM | B25: 0 | C25: 938 | D25: 3042 | E25: 0 | F25: 0 | G25: 28560 | H25: 6576 | I25: 0 | J25: 0 | K25: 0 | N25: =IF(A24="SIRET",ROW()-1,"") | O25: =IF(G24="ModeTarification",ROW()-1,"") | P25: =IF(H24="effectif",ROW()-1,"")
N26: =IF(A25="SIRET",ROW()-1,"") | O26: =IF(G25="ModeTarification",ROW()-1,"") | P26: =IF(H25="effectif",ROW()-1,"")
A27: Valeur du risque = somme du nombre de sinistres par CCM x tarif du CCM correspondant | N27: =IF(A26="SIRET",ROW()-1,"") | O27: =IF(G26="ModeTarification",ROW()-1,"") | P27: =IF(H26="effectif",ROW()-1,"")
N28: =IF(A27="SIRET",ROW()-1,"") | O28: =IF(G27="ModeTarification",ROW()-1,"") | P28: =IF(H27="effectif",ROW()-1,"")
A29: Détermination de la valeur total du risque | N29: =IF(A28="SIRET",ROW()-1,"") | O29: =IF(G28="ModeTarification",ROW()-1,"") | P29: =IF(H28="effectif",ROW()-1,"")
A30: Valeur totale du Risque(A) : 39116 | N30: =IF(A29="SIRET",ROW()-1,"") | O30: =IF(G29="ModeTarification",ROW()-1,"") | P30: =IF(H29="effectif",ROW()-1,"")
N31: =IF(A30="SIRET",ROW()-1,"") | O31: =IF(G30="ModeTarification",ROW()-1,"") | P31: =IF(H30="effectif",ROW()-1,"")
B32: Masse salariale (B) | C32: Valeur du Risque (A) | N32: =IF(A31="SIRET",ROW()-1,"") | O32: =IF(G31="ModeTarification",ROW()-1,"") | P32: =IF(H31="effectif",ROW()-1,"")
A33: 2016 | B33: XXXXX | C33: XXXX | N33: =IF(A32="SIRET",ROW()-1,"") | O33: =IF(G32="ModeTarification",ROW()-1,"") | P33: =IF(H32="effectif",ROW()-1,"")
A34: 2017 | B34: XXXXX | C34: XXXX | N34: =IF(A33="SIRET",ROW()-1,"") | O34: =IF(G33="ModeTarification",ROW()-1,"") | P34: =IF(H33="effectif",ROW()-1,"")
A35: 2018 | B35: XXXXX | C35: XXXX | N35: =IF(A34="SIRET",ROW()-1,"") | O35: =IF(G34="ModeTarification",ROW()-1,"") | P35: =IF(H34="effectif",ROW()-1,"")
A36: Total | B36: XXXXX | C36: XXXX | N36: =IF(A35="SIRET",ROW()-1,"") | O36: =IF(G35="ModeTarification",ROW()-1,"") | P36: =IF(H35="effectif",ROW()-1,"")
N37: =IF(A36="SIRET",ROW()-1,"") | O37: =IF(G36="ModeTarification",ROW()-1,"") | P37: =IF(H36="effectif",ROW()-1,"")
A38: Détermination du taux de la section d'établissement | N38: =IF(A37="SIRET",ROW()-1,"") | O38: =IF(G37="ModeTarification",ROW()-1,"") | P38: =IF(H37="effectif",ROW()-1,"")
A39: Effectif : E | B39: XXXX | N39: =IF(A38="SIRET",ROW()-1,"") | O39: =IF(G38="ModeTarification",ROW()-1,"") | P39: =IF(H38="effectif",ROW()-1,"")
A40: Taux brut : C=(Ax100)/B | B40: 1.3621 % | N40: =IF(A39="SIRET",ROW()-1,"") | O40: =IF(G39="ModeTarification",ROW()-1,"") | P40: =IF(H39="effectif",ROW()-1,"")
...

Sheet Rappel
D1: 2014 | J1: 2014 | N1: 2015 >>>>>>>> 2019
A2: SIRET | B2: TARIFICATION | C2: EFFECTIF | D2: CCM IT1 | E2: CCM IT2 | F2: CCM IT3 | G2: CCM IT4 | H2: CCM IT5 | I2: CCM IT6 | J2: CCM IP1 | K2: CCM IP2 | L2: CCM IP3 | M2: CCM IP4
A3: =IFERROR(INDEX(Feuil1!A$2:A$20000,SMALL(Feuil1!$N$2:$N$20000,ROWS($1:1))),"") -> 12345678912345 | B3: =IFERROR(INDEX(Feuil1!G$2:G$20000,SMALL(Feuil1!$O$2:$O$20000,ROWS($1:1))),"") -> Taux Individuel | C3: =IFERROR(INDEX(Feuil1!H$2:H$20000,SMALL(Feuil1!$P$2:$P$20000,ROWS($1:1))),"") -> 41 | D3: ?? | E3: ?? | F3: ?? | G3: ?? | H3: ?? | I3: ?? | J3: ?? | K3: ?? | L3: ?? | M3: ??
A4: =IFERROR(INDEX(Feuil1!A$2:A$20000,SMALL(Feuil1!$N$2:$N$20000,ROWS($1:2))),"") -> 98654712365478 | B4: =IFERROR(INDEX(Feuil1!G$2:G$20000,SMALL(Feuil1!$O$2:$O$20000,ROWS($1:2))),"") -> Taux Individuel | C4: =IFERROR(INDEX(Feuil1!H$2:H$20000,SMALL(Feuil1!$P$2:$P$20000,ROWS($1:2))),"") -> 7
A5: =IFERROR(INDEX(Feuil1!A$2:A$20000,SMALL(Feuil1!$N$2:$N$20000,ROWS($1:3))),"") | B5: =IFERROR(INDEX(Feuil1!G$2:G$20000,SMALL(Feuil1!$O$2:$O$20000,ROWS($1:3))),"") | C5: =IFERROR(INDEX(Feuil1!H$2:H$20000,SMALL(Feuil1!$P$2:$P$20000,ROWS($1:3))),"")
A6: =IFERROR(INDEX(Feuil1!A$2:A$20000,SMALL(Feuil1!$N$2:$N$20000,ROWS($1:4))),"") | B6: =IFERROR(INDEX(Feuil1!G$2:G$20000,SMALL(Feuil1!$O$2:$O$20000,ROWS($1:4))),"") | C6: =IFERROR(INDEX(Feuil1!H$2:H$20000,SMALL(Feuil1!$P$2:$P$20000,ROWS($1:4))),"")
A7: =IFERROR(INDEX(Feuil1!A$2:A$20000,SMALL(Feuil1!$N$2:$N$20000,ROWS($1:5))),"") | B7: =IFERROR(INDEX(Feuil1!G$2:G$20000,SMALL(Feuil1!$O$2:$O$20000,ROWS($1:5))),"") | C7: =IFERROR(INDEX(Feuil1!H$2:H$20000,SMALL(Feuil1!$P$2:$P$20000,ROWS($1:5))),"")
A8: =IFERROR(INDEX(Feuil1!A$2:A$20000,SMALL(Feuil1!$N$2:$N$20000,ROWS($1:6))),"") | B8: =IFERROR(INDEX(Feuil1!G$2:G$20000,SMALL(Feuil1!$O$2:$O$20000,ROWS($1:6))),"") | C8: =IFERROR(INDEX(Feuil1!H$2:H$20000,SMALL(Feuil1!$P$2:$P$20000,ROWS($1:6))),"")
A9: =IFERROR(INDEX(Feuil1!A$2:A$20000,SMALL(Feuil1!$N$2:$N$20000,ROWS($1:7))),"") | B9: =IFERROR(INDEX(Feuil1!G$2:G$20000,SMALL(Feuil1!$O$2:$O$20000,ROWS($1:7))),"") | C9: =IFERROR(INDEX(Feuil1!H$2:H$20000,SMALL(Feuil1!$P$2:$P$20000,ROWS($1:7))),"")
A10: =IFERROR(INDEX(Feuil1!A$2:A$20000,SMALL(Feuil1!$N$2:$N$20000,ROWS($1:8))),"") | B10: =IFERROR(INDEX(Feuil1!G$2:G$20000,SMALL(Feuil1!$O$2:$O$20000,ROWS($1:8))),"") | C10: =IFERROR(INDEX(Feuil1!H$2:H$20000,SMALL(Feuil1!$P$2:$P$20000,ROWS($1:8))),"")
A11: =IFERROR(INDEX(Feuil1!A$2:A$20000,SMALL(Feuil1!$N$2:$N$20000,ROWS($1:9))),"") | B11: =IFERROR(INDEX(Feuil1!G$2:G$20000,SMALL(Feuil1!$O$2:$O$20000,ROWS($1:9))),"") | C11: =IFERROR(INDEX(Feuil1!H$2:H$20000,SMALL(Feuil1!$P$2:$P$20000,ROWS($1:9))),"")
A12: =IFERROR(INDEX(Feuil1!A$2:A$20000,SMALL(Feuil1!$N$2:$N$20000,ROWS($1:10))),"") | B12: =IFERROR(INDEX(Feuil1!G$2:G$20000,SMALL(Feuil1!$O$2:$O$20000,ROWS($1:10))),"") | C12: =IFERROR(INDEX(Feuil1!H$2:H$20000,SMALL(Feuil1!$P$2:$P$20000,ROWS($1:10))),"")
A13: =IFERROR(INDEX(Feuil1!A$2:A$20000,SMALL(Feuil1!$N$2:$N$20000,ROWS($1:11))),"") | B13: =IFERROR(INDEX(Feuil1!G$2:G$20000,SMALL(Feuil1!$O$2:$O$20000,ROWS($1:11))),"") | C13: =IFERROR(INDEX(Feuil1!H$2:H$20000,SMALL(Feuil1!$P$2:$P$20000,ROWS($1:11))),"")
A14: =IFERROR(INDEX(Feuil1!A$2:A$20000,SMALL(Feuil1!$N$2:$N$20000,ROWS($1:12))),"") | B14: =IFERROR(INDEX(Feuil1!G$2:G$20000,SMALL(Feuil1!$O$2:$O$20000,ROWS($1:12))),"") | C14: =IFERROR(INDEX(Feuil1!H$2:H$20000,SMALL(Feuil1!$P$2:$P$20000,ROWS($1:12))),"")
A15: =IFERROR(INDEX(Feuil1!A$2:A$20000,SMALL(Feuil1!$N$2:$N$20000,ROWS($1:13))),"") | B15: =IFERROR(INDEX(Feuil1!G$2:G$20000,SMALL(Feuil1!$O$2:$O$20000,ROWS($1:13))),"") | C15: =IFERROR(INDEX(Feuil1!H$2:H$20000,SMALL(Feuil1!$P$2:$P$20000,ROWS($1:13))),"")
