Workbook

Sheet Détail contact
A1: Contact nouveaux employés
A3: Nom | B3: Prénom | C3: Adresse | D3: Ville | E3: Téléphone | F3: N° AVS | G3: Iban
A4: pif | B4: Arnaud
A5: paf | B5: Gaspart
A6: pouf | B6: Donatien
A7: nif nif | B7: Gabriel
A8: naf naf | B8: élisa

Sheet Données
A1: ='Détail contact'!$B4 -> Arnaud | B1: ='Détail contact'!$A4 -> pif | C1: =CONCATENATE($A1," ",$B1) -> Arnaud pif | G1: Année | H1: 2021
A2: ='Détail contact'!$B5 -> Gaspart | B2: ='Détail contact'!$A5 -> paf | C2: =CONCATENATE($A2," ",$B2) -> Gaspart paf | E2: complet | I2: 100
A3: ='Détail contact'!$B6 -> Donatien | B3: ='Détail contact'!$A6 -> pouf | C3: =CONCATENATE($A3," ",$B3) -> Donatien pouf | E3: Demi
A4: ='Détail contact'!$B7 -> Gabriel | B4: ='Détail contact'!$A7 -> nif nif | C4: =CONCATENATE($A4," ",$B4) -> Gabriel nif nif | E4: Quart
A5: ='Détail contact'!$B8 -> élisa | B5: ='Détail contact'!$A8 -> naf naf | C5: =CONCATENATE($A5," ",$B5) -> élisa naf naf
A6: ='Détail contact'!$B9 -> 0 | B6: ='Détail contact'!$A9 -> 0 | C6: =CONCATENATE($A6," ",$B6) -> 0 0
A7: ='Détail contact'!$B10 -> 0 | B7: ='Détail contact'!$A10 -> 0 | C7: =CONCATENATE($A7," ",$B7) -> 0 0
A8: ='Détail contact'!$B11 -> 0 | B8: ='Détail contact'!$A11 -> 0 | C8: =CONCATENATE($A8," ",$B8) -> 0 0
A9: ='Détail contact'!$B12 -> 0 | B9: ='Détail contact'!$A12 -> 0 | C9: =CONCATENATE($A9," ",$B9) -> 0 0
A10: ='Détail contact'!$B13 -> 0 | B10: ='Détail contact'!$A13 -> 0 | C10: =CONCATENATE($A10," ",$B10) -> 0 0
A11: ='Détail contact'!$B14 -> 0 | B11: ='Détail contact'!$A14 -> 0 | C11: =CONCATENATE($A11," ",$B11) -> 0 0
A12: ='Détail contact'!$B15 -> 0 | B12: ='Détail contact'!$A15 -> 0 | C12: =CONCATENATE($A12," ",$B12) -> 0 0
A13: ='Détail contact'!$B16 -> 0 | B13: ='Détail contact'!$A16 -> 0 | C13: =CONCATENATE($A13," ",$B13) -> 0 0
A14: ='Détail contact'!$B17 -> 0 | B14: ='Détail contact'!$A17 -> 0 | C14: =CONCATENATE($A14," ",$B14) -> 0 0
A15: ='Détail contact'!$B18 -> 0 | B15: ='Détail contact'!$A18 -> 0 | C15: =CONCATENATE($A15," ",$B15) -> 0 0
A16: ='Détail contact'!$B19 -> 0 | B16: ='Détail contact'!$A19 -> 0 | C16: =CONCATENATE($A16," ",$B16) -> 0 0
... A31: ='Détail contact'!$B34 -> 0 | B31: ='Détail contact'!$A34 -> 0 | C31: =CONCATENATE($A31," ",$B31) -> 0 0

Sheet Resumé de l'année
A1: certificat de salaire | C1: ou total actuler
A2: =Données!$C1 -> Arnaud pif
A3: =Données!$C2 -> Gaspart paf
A4: =Données!$C3 -> Donatien pouf
A5: =Données!$C4 -> Gabriel nif nif
A6: =Données!$C5 -> élisa naf naf
A7: =Données!$C6 -> 0 0
A8: =Données!$C7 -> 0 0
A9: =Données!$C8 -> 0 0
A10: =Données!$C9 -> 0 0
A11: =Données!$C10 -> 0 0
A12: =Données!$C11 -> 0 0
A13: =Données!$C12 -> 0 0
... A18: =Données!$C17 -> 0 0

Sheet Janvier
B2: Feuille de jours de travail - Janvier 2020
B4: Nettoyages année 2020 - Décompte des jours
B8: 1 | C8: mois
B9: Date | C9: Jour | D9: Nom Prénom | E9: Salarié | F9: Nom Prénom | G9: Salarié | H9: Nom Prénom | I9: Salarié | J9: Nom Prénom | K9: Salarié
B10: 1 | C10: =DATE(Données!$H$1,$B$8,B10) -> 44197
B11: 2 | C11: =DATE(Données!$H$1,$B$8,B11) -> 44198
B12: 3 | C12: =DATE(Données!$H$1,$B$8,B12) -> 44199
B13: 4 | C13: =DATE(Données!$H$1,$B$8,B13) -> 44200 | D13: Arnaud pif | E13: complet
B14: 5 | C14: =DATE(Données!$H$1,$B$8,B14) -> 44201
B15: 6 | C15: =DATE(Données!$H$1,$B$8,B15) -> 44202
B16: 7 | C16: =DATE(Données!$H$1,$B$8,B16) -> 44203 | D16: Gabriel nif nif | E16: Quart
B17: 8 | C17: =DATE(Données!$H$1,$B$8,B17) -> 44204
B18: 9 | C18: =DATE(Données!$H$1,$B$8,B18) -> 44205 | D18: Arnaud pif | E18: complet
B19: 10 | C19: =DATE(Données!$H$1,$B$8,B19) -> 44206
B20: 11 | C20: =DATE(Données!$H$1,$B$8,B20) -> 44207 | D20: Gaspart paf | E20: Demi
B21: 12 | C21: =DATE(Données!$H$1,$B$8,B21) -> 44208
B22: 13 | C22: =DATE(Données!$H$1,$B$8,B22) -> 44209
B23: 14 | C23: =DATE(Données!$H$1,$B$8,B23) -> 44210
B24: 15 | C24: =DATE(Données!$H$1,$B$8,B24) -> 44211 | D24: Arnaud pif | E24: complet
B25: 16 | C25: =DATE(Données!$H$1,$B$8,B25) -> 44212 | D25: Donatien pouf | E25: Demi
B26: 17 | C26: =DATE(Données!$H$1,$B$8,B26) -> 44213
B27: 18 | C27: =DATE(Données!$H$1,$B$8,B27) -> 44214
B28: 19 | C28: =DATE(Données!$H$1,$B$8,B28) -> 44215
B29: 20 | C29: =DATE(Données!$H$1,$B$8,B29) -> 44216
B30: 21 | C30: =DATE(Données!$H$1,$B$8,B30) -> 44217
B31: 22 | C31: =DATE(Données!$H$1,$B$8,B31) -> 44218
B32: 23 | C32: =DATE(Données!$H$1,$B$8,B32) -> 44219
B33: 24 | C33: =DATE(Données!$H$1,$B$8,B33) -> 44220
B34: 25 | C34: =DATE(Données!$H$1,$B$8,B34) -> 44221
B35: 26 | C35: =DATE(Données!$H$1,$B$8,B35) -> 44222
B36: 27 | C36: =DATE(Données!$H$1,$B$8,B36) -> 44223
B37: 28 | C37: =DATE(Données!$H$1,$B$8,B37) -> 44224
... B40: 31 | C40: =DATE(Données!$H$1,$B$8,B40) -> 44227
B43: totaux du mois
B44: Colonne1 | C44: Colonne2 | D44: Colonne3 | E44: Colonne4
B45: Qui | D45: Nombre de service | E45: salaire net
B46: =Données!C1 -> Arnaud pif | D46: 10.5 | E46: =D46*Données!$I$2 -> 1050
B47: =Données!C2 -> Gaspart paf | E47: =D47*Données!$I$2 -> 0
B48: =Données!C3 -> Donatien pouf | E48: =D48*Données!$I$2 -> 0
B49: =Données!C4 -> Gabriel nif nif | E49: =D49*Données!$I$2 -> 0
...

Sheet Février
B2: Feuille de jours de travail - Février 2020
B4: Nettoyages année 2020 - Décompte des jours
B9: Date | C9: Jour | D9: Nom Prénom | E9: Salarié | F9: Nom Prénom | G9: Salarié | H9: Nom Prénom | I9: Salarié | J9: Nom Prénom | K9: Salarié
B10: 1 | C10: Samedi
B11: 2 | C11: Dimanche
B12: 3 | C12: Lundi
B13: 4 | C13: Mardi
B14: 5 | C14: Mercredi
B15: 6 | C15: Jeudi
B16: 7 | C16: Vendredi
B17: 8 | C17: Samedi
B18: 9 | C18: Dimanche
B19: 10 | C19: Lundi
B20: 11 | C20: Mardi
B21: 12 | C21: Mercredi
B22: 13 | C22: Jeudi | D22: Justin Vermot | E22: x
B23: 14 | C23: Vendredi | D23: Pierre | E23: x
B24: 15 | C24: Samedi | D24: Arnaud Roulet | E24: Demi nettoyage | F24: Gabriel | G24: Demi nettoyage
B25: 16 | C25: Dimanche
B26: 17 | C26: Lundi
B27: 18 | C27: Mardi
B28: 19 | C28: Mercredi
B29: 20 | C29: Jeudi
B30: 21 | C30: Vendredi
B31: 22 | C31: Samedi
B32: 23 | C32: Dimanche
B33: 24 | C33: Lundi
B34: 25 | C34: Mardi
B35: 26 | C35: Mercredi
B36: 27 | C36: Jeudi
B37: 28 | C37: Vendredi

Sheet Mars
B2: Feuille de jours de travail - Mars 2020
B4: Nettoyages année 2020 - Décompte des jours
B9: Date | C9: Jour | D9: Nom Prénom | E9: Salarié | F9: Nom Prénom | G9: Salarié | H9: Nom Prénom | I9: Salarié | J9: Nom Prénom | K9: Salarié
B10: 1 | C10: Dimanche
B11: 2 | C11: Lundi
B12: 3 | C12: Mardi
B13: 4 | C13: Mercredi
B14: 5 | C14: Jeudi
B15: 6 | C15: Vendredi
B16: 7 | C16: Samedi
B17: 8 | C17: Dimanche
B18: 9 | C18: Lundi
B19: 10 | C19: Mardi
B20: 11 | C20: Mercredi
B21: 12 | C21: Jeudi
... B40: 31 | C40: Mardi

Sheet Avril
B2: Feuille de jours de travail - Avril 2020
B4: Nettoyages année 2020 - Décompte des jours
B9: Date | C9: Jour | D9: Nom Prénom | E9: Salarié | F9: Nom Prénom | G9: Salarié | H9: Nom Prénom | I9: Salarié | J9: Nom Prénom | K9: Salarié
B10: 1 | C10: Mercredi
B11: 2 | C11: Jeudi
B12: 3 | C12: Vendredi
B13: 4 | C13: Samedi
B14: 5 | C14: Dimanche
B15: 6 | C15: Lundi
B16: 7 | C16: Mardi
B17: 8 | C17: Mercredi
B18: 9 | C18: Jeudi
B19: 10 | C19: Vendredi
B20: 11 | C20: Samedi
B21: 12 | C21: Dimanche
... B39: 30 | C39: Jeudi

Sheet Mai
B2: Feuille de jours de travail - Mai 2020
B4: Nettoyages année 2020 - Décompte des jours
B9: Date | C9: Jour | D9: Nom Prénom | E9: Salarié | F9: Nom Prénom | G9: Salarié | H9: Nom Prénom | I9: Salarié | J9: Nom Prénom | K9: Salarié
B10: 1 | C10: Vendredi
B11: 2 | C11: Samedi
B12: 3 | C12: Dimanche
B13: 4 | C13: Lundi
B14: 5 | C14: Mardi
B15: 6 | C15: Mercredi
B16: 7 | C16: Jeudi
B17: 8 | C17: Vendredi
B18: 9 | C18: Samedi
B19: 10 | C19: Dimanche
B20: 11 | C20: Lundi
B21: 12 | C21: Mardi
... B40: 31 | C40: Dimanche

Sheet Juin
B2: Feuille de jours de travail - Juin 2020
B4: Nettoyages année 2020 - Décompte des jours
B9: Date | C9: Jour | D9: Nom Prénom | E9: Salarié | F9: Nom Prénom | G9: Salarié | H9: Nom Prénom | I9: Salarié | J9: Nom Prénom | K9: Salarié
B10: 1 | C10: Lundi
B11: 2 | C11: Mardi
B12: 3 | C12: Mercredi
B13: 4 | C13: Jeudi
B14: 5 | C14: Vendredi
B15: 6 | C15: Samedi
B16: 7 | C16: Dimanche
B17: 8 | C17: Lundi
B18: 9 | C18: Mardi
B19: 10 | C19: Mercredi
B20: 11 | C20: Jeudi
B21: 12 | C21: Vendredi
... B39: 30 | C39: Mardi

Sheet Juillet
B2: Feuille de jours de travail - Juillet 2020
B4: Nettoyages année 2020 - Décompte des jours
B9: Date | C9: Jour | D9: Nom Prénom | E9: Indépendant /Salarié | F9: Nom Prénom | G9: Indépendant /Salarié | H9: Nom Prénom | I9: Indépendant /Salarié | J9: Nom Prénom | K9: Indépendant /Salarié
B10: 1 | C10: Mercredi
B11: 2 | C11: Jeudi
B12: 3 | C12: Vendredi
B13: 4 | C13: Samedi
B14: 5 | C14: Dimanche
B15: 6 | C15: Lundi
B16: 7 | C16: Mardi
B17: 8 | C17: Mercredi
B18: 9 | C18: Jeudi
B19: 10 | C19: Vendredi
B20: 11 | C20: Samedi
B21: 12 | C21: Dimanche
... B40: 31 | C40: Vendredi

Sheet Août
B2: Feuille de jours de travail - Août 2020
B4: Nettoyages année 2020 - Décompte des jours
B9: Date | C9: Jour | D9: Nom Prénom | E9: Indépendant /Salarié | F9: Nom Prénom | G9: Indépendant /Salarié | H9: Nom Prénom | I9: Indépendant /Salarié | J9: Nom Prénom | K9: Indépendant /Salarié
B10: 1 | C10: Samedi
B11: 2 | C11: Dimanche
B12: 3 | C12: Lundi
B13: 4 | C13: Mardi
B14: 5 | C14: Mercredi
B15: 6 | C15: Jeudi
B16: 7 | C16: Vendredi
B17: 8 | C17: Samedi
B18: 9 | C18: Dimanche
B19: 10 | C19: Lundi
B20: 11 | C20: Mardi
B21: 12 | C21: Mercredi
... B40: 31 | C40: Lundi

Sheet Septembre
B2: Feuille de jours de travail - Septembre 2020
B4: Nettoyages année 2020 - Décompte des jours
B9: Date | C9: Jour | D9: Nom Prénom | E9: Indépendant /Salarié | F9: Nom Prénom | G9: Indépendant /Salarié | H9: Nom Prénom | I9: Indépendant /Salarié | J9: Nom Prénom | K9: Indépendant /Salarié
B10: 1 | C10: Mardi
B11: 2 | C11: Mercredi
B12: 3 | C12: Jeudi
B13: 4 | C13: Vendredi
B14: 5 | C14: Samedi
B15: 6 | C15: Dimanche
B16: 7 | C16: Lundi
B17: 8 | C17: Mardi
B18: 9 | C18: Mercredi
B19: 10 | C19: Jeudi
B20: 11 | C20: Vendredi
B21: 12 | C21: Samedi
... B39: 30 | C39: Mercredi

Sheet Octobre
B2: Feuille de jours de travail - Octobre 2020
B4: Nettoyages année 2020 - Décompte des jours
B9: Date | C9: Jour | D9: Nom Prénom | E9: Indépendant /Salarié | F9: Nom Prénom | G9: Indépendant /Salarié | H9: Nom Prénom | I9: Indépendant /Salarié | J9: Nom Prénom | K9: Indépendant /Salarié
B10: 1 | C10: Jeudi
B11: 2 | C11: Vendredi
B12: 3 | C12: Samedi
B13: 4 | C13: Dimanche
B14: 5 | C14: Lundi
B15: 6 | C15: Mardi
B16: 7 | C16: Mercredi
B17: 8 | C17: Jeudi
B18: 9 | C18: Vendredi
B19: 10 | C19: Samedi
B20: 11 | C20: Dimanche
B21: 12 | C21: Lundi
... B40: 31 | C40: Samedi

Sheet Novembre
B2: Feuille de jours de travail - Novembre 2020
B4: Nettoyages année 2020 - Décompte des jours
B9: Date | C9: Jour | D9: Nom Prénom | E9: Salarié | F9: Nom Prénom | G9: Salarié | H9: Nom Prénom | I9: Salarié | J9: Nom Prénom | K9: Salarié
B10: 1 | C10: Dimanche
B11: 2 | C11: Lundi
B12: 3 | C12: Mardi
B13: 4 | C13: Mercredi
B14: 5 | C14: Jeudi
B15: 6 | C15: Vendredi
B16: 7 | C16: Samedi
B17: 8 | C17: Dimanche
B18: 9 | C18: Lundi
B19: 10 | C19: Mardi
B20: 11 | C20: Mercredi
B21: 12 | C21: Jeudi
... B39: 30 | C39: Lundi

Sheet Décembre
B2: Feuille de jours de travail - Décembre 2020
B4: Nettoyages année 2020 - Décompte des jours
B9: Date | C9: Jour | D9: Nom Prénom | E9: Indépendant /Salarié | F9: Nom Prénom | G9: Indépendant /Salarié | H9: Nom Prénom | I9: Indépendant /Salarié | J9: Nom Prénom | K9: Indépendant /Salarié
B10: 1 | C10: Mardi
B11: 2 | C11: Mercredi
B12: 3 | C12: Jeudi
B13: 4 | C13: Vendredi
B14: 5 | C14: Samedi
B15: 6 | C15: Dimanche
B16: 7 | C16: Lundi
B17: 8 | C17: Mardi
B18: 9 | C18: Mercredi
B19: 10 | C19: Jeudi
B20: 11 | C20: Vendredi
B21: 12 | C21: Samedi
... B40: 31 | C40: Jeudi
